{"text_format":"1","workbook":"xlsx","n_sheets":6,"sheets":["BD-SOC","DATA","RRHH","FORMATO N° 5_XX","NIÑOS","FORMATO N° 5"],"not_rendered":{"charts":0,"images":2,"macros":0,"external_links":1,"defined_names":58,"comments":0,"pivot_tables":0},"unopened":[],"bounds":{"document_bytes":16777216,"sheet_cells":100000,"rows_first":2000,"rows_last":500,"rows_between":2000,"halvings":0,"cell_chars":16384,"cell_head_chars":4096},"cells_cut":0,"cells_raw":0,"read":"whole","date_system":"1900"}

{"sheet":"BD-SOC","index":0,"n_rows":30015,"n_cols":53,"rows_kept":1125,"cut":true,"hidden":false,"merged":[[12,21,12,22],[12,35,12,36],[12,37,12,38],[11,15,11,28],[11,35,11,44],[12,23,12,24],[12,25,12,26],[12,39,12,40],[12,41,12,42],[12,43,12,44],[12,27,12,28],[12,29,12,30],[12,31,12,32],[12,33,12,34],[7,12,8,14],[12,0,12,1],[12,15,12,16],[12,17,12,18],[12,19,12,20],[8,0,8,1],[8,2,8,3],[10,0,10,1],[10,2,10,3],[10,10,10,11],[0,0,1,11],[2,0,2,11],[4,0,4,1],[4,2,4,10],[6,0,6,1],[6,2,6,5],[6,7,6,10]],"bounds":{"rows_first":500,"rows_last":125,"rows_between":500,"halvings":2}}
["REPORTE MENSUAL DE SERVICIO SOCIAL EN ESTABLECIMIENTOS PENITENCIARIOS "]
[]
["FORMATO PARA USO DEL AREA SOCIAL"]
[]
["RESPONSABLE:"]
[null,null,null,{"$f":"VLOOKUP('BD-SOC'!C7,DATA!$C$79:$D$86,2,FALSE)","v":{"$error":"#N/A"}}]
["OFICINA REGIONAL:",null,null,null,null,null,"EE.PP.: "]
[null,null,null,null,null,null,null,null,null,null,null,null,"Desarrollado por la Unidad de Estadística de la Sede Central - Consultas y Observaciones al #220991"]
["MES REPORTE:"]
[]
["AÑO:",null,null,null,null,null,null,null,null,null,"v. 15.5"]
[null,null,null,null,null,null,null,null,null,null,null,null,null,null,null,"REGISTRO DE LAS ACTIVIDADES INDIVIDUALES CON INTERNOS (ATENCIÓN / INFORME / GESTIÓN)",null,null,null,null,null,null,null,null,null,null,null,null,null,null,null,null,null,null,null,"REGISTRO DE LAS ACTIVIDADES GRUPALES CON INTERNOS"]
[null,null,null,null,null,null,null,null,null,null,null,null,null,null,null,"ATENCIÓN / INFORME / GESTIÓN 1",null,"ATENCIÓN / INFORME / GESTIÓN 2",null,"ATENCIÓN / INFORME / GESTIÓN 3",null,"ATENCIÓN / INFORME / GESTIÓN 4",null,"ATENCIÓN / INFORME / GESTIÓN 5",null,"ATENCIÓN / INFORME / GESTIÓN 6",null,"ATENCIÓN / INFORME / GESTIÓN 7",null,"ATENCIÓN / INFORME / GESTIÓN 8",null,"ATENCIÓN / INFORME / GESTIÓN 9",null,"ATENCIÓN / INFORME / GESTIÓN 10",null,"SESIÓN 1",null,"SESIÓN 2",null,"SESIÓN 3",null,"SESIÓN 4",null,"SESIÓN 5",null,null,null,{"$f":"IFERROR(IF('BD-SOC'!$E15=\"masculino\",\"MASCULINO\",IF('BD-SOC'!$E15=\"femenino\",\"FEMENINO\",IF('BD-SOC'!$E15=\"Masculino\",\"MASCULINO\",IF('BD-SOC'!$E15=\"Femenino\",\"FEMENINO\",IF('BD-SOC'!$E15=\"M\",\"MASCULINO\",IF('BD-SOC'!$E15=\"F\",\"FEMENINO\",IF('BD-SOC'!$E15=\"m\",\"MASCULINO\",IF('BD-SOC'!$E15=\"f\",\"FEMENINO\",\"\")))))))),\"\")","v":""}]
["N°","E.P.","DOCUMENTO DE IDENTIDAD","APELLIDOS Y NOMBRES","SEXO","FECHA DE INGRESO AL E.P.","FECHA DE NACIMIENTO","EDAD","CONDICIÓN DE ESPECIAL PROTECCIÓN","SITUACIÓN JURÍDICA","NIVEL DE RIESGO DE VIOLENCIA","EJECUCIÓN \nDEL PROGRAMA DE TRATAMIENTO INDIVIDUALIZADO","RÉGIMEN","ETAPA","PABELLÓN","DESCRIPCIÓN1","FECHA_ACTIVIDAD1","DESCRIPCIÓN2","FECHA_ACTIVIDAD2","DESCRIPCIÓN3","FECHA_ACTIVIDAD3","DESCRIPCIÓN4","FECHA_ACTIVIDAD4","DESCRIPCIÓN5","FECHA_ACTIVIDAD5","DESCRIPCIÓN6","FECHA_ACTIVIDAD6","DESCRIPCIÓN7","FECHA_ACTIVIDAD7","DESCRIPCIÓN8","FECHA_ACTIVIDAD8","DESCRIPCIÓN9","FECHA_ACTIVIDAD9","DESCRIPCIÓN10","FECHA_ACTIVIDAD10","SESIÓN_1","FECHA_SESIÓN1","SESIÓN_2","FECHA_SESIÓN2","SESIÓN_3","FECHA_SESIÓN3","SESIÓN_4","FECHA_SESIÓN4","SESIÓN_5","FECHA_SESIÓN5","APELLIDOS Y NOMBRES DEL PROFESIONAL","OBSERVACIONES","GENERO","ATEN"]
[{"$f":"IF(Tabla3[[#This Row],[APELLIDOS Y NOMBRES]]>0,ROW()-14,\"\")","v":""},{"$f":"IFERROR(IF(Tabla3[[#This Row],[APELLIDOS Y NOMBRES]]>0,VLOOKUP($H$7,DATA!$A$79:$B$160,2,FALSE),\"\"),\"\")","v":""},null,null,null,null,null,{"$f":"((NOW()-Tabla3[[#This Row],[FECHA DE NACIMIENTO]])/365)-0.5","v":124.79767625317098},null,null,null,null,null,null,null,null,null,null,null,null,null,null,null,null,null,null,null,null,null,null,null,null,null,null,null,null,null,null,null,null,null,null,null,null,null,{"$f":"IF(OR($C$5=\"\", $D15=\"\"), \"\", $C$5)","v":""},null,{"$f":"IFERROR(IF(OR(LOWER(Tabla3[[#This Row],[SEXO]])=\"masculino\", LOWER(Tabla3[[#This Row],[SEXO]])=\"m\", LOWER(Tabla3[[#This Row],[SEXO]])=\"1\"), \"MASCULINO\",\n  IF(OR(LOWER(Tabla3[[#This Row],[SEXO]])=\"femenino\", LOWER(Tabla3[[#This Row],[SEXO]])=\"f\", LOWER(Tabla3[[#This Row],[SEXO]])=\"2\"), \"FEMENINO\",\n  \"\")), \"\")","v":""},{"$f":"COUNTIF(P15:AH15,104)","v":0},null,null,null,{"$f":"IF(COUNTIF(P15:AI15,104)>0,1,0)","v":0}]
[{"$f":"IF(Tabla3[[#This Row],[APELLIDOS Y NOMBRES]]>0,ROW()-14,\"\")","v":""},{"$f":"IFERROR(IF(Tabla3[[#This Row],[APELLIDOS Y NOMBRES]]>0,VLOOKUP($H$7,DATA!$A$79:$B$160,2,FALSE),\"\"),\"\")","v":""},null,null,null,null,null,{"$f":"((NOW()-Tabla3[[#This Row],[FECHA DE NACIMIENTO]])/365)-0.5","v":124.79767625317098},null,null,null,null,null,null,null,null,null,null,null,null,null,null,null,null,null,null,null,null,null,null,null,null,null,null,null,null,null,null,null,null,null,null,null,null,null,{"$f":"IF(OR($C$5=\"\", $D16=\"\"), \"\", $C$5)","v":""},null,{"$f":"IFERROR(IF(OR(LOWER(Tabla3[[#This Row],[SEXO]])=\"masculino\", LOWER(Tabla3[[#This Row],[SEXO]])=\"m\", LOWER(Tabla3[[#This Row],[SEXO]])=\"1\"), \"MASCULINO\",\n  IF(OR(LOWER(Tabla3[[#This Row],[SEXO]])=\"femenino\", LOWER(Tabla3[[#This Row],[SEXO]])=\"f\", LOWER(Tabla3[[#This Row],[SEXO]])=\"2\"), \"FEMENINO\",\n  \"\")), \"\")","v":""},{"$f":"COUNTIF(P16:AH16,104)","v":0},null,null,null,{"$f":"IF(COUNTIF(P16:AI16,104)>0,1,0)","v":0}]
[{"$f":"IF(Tabla3[[#This Row],[APELLIDOS Y NOMBRES]]>0,ROW()-14,\"\")","v":""},{"$f":"IFERROR(IF(Tabla3[[#This Row],[APELLIDOS Y NOMBRES]]>0,VLOOKUP($H$7,DATA!$A$79:$B$160,2,FALSE),\"\"),\"\")","v":""},null,null,null,null,null,{"$f":"((NOW()-Tabla3[[#This Row],[FECHA DE NACIMIENTO]])/365)-0.5","v":124.79767625317098},null,null,null,null,null,null,null,null,null,null,null,null,null,null,null,null,null,null,null,null,null,null,null,null,null,null,null,null,null,null,null,null,null,null,null,null,null,"",null,{"$f":"IFERROR(IF(OR(LOWER(Tabla3[[#This Row],[SEXO]])=\"masculino\", LOWER(Tabla3[[#This Row],[SEXO]])=\"m\", LOWER(Tabla3[[#This Row],[SEXO]])=\"1\"), \"MASCULINO\",\n  IF(OR(LOWER(Tabla3[[#This Row],[SEXO]])=\"femenino\", LOWER(Tabla3[[#This Row],[SEXO]])=\"f\", LOWER(Tabla3[[#This Row],[SEXO]])=\"2\"), \"FEMENINO\",\n  \"\")), \"\")","v":""},0,null,null,null,0]
[{"$f":"IF(Tabla3[[#This Row],[APELLIDOS Y NOMBRES]]>0,ROW()-14,\"\")","v":""},{"$f":"IFERROR(IF(Tabla3[[#This Row],[APELLIDOS Y NOMBRES]]>0,VLOOKUP($H$7,DATA!$A$79:$B$160,2,FALSE),\"\"),\"\")","v":""},null,null,null,null,null,{"$f":"((NOW()-Tabla3[[#This Row],[FECHA DE NACIMIENTO]])/365)-0.5","v":124.79767625317098},null,null,null,null,null,null,null,null,null,null,null,null,null,null,null,null,null,null,null,null,null,null,null,null,null,null,null,null,null,null,null,null,null,null,null,null,null,"",null,{"$f":"IFERROR(IF(OR(LOWER(Tabla3[[#This Row],[SEXO]])=\"masculino\", LOWER(Tabla3[[#This Row],[SEXO]])=\"m\", LOWER(Tabla3[[#This Row],[SEXO]])=\"1\"), \"MASCULINO\",\n  IF(OR(LOWER(Tabla3[[#This Row],[SEXO]])=\"femenino\", LOWER(Tabla3[[#This Row],[SEXO]])=\"f\", LOWER(Tabla3[[#This Row],[SEXO]])=\"2\"), \"FEMENINO\",\n  \"\")), \"\")","v":""},0,null,null,null,0]
[{"$f":"IF(Tabla3[[#This Row],[APELLIDOS Y NOMBRES]]>0,ROW()-14,\"\")","v":""},{"$f":"IFERROR(IF(Tabla3[[#This Row],[APELLIDOS Y NOMBRES]]>0,VLOOKUP($H$7,DATA!$A$79:$B$160,2,FALSE),\"\"),\"\")","v":""},null,null,null,null,null,{"$f":"((NOW()-Tabla3[[#This Row],[FECHA DE NACIMIENTO]])/365)-0.5","v":124.79767625317098},null,null,null,null,null,null,null,null,null,null,null,null,null,null,null,null,null,null,null,null,null,null,null,null,null,null,null,null,null,null,null,null,null,null,null,null,null,"",null,{"$f":"IFERROR(IF(OR(LOWER(Tabla3[[#This Row],[SEXO]])=\"masculino\", LOWER(Tabla3[[#This Row],[SEXO]])=\"m\", LOWER(Tabla3[[#This Row],[SEXO]])=\"1\"), \"MASCULINO\",\n  IF(OR(LOWER(Tabla3[[#This Row],[SEXO]])=\"femenino\", LOWER(Tabla3[[#This Row],[SEXO]])=\"f\", LOWER(Tabla3[[#This Row],[SEXO]])=\"2\"), \"FEMENINO\",\n  \"\")), \"\")","v":""},0,null,null,null,0]
[{"$f":"IF(Tabla3[[#This Row],[APELLIDOS Y NOMBRES]]>0,ROW()-14,\"\")","v":""},{"$f":"IFERROR(IF(Tabla3[[#This Row],[APELLIDOS Y NOMBRES]]>0,VLOOKUP($H$7,DATA!$A$79:$B$160,2,FALSE),\"\"),\"\")","v":""},null,null,null,null,null,{"$f":"((NOW()-Tabla3[[#This Row],[FECHA DE NACIMIENTO]])/365)-0.5","v":124.79767625317098},null,null,null,null,null,null,null,null,null,null,null,null,null,null,null,null,null,null,null,null,null,null,null,null,null,null,null,null,null,null,null,null,null,null,null,null,null,"",null,{"$f":"IFERROR(IF(OR(LOWER(Tabla3[[#This Row],[SEXO]])=\"masculino\", LOWER(Tabla3[[#This Row],[SEXO]])=\"m\", LOWER(Tabla3[[#This Row],[SEXO]])=\"1\"), \"MASCULINO\",\n  IF(OR(LOWER(Tabla3[[#This Row],[SEXO]])=\"femenino\", LOWER(Tabla3[[#This Row],[SEXO]])=\"f\", LOWER(Tabla3[[#This Row],[SEXO]])=\"2\"), \"FEMENINO\",\n  \"\")), \"\")","v":""},0,null,null,null,0]
[{"$f":"IF(Tabla3[[#This Row],[APELLIDOS Y NOMBRES]]>0,ROW()-14,\"\")","v":""},{"$f":"IFERROR(IF(Tabla3[[#This Row],[APELLIDOS Y NOMBRES]]>0,VLOOKUP($H$7,DATA!$A$79:$B$160,2,FALSE),\"\"),\"\")","v":""},null,null,null,null,null,{"$f":"((NOW()-Tabla3[[#This Row],[FECHA DE NACIMIENTO]])/365)-0.5","v":124.79767625317098},null,null,null,null,null,null,null,null,null,null,null,null,null,null,null,null,null,null,null,null,null,null,null,null,null,null,null,null,null,null,null,null,null,null,null,null,null,"",null,{"$f":"IFERROR(IF(OR(LOWER(Tabla3[[#This Row],[SEXO]])=\"masculino\", LOWER(Tabla3[[#This Row],[SEXO]])=\"m\", LOWER(Tabla3[[#This Row],[SEXO]])=\"1\"), \"MASCULINO\",\n  IF(OR(LOWER(Tabla3[[#This Row],[SEXO]])=\"femenino\", LOWER(Tabla3[[#This Row],[SEXO]])=\"f\", LOWER(Tabla3[[#This Row],[SEXO]])=\"2\"), \"FEMENINO\",\n  \"\")), \"\")","v":""},0,null,null,null,0]
[{"$f":"IF(Tabla3[[#This Row],[APELLIDOS Y NOMBRES]]>0,ROW()-14,\"\")","v":""},{"$f":"IFERROR(IF(Tabla3[[#This Row],[APELLIDOS Y NOMBRES]]>0,VLOOKUP($H$7,DATA!$A$79:$B$160,2,FALSE),\"\"),\"\")","v":""},null,null,null,null,null,{"$f":"((NOW()-Tabla3[[#This Row],[FECHA DE NACIMIENTO]])/365)-0.5","v":124.79767625317098},null,null,null,null,null,null,null,null,null,null,null,null,null,null,null,null,null,null,null,null,null,null,null,null,null,null,null,null,null,null,null,null,null,null,null,null,null,"",null,{"$f":"IFERROR(IF(OR(LOWER(Tabla3[[#This Row],[SEXO]])=\"masculino\", LOWER(Tabla3[[#This Row],[SEXO]])=\"m\", LOWER(Tabla3[[#This Row],[SEXO]])=\"1\"), \"MASCULINO\",\n  IF(OR(LOWER(Tabla3[[#This Row],[SEXO]])=\"femenino\", LOWER(Tabla3[[#This Row],[SEXO]])=\"f\", LOWER(Tabla3[[#This Row],[SEXO]])=\"2\"), \"FEMENINO\",\n  \"\")), \"\")","v":""},0,null,null,null,0]
[{"$f":"IF(Tabla3[[#This Row],[APELLIDOS Y NOMBRES]]>0,ROW()-14,\"\")","v":""},{"$f":"IFERROR(IF(Tabla3[[#This Row],[APELLIDOS Y NOMBRES]]>0,VLOOKUP($H$7,DATA!$A$79:$B$160,2,FALSE),\"\"),\"\")","v":""},null,null,null,null,null,{"$f":"((NOW()-Tabla3[[#This Row],[FECHA DE NACIMIENTO]])/365)-0.5","v":124.79767625317098},null,null,null,null,null,null,null,null,null,null,null,null,null,null,null,null,null,null,null,null,null,null,null,null,null,null,null,null,null,null,null,null,null,null,null,null,null,"",null,{"$f":"IFERROR(IF(OR(LOWER(Tabla3[[#This Row],[SEXO]])=\"masculino\", LOWER(Tabla3[[#This Row],[SEXO]])=\"m\", LOWER(Tabla3[[#This Row],[SEXO]])=\"1\"), \"MASCULINO\",\n  IF(OR(LOWER(Tabla3[[#This Row],[SEXO]])=\"femenino\", LOWER(Tabla3[[#This Row],[SEXO]])=\"f\", LOWER(Tabla3[[#This Row],[SEXO]])=\"2\"), \"FEMENINO\",\n  \"\")), \"\")","v":""},0,null,null,null,0]
[{"$f":"IF(Tabla3[[#This Row],[APELLIDOS Y NOMBRES]]>0,ROW()-14,\"\")","v":""},{"$f":"IFERROR(IF(Tabla3[[#This Row],[APELLIDOS Y NOMBRES]]>0,VLOOKUP($H$7,DATA!$A$79:$B$160,2,FALSE),\"\"),\"\")","v":""},null,null,null,null,null,{"$f":"((NOW()-Tabla3[[#This Row],[FECHA DE NACIMIENTO]])/365)-0.5","v":124.79767625317098},null,null,null,null,null,null,null,null,null,null,null,null,null,null,null,null,null,null,null,null,null,null,null,null,null,null,null,null,null,null,null,null,null,null,null,null,null,"",null,{"$f":"IFERROR(IF(OR(LOWER(Tabla3[[#This Row],[SEXO]])=\"masculino\", LOWER(Tabla3[[#This Row],[SEXO]])=\"m\", LOWER(Tabla3[[#This Row],[SEXO]])=\"1\"), \"MASCULINO\",\n  IF(OR(LOWER(Tabla3[[#This Row],[SEXO]])=\"femenino\", LOWER(Tabla3[[#This Row],[SEXO]])=\"f\", LOWER(Tabla3[[#This Row],[SEXO]])=\"2\"), \"FEMENINO\",\n  \"\")), \"\")","v":""},0,null,null,null,0]
[{"$f":"IF(Tabla3[[#This Row],[APELLIDOS Y NOMBRES]]>0,ROW()-14,\"\")","v":""},{"$f":"IFERROR(IF(Tabla3[[#This Row],[APELLIDOS Y NOMBRES]]>0,VLOOKUP($H$7,DATA!$A$79:$B$160,2,FALSE),\"\"),\"\")","v":""},null,null,null,null,null,{"$f":"((NOW()-Tabla3[[#This Row],[FECHA DE NACIMIENTO]])/365)-0.5","v":124.79767625317098},null,null,null,null,null,null,null,null,null,null,null,null,null,null,null,null,null,null,null,null,null,null,null,null,null,null,null,null,null,null,null,null,null,null,null,null,null,"",null,{"$f":"IFERROR(IF(OR(LOWER(Tabla3[[#This Row],[SEXO]])=\"masculino\", LOWER(Tabla3[[#This Row],[SEXO]])=\"m\", LOWER(Tabla3[[#This Row],[SEXO]])=\"1\"), \"MASCULINO\",\n  IF(OR(LOWER(Tabla3[[#This Row],[SEXO]])=\"femenino\", LOWER(Tabla3[[#This Row],[SEXO]])=\"f\", LOWER(Tabla3[[#This Row],[SEXO]])=\"2\"), \"FEMENINO\",\n  \"\")), \"\")","v":""},0,null,null,null,0]
[{"$f":"IF(Tabla3[[#This Row],[APELLIDOS Y NOMBRES]]>0,ROW()-14,\"\")","v":""},{"$f":"IFERROR(IF(Tabla3[[#This Row],[APELLIDOS Y NOMBRES]]>0,VLOOKUP($H$7,DATA!$A$79:$B$160,2,FALSE),\"\"),\"\")","v":""},null,null,null,null,null,{"$f":"((NOW()-Tabla3[[#This Row],[FECHA DE NACIMIENTO]])/365)-0.5","v":124.79767625317098},null,null,null,null,null,null,null,null,null,null,null,null,null,null,null,null,null,null,null,null,null,null,null,null,null,null,null,null,null,null,null,null,null,null,null,null,null,"",null,{"$f":"IFERROR(IF(OR(LOWER(Tabla3[[#This Row],[SEXO]])=\"masculino\", LOWER(Tabla3[[#This Row],[SEXO]])=\"m\", LOWER(Tabla3[[#This Row],[SEXO]])=\"1\"), \"MASCULINO\",\n  IF(OR(LOWER(Tabla3[[#This Row],[SEXO]])=\"femenino\", LOWER(Tabla3[[#This Row],[SEXO]])=\"f\", LOWER(Tabla3[[#This Row],[SEXO]])=\"2\"), \"FEMENINO\",\n  \"\")), \"\")","v":""},0,null,null,null,0]
[{"$f":"IF(Tabla3[[#This Row],[APELLIDOS Y NOMBRES]]>0,ROW()-14,\"\")","v":""},{"$f":"IFERROR(IF(Tabla3[[#This Row],[APELLIDOS Y NOMBRES]]>0,VLOOKUP($H$7,DATA!$A$79:$B$160,2,FALSE),\"\"),\"\")","v":""},null,null,null,null,null,{"$f":"((NOW()-Tabla3[[#This Row],[FECHA DE NACIMIENTO]])/365)-0.5","v":124.79767625317098},null,null,null,null,null,null,null,null,null,null,null,null,null,null,null,null,null,null,null,null,null,null,null,null,null,null,null,null,null,null,null,null,null,null,null,null,null,"",null,{"$f":"IFERROR(IF(OR(LOWER(Tabla3[[#This Row],[SEXO]])=\"masculino\", LOWER(Tabla3[[#This Row],[SEXO]])=\"m\", LOWER(Tabla3[[#This Row],[SEXO]])=\"1\"), \"MASCULINO\",\n  IF(OR(LOWER(Tabla3[[#This Row],[SEXO]])=\"femenino\", LOWER(Tabla3[[#This Row],[SEXO]])=\"f\", LOWER(Tabla3[[#This Row],[SEXO]])=\"2\"), \"FEMENINO\",\n  \"\")), \"\")","v":""},0,null,null,null,0]
[{"$f":"IF(Tabla3[[#This Row],[APELLIDOS Y NOMBRES]]>0,ROW()-14,\"\")","v":""},{"$f":"IFERROR(IF(Tabla3[[#This Row],[APELLIDOS Y NOMBRES]]>0,VLOOKUP($H$7,DATA!$A$79:$B$160,2,FALSE),\"\"),\"\")","v":""},null,null,null,null,null,{"$f":"((NOW()-Tabla3[[#This Row],[FECHA DE NACIMIENTO]])/365)-0.5","v":124.79767625317098},null,null,null,null,null,null,null,null,null,null,null,null,null,null,null,null,null,null,null,null,null,null,null,null,null,null,null,null,null,null,null,null,null,null,null,null,null,"",null,{"$f":"IFERROR(IF(OR(LOWER(Tabla3[[#This Row],[SEXO]])=\"masculino\", LOWER(Tabla3[[#This Row],[SEXO]])=\"m\", LOWER(Tabla3[[#This Row],[SEXO]])=\"1\"), \"MASCULINO\",\n  IF(OR(LOWER(Tabla3[[#This Row],[SEXO]])=\"femenino\", LOWER(Tabla3[[#This Row],[SEXO]])=\"f\", LOWER(Tabla3[[#This Row],[SEXO]])=\"2\"), \"FEMENINO\",\n  \"\")), \"\")","v":""},0,null,null,null,0]
[{"$f":"IF(Tabla3[[#This Row],[APELLIDOS Y NOMBRES]]>0,ROW()-14,\"\")","v":""},{"$f":"IFERROR(IF(Tabla3[[#This Row],[APELLIDOS Y NOMBRES]]>0,VLOOKUP($H$7,DATA!$A$79:$B$160,2,FALSE),\"\"),\"\")","v":""},null,null,null,null,null,{"$f":"((NOW()-Tabla3[[#This Row],[FECHA DE NACIMIENTO]])/365)-0.5","v":124.79767625317098},null,null,null,null,null,null,null,null,null,null,null,null,null,null,null,null,null,null,null,null,null,null,null,null,null,null,null,null,null,null,null,null,null,null,null,null,null,"",null,{"$f":"IFERROR(IF(OR(LOWER(Tabla3[[#This Row],[SEXO]])=\"masculino\", LOWER(Tabla3[[#This Row],[SEXO]])=\"m\", LOWER(Tabla3[[#This Row],[SEXO]])=\"1\"), \"MASCULINO\",\n  IF(OR(LOWER(Tabla3[[#This Row],[SEXO]])=\"femenino\", LOWER(Tabla3[[#This Row],[SEXO]])=\"f\", LOWER(Tabla3[[#This Row],[SEXO]])=\"2\"), \"FEMENINO\",\n  \"\")), \"\")","v":""},0,null,null,null,0]
[{"$f":"IF(Tabla3[[#This Row],[APELLIDOS Y NOMBRES]]>0,ROW()-14,\"\")","v":""},{"$f":"IFERROR(IF(Tabla3[[#This Row],[APELLIDOS Y NOMBRES]]>0,VLOOKUP($H$7,DATA!$A$79:$B$160,2,FALSE),\"\"),\"\")","v":""},null,null,null,null,null,{"$f":"((NOW()-Tabla3[[#This Row],[FECHA DE NACIMIENTO]])/365)-0.5","v":124.79767625317098},null,null,null,null,null,null,null,null,null,null,null,null,null,null,null,null,null,null,null,null,null,null,null,null,null,null,null,null,null,null,null,null,null,null,null,null,null,"",null,{"$f":"IFERROR(IF(OR(LOWER(Tabla3[[#This Row],[SEXO]])=\"masculino\", LOWER(Tabla3[[#This Row],[SEXO]])=\"m\", LOWER(Tabla3[[#This Row],[SEXO]])=\"1\"), \"MASCULINO\",\n  IF(OR(LOWER(Tabla3[[#This Row],[SEXO]])=\"femenino\", LOWER(Tabla3[[#This Row],[SEXO]])=\"f\", LOWER(Tabla3[[#This Row],[SEXO]])=\"2\"), \"FEMENINO\",\n  \"\")), \"\")","v":""},0,null,null,null,0]
[{"$f":"IF(Tabla3[[#This Row],[APELLIDOS Y NOMBRES]]>0,ROW()-14,\"\")","v":""},{"$f":"IFERROR(IF(Tabla3[[#This Row],[APELLIDOS Y NOMBRES]]>0,VLOOKUP($H$7,DATA!$A$79:$B$160,2,FALSE),\"\"),\"\")","v":""},null,null,null,null,null,{"$f":"((NOW()-Tabla3[[#This Row],[FECHA DE NACIMIENTO]])/365)-0.5","v":124.79767625317098},null,null,null,null,null,null,null,null,null,null,null,null,null,null,null,null,null,null,null,null,null,null,null,null,null,null,null,null,null,null,null,null,null,null,null,null,null,"",null,{"$f":"IFERROR(IF(OR(LOWER(Tabla3[[#This Row],[SEXO]])=\"masculino\", LOWER(Tabla3[[#This Row],[SEXO]])=\"m\", LOWER(Tabla3[[#This Row],[SEXO]])=\"1\"), \"MASCULINO\",\n  IF(OR(LOWER(Tabla3[[#This Row],[SEXO]])=\"femenino\", LOWER(Tabla3[[#This Row],[SEXO]])=\"f\", LOWER(Tabla3[[#This Row],[SEXO]])=\"2\"), \"FEMENINO\",\n  \"\")), \"\")","v":""},0,null,null,null,0]
[{"$f":"IF(Tabla3[[#This Row],[APELLIDOS Y NOMBRES]]>0,ROW()-14,\"\")","v":""},{"$f":"IFERROR(IF(Tabla3[[#This Row],[APELLIDOS Y NOMBRES]]>0,VLOOKUP($H$7,DATA!$A$79:$B$160,2,FALSE),\"\"),\"\")","v":""},null,null,null,null,null,{"$f":"((NOW()-Tabla3[[#This Row],[FECHA DE NACIMIENTO]])/365)-0.5","v":124.79767625317098},null,null,null,null,null,null,null,null,null,null,null,null,null,null,null,null,null,null,null,null,null,null,null,null,null,null,null,null,null,null,null,null,null,null,null,null,null,"",null,{"$f":"IFERROR(IF(OR(LOWER(Tabla3[[#This Row],[SEXO]])=\"masculino\", LOWER(Tabla3[[#This Row],[SEXO]])=\"m\", LOWER(Tabla3[[#This Row],[SEXO]])=\"1\"), \"MASCULINO\",\n  IF(OR(LOWER(Tabla3[[#This Row],[SEXO]])=\"femenino\", LOWER(Tabla3[[#This Row],[SEXO]])=\"f\", LOWER(Tabla3[[#This Row],[SEXO]])=\"2\"), \"FEMENINO\",\n  \"\")), \"\")","v":""},0,null,null,null,0]
[{"$f":"IF(Tabla3[[#This Row],[APELLIDOS Y NOMBRES]]>0,ROW()-14,\"\")","v":""},{"$f":"IFERROR(IF(Tabla3[[#This Row],[APELLIDOS Y NOMBRES]]>0,VLOOKUP($H$7,DATA!$A$79:$B$160,2,FALSE),\"\"),\"\")","v":""},null,null,null,null,null,{"$f":"((NOW()-Tabla3[[#This Row],[FECHA DE NACIMIENTO]])/365)-0.5","v":124.79767625317098},null,null,null,null,null,null,null,null,null,null,null,null,null,null,null,null,null,null,null,null,null,null,null,null,null,null,null,null,null,null,null,null,null,null,null,null,null,"",null,{"$f":"IFERROR(IF(OR(LOWER(Tabla3[[#This Row],[SEXO]])=\"masculino\", LOWER(Tabla3[[#This Row],[SEXO]])=\"m\", LOWER(Tabla3[[#This Row],[SEXO]])=\"1\"), \"MASCULINO\",\n  IF(OR(LOWER(Tabla3[[#This Row],[SEXO]])=\"femenino\", LOWER(Tabla3[[#This Row],[SEXO]])=\"f\", LOWER(Tabla3[[#This Row],[SEXO]])=\"2\"), \"FEMENINO\",\n  \"\")), \"\")","v":""},0,null,null,null,0]
[{"$f":"IF(Tabla3[[#This Row],[APELLIDOS Y NOMBRES]]>0,ROW()-14,\"\")","v":""},{"$f":"IFERROR(IF(Tabla3[[#This Row],[APELLIDOS Y NOMBRES]]>0,VLOOKUP($H$7,DATA!$A$79:$B$160,2,FALSE),\"\"),\"\")","v":""},null,null,null,null,null,{"$f":"((NOW()-Tabla3[[#This Row],[FECHA DE NACIMIENTO]])/365)-0.5","v":124.79767625317098},null,null,null,null,null,null,null,null,null,null,null,null,null,null,null,null,null,null,null,null,null,null,null,null,null,null,null,null,null,null,null,null,null,null,null,null,null,"",null,{"$f":"IFERROR(IF(OR(LOWER(Tabla3[[#This Row],[SEXO]])=\"masculino\", LOWER(Tabla3[[#This Row],[SEXO]])=\"m\", LOWER(Tabla3[[#This Row],[SEXO]])=\"1\"), \"MASCULINO\",\n  IF(OR(LOWER(Tabla3[[#This Row],[SEXO]])=\"femenino\", LOWER(Tabla3[[#This Row],[SEXO]])=\"f\", LOWER(Tabla3[[#This Row],[SEXO]])=\"2\"), \"FEMENINO\",\n  \"\")), \"\")","v":""},0,null,null,null,0]
[{"$f":"IF(Tabla3[[#This Row],[APELLIDOS Y NOMBRES]]>0,ROW()-14,\"\")","v":""},{"$f":"IFERROR(IF(Tabla3[[#This Row],[APELLIDOS Y NOMBRES]]>0,VLOOKUP($H$7,DATA!$A$79:$B$160,2,FALSE),\"\"),\"\")","v":""},null,null,null,null,null,{"$f":"((NOW()-Tabla3[[#This Row],[FECHA DE NACIMIENTO]])/365)-0.5","v":124.79767625317098},null,null,null,null,null,null,null,null,null,null,null,null,null,null,null,null,null,null,null,null,null,null,null,null,null,null,null,null,null,null,null,null,null,null,null,null,null,"",null,{"$f":"IFERROR(IF(OR(LOWER(Tabla3[[#This Row],[SEXO]])=\"masculino\", LOWER(Tabla3[[#This Row],[SEXO]])=\"m\", LOWER(Tabla3[[#This Row],[SEXO]])=\"1\"), \"MASCULINO\",\n  IF(OR(LOWER(Tabla3[[#This Row],[SEXO]])=\"femenino\", LOWER(Tabla3[[#This Row],[SEXO]])=\"f\", LOWER(Tabla3[[#This Row],[SEXO]])=\"2\"), \"FEMENINO\",\n  \"\")), \"\")","v":""},0,null,null,null,0]
[{"$f":"IF(Tabla3[[#This Row],[APELLIDOS Y NOMBRES]]>0,ROW()-14,\"\")","v":""},{"$f":"IFERROR(IF(Tabla3[[#This Row],[APELLIDOS Y NOMBRES]]>0,VLOOKUP($H$7,DATA!$A$79:$B$160,2,FALSE),\"\"),\"\")","v":""},null,null,null,null,null,{"$f":"((NOW()-Tabla3[[#This Row],[FECHA DE NACIMIENTO]])/365)-0.5","v":124.79767625317098},null,null,null,null,null,null,null,null,null,null,null,null,null,null,null,null,null,null,null,null,null,null,null,null,null,null,null,null,null,null,null,null,null,null,null,null,null,"",null,{"$f":"IFERROR(IF(OR(LOWER(Tabla3[[#This Row],[SEXO]])=\"masculino\", LOWER(Tabla3[[#This Row],[SEXO]])=\"m\", LOWER(Tabla3[[#This Row],[SEXO]])=\"1\"), \"MASCULINO\",\n  IF(OR(LOWER(Tabla3[[#This Row],[SEXO]])=\"femenino\", LOWER(Tabla3[[#This Row],[SEXO]])=\"f\", LOWER(Tabla3[[#This Row],[SEXO]])=\"2\"), \"FEMENINO\",\n  \"\")), \"\")","v":""},0,null,null,null,0]
[{"$f":"IF(Tabla3[[#This Row],[APELLIDOS Y NOMBRES]]>0,ROW()-14,\"\")","v":""},{"$f":"IFERROR(IF(Tabla3[[#This Row],[APELLIDOS Y NOMBRES]]>0,VLOOKUP($H$7,DATA!$A$79:$B$160,2,FALSE),\"\"),\"\")","v":""},null,null,null,null,null,{"$f":"((NOW()-Tabla3[[#This Row],[FECHA DE NACIMIENTO]])/365)-0.5","v":124.79767625317098},null,null,null,null,null,null,null,null,null,null,null,null,null,null,null,null,null,null,null,null,null,null,null,null,null,null,null,null,null,null,null,null,null,null,null,null,null,"",null,{"$f":"IFERROR(IF(OR(LOWER(Tabla3[[#This Row],[SEXO]])=\"masculino\", LOWER(Tabla3[[#This Row],[SEXO]])=\"m\", LOWER(Tabla3[[#This Row],[SEXO]])=\"1\"), \"MASCULINO\",\n  IF(OR(LOWER(Tabla3[[#This Row],[SEXO]])=\"femenino\", LOWER(Tabla3[[#This Row],[SEXO]])=\"f\", LOWER(Tabla3[[#This Row],[SEXO]])=\"2\"), \"FEMENINO\",\n  \"\")), \"\")","v":""},0,null,null,null,0]
[{"$f":"IF(Tabla3[[#This Row],[APELLIDOS Y NOMBRES]]>0,ROW()-14,\"\")","v":""},{"$f":"IFERROR(IF(Tabla3[[#This Row],[APELLIDOS Y NOMBRES]]>0,VLOOKUP($H$7,DATA!$A$79:$B$160,2,FALSE),\"\"),\"\")","v":""},null,null,null,null,null,{"$f":"((NOW()-Tabla3[[#This Row],[FECHA DE NACIMIENTO]])/365)-0.5","v":124.79767625317098},null,null,null,null,null,null,null,null,null,null,null,null,null,null,null,null,null,null,null,null,null,null,null,null,null,null,null,null,null,null,null,null,null,null,null,null,null,"",null,{"$f":"IFERROR(IF(OR(LOWER(Tabla3[[#This Row],[SEXO]])=\"masculino\", LOWER(Tabla3[[#This Row],[SEXO]])=\"m\", LOWER(Tabla3[[#This Row],[SEXO]])=\"1\"), \"MASCULINO\",\n  IF(OR(LOWER(Tabla3[[#This Row],[SEXO]])=\"femenino\", LOWER(Tabla3[[#This Row],[SEXO]])=\"f\", LOWER(Tabla3[[#This Row],[SEXO]])=\"2\"), \"FEMENINO\",\n  \"\")), \"\")","v":""},0,null,null,null,0]
[{"$f":"IF(Tabla3[[#This Row],[APELLIDOS Y NOMBRES]]>0,ROW()-14,\"\")","v":""},{"$f":"IFERROR(IF(Tabla3[[#This Row],[APELLIDOS Y NOMBRES]]>0,VLOOKUP($H$7,DATA!$A$79:$B$160,2,FALSE),\"\"),\"\")","v":""},null,null,null,null,null,{"$f":"((NOW()-Tabla3[[#This Row],[FECHA DE NACIMIENTO]])/365)-0.5","v":124.79767625317098},null,null,null,null,null,null,null,null,null,null,null,null,null,null,null,null,null,null,null,null,null,null,null,null,null,null,null,null,null,null,null,null,null,null,null,null,null,"",null,{"$f":"IFERROR(IF(OR(LOWER(Tabla3[[#This Row],[SEXO]])=\"masculino\", LOWER(Tabla3[[#This Row],[SEXO]])=\"m\", LOWER(Tabla3[[#This Row],[SEXO]])=\"1\"), \"MASCULINO\",\n  IF(OR(LOWER(Tabla3[[#This Row],[SEXO]])=\"femenino\", LOWER(Tabla3[[#This Row],[SEXO]])=\"f\", LOWER(Tabla3[[#This Row],[SEXO]])=\"2\"), \"FEMENINO\",\n  \"\")), \"\")","v":""},0,null,null,null,0]
[{"$f":"IF(Tabla3[[#This Row],[APELLIDOS Y NOMBRES]]>0,ROW()-14,\"\")","v":""},{"$f":"IFERROR(IF(Tabla3[[#This Row],[APELLIDOS Y NOMBRES]]>0,VLOOKUP($H$7,DATA!$A$79:$B$160,2,FALSE),\"\"),\"\")","v":""},null,null,null,null,null,{"$f":"((NOW()-Tabla3[[#This Row],[FECHA DE NACIMIENTO]])/365)-0.5","v":124.79767625317098},null,null,null,null,null,null,null,null,null,null,null,null,null,null,null,null,null,null,null,null,null,null,null,null,null,null,null,null,null,null,null,null,null,null,null,null,null,"",null,{"$f":"IFERROR(IF(OR(LOWER(Tabla3[[#This Row],[SEXO]])=\"masculino\", LOWER(Tabla3[[#This Row],[SEXO]])=\"m\", LOWER(Tabla3[[#This Row],[SEXO]])=\"1\"), \"MASCULINO\",\n  IF(OR(LOWER(Tabla3[[#This Row],[SEXO]])=\"femenino\", LOWER(Tabla3[[#This Row],[SEXO]])=\"f\", LOWER(Tabla3[[#This Row],[SEXO]])=\"2\"), \"FEMENINO\",\n  \"\")), \"\")","v":""},0,null,null,null,0]
[{"$f":"IF(Tabla3[[#This Row],[APELLIDOS Y NOMBRES]]>0,ROW()-14,\"\")","v":""},{"$f":"IFERROR(IF(Tabla3[[#This Row],[APELLIDOS Y NOMBRES]]>0,VLOOKUP($H$7,DATA!$A$79:$B$160,2,FALSE),\"\"),\"\")","v":""},null,null,null,null,null,{"$f":"((NOW()-Tabla3[[#This Row],[FECHA DE NACIMIENTO]])/365)-0.5","v":124.79767625317098},null,null,null,null,null,null,null,null,null,null,null,null,null,null,null,null,null,null,null,null,null,null,null,null,null,null,null,null,null,null,null,null,null,null,null,null,null,"",null,{"$f":"IFERROR(IF(OR(LOWER(Tabla3[[#This Row],[SEXO]])=\"masculino\", LOWER(Tabla3[[#This Row],[SEXO]])=\"m\", LOWER(Tabla3[[#This Row],[SEXO]])=\"1\"), \"MASCULINO\",\n  IF(OR(LOWER(Tabla3[[#This Row],[SEXO]])=\"femenino\", LOWER(Tabla3[[#This Row],[SEXO]])=\"f\", LOWER(Tabla3[[#This Row],[SEXO]])=\"2\"), \"FEMENINO\",\n  \"\")), \"\")","v":""},0,null,null,null,0]
[{"$f":"IF(Tabla3[[#This Row],[APELLIDOS Y NOMBRES]]>0,ROW()-14,\"\")","v":""},{"$f":"IFERROR(IF(Tabla3[[#This Row],[APELLIDOS Y NOMBRES]]>0,VLOOKUP($H$7,DATA!$A$79:$B$160,2,FALSE),\"\"),\"\")","v":""},null,null,null,null,null,{"$f":"((NOW()-Tabla3[[#This Row],[FECHA DE NACIMIENTO]])/365)-0.5","v":124.79767625317098},null,null,null,null,null,null,null,null,null,null,null,null,null,null,null,null,null,null,null,null,null,null,null,null,null,null,null,null,null,null,null,null,null,null,null,null,null,"",null,{"$f":"IFERROR(IF(OR(LOWER(Tabla3[[#This Row],[SEXO]])=\"masculino\", LOWER(Tabla3[[#This Row],[SEXO]])=\"m\", LOWER(Tabla3[[#This Row],[SEXO]])=\"1\"), \"MASCULINO\",\n  IF(OR(LOWER(Tabla3[[#This Row],[SEXO]])=\"femenino\", LOWER(Tabla3[[#This Row],[SEXO]])=\"f\", LOWER(Tabla3[[#This Row],[SEXO]])=\"2\"), \"FEMENINO\",\n  \"\")), \"\")","v":""},0,null,null,null,0]
[{"$f":"IF(Tabla3[[#This Row],[APELLIDOS Y NOMBRES]]>0,ROW()-14,\"\")","v":""},{"$f":"IFERROR(IF(Tabla3[[#This Row],[APELLIDOS Y NOMBRES]]>0,VLOOKUP($H$7,DATA!$A$79:$B$160,2,FALSE),\"\"),\"\")","v":""},null,null,null,null,null,{"$f":"((NOW()-Tabla3[[#This Row],[FECHA DE NACIMIENTO]])/365)-0.5","v":124.79767625317098},null,null,null,null,null,null,null,null,null,null,null,null,null,null,null,null,null,null,null,null,null,null,null,null,null,null,null,null,null,null,null,null,null,null,null,null,null,"",null,{"$f":"IFERROR(IF(OR(LOWER(Tabla3[[#This Row],[SEXO]])=\"masculino\", LOWER(Tabla3[[#This Row],[SEXO]])=\"m\", LOWER(Tabla3[[#This Row],[SEXO]])=\"1\"), \"MASCULINO\",\n  IF(OR(LOWER(Tabla3[[#This Row],[SEXO]])=\"femenino\", LOWER(Tabla3[[#This Row],[SEXO]])=\"f\", LOWER(Tabla3[[#This Row],[SEXO]])=\"2\"), \"FEMENINO\",\n  \"\")), \"\")","v":""},0,null,null,null,0]
[{"$f":"IF(Tabla3[[#This Row],[APELLIDOS Y NOMBRES]]>0,ROW()-14,\"\")","v":""},{"$f":"IFERROR(IF(Tabla3[[#This Row],[APELLIDOS Y NOMBRES]]>0,VLOOKUP($H$7,DATA!$A$79:$B$160,2,FALSE),\"\"),\"\")","v":""},null,null,null,null,null,{"$f":"((NOW()-Tabla3[[#This Row],[FECHA DE NACIMIENTO]])/365)-0.5","v":124.79767625317098},null,null,null,null,null,null,null,null,null,null,null,null,null,null,null,null,null,null,null,null,null,null,null,null,null,null,null,null,null,null,null,null,null,null,null,null,null,"",null,{"$f":"IFERROR(IF(OR(LOWER(Tabla3[[#This Row],[SEXO]])=\"masculino\", LOWER(Tabla3[[#This Row],[SEXO]])=\"m\", LOWER(Tabla3[[#This Row],[SEXO]])=\"1\"), \"MASCULINO\",\n  IF(OR(LOWER(Tabla3[[#This Row],[SEXO]])=\"femenino\", LOWER(Tabla3[[#This Row],[SEXO]])=\"f\", LOWER(Tabla3[[#This Row],[SEXO]])=\"2\"), \"FEMENINO\",\n  \"\")), \"\")","v":""},0,null,null,null,0]
[{"$f":"IF(Tabla3[[#This Row],[APELLIDOS Y NOMBRES]]>0,ROW()-14,\"\")","v":""},{"$f":"IFERROR(IF(Tabla3[[#This Row],[APELLIDOS Y NOMBRES]]>0,VLOOKUP($H$7,DATA!$A$79:$B$160,2,FALSE),\"\"),\"\")","v":""},null,null,null,null,null,{"$f":"((NOW()-Tabla3[[#This Row],[FECHA DE NACIMIENTO]])/365)-0.5","v":124.79767625317098},null,null,null,null,null,null,null,null,null,null,null,null,null,null,null,null,null,null,null,null,null,null,null,null,null,null,null,null,null,null,null,null,null,null,null,null,null,"",null,{"$f":"IFERROR(IF(OR(LOWER(Tabla3[[#This Row],[SEXO]])=\"masculino\", LOWER(Tabla3[[#This Row],[SEXO]])=\"m\", LOWER(Tabla3[[#This Row],[SEXO]])=\"1\"), \"MASCULINO\",\n  IF(OR(LOWER(Tabla3[[#This Row],[SEXO]])=\"femenino\", LOWER(Tabla3[[#This Row],[SEXO]])=\"f\", LOWER(Tabla3[[#This Row],[SEXO]])=\"2\"), \"FEMENINO\",\n  \"\")), \"\")","v":""},0,null,null,null,0]
[{"$f":"IF(Tabla3[[#This Row],[APELLIDOS Y NOMBRES]]>0,ROW()-14,\"\")","v":""},{"$f":"IFERROR(IF(Tabla3[[#This Row],[APELLIDOS Y NOMBRES]]>0,VLOOKUP($H$7,DATA!$A$79:$B$160,2,FALSE),\"\"),\"\")","v":""},null,null,null,null,null,{"$f":"((NOW()-Tabla3[[#This Row],[FECHA DE NACIMIENTO]])/365)-0.5","v":124.79767625317098},null,null,null,null,null,null,null,null,null,null,null,null,null,null,null,null,null,null,null,null,null,null,null,null,null,null,null,null,null,null,null,null,null,null,null,null,null,"",null,{"$f":"IFERROR(IF(OR(LOWER(Tabla3[[#This Row],[SEXO]])=\"masculino\", LOWER(Tabla3[[#This Row],[SEXO]])=\"m\", LOWER(Tabla3[[#This Row],[SEXO]])=\"1\"), \"MASCULINO\",\n  IF(OR(LOWER(Tabla3[[#This Row],[SEXO]])=\"femenino\", LOWER(Tabla3[[#This Row],[SEXO]])=\"f\", LOWER(Tabla3[[#This Row],[SEXO]])=\"2\"), \"FEMENINO\",\n  \"\")), \"\")","v":""},0,null,null,null,0]
[{"$f":"IF(Tabla3[[#This Row],[APELLIDOS Y NOMBRES]]>0,ROW()-14,\"\")","v":""},{"$f":"IFERROR(IF(Tabla3[[#This Row],[APELLIDOS Y NOMBRES]]>0,VLOOKUP($H$7,DATA!$A$79:$B$160,2,FALSE),\"\"),\"\")","v":""},null,null,null,null,null,{"$f":"((NOW()-Tabla3[[#This Row],[FECHA DE NACIMIENTO]])/365)-0.5","v":124.79767625317098},null,null,null,null,null,null,null,null,null,null,null,null,null,null,null,null,null,null,null,null,null,null,null,null,null,null,null,null,null,null,null,null,null,null,null,null,null,"",null,{"$f":"IFERROR(IF(OR(LOWER(Tabla3[[#This Row],[SEXO]])=\"masculino\", LOWER(Tabla3[[#This Row],[SEXO]])=\"m\", LOWER(Tabla3[[#This Row],[SEXO]])=\"1\"), \"MASCULINO\",\n  IF(OR(LOWER(Tabla3[[#This Row],[SEXO]])=\"femenino\", LOWER(Tabla3[[#This Row],[SEXO]])=\"f\", LOWER(Tabla3[[#This Row],[SEXO]])=\"2\"), \"FEMENINO\",\n  \"\")), \"\")","v":""},0,null,null,null,0]
[{"$f":"IF(Tabla3[[#This Row],[APELLIDOS Y NOMBRES]]>0,ROW()-14,\"\")","v":""},{"$f":"IFERROR(IF(Tabla3[[#This Row],[APELLIDOS Y NOMBRES]]>0,VLOOKUP($H$7,DATA!$A$79:$B$160,2,FALSE),\"\"),\"\")","v":""},null,null,null,null,null,{"$f":"((NOW()-Tabla3[[#This Row],[FECHA DE NACIMIENTO]])/365)-0.5","v":124.79767625317098},null,null,null,null,null,null,null,null,null,null,null,null,null,null,null,null,null,null,null,null,null,null,null,null,null,null,null,null,null,null,null,null,null,null,null,null,null,"",null,{"$f":"IFERROR(IF(OR(LOWER(Tabla3[[#This Row],[SEXO]])=\"masculino\", LOWER(Tabla3[[#This Row],[SEXO]])=\"m\", LOWER(Tabla3[[#This Row],[SEXO]])=\"1\"), \"MASCULINO\",\n  IF(OR(LOWER(Tabla3[[#This Row],[SEXO]])=\"femenino\", LOWER(Tabla3[[#This Row],[SEXO]])=\"f\", LOWER(Tabla3[[#This Row],[SEXO]])=\"2\"), \"FEMENINO\",\n  \"\")), \"\")","v":""},0,null,null,null,0]
[{"$f":"IF(Tabla3[[#This Row],[APELLIDOS Y NOMBRES]]>0,ROW()-14,\"\")","v":""},{"$f":"IFERROR(IF(Tabla3[[#This Row],[APELLIDOS Y NOMBRES]]>0,VLOOKUP($H$7,DATA!$A$79:$B$160,2,FALSE),\"\"),\"\")","v":""},null,null,null,null,null,{"$f":"((NOW()-Tabla3[[#This Row],[FECHA DE NACIMIENTO]])/365)-0.5","v":124.79767625317098},null,null,null,null,null,null,null,null,null,null,null,null,null,null,null,null,null,null,null,null,null,null,null,null,null,null,null,null,null,null,null,null,null,null,null,null,null,"",null,{"$f":"IFERROR(IF(OR(LOWER(Tabla3[[#This Row],[SEXO]])=\"masculino\", LOWER(Tabla3[[#This Row],[SEXO]])=\"m\", LOWER(Tabla3[[#This Row],[SEXO]])=\"1\"), \"MASCULINO\",\n  IF(OR(LOWER(Tabla3[[#This Row],[SEXO]])=\"femenino\", LOWER(Tabla3[[#This Row],[SEXO]])=\"f\", LOWER(Tabla3[[#This Row],[SEXO]])=\"2\"), \"FEMENINO\",\n  \"\")), \"\")","v":""},0,null,null,null,0]
[{"$f":"IF(Tabla3[[#This Row],[APELLIDOS Y NOMBRES]]>0,ROW()-14,\"\")","v":""},{"$f":"IFERROR(IF(Tabla3[[#This Row],[APELLIDOS Y NOMBRES]]>0,VLOOKUP($H$7,DATA!$A$79:$B$160,2,FALSE),\"\"),\"\")","v":""},null,null,null,null,null,{"$f":"((NOW()-Tabla3[[#This Row],[FECHA DE NACIMIENTO]])/365)-0.5","v":124.79767625317098},null,null,null,null,null,null,null,null,null,null,null,null,null,null,null,null,null,null,null,null,null,null,null,null,null,null,null,null,null,null,null,null,null,null,null,null,null,"",null,{"$f":"IFERROR(IF(OR(LOWER(Tabla3[[#This Row],[SEXO]])=\"masculino\", LOWER(Tabla3[[#This Row],[SEXO]])=\"m\", LOWER(Tabla3[[#This Row],[SEXO]])=\"1\"), \"MASCULINO\",\n  IF(OR(LOWER(Tabla3[[#This Row],[SEXO]])=\"femenino\", LOWER(Tabla3[[#This Row],[SEXO]])=\"f\", LOWER(Tabla3[[#This Row],[SEXO]])=\"2\"), \"FEMENINO\",\n  \"\")), \"\")","v":""},0,null,null,null,0]
[{"$f":"IF(Tabla3[[#This Row],[APELLIDOS Y NOMBRES]]>0,ROW()-14,\"\")","v":""},{"$f":"IFERROR(IF(Tabla3[[#This Row],[APELLIDOS Y NOMBRES]]>0,VLOOKUP($H$7,DATA!$A$79:$B$160,2,FALSE),\"\"),\"\")","v":""},null,null,null,null,null,{"$f":"((NOW()-Tabla3[[#This Row],[FECHA DE NACIMIENTO]])/365)-0.5","v":124.79767625317098},null,null,null,null,null,null,null,null,null,null,null,null,null,null,null,null,null,null,null,null,null,null,null,null,null,null,null,null,null,null,null,null,null,null,null,null,null,"",null,{"$f":"IFERROR(IF(OR(LOWER(Tabla3[[#This Row],[SEXO]])=\"masculino\", LOWER(Tabla3[[#This Row],[SEXO]])=\"m\", LOWER(Tabla3[[#This Row],[SEXO]])=\"1\"), \"MASCULINO\",\n  IF(OR(LOWER(Tabla3[[#This Row],[SEXO]])=\"femenino\", LOWER(Tabla3[[#This Row],[SEXO]])=\"f\", LOWER(Tabla3[[#This Row],[SEXO]])=\"2\"), \"FEMENINO\",\n  \"\")), \"\")","v":""},0,null,null,null,0]
[{"$f":"IF(Tabla3[[#This Row],[APELLIDOS Y NOMBRES]]>0,ROW()-14,\"\")","v":""},{"$f":"IFERROR(IF(Tabla3[[#This Row],[APELLIDOS Y NOMBRES]]>0,VLOOKUP($H$7,DATA!$A$79:$B$160,2,FALSE),\"\"),\"\")","v":""},null,null,null,null,null,{"$f":"((NOW()-Tabla3[[#This Row],[FECHA DE NACIMIENTO]])/365)-0.5","v":124.79767625317098},null,null,null,null,null,null,null,null,null,null,null,null,null,null,null,null,null,null,null,null,null,null,null,null,null,null,null,null,null,null,null,null,null,null,null,null,null,"",null,{"$f":"IFERROR(IF(OR(LOWER(Tabla3[[#This Row],[SEXO]])=\"masculino\", LOWER(Tabla3[[#This Row],[SEXO]])=\"m\", LOWER(Tabla3[[#This Row],[SEXO]])=\"1\"), \"MASCULINO\",\n  IF(OR(LOWER(Tabla3[[#This Row],[SEXO]])=\"femenino\", LOWER(Tabla3[[#This Row],[SEXO]])=\"f\", LOWER(Tabla3[[#This Row],[SEXO]])=\"2\"), \"FEMENINO\",\n  \"\")), \"\")","v":""},0,null,null,null,0]
[{"$f":"IF(Tabla3[[#This Row],[APELLIDOS Y NOMBRES]]>0,ROW()-14,\"\")","v":""},{"$f":"IFERROR(IF(Tabla3[[#This Row],[APELLIDOS Y NOMBRES]]>0,VLOOKUP($H$7,DATA!$A$79:$B$160,2,FALSE),\"\"),\"\")","v":""},null,null,null,null,null,{"$f":"((NOW()-Tabla3[[#This Row],[FECHA DE NACIMIENTO]])/365)-0.5","v":124.79767625317098},null,null,null,null,null,null,null,null,null,null,null,null,null,null,null,null,null,null,null,null,null,null,null,null,null,null,null,null,null,null,null,null,null,null,null,null,null,"",null,{"$f":"IFERROR(IF(OR(LOWER(Tabla3[[#This Row],[SEXO]])=\"masculino\", LOWER(Tabla3[[#This Row],[SEXO]])=\"m\", LOWER(Tabla3[[#This Row],[SEXO]])=\"1\"), \"MASCULINO\",\n  IF(OR(LOWER(Tabla3[[#This Row],[SEXO]])=\"femenino\", LOWER(Tabla3[[#This Row],[SEXO]])=\"f\", LOWER(Tabla3[[#This Row],[SEXO]])=\"2\"), \"FEMENINO\",\n  \"\")), \"\")","v":""},0,null,null,null,0]
[{"$f":"IF(Tabla3[[#This Row],[APELLIDOS Y NOMBRES]]>0,ROW()-14,\"\")","v":""},{"$f":"IFERROR(IF(Tabla3[[#This Row],[APELLIDOS Y NOMBRES]]>0,VLOOKUP($H$7,DATA!$A$79:$B$160,2,FALSE),\"\"),\"\")","v":""},null,null,null,null,null,{"$f":"((NOW()-Tabla3[[#This Row],[FECHA DE NACIMIENTO]])/365)-0.5","v":124.79767625317098},null,null,null,null,null,null,null,null,null,null,null,null,null,null,null,null,null,null,null,null,null,null,null,null,null,null,null,null,null,null,null,null,null,null,null,null,null,"",null,{"$f":"IFERROR(IF(OR(LOWER(Tabla3[[#This Row],[SEXO]])=\"masculino\", LOWER(Tabla3[[#This Row],[SEXO]])=\"m\", LOWER(Tabla3[[#This Row],[SEXO]])=\"1\"), \"MASCULINO\",\n  IF(OR(LOWER(Tabla3[[#This Row],[SEXO]])=\"femenino\", LOWER(Tabla3[[#This Row],[SEXO]])=\"f\", LOWER(Tabla3[[#This Row],[SEXO]])=\"2\"), \"FEMENINO\",\n  \"\")), \"\")","v":""},0,null,null,null,0]
[{"$f":"IF(Tabla3[[#This Row],[APELLIDOS Y NOMBRES]]>0,ROW()-14,\"\")","v":""},{"$f":"IFERROR(IF(Tabla3[[#This Row],[APELLIDOS Y NOMBRES]]>0,VLOOKUP($H$7,DATA!$A$79:$B$160,2,FALSE),\"\"),\"\")","v":""},null,null,null,null,null,{"$f":"((NOW()-Tabla3[[#This Row],[FECHA DE NACIMIENTO]])/365)-0.5","v":124.79767625317098},null,null,null,null,null,null,null,null,null,null,null,null,null,null,null,null,null,null,null,null,null,null,null,null,null,null,null,null,null,null,null,null,null,null,null,null,null,"",null,{"$f":"IFERROR(IF(OR(LOWER(Tabla3[[#This Row],[SEXO]])=\"masculino\", LOWER(Tabla3[[#This Row],[SEXO]])=\"m\", LOWER(Tabla3[[#This Row],[SEXO]])=\"1\"), \"MASCULINO\",\n  IF(OR(LOWER(Tabla3[[#This Row],[SEXO]])=\"femenino\", LOWER(Tabla3[[#This Row],[SEXO]])=\"f\", LOWER(Tabla3[[#This Row],[SEXO]])=\"2\"), \"FEMENINO\",\n  \"\")), \"\")","v":""},0,null,null,null,0]
[{"$f":"IF(Tabla3[[#This Row],[APELLIDOS Y NOMBRES]]>0,ROW()-14,\"\")","v":""},{"$f":"IFERROR(IF(Tabla3[[#This Row],[APELLIDOS Y NOMBRES]]>0,VLOOKUP($H$7,DATA!$A$79:$B$160,2,FALSE),\"\"),\"\")","v":""},null,null,null,null,null,{"$f":"((NOW()-Tabla3[[#This Row],[FECHA DE NACIMIENTO]])/365)-0.5","v":124.79767625317098},null,null,null,null,null,null,null,null,null,null,null,null,null,null,null,null,null,null,null,null,null,null,null,null,null,null,null,null,null,null,null,null,null,null,null,null,null,"",null,{"$f":"IFERROR(IF(OR(LOWER(Tabla3[[#This Row],[SEXO]])=\"masculino\", LOWER(Tabla3[[#This Row],[SEXO]])=\"m\", LOWER(Tabla3[[#This Row],[SEXO]])=\"1\"), \"MASCULINO\",\n  IF(OR(LOWER(Tabla3[[#This Row],[SEXO]])=\"femenino\", LOWER(Tabla3[[#This Row],[SEXO]])=\"f\", LOWER(Tabla3[[#This Row],[SEXO]])=\"2\"), \"FEMENINO\",\n  \"\")), \"\")","v":""},0,null,null,null,0]
[{"$f":"IF(Tabla3[[#This Row],[APELLIDOS Y NOMBRES]]>0,ROW()-14,\"\")","v":""},{"$f":"IFERROR(IF(Tabla3[[#This Row],[APELLIDOS Y NOMBRES]]>0,VLOOKUP($H$7,DATA!$A$79:$B$160,2,FALSE),\"\"),\"\")","v":""},null,null,null,null,null,{"$f":"((NOW()-Tabla3[[#This Row],[FECHA DE NACIMIENTO]])/365)-0.5","v":124.79767625317098},null,null,null,null,null,null,null,null,null,null,null,null,null,null,null,null,null,null,null,null,null,null,null,null,null,null,null,null,null,null,null,null,null,null,null,null,null,"",null,{"$f":"IFERROR(IF(OR(LOWER(Tabla3[[#This Row],[SEXO]])=\"masculino\", LOWER(Tabla3[[#This Row],[SEXO]])=\"m\", LOWER(Tabla3[[#This Row],[SEXO]])=\"1\"), \"MASCULINO\",\n  IF(OR(LOWER(Tabla3[[#This Row],[SEXO]])=\"femenino\", LOWER(Tabla3[[#This Row],[SEXO]])=\"f\", LOWER(Tabla3[[#This Row],[SEXO]])=\"2\"), \"FEMENINO\",\n  \"\")), \"\")","v":""},0,null,null,null,0]
[{"$f":"IF(Tabla3[[#This Row],[APELLIDOS Y NOMBRES]]>0,ROW()-14,\"\")","v":""},{"$f":"IFERROR(IF(Tabla3[[#This Row],[APELLIDOS Y NOMBRES]]>0,VLOOKUP($H$7,DATA!$A$79:$B$160,2,FALSE),\"\"),\"\")","v":""},null,null,null,null,null,{"$f":"((NOW()-Tabla3[[#This Row],[FECHA DE NACIMIENTO]])/365)-0.5","v":124.79767625317098},null,null,null,null,null,null,null,null,null,null,null,null,null,null,null,null,null,null,null,null,null,null,null,null,null,null,null,null,null,null,null,null,null,null,null,null,null,"",null,{"$f":"IFERROR(IF(OR(LOWER(Tabla3[[#This Row],[SEXO]])=\"masculino\", LOWER(Tabla3[[#This Row],[SEXO]])=\"m\", LOWER(Tabla3[[#This Row],[SEXO]])=\"1\"), \"MASCULINO\",\n  IF(OR(LOWER(Tabla3[[#This Row],[SEXO]])=\"femenino\", LOWER(Tabla3[[#This Row],[SEXO]])=\"f\", LOWER(Tabla3[[#This Row],[SEXO]])=\"2\"), \"FEMENINO\",\n  \"\")), \"\")","v":""},0,null,null,null,0]
[{"$f":"IF(Tabla3[[#This Row],[APELLIDOS Y NOMBRES]]>0,ROW()-14,\"\")","v":""},{"$f":"IFERROR(IF(Tabla3[[#This Row],[APELLIDOS Y NOMBRES]]>0,VLOOKUP($H$7,DATA!$A$79:$B$160,2,FALSE),\"\"),\"\")","v":""},null,null,null,null,null,{"$f":"((NOW()-Tabla3[[#This Row],[FECHA DE NACIMIENTO]])/365)-0.5","v":124.79767625317098},null,null,null,null,null,null,null,null,null,null,null,null,null,null,null,null,null,null,null,null,null,null,null,null,null,null,null,null,null,null,null,null,null,null,null,null,null,"",null,{"$f":"IFERROR(IF(OR(LOWER(Tabla3[[#This Row],[SEXO]])=\"masculino\", LOWER(Tabla3[[#This Row],[SEXO]])=\"m\", LOWER(Tabla3[[#This Row],[SEXO]])=\"1\"), \"MASCULINO\",\n  IF(OR(LOWER(Tabla3[[#This Row],[SEXO]])=\"femenino\", LOWER(Tabla3[[#This Row],[SEXO]])=\"f\", LOWER(Tabla3[[#This Row],[SEXO]])=\"2\"), \"FEMENINO\",\n  \"\")), \"\")","v":""},0,null,null,null,0]
[{"$f":"IF(Tabla3[[#This Row],[APELLIDOS Y NOMBRES]]>0,ROW()-14,\"\")","v":""},{"$f":"IFERROR(IF(Tabla3[[#This Row],[APELLIDOS Y NOMBRES]]>0,VLOOKUP($H$7,DATA!$A$79:$B$160,2,FALSE),\"\"),\"\")","v":""},null,null,null,null,null,{"$f":"((NOW()-Tabla3[[#This Row],[FECHA DE NACIMIENTO]])/365)-0.5","v":124.79767625317098},null,null,null,null,null,null,null,null,null,null,null,null,null,null,null,null,null,null,null,null,null,null,null,null,null,null,null,null,null,null,null,null,null,null,null,null,null,"",null,{"$f":"IFERROR(IF(OR(LOWER(Tabla3[[#This Row],[SEXO]])=\"masculino\", LOWER(Tabla3[[#This Row],[SEXO]])=\"m\", LOWER(Tabla3[[#This Row],[SEXO]])=\"1\"), \"MASCULINO\",\n  IF(OR(LOWER(Tabla3[[#This Row],[SEXO]])=\"femenino\", LOWER(Tabla3[[#This Row],[SEXO]])=\"f\", LOWER(Tabla3[[#This Row],[SEXO]])=\"2\"), \"FEMENINO\",\n  \"\")), \"\")","v":""},0,null,null,null,0]
[{"$f":"IF(Tabla3[[#This Row],[APELLIDOS Y NOMBRES]]>0,ROW()-14,\"\")","v":""},{"$f":"IFERROR(IF(Tabla3[[#This Row],[APELLIDOS Y NOMBRES]]>0,VLOOKUP($H$7,DATA!$A$79:$B$160,2,FALSE),\"\"),\"\")","v":""},null,null,null,null,null,{"$f":"((NOW()-Tabla3[[#This Row],[FECHA DE NACIMIENTO]])/365)-0.5","v":124.79767625317098},null,null,null,null,null,null,null,null,null,null,null,null,null,null,null,null,null,null,null,null,null,null,null,null,null,null,null,null,null,null,null,null,null,null,null,null,null,"",null,{"$f":"IFERROR(IF(OR(LOWER(Tabla3[[#This Row],[SEXO]])=\"masculino\", LOWER(Tabla3[[#This Row],[SEXO]])=\"m\", LOWER(Tabla3[[#This Row],[SEXO]])=\"1\"), \"MASCULINO\",\n  IF(OR(LOWER(Tabla3[[#This Row],[SEXO]])=\"femenino\", LOWER(Tabla3[[#This Row],[SEXO]])=\"f\", LOWER(Tabla3[[#This Row],[SEXO]])=\"2\"), \"FEMENINO\",\n  \"\")), \"\")","v":""},0,null,null,null,0]
[{"$f":"IF(Tabla3[[#This Row],[APELLIDOS Y NOMBRES]]>0,ROW()-14,\"\")","v":""},{"$f":"IFERROR(IF(Tabla3[[#This Row],[APELLIDOS Y NOMBRES]]>0,VLOOKUP($H$7,DATA!$A$79:$B$160,2,FALSE),\"\"),\"\")","v":""},null,null,null,null,null,{"$f":"((NOW()-Tabla3[[#This Row],[FECHA DE NACIMIENTO]])/365)-0.5","v":124.79767625317098},null,null,null,null,null,null,null,null,null,null,null,null,null,null,null,null,null,null,null,null,null,null,null,null,null,null,null,null,null,null,null,null,null,null,null,null,null,"",null,{"$f":"IFERROR(IF(OR(LOWER(Tabla3[[#This Row],[SEXO]])=\"masculino\", LOWER(Tabla3[[#This Row],[SEXO]])=\"m\", LOWER(Tabla3[[#This Row],[SEXO]])=\"1\"), \"MASCULINO\",\n  IF(OR(LOWER(Tabla3[[#This Row],[SEXO]])=\"femenino\", LOWER(Tabla3[[#This Row],[SEXO]])=\"f\", LOWER(Tabla3[[#This Row],[SEXO]])=\"2\"), \"FEMENINO\",\n  \"\")), \"\")","v":""},0,null,null,null,0]
[{"$f":"IF(Tabla3[[#This Row],[APELLIDOS Y NOMBRES]]>0,ROW()-14,\"\")","v":""},{"$f":"IFERROR(IF(Tabla3[[#This Row],[APELLIDOS Y NOMBRES]]>0,VLOOKUP($H$7,DATA!$A$79:$B$160,2,FALSE),\"\"),\"\")","v":""},null,null,null,null,null,{"$f":"((NOW()-Tabla3[[#This Row],[FECHA DE NACIMIENTO]])/365)-0.5","v":124.79767625317098},null,null,null,null,null,null,null,null,null,null,null,null,null,null,null,null,null,null,null,null,null,null,null,null,null,null,null,null,null,null,null,null,null,null,null,null,null,"",null,{"$f":"IFERROR(IF(OR(LOWER(Tabla3[[#This Row],[SEXO]])=\"masculino\", LOWER(Tabla3[[#This Row],[SEXO]])=\"m\", LOWER(Tabla3[[#This Row],[SEXO]])=\"1\"), \"MASCULINO\",\n  IF(OR(LOWER(Tabla3[[#This Row],[SEXO]])=\"femenino\", LOWER(Tabla3[[#This Row],[SEXO]])=\"f\", LOWER(Tabla3[[#This Row],[SEXO]])=\"2\"), \"FEMENINO\",\n  \"\")), \"\")","v":""},0,null,null,null,0]
[{"$f":"IF(Tabla3[[#This Row],[APELLIDOS Y NOMBRES]]>0,ROW()-14,\"\")","v":""},{"$f":"IFERROR(IF(Tabla3[[#This Row],[APELLIDOS Y NOMBRES]]>0,VLOOKUP($H$7,DATA!$A$79:$B$160,2,FALSE),\"\"),\"\")","v":""},null,null,null,null,null,{"$f":"((NOW()-Tabla3[[#This Row],[FECHA DE NACIMIENTO]])/365)-0.5","v":124.79767625317098},null,null,null,null,null,null,null,null,null,null,null,null,null,null,null,null,null,null,null,null,null,null,null,null,null,null,null,null,null,null,null,null,null,null,null,null,null,"",null,{"$f":"IFERROR(IF(OR(LOWER(Tabla3[[#This Row],[SEXO]])=\"masculino\", LOWER(Tabla3[[#This Row],[SEXO]])=\"m\", LOWER(Tabla3[[#This Row],[SEXO]])=\"1\"), \"MASCULINO\",\n  IF(OR(LOWER(Tabla3[[#This Row],[SEXO]])=\"femenino\", LOWER(Tabla3[[#This Row],[SEXO]])=\"f\", LOWER(Tabla3[[#This Row],[SEXO]])=\"2\"), \"FEMENINO\",\n  \"\")), \"\")","v":""},0,null,null,null,0]
[{"$f":"IF(Tabla3[[#This Row],[APELLIDOS Y NOMBRES]]>0,ROW()-14,\"\")","v":""},{"$f":"IFERROR(IF(Tabla3[[#This Row],[APELLIDOS Y NOMBRES]]>0,VLOOKUP($H$7,DATA!$A$79:$B$160,2,FALSE),\"\"),\"\")","v":""},null,null,null,null,null,{"$f":"((NOW()-Tabla3[[#This Row],[FECHA DE NACIMIENTO]])/365)-0.5","v":124.79767625317098},null,null,null,null,null,null,null,null,null,null,null,null,null,null,null,null,null,null,null,null,null,null,null,null,null,null,null,null,null,null,null,null,null,null,null,null,null,"",null,{"$f":"IFERROR(IF(OR(LOWER(Tabla3[[#This Row],[SEXO]])=\"masculino\", LOWER(Tabla3[[#This Row],[SEXO]])=\"m\", LOWER(Tabla3[[#This Row],[SEXO]])=\"1\"), \"MASCULINO\",\n  IF(OR(LOWER(Tabla3[[#This Row],[SEXO]])=\"femenino\", LOWER(Tabla3[[#This Row],[SEXO]])=\"f\", LOWER(Tabla3[[#This Row],[SEXO]])=\"2\"), \"FEMENINO\",\n  \"\")), \"\")","v":""},0,null,null,null,0]
[{"$f":"IF(Tabla3[[#This Row],[APELLIDOS Y NOMBRES]]>0,ROW()-14,\"\")","v":""},{"$f":"IFERROR(IF(Tabla3[[#This Row],[APELLIDOS Y NOMBRES]]>0,VLOOKUP($H$7,DATA!$A$79:$B$160,2,FALSE),\"\"),\"\")","v":""},null,null,null,null,null,{"$f":"((NOW()-Tabla3[[#This Row],[FECHA DE NACIMIENTO]])/365)-0.5","v":124.79767625317098},null,null,null,null,null,null,null,null,null,null,null,null,null,null,null,null,null,null,null,null,null,null,null,null,null,null,null,null,null,null,null,null,null,null,null,null,null,"",null,{"$f":"IFERROR(IF(OR(LOWER(Tabla3[[#This Row],[SEXO]])=\"masculino\", LOWER(Tabla3[[#This Row],[SEXO]])=\"m\", LOWER(Tabla3[[#This Row],[SEXO]])=\"1\"), \"MASCULINO\",\n  IF(OR(LOWER(Tabla3[[#This Row],[SEXO]])=\"femenino\", LOWER(Tabla3[[#This Row],[SEXO]])=\"f\", LOWER(Tabla3[[#This Row],[SEXO]])=\"2\"), \"FEMENINO\",\n  \"\")), \"\")","v":""},0,null,null,null,0]
[{"$f":"IF(Tabla3[[#This Row],[APELLIDOS Y NOMBRES]]>0,ROW()-14,\"\")","v":""},{"$f":"IFERROR(IF(Tabla3[[#This Row],[APELLIDOS Y NOMBRES]]>0,VLOOKUP($H$7,DATA!$A$79:$B$160,2,FALSE),\"\"),\"\")","v":""},null,null,null,null,null,{"$f":"((NOW()-Tabla3[[#This Row],[FECHA DE NACIMIENTO]])/365)-0.5","v":124.79767625317098},null,null,null,null,null,null,null,null,null,null,null,null,null,null,null,null,null,null,null,null,null,null,null,null,null,null,null,null,null,null,null,null,null,null,null,null,null,"",null,{"$f":"IFERROR(IF(OR(LOWER(Tabla3[[#This Row],[SEXO]])=\"masculino\", LOWER(Tabla3[[#This Row],[SEXO]])=\"m\", LOWER(Tabla3[[#This Row],[SEXO]])=\"1\"), \"MASCULINO\",\n  IF(OR(LOWER(Tabla3[[#This Row],[SEXO]])=\"femenino\", LOWER(Tabla3[[#This Row],[SEXO]])=\"f\", LOWER(Tabla3[[#This Row],[SEXO]])=\"2\"), \"FEMENINO\",\n  \"\")), \"\")","v":""},0,null,null,null,0]
[{"$f":"IF(Tabla3[[#This Row],[APELLIDOS Y NOMBRES]]>0,ROW()-14,\"\")","v":""},{"$f":"IFERROR(IF(Tabla3[[#This Row],[APELLIDOS Y NOMBRES]]>0,VLOOKUP($H$7,DATA!$A$79:$B$160,2,FALSE),\"\"),\"\")","v":""},null,null,null,null,null,{"$f":"((NOW()-Tabla3[[#This Row],[FECHA DE NACIMIENTO]])/365)-0.5","v":124.79767625317098},null,null,null,null,null,null,null,null,null,null,null,null,null,null,null,null,null,null,null,null,null,null,null,null,null,null,null,null,null,null,null,null,null,null,null,null,null,"",null,{"$f":"IFERROR(IF(OR(LOWER(Tabla3[[#This Row],[SEXO]])=\"masculino\", LOWER(Tabla3[[#This Row],[SEXO]])=\"m\", LOWER(Tabla3[[#This Row],[SEXO]])=\"1\"), \"MASCULINO\",\n  IF(OR(LOWER(Tabla3[[#This Row],[SEXO]])=\"femenino\", LOWER(Tabla3[[#This Row],[SEXO]])=\"f\", LOWER(Tabla3[[#This Row],[SEXO]])=\"2\"), \"FEMENINO\",\n  \"\")), \"\")","v":""},0,null,null,null,0]
[{"$f":"IF(Tabla3[[#This Row],[APELLIDOS Y NOMBRES]]>0,ROW()-14,\"\")","v":""},{"$f":"IFERROR(IF(Tabla3[[#This Row],[APELLIDOS Y NOMBRES]]>0,VLOOKUP($H$7,DATA!$A$79:$B$160,2,FALSE),\"\"),\"\")","v":""},null,null,null,null,null,{"$f":"((NOW()-Tabla3[[#This Row],[FECHA DE NACIMIENTO]])/365)-0.5","v":124.79767625317098},null,null,null,null,null,null,null,null,null,null,null,null,null,null,null,null,null,null,null,null,null,null,null,null,null,null,null,null,null,null,null,null,null,null,null,null,null,"",null,{"$f":"IFERROR(IF(OR(LOWER(Tabla3[[#This Row],[SEXO]])=\"masculino\", LOWER(Tabla3[[#This Row],[SEXO]])=\"m\", LOWER(Tabla3[[#This Row],[SEXO]])=\"1\"), \"MASCULINO\",\n  IF(OR(LOWER(Tabla3[[#This Row],[SEXO]])=\"femenino\", LOWER(Tabla3[[#This Row],[SEXO]])=\"f\", LOWER(Tabla3[[#This Row],[SEXO]])=\"2\"), \"FEMENINO\",\n  \"\")), \"\")","v":""},0,null,null,null,0]
[{"$f":"IF(Tabla3[[#This Row],[APELLIDOS Y NOMBRES]]>0,ROW()-14,\"\")","v":""},{"$f":"IFERROR(IF(Tabla3[[#This Row],[APELLIDOS Y NOMBRES]]>0,VLOOKUP($H$7,DATA!$A$79:$B$160,2,FALSE),\"\"),\"\")","v":""},null,null,null,null,null,{"$f":"((NOW()-Tabla3[[#This Row],[FECHA DE NACIMIENTO]])/365)-0.5","v":124.79767625317098},null,null,null,null,null,null,null,null,null,null,null,null,null,null,null,null,null,null,null,null,null,null,null,null,null,null,null,null,null,null,null,null,null,null,null,null,null,"",null,{"$f":"IFERROR(IF(OR(LOWER(Tabla3[[#This Row],[SEXO]])=\"masculino\", LOWER(Tabla3[[#This Row],[SEXO]])=\"m\", LOWER(Tabla3[[#This Row],[SEXO]])=\"1\"), \"MASCULINO\",\n  IF(OR(LOWER(Tabla3[[#This Row],[SEXO]])=\"femenino\", LOWER(Tabla3[[#This Row],[SEXO]])=\"f\", LOWER(Tabla3[[#This Row],[SEXO]])=\"2\"), \"FEMENINO\",\n  \"\")), \"\")","v":""},0,null,null,null,0]
[{"$f":"IF(Tabla3[[#This Row],[APELLIDOS Y NOMBRES]]>0,ROW()-14,\"\")","v":""},{"$f":"IFERROR(IF(Tabla3[[#This Row],[APELLIDOS Y NOMBRES]]>0,VLOOKUP($H$7,DATA!$A$79:$B$160,2,FALSE),\"\"),\"\")","v":""},null,null,null,null,null,{"$f":"((NOW()-Tabla3[[#This Row],[FECHA DE NACIMIENTO]])/365)-0.5","v":124.79767625317098},null,null,null,null,null,null,null,null,null,null,null,null,null,null,null,null,null,null,null,null,null,null,null,null,null,null,null,null,null,null,null,null,null,null,null,null,null,"",null,{"$f":"IFERROR(IF(OR(LOWER(Tabla3[[#This Row],[SEXO]])=\"masculino\", LOWER(Tabla3[[#This Row],[SEXO]])=\"m\", LOWER(Tabla3[[#This Row],[SEXO]])=\"1\"), \"MASCULINO\",\n  IF(OR(LOWER(Tabla3[[#This Row],[SEXO]])=\"femenino\", LOWER(Tabla3[[#This Row],[SEXO]])=\"f\", LOWER(Tabla3[[#This Row],[SEXO]])=\"2\"), \"FEMENINO\",\n  \"\")), \"\")","v":""},0,null,null,null,0]
[{"$f":"IF(Tabla3[[#This Row],[APELLIDOS Y NOMBRES]]>0,ROW()-14,\"\")","v":""},{"$f":"IFERROR(IF(Tabla3[[#This Row],[APELLIDOS Y NOMBRES]]>0,VLOOKUP($H$7,DATA!$A$79:$B$160,2,FALSE),\"\"),\"\")","v":""},null,null,null,null,null,{"$f":"((NOW()-Tabla3[[#This Row],[FECHA DE NACIMIENTO]])/365)-0.5","v":124.79767625317098},null,null,null,null,null,null,null,null,null,null,null,null,null,null,null,null,null,null,null,null,null,null,null,null,null,null,null,null,null,null,null,null,null,null,null,null,null,"",null,{"$f":"IFERROR(IF(OR(LOWER(Tabla3[[#This Row],[SEXO]])=\"masculino\", LOWER(Tabla3[[#This Row],[SEXO]])=\"m\", LOWER(Tabla3[[#This Row],[SEXO]])=\"1\"), \"MASCULINO\",\n  IF(OR(LOWER(Tabla3[[#This Row],[SEXO]])=\"femenino\", LOWER(Tabla3[[#This Row],[SEXO]])=\"f\", LOWER(Tabla3[[#This Row],[SEXO]])=\"2\"), \"FEMENINO\",\n  \"\")), \"\")","v":""},0,null,null,null,0]
[{"$f":"IF(Tabla3[[#This Row],[APELLIDOS Y NOMBRES]]>0,ROW()-14,\"\")","v":""},{"$f":"IFERROR(IF(Tabla3[[#This Row],[APELLIDOS Y NOMBRES]]>0,VLOOKUP($H$7,DATA!$A$79:$B$160,2,FALSE),\"\"),\"\")","v":""},null,null,null,null,null,{"$f":"((NOW()-Tabla3[[#This Row],[FECHA DE NACIMIENTO]])/365)-0.5","v":124.79767625317098},null,null,null,null,null,null,null,null,null,null,null,null,null,null,null,null,null,null,null,null,null,null,null,null,null,null,null,null,null,null,null,null,null,null,null,null,null,"",null,{"$f":"IFERROR(IF(OR(LOWER(Tabla3[[#This Row],[SEXO]])=\"masculino\", LOWER(Tabla3[[#This Row],[SEXO]])=\"m\", LOWER(Tabla3[[#This Row],[SEXO]])=\"1\"), \"MASCULINO\",\n  IF(OR(LOWER(Tabla3[[#This Row],[SEXO]])=\"femenino\", LOWER(Tabla3[[#This Row],[SEXO]])=\"f\", LOWER(Tabla3[[#This Row],[SEXO]])=\"2\"), \"FEMENINO\",\n  \"\")), \"\")","v":""},0,null,null,null,0]
[{"$f":"IF(Tabla3[[#This Row],[APELLIDOS Y NOMBRES]]>0,ROW()-14,\"\")","v":""},{"$f":"IFERROR(IF(Tabla3[[#This Row],[APELLIDOS Y NOMBRES]]>0,VLOOKUP($H$7,DATA!$A$79:$B$160,2,FALSE),\"\"),\"\")","v":""},null,null,null,null,null,{"$f":"((NOW()-Tabla3[[#This Row],[FECHA DE NACIMIENTO]])/365)-0.5","v":124.79767625317098},null,null,null,null,null,null,null,null,null,null,null,null,null,null,null,null,null,null,null,null,null,null,null,null,null,null,null,null,null,null,null,null,null,null,null,null,null,"",null,{"$f":"IFERROR(IF(OR(LOWER(Tabla3[[#This Row],[SEXO]])=\"masculino\", LOWER(Tabla3[[#This Row],[SEXO]])=\"m\", LOWER(Tabla3[[#This Row],[SEXO]])=\"1\"), \"MASCULINO\",\n  IF(OR(LOWER(Tabla3[[#This Row],[SEXO]])=\"femenino\", LOWER(Tabla3[[#This Row],[SEXO]])=\"f\", LOWER(Tabla3[[#This Row],[SEXO]])=\"2\"), \"FEMENINO\",\n  \"\")), \"\")","v":""},0,null,null,null,0]
[{"$f":"IF(Tabla3[[#This Row],[APELLIDOS Y NOMBRES]]>0,ROW()-14,\"\")","v":""},{"$f":"IFERROR(IF(Tabla3[[#This Row],[APELLIDOS Y NOMBRES]]>0,VLOOKUP($H$7,DATA!$A$79:$B$160,2,FALSE),\"\"),\"\")","v":""},null,null,null,null,null,{"$f":"((NOW()-Tabla3[[#This Row],[FECHA DE NACIMIENTO]])/365)-0.5","v":124.79767625317098},null,null,null,null,null,null,null,null,null,null,null,null,null,null,null,null,null,null,null,null,null,null,null,null,null,null,null,null,null,null,null,null,null,null,null,null,null,"",null,{"$f":"IFERROR(IF(OR(LOWER(Tabla3[[#This Row],[SEXO]])=\"masculino\", LOWER(Tabla3[[#This Row],[SEXO]])=\"m\", LOWER(Tabla3[[#This Row],[SEXO]])=\"1\"), \"MASCULINO\",\n  IF(OR(LOWER(Tabla3[[#This Row],[SEXO]])=\"femenino\", LOWER(Tabla3[[#This Row],[SEXO]])=\"f\", LOWER(Tabla3[[#This Row],[SEXO]])=\"2\"), \"FEMENINO\",\n  \"\")), \"\")","v":""},0,null,null,null,0]
[{"$f":"IF(Tabla3[[#This Row],[APELLIDOS Y NOMBRES]]>0,ROW()-14,\"\")","v":""},{"$f":"IFERROR(IF(Tabla3[[#This Row],[APELLIDOS Y NOMBRES]]>0,VLOOKUP($H$7,DATA!$A$79:$B$160,2,FALSE),\"\"),\"\")","v":""},null,null,null,null,null,{"$f":"((NOW()-Tabla3[[#This Row],[FECHA DE NACIMIENTO]])/365)-0.5","v":124.79767625317098},null,null,null,null,null,null,null,null,null,null,null,null,null,null,null,null,null,null,null,null,null,null,null,null,null,null,null,null,null,null,null,null,null,null,null,null,null,"",null,{"$f":"IFERROR(IF(OR(LOWER(Tabla3[[#This Row],[SEXO]])=\"masculino\", LOWER(Tabla3[[#This Row],[SEXO]])=\"m\", LOWER(Tabla3[[#This Row],[SEXO]])=\"1\"), \"MASCULINO\",\n  IF(OR(LOWER(Tabla3[[#This Row],[SEXO]])=\"femenino\", LOWER(Tabla3[[#This Row],[SEXO]])=\"f\", LOWER(Tabla3[[#This Row],[SEXO]])=\"2\"), \"FEMENINO\",\n  \"\")), \"\")","v":""},0,null,null,null,0]
[{"$f":"IF(Tabla3[[#This Row],[APELLIDOS Y NOMBRES]]>0,ROW()-14,\"\")","v":""},{"$f":"IFERROR(IF(Tabla3[[#This Row],[APELLIDOS Y NOMBRES]]>0,VLOOKUP($H$7,DATA!$A$79:$B$160,2,FALSE),\"\"),\"\")","v":""},null,null,null,null,null,{"$f":"((NOW()-Tabla3[[#This Row],[FECHA DE NACIMIENTO]])/365)-0.5","v":124.79767625317098},null,null,null,null,null,null,null,null,null,null,null,null,null,null,null,null,null,null,null,null,null,null,null,null,null,null,null,null,null,null,null,null,null,null,null,null,null,"",null,{"$f":"IFERROR(IF(OR(LOWER(Tabla3[[#This Row],[SEXO]])=\"masculino\", LOWER(Tabla3[[#This Row],[SEXO]])=\"m\", LOWER(Tabla3[[#This Row],[SEXO]])=\"1\"), \"MASCULINO\",\n  IF(OR(LOWER(Tabla3[[#This Row],[SEXO]])=\"femenino\", LOWER(Tabla3[[#This Row],[SEXO]])=\"f\", LOWER(Tabla3[[#This Row],[SEXO]])=\"2\"), \"FEMENINO\",\n  \"\")), \"\")","v":""},0,null,null,null,0]
[{"$f":"IF(Tabla3[[#This Row],[APELLIDOS Y NOMBRES]]>0,ROW()-14,\"\")","v":""},{"$f":"IFERROR(IF(Tabla3[[#This Row],[APELLIDOS Y NOMBRES]]>0,VLOOKUP($H$7,DATA!$A$79:$B$160,2,FALSE),\"\"),\"\")","v":""},null,null,null,null,null,{"$f":"((NOW()-Tabla3[[#This Row],[FECHA DE NACIMIENTO]])/365)-0.5","v":124.79767625317098},null,null,null,null,null,null,null,null,null,null,null,null,null,null,null,null,null,null,null,null,null,null,null,null,null,null,null,null,null,null,null,null,null,null,null,null,null,"",null,{"$f":"IFERROR(IF(OR(LOWER(Tabla3[[#This Row],[SEXO]])=\"masculino\", LOWER(Tabla3[[#This Row],[SEXO]])=\"m\", LOWER(Tabla3[[#This Row],[SEXO]])=\"1\"), \"MASCULINO\",\n  IF(OR(LOWER(Tabla3[[#This Row],[SEXO]])=\"femenino\", LOWER(Tabla3[[#This Row],[SEXO]])=\"f\", LOWER(Tabla3[[#This Row],[SEXO]])=\"2\"), \"FEMENINO\",\n  \"\")), \"\")","v":""},0,null,null,null,0]
[{"$f":"IF(Tabla3[[#This Row],[APELLIDOS Y NOMBRES]]>0,ROW()-14,\"\")","v":""},{"$f":"IFERROR(IF(Tabla3[[#This Row],[APELLIDOS Y NOMBRES]]>0,VLOOKUP($H$7,DATA!$A$79:$B$160,2,FALSE),\"\"),\"\")","v":""},null,null,null,null,null,{"$f":"((NOW()-Tabla3[[#This Row],[FECHA DE NACIMIENTO]])/365)-0.5","v":124.79767625317098},null,null,null,null,null,null,null,null,null,null,null,null,null,null,null,null,null,null,null,null,null,null,null,null,null,null,null,null,null,null,null,null,null,null,null,null,null,"",null,{"$f":"IFERROR(IF(OR(LOWER(Tabla3[[#This Row],[SEXO]])=\"masculino\", LOWER(Tabla3[[#This Row],[SEXO]])=\"m\", LOWER(Tabla3[[#This Row],[SEXO]])=\"1\"), \"MASCULINO\",\n  IF(OR(LOWER(Tabla3[[#This Row],[SEXO]])=\"femenino\", LOWER(Tabla3[[#This Row],[SEXO]])=\"f\", LOWER(Tabla3[[#This Row],[SEXO]])=\"2\"), \"FEMENINO\",\n  \"\")), \"\")","v":""},0,null,null,null,0]
[{"$f":"IF(Tabla3[[#This Row],[APELLIDOS Y NOMBRES]]>0,ROW()-14,\"\")","v":""},{"$f":"IFERROR(IF(Tabla3[[#This Row],[APELLIDOS Y NOMBRES]]>0,VLOOKUP($H$7,DATA!$A$79:$B$160,2,FALSE),\"\"),\"\")","v":""},null,null,null,null,null,{"$f":"((NOW()-Tabla3[[#This Row],[FECHA DE NACIMIENTO]])/365)-0.5","v":124.79767625317098},null,null,null,null,null,null,null,null,null,null,null,null,null,null,null,null,null,null,null,null,null,null,null,null,null,null,null,null,null,null,null,null,null,null,null,null,null,{"$f":"IF(OR($C$5=\"\", $D80=\"\"), \"\", $C$5)","v":""},null,{"$f":"IFERROR(IF(OR(LOWER(Tabla3[[#This Row],[SEXO]])=\"masculino\", LOWER(Tabla3[[#This Row],[SEXO]])=\"m\", LOWER(Tabla3[[#This Row],[SEXO]])=\"1\"), \"MASCULINO\",\n  IF(OR(LOWER(Tabla3[[#This Row],[SEXO]])=\"femenino\", LOWER(Tabla3[[#This Row],[SEXO]])=\"f\", LOWER(Tabla3[[#This Row],[SEXO]])=\"2\"), \"FEMENINO\",\n  \"\")), \"\")","v":""},{"$f":"COUNTIF(P80:AH80,104)","v":0},null,null,null,{"$f":"IF(COUNTIF(P80:AI80,104)>0,1,0)","v":0}]
[{"$f":"IF(Tabla3[[#This Row],[APELLIDOS Y NOMBRES]]>0,ROW()-14,\"\")","v":""},{"$f":"IFERROR(IF(Tabla3[[#This Row],[APELLIDOS Y NOMBRES]]>0,VLOOKUP($H$7,DATA!$A$79:$B$160,2,FALSE),\"\"),\"\")","v":""},null,null,null,null,null,{"$f":"((NOW()-Tabla3[[#This Row],[FECHA DE NACIMIENTO]])/365)-0.5","v":124.79767625317098},null,null,null,null,null,null,null,null,null,null,null,null,null,null,null,null,null,null,null,null,null,null,null,null,null,null,null,null,null,null,null,null,null,null,null,null,null,"",null,{"$f":"IFERROR(IF(OR(LOWER(Tabla3[[#This Row],[SEXO]])=\"masculino\", LOWER(Tabla3[[#This Row],[SEXO]])=\"m\", LOWER(Tabla3[[#This Row],[SEXO]])=\"1\"), \"MASCULINO\",\n  IF(OR(LOWER(Tabla3[[#This Row],[SEXO]])=\"femenino\", LOWER(Tabla3[[#This Row],[SEXO]])=\"f\", LOWER(Tabla3[[#This Row],[SEXO]])=\"2\"), \"FEMENINO\",\n  \"\")), \"\")","v":""},0,null,null,null,0]
[{"$f":"IF(Tabla3[[#This Row],[APELLIDOS Y NOMBRES]]>0,ROW()-14,\"\")","v":""},{"$f":"IFERROR(IF(Tabla3[[#This Row],[APELLIDOS Y NOMBRES]]>0,VLOOKUP($H$7,DATA!$A$79:$B$160,2,FALSE),\"\"),\"\")","v":""},null,null,null,null,null,{"$f":"((NOW()-Tabla3[[#This Row],[FECHA DE NACIMIENTO]])/365)-0.5","v":124.79767625317098},null,null,null,null,null,null,null,null,null,null,null,null,null,null,null,null,null,null,null,null,null,null,null,null,null,null,null,null,null,null,null,null,null,null,null,null,null,"",null,{"$f":"IFERROR(IF(OR(LOWER(Tabla3[[#This Row],[SEXO]])=\"masculino\", LOWER(Tabla3[[#This Row],[SEXO]])=\"m\", LOWER(Tabla3[[#This Row],[SEXO]])=\"1\"), \"MASCULINO\",\n  IF(OR(LOWER(Tabla3[[#This Row],[SEXO]])=\"femenino\", LOWER(Tabla3[[#This Row],[SEXO]])=\"f\", LOWER(Tabla3[[#This Row],[SEXO]])=\"2\"), \"FEMENINO\",\n  \"\")), \"\")","v":""},0,null,null,null,0]
[{"$f":"IF(Tabla3[[#This Row],[APELLIDOS Y NOMBRES]]>0,ROW()-14,\"\")","v":""},{"$f":"IFERROR(IF(Tabla3[[#This Row],[APELLIDOS Y NOMBRES]]>0,VLOOKUP($H$7,DATA!$A$79:$B$160,2,FALSE),\"\"),\"\")","v":""},null,null,null,null,null,{"$f":"((NOW()-Tabla3[[#This Row],[FECHA DE NACIMIENTO]])/365)-0.5","v":124.79767625317098},null,null,null,null,null,null,null,null,null,null,null,null,null,null,null,null,null,null,null,null,null,null,null,null,null,null,null,null,null,null,null,null,null,null,null,null,null,"",null,{"$f":"IFERROR(IF(OR(LOWER(Tabla3[[#This Row],[SEXO]])=\"masculino\", LOWER(Tabla3[[#This Row],[SEXO]])=\"m\", LOWER(Tabla3[[#This Row],[SEXO]])=\"1\"), \"MASCULINO\",\n  IF(OR(LOWER(Tabla3[[#This Row],[SEXO]])=\"femenino\", LOWER(Tabla3[[#This Row],[SEXO]])=\"f\", LOWER(Tabla3[[#This Row],[SEXO]])=\"2\"), \"FEMENINO\",\n  \"\")), \"\")","v":""},0,null,null,null,0]
[{"$f":"IF(Tabla3[[#This Row],[APELLIDOS Y NOMBRES]]>0,ROW()-14,\"\")","v":""},{"$f":"IFERROR(IF(Tabla3[[#This Row],[APELLIDOS Y NOMBRES]]>0,VLOOKUP($H$7,DATA!$A$79:$B$160,2,FALSE),\"\"),\"\")","v":""},null,null,null,null,null,{"$f":"((NOW()-Tabla3[[#This Row],[FECHA DE NACIMIENTO]])/365)-0.5","v":124.79767625317098},null,null,null,null,null,null,null,null,null,null,null,null,null,null,null,null,null,null,null,null,null,null,null,null,null,null,null,null,null,null,null,null,null,null,null,null,null,"",null,{"$f":"IFERROR(IF(OR(LOWER(Tabla3[[#This Row],[SEXO]])=\"masculino\", LOWER(Tabla3[[#This Row],[SEXO]])=\"m\", LOWER(Tabla3[[#This Row],[SEXO]])=\"1\"), \"MASCULINO\",\n  IF(OR(LOWER(Tabla3[[#This Row],[SEXO]])=\"femenino\", LOWER(Tabla3[[#This Row],[SEXO]])=\"f\", LOWER(Tabla3[[#This Row],[SEXO]])=\"2\"), \"FEMENINO\",\n  \"\")), \"\")","v":""},0,null,null,null,0]
[{"$f":"IF(Tabla3[[#This Row],[APELLIDOS Y NOMBRES]]>0,ROW()-14,\"\")","v":""},{"$f":"IFERROR(IF(Tabla3[[#This Row],[APELLIDOS Y NOMBRES]]>0,VLOOKUP($H$7,DATA!$A$79:$B$160,2,FALSE),\"\"),\"\")","v":""},null,null,null,null,null,{"$f":"((NOW()-Tabla3[[#This Row],[FECHA DE NACIMIENTO]])/365)-0.5","v":124.79767625317098},null,null,null,null,null,null,null,null,null,null,null,null,null,null,null,null,null,null,null,null,null,null,null,null,null,null,null,null,null,null,null,null,null,null,null,null,null,"",null,{"$f":"IFERROR(IF(OR(LOWER(Tabla3[[#This Row],[SEXO]])=\"masculino\", LOWER(Tabla3[[#This Row],[SEXO]])=\"m\", LOWER(Tabla3[[#This Row],[SEXO]])=\"1\"), \"MASCULINO\",\n  IF(OR(LOWER(Tabla3[[#This Row],[SEXO]])=\"femenino\", LOWER(Tabla3[[#This Row],[SEXO]])=\"f\", LOWER(Tabla3[[#This Row],[SEXO]])=\"2\"), \"FEMENINO\",\n  \"\")), \"\")","v":""},0,null,null,null,0]
[{"$f":"IF(Tabla3[[#This Row],[APELLIDOS Y NOMBRES]]>0,ROW()-14,\"\")","v":""},{"$f":"IFERROR(IF(Tabla3[[#This Row],[APELLIDOS Y NOMBRES]]>0,VLOOKUP($H$7,DATA!$A$79:$B$160,2,FALSE),\"\"),\"\")","v":""},null,null,null,null,null,{"$f":"((NOW()-Tabla3[[#This Row],[FECHA DE NACIMIENTO]])/365)-0.5","v":124.79767625317098},null,null,null,null,null,null,null,null,null,null,null,null,null,null,null,null,null,null,null,null,null,null,null,null,null,null,null,null,null,null,null,null,null,null,null,null,null,"",null,{"$f":"IFERROR(IF(OR(LOWER(Tabla3[[#This Row],[SEXO]])=\"masculino\", LOWER(Tabla3[[#This Row],[SEXO]])=\"m\", LOWER(Tabla3[[#This Row],[SEXO]])=\"1\"), \"MASCULINO\",\n  IF(OR(LOWER(Tabla3[[#This Row],[SEXO]])=\"femenino\", LOWER(Tabla3[[#This Row],[SEXO]])=\"f\", LOWER(Tabla3[[#This Row],[SEXO]])=\"2\"), \"FEMENINO\",\n  \"\")), \"\")","v":""},0,null,null,null,0]
[{"$f":"IF(Tabla3[[#This Row],[APELLIDOS Y NOMBRES]]>0,ROW()-14,\"\")","v":""},{"$f":"IFERROR(IF(Tabla3[[#This Row],[APELLIDOS Y NOMBRES]]>0,VLOOKUP($H$7,DATA!$A$79:$B$160,2,FALSE),\"\"),\"\")","v":""},null,null,null,null,null,{"$f":"((NOW()-Tabla3[[#This Row],[FECHA DE NACIMIENTO]])/365)-0.5","v":124.79767625317098},null,null,null,null,null,null,null,null,null,null,null,null,null,null,null,null,null,null,null,null,null,null,null,null,null,null,null,null,null,null,null,null,null,null,null,null,null,"",null,{"$f":"IFERROR(IF(OR(LOWER(Tabla3[[#This Row],[SEXO]])=\"masculino\", LOWER(Tabla3[[#This Row],[SEXO]])=\"m\", LOWER(Tabla3[[#This Row],[SEXO]])=\"1\"), \"MASCULINO\",\n  IF(OR(LOWER(Tabla3[[#This Row],[SEXO]])=\"femenino\", LOWER(Tabla3[[#This Row],[SEXO]])=\"f\", LOWER(Tabla3[[#This Row],[SEXO]])=\"2\"), \"FEMENINO\",\n  \"\")), \"\")","v":""},0,null,null,null,0]
[{"$f":"IF(Tabla3[[#This Row],[APELLIDOS Y NOMBRES]]>0,ROW()-14,\"\")","v":""},{"$f":"IFERROR(IF(Tabla3[[#This Row],[APELLIDOS Y NOMBRES]]>0,VLOOKUP($H$7,DATA!$A$79:$B$160,2,FALSE),\"\"),\"\")","v":""},null,null,null,null,null,{"$f":"((NOW()-Tabla3[[#This Row],[FECHA DE NACIMIENTO]])/365)-0.5","v":124.79767625317098},null,null,null,null,null,null,null,null,null,null,null,null,null,null,null,null,null,null,null,null,null,null,null,null,null,null,null,null,null,null,null,null,null,null,null,null,null,"",null,{"$f":"IFERROR(IF(OR(LOWER(Tabla3[[#This Row],[SEXO]])=\"masculino\", LOWER(Tabla3[[#This Row],[SEXO]])=\"m\", LOWER(Tabla3[[#This Row],[SEXO]])=\"1\"), \"MASCULINO\",\n  IF(OR(LOWER(Tabla3[[#This Row],[SEXO]])=\"femenino\", LOWER(Tabla3[[#This Row],[SEXO]])=\"f\", LOWER(Tabla3[[#This Row],[SEXO]])=\"2\"), \"FEMENINO\",\n  \"\")), \"\")","v":""},0,null,null,null,0]
[{"$f":"IF(Tabla3[[#This Row],[APELLIDOS Y NOMBRES]]>0,ROW()-14,\"\")","v":""},{"$f":"IFERROR(IF(Tabla3[[#This Row],[APELLIDOS Y NOMBRES]]>0,VLOOKUP($H$7,DATA!$A$79:$B$160,2,FALSE),\"\"),\"\")","v":""},null,null,null,null,null,{"$f":"((NOW()-Tabla3[[#This Row],[FECHA DE NACIMIENTO]])/365)-0.5","v":124.79767625317098},null,null,null,null,null,null,null,null,null,null,null,null,null,null,null,null,null,null,null,null,null,null,null,null,null,null,null,null,null,null,null,null,null,null,null,null,null,"",null,{"$f":"IFERROR(IF(OR(LOWER(Tabla3[[#This Row],[SEXO]])=\"masculino\", LOWER(Tabla3[[#This Row],[SEXO]])=\"m\", LOWER(Tabla3[[#This Row],[SEXO]])=\"1\"), \"MASCULINO\",\n  IF(OR(LOWER(Tabla3[[#This Row],[SEXO]])=\"femenino\", LOWER(Tabla3[[#This Row],[SEXO]])=\"f\", LOWER(Tabla3[[#This Row],[SEXO]])=\"2\"), \"FEMENINO\",\n  \"\")), \"\")","v":""},0,null,null,null,0]
[{"$f":"IF(Tabla3[[#This Row],[APELLIDOS Y NOMBRES]]>0,ROW()-14,\"\")","v":""},{"$f":"IFERROR(IF(Tabla3[[#This Row],[APELLIDOS Y NOMBRES]]>0,VLOOKUP($H$7,DATA!$A$79:$B$160,2,FALSE),\"\"),\"\")","v":""},null,null,null,null,null,{"$f":"((NOW()-Tabla3[[#This Row],[FECHA DE NACIMIENTO]])/365)-0.5","v":124.79767625317098},null,null,null,null,null,null,null,null,null,null,null,null,null,null,null,null,null,null,null,null,null,null,null,null,null,null,null,null,null,null,null,null,null,null,null,null,null,"",null,{"$f":"IFERROR(IF(OR(LOWER(Tabla3[[#This Row],[SEXO]])=\"masculino\", LOWER(Tabla3[[#This Row],[SEXO]])=\"m\", LOWER(Tabla3[[#This Row],[SEXO]])=\"1\"), \"MASCULINO\",\n  IF(OR(LOWER(Tabla3[[#This Row],[SEXO]])=\"femenino\", LOWER(Tabla3[[#This Row],[SEXO]])=\"f\", LOWER(Tabla3[[#This Row],[SEXO]])=\"2\"), \"FEMENINO\",\n  \"\")), \"\")","v":""},0,null,null,null,0]
[{"$f":"IF(Tabla3[[#This Row],[APELLIDOS Y NOMBRES]]>0,ROW()-14,\"\")","v":""},{"$f":"IFERROR(IF(Tabla3[[#This Row],[APELLIDOS Y NOMBRES]]>0,VLOOKUP($H$7,DATA!$A$79:$B$160,2,FALSE),\"\"),\"\")","v":""},null,null,null,null,null,{"$f":"((NOW()-Tabla3[[#This Row],[FECHA DE NACIMIENTO]])/365)-0.5","v":124.79767625317098},null,null,null,null,null,null,null,null,null,null,null,null,null,null,null,null,null,null,null,null,null,null,null,null,null,null,null,null,null,null,null,null,null,null,null,null,null,"",null,{"$f":"IFERROR(IF(OR(LOWER(Tabla3[[#This Row],[SEXO]])=\"masculino\", LOWER(Tabla3[[#This Row],[SEXO]])=\"m\", LOWER(Tabla3[[#This Row],[SEXO]])=\"1\"), \"MASCULINO\",\n  IF(OR(LOWER(Tabla3[[#This Row],[SEXO]])=\"femenino\", LOWER(Tabla3[[#This Row],[SEXO]])=\"f\", LOWER(Tabla3[[#This Row],[SEXO]])=\"2\"), \"FEMENINO\",\n  \"\")), \"\")","v":""},0,null,null,null,0]
[{"$f":"IF(Tabla3[[#This Row],[APELLIDOS Y NOMBRES]]>0,ROW()-14,\"\")","v":""},{"$f":"IFERROR(IF(Tabla3[[#This Row],[APELLIDOS Y NOMBRES]]>0,VLOOKUP($H$7,DATA!$A$79:$B$160,2,FALSE),\"\"),\"\")","v":""},null,null,null,null,null,{"$f":"((NOW()-Tabla3[[#This Row],[FECHA DE NACIMIENTO]])/365)-0.5","v":124.79767625317098},null,null,null,null,null,null,null,null,null,null,null,null,null,null,null,null,null,null,null,null,null,null,null,null,null,null,null,null,null,null,null,null,null,null,null,null,null,"",null,{"$f":"IFERROR(IF(OR(LOWER(Tabla3[[#This Row],[SEXO]])=\"masculino\", LOWER(Tabla3[[#This Row],[SEXO]])=\"m\", LOWER(Tabla3[[#This Row],[SEXO]])=\"1\"), \"MASCULINO\",\n  IF(OR(LOWER(Tabla3[[#This Row],[SEXO]])=\"femenino\", LOWER(Tabla3[[#This Row],[SEXO]])=\"f\", LOWER(Tabla3[[#This Row],[SEXO]])=\"2\"), \"FEMENINO\",\n  \"\")), \"\")","v":""},0,null,null,null,0]
[{"$f":"IF(Tabla3[[#This Row],[APELLIDOS Y NOMBRES]]>0,ROW()-14,\"\")","v":""},{"$f":"IFERROR(IF(Tabla3[[#This Row],[APELLIDOS Y NOMBRES]]>0,VLOOKUP($H$7,DATA!$A$79:$B$160,2,FALSE),\"\"),\"\")","v":""},null,null,null,null,null,{"$f":"((NOW()-Tabla3[[#This Row],[FECHA DE NACIMIENTO]])/365)-0.5","v":124.79767625317098},null,null,null,null,null,null,null,null,null,null,null,null,null,null,null,null,null,null,null,null,null,null,null,null,null,null,null,null,null,null,null,null,null,null,null,null,null,"",null,{"$f":"IFERROR(IF(OR(LOWER(Tabla3[[#This Row],[SEXO]])=\"masculino\", LOWER(Tabla3[[#This Row],[SEXO]])=\"m\", LOWER(Tabla3[[#This Row],[SEXO]])=\"1\"), \"MASCULINO\",\n  IF(OR(LOWER(Tabla3[[#This Row],[SEXO]])=\"femenino\", LOWER(Tabla3[[#This Row],[SEXO]])=\"f\", LOWER(Tabla3[[#This Row],[SEXO]])=\"2\"), \"FEMENINO\",\n  \"\")), \"\")","v":""},0,null,null,null,0]
[{"$f":"IF(Tabla3[[#This Row],[APELLIDOS Y NOMBRES]]>0,ROW()-14,\"\")","v":""},{"$f":"IFERROR(IF(Tabla3[[#This Row],[APELLIDOS Y NOMBRES]]>0,VLOOKUP($H$7,DATA!$A$79:$B$160,2,FALSE),\"\"),\"\")","v":""},null,null,null,null,null,{"$f":"((NOW()-Tabla3[[#This Row],[FECHA DE NACIMIENTO]])/365)-0.5","v":124.79767625317098},null,null,null,null,null,null,null,null,null,null,null,null,null,null,null,null,null,null,null,null,null,null,null,null,null,null,null,null,null,null,null,null,null,null,null,null,null,"",null,{"$f":"IFERROR(IF(OR(LOWER(Tabla3[[#This Row],[SEXO]])=\"masculino\", LOWER(Tabla3[[#This Row],[SEXO]])=\"m\", LOWER(Tabla3[[#This Row],[SEXO]])=\"1\"), \"MASCULINO\",\n  IF(OR(LOWER(Tabla3[[#This Row],[SEXO]])=\"femenino\", LOWER(Tabla3[[#This Row],[SEXO]])=\"f\", LOWER(Tabla3[[#This Row],[SEXO]])=\"2\"), \"FEMENINO\",\n  \"\")), \"\")","v":""},0,null,null,null,0]
[{"$f":"IF(Tabla3[[#This Row],[APELLIDOS Y NOMBRES]]>0,ROW()-14,\"\")","v":""},{"$f":"IFERROR(IF(Tabla3[[#This Row],[APELLIDOS Y NOMBRES]]>0,VLOOKUP($H$7,DATA!$A$79:$B$160,2,FALSE),\"\"),\"\")","v":""},null,null,null,null,null,{"$f":"((NOW()-Tabla3[[#This Row],[FECHA DE NACIMIENTO]])/365)-0.5","v":124.79767625317098},null,null,null,null,null,null,null,null,null,null,null,null,null,null,null,null,null,null,null,null,null,null,null,null,null,null,null,null,null,null,null,null,null,null,null,null,null,"",null,{"$f":"IFERROR(IF(OR(LOWER(Tabla3[[#This Row],[SEXO]])=\"masculino\", LOWER(Tabla3[[#This Row],[SEXO]])=\"m\", LOWER(Tabla3[[#This Row],[SEXO]])=\"1\"), \"MASCULINO\",\n  IF(OR(LOWER(Tabla3[[#This Row],[SEXO]])=\"femenino\", LOWER(Tabla3[[#This Row],[SEXO]])=\"f\", LOWER(Tabla3[[#This Row],[SEXO]])=\"2\"), \"FEMENINO\",\n  \"\")), \"\")","v":""},0,null,null,null,0]
[{"$f":"IF(Tabla3[[#This Row],[APELLIDOS Y NOMBRES]]>0,ROW()-14,\"\")","v":""},{"$f":"IFERROR(IF(Tabla3[[#This Row],[APELLIDOS Y NOMBRES]]>0,VLOOKUP($H$7,DATA!$A$79:$B$160,2,FALSE),\"\"),\"\")","v":""},null,null,null,null,null,{"$f":"((NOW()-Tabla3[[#This Row],[FECHA DE NACIMIENTO]])/365)-0.5","v":124.79767625317098},null,null,null,null,null,null,null,null,null,null,null,null,null,null,null,null,null,null,null,null,null,null,null,null,null,null,null,null,null,null,null,null,null,null,null,null,null,"",null,{"$f":"IFERROR(IF(OR(LOWER(Tabla3[[#This Row],[SEXO]])=\"masculino\", LOWER(Tabla3[[#This Row],[SEXO]])=\"m\", LOWER(Tabla3[[#This Row],[SEXO]])=\"1\"), \"MASCULINO\",\n  IF(OR(LOWER(Tabla3[[#This Row],[SEXO]])=\"femenino\", LOWER(Tabla3[[#This Row],[SEXO]])=\"f\", LOWER(Tabla3[[#This Row],[SEXO]])=\"2\"), \"FEMENINO\",\n  \"\")), \"\")","v":""},0,null,null,null,0]
[{"$f":"IF(Tabla3[[#This Row],[APELLIDOS Y NOMBRES]]>0,ROW()-14,\"\")","v":""},{"$f":"IFERROR(IF(Tabla3[[#This Row],[APELLIDOS Y NOMBRES]]>0,VLOOKUP($H$7,DATA!$A$79:$B$160,2,FALSE),\"\"),\"\")","v":""},null,null,null,null,null,{"$f":"((NOW()-Tabla3[[#This Row],[FECHA DE NACIMIENTO]])/365)-0.5","v":124.79767625317098},null,null,null,null,null,null,null,null,null,null,null,null,null,null,null,null,null,null,null,null,null,null,null,null,null,null,null,null,null,null,null,null,null,null,null,null,null,"",null,{"$f":"IFERROR(IF(OR(LOWER(Tabla3[[#This Row],[SEXO]])=\"masculino\", LOWER(Tabla3[[#This Row],[SEXO]])=\"m\", LOWER(Tabla3[[#This Row],[SEXO]])=\"1\"), \"MASCULINO\",\n  IF(OR(LOWER(Tabla3[[#This Row],[SEXO]])=\"femenino\", LOWER(Tabla3[[#This Row],[SEXO]])=\"f\", LOWER(Tabla3[[#This Row],[SEXO]])=\"2\"), \"FEMENINO\",\n  \"\")), \"\")","v":""},0,null,null,null,0]
[{"$f":"IF(Tabla3[[#This Row],[APELLIDOS Y NOMBRES]]>0,ROW()-14,\"\")","v":""},{"$f":"IFERROR(IF(Tabla3[[#This Row],[APELLIDOS Y NOMBRES]]>0,VLOOKUP($H$7,DATA!$A$79:$B$160,2,FALSE),\"\"),\"\")","v":""},null,null,null,null,null,{"$f":"((NOW()-Tabla3[[#This Row],[FECHA DE NACIMIENTO]])/365)-0.5","v":124.79767625317098},null,null,null,null,null,null,null,null,null,null,null,null,null,null,null,null,null,null,null,null,null,null,null,null,null,null,null,null,null,null,null,null,null,null,null,null,null,"",null,{"$f":"IFERROR(IF(OR(LOWER(Tabla3[[#This Row],[SEXO]])=\"masculino\", LOWER(Tabla3[[#This Row],[SEXO]])=\"m\", LOWER(Tabla3[[#This Row],[SEXO]])=\"1\"), \"MASCULINO\",\n  IF(OR(LOWER(Tabla3[[#This Row],[SEXO]])=\"femenino\", LOWER(Tabla3[[#This Row],[SEXO]])=\"f\", LOWER(Tabla3[[#This Row],[SEXO]])=\"2\"), \"FEMENINO\",\n  \"\")), \"\")","v":""},0,null,null,null,0]
[{"$f":"IF(Tabla3[[#This Row],[APELLIDOS Y NOMBRES]]>0,ROW()-14,\"\")","v":""},{"$f":"IFERROR(IF(Tabla3[[#This Row],[APELLIDOS Y NOMBRES]]>0,VLOOKUP($H$7,DATA!$A$79:$B$160,2,FALSE),\"\"),\"\")","v":""},null,null,null,null,null,{"$f":"((NOW()-Tabla3[[#This Row],[FECHA DE NACIMIENTO]])/365)-0.5","v":124.79767625317098},null,null,null,null,null,null,null,null,null,null,null,null,null,null,null,null,null,null,null,null,null,null,null,null,null,null,null,null,null,null,null,null,null,null,null,null,null,"",null,{"$f":"IFERROR(IF(OR(LOWER(Tabla3[[#This Row],[SEXO]])=\"masculino\", LOWER(Tabla3[[#This Row],[SEXO]])=\"m\", LOWER(Tabla3[[#This Row],[SEXO]])=\"1\"), \"MASCULINO\",\n  IF(OR(LOWER(Tabla3[[#This Row],[SEXO]])=\"femenino\", LOWER(Tabla3[[#This Row],[SEXO]])=\"f\", LOWER(Tabla3[[#This Row],[SEXO]])=\"2\"), \"FEMENINO\",\n  \"\")), \"\")","v":""},0,null,null,null,0]
[{"$f":"IF(Tabla3[[#This Row],[APELLIDOS Y NOMBRES]]>0,ROW()-14,\"\")","v":""},{"$f":"IFERROR(IF(Tabla3[[#This Row],[APELLIDOS Y NOMBRES]]>0,VLOOKUP($H$7,DATA!$A$79:$B$160,2,FALSE),\"\"),\"\")","v":""},null,null,null,null,null,{"$f":"((NOW()-Tabla3[[#This Row],[FECHA DE NACIMIENTO]])/365)-0.5","v":124.79767625317098},null,null,null,null,null,null,null,null,null,null,null,null,null,null,null,null,null,null,null,null,null,null,null,null,null,null,null,null,null,null,null,null,null,null,null,null,null,"",null,{"$f":"IFERROR(IF(OR(LOWER(Tabla3[[#This Row],[SEXO]])=\"masculino\", LOWER(Tabla3[[#This Row],[SEXO]])=\"m\", LOWER(Tabla3[[#This Row],[SEXO]])=\"1\"), \"MASCULINO\",\n  IF(OR(LOWER(Tabla3[[#This Row],[SEXO]])=\"femenino\", LOWER(Tabla3[[#This Row],[SEXO]])=\"f\", LOWER(Tabla3[[#This Row],[SEXO]])=\"2\"), \"FEMENINO\",\n  \"\")), \"\")","v":""},0,null,null,null,0]
[{"$f":"IF(Tabla3[[#This Row],[APELLIDOS Y NOMBRES]]>0,ROW()-14,\"\")","v":""},{"$f":"IFERROR(IF(Tabla3[[#This Row],[APELLIDOS Y NOMBRES]]>0,VLOOKUP($H$7,DATA!$A$79:$B$160,2,FALSE),\"\"),\"\")","v":""},null,null,null,null,null,{"$f":"((NOW()-Tabla3[[#This Row],[FECHA DE NACIMIENTO]])/365)-0.5","v":124.79767625317098},null,null,null,null,null,null,null,null,null,null,null,null,null,null,null,null,null,null,null,null,null,null,null,null,null,null,null,null,null,null,null,null,null,null,null,null,null,"",null,{"$f":"IFERROR(IF(OR(LOWER(Tabla3[[#This Row],[SEXO]])=\"masculino\", LOWER(Tabla3[[#This Row],[SEXO]])=\"m\", LOWER(Tabla3[[#This Row],[SEXO]])=\"1\"), \"MASCULINO\",\n  IF(OR(LOWER(Tabla3[[#This Row],[SEXO]])=\"femenino\", LOWER(Tabla3[[#This Row],[SEXO]])=\"f\", LOWER(Tabla3[[#This Row],[SEXO]])=\"2\"), \"FEMENINO\",\n  \"\")), \"\")","v":""},0,null,null,null,0]
[{"$f":"IF(Tabla3[[#This Row],[APELLIDOS Y NOMBRES]]>0,ROW()-14,\"\")","v":""},{"$f":"IFERROR(IF(Tabla3[[#This Row],[APELLIDOS Y NOMBRES]]>0,VLOOKUP($H$7,DATA!$A$79:$B$160,2,FALSE),\"\"),\"\")","v":""},null,null,null,null,null,{"$f":"((NOW()-Tabla3[[#This Row],[FECHA DE NACIMIENTO]])/365)-0.5","v":124.79767625317098},null,null,null,null,null,null,null,null,null,null,null,null,null,null,null,null,null,null,null,null,null,null,null,null,null,null,null,null,null,null,null,null,null,null,null,null,null,"",null,{"$f":"IFERROR(IF(OR(LOWER(Tabla3[[#This Row],[SEXO]])=\"masculino\", LOWER(Tabla3[[#This Row],[SEXO]])=\"m\", LOWER(Tabla3[[#This Row],[SEXO]])=\"1\"), \"MASCULINO\",\n  IF(OR(LOWER(Tabla3[[#This Row],[SEXO]])=\"femenino\", LOWER(Tabla3[[#This Row],[SEXO]])=\"f\", LOWER(Tabla3[[#This Row],[SEXO]])=\"2\"), \"FEMENINO\",\n  \"\")), \"\")","v":""},0,null,null,null,0]
[{"$f":"IF(Tabla3[[#This Row],[APELLIDOS Y NOMBRES]]>0,ROW()-14,\"\")","v":""},{"$f":"IFERROR(IF(Tabla3[[#This Row],[APELLIDOS Y NOMBRES]]>0,VLOOKUP($H$7,DATA!$A$79:$B$160,2,FALSE),\"\"),\"\")","v":""},null,null,null,null,null,{"$f":"((NOW()-Tabla3[[#This Row],[FECHA DE NACIMIENTO]])/365)-0.5","v":124.79767625317098},null,null,null,null,null,null,null,null,null,null,null,null,null,null,null,null,null,null,null,null,null,null,null,null,null,null,null,null,null,null,null,null,null,null,null,null,null,"",null,{"$f":"IFERROR(IF(OR(LOWER(Tabla3[[#This Row],[SEXO]])=\"masculino\", LOWER(Tabla3[[#This Row],[SEXO]])=\"m\", LOWER(Tabla3[[#This Row],[SEXO]])=\"1\"), \"MASCULINO\",\n  IF(OR(LOWER(Tabla3[[#This Row],[SEXO]])=\"femenino\", LOWER(Tabla3[[#This Row],[SEXO]])=\"f\", LOWER(Tabla3[[#This Row],[SEXO]])=\"2\"), \"FEMENINO\",\n  \"\")), \"\")","v":""},0,null,null,null,0]
[{"$f":"IF(Tabla3[[#This Row],[APELLIDOS Y NOMBRES]]>0,ROW()-14,\"\")","v":""},{"$f":"IFERROR(IF(Tabla3[[#This Row],[APELLIDOS Y NOMBRES]]>0,VLOOKUP($H$7,DATA!$A$79:$B$160,2,FALSE),\"\"),\"\")","v":""},null,null,null,null,null,{"$f":"((NOW()-Tabla3[[#This Row],[FECHA DE NACIMIENTO]])/365)-0.5","v":124.79767625317098},null,null,null,null,null,null,null,null,null,null,null,null,null,null,null,null,null,null,null,null,null,null,null,null,null,null,null,null,null,null,null,null,null,null,null,null,null,"",null,{"$f":"IFERROR(IF(OR(LOWER(Tabla3[[#This Row],[SEXO]])=\"masculino\", LOWER(Tabla3[[#This Row],[SEXO]])=\"m\", LOWER(Tabla3[[#This Row],[SEXO]])=\"1\"), \"MASCULINO\",\n  IF(OR(LOWER(Tabla3[[#This Row],[SEXO]])=\"femenino\", LOWER(Tabla3[[#This Row],[SEXO]])=\"f\", LOWER(Tabla3[[#This Row],[SEXO]])=\"2\"), \"FEMENINO\",\n  \"\")), \"\")","v":""},0,null,null,null,0]
[{"$f":"IF(Tabla3[[#This Row],[APELLIDOS Y NOMBRES]]>0,ROW()-14,\"\")","v":""},{"$f":"IFERROR(IF(Tabla3[[#This Row],[APELLIDOS Y NOMBRES]]>0,VLOOKUP($H$7,DATA!$A$79:$B$160,2,FALSE),\"\"),\"\")","v":""},null,null,null,null,null,{"$f":"((NOW()-Tabla3[[#This Row],[FECHA DE NACIMIENTO]])/365)-0.5","v":124.79767625317098},null,null,null,null,null,null,null,null,null,null,null,null,null,null,null,null,null,null,null,null,null,null,null,null,null,null,null,null,null,null,null,null,null,null,null,null,null,"",null,{"$f":"IFERROR(IF(OR(LOWER(Tabla3[[#This Row],[SEXO]])=\"masculino\", LOWER(Tabla3[[#This Row],[SEXO]])=\"m\", LOWER(Tabla3[[#This Row],[SEXO]])=\"1\"), \"MASCULINO\",\n  IF(OR(LOWER(Tabla3[[#This Row],[SEXO]])=\"femenino\", LOWER(Tabla3[[#This Row],[SEXO]])=\"f\", LOWER(Tabla3[[#This Row],[SEXO]])=\"2\"), \"FEMENINO\",\n  \"\")), \"\")","v":""},0,null,null,null,0]
[{"$f":"IF(Tabla3[[#This Row],[APELLIDOS Y NOMBRES]]>0,ROW()-14,\"\")","v":""},{"$f":"IFERROR(IF(Tabla3[[#This Row],[APELLIDOS Y NOMBRES]]>0,VLOOKUP($H$7,DATA!$A$79:$B$160,2,FALSE),\"\"),\"\")","v":""},null,null,null,null,null,{"$f":"((NOW()-Tabla3[[#This Row],[FECHA DE NACIMIENTO]])/365)-0.5","v":124.79767625317098},null,null,null,null,null,null,null,null,null,null,null,null,null,null,null,null,null,null,null,null,null,null,null,null,null,null,null,null,null,null,null,null,null,null,null,null,null,"",null,{"$f":"IFERROR(IF(OR(LOWER(Tabla3[[#This Row],[SEXO]])=\"masculino\", LOWER(Tabla3[[#This Row],[SEXO]])=\"m\", LOWER(Tabla3[[#This Row],[SEXO]])=\"1\"), \"MASCULINO\",\n  IF(OR(LOWER(Tabla3[[#This Row],[SEXO]])=\"femenino\", LOWER(Tabla3[[#This Row],[SEXO]])=\"f\", LOWER(Tabla3[[#This Row],[SEXO]])=\"2\"), \"FEMENINO\",\n  \"\")), \"\")","v":""},0,null,null,null,0]
[{"$f":"IF(Tabla3[[#This Row],[APELLIDOS Y NOMBRES]]>0,ROW()-14,\"\")","v":""},{"$f":"IFERROR(IF(Tabla3[[#This Row],[APELLIDOS Y NOMBRES]]>0,VLOOKUP($H$7,DATA!$A$79:$B$160,2,FALSE),\"\"),\"\")","v":""},null,null,null,null,null,{"$f":"((NOW()-Tabla3[[#This Row],[FECHA DE NACIMIENTO]])/365)-0.5","v":124.79767625317098},null,null,null,null,null,null,null,null,null,null,null,null,null,null,null,null,null,null,null,null,null,null,null,null,null,null,null,null,null,null,null,null,null,null,null,null,null,"",null,{"$f":"IFERROR(IF(OR(LOWER(Tabla3[[#This Row],[SEXO]])=\"masculino\", LOWER(Tabla3[[#This Row],[SEXO]])=\"m\", LOWER(Tabla3[[#This Row],[SEXO]])=\"1\"), \"MASCULINO\",\n  IF(OR(LOWER(Tabla3[[#This Row],[SEXO]])=\"femenino\", LOWER(Tabla3[[#This Row],[SEXO]])=\"f\", LOWER(Tabla3[[#This Row],[SEXO]])=\"2\"), \"FEMENINO\",\n  \"\")), \"\")","v":""},0,null,null,null,0]
[{"$f":"IF(Tabla3[[#This Row],[APELLIDOS Y NOMBRES]]>0,ROW()-14,\"\")","v":""},{"$f":"IFERROR(IF(Tabla3[[#This Row],[APELLIDOS Y NOMBRES]]>0,VLOOKUP($H$7,DATA!$A$79:$B$160,2,FALSE),\"\"),\"\")","v":""},null,null,null,null,null,{"$f":"((NOW()-Tabla3[[#This Row],[FECHA DE NACIMIENTO]])/365)-0.5","v":124.79767625317098},null,null,null,null,null,null,null,null,null,null,null,null,null,null,null,null,null,null,null,null,null,null,null,null,null,null,null,null,null,null,null,null,null,null,null,null,null,"",null,{"$f":"IFERROR(IF(OR(LOWER(Tabla3[[#This Row],[SEXO]])=\"masculino\", LOWER(Tabla3[[#This Row],[SEXO]])=\"m\", LOWER(Tabla3[[#This Row],[SEXO]])=\"1\"), \"MASCULINO\",\n  IF(OR(LOWER(Tabla3[[#This Row],[SEXO]])=\"femenino\", LOWER(Tabla3[[#This Row],[SEXO]])=\"f\", LOWER(Tabla3[[#This Row],[SEXO]])=\"2\"), \"FEMENINO\",\n  \"\")), \"\")","v":""},0,null,null,null,0]
[{"$f":"IF(Tabla3[[#This Row],[APELLIDOS Y NOMBRES]]>0,ROW()-14,\"\")","v":""},{"$f":"IFERROR(IF(Tabla3[[#This Row],[APELLIDOS Y NOMBRES]]>0,VLOOKUP($H$7,DATA!$A$79:$B$160,2,FALSE),\"\"),\"\")","v":""},null,null,null,null,null,{"$f":"((NOW()-Tabla3[[#This Row],[FECHA DE NACIMIENTO]])/365)-0.5","v":124.79767625317098},null,null,null,null,null,null,null,null,null,null,null,null,null,null,null,null,null,null,null,null,null,null,null,null,null,null,null,null,null,null,null,null,null,null,null,null,null,"",null,{"$f":"IFERROR(IF(OR(LOWER(Tabla3[[#This Row],[SEXO]])=\"masculino\", LOWER(Tabla3[[#This Row],[SEXO]])=\"m\", LOWER(Tabla3[[#This Row],[SEXO]])=\"1\"), \"MASCULINO\",\n  IF(OR(LOWER(Tabla3[[#This Row],[SEXO]])=\"femenino\", LOWER(Tabla3[[#This Row],[SEXO]])=\"f\", LOWER(Tabla3[[#This Row],[SEXO]])=\"2\"), \"FEMENINO\",\n  \"\")), \"\")","v":""},0,null,null,null,0]
[{"$f":"IF(Tabla3[[#This Row],[APELLIDOS Y NOMBRES]]>0,ROW()-14,\"\")","v":""},{"$f":"IFERROR(IF(Tabla3[[#This Row],[APELLIDOS Y NOMBRES]]>0,VLOOKUP($H$7,DATA!$A$79:$B$160,2,FALSE),\"\"),\"\")","v":""},null,null,null,null,null,{"$f":"((NOW()-Tabla3[[#This Row],[FECHA DE NACIMIENTO]])/365)-0.5","v":124.79767625317098},null,null,null,null,null,null,null,null,null,null,null,null,null,null,null,null,null,null,null,null,null,null,null,null,null,null,null,null,null,null,null,null,null,null,null,null,null,"",null,{"$f":"IFERROR(IF(OR(LOWER(Tabla3[[#This Row],[SEXO]])=\"masculino\", LOWER(Tabla3[[#This Row],[SEXO]])=\"m\", LOWER(Tabla3[[#This Row],[SEXO]])=\"1\"), \"MASCULINO\",\n  IF(OR(LOWER(Tabla3[[#This Row],[SEXO]])=\"femenino\", LOWER(Tabla3[[#This Row],[SEXO]])=\"f\", LOWER(Tabla3[[#This Row],[SEXO]])=\"2\"), \"FEMENINO\",\n  \"\")), \"\")","v":""},0,null,null,null,0]
[{"$f":"IF(Tabla3[[#This Row],[APELLIDOS Y NOMBRES]]>0,ROW()-14,\"\")","v":""},{"$f":"IFERROR(IF(Tabla3[[#This Row],[APELLIDOS Y NOMBRES]]>0,VLOOKUP($H$7,DATA!$A$79:$B$160,2,FALSE),\"\"),\"\")","v":""},null,null,null,null,null,{"$f":"((NOW()-Tabla3[[#This Row],[FECHA DE NACIMIENTO]])/365)-0.5","v":124.79767625317098},null,null,null,null,null,null,null,null,null,null,null,null,null,null,null,null,null,null,null,null,null,null,null,null,null,null,null,null,null,null,null,null,null,null,null,null,null,"",null,{"$f":"IFERROR(IF(OR(LOWER(Tabla3[[#This Row],[SEXO]])=\"masculino\", LOWER(Tabla3[[#This Row],[SEXO]])=\"m\", LOWER(Tabla3[[#This Row],[SEXO]])=\"1\"), \"MASCULINO\",\n  IF(OR(LOWER(Tabla3[[#This Row],[SEXO]])=\"femenino\", LOWER(Tabla3[[#This Row],[SEXO]])=\"f\", LOWER(Tabla3[[#This Row],[SEXO]])=\"2\"), \"FEMENINO\",\n  \"\")), \"\")","v":""},0,null,null,null,0]
[{"$f":"IF(Tabla3[[#This Row],[APELLIDOS Y NOMBRES]]>0,ROW()-14,\"\")","v":""},{"$f":"IFERROR(IF(Tabla3[[#This Row],[APELLIDOS Y NOMBRES]]>0,VLOOKUP($H$7,DATA!$A$79:$B$160,2,FALSE),\"\"),\"\")","v":""},null,null,null,null,null,{"$f":"((NOW()-Tabla3[[#This Row],[FECHA DE NACIMIENTO]])/365)-0.5","v":124.79767625317098},null,null,null,null,null,null,null,null,null,null,null,null,null,null,null,null,null,null,null,null,null,null,null,null,null,null,null,null,null,null,null,null,null,null,null,null,null,"",null,{"$f":"IFERROR(IF(OR(LOWER(Tabla3[[#This Row],[SEXO]])=\"masculino\", LOWER(Tabla3[[#This Row],[SEXO]])=\"m\", LOWER(Tabla3[[#This Row],[SEXO]])=\"1\"), \"MASCULINO\",\n  IF(OR(LOWER(Tabla3[[#This Row],[SEXO]])=\"femenino\", LOWER(Tabla3[[#This Row],[SEXO]])=\"f\", LOWER(Tabla3[[#This Row],[SEXO]])=\"2\"), \"FEMENINO\",\n  \"\")), \"\")","v":""},0,null,null,null,0]
[{"$f":"IF(Tabla3[[#This Row],[APELLIDOS Y NOMBRES]]>0,ROW()-14,\"\")","v":""},{"$f":"IFERROR(IF(Tabla3[[#This Row],[APELLIDOS Y NOMBRES]]>0,VLOOKUP($H$7,DATA!$A$79:$B$160,2,FALSE),\"\"),\"\")","v":""},null,null,null,null,null,{"$f":"((NOW()-Tabla3[[#This Row],[FECHA DE NACIMIENTO]])/365)-0.5","v":124.79767625317098},null,null,null,null,null,null,null,null,null,null,null,null,null,null,null,null,null,null,null,null,null,null,null,null,null,null,null,null,null,null,null,null,null,null,null,null,null,"",null,{"$f":"IFERROR(IF(OR(LOWER(Tabla3[[#This Row],[SEXO]])=\"masculino\", LOWER(Tabla3[[#This Row],[SEXO]])=\"m\", LOWER(Tabla3[[#This Row],[SEXO]])=\"1\"), \"MASCULINO\",\n  IF(OR(LOWER(Tabla3[[#This Row],[SEXO]])=\"femenino\", LOWER(Tabla3[[#This Row],[SEXO]])=\"f\", LOWER(Tabla3[[#This Row],[SEXO]])=\"2\"), \"FEMENINO\",\n  \"\")), \"\")","v":""},0,null,null,null,0]
[{"$f":"IF(Tabla3[[#This Row],[APELLIDOS Y NOMBRES]]>0,ROW()-14,\"\")","v":""},{"$f":"IFERROR(IF(Tabla3[[#This Row],[APELLIDOS Y NOMBRES]]>0,VLOOKUP($H$7,DATA!$A$79:$B$160,2,FALSE),\"\"),\"\")","v":""},null,null,null,null,null,{"$f":"((NOW()-Tabla3[[#This Row],[FECHA DE NACIMIENTO]])/365)-0.5","v":124.79767625317098},null,null,null,null,null,null,null,null,null,null,null,null,null,null,null,null,null,null,null,null,null,null,null,null,null,null,null,null,null,null,null,null,null,null,null,null,null,"",null,{"$f":"IFERROR(IF(OR(LOWER(Tabla3[[#This Row],[SEXO]])=\"masculino\", LOWER(Tabla3[[#This Row],[SEXO]])=\"m\", LOWER(Tabla3[[#This Row],[SEXO]])=\"1\"), \"MASCULINO\",\n  IF(OR(LOWER(Tabla3[[#This Row],[SEXO]])=\"femenino\", LOWER(Tabla3[[#This Row],[SEXO]])=\"f\", LOWER(Tabla3[[#This Row],[SEXO]])=\"2\"), \"FEMENINO\",\n  \"\")), \"\")","v":""},0,null,null,null,0]
[{"$f":"IF(Tabla3[[#This Row],[APELLIDOS Y NOMBRES]]>0,ROW()-14,\"\")","v":""},{"$f":"IFERROR(IF(Tabla3[[#This Row],[APELLIDOS Y NOMBRES]]>0,VLOOKUP($H$7,DATA!$A$79:$B$160,2,FALSE),\"\"),\"\")","v":""},null,null,null,null,null,{"$f":"((NOW()-Tabla3[[#This Row],[FECHA DE NACIMIENTO]])/365)-0.5","v":124.79767625317098},null,null,null,null,null,null,null,null,null,null,null,null,null,null,null,null,null,null,null,null,null,null,null,null,null,null,null,null,null,null,null,null,null,null,null,null,null,"",null,{"$f":"IFERROR(IF(OR(LOWER(Tabla3[[#This Row],[SEXO]])=\"masculino\", LOWER(Tabla3[[#This Row],[SEXO]])=\"m\", LOWER(Tabla3[[#This Row],[SEXO]])=\"1\"), \"MASCULINO\",\n  IF(OR(LOWER(Tabla3[[#This Row],[SEXO]])=\"femenino\", LOWER(Tabla3[[#This Row],[SEXO]])=\"f\", LOWER(Tabla3[[#This Row],[SEXO]])=\"2\"), \"FEMENINO\",\n  \"\")), \"\")","v":""},0,null,null,null,0]
[{"$f":"IF(Tabla3[[#This Row],[APELLIDOS Y NOMBRES]]>0,ROW()-14,\"\")","v":""},{"$f":"IFERROR(IF(Tabla3[[#This Row],[APELLIDOS Y NOMBRES]]>0,VLOOKUP($H$7,DATA!$A$79:$B$160,2,FALSE),\"\"),\"\")","v":""},null,null,null,null,null,{"$f":"((NOW()-Tabla3[[#This Row],[FECHA DE NACIMIENTO]])/365)-0.5","v":124.79767625317098},null,null,null,null,null,null,null,null,null,null,null,null,null,null,null,null,null,null,null,null,null,null,null,null,null,null,null,null,null,null,null,null,null,null,null,null,null,"",null,{"$f":"IFERROR(IF(OR(LOWER(Tabla3[[#This Row],[SEXO]])=\"masculino\", LOWER(Tabla3[[#This Row],[SEXO]])=\"m\", LOWER(Tabla3[[#This Row],[SEXO]])=\"1\"), \"MASCULINO\",\n  IF(OR(LOWER(Tabla3[[#This Row],[SEXO]])=\"femenino\", LOWER(Tabla3[[#This Row],[SEXO]])=\"f\", LOWER(Tabla3[[#This Row],[SEXO]])=\"2\"), \"FEMENINO\",\n  \"\")), \"\")","v":""},0,null,null,null,0]
[{"$f":"IF(Tabla3[[#This Row],[APELLIDOS Y NOMBRES]]>0,ROW()-14,\"\")","v":""},{"$f":"IFERROR(IF(Tabla3[[#This Row],[APELLIDOS Y NOMBRES]]>0,VLOOKUP($H$7,DATA!$A$79:$B$160,2,FALSE),\"\"),\"\")","v":""},null,null,null,null,null,{"$f":"((NOW()-Tabla3[[#This Row],[FECHA DE NACIMIENTO]])/365)-0.5","v":124.79767625317098},null,null,null,null,null,null,null,null,null,null,null,null,null,null,null,null,null,null,null,null,null,null,null,null,null,null,null,null,null,null,null,null,null,null,null,null,null,"",null,{"$f":"IFERROR(IF(OR(LOWER(Tabla3[[#This Row],[SEXO]])=\"masculino\", LOWER(Tabla3[[#This Row],[SEXO]])=\"m\", LOWER(Tabla3[[#This Row],[SEXO]])=\"1\"), \"MASCULINO\",\n  IF(OR(LOWER(Tabla3[[#This Row],[SEXO]])=\"femenino\", LOWER(Tabla3[[#This Row],[SEXO]])=\"f\", LOWER(Tabla3[[#This Row],[SEXO]])=\"2\"), \"FEMENINO\",\n  \"\")), \"\")","v":""},0,null,null,null,0]
[{"$f":"IF(Tabla3[[#This Row],[APELLIDOS Y NOMBRES]]>0,ROW()-14,\"\")","v":""},{"$f":"IFERROR(IF(Tabla3[[#This Row],[APELLIDOS Y NOMBRES]]>0,VLOOKUP($H$7,DATA!$A$79:$B$160,2,FALSE),\"\"),\"\")","v":""},null,null,null,null,null,{"$f":"((NOW()-Tabla3[[#This Row],[FECHA DE NACIMIENTO]])/365)-0.5","v":124.79767625317098},null,null,null,null,null,null,null,null,null,null,null,null,null,null,null,null,null,null,null,null,null,null,null,null,null,null,null,null,null,null,null,null,null,null,null,null,null,"",null,{"$f":"IFERROR(IF(OR(LOWER(Tabla3[[#This Row],[SEXO]])=\"masculino\", LOWER(Tabla3[[#This Row],[SEXO]])=\"m\", LOWER(Tabla3[[#This Row],[SEXO]])=\"1\"), \"MASCULINO\",\n  IF(OR(LOWER(Tabla3[[#This Row],[SEXO]])=\"femenino\", LOWER(Tabla3[[#This Row],[SEXO]])=\"f\", LOWER(Tabla3[[#This Row],[SEXO]])=\"2\"), \"FEMENINO\",\n  \"\")), \"\")","v":""},0,null,null,null,0]
[{"$f":"IF(Tabla3[[#This Row],[APELLIDOS Y NOMBRES]]>0,ROW()-14,\"\")","v":""},{"$f":"IFERROR(IF(Tabla3[[#This Row],[APELLIDOS Y NOMBRES]]>0,VLOOKUP($H$7,DATA!$A$79:$B$160,2,FALSE),\"\"),\"\")","v":""},null,null,null,null,null,{"$f":"((NOW()-Tabla3[[#This Row],[FECHA DE NACIMIENTO]])/365)-0.5","v":124.79767625317098},null,null,null,null,null,null,null,null,null,null,null,null,null,null,null,null,null,null,null,null,null,null,null,null,null,null,null,null,null,null,null,null,null,null,null,null,null,"",null,{"$f":"IFERROR(IF(OR(LOWER(Tabla3[[#This Row],[SEXO]])=\"masculino\", LOWER(Tabla3[[#This Row],[SEXO]])=\"m\", LOWER(Tabla3[[#This Row],[SEXO]])=\"1\"), \"MASCULINO\",\n  IF(OR(LOWER(Tabla3[[#This Row],[SEXO]])=\"femenino\", LOWER(Tabla3[[#This Row],[SEXO]])=\"f\", LOWER(Tabla3[[#This Row],[SEXO]])=\"2\"), \"FEMENINO\",\n  \"\")), \"\")","v":""},0,null,null,null,0]
[{"$f":"IF(Tabla3[[#This Row],[APELLIDOS Y NOMBRES]]>0,ROW()-14,\"\")","v":""},{"$f":"IFERROR(IF(Tabla3[[#This Row],[APELLIDOS Y NOMBRES]]>0,VLOOKUP($H$7,DATA!$A$79:$B$160,2,FALSE),\"\"),\"\")","v":""},null,null,null,null,null,{"$f":"((NOW()-Tabla3[[#This Row],[FECHA DE NACIMIENTO]])/365)-0.5","v":124.79767625317098},null,null,null,null,null,null,null,null,null,null,null,null,null,null,null,null,null,null,null,null,null,null,null,null,null,null,null,null,null,null,null,null,null,null,null,null,null,"",null,{"$f":"IFERROR(IF(OR(LOWER(Tabla3[[#This Row],[SEXO]])=\"masculino\", LOWER(Tabla3[[#This Row],[SEXO]])=\"m\", LOWER(Tabla3[[#This Row],[SEXO]])=\"1\"), \"MASCULINO\",\n  IF(OR(LOWER(Tabla3[[#This Row],[SEXO]])=\"femenino\", LOWER(Tabla3[[#This Row],[SEXO]])=\"f\", LOWER(Tabla3[[#This Row],[SEXO]])=\"2\"), \"FEMENINO\",\n  \"\")), \"\")","v":""},0,null,null,null,0]
[{"$f":"IF(Tabla3[[#This Row],[APELLIDOS Y NOMBRES]]>0,ROW()-14,\"\")","v":""},{"$f":"IFERROR(IF(Tabla3[[#This Row],[APELLIDOS Y NOMBRES]]>0,VLOOKUP($H$7,DATA!$A$79:$B$160,2,FALSE),\"\"),\"\")","v":""},null,null,null,null,null,{"$f":"((NOW()-Tabla3[[#This Row],[FECHA DE NACIMIENTO]])/365)-0.5","v":124.79767625317098},null,null,null,null,null,null,null,null,null,null,null,null,null,null,null,null,null,null,null,null,null,null,null,null,null,null,null,null,null,null,null,null,null,null,null,null,null,"",null,{"$f":"IFERROR(IF(OR(LOWER(Tabla3[[#This Row],[SEXO]])=\"masculino\", LOWER(Tabla3[[#This Row],[SEXO]])=\"m\", LOWER(Tabla3[[#This Row],[SEXO]])=\"1\"), \"MASCULINO\",\n  IF(OR(LOWER(Tabla3[[#This Row],[SEXO]])=\"femenino\", LOWER(Tabla3[[#This Row],[SEXO]])=\"f\", LOWER(Tabla3[[#This Row],[SEXO]])=\"2\"), \"FEMENINO\",\n  \"\")), \"\")","v":""},0,null,null,null,0]
[{"$f":"IF(Tabla3[[#This Row],[APELLIDOS Y NOMBRES]]>0,ROW()-14,\"\")","v":""},{"$f":"IFERROR(IF(Tabla3[[#This Row],[APELLIDOS Y NOMBRES]]>0,VLOOKUP($H$7,DATA!$A$79:$B$160,2,FALSE),\"\"),\"\")","v":""},null,null,null,null,null,{"$f":"((NOW()-Tabla3[[#This Row],[FECHA DE NACIMIENTO]])/365)-0.5","v":124.79767625317098},null,null,null,null,null,null,null,null,null,null,null,null,null,null,null,null,null,null,null,null,null,null,null,null,null,null,null,null,null,null,null,null,null,null,null,null,null,"",null,{"$f":"IFERROR(IF(OR(LOWER(Tabla3[[#This Row],[SEXO]])=\"masculino\", LOWER(Tabla3[[#This Row],[SEXO]])=\"m\", LOWER(Tabla3[[#This Row],[SEXO]])=\"1\"), \"MASCULINO\",\n  IF(OR(LOWER(Tabla3[[#This Row],[SEXO]])=\"femenino\", LOWER(Tabla3[[#This Row],[SEXO]])=\"f\", LOWER(Tabla3[[#This Row],[SEXO]])=\"2\"), \"FEMENINO\",\n  \"\")), \"\")","v":""},0,null,null,null,0]
[{"$f":"IF(Tabla3[[#This Row],[APELLIDOS Y NOMBRES]]>0,ROW()-14,\"\")","v":""},{"$f":"IFERROR(IF(Tabla3[[#This Row],[APELLIDOS Y NOMBRES]]>0,VLOOKUP($H$7,DATA!$A$79:$B$160,2,FALSE),\"\"),\"\")","v":""},null,null,null,null,null,{"$f":"((NOW()-Tabla3[[#This Row],[FECHA DE NACIMIENTO]])/365)-0.5","v":124.79767625317098},null,null,null,null,null,null,null,null,null,null,null,null,null,null,null,null,null,null,null,null,null,null,null,null,null,null,null,null,null,null,null,null,null,null,null,null,null,"",null,{"$f":"IFERROR(IF(OR(LOWER(Tabla3[[#This Row],[SEXO]])=\"masculino\", LOWER(Tabla3[[#This Row],[SEXO]])=\"m\", LOWER(Tabla3[[#This Row],[SEXO]])=\"1\"), \"MASCULINO\",\n  IF(OR(LOWER(Tabla3[[#This Row],[SEXO]])=\"femenino\", LOWER(Tabla3[[#This Row],[SEXO]])=\"f\", LOWER(Tabla3[[#This Row],[SEXO]])=\"2\"), \"FEMENINO\",\n  \"\")), \"\")","v":""},0,null,null,null,0]
[{"$f":"IF(Tabla3[[#This Row],[APELLIDOS Y NOMBRES]]>0,ROW()-14,\"\")","v":""},{"$f":"IFERROR(IF(Tabla3[[#This Row],[APELLIDOS Y NOMBRES]]>0,VLOOKUP($H$7,DATA!$A$79:$B$160,2,FALSE),\"\"),\"\")","v":""},null,null,null,null,null,{"$f":"((NOW()-Tabla3[[#This Row],[FECHA DE NACIMIENTO]])/365)-0.5","v":124.79767625317098},null,null,null,null,null,null,null,null,null,null,null,null,null,null,null,null,null,null,null,null,null,null,null,null,null,null,null,null,null,null,null,null,null,null,null,null,null,"",null,{"$f":"IFERROR(IF(OR(LOWER(Tabla3[[#This Row],[SEXO]])=\"masculino\", LOWER(Tabla3[[#This Row],[SEXO]])=\"m\", LOWER(Tabla3[[#This Row],[SEXO]])=\"1\"), \"MASCULINO\",\n  IF(OR(LOWER(Tabla3[[#This Row],[SEXO]])=\"femenino\", LOWER(Tabla3[[#This Row],[SEXO]])=\"f\", LOWER(Tabla3[[#This Row],[SEXO]])=\"2\"), \"FEMENINO\",\n  \"\")), \"\")","v":""},0,null,null,null,0]
[{"$f":"IF(Tabla3[[#This Row],[APELLIDOS Y NOMBRES]]>0,ROW()-14,\"\")","v":""},{"$f":"IFERROR(IF(Tabla3[[#This Row],[APELLIDOS Y NOMBRES]]>0,VLOOKUP($H$7,DATA!$A$79:$B$160,2,FALSE),\"\"),\"\")","v":""},null,null,null,null,null,{"$f":"((NOW()-Tabla3[[#This Row],[FECHA DE NACIMIENTO]])/365)-0.5","v":124.79767625317098},null,null,null,null,null,null,null,null,null,null,null,null,null,null,null,null,null,null,null,null,null,null,null,null,null,null,null,null,null,null,null,null,null,null,null,null,null,"",null,{"$f":"IFERROR(IF(OR(LOWER(Tabla3[[#This Row],[SEXO]])=\"masculino\", LOWER(Tabla3[[#This Row],[SEXO]])=\"m\", LOWER(Tabla3[[#This Row],[SEXO]])=\"1\"), \"MASCULINO\",\n  IF(OR(LOWER(Tabla3[[#This Row],[SEXO]])=\"femenino\", LOWER(Tabla3[[#This Row],[SEXO]])=\"f\", LOWER(Tabla3[[#This Row],[SEXO]])=\"2\"), \"FEMENINO\",\n  \"\")), \"\")","v":""},0,null,null,null,0]
[{"$f":"IF(Tabla3[[#This Row],[APELLIDOS Y NOMBRES]]>0,ROW()-14,\"\")","v":""},{"$f":"IFERROR(IF(Tabla3[[#This Row],[APELLIDOS Y NOMBRES]]>0,VLOOKUP($H$7,DATA!$A$79:$B$160,2,FALSE),\"\"),\"\")","v":""},null,null,null,null,null,{"$f":"((NOW()-Tabla3[[#This Row],[FECHA DE NACIMIENTO]])/365)-0.5","v":124.79767625317098},null,null,null,null,null,null,null,null,null,null,null,null,null,null,null,null,null,null,null,null,null,null,null,null,null,null,null,null,null,null,null,null,null,null,null,null,null,"",null,{"$f":"IFERROR(IF(OR(LOWER(Tabla3[[#This Row],[SEXO]])=\"masculino\", LOWER(Tabla3[[#This Row],[SEXO]])=\"m\", LOWER(Tabla3[[#This Row],[SEXO]])=\"1\"), \"MASCULINO\",\n  IF(OR(LOWER(Tabla3[[#This Row],[SEXO]])=\"femenino\", LOWER(Tabla3[[#This Row],[SEXO]])=\"f\", LOWER(Tabla3[[#This Row],[SEXO]])=\"2\"), \"FEMENINO\",\n  \"\")), \"\")","v":""},0,null,null,null,0]
[{"$f":"IF(Tabla3[[#This Row],[APELLIDOS Y NOMBRES]]>0,ROW()-14,\"\")","v":""},{"$f":"IFERROR(IF(Tabla3[[#This Row],[APELLIDOS Y NOMBRES]]>0,VLOOKUP($H$7,DATA!$A$79:$B$160,2,FALSE),\"\"),\"\")","v":""},null,null,null,null,null,{"$f":"((NOW()-Tabla3[[#This Row],[FECHA DE NACIMIENTO]])/365)-0.5","v":124.79767625317098},null,null,null,null,null,null,null,null,null,null,null,null,null,null,null,null,null,null,null,null,null,null,null,null,null,null,null,null,null,null,null,null,null,null,null,null,null,"",null,{"$f":"IFERROR(IF(OR(LOWER(Tabla3[[#This Row],[SEXO]])=\"masculino\", LOWER(Tabla3[[#This Row],[SEXO]])=\"m\", LOWER(Tabla3[[#This Row],[SEXO]])=\"1\"), \"MASCULINO\",\n  IF(OR(LOWER(Tabla3[[#This Row],[SEXO]])=\"femenino\", LOWER(Tabla3[[#This Row],[SEXO]])=\"f\", LOWER(Tabla3[[#This Row],[SEXO]])=\"2\"), \"FEMENINO\",\n  \"\")), \"\")","v":""},0,null,null,null,0]
[{"$f":"IF(Tabla3[[#This Row],[APELLIDOS Y NOMBRES]]>0,ROW()-14,\"\")","v":""},{"$f":"IFERROR(IF(Tabla3[[#This Row],[APELLIDOS Y NOMBRES]]>0,VLOOKUP($H$7,DATA!$A$79:$B$160,2,FALSE),\"\"),\"\")","v":""},null,null,null,null,null,{"$f":"((NOW()-Tabla3[[#This Row],[FECHA DE NACIMIENTO]])/365)-0.5","v":124.79767625317098},null,null,null,null,null,null,null,null,null,null,null,null,null,null,null,null,null,null,null,null,null,null,null,null,null,null,null,null,null,null,null,null,null,null,null,null,null,"",null,{"$f":"IFERROR(IF(OR(LOWER(Tabla3[[#This Row],[SEXO]])=\"masculino\", LOWER(Tabla3[[#This Row],[SEXO]])=\"m\", LOWER(Tabla3[[#This Row],[SEXO]])=\"1\"), \"MASCULINO\",\n  IF(OR(LOWER(Tabla3[[#This Row],[SEXO]])=\"femenino\", LOWER(Tabla3[[#This Row],[SEXO]])=\"f\", LOWER(Tabla3[[#This Row],[SEXO]])=\"2\"), \"FEMENINO\",\n  \"\")), \"\")","v":""},0,null,null,null,0]
[{"$f":"IF(Tabla3[[#This Row],[APELLIDOS Y NOMBRES]]>0,ROW()-14,\"\")","v":""},{"$f":"IFERROR(IF(Tabla3[[#This Row],[APELLIDOS Y NOMBRES]]>0,VLOOKUP($H$7,DATA!$A$79:$B$160,2,FALSE),\"\"),\"\")","v":""},null,null,null,null,null,{"$f":"((NOW()-Tabla3[[#This Row],[FECHA DE NACIMIENTO]])/365)-0.5","v":124.79767625317098},null,null,null,null,null,null,null,null,null,null,null,null,null,null,null,null,null,null,null,null,null,null,null,null,null,null,null,null,null,null,null,null,null,null,null,null,null,"",null,{"$f":"IFERROR(IF(OR(LOWER(Tabla3[[#This Row],[SEXO]])=\"masculino\", LOWER(Tabla3[[#This Row],[SEXO]])=\"m\", LOWER(Tabla3[[#This Row],[SEXO]])=\"1\"), \"MASCULINO\",\n  IF(OR(LOWER(Tabla3[[#This Row],[SEXO]])=\"femenino\", LOWER(Tabla3[[#This Row],[SEXO]])=\"f\", LOWER(Tabla3[[#This Row],[SEXO]])=\"2\"), \"FEMENINO\",\n  \"\")), \"\")","v":""},0,null,null,null,0]
[{"$f":"IF(Tabla3[[#This Row],[APELLIDOS Y NOMBRES]]>0,ROW()-14,\"\")","v":""},{"$f":"IFERROR(IF(Tabla3[[#This Row],[APELLIDOS Y NOMBRES]]>0,VLOOKUP($H$7,DATA!$A$79:$B$160,2,FALSE),\"\"),\"\")","v":""},null,null,null,null,null,{"$f":"((NOW()-Tabla3[[#This Row],[FECHA DE NACIMIENTO]])/365)-0.5","v":124.79767625317098},null,null,null,null,null,null,null,null,null,null,null,null,null,null,null,null,null,null,null,null,null,null,null,null,null,null,null,null,null,null,null,null,null,null,null,null,null,"",null,{"$f":"IFERROR(IF(OR(LOWER(Tabla3[[#This Row],[SEXO]])=\"masculino\", LOWER(Tabla3[[#This Row],[SEXO]])=\"m\", LOWER(Tabla3[[#This Row],[SEXO]])=\"1\"), \"MASCULINO\",\n  IF(OR(LOWER(Tabla3[[#This Row],[SEXO]])=\"femenino\", LOWER(Tabla3[[#This Row],[SEXO]])=\"f\", LOWER(Tabla3[[#This Row],[SEXO]])=\"2\"), \"FEMENINO\",\n  \"\")), \"\")","v":""},0,null,null,null,0]
[{"$f":"IF(Tabla3[[#This Row],[APELLIDOS Y NOMBRES]]>0,ROW()-14,\"\")","v":""},{"$f":"IFERROR(IF(Tabla3[[#This Row],[APELLIDOS Y NOMBRES]]>0,VLOOKUP($H$7,DATA!$A$79:$B$160,2,FALSE),\"\"),\"\")","v":""},null,null,null,null,null,{"$f":"((NOW()-Tabla3[[#This Row],[FECHA DE NACIMIENTO]])/365)-0.5","v":124.79767625317098},null,null,null,null,null,null,null,null,null,null,null,null,null,null,null,null,null,null,null,null,null,null,null,null,null,null,null,null,null,null,null,null,null,null,null,null,null,"",null,{"$f":"IFERROR(IF(OR(LOWER(Tabla3[[#This Row],[SEXO]])=\"masculino\", LOWER(Tabla3[[#This Row],[SEXO]])=\"m\", LOWER(Tabla3[[#This Row],[SEXO]])=\"1\"), \"MASCULINO\",\n  IF(OR(LOWER(Tabla3[[#This Row],[SEXO]])=\"femenino\", LOWER(Tabla3[[#This Row],[SEXO]])=\"f\", LOWER(Tabla3[[#This Row],[SEXO]])=\"2\"), \"FEMENINO\",\n  \"\")), \"\")","v":""},0,null,null,null,0]
[{"$f":"IF(Tabla3[[#This Row],[APELLIDOS Y NOMBRES]]>0,ROW()-14,\"\")","v":""},{"$f":"IFERROR(IF(Tabla3[[#This Row],[APELLIDOS Y NOMBRES]]>0,VLOOKUP($H$7,DATA!$A$79:$B$160,2,FALSE),\"\"),\"\")","v":""},null,null,null,null,null,{"$f":"((NOW()-Tabla3[[#This Row],[FECHA DE NACIMIENTO]])/365)-0.5","v":124.79767625317098},null,null,null,null,null,null,null,null,null,null,null,null,null,null,null,null,null,null,null,null,null,null,null,null,null,null,null,null,null,null,null,null,null,null,null,null,null,"",null,{"$f":"IFERROR(IF(OR(LOWER(Tabla3[[#This Row],[SEXO]])=\"masculino\", LOWER(Tabla3[[#This Row],[SEXO]])=\"m\", LOWER(Tabla3[[#This Row],[SEXO]])=\"1\"), \"MASCULINO\",\n  IF(OR(LOWER(Tabla3[[#This Row],[SEXO]])=\"femenino\", LOWER(Tabla3[[#This Row],[SEXO]])=\"f\", LOWER(Tabla3[[#This Row],[SEXO]])=\"2\"), \"FEMENINO\",\n  \"\")), \"\")","v":""},0,null,null,null,0]
[{"$f":"IF(Tabla3[[#This Row],[APELLIDOS Y NOMBRES]]>0,ROW()-14,\"\")","v":""},{"$f":"IFERROR(IF(Tabla3[[#This Row],[APELLIDOS Y NOMBRES]]>0,VLOOKUP($H$7,DATA!$A$79:$B$160,2,FALSE),\"\"),\"\")","v":""},null,null,null,null,null,{"$f":"((NOW()-Tabla3[[#This Row],[FECHA DE NACIMIENTO]])/365)-0.5","v":124.79767625317098},null,null,null,null,null,null,null,null,null,null,null,null,null,null,null,null,null,null,null,null,null,null,null,null,null,null,null,null,null,null,null,null,null,null,null,null,null,"",null,{"$f":"IFERROR(IF(OR(LOWER(Tabla3[[#This Row],[SEXO]])=\"masculino\", LOWER(Tabla3[[#This Row],[SEXO]])=\"m\", LOWER(Tabla3[[#This Row],[SEXO]])=\"1\"), \"MASCULINO\",\n  IF(OR(LOWER(Tabla3[[#This Row],[SEXO]])=\"femenino\", LOWER(Tabla3[[#This Row],[SEXO]])=\"f\", LOWER(Tabla3[[#This Row],[SEXO]])=\"2\"), \"FEMENINO\",\n  \"\")), \"\")","v":""},0,null,null,null,0]
[{"$f":"IF(Tabla3[[#This Row],[APELLIDOS Y NOMBRES]]>0,ROW()-14,\"\")","v":""},{"$f":"IFERROR(IF(Tabla3[[#This Row],[APELLIDOS Y NOMBRES]]>0,VLOOKUP($H$7,DATA!$A$79:$B$160,2,FALSE),\"\"),\"\")","v":""},null,null,null,null,null,{"$f":"((NOW()-Tabla3[[#This Row],[FECHA DE NACIMIENTO]])/365)-0.5","v":124.79767625317098},null,null,null,null,null,null,null,null,null,null,null,null,null,null,null,null,null,null,null,null,null,null,null,null,null,null,null,null,null,null,null,null,null,null,null,null,null,"",null,{"$f":"IFERROR(IF(OR(LOWER(Tabla3[[#This Row],[SEXO]])=\"masculino\", LOWER(Tabla3[[#This Row],[SEXO]])=\"m\", LOWER(Tabla3[[#This Row],[SEXO]])=\"1\"), \"MASCULINO\",\n  IF(OR(LOWER(Tabla3[[#This Row],[SEXO]])=\"femenino\", LOWER(Tabla3[[#This Row],[SEXO]])=\"f\", LOWER(Tabla3[[#This Row],[SEXO]])=\"2\"), \"FEMENINO\",\n  \"\")), \"\")","v":""},0,null,null,null,0]
[{"$f":"IF(Tabla3[[#This Row],[APELLIDOS Y NOMBRES]]>0,ROW()-14,\"\")","v":""},{"$f":"IFERROR(IF(Tabla3[[#This Row],[APELLIDOS Y NOMBRES]]>0,VLOOKUP($H$7,DATA!$A$79:$B$160,2,FALSE),\"\"),\"\")","v":""},null,null,null,null,null,{"$f":"((NOW()-Tabla3[[#This Row],[FECHA DE NACIMIENTO]])/365)-0.5","v":124.79767625317098},null,null,null,null,null,null,null,null,null,null,null,null,null,null,null,null,null,null,null,null,null,null,null,null,null,null,null,null,null,null,null,null,null,null,null,null,null,"",null,{"$f":"IFERROR(IF(OR(LOWER(Tabla3[[#This Row],[SEXO]])=\"masculino\", LOWER(Tabla3[[#This Row],[SEXO]])=\"m\", LOWER(Tabla3[[#This Row],[SEXO]])=\"1\"), \"MASCULINO\",\n  IF(OR(LOWER(Tabla3[[#This Row],[SEXO]])=\"femenino\", LOWER(Tabla3[[#This Row],[SEXO]])=\"f\", LOWER(Tabla3[[#This Row],[SEXO]])=\"2\"), \"FEMENINO\",\n  \"\")), \"\")","v":""},0,null,null,null,0]
[{"$f":"IF(Tabla3[[#This Row],[APELLIDOS Y NOMBRES]]>0,ROW()-14,\"\")","v":""},{"$f":"IFERROR(IF(Tabla3[[#This Row],[APELLIDOS Y NOMBRES]]>0,VLOOKUP($H$7,DATA!$A$79:$B$160,2,FALSE),\"\"),\"\")","v":""},null,null,null,null,null,{"$f":"((NOW()-Tabla3[[#This Row],[FECHA DE NACIMIENTO]])/365)-0.5","v":124.79767625317098},null,null,null,null,null,null,null,null,null,null,null,null,null,null,null,null,null,null,null,null,null,null,null,null,null,null,null,null,null,null,null,null,null,null,null,null,null,"",null,{"$f":"IFERROR(IF(OR(LOWER(Tabla3[[#This Row],[SEXO]])=\"masculino\", LOWER(Tabla3[[#This Row],[SEXO]])=\"m\", LOWER(Tabla3[[#This Row],[SEXO]])=\"1\"), \"MASCULINO\",\n  IF(OR(LOWER(Tabla3[[#This Row],[SEXO]])=\"femenino\", LOWER(Tabla3[[#This Row],[SEXO]])=\"f\", LOWER(Tabla3[[#This Row],[SEXO]])=\"2\"), \"FEMENINO\",\n  \"\")), \"\")","v":""},0,null,null,null,0]
[{"$f":"IF(Tabla3[[#This Row],[APELLIDOS Y NOMBRES]]>0,ROW()-14,\"\")","v":""},{"$f":"IFERROR(IF(Tabla3[[#This Row],[APELLIDOS Y NOMBRES]]>0,VLOOKUP($H$7,DATA!$A$79:$B$160,2,FALSE),\"\"),\"\")","v":""},null,null,null,null,null,{"$f":"((NOW()-Tabla3[[#This Row],[FECHA DE NACIMIENTO]])/365)-0.5","v":124.79767625317098},null,null,null,null,null,null,null,null,null,null,null,null,null,null,null,null,null,null,null,null,null,null,null,null,null,null,null,null,null,null,null,null,null,null,null,null,null,"",null,{"$f":"IFERROR(IF(OR(LOWER(Tabla3[[#This Row],[SEXO]])=\"masculino\", LOWER(Tabla3[[#This Row],[SEXO]])=\"m\", LOWER(Tabla3[[#This Row],[SEXO]])=\"1\"), \"MASCULINO\",\n  IF(OR(LOWER(Tabla3[[#This Row],[SEXO]])=\"femenino\", LOWER(Tabla3[[#This Row],[SEXO]])=\"f\", LOWER(Tabla3[[#This Row],[SEXO]])=\"2\"), \"FEMENINO\",\n  \"\")), \"\")","v":""},0,null,null,null,0]
[{"$f":"IF(Tabla3[[#This Row],[APELLIDOS Y NOMBRES]]>0,ROW()-14,\"\")","v":""},{"$f":"IFERROR(IF(Tabla3[[#This Row],[APELLIDOS Y NOMBRES]]>0,VLOOKUP($H$7,DATA!$A$79:$B$160,2,FALSE),\"\"),\"\")","v":""},null,null,null,null,null,{"$f":"((NOW()-Tabla3[[#This Row],[FECHA DE NACIMIENTO]])/365)-0.5","v":124.79767625317098},null,null,null,null,null,null,null,null,null,null,null,null,null,null,null,null,null,null,null,null,null,null,null,null,null,null,null,null,null,null,null,null,null,null,null,null,null,"",null,{"$f":"IFERROR(IF(OR(LOWER(Tabla3[[#This Row],[SEXO]])=\"masculino\", LOWER(Tabla3[[#This Row],[SEXO]])=\"m\", LOWER(Tabla3[[#This Row],[SEXO]])=\"1\"), \"MASCULINO\",\n  IF(OR(LOWER(Tabla3[[#This Row],[SEXO]])=\"femenino\", LOWER(Tabla3[[#This Row],[SEXO]])=\"f\", LOWER(Tabla3[[#This Row],[SEXO]])=\"2\"), \"FEMENINO\",\n  \"\")), \"\")","v":""},0,null,null,null,0]
[{"$f":"IF(Tabla3[[#This Row],[APELLIDOS Y NOMBRES]]>0,ROW()-14,\"\")","v":""},{"$f":"IFERROR(IF(Tabla3[[#This Row],[APELLIDOS Y NOMBRES]]>0,VLOOKUP($H$7,DATA!$A$79:$B$160,2,FALSE),\"\"),\"\")","v":""},null,null,null,null,null,{"$f":"((NOW()-Tabla3[[#This Row],[FECHA DE NACIMIENTO]])/365)-0.5","v":124.79767625317098},null,null,null,null,null,null,null,null,null,null,null,null,null,null,null,null,null,null,null,null,null,null,null,null,null,null,null,null,null,null,null,null,null,null,null,null,null,"",null,{"$f":"IFERROR(IF(OR(LOWER(Tabla3[[#This Row],[SEXO]])=\"masculino\", LOWER(Tabla3[[#This Row],[SEXO]])=\"m\", LOWER(Tabla3[[#This Row],[SEXO]])=\"1\"), \"MASCULINO\",\n  IF(OR(LOWER(Tabla3[[#This Row],[SEXO]])=\"femenino\", LOWER(Tabla3[[#This Row],[SEXO]])=\"f\", LOWER(Tabla3[[#This Row],[SEXO]])=\"2\"), \"FEMENINO\",\n  \"\")), \"\")","v":""},0,null,null,null,0]
[{"$f":"IF(Tabla3[[#This Row],[APELLIDOS Y NOMBRES]]>0,ROW()-14,\"\")","v":""},{"$f":"IFERROR(IF(Tabla3[[#This Row],[APELLIDOS Y NOMBRES]]>0,VLOOKUP($H$7,DATA!$A$79:$B$160,2,FALSE),\"\"),\"\")","v":""},null,null,null,null,null,{"$f":"((NOW()-Tabla3[[#This Row],[FECHA DE NACIMIENTO]])/365)-0.5","v":124.79767625317098},null,null,null,null,null,null,null,null,null,null,null,null,null,null,null,null,null,null,null,null,null,null,null,null,null,null,null,null,null,null,null,null,null,null,null,null,null,"",null,{"$f":"IFERROR(IF(OR(LOWER(Tabla3[[#This Row],[SEXO]])=\"masculino\", LOWER(Tabla3[[#This Row],[SEXO]])=\"m\", LOWER(Tabla3[[#This Row],[SEXO]])=\"1\"), \"MASCULINO\",\n  IF(OR(LOWER(Tabla3[[#This Row],[SEXO]])=\"femenino\", LOWER(Tabla3[[#This Row],[SEXO]])=\"f\", LOWER(Tabla3[[#This Row],[SEXO]])=\"2\"), \"FEMENINO\",\n  \"\")), \"\")","v":""},0,null,null,null,0]
[{"$f":"IF(Tabla3[[#This Row],[APELLIDOS Y NOMBRES]]>0,ROW()-14,\"\")","v":""},{"$f":"IFERROR(IF(Tabla3[[#This Row],[APELLIDOS Y NOMBRES]]>0,VLOOKUP($H$7,DATA!$A$79:$B$160,2,FALSE),\"\"),\"\")","v":""},null,null,null,null,null,{"$f":"((NOW()-Tabla3[[#This Row],[FECHA DE NACIMIENTO]])/365)-0.5","v":124.79767625317098},null,null,null,null,null,null,null,null,null,null,null,null,null,null,null,null,null,null,null,null,null,null,null,null,null,null,null,null,null,null,null,null,null,null,null,null,null,"",null,{"$f":"IFERROR(IF(OR(LOWER(Tabla3[[#This Row],[SEXO]])=\"masculino\", LOWER(Tabla3[[#This Row],[SEXO]])=\"m\", LOWER(Tabla3[[#This Row],[SEXO]])=\"1\"), \"MASCULINO\",\n  IF(OR(LOWER(Tabla3[[#This Row],[SEXO]])=\"femenino\", LOWER(Tabla3[[#This Row],[SEXO]])=\"f\", LOWER(Tabla3[[#This Row],[SEXO]])=\"2\"), \"FEMENINO\",\n  \"\")), \"\")","v":""},0,null,null,null,0]
[{"$f":"IF(Tabla3[[#This Row],[APELLIDOS Y NOMBRES]]>0,ROW()-14,\"\")","v":""},{"$f":"IFERROR(IF(Tabla3[[#This Row],[APELLIDOS Y NOMBRES]]>0,VLOOKUP($H$7,DATA!$A$79:$B$160,2,FALSE),\"\"),\"\")","v":""},null,null,null,null,null,{"$f":"((NOW()-Tabla3[[#This Row],[FECHA DE NACIMIENTO]])/365)-0.5","v":124.79767625317098},null,null,null,null,null,null,null,null,null,null,null,null,null,null,null,null,null,null,null,null,null,null,null,null,null,null,null,null,null,null,null,null,null,null,null,null,null,"",null,{"$f":"IFERROR(IF(OR(LOWER(Tabla3[[#This Row],[SEXO]])=\"masculino\", LOWER(Tabla3[[#This Row],[SEXO]])=\"m\", LOWER(Tabla3[[#This Row],[SEXO]])=\"1\"), \"MASCULINO\",\n  IF(OR(LOWER(Tabla3[[#This Row],[SEXO]])=\"femenino\", LOWER(Tabla3[[#This Row],[SEXO]])=\"f\", LOWER(Tabla3[[#This Row],[SEXO]])=\"2\"), \"FEMENINO\",\n  \"\")), \"\")","v":""},0,null,null,null,0]
[{"$f":"IF(Tabla3[[#This Row],[APELLIDOS Y NOMBRES]]>0,ROW()-14,\"\")","v":""},{"$f":"IFERROR(IF(Tabla3[[#This Row],[APELLIDOS Y NOMBRES]]>0,VLOOKUP($H$7,DATA!$A$79:$B$160,2,FALSE),\"\"),\"\")","v":""},null,null,null,null,null,{"$f":"((NOW()-Tabla3[[#This Row],[FECHA DE NACIMIENTO]])/365)-0.5","v":124.79767625317098},null,null,null,null,null,null,null,null,null,null,null,null,null,null,null,null,null,null,null,null,null,null,null,null,null,null,null,null,null,null,null,null,null,null,null,null,null,"",null,{"$f":"IFERROR(IF(OR(LOWER(Tabla3[[#This Row],[SEXO]])=\"masculino\", LOWER(Tabla3[[#This Row],[SEXO]])=\"m\", LOWER(Tabla3[[#This Row],[SEXO]])=\"1\"), \"MASCULINO\",\n  IF(OR(LOWER(Tabla3[[#This Row],[SEXO]])=\"femenino\", LOWER(Tabla3[[#This Row],[SEXO]])=\"f\", LOWER(Tabla3[[#This Row],[SEXO]])=\"2\"), \"FEMENINO\",\n  \"\")), \"\")","v":""},0,null,null,null,0]
[{"$f":"IF(Tabla3[[#This Row],[APELLIDOS Y NOMBRES]]>0,ROW()-14,\"\")","v":""},{"$f":"IFERROR(IF(Tabla3[[#This Row],[APELLIDOS Y NOMBRES]]>0,VLOOKUP($H$7,DATA!$A$79:$B$160,2,FALSE),\"\"),\"\")","v":""},null,null,null,null,null,{"$f":"((NOW()-Tabla3[[#This Row],[FECHA DE NACIMIENTO]])/365)-0.5","v":124.79767625317098},null,null,null,null,null,null,null,null,null,null,null,null,null,null,null,null,null,null,null,null,null,null,null,null,null,null,null,null,null,null,null,null,null,null,null,null,null,{"$f":"IF(OR($C$5=\"\", $D144=\"\"), \"\", $C$5)","v":""},null,{"$f":"IFERROR(IF(OR(LOWER(Tabla3[[#This Row],[SEXO]])=\"masculino\", LOWER(Tabla3[[#This Row],[SEXO]])=\"m\", LOWER(Tabla3[[#This Row],[SEXO]])=\"1\"), \"MASCULINO\",\n  IF(OR(LOWER(Tabla3[[#This Row],[SEXO]])=\"femenino\", LOWER(Tabla3[[#This Row],[SEXO]])=\"f\", LOWER(Tabla3[[#This Row],[SEXO]])=\"2\"), \"FEMENINO\",\n  \"\")), \"\")","v":""},{"$f":"COUNTIF(P144:AH144,104)","v":0},null,null,null,{"$f":"IF(COUNTIF(P144:AI144,104)>0,1,0)","v":0}]
[{"$f":"IF(Tabla3[[#This Row],[APELLIDOS Y NOMBRES]]>0,ROW()-14,\"\")","v":""},{"$f":"IFERROR(IF(Tabla3[[#This Row],[APELLIDOS Y NOMBRES]]>0,VLOOKUP($H$7,DATA!$A$79:$B$160,2,FALSE),\"\"),\"\")","v":""},null,null,null,null,null,{"$f":"((NOW()-Tabla3[[#This Row],[FECHA DE NACIMIENTO]])/365)-0.5","v":124.79767625317098},null,null,null,null,null,null,null,null,null,null,null,null,null,null,null,null,null,null,null,null,null,null,null,null,null,null,null,null,null,null,null,null,null,null,null,null,null,"",null,{"$f":"IFERROR(IF(OR(LOWER(Tabla3[[#This Row],[SEXO]])=\"masculino\", LOWER(Tabla3[[#This Row],[SEXO]])=\"m\", LOWER(Tabla3[[#This Row],[SEXO]])=\"1\"), \"MASCULINO\",\n  IF(OR(LOWER(Tabla3[[#This Row],[SEXO]])=\"femenino\", LOWER(Tabla3[[#This Row],[SEXO]])=\"f\", LOWER(Tabla3[[#This Row],[SEXO]])=\"2\"), \"FEMENINO\",\n  \"\")), \"\")","v":""},0,null,null,null,0]
[{"$f":"IF(Tabla3[[#This Row],[APELLIDOS Y NOMBRES]]>0,ROW()-14,\"\")","v":""},{"$f":"IFERROR(IF(Tabla3[[#This Row],[APELLIDOS Y NOMBRES]]>0,VLOOKUP($H$7,DATA!$A$79:$B$160,2,FALSE),\"\"),\"\")","v":""},null,null,null,null,null,{"$f":"((NOW()-Tabla3[[#This Row],[FECHA DE NACIMIENTO]])/365)-0.5","v":124.79767625317098},null,null,null,null,null,null,null,null,null,null,null,null,null,null,null,null,null,null,null,null,null,null,null,null,null,null,null,null,null,null,null,null,null,null,null,null,null,"",null,{"$f":"IFERROR(IF(OR(LOWER(Tabla3[[#This Row],[SEXO]])=\"masculino\", LOWER(Tabla3[[#This Row],[SEXO]])=\"m\", LOWER(Tabla3[[#This Row],[SEXO]])=\"1\"), \"MASCULINO\",\n  IF(OR(LOWER(Tabla3[[#This Row],[SEXO]])=\"femenino\", LOWER(Tabla3[[#This Row],[SEXO]])=\"f\", LOWER(Tabla3[[#This Row],[SEXO]])=\"2\"), \"FEMENINO\",\n  \"\")), \"\")","v":""},0,null,null,null,0]
[{"$f":"IF(Tabla3[[#This Row],[APELLIDOS Y NOMBRES]]>0,ROW()-14,\"\")","v":""},{"$f":"IFERROR(IF(Tabla3[[#This Row],[APELLIDOS Y NOMBRES]]>0,VLOOKUP($H$7,DATA!$A$79:$B$160,2,FALSE),\"\"),\"\")","v":""},null,null,null,null,null,{"$f":"((NOW()-Tabla3[[#This Row],[FECHA DE NACIMIENTO]])/365)-0.5","v":124.79767625317098},null,null,null,null,null,null,null,null,null,null,null,null,null,null,null,null,null,null,null,null,null,null,null,null,null,null,null,null,null,null,null,null,null,null,null,null,null,"",null,{"$f":"IFERROR(IF(OR(LOWER(Tabla3[[#This Row],[SEXO]])=\"masculino\", LOWER(Tabla3[[#This Row],[SEXO]])=\"m\", LOWER(Tabla3[[#This Row],[SEXO]])=\"1\"), \"MASCULINO\",\n  IF(OR(LOWER(Tabla3[[#This Row],[SEXO]])=\"femenino\", LOWER(Tabla3[[#This Row],[SEXO]])=\"f\", LOWER(Tabla3[[#This Row],[SEXO]])=\"2\"), \"FEMENINO\",\n  \"\")), \"\")","v":""},0,null,null,null,0]
[{"$f":"IF(Tabla3[[#This Row],[APELLIDOS Y NOMBRES]]>0,ROW()-14,\"\")","v":""},{"$f":"IFERROR(IF(Tabla3[[#This Row],[APELLIDOS Y NOMBRES]]>0,VLOOKUP($H$7,DATA!$A$79:$B$160,2,FALSE),\"\"),\"\")","v":""},null,null,null,null,null,{"$f":"((NOW()-Tabla3[[#This Row],[FECHA DE NACIMIENTO]])/365)-0.5","v":124.79767625317098},null,null,null,null,null,null,null,null,null,null,null,null,null,null,null,null,null,null,null,null,null,null,null,null,null,null,null,null,null,null,null,null,null,null,null,null,null,"",null,{"$f":"IFERROR(IF(OR(LOWER(Tabla3[[#This Row],[SEXO]])=\"masculino\", LOWER(Tabla3[[#This Row],[SEXO]])=\"m\", LOWER(Tabla3[[#This Row],[SEXO]])=\"1\"), \"MASCULINO\",\n  IF(OR(LOWER(Tabla3[[#This Row],[SEXO]])=\"femenino\", LOWER(Tabla3[[#This Row],[SEXO]])=\"f\", LOWER(Tabla3[[#This Row],[SEXO]])=\"2\"), \"FEMENINO\",\n  \"\")), \"\")","v":""},0,null,null,null,0]
[{"$f":"IF(Tabla3[[#This Row],[APELLIDOS Y NOMBRES]]>0,ROW()-14,\"\")","v":""},{"$f":"IFERROR(IF(Tabla3[[#This Row],[APELLIDOS Y NOMBRES]]>0,VLOOKUP($H$7,DATA!$A$79:$B$160,2,FALSE),\"\"),\"\")","v":""},null,null,null,null,null,{"$f":"((NOW()-Tabla3[[#This Row],[FECHA DE NACIMIENTO]])/365)-0.5","v":124.79767625317098},null,null,null,null,null,null,null,null,null,null,null,null,null,null,null,null,null,null,null,null,null,null,null,null,null,null,null,null,null,null,null,null,null,null,null,null,null,"",null,{"$f":"IFERROR(IF(OR(LOWER(Tabla3[[#This Row],[SEXO]])=\"masculino\", LOWER(Tabla3[[#This Row],[SEXO]])=\"m\", LOWER(Tabla3[[#This Row],[SEXO]])=\"1\"), \"MASCULINO\",\n  IF(OR(LOWER(Tabla3[[#This Row],[SEXO]])=\"femenino\", LOWER(Tabla3[[#This Row],[SEXO]])=\"f\", LOWER(Tabla3[[#This Row],[SEXO]])=\"2\"), \"FEMENINO\",\n  \"\")), \"\")","v":""},0,null,null,null,0]
[{"$f":"IF(Tabla3[[#This Row],[APELLIDOS Y NOMBRES]]>0,ROW()-14,\"\")","v":""},{"$f":"IFERROR(IF(Tabla3[[#This Row],[APELLIDOS Y NOMBRES]]>0,VLOOKUP($H$7,DATA!$A$79:$B$160,2,FALSE),\"\"),\"\")","v":""},null,null,null,null,null,{"$f":"((NOW()-Tabla3[[#This Row],[FECHA DE NACIMIENTO]])/365)-0.5","v":124.79767625317098},null,null,null,null,null,null,null,null,null,null,null,null,null,null,null,null,null,null,null,null,null,null,null,null,null,null,null,null,null,null,null,null,null,null,null,null,null,"",null,{"$f":"IFERROR(IF(OR(LOWER(Tabla3[[#This Row],[SEXO]])=\"masculino\", LOWER(Tabla3[[#This Row],[SEXO]])=\"m\", LOWER(Tabla3[[#This Row],[SEXO]])=\"1\"), \"MASCULINO\",\n  IF(OR(LOWER(Tabla3[[#This Row],[SEXO]])=\"femenino\", LOWER(Tabla3[[#This Row],[SEXO]])=\"f\", LOWER(Tabla3[[#This Row],[SEXO]])=\"2\"), \"FEMENINO\",\n  \"\")), \"\")","v":""},0,null,null,null,0]
[{"$f":"IF(Tabla3[[#This Row],[APELLIDOS Y NOMBRES]]>0,ROW()-14,\"\")","v":""},{"$f":"IFERROR(IF(Tabla3[[#This Row],[APELLIDOS Y NOMBRES]]>0,VLOOKUP($H$7,DATA!$A$79:$B$160,2,FALSE),\"\"),\"\")","v":""},null,null,null,null,null,{"$f":"((NOW()-Tabla3[[#This Row],[FECHA DE NACIMIENTO]])/365)-0.5","v":124.79767625317098},null,null,null,null,null,null,null,null,null,null,null,null,null,null,null,null,null,null,null,null,null,null,null,null,null,null,null,null,null,null,null,null,null,null,null,null,null,"",null,{"$f":"IFERROR(IF(OR(LOWER(Tabla3[[#This Row],[SEXO]])=\"masculino\", LOWER(Tabla3[[#This Row],[SEXO]])=\"m\", LOWER(Tabla3[[#This Row],[SEXO]])=\"1\"), \"MASCULINO\",\n  IF(OR(LOWER(Tabla3[[#This Row],[SEXO]])=\"femenino\", LOWER(Tabla3[[#This Row],[SEXO]])=\"f\", LOWER(Tabla3[[#This Row],[SEXO]])=\"2\"), \"FEMENINO\",\n  \"\")), \"\")","v":""},0,null,null,null,0]
[{"$f":"IF(Tabla3[[#This Row],[APELLIDOS Y NOMBRES]]>0,ROW()-14,\"\")","v":""},{"$f":"IFERROR(IF(Tabla3[[#This Row],[APELLIDOS Y NOMBRES]]>0,VLOOKUP($H$7,DATA!$A$79:$B$160,2,FALSE),\"\"),\"\")","v":""},null,null,null,null,null,{"$f":"((NOW()-Tabla3[[#This Row],[FECHA DE NACIMIENTO]])/365)-0.5","v":124.79767625317098},null,null,null,null,null,null,null,null,null,null,null,null,null,null,null,null,null,null,null,null,null,null,null,null,null,null,null,null,null,null,null,null,null,null,null,null,null,"",null,{"$f":"IFERROR(IF(OR(LOWER(Tabla3[[#This Row],[SEXO]])=\"masculino\", LOWER(Tabla3[[#This Row],[SEXO]])=\"m\", LOWER(Tabla3[[#This Row],[SEXO]])=\"1\"), \"MASCULINO\",\n  IF(OR(LOWER(Tabla3[[#This Row],[SEXO]])=\"femenino\", LOWER(Tabla3[[#This Row],[SEXO]])=\"f\", LOWER(Tabla3[[#This Row],[SEXO]])=\"2\"), \"FEMENINO\",\n  \"\")), \"\")","v":""},0,null,null,null,0]
[{"$f":"IF(Tabla3[[#This Row],[APELLIDOS Y NOMBRES]]>0,ROW()-14,\"\")","v":""},{"$f":"IFERROR(IF(Tabla3[[#This Row],[APELLIDOS Y NOMBRES]]>0,VLOOKUP($H$7,DATA!$A$79:$B$160,2,FALSE),\"\"),\"\")","v":""},null,null,null,null,null,{"$f":"((NOW()-Tabla3[[#This Row],[FECHA DE NACIMIENTO]])/365)-0.5","v":124.79767625317098},null,null,null,null,null,null,null,null,null,null,null,null,null,null,null,null,null,null,null,null,null,null,null,null,null,null,null,null,null,null,null,null,null,null,null,null,null,"",null,{"$f":"IFERROR(IF(OR(LOWER(Tabla3[[#This Row],[SEXO]])=\"masculino\", LOWER(Tabla3[[#This Row],[SEXO]])=\"m\", LOWER(Tabla3[[#This Row],[SEXO]])=\"1\"), \"MASCULINO\",\n  IF(OR(LOWER(Tabla3[[#This Row],[SEXO]])=\"femenino\", LOWER(Tabla3[[#This Row],[SEXO]])=\"f\", LOWER(Tabla3[[#This Row],[SEXO]])=\"2\"), \"FEMENINO\",\n  \"\")), \"\")","v":""},0,null,null,null,0]
[{"$f":"IF(Tabla3[[#This Row],[APELLIDOS Y NOMBRES]]>0,ROW()-14,\"\")","v":""},{"$f":"IFERROR(IF(Tabla3[[#This Row],[APELLIDOS Y NOMBRES]]>0,VLOOKUP($H$7,DATA!$A$79:$B$160,2,FALSE),\"\"),\"\")","v":""},null,null,null,null,null,{"$f":"((NOW()-Tabla3[[#This Row],[FECHA DE NACIMIENTO]])/365)-0.5","v":124.79767625317098},null,null,null,null,null,null,null,null,null,null,null,null,null,null,null,null,null,null,null,null,null,null,null,null,null,null,null,null,null,null,null,null,null,null,null,null,null,"",null,{"$f":"IFERROR(IF(OR(LOWER(Tabla3[[#This Row],[SEXO]])=\"masculino\", LOWER(Tabla3[[#This Row],[SEXO]])=\"m\", LOWER(Tabla3[[#This Row],[SEXO]])=\"1\"), \"MASCULINO\",\n  IF(OR(LOWER(Tabla3[[#This Row],[SEXO]])=\"femenino\", LOWER(Tabla3[[#This Row],[SEXO]])=\"f\", LOWER(Tabla3[[#This Row],[SEXO]])=\"2\"), \"FEMENINO\",\n  \"\")), \"\")","v":""},0,null,null,null,0]
[{"$f":"IF(Tabla3[[#This Row],[APELLIDOS Y NOMBRES]]>0,ROW()-14,\"\")","v":""},{"$f":"IFERROR(IF(Tabla3[[#This Row],[APELLIDOS Y NOMBRES]]>0,VLOOKUP($H$7,DATA!$A$79:$B$160,2,FALSE),\"\"),\"\")","v":""},null,null,null,null,null,{"$f":"((NOW()-Tabla3[[#This Row],[FECHA DE NACIMIENTO]])/365)-0.5","v":124.79767625317098},null,null,null,null,null,null,null,null,null,null,null,null,null,null,null,null,null,null,null,null,null,null,null,null,null,null,null,null,null,null,null,null,null,null,null,null,null,"",null,{"$f":"IFERROR(IF(OR(LOWER(Tabla3[[#This Row],[SEXO]])=\"masculino\", LOWER(Tabla3[[#This Row],[SEXO]])=\"m\", LOWER(Tabla3[[#This Row],[SEXO]])=\"1\"), \"MASCULINO\",\n  IF(OR(LOWER(Tabla3[[#This Row],[SEXO]])=\"femenino\", LOWER(Tabla3[[#This Row],[SEXO]])=\"f\", LOWER(Tabla3[[#This Row],[SEXO]])=\"2\"), \"FEMENINO\",\n  \"\")), \"\")","v":""},0,null,null,null,0]
[{"$f":"IF(Tabla3[[#This Row],[APELLIDOS Y NOMBRES]]>0,ROW()-14,\"\")","v":""},{"$f":"IFERROR(IF(Tabla3[[#This Row],[APELLIDOS Y NOMBRES]]>0,VLOOKUP($H$7,DATA!$A$79:$B$160,2,FALSE),\"\"),\"\")","v":""},null,null,null,null,null,{"$f":"((NOW()-Tabla3[[#This Row],[FECHA DE NACIMIENTO]])/365)-0.5","v":124.79767625317098},null,null,null,null,null,null,null,null,null,null,null,null,null,null,null,null,null,null,null,null,null,null,null,null,null,null,null,null,null,null,null,null,null,null,null,null,null,"",null,{"$f":"IFERROR(IF(OR(LOWER(Tabla3[[#This Row],[SEXO]])=\"masculino\", LOWER(Tabla3[[#This Row],[SEXO]])=\"m\", LOWER(Tabla3[[#This Row],[SEXO]])=\"1\"), \"MASCULINO\",\n  IF(OR(LOWER(Tabla3[[#This Row],[SEXO]])=\"femenino\", LOWER(Tabla3[[#This Row],[SEXO]])=\"f\", LOWER(Tabla3[[#This Row],[SEXO]])=\"2\"), \"FEMENINO\",\n  \"\")), \"\")","v":""},0,null,null,null,0]
[{"$f":"IF(Tabla3[[#This Row],[APELLIDOS Y NOMBRES]]>0,ROW()-14,\"\")","v":""},{"$f":"IFERROR(IF(Tabla3[[#This Row],[APELLIDOS Y NOMBRES]]>0,VLOOKUP($H$7,DATA!$A$79:$B$160,2,FALSE),\"\"),\"\")","v":""},null,null,null,null,null,{"$f":"((NOW()-Tabla3[[#This Row],[FECHA DE NACIMIENTO]])/365)-0.5","v":124.79767625317098},null,null,null,null,null,null,null,null,null,null,null,null,null,null,null,null,null,null,null,null,null,null,null,null,null,null,null,null,null,null,null,null,null,null,null,null,null,"",null,{"$f":"IFERROR(IF(OR(LOWER(Tabla3[[#This Row],[SEXO]])=\"masculino\", LOWER(Tabla3[[#This Row],[SEXO]])=\"m\", LOWER(Tabla3[[#This Row],[SEXO]])=\"1\"), \"MASCULINO\",\n  IF(OR(LOWER(Tabla3[[#This Row],[SEXO]])=\"femenino\", LOWER(Tabla3[[#This Row],[SEXO]])=\"f\", LOWER(Tabla3[[#This Row],[SEXO]])=\"2\"), \"FEMENINO\",\n  \"\")), \"\")","v":""},0,null,null,null,0]
[{"$f":"IF(Tabla3[[#This Row],[APELLIDOS Y NOMBRES]]>0,ROW()-14,\"\")","v":""},{"$f":"IFERROR(IF(Tabla3[[#This Row],[APELLIDOS Y NOMBRES]]>0,VLOOKUP($H$7,DATA!$A$79:$B$160,2,FALSE),\"\"),\"\")","v":""},null,null,null,null,null,{"$f":"((NOW()-Tabla3[[#This Row],[FECHA DE NACIMIENTO]])/365)-0.5","v":124.79767625317098},null,null,null,null,null,null,null,null,null,null,null,null,null,null,null,null,null,null,null,null,null,null,null,null,null,null,null,null,null,null,null,null,null,null,null,null,null,"",null,{"$f":"IFERROR(IF(OR(LOWER(Tabla3[[#This Row],[SEXO]])=\"masculino\", LOWER(Tabla3[[#This Row],[SEXO]])=\"m\", LOWER(Tabla3[[#This Row],[SEXO]])=\"1\"), \"MASCULINO\",\n  IF(OR(LOWER(Tabla3[[#This Row],[SEXO]])=\"femenino\", LOWER(Tabla3[[#This Row],[SEXO]])=\"f\", LOWER(Tabla3[[#This Row],[SEXO]])=\"2\"), \"FEMENINO\",\n  \"\")), \"\")","v":""},0,null,null,null,0]
[{"$f":"IF(Tabla3[[#This Row],[APELLIDOS Y NOMBRES]]>0,ROW()-14,\"\")","v":""},{"$f":"IFERROR(IF(Tabla3[[#This Row],[APELLIDOS Y NOMBRES]]>0,VLOOKUP($H$7,DATA!$A$79:$B$160,2,FALSE),\"\"),\"\")","v":""},null,null,null,null,null,{"$f":"((NOW()-Tabla3[[#This Row],[FECHA DE NACIMIENTO]])/365)-0.5","v":124.79767625317098},null,null,null,null,null,null,null,null,null,null,null,null,null,null,null,null,null,null,null,null,null,null,null,null,null,null,null,null,null,null,null,null,null,null,null,null,null,"",null,{"$f":"IFERROR(IF(OR(LOWER(Tabla3[[#This Row],[SEXO]])=\"masculino\", LOWER(Tabla3[[#This Row],[SEXO]])=\"m\", LOWER(Tabla3[[#This Row],[SEXO]])=\"1\"), \"MASCULINO\",\n  IF(OR(LOWER(Tabla3[[#This Row],[SEXO]])=\"femenino\", LOWER(Tabla3[[#This Row],[SEXO]])=\"f\", LOWER(Tabla3[[#This Row],[SEXO]])=\"2\"), \"FEMENINO\",\n  \"\")), \"\")","v":""},0,null,null,null,0]
[{"$f":"IF(Tabla3[[#This Row],[APELLIDOS Y NOMBRES]]>0,ROW()-14,\"\")","v":""},{"$f":"IFERROR(IF(Tabla3[[#This Row],[APELLIDOS Y NOMBRES]]>0,VLOOKUP($H$7,DATA!$A$79:$B$160,2,FALSE),\"\"),\"\")","v":""},null,null,null,null,null,{"$f":"((NOW()-Tabla3[[#This Row],[FECHA DE NACIMIENTO]])/365)-0.5","v":124.79767625317098},null,null,null,null,null,null,null,null,null,null,null,null,null,null,null,null,null,null,null,null,null,null,null,null,null,null,null,null,null,null,null,null,null,null,null,null,null,"",null,{"$f":"IFERROR(IF(OR(LOWER(Tabla3[[#This Row],[SEXO]])=\"masculino\", LOWER(Tabla3[[#This Row],[SEXO]])=\"m\", LOWER(Tabla3[[#This Row],[SEXO]])=\"1\"), \"MASCULINO\",\n  IF(OR(LOWER(Tabla3[[#This Row],[SEXO]])=\"femenino\", LOWER(Tabla3[[#This Row],[SEXO]])=\"f\", LOWER(Tabla3[[#This Row],[SEXO]])=\"2\"), \"FEMENINO\",\n  \"\")), \"\")","v":""},0,null,null,null,0]
[{"$f":"IF(Tabla3[[#This Row],[APELLIDOS Y NOMBRES]]>0,ROW()-14,\"\")","v":""},{"$f":"IFERROR(IF(Tabla3[[#This Row],[APELLIDOS Y NOMBRES]]>0,VLOOKUP($H$7,DATA!$A$79:$B$160,2,FALSE),\"\"),\"\")","v":""},null,null,null,null,null,{"$f":"((NOW()-Tabla3[[#This Row],[FECHA DE NACIMIENTO]])/365)-0.5","v":124.79767625317098},null,null,null,null,null,null,null,null,null,null,null,null,null,null,null,null,null,null,null,null,null,null,null,null,null,null,null,null,null,null,null,null,null,null,null,null,null,"",null,{"$f":"IFERROR(IF(OR(LOWER(Tabla3[[#This Row],[SEXO]])=\"masculino\", LOWER(Tabla3[[#This Row],[SEXO]])=\"m\", LOWER(Tabla3[[#This Row],[SEXO]])=\"1\"), \"MASCULINO\",\n  IF(OR(LOWER(Tabla3[[#This Row],[SEXO]])=\"femenino\", LOWER(Tabla3[[#This Row],[SEXO]])=\"f\", LOWER(Tabla3[[#This Row],[SEXO]])=\"2\"), \"FEMENINO\",\n  \"\")), \"\")","v":""},0,null,null,null,0]
[{"$f":"IF(Tabla3[[#This Row],[APELLIDOS Y NOMBRES]]>0,ROW()-14,\"\")","v":""},{"$f":"IFERROR(IF(Tabla3[[#This Row],[APELLIDOS Y NOMBRES]]>0,VLOOKUP($H$7,DATA!$A$79:$B$160,2,FALSE),\"\"),\"\")","v":""},null,null,null,null,null,{"$f":"((NOW()-Tabla3[[#This Row],[FECHA DE NACIMIENTO]])/365)-0.5","v":124.79767625317098},null,null,null,null,null,null,null,null,null,null,null,null,null,null,null,null,null,null,null,null,null,null,null,null,null,null,null,null,null,null,null,null,null,null,null,null,null,"",null,{"$f":"IFERROR(IF(OR(LOWER(Tabla3[[#This Row],[SEXO]])=\"masculino\", LOWER(Tabla3[[#This Row],[SEXO]])=\"m\", LOWER(Tabla3[[#This Row],[SEXO]])=\"1\"), \"MASCULINO\",\n  IF(OR(LOWER(Tabla3[[#This Row],[SEXO]])=\"femenino\", LOWER(Tabla3[[#This Row],[SEXO]])=\"f\", LOWER(Tabla3[[#This Row],[SEXO]])=\"2\"), \"FEMENINO\",\n  \"\")), \"\")","v":""},0,null,null,null,0]
[{"$f":"IF(Tabla3[[#This Row],[APELLIDOS Y NOMBRES]]>0,ROW()-14,\"\")","v":""},{"$f":"IFERROR(IF(Tabla3[[#This Row],[APELLIDOS Y NOMBRES]]>0,VLOOKUP($H$7,DATA!$A$79:$B$160,2,FALSE),\"\"),\"\")","v":""},null,null,null,null,null,{"$f":"((NOW()-Tabla3[[#This Row],[FECHA DE NACIMIENTO]])/365)-0.5","v":124.79767625317098},null,null,null,null,null,null,null,null,null,null,null,null,null,null,null,null,null,null,null,null,null,null,null,null,null,null,null,null,null,null,null,null,null,null,null,null,null,"",null,{"$f":"IFERROR(IF(OR(LOWER(Tabla3[[#This Row],[SEXO]])=\"masculino\", LOWER(Tabla3[[#This Row],[SEXO]])=\"m\", LOWER(Tabla3[[#This Row],[SEXO]])=\"1\"), \"MASCULINO\",\n  IF(OR(LOWER(Tabla3[[#This Row],[SEXO]])=\"femenino\", LOWER(Tabla3[[#This Row],[SEXO]])=\"f\", LOWER(Tabla3[[#This Row],[SEXO]])=\"2\"), \"FEMENINO\",\n  \"\")), \"\")","v":""},0,null,null,null,0]
[{"$f":"IF(Tabla3[[#This Row],[APELLIDOS Y NOMBRES]]>0,ROW()-14,\"\")","v":""},{"$f":"IFERROR(IF(Tabla3[[#This Row],[APELLIDOS Y NOMBRES]]>0,VLOOKUP($H$7,DATA!$A$79:$B$160,2,FALSE),\"\"),\"\")","v":""},null,null,null,null,null,{"$f":"((NOW()-Tabla3[[#This Row],[FECHA DE NACIMIENTO]])/365)-0.5","v":124.79767625317098},null,null,null,null,null,null,null,null,null,null,null,null,null,null,null,null,null,null,null,null,null,null,null,null,null,null,null,null,null,null,null,null,null,null,null,null,null,"",null,{"$f":"IFERROR(IF(OR(LOWER(Tabla3[[#This Row],[SEXO]])=\"masculino\", LOWER(Tabla3[[#This Row],[SEXO]])=\"m\", LOWER(Tabla3[[#This Row],[SEXO]])=\"1\"), \"MASCULINO\",\n  IF(OR(LOWER(Tabla3[[#This Row],[SEXO]])=\"femenino\", LOWER(Tabla3[[#This Row],[SEXO]])=\"f\", LOWER(Tabla3[[#This Row],[SEXO]])=\"2\"), \"FEMENINO\",\n  \"\")), \"\")","v":""},0,null,null,null,0]
[{"$f":"IF(Tabla3[[#This Row],[APELLIDOS Y NOMBRES]]>0,ROW()-14,\"\")","v":""},{"$f":"IFERROR(IF(Tabla3[[#This Row],[APELLIDOS Y NOMBRES]]>0,VLOOKUP($H$7,DATA!$A$79:$B$160,2,FALSE),\"\"),\"\")","v":""},null,null,null,null,null,{"$f":"((NOW()-Tabla3[[#This Row],[FECHA DE NACIMIENTO]])/365)-0.5","v":124.79767625317098},null,null,null,null,null,null,null,null,null,null,null,null,null,null,null,null,null,null,null,null,null,null,null,null,null,null,null,null,null,null,null,null,null,null,null,null,null,"",null,{"$f":"IFERROR(IF(OR(LOWER(Tabla3[[#This Row],[SEXO]])=\"masculino\", LOWER(Tabla3[[#This Row],[SEXO]])=\"m\", LOWER(Tabla3[[#This Row],[SEXO]])=\"1\"), \"MASCULINO\",\n  IF(OR(LOWER(Tabla3[[#This Row],[SEXO]])=\"femenino\", LOWER(Tabla3[[#This Row],[SEXO]])=\"f\", LOWER(Tabla3[[#This Row],[SEXO]])=\"2\"), \"FEMENINO\",\n  \"\")), \"\")","v":""},0,null,null,null,0]
[{"$f":"IF(Tabla3[[#This Row],[APELLIDOS Y NOMBRES]]>0,ROW()-14,\"\")","v":""},{"$f":"IFERROR(IF(Tabla3[[#This Row],[APELLIDOS Y NOMBRES]]>0,VLOOKUP($H$7,DATA!$A$79:$B$160,2,FALSE),\"\"),\"\")","v":""},null,null,null,null,null,{"$f":"((NOW()-Tabla3[[#This Row],[FECHA DE NACIMIENTO]])/365)-0.5","v":124.79767625317098},null,null,null,null,null,null,null,null,null,null,null,null,null,null,null,null,null,null,null,null,null,null,null,null,null,null,null,null,null,null,null,null,null,null,null,null,null,"",null,{"$f":"IFERROR(IF(OR(LOWER(Tabla3[[#This Row],[SEXO]])=\"masculino\", LOWER(Tabla3[[#This Row],[SEXO]])=\"m\", LOWER(Tabla3[[#This Row],[SEXO]])=\"1\"), \"MASCULINO\",\n  IF(OR(LOWER(Tabla3[[#This Row],[SEXO]])=\"femenino\", LOWER(Tabla3[[#This Row],[SEXO]])=\"f\", LOWER(Tabla3[[#This Row],[SEXO]])=\"2\"), \"FEMENINO\",\n  \"\")), \"\")","v":""},0,null,null,null,0]
[{"$f":"IF(Tabla3[[#This Row],[APELLIDOS Y NOMBRES]]>0,ROW()-14,\"\")","v":""},{"$f":"IFERROR(IF(Tabla3[[#This Row],[APELLIDOS Y NOMBRES]]>0,VLOOKUP($H$7,DATA!$A$79:$B$160,2,FALSE),\"\"),\"\")","v":""},null,null,null,null,null,{"$f":"((NOW()-Tabla3[[#This Row],[FECHA DE NACIMIENTO]])/365)-0.5","v":124.79767625317098},null,null,null,null,null,null,null,null,null,null,null,null,null,null,null,null,null,null,null,null,null,null,null,null,null,null,null,null,null,null,null,null,null,null,null,null,null,"",null,{"$f":"IFERROR(IF(OR(LOWER(Tabla3[[#This Row],[SEXO]])=\"masculino\", LOWER(Tabla3[[#This Row],[SEXO]])=\"m\", LOWER(Tabla3[[#This Row],[SEXO]])=\"1\"), \"MASCULINO\",\n  IF(OR(LOWER(Tabla3[[#This Row],[SEXO]])=\"femenino\", LOWER(Tabla3[[#This Row],[SEXO]])=\"f\", LOWER(Tabla3[[#This Row],[SEXO]])=\"2\"), \"FEMENINO\",\n  \"\")), \"\")","v":""},0,null,null,null,0]
[{"$f":"IF(Tabla3[[#This Row],[APELLIDOS Y NOMBRES]]>0,ROW()-14,\"\")","v":""},{"$f":"IFERROR(IF(Tabla3[[#This Row],[APELLIDOS Y NOMBRES]]>0,VLOOKUP($H$7,DATA!$A$79:$B$160,2,FALSE),\"\"),\"\")","v":""},null,null,null,null,null,{"$f":"((NOW()-Tabla3[[#This Row],[FECHA DE NACIMIENTO]])/365)-0.5","v":124.79767625317098},null,null,null,null,null,null,null,null,null,null,null,null,null,null,null,null,null,null,null,null,null,null,null,null,null,null,null,null,null,null,null,null,null,null,null,null,null,"",null,{"$f":"IFERROR(IF(OR(LOWER(Tabla3[[#This Row],[SEXO]])=\"masculino\", LOWER(Tabla3[[#This Row],[SEXO]])=\"m\", LOWER(Tabla3[[#This Row],[SEXO]])=\"1\"), \"MASCULINO\",\n  IF(OR(LOWER(Tabla3[[#This Row],[SEXO]])=\"femenino\", LOWER(Tabla3[[#This Row],[SEXO]])=\"f\", LOWER(Tabla3[[#This Row],[SEXO]])=\"2\"), \"FEMENINO\",\n  \"\")), \"\")","v":""},0,null,null,null,0]
[{"$f":"IF(Tabla3[[#This Row],[APELLIDOS Y NOMBRES]]>0,ROW()-14,\"\")","v":""},{"$f":"IFERROR(IF(Tabla3[[#This Row],[APELLIDOS Y NOMBRES]]>0,VLOOKUP($H$7,DATA!$A$79:$B$160,2,FALSE),\"\"),\"\")","v":""},null,null,null,null,null,{"$f":"((NOW()-Tabla3[[#This Row],[FECHA DE NACIMIENTO]])/365)-0.5","v":124.79767625317098},null,null,null,null,null,null,null,null,null,null,null,null,null,null,null,null,null,null,null,null,null,null,null,null,null,null,null,null,null,null,null,null,null,null,null,null,null,"",null,{"$f":"IFERROR(IF(OR(LOWER(Tabla3[[#This Row],[SEXO]])=\"masculino\", LOWER(Tabla3[[#This Row],[SEXO]])=\"m\", LOWER(Tabla3[[#This Row],[SEXO]])=\"1\"), \"MASCULINO\",\n  IF(OR(LOWER(Tabla3[[#This Row],[SEXO]])=\"femenino\", LOWER(Tabla3[[#This Row],[SEXO]])=\"f\", LOWER(Tabla3[[#This Row],[SEXO]])=\"2\"), \"FEMENINO\",\n  \"\")), \"\")","v":""},0,null,null,null,0]
[{"$f":"IF(Tabla3[[#This Row],[APELLIDOS Y NOMBRES]]>0,ROW()-14,\"\")","v":""},{"$f":"IFERROR(IF(Tabla3[[#This Row],[APELLIDOS Y NOMBRES]]>0,VLOOKUP($H$7,DATA!$A$79:$B$160,2,FALSE),\"\"),\"\")","v":""},null,null,null,null,null,{"$f":"((NOW()-Tabla3[[#This Row],[FECHA DE NACIMIENTO]])/365)-0.5","v":124.79767625317098},null,null,null,null,null,null,null,null,null,null,null,null,null,null,null,null,null,null,null,null,null,null,null,null,null,null,null,null,null,null,null,null,null,null,null,null,null,"",null,{"$f":"IFERROR(IF(OR(LOWER(Tabla3[[#This Row],[SEXO]])=\"masculino\", LOWER(Tabla3[[#This Row],[SEXO]])=\"m\", LOWER(Tabla3[[#This Row],[SEXO]])=\"1\"), \"MASCULINO\",\n  IF(OR(LOWER(Tabla3[[#This Row],[SEXO]])=\"femenino\", LOWER(Tabla3[[#This Row],[SEXO]])=\"f\", LOWER(Tabla3[[#This Row],[SEXO]])=\"2\"), \"FEMENINO\",\n  \"\")), \"\")","v":""},0,null,null,null,0]
[{"$f":"IF(Tabla3[[#This Row],[APELLIDOS Y NOMBRES]]>0,ROW()-14,\"\")","v":""},{"$f":"IFERROR(IF(Tabla3[[#This Row],[APELLIDOS Y NOMBRES]]>0,VLOOKUP($H$7,DATA!$A$79:$B$160,2,FALSE),\"\"),\"\")","v":""},null,null,null,null,null,{"$f":"((NOW()-Tabla3[[#This Row],[FECHA DE NACIMIENTO]])/365)-0.5","v":124.79767625317098},null,null,null,null,null,null,null,null,null,null,null,null,null,null,null,null,null,null,null,null,null,null,null,null,null,null,null,null,null,null,null,null,null,null,null,null,null,"",null,{"$f":"IFERROR(IF(OR(LOWER(Tabla3[[#This Row],[SEXO]])=\"masculino\", LOWER(Tabla3[[#This Row],[SEXO]])=\"m\", LOWER(Tabla3[[#This Row],[SEXO]])=\"1\"), \"MASCULINO\",\n  IF(OR(LOWER(Tabla3[[#This Row],[SEXO]])=\"femenino\", LOWER(Tabla3[[#This Row],[SEXO]])=\"f\", LOWER(Tabla3[[#This Row],[SEXO]])=\"2\"), \"FEMENINO\",\n  \"\")), \"\")","v":""},0,null,null,null,0]
[{"$f":"IF(Tabla3[[#This Row],[APELLIDOS Y NOMBRES]]>0,ROW()-14,\"\")","v":""},{"$f":"IFERROR(IF(Tabla3[[#This Row],[APELLIDOS Y NOMBRES]]>0,VLOOKUP($H$7,DATA!$A$79:$B$160,2,FALSE),\"\"),\"\")","v":""},null,null,null,null,null,{"$f":"((NOW()-Tabla3[[#This Row],[FECHA DE NACIMIENTO]])/365)-0.5","v":124.79767625317098},null,null,null,null,null,null,null,null,null,null,null,null,null,null,null,null,null,null,null,null,null,null,null,null,null,null,null,null,null,null,null,null,null,null,null,null,null,"",null,{"$f":"IFERROR(IF(OR(LOWER(Tabla3[[#This Row],[SEXO]])=\"masculino\", LOWER(Tabla3[[#This Row],[SEXO]])=\"m\", LOWER(Tabla3[[#This Row],[SEXO]])=\"1\"), \"MASCULINO\",\n  IF(OR(LOWER(Tabla3[[#This Row],[SEXO]])=\"femenino\", LOWER(Tabla3[[#This Row],[SEXO]])=\"f\", LOWER(Tabla3[[#This Row],[SEXO]])=\"2\"), \"FEMENINO\",\n  \"\")), \"\")","v":""},0,null,null,null,0]
[{"$f":"IF(Tabla3[[#This Row],[APELLIDOS Y NOMBRES]]>0,ROW()-14,\"\")","v":""},{"$f":"IFERROR(IF(Tabla3[[#This Row],[APELLIDOS Y NOMBRES]]>0,VLOOKUP($H$7,DATA!$A$79:$B$160,2,FALSE),\"\"),\"\")","v":""},null,null,null,null,null,{"$f":"((NOW()-Tabla3[[#This Row],[FECHA DE NACIMIENTO]])/365)-0.5","v":124.79767625317098},null,null,null,null,null,null,null,null,null,null,null,null,null,null,null,null,null,null,null,null,null,null,null,null,null,null,null,null,null,null,null,null,null,null,null,null,null,"",null,{"$f":"IFERROR(IF(OR(LOWER(Tabla3[[#This Row],[SEXO]])=\"masculino\", LOWER(Tabla3[[#This Row],[SEXO]])=\"m\", LOWER(Tabla3[[#This Row],[SEXO]])=\"1\"), \"MASCULINO\",\n  IF(OR(LOWER(Tabla3[[#This Row],[SEXO]])=\"femenino\", LOWER(Tabla3[[#This Row],[SEXO]])=\"f\", LOWER(Tabla3[[#This Row],[SEXO]])=\"2\"), \"FEMENINO\",\n  \"\")), \"\")","v":""},0,null,null,null,0]
[{"$f":"IF(Tabla3[[#This Row],[APELLIDOS Y NOMBRES]]>0,ROW()-14,\"\")","v":""},{"$f":"IFERROR(IF(Tabla3[[#This Row],[APELLIDOS Y NOMBRES]]>0,VLOOKUP($H$7,DATA!$A$79:$B$160,2,FALSE),\"\"),\"\")","v":""},null,null,null,null,null,{"$f":"((NOW()-Tabla3[[#This Row],[FECHA DE NACIMIENTO]])/365)-0.5","v":124.79767625317098},null,null,null,null,null,null,null,null,null,null,null,null,null,null,null,null,null,null,null,null,null,null,null,null,null,null,null,null,null,null,null,null,null,null,null,null,null,"",null,{"$f":"IFERROR(IF(OR(LOWER(Tabla3[[#This Row],[SEXO]])=\"masculino\", LOWER(Tabla3[[#This Row],[SEXO]])=\"m\", LOWER(Tabla3[[#This Row],[SEXO]])=\"1\"), \"MASCULINO\",\n  IF(OR(LOWER(Tabla3[[#This Row],[SEXO]])=\"femenino\", LOWER(Tabla3[[#This Row],[SEXO]])=\"f\", LOWER(Tabla3[[#This Row],[SEXO]])=\"2\"), \"FEMENINO\",\n  \"\")), \"\")","v":""},0,null,null,null,0]
[{"$f":"IF(Tabla3[[#This Row],[APELLIDOS Y NOMBRES]]>0,ROW()-14,\"\")","v":""},{"$f":"IFERROR(IF(Tabla3[[#This Row],[APELLIDOS Y NOMBRES]]>0,VLOOKUP($H$7,DATA!$A$79:$B$160,2,FALSE),\"\"),\"\")","v":""},null,null,null,null,null,{"$f":"((NOW()-Tabla3[[#This Row],[FECHA DE NACIMIENTO]])/365)-0.5","v":124.79767625317098},null,null,null,null,null,null,null,null,null,null,null,null,null,null,null,null,null,null,null,null,null,null,null,null,null,null,null,null,null,null,null,null,null,null,null,null,null,"",null,{"$f":"IFERROR(IF(OR(LOWER(Tabla3[[#This Row],[SEXO]])=\"masculino\", LOWER(Tabla3[[#This Row],[SEXO]])=\"m\", LOWER(Tabla3[[#This Row],[SEXO]])=\"1\"), \"MASCULINO\",\n  IF(OR(LOWER(Tabla3[[#This Row],[SEXO]])=\"femenino\", LOWER(Tabla3[[#This Row],[SEXO]])=\"f\", LOWER(Tabla3[[#This Row],[SEXO]])=\"2\"), \"FEMENINO\",\n  \"\")), \"\")","v":""},0,null,null,null,0]
[{"$f":"IF(Tabla3[[#This Row],[APELLIDOS Y NOMBRES]]>0,ROW()-14,\"\")","v":""},{"$f":"IFERROR(IF(Tabla3[[#This Row],[APELLIDOS Y NOMBRES]]>0,VLOOKUP($H$7,DATA!$A$79:$B$160,2,FALSE),\"\"),\"\")","v":""},null,null,null,null,null,{"$f":"((NOW()-Tabla3[[#This Row],[FECHA DE NACIMIENTO]])/365)-0.5","v":124.79767625317098},null,null,null,null,null,null,null,null,null,null,null,null,null,null,null,null,null,null,null,null,null,null,null,null,null,null,null,null,null,null,null,null,null,null,null,null,null,"",null,{"$f":"IFERROR(IF(OR(LOWER(Tabla3[[#This Row],[SEXO]])=\"masculino\", LOWER(Tabla3[[#This Row],[SEXO]])=\"m\", LOWER(Tabla3[[#This Row],[SEXO]])=\"1\"), \"MASCULINO\",\n  IF(OR(LOWER(Tabla3[[#This Row],[SEXO]])=\"femenino\", LOWER(Tabla3[[#This Row],[SEXO]])=\"f\", LOWER(Tabla3[[#This Row],[SEXO]])=\"2\"), \"FEMENINO\",\n  \"\")), \"\")","v":""},0,null,null,null,0]
[{"$f":"IF(Tabla3[[#This Row],[APELLIDOS Y NOMBRES]]>0,ROW()-14,\"\")","v":""},{"$f":"IFERROR(IF(Tabla3[[#This Row],[APELLIDOS Y NOMBRES]]>0,VLOOKUP($H$7,DATA!$A$79:$B$160,2,FALSE),\"\"),\"\")","v":""},null,null,null,null,null,{"$f":"((NOW()-Tabla3[[#This Row],[FECHA DE NACIMIENTO]])/365)-0.5","v":124.79767625317098},null,null,null,null,null,null,null,null,null,null,null,null,null,null,null,null,null,null,null,null,null,null,null,null,null,null,null,null,null,null,null,null,null,null,null,null,null,"",null,{"$f":"IFERROR(IF(OR(LOWER(Tabla3[[#This Row],[SEXO]])=\"masculino\", LOWER(Tabla3[[#This Row],[SEXO]])=\"m\", LOWER(Tabla3[[#This Row],[SEXO]])=\"1\"), \"MASCULINO\",\n  IF(OR(LOWER(Tabla3[[#This Row],[SEXO]])=\"femenino\", LOWER(Tabla3[[#This Row],[SEXO]])=\"f\", LOWER(Tabla3[[#This Row],[SEXO]])=\"2\"), \"FEMENINO\",\n  \"\")), \"\")","v":""},0,null,null,null,0]
[{"$f":"IF(Tabla3[[#This Row],[APELLIDOS Y NOMBRES]]>0,ROW()-14,\"\")","v":""},{"$f":"IFERROR(IF(Tabla3[[#This Row],[APELLIDOS Y NOMBRES]]>0,VLOOKUP($H$7,DATA!$A$79:$B$160,2,FALSE),\"\"),\"\")","v":""},null,null,null,null,null,{"$f":"((NOW()-Tabla3[[#This Row],[FECHA DE NACIMIENTO]])/365)-0.5","v":124.79767625317098},null,null,null,null,null,null,null,null,null,null,null,null,null,null,null,null,null,null,null,null,null,null,null,null,null,null,null,null,null,null,null,null,null,null,null,null,null,"",null,{"$f":"IFERROR(IF(OR(LOWER(Tabla3[[#This Row],[SEXO]])=\"masculino\", LOWER(Tabla3[[#This Row],[SEXO]])=\"m\", LOWER(Tabla3[[#This Row],[SEXO]])=\"1\"), \"MASCULINO\",\n  IF(OR(LOWER(Tabla3[[#This Row],[SEXO]])=\"femenino\", LOWER(Tabla3[[#This Row],[SEXO]])=\"f\", LOWER(Tabla3[[#This Row],[SEXO]])=\"2\"), \"FEMENINO\",\n  \"\")), \"\")","v":""},0,null,null,null,0]
[{"$f":"IF(Tabla3[[#This Row],[APELLIDOS Y NOMBRES]]>0,ROW()-14,\"\")","v":""},{"$f":"IFERROR(IF(Tabla3[[#This Row],[APELLIDOS Y NOMBRES]]>0,VLOOKUP($H$7,DATA!$A$79:$B$160,2,FALSE),\"\"),\"\")","v":""},null,null,null,null,null,{"$f":"((NOW()-Tabla3[[#This Row],[FECHA DE NACIMIENTO]])/365)-0.5","v":124.79767625317098},null,null,null,null,null,null,null,null,null,null,null,null,null,null,null,null,null,null,null,null,null,null,null,null,null,null,null,null,null,null,null,null,null,null,null,null,null,"",null,{"$f":"IFERROR(IF(OR(LOWER(Tabla3[[#This Row],[SEXO]])=\"masculino\", LOWER(Tabla3[[#This Row],[SEXO]])=\"m\", LOWER(Tabla3[[#This Row],[SEXO]])=\"1\"), \"MASCULINO\",\n  IF(OR(LOWER(Tabla3[[#This Row],[SEXO]])=\"femenino\", LOWER(Tabla3[[#This Row],[SEXO]])=\"f\", LOWER(Tabla3[[#This Row],[SEXO]])=\"2\"), \"FEMENINO\",\n  \"\")), \"\")","v":""},0,null,null,null,0]
[{"$f":"IF(Tabla3[[#This Row],[APELLIDOS Y NOMBRES]]>0,ROW()-14,\"\")","v":""},{"$f":"IFERROR(IF(Tabla3[[#This Row],[APELLIDOS Y NOMBRES]]>0,VLOOKUP($H$7,DATA!$A$79:$B$160,2,FALSE),\"\"),\"\")","v":""},null,null,null,null,null,{"$f":"((NOW()-Tabla3[[#This Row],[FECHA DE NACIMIENTO]])/365)-0.5","v":124.79767625317098},null,null,null,null,null,null,null,null,null,null,null,null,null,null,null,null,null,null,null,null,null,null,null,null,null,null,null,null,null,null,null,null,null,null,null,null,null,"",null,{"$f":"IFERROR(IF(OR(LOWER(Tabla3[[#This Row],[SEXO]])=\"masculino\", LOWER(Tabla3[[#This Row],[SEXO]])=\"m\", LOWER(Tabla3[[#This Row],[SEXO]])=\"1\"), \"MASCULINO\",\n  IF(OR(LOWER(Tabla3[[#This Row],[SEXO]])=\"femenino\", LOWER(Tabla3[[#This Row],[SEXO]])=\"f\", LOWER(Tabla3[[#This Row],[SEXO]])=\"2\"), \"FEMENINO\",\n  \"\")), \"\")","v":""},0,null,null,null,0]
[{"$f":"IF(Tabla3[[#This Row],[APELLIDOS Y NOMBRES]]>0,ROW()-14,\"\")","v":""},{"$f":"IFERROR(IF(Tabla3[[#This Row],[APELLIDOS Y NOMBRES]]>0,VLOOKUP($H$7,DATA!$A$79:$B$160,2,FALSE),\"\"),\"\")","v":""},null,null,null,null,null,{"$f":"((NOW()-Tabla3[[#This Row],[FECHA DE NACIMIENTO]])/365)-0.5","v":124.79767625317098},null,null,null,null,null,null,null,null,null,null,null,null,null,null,null,null,null,null,null,null,null,null,null,null,null,null,null,null,null,null,null,null,null,null,null,null,null,"",null,{"$f":"IFERROR(IF(OR(LOWER(Tabla3[[#This Row],[SEXO]])=\"masculino\", LOWER(Tabla3[[#This Row],[SEXO]])=\"m\", LOWER(Tabla3[[#This Row],[SEXO]])=\"1\"), \"MASCULINO\",\n  IF(OR(LOWER(Tabla3[[#This Row],[SEXO]])=\"femenino\", LOWER(Tabla3[[#This Row],[SEXO]])=\"f\", LOWER(Tabla3[[#This Row],[SEXO]])=\"2\"), \"FEMENINO\",\n  \"\")), \"\")","v":""},0,null,null,null,0]
[{"$f":"IF(Tabla3[[#This Row],[APELLIDOS Y NOMBRES]]>0,ROW()-14,\"\")","v":""},{"$f":"IFERROR(IF(Tabla3[[#This Row],[APELLIDOS Y NOMBRES]]>0,VLOOKUP($H$7,DATA!$A$79:$B$160,2,FALSE),\"\"),\"\")","v":""},null,null,null,null,null,{"$f":"((NOW()-Tabla3[[#This Row],[FECHA DE NACIMIENTO]])/365)-0.5","v":124.79767625317098},null,null,null,null,null,null,null,null,null,null,null,null,null,null,null,null,null,null,null,null,null,null,null,null,null,null,null,null,null,null,null,null,null,null,null,null,null,"",null,{"$f":"IFERROR(IF(OR(LOWER(Tabla3[[#This Row],[SEXO]])=\"masculino\", LOWER(Tabla3[[#This Row],[SEXO]])=\"m\", LOWER(Tabla3[[#This Row],[SEXO]])=\"1\"), \"MASCULINO\",\n  IF(OR(LOWER(Tabla3[[#This Row],[SEXO]])=\"femenino\", LOWER(Tabla3[[#This Row],[SEXO]])=\"f\", LOWER(Tabla3[[#This Row],[SEXO]])=\"2\"), \"FEMENINO\",\n  \"\")), \"\")","v":""},0,null,null,null,0]
[{"$f":"IF(Tabla3[[#This Row],[APELLIDOS Y NOMBRES]]>0,ROW()-14,\"\")","v":""},{"$f":"IFERROR(IF(Tabla3[[#This Row],[APELLIDOS Y NOMBRES]]>0,VLOOKUP($H$7,DATA!$A$79:$B$160,2,FALSE),\"\"),\"\")","v":""},null,null,null,null,null,{"$f":"((NOW()-Tabla3[[#This Row],[FECHA DE NACIMIENTO]])/365)-0.5","v":124.79767625317098},null,null,null,null,null,null,null,null,null,null,null,null,null,null,null,null,null,null,null,null,null,null,null,null,null,null,null,null,null,null,null,null,null,null,null,null,null,"",null,{"$f":"IFERROR(IF(OR(LOWER(Tabla3[[#This Row],[SEXO]])=\"masculino\", LOWER(Tabla3[[#This Row],[SEXO]])=\"m\", LOWER(Tabla3[[#This Row],[SEXO]])=\"1\"), \"MASCULINO\",\n  IF(OR(LOWER(Tabla3[[#This Row],[SEXO]])=\"femenino\", LOWER(Tabla3[[#This Row],[SEXO]])=\"f\", LOWER(Tabla3[[#This Row],[SEXO]])=\"2\"), \"FEMENINO\",\n  \"\")), \"\")","v":""},0,null,null,null,0]
[{"$f":"IF(Tabla3[[#This Row],[APELLIDOS Y NOMBRES]]>0,ROW()-14,\"\")","v":""},{"$f":"IFERROR(IF(Tabla3[[#This Row],[APELLIDOS Y NOMBRES]]>0,VLOOKUP($H$7,DATA!$A$79:$B$160,2,FALSE),\"\"),\"\")","v":""},null,null,null,null,null,{"$f":"((NOW()-Tabla3[[#This Row],[FECHA DE NACIMIENTO]])/365)-0.5","v":124.79767625317098},null,null,null,null,null,null,null,null,null,null,null,null,null,null,null,null,null,null,null,null,null,null,null,null,null,null,null,null,null,null,null,null,null,null,null,null,null,"",null,{"$f":"IFERROR(IF(OR(LOWER(Tabla3[[#This Row],[SEXO]])=\"masculino\", LOWER(Tabla3[[#This Row],[SEXO]])=\"m\", LOWER(Tabla3[[#This Row],[SEXO]])=\"1\"), \"MASCULINO\",\n  IF(OR(LOWER(Tabla3[[#This Row],[SEXO]])=\"femenino\", LOWER(Tabla3[[#This Row],[SEXO]])=\"f\", LOWER(Tabla3[[#This Row],[SEXO]])=\"2\"), \"FEMENINO\",\n  \"\")), \"\")","v":""},0,null,null,null,0]
[{"$f":"IF(Tabla3[[#This Row],[APELLIDOS Y NOMBRES]]>0,ROW()-14,\"\")","v":""},{"$f":"IFERROR(IF(Tabla3[[#This Row],[APELLIDOS Y NOMBRES]]>0,VLOOKUP($H$7,DATA!$A$79:$B$160,2,FALSE),\"\"),\"\")","v":""},null,null,null,null,null,{"$f":"((NOW()-Tabla3[[#This Row],[FECHA DE NACIMIENTO]])/365)-0.5","v":124.79767625317098},null,null,null,null,null,null,null,null,null,null,null,null,null,null,null,null,null,null,null,null,null,null,null,null,null,null,null,null,null,null,null,null,null,null,null,null,null,"",null,{"$f":"IFERROR(IF(OR(LOWER(Tabla3[[#This Row],[SEXO]])=\"masculino\", LOWER(Tabla3[[#This Row],[SEXO]])=\"m\", LOWER(Tabla3[[#This Row],[SEXO]])=\"1\"), \"MASCULINO\",\n  IF(OR(LOWER(Tabla3[[#This Row],[SEXO]])=\"femenino\", LOWER(Tabla3[[#This Row],[SEXO]])=\"f\", LOWER(Tabla3[[#This Row],[SEXO]])=\"2\"), \"FEMENINO\",\n  \"\")), \"\")","v":""},0,null,null,null,0]
[{"$f":"IF(Tabla3[[#This Row],[APELLIDOS Y NOMBRES]]>0,ROW()-14,\"\")","v":""},{"$f":"IFERROR(IF(Tabla3[[#This Row],[APELLIDOS Y NOMBRES]]>0,VLOOKUP($H$7,DATA!$A$79:$B$160,2,FALSE),\"\"),\"\")","v":""},null,null,null,null,null,{"$f":"((NOW()-Tabla3[[#This Row],[FECHA DE NACIMIENTO]])/365)-0.5","v":124.79767625317098},null,null,null,null,null,null,null,null,null,null,null,null,null,null,null,null,null,null,null,null,null,null,null,null,null,null,null,null,null,null,null,null,null,null,null,null,null,"",null,{"$f":"IFERROR(IF(OR(LOWER(Tabla3[[#This Row],[SEXO]])=\"masculino\", LOWER(Tabla3[[#This Row],[SEXO]])=\"m\", LOWER(Tabla3[[#This Row],[SEXO]])=\"1\"), \"MASCULINO\",\n  IF(OR(LOWER(Tabla3[[#This Row],[SEXO]])=\"femenino\", LOWER(Tabla3[[#This Row],[SEXO]])=\"f\", LOWER(Tabla3[[#This Row],[SEXO]])=\"2\"), \"FEMENINO\",\n  \"\")), \"\")","v":""},0,null,null,null,0]
[{"$f":"IF(Tabla3[[#This Row],[APELLIDOS Y NOMBRES]]>0,ROW()-14,\"\")","v":""},{"$f":"IFERROR(IF(Tabla3[[#This Row],[APELLIDOS Y NOMBRES]]>0,VLOOKUP($H$7,DATA!$A$79:$B$160,2,FALSE),\"\"),\"\")","v":""},null,null,null,null,null,{"$f":"((NOW()-Tabla3[[#This Row],[FECHA DE NACIMIENTO]])/365)-0.5","v":124.79767625317098},null,null,null,null,null,null,null,null,null,null,null,null,null,null,null,null,null,null,null,null,null,null,null,null,null,null,null,null,null,null,null,null,null,null,null,null,null,"",null,{"$f":"IFERROR(IF(OR(LOWER(Tabla3[[#This Row],[SEXO]])=\"masculino\", LOWER(Tabla3[[#This Row],[SEXO]])=\"m\", LOWER(Tabla3[[#This Row],[SEXO]])=\"1\"), \"MASCULINO\",\n  IF(OR(LOWER(Tabla3[[#This Row],[SEXO]])=\"femenino\", LOWER(Tabla3[[#This Row],[SEXO]])=\"f\", LOWER(Tabla3[[#This Row],[SEXO]])=\"2\"), \"FEMENINO\",\n  \"\")), \"\")","v":""},0,null,null,null,0]
[{"$f":"IF(Tabla3[[#This Row],[APELLIDOS Y NOMBRES]]>0,ROW()-14,\"\")","v":""},{"$f":"IFERROR(IF(Tabla3[[#This Row],[APELLIDOS Y NOMBRES]]>0,VLOOKUP($H$7,DATA!$A$79:$B$160,2,FALSE),\"\"),\"\")","v":""},null,null,null,null,null,{"$f":"((NOW()-Tabla3[[#This Row],[FECHA DE NACIMIENTO]])/365)-0.5","v":124.79767625317098},null,null,null,null,null,null,null,null,null,null,null,null,null,null,null,null,null,null,null,null,null,null,null,null,null,null,null,null,null,null,null,null,null,null,null,null,null,"",null,{"$f":"IFERROR(IF(OR(LOWER(Tabla3[[#This Row],[SEXO]])=\"masculino\", LOWER(Tabla3[[#This Row],[SEXO]])=\"m\", LOWER(Tabla3[[#This Row],[SEXO]])=\"1\"), \"MASCULINO\",\n  IF(OR(LOWER(Tabla3[[#This Row],[SEXO]])=\"femenino\", LOWER(Tabla3[[#This Row],[SEXO]])=\"f\", LOWER(Tabla3[[#This Row],[SEXO]])=\"2\"), \"FEMENINO\",\n  \"\")), \"\")","v":""},0,null,null,null,0]
[{"$f":"IF(Tabla3[[#This Row],[APELLIDOS Y NOMBRES]]>0,ROW()-14,\"\")","v":""},{"$f":"IFERROR(IF(Tabla3[[#This Row],[APELLIDOS Y NOMBRES]]>0,VLOOKUP($H$7,DATA!$A$79:$B$160,2,FALSE),\"\"),\"\")","v":""},null,null,null,null,null,{"$f":"((NOW()-Tabla3[[#This Row],[FECHA DE NACIMIENTO]])/365)-0.5","v":124.79767625317098},null,null,null,null,null,null,null,null,null,null,null,null,null,null,null,null,null,null,null,null,null,null,null,null,null,null,null,null,null,null,null,null,null,null,null,null,null,"",null,{"$f":"IFERROR(IF(OR(LOWER(Tabla3[[#This Row],[SEXO]])=\"masculino\", LOWER(Tabla3[[#This Row],[SEXO]])=\"m\", LOWER(Tabla3[[#This Row],[SEXO]])=\"1\"), \"MASCULINO\",\n  IF(OR(LOWER(Tabla3[[#This Row],[SEXO]])=\"femenino\", LOWER(Tabla3[[#This Row],[SEXO]])=\"f\", LOWER(Tabla3[[#This Row],[SEXO]])=\"2\"), \"FEMENINO\",\n  \"\")), \"\")","v":""},0,null,null,null,0]
[{"$f":"IF(Tabla3[[#This Row],[APELLIDOS Y NOMBRES]]>0,ROW()-14,\"\")","v":""},{"$f":"IFERROR(IF(Tabla3[[#This Row],[APELLIDOS Y NOMBRES]]>0,VLOOKUP($H$7,DATA!$A$79:$B$160,2,FALSE),\"\"),\"\")","v":""},null,null,null,null,null,{"$f":"((NOW()-Tabla3[[#This Row],[FECHA DE NACIMIENTO]])/365)-0.5","v":124.79767625317098},null,null,null,null,null,null,null,null,null,null,null,null,null,null,null,null,null,null,null,null,null,null,null,null,null,null,null,null,null,null,null,null,null,null,null,null,null,"",null,{"$f":"IFERROR(IF(OR(LOWER(Tabla3[[#This Row],[SEXO]])=\"masculino\", LOWER(Tabla3[[#This Row],[SEXO]])=\"m\", LOWER(Tabla3[[#This Row],[SEXO]])=\"1\"), \"MASCULINO\",\n  IF(OR(LOWER(Tabla3[[#This Row],[SEXO]])=\"femenino\", LOWER(Tabla3[[#This Row],[SEXO]])=\"f\", LOWER(Tabla3[[#This Row],[SEXO]])=\"2\"), \"FEMENINO\",\n  \"\")), \"\")","v":""},0,null,null,null,0]
[{"$f":"IF(Tabla3[[#This Row],[APELLIDOS Y NOMBRES]]>0,ROW()-14,\"\")","v":""},{"$f":"IFERROR(IF(Tabla3[[#This Row],[APELLIDOS Y NOMBRES]]>0,VLOOKUP($H$7,DATA!$A$79:$B$160,2,FALSE),\"\"),\"\")","v":""},null,null,null,null,null,{"$f":"((NOW()-Tabla3[[#This Row],[FECHA DE NACIMIENTO]])/365)-0.5","v":124.79767625317098},null,null,null,null,null,null,null,null,null,null,null,null,null,null,null,null,null,null,null,null,null,null,null,null,null,null,null,null,null,null,null,null,null,null,null,null,null,"",null,{"$f":"IFERROR(IF(OR(LOWER(Tabla3[[#This Row],[SEXO]])=\"masculino\", LOWER(Tabla3[[#This Row],[SEXO]])=\"m\", LOWER(Tabla3[[#This Row],[SEXO]])=\"1\"), \"MASCULINO\",\n  IF(OR(LOWER(Tabla3[[#This Row],[SEXO]])=\"femenino\", LOWER(Tabla3[[#This Row],[SEXO]])=\"f\", LOWER(Tabla3[[#This Row],[SEXO]])=\"2\"), \"FEMENINO\",\n  \"\")), \"\")","v":""},0,null,null,null,0]
[{"$f":"IF(Tabla3[[#This Row],[APELLIDOS Y NOMBRES]]>0,ROW()-14,\"\")","v":""},{"$f":"IFERROR(IF(Tabla3[[#This Row],[APELLIDOS Y NOMBRES]]>0,VLOOKUP($H$7,DATA!$A$79:$B$160,2,FALSE),\"\"),\"\")","v":""},null,null,null,null,null,{"$f":"((NOW()-Tabla3[[#This Row],[FECHA DE NACIMIENTO]])/365)-0.5","v":124.79767625317098},null,null,null,null,null,null,null,null,null,null,null,null,null,null,null,null,null,null,null,null,null,null,null,null,null,null,null,null,null,null,null,null,null,null,null,null,null,"",null,{"$f":"IFERROR(IF(OR(LOWER(Tabla3[[#This Row],[SEXO]])=\"masculino\", LOWER(Tabla3[[#This Row],[SEXO]])=\"m\", LOWER(Tabla3[[#This Row],[SEXO]])=\"1\"), \"MASCULINO\",\n  IF(OR(LOWER(Tabla3[[#This Row],[SEXO]])=\"femenino\", LOWER(Tabla3[[#This Row],[SEXO]])=\"f\", LOWER(Tabla3[[#This Row],[SEXO]])=\"2\"), \"FEMENINO\",\n  \"\")), \"\")","v":""},0,null,null,null,0]
[{"$f":"IF(Tabla3[[#This Row],[APELLIDOS Y NOMBRES]]>0,ROW()-14,\"\")","v":""},{"$f":"IFERROR(IF(Tabla3[[#This Row],[APELLIDOS Y NOMBRES]]>0,VLOOKUP($H$7,DATA!$A$79:$B$160,2,FALSE),\"\"),\"\")","v":""},null,null,null,null,null,{"$f":"((NOW()-Tabla3[[#This Row],[FECHA DE NACIMIENTO]])/365)-0.5","v":124.79767625317098},null,null,null,null,null,null,null,null,null,null,null,null,null,null,null,null,null,null,null,null,null,null,null,null,null,null,null,null,null,null,null,null,null,null,null,null,null,"",null,{"$f":"IFERROR(IF(OR(LOWER(Tabla3[[#This Row],[SEXO]])=\"masculino\", LOWER(Tabla3[[#This Row],[SEXO]])=\"m\", LOWER(Tabla3[[#This Row],[SEXO]])=\"1\"), \"MASCULINO\",\n  IF(OR(LOWER(Tabla3[[#This Row],[SEXO]])=\"femenino\", LOWER(Tabla3[[#This Row],[SEXO]])=\"f\", LOWER(Tabla3[[#This Row],[SEXO]])=\"2\"), \"FEMENINO\",\n  \"\")), \"\")","v":""},0,null,null,null,0]
[{"$f":"IF(Tabla3[[#This Row],[APELLIDOS Y NOMBRES]]>0,ROW()-14,\"\")","v":""},{"$f":"IFERROR(IF(Tabla3[[#This Row],[APELLIDOS Y NOMBRES]]>0,VLOOKUP($H$7,DATA!$A$79:$B$160,2,FALSE),\"\"),\"\")","v":""},null,null,null,null,null,{"$f":"((NOW()-Tabla3[[#This Row],[FECHA DE NACIMIENTO]])/365)-0.5","v":124.79767625317098},null,null,null,null,null,null,null,null,null,null,null,null,null,null,null,null,null,null,null,null,null,null,null,null,null,null,null,null,null,null,null,null,null,null,null,null,null,"",null,{"$f":"IFERROR(IF(OR(LOWER(Tabla3[[#This Row],[SEXO]])=\"masculino\", LOWER(Tabla3[[#This Row],[SEXO]])=\"m\", LOWER(Tabla3[[#This Row],[SEXO]])=\"1\"), \"MASCULINO\",\n  IF(OR(LOWER(Tabla3[[#This Row],[SEXO]])=\"femenino\", LOWER(Tabla3[[#This Row],[SEXO]])=\"f\", LOWER(Tabla3[[#This Row],[SEXO]])=\"2\"), \"FEMENINO\",\n  \"\")), \"\")","v":""},0,null,null,null,0]
[{"$f":"IF(Tabla3[[#This Row],[APELLIDOS Y NOMBRES]]>0,ROW()-14,\"\")","v":""},{"$f":"IFERROR(IF(Tabla3[[#This Row],[APELLIDOS Y NOMBRES]]>0,VLOOKUP($H$7,DATA!$A$79:$B$160,2,FALSE),\"\"),\"\")","v":""},null,null,null,null,null,{"$f":"((NOW()-Tabla3[[#This Row],[FECHA DE NACIMIENTO]])/365)-0.5","v":124.79767625317098},null,null,null,null,null,null,null,null,null,null,null,null,null,null,null,null,null,null,null,null,null,null,null,null,null,null,null,null,null,null,null,null,null,null,null,null,null,"",null,{"$f":"IFERROR(IF(OR(LOWER(Tabla3[[#This Row],[SEXO]])=\"masculino\", LOWER(Tabla3[[#This Row],[SEXO]])=\"m\", LOWER(Tabla3[[#This Row],[SEXO]])=\"1\"), \"MASCULINO\",\n  IF(OR(LOWER(Tabla3[[#This Row],[SEXO]])=\"femenino\", LOWER(Tabla3[[#This Row],[SEXO]])=\"f\", LOWER(Tabla3[[#This Row],[SEXO]])=\"2\"), \"FEMENINO\",\n  \"\")), \"\")","v":""},0,null,null,null,0]
[{"$f":"IF(Tabla3[[#This Row],[APELLIDOS Y NOMBRES]]>0,ROW()-14,\"\")","v":""},{"$f":"IFERROR(IF(Tabla3[[#This Row],[APELLIDOS Y NOMBRES]]>0,VLOOKUP($H$7,DATA!$A$79:$B$160,2,FALSE),\"\"),\"\")","v":""},null,null,null,null,null,{"$f":"((NOW()-Tabla3[[#This Row],[FECHA DE NACIMIENTO]])/365)-0.5","v":124.79767625317098},null,null,null,null,null,null,null,null,null,null,null,null,null,null,null,null,null,null,null,null,null,null,null,null,null,null,null,null,null,null,null,null,null,null,null,null,null,"",null,{"$f":"IFERROR(IF(OR(LOWER(Tabla3[[#This Row],[SEXO]])=\"masculino\", LOWER(Tabla3[[#This Row],[SEXO]])=\"m\", LOWER(Tabla3[[#This Row],[SEXO]])=\"1\"), \"MASCULINO\",\n  IF(OR(LOWER(Tabla3[[#This Row],[SEXO]])=\"femenino\", LOWER(Tabla3[[#This Row],[SEXO]])=\"f\", LOWER(Tabla3[[#This Row],[SEXO]])=\"2\"), \"FEMENINO\",\n  \"\")), \"\")","v":""},0,null,null,null,0]
[{"$f":"IF(Tabla3[[#This Row],[APELLIDOS Y NOMBRES]]>0,ROW()-14,\"\")","v":""},{"$f":"IFERROR(IF(Tabla3[[#This Row],[APELLIDOS Y NOMBRES]]>0,VLOOKUP($H$7,DATA!$A$79:$B$160,2,FALSE),\"\"),\"\")","v":""},null,null,null,null,null,{"$f":"((NOW()-Tabla3[[#This Row],[FECHA DE NACIMIENTO]])/365)-0.5","v":124.79767625317098},null,null,null,null,null,null,null,null,null,null,null,null,null,null,null,null,null,null,null,null,null,null,null,null,null,null,null,null,null,null,null,null,null,null,null,null,null,"",null,{"$f":"IFERROR(IF(OR(LOWER(Tabla3[[#This Row],[SEXO]])=\"masculino\", LOWER(Tabla3[[#This Row],[SEXO]])=\"m\", LOWER(Tabla3[[#This Row],[SEXO]])=\"1\"), \"MASCULINO\",\n  IF(OR(LOWER(Tabla3[[#This Row],[SEXO]])=\"femenino\", LOWER(Tabla3[[#This Row],[SEXO]])=\"f\", LOWER(Tabla3[[#This Row],[SEXO]])=\"2\"), \"FEMENINO\",\n  \"\")), \"\")","v":""},0,null,null,null,0]
[{"$f":"IF(Tabla3[[#This Row],[APELLIDOS Y NOMBRES]]>0,ROW()-14,\"\")","v":""},{"$f":"IFERROR(IF(Tabla3[[#This Row],[APELLIDOS Y NOMBRES]]>0,VLOOKUP($H$7,DATA!$A$79:$B$160,2,FALSE),\"\"),\"\")","v":""},null,null,null,null,null,{"$f":"((NOW()-Tabla3[[#This Row],[FECHA DE NACIMIENTO]])/365)-0.5","v":124.79767625317098},null,null,null,null,null,null,null,null,null,null,null,null,null,null,null,null,null,null,null,null,null,null,null,null,null,null,null,null,null,null,null,null,null,null,null,null,null,"",null,{"$f":"IFERROR(IF(OR(LOWER(Tabla3[[#This Row],[SEXO]])=\"masculino\", LOWER(Tabla3[[#This Row],[SEXO]])=\"m\", LOWER(Tabla3[[#This Row],[SEXO]])=\"1\"), \"MASCULINO\",\n  IF(OR(LOWER(Tabla3[[#This Row],[SEXO]])=\"femenino\", LOWER(Tabla3[[#This Row],[SEXO]])=\"f\", LOWER(Tabla3[[#This Row],[SEXO]])=\"2\"), \"FEMENINO\",\n  \"\")), \"\")","v":""},0,null,null,null,0]
[{"$f":"IF(Tabla3[[#This Row],[APELLIDOS Y NOMBRES]]>0,ROW()-14,\"\")","v":""},{"$f":"IFERROR(IF(Tabla3[[#This Row],[APELLIDOS Y NOMBRES]]>0,VLOOKUP($H$7,DATA!$A$79:$B$160,2,FALSE),\"\"),\"\")","v":""},null,null,null,null,null,{"$f":"((NOW()-Tabla3[[#This Row],[FECHA DE NACIMIENTO]])/365)-0.5","v":124.79767625317098},null,null,null,null,null,null,null,null,null,null,null,null,null,null,null,null,null,null,null,null,null,null,null,null,null,null,null,null,null,null,null,null,null,null,null,null,null,"",null,{"$f":"IFERROR(IF(OR(LOWER(Tabla3[[#This Row],[SEXO]])=\"masculino\", LOWER(Tabla3[[#This Row],[SEXO]])=\"m\", LOWER(Tabla3[[#This Row],[SEXO]])=\"1\"), \"MASCULINO\",\n  IF(OR(LOWER(Tabla3[[#This Row],[SEXO]])=\"femenino\", LOWER(Tabla3[[#This Row],[SEXO]])=\"f\", LOWER(Tabla3[[#This Row],[SEXO]])=\"2\"), \"FEMENINO\",\n  \"\")), \"\")","v":""},0,null,null,null,0]
[{"$f":"IF(Tabla3[[#This Row],[APELLIDOS Y NOMBRES]]>0,ROW()-14,\"\")","v":""},{"$f":"IFERROR(IF(Tabla3[[#This Row],[APELLIDOS Y NOMBRES]]>0,VLOOKUP($H$7,DATA!$A$79:$B$160,2,FALSE),\"\"),\"\")","v":""},null,null,null,null,null,{"$f":"((NOW()-Tabla3[[#This Row],[FECHA DE NACIMIENTO]])/365)-0.5","v":124.79767625317098},null,null,null,null,null,null,null,null,null,null,null,null,null,null,null,null,null,null,null,null,null,null,null,null,null,null,null,null,null,null,null,null,null,null,null,null,null,"",null,{"$f":"IFERROR(IF(OR(LOWER(Tabla3[[#This Row],[SEXO]])=\"masculino\", LOWER(Tabla3[[#This Row],[SEXO]])=\"m\", LOWER(Tabla3[[#This Row],[SEXO]])=\"1\"), \"MASCULINO\",\n  IF(OR(LOWER(Tabla3[[#This Row],[SEXO]])=\"femenino\", LOWER(Tabla3[[#This Row],[SEXO]])=\"f\", LOWER(Tabla3[[#This Row],[SEXO]])=\"2\"), \"FEMENINO\",\n  \"\")), \"\")","v":""},0,null,null,null,0]
[{"$f":"IF(Tabla3[[#This Row],[APELLIDOS Y NOMBRES]]>0,ROW()-14,\"\")","v":""},{"$f":"IFERROR(IF(Tabla3[[#This Row],[APELLIDOS Y NOMBRES]]>0,VLOOKUP($H$7,DATA!$A$79:$B$160,2,FALSE),\"\"),\"\")","v":""},null,null,null,null,null,{"$f":"((NOW()-Tabla3[[#This Row],[FECHA DE NACIMIENTO]])/365)-0.5","v":124.79767625317098},null,null,null,null,null,null,null,null,null,null,null,null,null,null,null,null,null,null,null,null,null,null,null,null,null,null,null,null,null,null,null,null,null,null,null,null,null,"",null,{"$f":"IFERROR(IF(OR(LOWER(Tabla3[[#This Row],[SEXO]])=\"masculino\", LOWER(Tabla3[[#This Row],[SEXO]])=\"m\", LOWER(Tabla3[[#This Row],[SEXO]])=\"1\"), \"MASCULINO\",\n  IF(OR(LOWER(Tabla3[[#This Row],[SEXO]])=\"femenino\", LOWER(Tabla3[[#This Row],[SEXO]])=\"f\", LOWER(Tabla3[[#This Row],[SEXO]])=\"2\"), \"FEMENINO\",\n  \"\")), \"\")","v":""},0,null,null,null,0]
[{"$f":"IF(Tabla3[[#This Row],[APELLIDOS Y NOMBRES]]>0,ROW()-14,\"\")","v":""},{"$f":"IFERROR(IF(Tabla3[[#This Row],[APELLIDOS Y NOMBRES]]>0,VLOOKUP($H$7,DATA!$A$79:$B$160,2,FALSE),\"\"),\"\")","v":""},null,null,null,null,null,{"$f":"((NOW()-Tabla3[[#This Row],[FECHA DE NACIMIENTO]])/365)-0.5","v":124.79767625317098},null,null,null,null,null,null,null,null,null,null,null,null,null,null,null,null,null,null,null,null,null,null,null,null,null,null,null,null,null,null,null,null,null,null,null,null,null,"",null,{"$f":"IFERROR(IF(OR(LOWER(Tabla3[[#This Row],[SEXO]])=\"masculino\", LOWER(Tabla3[[#This Row],[SEXO]])=\"m\", LOWER(Tabla3[[#This Row],[SEXO]])=\"1\"), \"MASCULINO\",\n  IF(OR(LOWER(Tabla3[[#This Row],[SEXO]])=\"femenino\", LOWER(Tabla3[[#This Row],[SEXO]])=\"f\", LOWER(Tabla3[[#This Row],[SEXO]])=\"2\"), \"FEMENINO\",\n  \"\")), \"\")","v":""},0,null,null,null,0]
[{"$f":"IF(Tabla3[[#This Row],[APELLIDOS Y NOMBRES]]>0,ROW()-14,\"\")","v":""},{"$f":"IFERROR(IF(Tabla3[[#This Row],[APELLIDOS Y NOMBRES]]>0,VLOOKUP($H$7,DATA!$A$79:$B$160,2,FALSE),\"\"),\"\")","v":""},null,null,null,null,null,{"$f":"((NOW()-Tabla3[[#This Row],[FECHA DE NACIMIENTO]])/365)-0.5","v":124.79767625317098},null,null,null,null,null,null,null,null,null,null,null,null,null,null,null,null,null,null,null,null,null,null,null,null,null,null,null,null,null,null,null,null,null,null,null,null,null,"",null,{"$f":"IFERROR(IF(OR(LOWER(Tabla3[[#This Row],[SEXO]])=\"masculino\", LOWER(Tabla3[[#This Row],[SEXO]])=\"m\", LOWER(Tabla3[[#This Row],[SEXO]])=\"1\"), \"MASCULINO\",\n  IF(OR(LOWER(Tabla3[[#This Row],[SEXO]])=\"femenino\", LOWER(Tabla3[[#This Row],[SEXO]])=\"f\", LOWER(Tabla3[[#This Row],[SEXO]])=\"2\"), \"FEMENINO\",\n  \"\")), \"\")","v":""},0,null,null,null,0]
[{"$f":"IF(Tabla3[[#This Row],[APELLIDOS Y NOMBRES]]>0,ROW()-14,\"\")","v":""},{"$f":"IFERROR(IF(Tabla3[[#This Row],[APELLIDOS Y NOMBRES]]>0,VLOOKUP($H$7,DATA!$A$79:$B$160,2,FALSE),\"\"),\"\")","v":""},null,null,null,null,null,{"$f":"((NOW()-Tabla3[[#This Row],[FECHA DE NACIMIENTO]])/365)-0.5","v":124.79767625317098},null,null,null,null,null,null,null,null,null,null,null,null,null,null,null,null,null,null,null,null,null,null,null,null,null,null,null,null,null,null,null,null,null,null,null,null,null,"",null,{"$f":"IFERROR(IF(OR(LOWER(Tabla3[[#This Row],[SEXO]])=\"masculino\", LOWER(Tabla3[[#This Row],[SEXO]])=\"m\", LOWER(Tabla3[[#This Row],[SEXO]])=\"1\"), \"MASCULINO\",\n  IF(OR(LOWER(Tabla3[[#This Row],[SEXO]])=\"femenino\", LOWER(Tabla3[[#This Row],[SEXO]])=\"f\", LOWER(Tabla3[[#This Row],[SEXO]])=\"2\"), \"FEMENINO\",\n  \"\")), \"\")","v":""},0,null,null,null,0]
[{"$f":"IF(Tabla3[[#This Row],[APELLIDOS Y NOMBRES]]>0,ROW()-14,\"\")","v":""},{"$f":"IFERROR(IF(Tabla3[[#This Row],[APELLIDOS Y NOMBRES]]>0,VLOOKUP($H$7,DATA!$A$79:$B$160,2,FALSE),\"\"),\"\")","v":""},null,null,null,null,null,{"$f":"((NOW()-Tabla3[[#This Row],[FECHA DE NACIMIENTO]])/365)-0.5","v":124.79767625317098},null,null,null,null,null,null,null,null,null,null,null,null,null,null,null,null,null,null,null,null,null,null,null,null,null,null,null,null,null,null,null,null,null,null,null,null,null,"",null,{"$f":"IFERROR(IF(OR(LOWER(Tabla3[[#This Row],[SEXO]])=\"masculino\", LOWER(Tabla3[[#This Row],[SEXO]])=\"m\", LOWER(Tabla3[[#This Row],[SEXO]])=\"1\"), \"MASCULINO\",\n  IF(OR(LOWER(Tabla3[[#This Row],[SEXO]])=\"femenino\", LOWER(Tabla3[[#This Row],[SEXO]])=\"f\", LOWER(Tabla3[[#This Row],[SEXO]])=\"2\"), \"FEMENINO\",\n  \"\")), \"\")","v":""},0,null,null,null,0]
[{"$f":"IF(Tabla3[[#This Row],[APELLIDOS Y NOMBRES]]>0,ROW()-14,\"\")","v":""},{"$f":"IFERROR(IF(Tabla3[[#This Row],[APELLIDOS Y NOMBRES]]>0,VLOOKUP($H$7,DATA!$A$79:$B$160,2,FALSE),\"\"),\"\")","v":""},null,null,null,null,null,{"$f":"((NOW()-Tabla3[[#This Row],[FECHA DE NACIMIENTO]])/365)-0.5","v":124.79767625317098},null,null,null,null,null,null,null,null,null,null,null,null,null,null,null,null,null,null,null,null,null,null,null,null,null,null,null,null,null,null,null,null,null,null,null,null,null,"",null,{"$f":"IFERROR(IF(OR(LOWER(Tabla3[[#This Row],[SEXO]])=\"masculino\", LOWER(Tabla3[[#This Row],[SEXO]])=\"m\", LOWER(Tabla3[[#This Row],[SEXO]])=\"1\"), \"MASCULINO\",\n  IF(OR(LOWER(Tabla3[[#This Row],[SEXO]])=\"femenino\", LOWER(Tabla3[[#This Row],[SEXO]])=\"f\", LOWER(Tabla3[[#This Row],[SEXO]])=\"2\"), \"FEMENINO\",\n  \"\")), \"\")","v":""},0,null,null,null,0]
[{"$f":"IF(Tabla3[[#This Row],[APELLIDOS Y NOMBRES]]>0,ROW()-14,\"\")","v":""},{"$f":"IFERROR(IF(Tabla3[[#This Row],[APELLIDOS Y NOMBRES]]>0,VLOOKUP($H$7,DATA!$A$79:$B$160,2,FALSE),\"\"),\"\")","v":""},null,null,null,null,null,{"$f":"((NOW()-Tabla3[[#This Row],[FECHA DE NACIMIENTO]])/365)-0.5","v":124.79767625317098},null,null,null,null,null,null,null,null,null,null,null,null,null,null,null,null,null,null,null,null,null,null,null,null,null,null,null,null,null,null,null,null,null,null,null,null,null,"",null,{"$f":"IFERROR(IF(OR(LOWER(Tabla3[[#This Row],[SEXO]])=\"masculino\", LOWER(Tabla3[[#This Row],[SEXO]])=\"m\", LOWER(Tabla3[[#This Row],[SEXO]])=\"1\"), \"MASCULINO\",\n  IF(OR(LOWER(Tabla3[[#This Row],[SEXO]])=\"femenino\", LOWER(Tabla3[[#This Row],[SEXO]])=\"f\", LOWER(Tabla3[[#This Row],[SEXO]])=\"2\"), \"FEMENINO\",\n  \"\")), \"\")","v":""},0,null,null,null,0]
[{"$f":"IF(Tabla3[[#This Row],[APELLIDOS Y NOMBRES]]>0,ROW()-14,\"\")","v":""},{"$f":"IFERROR(IF(Tabla3[[#This Row],[APELLIDOS Y NOMBRES]]>0,VLOOKUP($H$7,DATA!$A$79:$B$160,2,FALSE),\"\"),\"\")","v":""},null,null,null,null,null,{"$f":"((NOW()-Tabla3[[#This Row],[FECHA DE NACIMIENTO]])/365)-0.5","v":124.79767625317098},null,null,null,null,null,null,null,null,null,null,null,null,null,null,null,null,null,null,null,null,null,null,null,null,null,null,null,null,null,null,null,null,null,null,null,null,null,{"$f":"IF(OR($C$5=\"\", $D208=\"\"), \"\", $C$5)","v":""},null,{"$f":"IFERROR(IF(OR(LOWER(Tabla3[[#This Row],[SEXO]])=\"masculino\", LOWER(Tabla3[[#This Row],[SEXO]])=\"m\", LOWER(Tabla3[[#This Row],[SEXO]])=\"1\"), \"MASCULINO\",\n  IF(OR(LOWER(Tabla3[[#This Row],[SEXO]])=\"femenino\", LOWER(Tabla3[[#This Row],[SEXO]])=\"f\", LOWER(Tabla3[[#This Row],[SEXO]])=\"2\"), \"FEMENINO\",\n  \"\")), \"\")","v":""},{"$f":"COUNTIF(P208:AH208,104)","v":0},null,null,null,{"$f":"IF(COUNTIF(P208:AI208,104)>0,1,0)","v":0}]
[{"$f":"IF(Tabla3[[#This Row],[APELLIDOS Y NOMBRES]]>0,ROW()-14,\"\")","v":""},{"$f":"IFERROR(IF(Tabla3[[#This Row],[APELLIDOS Y NOMBRES]]>0,VLOOKUP($H$7,DATA!$A$79:$B$160,2,FALSE),\"\"),\"\")","v":""},null,null,null,null,null,{"$f":"((NOW()-Tabla3[[#This Row],[FECHA DE NACIMIENTO]])/365)-0.5","v":124.79767625317098},null,null,null,null,null,null,null,null,null,null,null,null,null,null,null,null,null,null,null,null,null,null,null,null,null,null,null,null,null,null,null,null,null,null,null,null,null,"",null,{"$f":"IFERROR(IF(OR(LOWER(Tabla3[[#This Row],[SEXO]])=\"masculino\", LOWER(Tabla3[[#This Row],[SEXO]])=\"m\", LOWER(Tabla3[[#This Row],[SEXO]])=\"1\"), \"MASCULINO\",\n  IF(OR(LOWER(Tabla3[[#This Row],[SEXO]])=\"femenino\", LOWER(Tabla3[[#This Row],[SEXO]])=\"f\", LOWER(Tabla3[[#This Row],[SEXO]])=\"2\"), \"FEMENINO\",\n  \"\")), \"\")","v":""},0,null,null,null,0]
[{"$f":"IF(Tabla3[[#This Row],[APELLIDOS Y NOMBRES]]>0,ROW()-14,\"\")","v":""},{"$f":"IFERROR(IF(Tabla3[[#This Row],[APELLIDOS Y NOMBRES]]>0,VLOOKUP($H$7,DATA!$A$79:$B$160,2,FALSE),\"\"),\"\")","v":""},null,null,null,null,null,{"$f":"((NOW()-Tabla3[[#This Row],[FECHA DE NACIMIENTO]])/365)-0.5","v":124.79767625317098},null,null,null,null,null,null,null,null,null,null,null,null,null,null,null,null,null,null,null,null,null,null,null,null,null,null,null,null,null,null,null,null,null,null,null,null,null,"",null,{"$f":"IFERROR(IF(OR(LOWER(Tabla3[[#This Row],[SEXO]])=\"masculino\", LOWER(Tabla3[[#This Row],[SEXO]])=\"m\", LOWER(Tabla3[[#This Row],[SEXO]])=\"1\"), \"MASCULINO\",\n  IF(OR(LOWER(Tabla3[[#This Row],[SEXO]])=\"femenino\", LOWER(Tabla3[[#This Row],[SEXO]])=\"f\", LOWER(Tabla3[[#This Row],[SEXO]])=\"2\"), \"FEMENINO\",\n  \"\")), \"\")","v":""},0,null,null,null,0]
[{"$f":"IF(Tabla3[[#This Row],[APELLIDOS Y NOMBRES]]>0,ROW()-14,\"\")","v":""},{"$f":"IFERROR(IF(Tabla3[[#This Row],[APELLIDOS Y NOMBRES]]>0,VLOOKUP($H$7,DATA!$A$79:$B$160,2,FALSE),\"\"),\"\")","v":""},null,null,null,null,null,{"$f":"((NOW()-Tabla3[[#This Row],[FECHA DE NACIMIENTO]])/365)-0.5","v":124.79767625317098},null,null,null,null,null,null,null,null,null,null,null,null,null,null,null,null,null,null,null,null,null,null,null,null,null,null,null,null,null,null,null,null,null,null,null,null,null,"",null,{"$f":"IFERROR(IF(OR(LOWER(Tabla3[[#This Row],[SEXO]])=\"masculino\", LOWER(Tabla3[[#This Row],[SEXO]])=\"m\", LOWER(Tabla3[[#This Row],[SEXO]])=\"1\"), \"MASCULINO\",\n  IF(OR(LOWER(Tabla3[[#This Row],[SEXO]])=\"femenino\", LOWER(Tabla3[[#This Row],[SEXO]])=\"f\", LOWER(Tabla3[[#This Row],[SEXO]])=\"2\"), \"FEMENINO\",\n  \"\")), \"\")","v":""},0,null,null,null,0]
[{"$f":"IF(Tabla3[[#This Row],[APELLIDOS Y NOMBRES]]>0,ROW()-14,\"\")","v":""},{"$f":"IFERROR(IF(Tabla3[[#This Row],[APELLIDOS Y NOMBRES]]>0,VLOOKUP($H$7,DATA!$A$79:$B$160,2,FALSE),\"\"),\"\")","v":""},null,null,null,null,null,{"$f":"((NOW()-Tabla3[[#This Row],[FECHA DE NACIMIENTO]])/365)-0.5","v":124.79767625317098},null,null,null,null,null,null,null,null,null,null,null,null,null,null,null,null,null,null,null,null,null,null,null,null,null,null,null,null,null,null,null,null,null,null,null,null,null,"",null,{"$f":"IFERROR(IF(OR(LOWER(Tabla3[[#This Row],[SEXO]])=\"masculino\", LOWER(Tabla3[[#This Row],[SEXO]])=\"m\", LOWER(Tabla3[[#This Row],[SEXO]])=\"1\"), \"MASCULINO\",\n  IF(OR(LOWER(Tabla3[[#This Row],[SEXO]])=\"femenino\", LOWER(Tabla3[[#This Row],[SEXO]])=\"f\", LOWER(Tabla3[[#This Row],[SEXO]])=\"2\"), \"FEMENINO\",\n  \"\")), \"\")","v":""},0,null,null,null,0]
[{"$f":"IF(Tabla3[[#This Row],[APELLIDOS Y NOMBRES]]>0,ROW()-14,\"\")","v":""},{"$f":"IFERROR(IF(Tabla3[[#This Row],[APELLIDOS Y NOMBRES]]>0,VLOOKUP($H$7,DATA!$A$79:$B$160,2,FALSE),\"\"),\"\")","v":""},null,null,null,null,null,{"$f":"((NOW()-Tabla3[[#This Row],[FECHA DE NACIMIENTO]])/365)-0.5","v":124.79767625317098},null,null,null,null,null,null,null,null,null,null,null,null,null,null,null,null,null,null,null,null,null,null,null,null,null,null,null,null,null,null,null,null,null,null,null,null,null,"",null,{"$f":"IFERROR(IF(OR(LOWER(Tabla3[[#This Row],[SEXO]])=\"masculino\", LOWER(Tabla3[[#This Row],[SEXO]])=\"m\", LOWER(Tabla3[[#This Row],[SEXO]])=\"1\"), \"MASCULINO\",\n  IF(OR(LOWER(Tabla3[[#This Row],[SEXO]])=\"femenino\", LOWER(Tabla3[[#This Row],[SEXO]])=\"f\", LOWER(Tabla3[[#This Row],[SEXO]])=\"2\"), \"FEMENINO\",\n  \"\")), \"\")","v":""},0,null,null,null,0]
[{"$f":"IF(Tabla3[[#This Row],[APELLIDOS Y NOMBRES]]>0,ROW()-14,\"\")","v":""},{"$f":"IFERROR(IF(Tabla3[[#This Row],[APELLIDOS Y NOMBRES]]>0,VLOOKUP($H$7,DATA!$A$79:$B$160,2,FALSE),\"\"),\"\")","v":""},null,null,null,null,null,{"$f":"((NOW()-Tabla3[[#This Row],[FECHA DE NACIMIENTO]])/365)-0.5","v":124.79767625317098},null,null,null,null,null,null,null,null,null,null,null,null,null,null,null,null,null,null,null,null,null,null,null,null,null,null,null,null,null,null,null,null,null,null,null,null,null,"",null,{"$f":"IFERROR(IF(OR(LOWER(Tabla3[[#This Row],[SEXO]])=\"masculino\", LOWER(Tabla3[[#This Row],[SEXO]])=\"m\", LOWER(Tabla3[[#This Row],[SEXO]])=\"1\"), \"MASCULINO\",\n  IF(OR(LOWER(Tabla3[[#This Row],[SEXO]])=\"femenino\", LOWER(Tabla3[[#This Row],[SEXO]])=\"f\", LOWER(Tabla3[[#This Row],[SEXO]])=\"2\"), \"FEMENINO\",\n  \"\")), \"\")","v":""},0,null,null,null,0]
[{"$f":"IF(Tabla3[[#This Row],[APELLIDOS Y NOMBRES]]>0,ROW()-14,\"\")","v":""},{"$f":"IFERROR(IF(Tabla3[[#This Row],[APELLIDOS Y NOMBRES]]>0,VLOOKUP($H$7,DATA!$A$79:$B$160,2,FALSE),\"\"),\"\")","v":""},null,null,null,null,null,{"$f":"((NOW()-Tabla3[[#This Row],[FECHA DE NACIMIENTO]])/365)-0.5","v":124.79767625317098},null,null,null,null,null,null,null,null,null,null,null,null,null,null,null,null,null,null,null,null,null,null,null,null,null,null,null,null,null,null,null,null,null,null,null,null,null,"",null,{"$f":"IFERROR(IF(OR(LOWER(Tabla3[[#This Row],[SEXO]])=\"masculino\", LOWER(Tabla3[[#This Row],[SEXO]])=\"m\", LOWER(Tabla3[[#This Row],[SEXO]])=\"1\"), \"MASCULINO\",\n  IF(OR(LOWER(Tabla3[[#This Row],[SEXO]])=\"femenino\", LOWER(Tabla3[[#This Row],[SEXO]])=\"f\", LOWER(Tabla3[[#This Row],[SEXO]])=\"2\"), \"FEMENINO\",\n  \"\")), \"\")","v":""},0,null,null,null,0]
[{"$f":"IF(Tabla3[[#This Row],[APELLIDOS Y NOMBRES]]>0,ROW()-14,\"\")","v":""},{"$f":"IFERROR(IF(Tabla3[[#This Row],[APELLIDOS Y NOMBRES]]>0,VLOOKUP($H$7,DATA!$A$79:$B$160,2,FALSE),\"\"),\"\")","v":""},null,null,null,null,null,{"$f":"((NOW()-Tabla3[[#This Row],[FECHA DE NACIMIENTO]])/365)-0.5","v":124.79767625317098},null,null,null,null,null,null,null,null,null,null,null,null,null,null,null,null,null,null,null,null,null,null,null,null,null,null,null,null,null,null,null,null,null,null,null,null,null,"",null,{"$f":"IFERROR(IF(OR(LOWER(Tabla3[[#This Row],[SEXO]])=\"masculino\", LOWER(Tabla3[[#This Row],[SEXO]])=\"m\", LOWER(Tabla3[[#This Row],[SEXO]])=\"1\"), \"MASCULINO\",\n  IF(OR(LOWER(Tabla3[[#This Row],[SEXO]])=\"femenino\", LOWER(Tabla3[[#This Row],[SEXO]])=\"f\", LOWER(Tabla3[[#This Row],[SEXO]])=\"2\"), \"FEMENINO\",\n  \"\")), \"\")","v":""},0,null,null,null,0]
[{"$f":"IF(Tabla3[[#This Row],[APELLIDOS Y NOMBRES]]>0,ROW()-14,\"\")","v":""},{"$f":"IFERROR(IF(Tabla3[[#This Row],[APELLIDOS Y NOMBRES]]>0,VLOOKUP($H$7,DATA!$A$79:$B$160,2,FALSE),\"\"),\"\")","v":""},null,null,null,null,null,{"$f":"((NOW()-Tabla3[[#This Row],[FECHA DE NACIMIENTO]])/365)-0.5","v":124.79767625317098},null,null,null,null,null,null,null,null,null,null,null,null,null,null,null,null,null,null,null,null,null,null,null,null,null,null,null,null,null,null,null,null,null,null,null,null,null,"",null,{"$f":"IFERROR(IF(OR(LOWER(Tabla3[[#This Row],[SEXO]])=\"masculino\", LOWER(Tabla3[[#This Row],[SEXO]])=\"m\", LOWER(Tabla3[[#This Row],[SEXO]])=\"1\"), \"MASCULINO\",\n  IF(OR(LOWER(Tabla3[[#This Row],[SEXO]])=\"femenino\", LOWER(Tabla3[[#This Row],[SEXO]])=\"f\", LOWER(Tabla3[[#This Row],[SEXO]])=\"2\"), \"FEMENINO\",\n  \"\")), \"\")","v":""},0,null,null,null,0]
[{"$f":"IF(Tabla3[[#This Row],[APELLIDOS Y NOMBRES]]>0,ROW()-14,\"\")","v":""},{"$f":"IFERROR(IF(Tabla3[[#This Row],[APELLIDOS Y NOMBRES]]>0,VLOOKUP($H$7,DATA!$A$79:$B$160,2,FALSE),\"\"),\"\")","v":""},null,null,null,null,null,{"$f":"((NOW()-Tabla3[[#This Row],[FECHA DE NACIMIENTO]])/365)-0.5","v":124.79767625317098},null,null,null,null,null,null,null,null,null,null,null,null,null,null,null,null,null,null,null,null,null,null,null,null,null,null,null,null,null,null,null,null,null,null,null,null,null,"",null,{"$f":"IFERROR(IF(OR(LOWER(Tabla3[[#This Row],[SEXO]])=\"masculino\", LOWER(Tabla3[[#This Row],[SEXO]])=\"m\", LOWER(Tabla3[[#This Row],[SEXO]])=\"1\"), \"MASCULINO\",\n  IF(OR(LOWER(Tabla3[[#This Row],[SEXO]])=\"femenino\", LOWER(Tabla3[[#This Row],[SEXO]])=\"f\", LOWER(Tabla3[[#This Row],[SEXO]])=\"2\"), \"FEMENINO\",\n  \"\")), \"\")","v":""},0,null,null,null,0]
[{"$f":"IF(Tabla3[[#This Row],[APELLIDOS Y NOMBRES]]>0,ROW()-14,\"\")","v":""},{"$f":"IFERROR(IF(Tabla3[[#This Row],[APELLIDOS Y NOMBRES]]>0,VLOOKUP($H$7,DATA!$A$79:$B$160,2,FALSE),\"\"),\"\")","v":""},null,null,null,null,null,{"$f":"((NOW()-Tabla3[[#This Row],[FECHA DE NACIMIENTO]])/365)-0.5","v":124.79767625317098},null,null,null,null,null,null,null,null,null,null,null,null,null,null,null,null,null,null,null,null,null,null,null,null,null,null,null,null,null,null,null,null,null,null,null,null,null,"",null,{"$f":"IFERROR(IF(OR(LOWER(Tabla3[[#This Row],[SEXO]])=\"masculino\", LOWER(Tabla3[[#This Row],[SEXO]])=\"m\", LOWER(Tabla3[[#This Row],[SEXO]])=\"1\"), \"MASCULINO\",\n  IF(OR(LOWER(Tabla3[[#This Row],[SEXO]])=\"femenino\", LOWER(Tabla3[[#This Row],[SEXO]])=\"f\", LOWER(Tabla3[[#This Row],[SEXO]])=\"2\"), \"FEMENINO\",\n  \"\")), \"\")","v":""},0,null,null,null,0]
[{"$f":"IF(Tabla3[[#This Row],[APELLIDOS Y NOMBRES]]>0,ROW()-14,\"\")","v":""},{"$f":"IFERROR(IF(Tabla3[[#This Row],[APELLIDOS Y NOMBRES]]>0,VLOOKUP($H$7,DATA!$A$79:$B$160,2,FALSE),\"\"),\"\")","v":""},null,null,null,null,null,{"$f":"((NOW()-Tabla3[[#This Row],[FECHA DE NACIMIENTO]])/365)-0.5","v":124.79767625317098},null,null,null,null,null,null,null,null,null,null,null,null,null,null,null,null,null,null,null,null,null,null,null,null,null,null,null,null,null,null,null,null,null,null,null,null,null,"",null,{"$f":"IFERROR(IF(OR(LOWER(Tabla3[[#This Row],[SEXO]])=\"masculino\", LOWER(Tabla3[[#This Row],[SEXO]])=\"m\", LOWER(Tabla3[[#This Row],[SEXO]])=\"1\"), \"MASCULINO\",\n  IF(OR(LOWER(Tabla3[[#This Row],[SEXO]])=\"femenino\", LOWER(Tabla3[[#This Row],[SEXO]])=\"f\", LOWER(Tabla3[[#This Row],[SEXO]])=\"2\"), \"FEMENINO\",\n  \"\")), \"\")","v":""},0,null,null,null,0]
[{"$f":"IF(Tabla3[[#This Row],[APELLIDOS Y NOMBRES]]>0,ROW()-14,\"\")","v":""},{"$f":"IFERROR(IF(Tabla3[[#This Row],[APELLIDOS Y NOMBRES]]>0,VLOOKUP($H$7,DATA!$A$79:$B$160,2,FALSE),\"\"),\"\")","v":""},null,null,null,null,null,{"$f":"((NOW()-Tabla3[[#This Row],[FECHA DE NACIMIENTO]])/365)-0.5","v":124.79767625317098},null,null,null,null,null,null,null,null,null,null,null,null,null,null,null,null,null,null,null,null,null,null,null,null,null,null,null,null,null,null,null,null,null,null,null,null,null,"",null,{"$f":"IFERROR(IF(OR(LOWER(Tabla3[[#This Row],[SEXO]])=\"masculino\", LOWER(Tabla3[[#This Row],[SEXO]])=\"m\", LOWER(Tabla3[[#This Row],[SEXO]])=\"1\"), \"MASCULINO\",\n  IF(OR(LOWER(Tabla3[[#This Row],[SEXO]])=\"femenino\", LOWER(Tabla3[[#This Row],[SEXO]])=\"f\", LOWER(Tabla3[[#This Row],[SEXO]])=\"2\"), \"FEMENINO\",\n  \"\")), \"\")","v":""},0,null,null,null,0]
[{"$f":"IF(Tabla3[[#This Row],[APELLIDOS Y NOMBRES]]>0,ROW()-14,\"\")","v":""},{"$f":"IFERROR(IF(Tabla3[[#This Row],[APELLIDOS Y NOMBRES]]>0,VLOOKUP($H$7,DATA!$A$79:$B$160,2,FALSE),\"\"),\"\")","v":""},null,null,null,null,null,{"$f":"((NOW()-Tabla3[[#This Row],[FECHA DE NACIMIENTO]])/365)-0.5","v":124.79767625317098},null,null,null,null,null,null,null,null,null,null,null,null,null,null,null,null,null,null,null,null,null,null,null,null,null,null,null,null,null,null,null,null,null,null,null,null,null,"",null,{"$f":"IFERROR(IF(OR(LOWER(Tabla3[[#This Row],[SEXO]])=\"masculino\", LOWER(Tabla3[[#This Row],[SEXO]])=\"m\", LOWER(Tabla3[[#This Row],[SEXO]])=\"1\"), \"MASCULINO\",\n  IF(OR(LOWER(Tabla3[[#This Row],[SEXO]])=\"femenino\", LOWER(Tabla3[[#This Row],[SEXO]])=\"f\", LOWER(Tabla3[[#This Row],[SEXO]])=\"2\"), \"FEMENINO\",\n  \"\")), \"\")","v":""},0,null,null,null,0]
[{"$f":"IF(Tabla3[[#This Row],[APELLIDOS Y NOMBRES]]>0,ROW()-14,\"\")","v":""},{"$f":"IFERROR(IF(Tabla3[[#This Row],[APELLIDOS Y NOMBRES]]>0,VLOOKUP($H$7,DATA!$A$79:$B$160,2,FALSE),\"\"),\"\")","v":""},null,null,null,null,null,{"$f":"((NOW()-Tabla3[[#This Row],[FECHA DE NACIMIENTO]])/365)-0.5","v":124.79767625317098},null,null,null,null,null,null,null,null,null,null,null,null,null,null,null,null,null,null,null,null,null,null,null,null,null,null,null,null,null,null,null,null,null,null,null,null,null,"",null,{"$f":"IFERROR(IF(OR(LOWER(Tabla3[[#This Row],[SEXO]])=\"masculino\", LOWER(Tabla3[[#This Row],[SEXO]])=\"m\", LOWER(Tabla3[[#This Row],[SEXO]])=\"1\"), \"MASCULINO\",\n  IF(OR(LOWER(Tabla3[[#This Row],[SEXO]])=\"femenino\", LOWER(Tabla3[[#This Row],[SEXO]])=\"f\", LOWER(Tabla3[[#This Row],[SEXO]])=\"2\"), \"FEMENINO\",\n  \"\")), \"\")","v":""},0,null,null,null,0]
[{"$f":"IF(Tabla3[[#This Row],[APELLIDOS Y NOMBRES]]>0,ROW()-14,\"\")","v":""},{"$f":"IFERROR(IF(Tabla3[[#This Row],[APELLIDOS Y NOMBRES]]>0,VLOOKUP($H$7,DATA!$A$79:$B$160,2,FALSE),\"\"),\"\")","v":""},null,null,null,null,null,{"$f":"((NOW()-Tabla3[[#This Row],[FECHA DE NACIMIENTO]])/365)-0.5","v":124.79767625317098},null,null,null,null,null,null,null,null,null,null,null,null,null,null,null,null,null,null,null,null,null,null,null,null,null,null,null,null,null,null,null,null,null,null,null,null,null,"",null,{"$f":"IFERROR(IF(OR(LOWER(Tabla3[[#This Row],[SEXO]])=\"masculino\", LOWER(Tabla3[[#This Row],[SEXO]])=\"m\", LOWER(Tabla3[[#This Row],[SEXO]])=\"1\"), \"MASCULINO\",\n  IF(OR(LOWER(Tabla3[[#This Row],[SEXO]])=\"femenino\", LOWER(Tabla3[[#This Row],[SEXO]])=\"f\", LOWER(Tabla3[[#This Row],[SEXO]])=\"2\"), \"FEMENINO\",\n  \"\")), \"\")","v":""},0,null,null,null,0]
[{"$f":"IF(Tabla3[[#This Row],[APELLIDOS Y NOMBRES]]>0,ROW()-14,\"\")","v":""},{"$f":"IFERROR(IF(Tabla3[[#This Row],[APELLIDOS Y NOMBRES]]>0,VLOOKUP($H$7,DATA!$A$79:$B$160,2,FALSE),\"\"),\"\")","v":""},null,null,null,null,null,{"$f":"((NOW()-Tabla3[[#This Row],[FECHA DE NACIMIENTO]])/365)-0.5","v":124.79767625317098},null,null,null,null,null,null,null,null,null,null,null,null,null,null,null,null,null,null,null,null,null,null,null,null,null,null,null,null,null,null,null,null,null,null,null,null,null,"",null,{"$f":"IFERROR(IF(OR(LOWER(Tabla3[[#This Row],[SEXO]])=\"masculino\", LOWER(Tabla3[[#This Row],[SEXO]])=\"m\", LOWER(Tabla3[[#This Row],[SEXO]])=\"1\"), \"MASCULINO\",\n  IF(OR(LOWER(Tabla3[[#This Row],[SEXO]])=\"femenino\", LOWER(Tabla3[[#This Row],[SEXO]])=\"f\", LOWER(Tabla3[[#This Row],[SEXO]])=\"2\"), \"FEMENINO\",\n  \"\")), \"\")","v":""},0,null,null,null,0]
[{"$f":"IF(Tabla3[[#This Row],[APELLIDOS Y NOMBRES]]>0,ROW()-14,\"\")","v":""},{"$f":"IFERROR(IF(Tabla3[[#This Row],[APELLIDOS Y NOMBRES]]>0,VLOOKUP($H$7,DATA!$A$79:$B$160,2,FALSE),\"\"),\"\")","v":""},null,null,null,null,null,{"$f":"((NOW()-Tabla3[[#This Row],[FECHA DE NACIMIENTO]])/365)-0.5","v":124.79767625317098},null,null,null,null,null,null,null,null,null,null,null,null,null,null,null,null,null,null,null,null,null,null,null,null,null,null,null,null,null,null,null,null,null,null,null,null,null,"",null,{"$f":"IFERROR(IF(OR(LOWER(Tabla3[[#This Row],[SEXO]])=\"masculino\", LOWER(Tabla3[[#This Row],[SEXO]])=\"m\", LOWER(Tabla3[[#This Row],[SEXO]])=\"1\"), \"MASCULINO\",\n  IF(OR(LOWER(Tabla3[[#This Row],[SEXO]])=\"femenino\", LOWER(Tabla3[[#This Row],[SEXO]])=\"f\", LOWER(Tabla3[[#This Row],[SEXO]])=\"2\"), \"FEMENINO\",\n  \"\")), \"\")","v":""},0,null,null,null,0]
[{"$f":"IF(Tabla3[[#This Row],[APELLIDOS Y NOMBRES]]>0,ROW()-14,\"\")","v":""},{"$f":"IFERROR(IF(Tabla3[[#This Row],[APELLIDOS Y NOMBRES]]>0,VLOOKUP($H$7,DATA!$A$79:$B$160,2,FALSE),\"\"),\"\")","v":""},null,null,null,null,null,{"$f":"((NOW()-Tabla3[[#This Row],[FECHA DE NACIMIENTO]])/365)-0.5","v":124.79767625317098},null,null,null,null,null,null,null,null,null,null,null,null,null,null,null,null,null,null,null,null,null,null,null,null,null,null,null,null,null,null,null,null,null,null,null,null,null,"",null,{"$f":"IFERROR(IF(OR(LOWER(Tabla3[[#This Row],[SEXO]])=\"masculino\", LOWER(Tabla3[[#This Row],[SEXO]])=\"m\", LOWER(Tabla3[[#This Row],[SEXO]])=\"1\"), \"MASCULINO\",\n  IF(OR(LOWER(Tabla3[[#This Row],[SEXO]])=\"femenino\", LOWER(Tabla3[[#This Row],[SEXO]])=\"f\", LOWER(Tabla3[[#This Row],[SEXO]])=\"2\"), \"FEMENINO\",\n  \"\")), \"\")","v":""},0,null,null,null,0]
[{"$f":"IF(Tabla3[[#This Row],[APELLIDOS Y NOMBRES]]>0,ROW()-14,\"\")","v":""},{"$f":"IFERROR(IF(Tabla3[[#This Row],[APELLIDOS Y NOMBRES]]>0,VLOOKUP($H$7,DATA!$A$79:$B$160,2,FALSE),\"\"),\"\")","v":""},null,null,null,null,null,{"$f":"((NOW()-Tabla3[[#This Row],[FECHA DE NACIMIENTO]])/365)-0.5","v":124.79767625317098},null,null,null,null,null,null,null,null,null,null,null,null,null,null,null,null,null,null,null,null,null,null,null,null,null,null,null,null,null,null,null,null,null,null,null,null,null,"",null,{"$f":"IFERROR(IF(OR(LOWER(Tabla3[[#This Row],[SEXO]])=\"masculino\", LOWER(Tabla3[[#This Row],[SEXO]])=\"m\", LOWER(Tabla3[[#This Row],[SEXO]])=\"1\"), \"MASCULINO\",\n  IF(OR(LOWER(Tabla3[[#This Row],[SEXO]])=\"femenino\", LOWER(Tabla3[[#This Row],[SEXO]])=\"f\", LOWER(Tabla3[[#This Row],[SEXO]])=\"2\"), \"FEMENINO\",\n  \"\")), \"\")","v":""},0,null,null,null,0]
[{"$f":"IF(Tabla3[[#This Row],[APELLIDOS Y NOMBRES]]>0,ROW()-14,\"\")","v":""},{"$f":"IFERROR(IF(Tabla3[[#This Row],[APELLIDOS Y NOMBRES]]>0,VLOOKUP($H$7,DATA!$A$79:$B$160,2,FALSE),\"\"),\"\")","v":""},null,null,null,null,null,{"$f":"((NOW()-Tabla3[[#This Row],[FECHA DE NACIMIENTO]])/365)-0.5","v":124.79767625317098},null,null,null,null,null,null,null,null,null,null,null,null,null,null,null,null,null,null,null,null,null,null,null,null,null,null,null,null,null,null,null,null,null,null,null,null,null,"",null,{"$f":"IFERROR(IF(OR(LOWER(Tabla3[[#This Row],[SEXO]])=\"masculino\", LOWER(Tabla3[[#This Row],[SEXO]])=\"m\", LOWER(Tabla3[[#This Row],[SEXO]])=\"1\"), \"MASCULINO\",\n  IF(OR(LOWER(Tabla3[[#This Row],[SEXO]])=\"femenino\", LOWER(Tabla3[[#This Row],[SEXO]])=\"f\", LOWER(Tabla3[[#This Row],[SEXO]])=\"2\"), \"FEMENINO\",\n  \"\")), \"\")","v":""},0,null,null,null,0]
[{"$f":"IF(Tabla3[[#This Row],[APELLIDOS Y NOMBRES]]>0,ROW()-14,\"\")","v":""},{"$f":"IFERROR(IF(Tabla3[[#This Row],[APELLIDOS Y NOMBRES]]>0,VLOOKUP($H$7,DATA!$A$79:$B$160,2,FALSE),\"\"),\"\")","v":""},null,null,null,null,null,{"$f":"((NOW()-Tabla3[[#This Row],[FECHA DE NACIMIENTO]])/365)-0.5","v":124.79767625317098},null,null,null,null,null,null,null,null,null,null,null,null,null,null,null,null,null,null,null,null,null,null,null,null,null,null,null,null,null,null,null,null,null,null,null,null,null,"",null,{"$f":"IFERROR(IF(OR(LOWER(Tabla3[[#This Row],[SEXO]])=\"masculino\", LOWER(Tabla3[[#This Row],[SEXO]])=\"m\", LOWER(Tabla3[[#This Row],[SEXO]])=\"1\"), \"MASCULINO\",\n  IF(OR(LOWER(Tabla3[[#This Row],[SEXO]])=\"femenino\", LOWER(Tabla3[[#This Row],[SEXO]])=\"f\", LOWER(Tabla3[[#This Row],[SEXO]])=\"2\"), \"FEMENINO\",\n  \"\")), \"\")","v":""},0,null,null,null,0]
[{"$f":"IF(Tabla3[[#This Row],[APELLIDOS Y NOMBRES]]>0,ROW()-14,\"\")","v":""},{"$f":"IFERROR(IF(Tabla3[[#This Row],[APELLIDOS Y NOMBRES]]>0,VLOOKUP($H$7,DATA!$A$79:$B$160,2,FALSE),\"\"),\"\")","v":""},null,null,null,null,null,{"$f":"((NOW()-Tabla3[[#This Row],[FECHA DE NACIMIENTO]])/365)-0.5","v":124.79767625317098},null,null,null,null,null,null,null,null,null,null,null,null,null,null,null,null,null,null,null,null,null,null,null,null,null,null,null,null,null,null,null,null,null,null,null,null,null,"",null,{"$f":"IFERROR(IF(OR(LOWER(Tabla3[[#This Row],[SEXO]])=\"masculino\", LOWER(Tabla3[[#This Row],[SEXO]])=\"m\", LOWER(Tabla3[[#This Row],[SEXO]])=\"1\"), \"MASCULINO\",\n  IF(OR(LOWER(Tabla3[[#This Row],[SEXO]])=\"femenino\", LOWER(Tabla3[[#This Row],[SEXO]])=\"f\", LOWER(Tabla3[[#This Row],[SEXO]])=\"2\"), \"FEMENINO\",\n  \"\")), \"\")","v":""},0,null,null,null,0]
[{"$f":"IF(Tabla3[[#This Row],[APELLIDOS Y NOMBRES]]>0,ROW()-14,\"\")","v":""},{"$f":"IFERROR(IF(Tabla3[[#This Row],[APELLIDOS Y NOMBRES]]>0,VLOOKUP($H$7,DATA!$A$79:$B$160,2,FALSE),\"\"),\"\")","v":""},null,null,null,null,null,{"$f":"((NOW()-Tabla3[[#This Row],[FECHA DE NACIMIENTO]])/365)-0.5","v":124.79767625317098},null,null,null,null,null,null,null,null,null,null,null,null,null,null,null,null,null,null,null,null,null,null,null,null,null,null,null,null,null,null,null,null,null,null,null,null,null,"",null,{"$f":"IFERROR(IF(OR(LOWER(Tabla3[[#This Row],[SEXO]])=\"masculino\", LOWER(Tabla3[[#This Row],[SEXO]])=\"m\", LOWER(Tabla3[[#This Row],[SEXO]])=\"1\"), \"MASCULINO\",\n  IF(OR(LOWER(Tabla3[[#This Row],[SEXO]])=\"femenino\", LOWER(Tabla3[[#This Row],[SEXO]])=\"f\", LOWER(Tabla3[[#This Row],[SEXO]])=\"2\"), \"FEMENINO\",\n  \"\")), \"\")","v":""},0,null,null,null,0]
[{"$f":"IF(Tabla3[[#This Row],[APELLIDOS Y NOMBRES]]>0,ROW()-14,\"\")","v":""},{"$f":"IFERROR(IF(Tabla3[[#This Row],[APELLIDOS Y NOMBRES]]>0,VLOOKUP($H$7,DATA!$A$79:$B$160,2,FALSE),\"\"),\"\")","v":""},null,null,null,null,null,{"$f":"((NOW()-Tabla3[[#This Row],[FECHA DE NACIMIENTO]])/365)-0.5","v":124.79767625317098},null,null,null,null,null,null,null,null,null,null,null,null,null,null,null,null,null,null,null,null,null,null,null,null,null,null,null,null,null,null,null,null,null,null,null,null,null,"",null,{"$f":"IFERROR(IF(OR(LOWER(Tabla3[[#This Row],[SEXO]])=\"masculino\", LOWER(Tabla3[[#This Row],[SEXO]])=\"m\", LOWER(Tabla3[[#This Row],[SEXO]])=\"1\"), \"MASCULINO\",\n  IF(OR(LOWER(Tabla3[[#This Row],[SEXO]])=\"femenino\", LOWER(Tabla3[[#This Row],[SEXO]])=\"f\", LOWER(Tabla3[[#This Row],[SEXO]])=\"2\"), \"FEMENINO\",\n  \"\")), \"\")","v":""},0,null,null,null,0]
[{"$f":"IF(Tabla3[[#This Row],[APELLIDOS Y NOMBRES]]>0,ROW()-14,\"\")","v":""},{"$f":"IFERROR(IF(Tabla3[[#This Row],[APELLIDOS Y NOMBRES]]>0,VLOOKUP($H$7,DATA!$A$79:$B$160,2,FALSE),\"\"),\"\")","v":""},null,null,null,null,null,{"$f":"((NOW()-Tabla3[[#This Row],[FECHA DE NACIMIENTO]])/365)-0.5","v":124.79767625317098},null,null,null,null,null,null,null,null,null,null,null,null,null,null,null,null,null,null,null,null,null,null,null,null,null,null,null,null,null,null,null,null,null,null,null,null,null,"",null,{"$f":"IFERROR(IF(OR(LOWER(Tabla3[[#This Row],[SEXO]])=\"masculino\", LOWER(Tabla3[[#This Row],[SEXO]])=\"m\", LOWER(Tabla3[[#This Row],[SEXO]])=\"1\"), \"MASCULINO\",\n  IF(OR(LOWER(Tabla3[[#This Row],[SEXO]])=\"femenino\", LOWER(Tabla3[[#This Row],[SEXO]])=\"f\", LOWER(Tabla3[[#This Row],[SEXO]])=\"2\"), \"FEMENINO\",\n  \"\")), \"\")","v":""},0,null,null,null,0]
[{"$f":"IF(Tabla3[[#This Row],[APELLIDOS Y NOMBRES]]>0,ROW()-14,\"\")","v":""},{"$f":"IFERROR(IF(Tabla3[[#This Row],[APELLIDOS Y NOMBRES]]>0,VLOOKUP($H$7,DATA!$A$79:$B$160,2,FALSE),\"\"),\"\")","v":""},null,null,null,null,null,{"$f":"((NOW()-Tabla3[[#This Row],[FECHA DE NACIMIENTO]])/365)-0.5","v":124.79767625317098},null,null,null,null,null,null,null,null,null,null,null,null,null,null,null,null,null,null,null,null,null,null,null,null,null,null,null,null,null,null,null,null,null,null,null,null,null,"",null,{"$f":"IFERROR(IF(OR(LOWER(Tabla3[[#This Row],[SEXO]])=\"masculino\", LOWER(Tabla3[[#This Row],[SEXO]])=\"m\", LOWER(Tabla3[[#This Row],[SEXO]])=\"1\"), \"MASCULINO\",\n  IF(OR(LOWER(Tabla3[[#This Row],[SEXO]])=\"femenino\", LOWER(Tabla3[[#This Row],[SEXO]])=\"f\", LOWER(Tabla3[[#This Row],[SEXO]])=\"2\"), \"FEMENINO\",\n  \"\")), \"\")","v":""},0,null,null,null,0]
[{"$f":"IF(Tabla3[[#This Row],[APELLIDOS Y NOMBRES]]>0,ROW()-14,\"\")","v":""},{"$f":"IFERROR(IF(Tabla3[[#This Row],[APELLIDOS Y NOMBRES]]>0,VLOOKUP($H$7,DATA!$A$79:$B$160,2,FALSE),\"\"),\"\")","v":""},null,null,null,null,null,{"$f":"((NOW()-Tabla3[[#This Row],[FECHA DE NACIMIENTO]])/365)-0.5","v":124.79767625317098},null,null,null,null,null,null,null,null,null,null,null,null,null,null,null,null,null,null,null,null,null,null,null,null,null,null,null,null,null,null,null,null,null,null,null,null,null,"",null,{"$f":"IFERROR(IF(OR(LOWER(Tabla3[[#This Row],[SEXO]])=\"masculino\", LOWER(Tabla3[[#This Row],[SEXO]])=\"m\", LOWER(Tabla3[[#This Row],[SEXO]])=\"1\"), \"MASCULINO\",\n  IF(OR(LOWER(Tabla3[[#This Row],[SEXO]])=\"femenino\", LOWER(Tabla3[[#This Row],[SEXO]])=\"f\", LOWER(Tabla3[[#This Row],[SEXO]])=\"2\"), \"FEMENINO\",\n  \"\")), \"\")","v":""},0,null,null,null,0]
[{"$f":"IF(Tabla3[[#This Row],[APELLIDOS Y NOMBRES]]>0,ROW()-14,\"\")","v":""},{"$f":"IFERROR(IF(Tabla3[[#This Row],[APELLIDOS Y NOMBRES]]>0,VLOOKUP($H$7,DATA!$A$79:$B$160,2,FALSE),\"\"),\"\")","v":""},null,null,null,null,null,{"$f":"((NOW()-Tabla3[[#This Row],[FECHA DE NACIMIENTO]])/365)-0.5","v":124.79767625317098},null,null,null,null,null,null,null,null,null,null,null,null,null,null,null,null,null,null,null,null,null,null,null,null,null,null,null,null,null,null,null,null,null,null,null,null,null,"",null,{"$f":"IFERROR(IF(OR(LOWER(Tabla3[[#This Row],[SEXO]])=\"masculino\", LOWER(Tabla3[[#This Row],[SEXO]])=\"m\", LOWER(Tabla3[[#This Row],[SEXO]])=\"1\"), \"MASCULINO\",\n  IF(OR(LOWER(Tabla3[[#This Row],[SEXO]])=\"femenino\", LOWER(Tabla3[[#This Row],[SEXO]])=\"f\", LOWER(Tabla3[[#This Row],[SEXO]])=\"2\"), \"FEMENINO\",\n  \"\")), \"\")","v":""},0,null,null,null,0]
[{"$f":"IF(Tabla3[[#This Row],[APELLIDOS Y NOMBRES]]>0,ROW()-14,\"\")","v":""},{"$f":"IFERROR(IF(Tabla3[[#This Row],[APELLIDOS Y NOMBRES]]>0,VLOOKUP($H$7,DATA!$A$79:$B$160,2,FALSE),\"\"),\"\")","v":""},null,null,null,null,null,{"$f":"((NOW()-Tabla3[[#This Row],[FECHA DE NACIMIENTO]])/365)-0.5","v":124.79767625317098},null,null,null,null,null,null,null,null,null,null,null,null,null,null,null,null,null,null,null,null,null,null,null,null,null,null,null,null,null,null,null,null,null,null,null,null,null,"",null,{"$f":"IFERROR(IF(OR(LOWER(Tabla3[[#This Row],[SEXO]])=\"masculino\", LOWER(Tabla3[[#This Row],[SEXO]])=\"m\", LOWER(Tabla3[[#This Row],[SEXO]])=\"1\"), \"MASCULINO\",\n  IF(OR(LOWER(Tabla3[[#This Row],[SEXO]])=\"femenino\", LOWER(Tabla3[[#This Row],[SEXO]])=\"f\", LOWER(Tabla3[[#This Row],[SEXO]])=\"2\"), \"FEMENINO\",\n  \"\")), \"\")","v":""},0,null,null,null,0]
[{"$f":"IF(Tabla3[[#This Row],[APELLIDOS Y NOMBRES]]>0,ROW()-14,\"\")","v":""},{"$f":"IFERROR(IF(Tabla3[[#This Row],[APELLIDOS Y NOMBRES]]>0,VLOOKUP($H$7,DATA!$A$79:$B$160,2,FALSE),\"\"),\"\")","v":""},null,null,null,null,null,{"$f":"((NOW()-Tabla3[[#This Row],[FECHA DE NACIMIENTO]])/365)-0.5","v":124.79767625317098},null,null,null,null,null,null,null,null,null,null,null,null,null,null,null,null,null,null,null,null,null,null,null,null,null,null,null,null,null,null,null,null,null,null,null,null,null,"",null,{"$f":"IFERROR(IF(OR(LOWER(Tabla3[[#This Row],[SEXO]])=\"masculino\", LOWER(Tabla3[[#This Row],[SEXO]])=\"m\", LOWER(Tabla3[[#This Row],[SEXO]])=\"1\"), \"MASCULINO\",\n  IF(OR(LOWER(Tabla3[[#This Row],[SEXO]])=\"femenino\", LOWER(Tabla3[[#This Row],[SEXO]])=\"f\", LOWER(Tabla3[[#This Row],[SEXO]])=\"2\"), \"FEMENINO\",\n  \"\")), \"\")","v":""},0,null,null,null,0]
[{"$f":"IF(Tabla3[[#This Row],[APELLIDOS Y NOMBRES]]>0,ROW()-14,\"\")","v":""},{"$f":"IFERROR(IF(Tabla3[[#This Row],[APELLIDOS Y NOMBRES]]>0,VLOOKUP($H$7,DATA!$A$79:$B$160,2,FALSE),\"\"),\"\")","v":""},null,null,null,null,null,{"$f":"((NOW()-Tabla3[[#This Row],[FECHA DE NACIMIENTO]])/365)-0.5","v":124.79767625317098},null,null,null,null,null,null,null,null,null,null,null,null,null,null,null,null,null,null,null,null,null,null,null,null,null,null,null,null,null,null,null,null,null,null,null,null,null,"",null,{"$f":"IFERROR(IF(OR(LOWER(Tabla3[[#This Row],[SEXO]])=\"masculino\", LOWER(Tabla3[[#This Row],[SEXO]])=\"m\", LOWER(Tabla3[[#This Row],[SEXO]])=\"1\"), \"MASCULINO\",\n  IF(OR(LOWER(Tabla3[[#This Row],[SEXO]])=\"femenino\", LOWER(Tabla3[[#This Row],[SEXO]])=\"f\", LOWER(Tabla3[[#This Row],[SEXO]])=\"2\"), \"FEMENINO\",\n  \"\")), \"\")","v":""},0,null,null,null,0]
[{"$f":"IF(Tabla3[[#This Row],[APELLIDOS Y NOMBRES]]>0,ROW()-14,\"\")","v":""},{"$f":"IFERROR(IF(Tabla3[[#This Row],[APELLIDOS Y NOMBRES]]>0,VLOOKUP($H$7,DATA!$A$79:$B$160,2,FALSE),\"\"),\"\")","v":""},null,null,null,null,null,{"$f":"((NOW()-Tabla3[[#This Row],[FECHA DE NACIMIENTO]])/365)-0.5","v":124.79767625317098},null,null,null,null,null,null,null,null,null,null,null,null,null,null,null,null,null,null,null,null,null,null,null,null,null,null,null,null,null,null,null,null,null,null,null,null,null,"",null,{"$f":"IFERROR(IF(OR(LOWER(Tabla3[[#This Row],[SEXO]])=\"masculino\", LOWER(Tabla3[[#This Row],[SEXO]])=\"m\", LOWER(Tabla3[[#This Row],[SEXO]])=\"1\"), \"MASCULINO\",\n  IF(OR(LOWER(Tabla3[[#This Row],[SEXO]])=\"femenino\", LOWER(Tabla3[[#This Row],[SEXO]])=\"f\", LOWER(Tabla3[[#This Row],[SEXO]])=\"2\"), \"FEMENINO\",\n  \"\")), \"\")","v":""},0,null,null,null,0]
[{"$f":"IF(Tabla3[[#This Row],[APELLIDOS Y NOMBRES]]>0,ROW()-14,\"\")","v":""},{"$f":"IFERROR(IF(Tabla3[[#This Row],[APELLIDOS Y NOMBRES]]>0,VLOOKUP($H$7,DATA!$A$79:$B$160,2,FALSE),\"\"),\"\")","v":""},null,null,null,null,null,{"$f":"((NOW()-Tabla3[[#This Row],[FECHA DE NACIMIENTO]])/365)-0.5","v":124.79767625317098},null,null,null,null,null,null,null,null,null,null,null,null,null,null,null,null,null,null,null,null,null,null,null,null,null,null,null,null,null,null,null,null,null,null,null,null,null,"",null,{"$f":"IFERROR(IF(OR(LOWER(Tabla3[[#This Row],[SEXO]])=\"masculino\", LOWER(Tabla3[[#This Row],[SEXO]])=\"m\", LOWER(Tabla3[[#This Row],[SEXO]])=\"1\"), \"MASCULINO\",\n  IF(OR(LOWER(Tabla3[[#This Row],[SEXO]])=\"femenino\", LOWER(Tabla3[[#This Row],[SEXO]])=\"f\", LOWER(Tabla3[[#This Row],[SEXO]])=\"2\"), \"FEMENINO\",\n  \"\")), \"\")","v":""},0,null,null,null,0]
[{"$f":"IF(Tabla3[[#This Row],[APELLIDOS Y NOMBRES]]>0,ROW()-14,\"\")","v":""},{"$f":"IFERROR(IF(Tabla3[[#This Row],[APELLIDOS Y NOMBRES]]>0,VLOOKUP($H$7,DATA!$A$79:$B$160,2,FALSE),\"\"),\"\")","v":""},null,null,null,null,null,{"$f":"((NOW()-Tabla3[[#This Row],[FECHA DE NACIMIENTO]])/365)-0.5","v":124.79767625317098},null,null,null,null,null,null,null,null,null,null,null,null,null,null,null,null,null,null,null,null,null,null,null,null,null,null,null,null,null,null,null,null,null,null,null,null,null,"",null,{"$f":"IFERROR(IF(OR(LOWER(Tabla3[[#This Row],[SEXO]])=\"masculino\", LOWER(Tabla3[[#This Row],[SEXO]])=\"m\", LOWER(Tabla3[[#This Row],[SEXO]])=\"1\"), \"MASCULINO\",\n  IF(OR(LOWER(Tabla3[[#This Row],[SEXO]])=\"femenino\", LOWER(Tabla3[[#This Row],[SEXO]])=\"f\", LOWER(Tabla3[[#This Row],[SEXO]])=\"2\"), \"FEMENINO\",\n  \"\")), \"\")","v":""},0,null,null,null,0]
[{"$f":"IF(Tabla3[[#This Row],[APELLIDOS Y NOMBRES]]>0,ROW()-14,\"\")","v":""},{"$f":"IFERROR(IF(Tabla3[[#This Row],[APELLIDOS Y NOMBRES]]>0,VLOOKUP($H$7,DATA!$A$79:$B$160,2,FALSE),\"\"),\"\")","v":""},null,null,null,null,null,{"$f":"((NOW()-Tabla3[[#This Row],[FECHA DE NACIMIENTO]])/365)-0.5","v":124.79767625317098},null,null,null,null,null,null,null,null,null,null,null,null,null,null,null,null,null,null,null,null,null,null,null,null,null,null,null,null,null,null,null,null,null,null,null,null,null,"",null,{"$f":"IFERROR(IF(OR(LOWER(Tabla3[[#This Row],[SEXO]])=\"masculino\", LOWER(Tabla3[[#This Row],[SEXO]])=\"m\", LOWER(Tabla3[[#This Row],[SEXO]])=\"1\"), \"MASCULINO\",\n  IF(OR(LOWER(Tabla3[[#This Row],[SEXO]])=\"femenino\", LOWER(Tabla3[[#This Row],[SEXO]])=\"f\", LOWER(Tabla3[[#This Row],[SEXO]])=\"2\"), \"FEMENINO\",\n  \"\")), \"\")","v":""},0,null,null,null,0]
[{"$f":"IF(Tabla3[[#This Row],[APELLIDOS Y NOMBRES]]>0,ROW()-14,\"\")","v":""},{"$f":"IFERROR(IF(Tabla3[[#This Row],[APELLIDOS Y NOMBRES]]>0,VLOOKUP($H$7,DATA!$A$79:$B$160,2,FALSE),\"\"),\"\")","v":""},null,null,null,null,null,{"$f":"((NOW()-Tabla3[[#This Row],[FECHA DE NACIMIENTO]])/365)-0.5","v":124.79767625317098},null,null,null,null,null,null,null,null,null,null,null,null,null,null,null,null,null,null,null,null,null,null,null,null,null,null,null,null,null,null,null,null,null,null,null,null,null,"",null,{"$f":"IFERROR(IF(OR(LOWER(Tabla3[[#This Row],[SEXO]])=\"masculino\", LOWER(Tabla3[[#This Row],[SEXO]])=\"m\", LOWER(Tabla3[[#This Row],[SEXO]])=\"1\"), \"MASCULINO\",\n  IF(OR(LOWER(Tabla3[[#This Row],[SEXO]])=\"femenino\", LOWER(Tabla3[[#This Row],[SEXO]])=\"f\", LOWER(Tabla3[[#This Row],[SEXO]])=\"2\"), \"FEMENINO\",\n  \"\")), \"\")","v":""},0,null,null,null,0]
[{"$f":"IF(Tabla3[[#This Row],[APELLIDOS Y NOMBRES]]>0,ROW()-14,\"\")","v":""},{"$f":"IFERROR(IF(Tabla3[[#This Row],[APELLIDOS Y NOMBRES]]>0,VLOOKUP($H$7,DATA!$A$79:$B$160,2,FALSE),\"\"),\"\")","v":""},null,null,null,null,null,{"$f":"((NOW()-Tabla3[[#This Row],[FECHA DE NACIMIENTO]])/365)-0.5","v":124.79767625317098},null,null,null,null,null,null,null,null,null,null,null,null,null,null,null,null,null,null,null,null,null,null,null,null,null,null,null,null,null,null,null,null,null,null,null,null,null,"",null,{"$f":"IFERROR(IF(OR(LOWER(Tabla3[[#This Row],[SEXO]])=\"masculino\", LOWER(Tabla3[[#This Row],[SEXO]])=\"m\", LOWER(Tabla3[[#This Row],[SEXO]])=\"1\"), \"MASCULINO\",\n  IF(OR(LOWER(Tabla3[[#This Row],[SEXO]])=\"femenino\", LOWER(Tabla3[[#This Row],[SEXO]])=\"f\", LOWER(Tabla3[[#This Row],[SEXO]])=\"2\"), \"FEMENINO\",\n  \"\")), \"\")","v":""},0,null,null,null,0]
[{"$f":"IF(Tabla3[[#This Row],[APELLIDOS Y NOMBRES]]>0,ROW()-14,\"\")","v":""},{"$f":"IFERROR(IF(Tabla3[[#This Row],[APELLIDOS Y NOMBRES]]>0,VLOOKUP($H$7,DATA!$A$79:$B$160,2,FALSE),\"\"),\"\")","v":""},null,null,null,null,null,{"$f":"((NOW()-Tabla3[[#This Row],[FECHA DE NACIMIENTO]])/365)-0.5","v":124.79767625317098},null,null,null,null,null,null,null,null,null,null,null,null,null,null,null,null,null,null,null,null,null,null,null,null,null,null,null,null,null,null,null,null,null,null,null,null,null,"",null,{"$f":"IFERROR(IF(OR(LOWER(Tabla3[[#This Row],[SEXO]])=\"masculino\", LOWER(Tabla3[[#This Row],[SEXO]])=\"m\", LOWER(Tabla3[[#This Row],[SEXO]])=\"1\"), \"MASCULINO\",\n  IF(OR(LOWER(Tabla3[[#This Row],[SEXO]])=\"femenino\", LOWER(Tabla3[[#This Row],[SEXO]])=\"f\", LOWER(Tabla3[[#This Row],[SEXO]])=\"2\"), \"FEMENINO\",\n  \"\")), \"\")","v":""},0,null,null,null,0]
[{"$f":"IF(Tabla3[[#This Row],[APELLIDOS Y NOMBRES]]>0,ROW()-14,\"\")","v":""},{"$f":"IFERROR(IF(Tabla3[[#This Row],[APELLIDOS Y NOMBRES]]>0,VLOOKUP($H$7,DATA!$A$79:$B$160,2,FALSE),\"\"),\"\")","v":""},null,null,null,null,null,{"$f":"((NOW()-Tabla3[[#This Row],[FECHA DE NACIMIENTO]])/365)-0.5","v":124.79767625317098},null,null,null,null,null,null,null,null,null,null,null,null,null,null,null,null,null,null,null,null,null,null,null,null,null,null,null,null,null,null,null,null,null,null,null,null,null,"",null,{"$f":"IFERROR(IF(OR(LOWER(Tabla3[[#This Row],[SEXO]])=\"masculino\", LOWER(Tabla3[[#This Row],[SEXO]])=\"m\", LOWER(Tabla3[[#This Row],[SEXO]])=\"1\"), \"MASCULINO\",\n  IF(OR(LOWER(Tabla3[[#This Row],[SEXO]])=\"femenino\", LOWER(Tabla3[[#This Row],[SEXO]])=\"f\", LOWER(Tabla3[[#This Row],[SEXO]])=\"2\"), \"FEMENINO\",\n  \"\")), \"\")","v":""},0,null,null,null,0]
[{"$f":"IF(Tabla3[[#This Row],[APELLIDOS Y NOMBRES]]>0,ROW()-14,\"\")","v":""},{"$f":"IFERROR(IF(Tabla3[[#This Row],[APELLIDOS Y NOMBRES]]>0,VLOOKUP($H$7,DATA!$A$79:$B$160,2,FALSE),\"\"),\"\")","v":""},null,null,null,null,null,{"$f":"((NOW()-Tabla3[[#This Row],[FECHA DE NACIMIENTO]])/365)-0.5","v":124.79767625317098},null,null,null,null,null,null,null,null,null,null,null,null,null,null,null,null,null,null,null,null,null,null,null,null,null,null,null,null,null,null,null,null,null,null,null,null,null,"",null,{"$f":"IFERROR(IF(OR(LOWER(Tabla3[[#This Row],[SEXO]])=\"masculino\", LOWER(Tabla3[[#This Row],[SEXO]])=\"m\", LOWER(Tabla3[[#This Row],[SEXO]])=\"1\"), \"MASCULINO\",\n  IF(OR(LOWER(Tabla3[[#This Row],[SEXO]])=\"femenino\", LOWER(Tabla3[[#This Row],[SEXO]])=\"f\", LOWER(Tabla3[[#This Row],[SEXO]])=\"2\"), \"FEMENINO\",\n  \"\")), \"\")","v":""},0,null,null,null,0]
[{"$f":"IF(Tabla3[[#This Row],[APELLIDOS Y NOMBRES]]>0,ROW()-14,\"\")","v":""},{"$f":"IFERROR(IF(Tabla3[[#This Row],[APELLIDOS Y NOMBRES]]>0,VLOOKUP($H$7,DATA!$A$79:$B$160,2,FALSE),\"\"),\"\")","v":""},null,null,null,null,null,{"$f":"((NOW()-Tabla3[[#This Row],[FECHA DE NACIMIENTO]])/365)-0.5","v":124.79767625317098},null,null,null,null,null,null,null,null,null,null,null,null,null,null,null,null,null,null,null,null,null,null,null,null,null,null,null,null,null,null,null,null,null,null,null,null,null,"",null,{"$f":"IFERROR(IF(OR(LOWER(Tabla3[[#This Row],[SEXO]])=\"masculino\", LOWER(Tabla3[[#This Row],[SEXO]])=\"m\", LOWER(Tabla3[[#This Row],[SEXO]])=\"1\"), \"MASCULINO\",\n  IF(OR(LOWER(Tabla3[[#This Row],[SEXO]])=\"femenino\", LOWER(Tabla3[[#This Row],[SEXO]])=\"f\", LOWER(Tabla3[[#This Row],[SEXO]])=\"2\"), \"FEMENINO\",\n  \"\")), \"\")","v":""},0,null,null,null,0]
[{"$f":"IF(Tabla3[[#This Row],[APELLIDOS Y NOMBRES]]>0,ROW()-14,\"\")","v":""},{"$f":"IFERROR(IF(Tabla3[[#This Row],[APELLIDOS Y NOMBRES]]>0,VLOOKUP($H$7,DATA!$A$79:$B$160,2,FALSE),\"\"),\"\")","v":""},null,null,null,null,null,{"$f":"((NOW()-Tabla3[[#This Row],[FECHA DE NACIMIENTO]])/365)-0.5","v":124.79767625317098},null,null,null,null,null,null,null,null,null,null,null,null,null,null,null,null,null,null,null,null,null,null,null,null,null,null,null,null,null,null,null,null,null,null,null,null,null,"",null,{"$f":"IFERROR(IF(OR(LOWER(Tabla3[[#This Row],[SEXO]])=\"masculino\", LOWER(Tabla3[[#This Row],[SEXO]])=\"m\", LOWER(Tabla3[[#This Row],[SEXO]])=\"1\"), \"MASCULINO\",\n  IF(OR(LOWER(Tabla3[[#This Row],[SEXO]])=\"femenino\", LOWER(Tabla3[[#This Row],[SEXO]])=\"f\", LOWER(Tabla3[[#This Row],[SEXO]])=\"2\"), \"FEMENINO\",\n  \"\")), \"\")","v":""},0,null,null,null,0]
[{"$f":"IF(Tabla3[[#This Row],[APELLIDOS Y NOMBRES]]>0,ROW()-14,\"\")","v":""},{"$f":"IFERROR(IF(Tabla3[[#This Row],[APELLIDOS Y NOMBRES]]>0,VLOOKUP($H$7,DATA!$A$79:$B$160,2,FALSE),\"\"),\"\")","v":""},null,null,null,null,null,{"$f":"((NOW()-Tabla3[[#This Row],[FECHA DE NACIMIENTO]])/365)-0.5","v":124.79767625317098},null,null,null,null,null,null,null,null,null,null,null,null,null,null,null,null,null,null,null,null,null,null,null,null,null,null,null,null,null,null,null,null,null,null,null,null,null,"",null,{"$f":"IFERROR(IF(OR(LOWER(Tabla3[[#This Row],[SEXO]])=\"masculino\", LOWER(Tabla3[[#This Row],[SEXO]])=\"m\", LOWER(Tabla3[[#This Row],[SEXO]])=\"1\"), \"MASCULINO\",\n  IF(OR(LOWER(Tabla3[[#This Row],[SEXO]])=\"femenino\", LOWER(Tabla3[[#This Row],[SEXO]])=\"f\", LOWER(Tabla3[[#This Row],[SEXO]])=\"2\"), \"FEMENINO\",\n  \"\")), \"\")","v":""},0,null,null,null,0]
[{"$f":"IF(Tabla3[[#This Row],[APELLIDOS Y NOMBRES]]>0,ROW()-14,\"\")","v":""},{"$f":"IFERROR(IF(Tabla3[[#This Row],[APELLIDOS Y NOMBRES]]>0,VLOOKUP($H$7,DATA!$A$79:$B$160,2,FALSE),\"\"),\"\")","v":""},null,null,null,null,null,{"$f":"((NOW()-Tabla3[[#This Row],[FECHA DE NACIMIENTO]])/365)-0.5","v":124.79767625317098},null,null,null,null,null,null,null,null,null,null,null,null,null,null,null,null,null,null,null,null,null,null,null,null,null,null,null,null,null,null,null,null,null,null,null,null,null,"",null,{"$f":"IFERROR(IF(OR(LOWER(Tabla3[[#This Row],[SEXO]])=\"masculino\", LOWER(Tabla3[[#This Row],[SEXO]])=\"m\", LOWER(Tabla3[[#This Row],[SEXO]])=\"1\"), \"MASCULINO\",\n  IF(OR(LOWER(Tabla3[[#This Row],[SEXO]])=\"femenino\", LOWER(Tabla3[[#This Row],[SEXO]])=\"f\", LOWER(Tabla3[[#This Row],[SEXO]])=\"2\"), \"FEMENINO\",\n  \"\")), \"\")","v":""},0,null,null,null,0]
[{"$f":"IF(Tabla3[[#This Row],[APELLIDOS Y NOMBRES]]>0,ROW()-14,\"\")","v":""},{"$f":"IFERROR(IF(Tabla3[[#This Row],[APELLIDOS Y NOMBRES]]>0,VLOOKUP($H$7,DATA!$A$79:$B$160,2,FALSE),\"\"),\"\")","v":""},null,null,null,null,null,{"$f":"((NOW()-Tabla3[[#This Row],[FECHA DE NACIMIENTO]])/365)-0.5","v":124.79767625317098},null,null,null,null,null,null,null,null,null,null,null,null,null,null,null,null,null,null,null,null,null,null,null,null,null,null,null,null,null,null,null,null,null,null,null,null,null,"",null,{"$f":"IFERROR(IF(OR(LOWER(Tabla3[[#This Row],[SEXO]])=\"masculino\", LOWER(Tabla3[[#This Row],[SEXO]])=\"m\", LOWER(Tabla3[[#This Row],[SEXO]])=\"1\"), \"MASCULINO\",\n  IF(OR(LOWER(Tabla3[[#This Row],[SEXO]])=\"femenino\", LOWER(Tabla3[[#This Row],[SEXO]])=\"f\", LOWER(Tabla3[[#This Row],[SEXO]])=\"2\"), \"FEMENINO\",\n  \"\")), \"\")","v":""},0,null,null,null,0]
[{"$f":"IF(Tabla3[[#This Row],[APELLIDOS Y NOMBRES]]>0,ROW()-14,\"\")","v":""},{"$f":"IFERROR(IF(Tabla3[[#This Row],[APELLIDOS Y NOMBRES]]>0,VLOOKUP($H$7,DATA!$A$79:$B$160,2,FALSE),\"\"),\"\")","v":""},null,null,null,null,null,{"$f":"((NOW()-Tabla3[[#This Row],[FECHA DE NACIMIENTO]])/365)-0.5","v":124.79767625317098},null,null,null,null,null,null,null,null,null,null,null,null,null,null,null,null,null,null,null,null,null,null,null,null,null,null,null,null,null,null,null,null,null,null,null,null,null,"",null,{"$f":"IFERROR(IF(OR(LOWER(Tabla3[[#This Row],[SEXO]])=\"masculino\", LOWER(Tabla3[[#This Row],[SEXO]])=\"m\", LOWER(Tabla3[[#This Row],[SEXO]])=\"1\"), \"MASCULINO\",\n  IF(OR(LOWER(Tabla3[[#This Row],[SEXO]])=\"femenino\", LOWER(Tabla3[[#This Row],[SEXO]])=\"f\", LOWER(Tabla3[[#This Row],[SEXO]])=\"2\"), \"FEMENINO\",\n  \"\")), \"\")","v":""},0,null,null,null,0]
[{"$f":"IF(Tabla3[[#This Row],[APELLIDOS Y NOMBRES]]>0,ROW()-14,\"\")","v":""},{"$f":"IFERROR(IF(Tabla3[[#This Row],[APELLIDOS Y NOMBRES]]>0,VLOOKUP($H$7,DATA!$A$79:$B$160,2,FALSE),\"\"),\"\")","v":""},null,null,null,null,null,{"$f":"((NOW()-Tabla3[[#This Row],[FECHA DE NACIMIENTO]])/365)-0.5","v":124.79767625317098},null,null,null,null,null,null,null,null,null,null,null,null,null,null,null,null,null,null,null,null,null,null,null,null,null,null,null,null,null,null,null,null,null,null,null,null,null,"",null,{"$f":"IFERROR(IF(OR(LOWER(Tabla3[[#This Row],[SEXO]])=\"masculino\", LOWER(Tabla3[[#This Row],[SEXO]])=\"m\", LOWER(Tabla3[[#This Row],[SEXO]])=\"1\"), \"MASCULINO\",\n  IF(OR(LOWER(Tabla3[[#This Row],[SEXO]])=\"femenino\", LOWER(Tabla3[[#This Row],[SEXO]])=\"f\", LOWER(Tabla3[[#This Row],[SEXO]])=\"2\"), \"FEMENINO\",\n  \"\")), \"\")","v":""},0,null,null,null,0]
[{"$f":"IF(Tabla3[[#This Row],[APELLIDOS Y NOMBRES]]>0,ROW()-14,\"\")","v":""},{"$f":"IFERROR(IF(Tabla3[[#This Row],[APELLIDOS Y NOMBRES]]>0,VLOOKUP($H$7,DATA!$A$79:$B$160,2,FALSE),\"\"),\"\")","v":""},null,null,null,null,null,{"$f":"((NOW()-Tabla3[[#This Row],[FECHA DE NACIMIENTO]])/365)-0.5","v":124.79767625317098},null,null,null,null,null,null,null,null,null,null,null,null,null,null,null,null,null,null,null,null,null,null,null,null,null,null,null,null,null,null,null,null,null,null,null,null,null,"",null,{"$f":"IFERROR(IF(OR(LOWER(Tabla3[[#This Row],[SEXO]])=\"masculino\", LOWER(Tabla3[[#This Row],[SEXO]])=\"m\", LOWER(Tabla3[[#This Row],[SEXO]])=\"1\"), \"MASCULINO\",\n  IF(OR(LOWER(Tabla3[[#This Row],[SEXO]])=\"femenino\", LOWER(Tabla3[[#This Row],[SEXO]])=\"f\", LOWER(Tabla3[[#This Row],[SEXO]])=\"2\"), \"FEMENINO\",\n  \"\")), \"\")","v":""},0,null,null,null,0]
[{"$f":"IF(Tabla3[[#This Row],[APELLIDOS Y NOMBRES]]>0,ROW()-14,\"\")","v":""},{"$f":"IFERROR(IF(Tabla3[[#This Row],[APELLIDOS Y NOMBRES]]>0,VLOOKUP($H$7,DATA!$A$79:$B$160,2,FALSE),\"\"),\"\")","v":""},null,null,null,null,null,{"$f":"((NOW()-Tabla3[[#This Row],[FECHA DE NACIMIENTO]])/365)-0.5","v":124.79767625317098},null,null,null,null,null,null,null,null,null,null,null,null,null,null,null,null,null,null,null,null,null,null,null,null,null,null,null,null,null,null,null,null,null,null,null,null,null,"",null,{"$f":"IFERROR(IF(OR(LOWER(Tabla3[[#This Row],[SEXO]])=\"masculino\", LOWER(Tabla3[[#This Row],[SEXO]])=\"m\", LOWER(Tabla3[[#This Row],[SEXO]])=\"1\"), \"MASCULINO\",\n  IF(OR(LOWER(Tabla3[[#This Row],[SEXO]])=\"femenino\", LOWER(Tabla3[[#This Row],[SEXO]])=\"f\", LOWER(Tabla3[[#This Row],[SEXO]])=\"2\"), \"FEMENINO\",\n  \"\")), \"\")","v":""},0,null,null,null,0]
[{"$f":"IF(Tabla3[[#This Row],[APELLIDOS Y NOMBRES]]>0,ROW()-14,\"\")","v":""},{"$f":"IFERROR(IF(Tabla3[[#This Row],[APELLIDOS Y NOMBRES]]>0,VLOOKUP($H$7,DATA!$A$79:$B$160,2,FALSE),\"\"),\"\")","v":""},null,null,null,null,null,{"$f":"((NOW()-Tabla3[[#This Row],[FECHA DE NACIMIENTO]])/365)-0.5","v":124.79767625317098},null,null,null,null,null,null,null,null,null,null,null,null,null,null,null,null,null,null,null,null,null,null,null,null,null,null,null,null,null,null,null,null,null,null,null,null,null,"",null,{"$f":"IFERROR(IF(OR(LOWER(Tabla3[[#This Row],[SEXO]])=\"masculino\", LOWER(Tabla3[[#This Row],[SEXO]])=\"m\", LOWER(Tabla3[[#This Row],[SEXO]])=\"1\"), \"MASCULINO\",\n  IF(OR(LOWER(Tabla3[[#This Row],[SEXO]])=\"femenino\", LOWER(Tabla3[[#This Row],[SEXO]])=\"f\", LOWER(Tabla3[[#This Row],[SEXO]])=\"2\"), \"FEMENINO\",\n  \"\")), \"\")","v":""},0,null,null,null,0]
[{"$f":"IF(Tabla3[[#This Row],[APELLIDOS Y NOMBRES]]>0,ROW()-14,\"\")","v":""},{"$f":"IFERROR(IF(Tabla3[[#This Row],[APELLIDOS Y NOMBRES]]>0,VLOOKUP($H$7,DATA!$A$79:$B$160,2,FALSE),\"\"),\"\")","v":""},null,null,null,null,null,{"$f":"((NOW()-Tabla3[[#This Row],[FECHA DE NACIMIENTO]])/365)-0.5","v":124.79767625317098},null,null,null,null,null,null,null,null,null,null,null,null,null,null,null,null,null,null,null,null,null,null,null,null,null,null,null,null,null,null,null,null,null,null,null,null,null,"",null,{"$f":"IFERROR(IF(OR(LOWER(Tabla3[[#This Row],[SEXO]])=\"masculino\", LOWER(Tabla3[[#This Row],[SEXO]])=\"m\", LOWER(Tabla3[[#This Row],[SEXO]])=\"1\"), \"MASCULINO\",\n  IF(OR(LOWER(Tabla3[[#This Row],[SEXO]])=\"femenino\", LOWER(Tabla3[[#This Row],[SEXO]])=\"f\", LOWER(Tabla3[[#This Row],[SEXO]])=\"2\"), \"FEMENINO\",\n  \"\")), \"\")","v":""},0,null,null,null,0]
[{"$f":"IF(Tabla3[[#This Row],[APELLIDOS Y NOMBRES]]>0,ROW()-14,\"\")","v":""},{"$f":"IFERROR(IF(Tabla3[[#This Row],[APELLIDOS Y NOMBRES]]>0,VLOOKUP($H$7,DATA!$A$79:$B$160,2,FALSE),\"\"),\"\")","v":""},null,null,null,null,null,{"$f":"((NOW()-Tabla3[[#This Row],[FECHA DE NACIMIENTO]])/365)-0.5","v":124.79767625317098},null,null,null,null,null,null,null,null,null,null,null,null,null,null,null,null,null,null,null,null,null,null,null,null,null,null,null,null,null,null,null,null,null,null,null,null,null,"",null,{"$f":"IFERROR(IF(OR(LOWER(Tabla3[[#This Row],[SEXO]])=\"masculino\", LOWER(Tabla3[[#This Row],[SEXO]])=\"m\", LOWER(Tabla3[[#This Row],[SEXO]])=\"1\"), \"MASCULINO\",\n  IF(OR(LOWER(Tabla3[[#This Row],[SEXO]])=\"femenino\", LOWER(Tabla3[[#This Row],[SEXO]])=\"f\", LOWER(Tabla3[[#This Row],[SEXO]])=\"2\"), \"FEMENINO\",\n  \"\")), \"\")","v":""},0,null,null,null,0]
[{"$f":"IF(Tabla3[[#This Row],[APELLIDOS Y NOMBRES]]>0,ROW()-14,\"\")","v":""},{"$f":"IFERROR(IF(Tabla3[[#This Row],[APELLIDOS Y NOMBRES]]>0,VLOOKUP($H$7,DATA!$A$79:$B$160,2,FALSE),\"\"),\"\")","v":""},null,null,null,null,null,{"$f":"((NOW()-Tabla3[[#This Row],[FECHA DE NACIMIENTO]])/365)-0.5","v":124.79767625317098},null,null,null,null,null,null,null,null,null,null,null,null,null,null,null,null,null,null,null,null,null,null,null,null,null,null,null,null,null,null,null,null,null,null,null,null,null,"",null,{"$f":"IFERROR(IF(OR(LOWER(Tabla3[[#This Row],[SEXO]])=\"masculino\", LOWER(Tabla3[[#This Row],[SEXO]])=\"m\", LOWER(Tabla3[[#This Row],[SEXO]])=\"1\"), \"MASCULINO\",\n  IF(OR(LOWER(Tabla3[[#This Row],[SEXO]])=\"femenino\", LOWER(Tabla3[[#This Row],[SEXO]])=\"f\", LOWER(Tabla3[[#This Row],[SEXO]])=\"2\"), \"FEMENINO\",\n  \"\")), \"\")","v":""},0,null,null,null,0]
[{"$f":"IF(Tabla3[[#This Row],[APELLIDOS Y NOMBRES]]>0,ROW()-14,\"\")","v":""},{"$f":"IFERROR(IF(Tabla3[[#This Row],[APELLIDOS Y NOMBRES]]>0,VLOOKUP($H$7,DATA!$A$79:$B$160,2,FALSE),\"\"),\"\")","v":""},null,null,null,null,null,{"$f":"((NOW()-Tabla3[[#This Row],[FECHA DE NACIMIENTO]])/365)-0.5","v":124.79767625317098},null,null,null,null,null,null,null,null,null,null,null,null,null,null,null,null,null,null,null,null,null,null,null,null,null,null,null,null,null,null,null,null,null,null,null,null,null,"",null,{"$f":"IFERROR(IF(OR(LOWER(Tabla3[[#This Row],[SEXO]])=\"masculino\", LOWER(Tabla3[[#This Row],[SEXO]])=\"m\", LOWER(Tabla3[[#This Row],[SEXO]])=\"1\"), \"MASCULINO\",\n  IF(OR(LOWER(Tabla3[[#This Row],[SEXO]])=\"femenino\", LOWER(Tabla3[[#This Row],[SEXO]])=\"f\", LOWER(Tabla3[[#This Row],[SEXO]])=\"2\"), \"FEMENINO\",\n  \"\")), \"\")","v":""},0,null,null,null,0]
[{"$f":"IF(Tabla3[[#This Row],[APELLIDOS Y NOMBRES]]>0,ROW()-14,\"\")","v":""},{"$f":"IFERROR(IF(Tabla3[[#This Row],[APELLIDOS Y NOMBRES]]>0,VLOOKUP($H$7,DATA!$A$79:$B$160,2,FALSE),\"\"),\"\")","v":""},null,null,null,null,null,{"$f":"((NOW()-Tabla3[[#This Row],[FECHA DE NACIMIENTO]])/365)-0.5","v":124.79767625317098},null,null,null,null,null,null,null,null,null,null,null,null,null,null,null,null,null,null,null,null,null,null,null,null,null,null,null,null,null,null,null,null,null,null,null,null,null,"",null,{"$f":"IFERROR(IF(OR(LOWER(Tabla3[[#This Row],[SEXO]])=\"masculino\", LOWER(Tabla3[[#This Row],[SEXO]])=\"m\", LOWER(Tabla3[[#This Row],[SEXO]])=\"1\"), \"MASCULINO\",\n  IF(OR(LOWER(Tabla3[[#This Row],[SEXO]])=\"femenino\", LOWER(Tabla3[[#This Row],[SEXO]])=\"f\", LOWER(Tabla3[[#This Row],[SEXO]])=\"2\"), \"FEMENINO\",\n  \"\")), \"\")","v":""},0,null,null,null,0]
[{"$f":"IF(Tabla3[[#This Row],[APELLIDOS Y NOMBRES]]>0,ROW()-14,\"\")","v":""},{"$f":"IFERROR(IF(Tabla3[[#This Row],[APELLIDOS Y NOMBRES]]>0,VLOOKUP($H$7,DATA!$A$79:$B$160,2,FALSE),\"\"),\"\")","v":""},null,null,null,null,null,{"$f":"((NOW()-Tabla3[[#This Row],[FECHA DE NACIMIENTO]])/365)-0.5","v":124.79767625317098},null,null,null,null,null,null,null,null,null,null,null,null,null,null,null,null,null,null,null,null,null,null,null,null,null,null,null,null,null,null,null,null,null,null,null,null,null,"",null,{"$f":"IFERROR(IF(OR(LOWER(Tabla3[[#This Row],[SEXO]])=\"masculino\", LOWER(Tabla3[[#This Row],[SEXO]])=\"m\", LOWER(Tabla3[[#This Row],[SEXO]])=\"1\"), \"MASCULINO\",\n  IF(OR(LOWER(Tabla3[[#This Row],[SEXO]])=\"femenino\", LOWER(Tabla3[[#This Row],[SEXO]])=\"f\", LOWER(Tabla3[[#This Row],[SEXO]])=\"2\"), \"FEMENINO\",\n  \"\")), \"\")","v":""},0,null,null,null,0]
[{"$f":"IF(Tabla3[[#This Row],[APELLIDOS Y NOMBRES]]>0,ROW()-14,\"\")","v":""},{"$f":"IFERROR(IF(Tabla3[[#This Row],[APELLIDOS Y NOMBRES]]>0,VLOOKUP($H$7,DATA!$A$79:$B$160,2,FALSE),\"\"),\"\")","v":""},null,null,null,null,null,{"$f":"((NOW()-Tabla3[[#This Row],[FECHA DE NACIMIENTO]])/365)-0.5","v":124.79767625317098},null,null,null,null,null,null,null,null,null,null,null,null,null,null,null,null,null,null,null,null,null,null,null,null,null,null,null,null,null,null,null,null,null,null,null,null,null,"",null,{"$f":"IFERROR(IF(OR(LOWER(Tabla3[[#This Row],[SEXO]])=\"masculino\", LOWER(Tabla3[[#This Row],[SEXO]])=\"m\", LOWER(Tabla3[[#This Row],[SEXO]])=\"1\"), \"MASCULINO\",\n  IF(OR(LOWER(Tabla3[[#This Row],[SEXO]])=\"femenino\", LOWER(Tabla3[[#This Row],[SEXO]])=\"f\", LOWER(Tabla3[[#This Row],[SEXO]])=\"2\"), \"FEMENINO\",\n  \"\")), \"\")","v":""},0,null,null,null,0]
[{"$f":"IF(Tabla3[[#This Row],[APELLIDOS Y NOMBRES]]>0,ROW()-14,\"\")","v":""},{"$f":"IFERROR(IF(Tabla3[[#This Row],[APELLIDOS Y NOMBRES]]>0,VLOOKUP($H$7,DATA!$A$79:$B$160,2,FALSE),\"\"),\"\")","v":""},null,null,null,null,null,{"$f":"((NOW()-Tabla3[[#This Row],[FECHA DE NACIMIENTO]])/365)-0.5","v":124.79767625317098},null,null,null,null,null,null,null,null,null,null,null,null,null,null,null,null,null,null,null,null,null,null,null,null,null,null,null,null,null,null,null,null,null,null,null,null,null,"",null,{"$f":"IFERROR(IF(OR(LOWER(Tabla3[[#This Row],[SEXO]])=\"masculino\", LOWER(Tabla3[[#This Row],[SEXO]])=\"m\", LOWER(Tabla3[[#This Row],[SEXO]])=\"1\"), \"MASCULINO\",\n  IF(OR(LOWER(Tabla3[[#This Row],[SEXO]])=\"femenino\", LOWER(Tabla3[[#This Row],[SEXO]])=\"f\", LOWER(Tabla3[[#This Row],[SEXO]])=\"2\"), \"FEMENINO\",\n  \"\")), \"\")","v":""},0,null,null,null,0]
[{"$f":"IF(Tabla3[[#This Row],[APELLIDOS Y NOMBRES]]>0,ROW()-14,\"\")","v":""},{"$f":"IFERROR(IF(Tabla3[[#This Row],[APELLIDOS Y NOMBRES]]>0,VLOOKUP($H$7,DATA!$A$79:$B$160,2,FALSE),\"\"),\"\")","v":""},null,null,null,null,null,{"$f":"((NOW()-Tabla3[[#This Row],[FECHA DE NACIMIENTO]])/365)-0.5","v":124.79767625317098},null,null,null,null,null,null,null,null,null,null,null,null,null,null,null,null,null,null,null,null,null,null,null,null,null,null,null,null,null,null,null,null,null,null,null,null,null,"",null,{"$f":"IFERROR(IF(OR(LOWER(Tabla3[[#This Row],[SEXO]])=\"masculino\", LOWER(Tabla3[[#This Row],[SEXO]])=\"m\", LOWER(Tabla3[[#This Row],[SEXO]])=\"1\"), \"MASCULINO\",\n  IF(OR(LOWER(Tabla3[[#This Row],[SEXO]])=\"femenino\", LOWER(Tabla3[[#This Row],[SEXO]])=\"f\", LOWER(Tabla3[[#This Row],[SEXO]])=\"2\"), \"FEMENINO\",\n  \"\")), \"\")","v":""},0,null,null,null,0]
[{"$f":"IF(Tabla3[[#This Row],[APELLIDOS Y NOMBRES]]>0,ROW()-14,\"\")","v":""},{"$f":"IFERROR(IF(Tabla3[[#This Row],[APELLIDOS Y NOMBRES]]>0,VLOOKUP($H$7,DATA!$A$79:$B$160,2,FALSE),\"\"),\"\")","v":""},null,null,null,null,null,{"$f":"((NOW()-Tabla3[[#This Row],[FECHA DE NACIMIENTO]])/365)-0.5","v":124.79767625317098},null,null,null,null,null,null,null,null,null,null,null,null,null,null,null,null,null,null,null,null,null,null,null,null,null,null,null,null,null,null,null,null,null,null,null,null,null,"",null,{"$f":"IFERROR(IF(OR(LOWER(Tabla3[[#This Row],[SEXO]])=\"masculino\", LOWER(Tabla3[[#This Row],[SEXO]])=\"m\", LOWER(Tabla3[[#This Row],[SEXO]])=\"1\"), \"MASCULINO\",\n  IF(OR(LOWER(Tabla3[[#This Row],[SEXO]])=\"femenino\", LOWER(Tabla3[[#This Row],[SEXO]])=\"f\", LOWER(Tabla3[[#This Row],[SEXO]])=\"2\"), \"FEMENINO\",\n  \"\")), \"\")","v":""},0,null,null,null,0]
[{"$f":"IF(Tabla3[[#This Row],[APELLIDOS Y NOMBRES]]>0,ROW()-14,\"\")","v":""},{"$f":"IFERROR(IF(Tabla3[[#This Row],[APELLIDOS Y NOMBRES]]>0,VLOOKUP($H$7,DATA!$A$79:$B$160,2,FALSE),\"\"),\"\")","v":""},null,null,null,null,null,{"$f":"((NOW()-Tabla3[[#This Row],[FECHA DE NACIMIENTO]])/365)-0.5","v":124.79767625317098},null,null,null,null,null,null,null,null,null,null,null,null,null,null,null,null,null,null,null,null,null,null,null,null,null,null,null,null,null,null,null,null,null,null,null,null,null,"",null,{"$f":"IFERROR(IF(OR(LOWER(Tabla3[[#This Row],[SEXO]])=\"masculino\", LOWER(Tabla3[[#This Row],[SEXO]])=\"m\", LOWER(Tabla3[[#This Row],[SEXO]])=\"1\"), \"MASCULINO\",\n  IF(OR(LOWER(Tabla3[[#This Row],[SEXO]])=\"femenino\", LOWER(Tabla3[[#This Row],[SEXO]])=\"f\", LOWER(Tabla3[[#This Row],[SEXO]])=\"2\"), \"FEMENINO\",\n  \"\")), \"\")","v":""},0,null,null,null,0]
[{"$f":"IF(Tabla3[[#This Row],[APELLIDOS Y NOMBRES]]>0,ROW()-14,\"\")","v":""},{"$f":"IFERROR(IF(Tabla3[[#This Row],[APELLIDOS Y NOMBRES]]>0,VLOOKUP($H$7,DATA!$A$79:$B$160,2,FALSE),\"\"),\"\")","v":""},null,null,null,null,null,{"$f":"((NOW()-Tabla3[[#This Row],[FECHA DE NACIMIENTO]])/365)-0.5","v":124.79767625317098},null,null,null,null,null,null,null,null,null,null,null,null,null,null,null,null,null,null,null,null,null,null,null,null,null,null,null,null,null,null,null,null,null,null,null,null,null,"",null,{"$f":"IFERROR(IF(OR(LOWER(Tabla3[[#This Row],[SEXO]])=\"masculino\", LOWER(Tabla3[[#This Row],[SEXO]])=\"m\", LOWER(Tabla3[[#This Row],[SEXO]])=\"1\"), \"MASCULINO\",\n  IF(OR(LOWER(Tabla3[[#This Row],[SEXO]])=\"femenino\", LOWER(Tabla3[[#This Row],[SEXO]])=\"f\", LOWER(Tabla3[[#This Row],[SEXO]])=\"2\"), \"FEMENINO\",\n  \"\")), \"\")","v":""},0,null,null,null,0]
[{"$f":"IF(Tabla3[[#This Row],[APELLIDOS Y NOMBRES]]>0,ROW()-14,\"\")","v":""},{"$f":"IFERROR(IF(Tabla3[[#This Row],[APELLIDOS Y NOMBRES]]>0,VLOOKUP($H$7,DATA!$A$79:$B$160,2,FALSE),\"\"),\"\")","v":""},null,null,null,null,null,{"$f":"((NOW()-Tabla3[[#This Row],[FECHA DE NACIMIENTO]])/365)-0.5","v":124.79767625317098},null,null,null,null,null,null,null,null,null,null,null,null,null,null,null,null,null,null,null,null,null,null,null,null,null,null,null,null,null,null,null,null,null,null,null,null,null,{"$f":"IF(OR($C$5=\"\", $D272=\"\"), \"\", $C$5)","v":""},null,{"$f":"IFERROR(IF(OR(LOWER(Tabla3[[#This Row],[SEXO]])=\"masculino\", LOWER(Tabla3[[#This Row],[SEXO]])=\"m\", LOWER(Tabla3[[#This Row],[SEXO]])=\"1\"), \"MASCULINO\",\n  IF(OR(LOWER(Tabla3[[#This Row],[SEXO]])=\"femenino\", LOWER(Tabla3[[#This Row],[SEXO]])=\"f\", LOWER(Tabla3[[#This Row],[SEXO]])=\"2\"), \"FEMENINO\",\n  \"\")), \"\")","v":""},{"$f":"COUNTIF(P272:AH272,104)","v":0},null,null,null,{"$f":"IF(COUNTIF(P272:AI272,104)>0,1,0)","v":0}]
[{"$f":"IF(Tabla3[[#This Row],[APELLIDOS Y NOMBRES]]>0,ROW()-14,\"\")","v":""},{"$f":"IFERROR(IF(Tabla3[[#This Row],[APELLIDOS Y NOMBRES]]>0,VLOOKUP($H$7,DATA!$A$79:$B$160,2,FALSE),\"\"),\"\")","v":""},null,null,null,null,null,{"$f":"((NOW()-Tabla3[[#This Row],[FECHA DE NACIMIENTO]])/365)-0.5","v":124.79767625317098},null,null,null,null,null,null,null,null,null,null,null,null,null,null,null,null,null,null,null,null,null,null,null,null,null,null,null,null,null,null,null,null,null,null,null,null,null,"",null,{"$f":"IFERROR(IF(OR(LOWER(Tabla3[[#This Row],[SEXO]])=\"masculino\", LOWER(Tabla3[[#This Row],[SEXO]])=\"m\", LOWER(Tabla3[[#This Row],[SEXO]])=\"1\"), \"MASCULINO\",\n  IF(OR(LOWER(Tabla3[[#This Row],[SEXO]])=\"femenino\", LOWER(Tabla3[[#This Row],[SEXO]])=\"f\", LOWER(Tabla3[[#This Row],[SEXO]])=\"2\"), \"FEMENINO\",\n  \"\")), \"\")","v":""},0,null,null,null,0]
[{"$f":"IF(Tabla3[[#This Row],[APELLIDOS Y NOMBRES]]>0,ROW()-14,\"\")","v":""},{"$f":"IFERROR(IF(Tabla3[[#This Row],[APELLIDOS Y NOMBRES]]>0,VLOOKUP($H$7,DATA!$A$79:$B$160,2,FALSE),\"\"),\"\")","v":""},null,null,null,null,null,{"$f":"((NOW()-Tabla3[[#This Row],[FECHA DE NACIMIENTO]])/365)-0.5","v":124.79767625317098},null,null,null,null,null,null,null,null,null,null,null,null,null,null,null,null,null,null,null,null,null,null,null,null,null,null,null,null,null,null,null,null,null,null,null,null,null,"",null,{"$f":"IFERROR(IF(OR(LOWER(Tabla3[[#This Row],[SEXO]])=\"masculino\", LOWER(Tabla3[[#This Row],[SEXO]])=\"m\", LOWER(Tabla3[[#This Row],[SEXO]])=\"1\"), \"MASCULINO\",\n  IF(OR(LOWER(Tabla3[[#This Row],[SEXO]])=\"femenino\", LOWER(Tabla3[[#This Row],[SEXO]])=\"f\", LOWER(Tabla3[[#This Row],[SEXO]])=\"2\"), \"FEMENINO\",\n  \"\")), \"\")","v":""},0,null,null,null,0]
[{"$f":"IF(Tabla3[[#This Row],[APELLIDOS Y NOMBRES]]>0,ROW()-14,\"\")","v":""},{"$f":"IFERROR(IF(Tabla3[[#This Row],[APELLIDOS Y NOMBRES]]>0,VLOOKUP($H$7,DATA!$A$79:$B$160,2,FALSE),\"\"),\"\")","v":""},null,null,null,null,null,{"$f":"((NOW()-Tabla3[[#This Row],[FECHA DE NACIMIENTO]])/365)-0.5","v":124.79767625317098},null,null,null,null,null,null,null,null,null,null,null,null,null,null,null,null,null,null,null,null,null,null,null,null,null,null,null,null,null,null,null,null,null,null,null,null,null,"",null,{"$f":"IFERROR(IF(OR(LOWER(Tabla3[[#This Row],[SEXO]])=\"masculino\", LOWER(Tabla3[[#This Row],[SEXO]])=\"m\", LOWER(Tabla3[[#This Row],[SEXO]])=\"1\"), \"MASCULINO\",\n  IF(OR(LOWER(Tabla3[[#This Row],[SEXO]])=\"femenino\", LOWER(Tabla3[[#This Row],[SEXO]])=\"f\", LOWER(Tabla3[[#This Row],[SEXO]])=\"2\"), \"FEMENINO\",\n  \"\")), \"\")","v":""},0,null,null,null,0]
[{"$f":"IF(Tabla3[[#This Row],[APELLIDOS Y NOMBRES]]>0,ROW()-14,\"\")","v":""},{"$f":"IFERROR(IF(Tabla3[[#This Row],[APELLIDOS Y NOMBRES]]>0,VLOOKUP($H$7,DATA!$A$79:$B$160,2,FALSE),\"\"),\"\")","v":""},null,null,null,null,null,{"$f":"((NOW()-Tabla3[[#This Row],[FECHA DE NACIMIENTO]])/365)-0.5","v":124.79767625317098},null,null,null,null,null,null,null,null,null,null,null,null,null,null,null,null,null,null,null,null,null,null,null,null,null,null,null,null,null,null,null,null,null,null,null,null,null,"",null,{"$f":"IFERROR(IF(OR(LOWER(Tabla3[[#This Row],[SEXO]])=\"masculino\", LOWER(Tabla3[[#This Row],[SEXO]])=\"m\", LOWER(Tabla3[[#This Row],[SEXO]])=\"1\"), \"MASCULINO\",\n  IF(OR(LOWER(Tabla3[[#This Row],[SEXO]])=\"femenino\", LOWER(Tabla3[[#This Row],[SEXO]])=\"f\", LOWER(Tabla3[[#This Row],[SEXO]])=\"2\"), \"FEMENINO\",\n  \"\")), \"\")","v":""},0,null,null,null,0]
[{"$f":"IF(Tabla3[[#This Row],[APELLIDOS Y NOMBRES]]>0,ROW()-14,\"\")","v":""},{"$f":"IFERROR(IF(Tabla3[[#This Row],[APELLIDOS Y NOMBRES]]>0,VLOOKUP($H$7,DATA!$A$79:$B$160,2,FALSE),\"\"),\"\")","v":""},null,null,null,null,null,{"$f":"((NOW()-Tabla3[[#This Row],[FECHA DE NACIMIENTO]])/365)-0.5","v":124.79767625317098},null,null,null,null,null,null,null,null,null,null,null,null,null,null,null,null,null,null,null,null,null,null,null,null,null,null,null,null,null,null,null,null,null,null,null,null,null,"",null,{"$f":"IFERROR(IF(OR(LOWER(Tabla3[[#This Row],[SEXO]])=\"masculino\", LOWER(Tabla3[[#This Row],[SEXO]])=\"m\", LOWER(Tabla3[[#This Row],[SEXO]])=\"1\"), \"MASCULINO\",\n  IF(OR(LOWER(Tabla3[[#This Row],[SEXO]])=\"femenino\", LOWER(Tabla3[[#This Row],[SEXO]])=\"f\", LOWER(Tabla3[[#This Row],[SEXO]])=\"2\"), \"FEMENINO\",\n  \"\")), \"\")","v":""},0,null,null,null,0]
[{"$f":"IF(Tabla3[[#This Row],[APELLIDOS Y NOMBRES]]>0,ROW()-14,\"\")","v":""},{"$f":"IFERROR(IF(Tabla3[[#This Row],[APELLIDOS Y NOMBRES]]>0,VLOOKUP($H$7,DATA!$A$79:$B$160,2,FALSE),\"\"),\"\")","v":""},null,null,null,null,null,{"$f":"((NOW()-Tabla3[[#This Row],[FECHA DE NACIMIENTO]])/365)-0.5","v":124.79767625317098},null,null,null,null,null,null,null,null,null,null,null,null,null,null,null,null,null,null,null,null,null,null,null,null,null,null,null,null,null,null,null,null,null,null,null,null,null,"",null,{"$f":"IFERROR(IF(OR(LOWER(Tabla3[[#This Row],[SEXO]])=\"masculino\", LOWER(Tabla3[[#This Row],[SEXO]])=\"m\", LOWER(Tabla3[[#This Row],[SEXO]])=\"1\"), \"MASCULINO\",\n  IF(OR(LOWER(Tabla3[[#This Row],[SEXO]])=\"femenino\", LOWER(Tabla3[[#This Row],[SEXO]])=\"f\", LOWER(Tabla3[[#This Row],[SEXO]])=\"2\"), \"FEMENINO\",\n  \"\")), \"\")","v":""},0,null,null,null,0]
[{"$f":"IF(Tabla3[[#This Row],[APELLIDOS Y NOMBRES]]>0,ROW()-14,\"\")","v":""},{"$f":"IFERROR(IF(Tabla3[[#This Row],[APELLIDOS Y NOMBRES]]>0,VLOOKUP($H$7,DATA!$A$79:$B$160,2,FALSE),\"\"),\"\")","v":""},null,null,null,null,null,{"$f":"((NOW()-Tabla3[[#This Row],[FECHA DE NACIMIENTO]])/365)-0.5","v":124.79767625317098},null,null,null,null,null,null,null,null,null,null,null,null,null,null,null,null,null,null,null,null,null,null,null,null,null,null,null,null,null,null,null,null,null,null,null,null,null,"",null,{"$f":"IFERROR(IF(OR(LOWER(Tabla3[[#This Row],[SEXO]])=\"masculino\", LOWER(Tabla3[[#This Row],[SEXO]])=\"m\", LOWER(Tabla3[[#This Row],[SEXO]])=\"1\"), \"MASCULINO\",\n  IF(OR(LOWER(Tabla3[[#This Row],[SEXO]])=\"femenino\", LOWER(Tabla3[[#This Row],[SEXO]])=\"f\", LOWER(Tabla3[[#This Row],[SEXO]])=\"2\"), \"FEMENINO\",\n  \"\")), \"\")","v":""},0,null,null,null,0]
[{"$f":"IF(Tabla3[[#This Row],[APELLIDOS Y NOMBRES]]>0,ROW()-14,\"\")","v":""},{"$f":"IFERROR(IF(Tabla3[[#This Row],[APELLIDOS Y NOMBRES]]>0,VLOOKUP($H$7,DATA!$A$79:$B$160,2,FALSE),\"\"),\"\")","v":""},null,null,null,null,null,{"$f":"((NOW()-Tabla3[[#This Row],[FECHA DE NACIMIENTO]])/365)-0.5","v":124.79767625317098},null,null,null,null,null,null,null,null,null,null,null,null,null,null,null,null,null,null,null,null,null,null,null,null,null,null,null,null,null,null,null,null,null,null,null,null,null,"",null,{"$f":"IFERROR(IF(OR(LOWER(Tabla3[[#This Row],[SEXO]])=\"masculino\", LOWER(Tabla3[[#This Row],[SEXO]])=\"m\", LOWER(Tabla3[[#This Row],[SEXO]])=\"1\"), \"MASCULINO\",\n  IF(OR(LOWER(Tabla3[[#This Row],[SEXO]])=\"femenino\", LOWER(Tabla3[[#This Row],[SEXO]])=\"f\", LOWER(Tabla3[[#This Row],[SEXO]])=\"2\"), \"FEMENINO\",\n  \"\")), \"\")","v":""},0,null,null,null,0]
[{"$f":"IF(Tabla3[[#This Row],[APELLIDOS Y NOMBRES]]>0,ROW()-14,\"\")","v":""},{"$f":"IFERROR(IF(Tabla3[[#This Row],[APELLIDOS Y NOMBRES]]>0,VLOOKUP($H$7,DATA!$A$79:$B$160,2,FALSE),\"\"),\"\")","v":""},null,null,null,null,null,{"$f":"((NOW()-Tabla3[[#This Row],[FECHA DE NACIMIENTO]])/365)-0.5","v":124.79767625317098},null,null,null,null,null,null,null,null,null,null,null,null,null,null,null,null,null,null,null,null,null,null,null,null,null,null,null,null,null,null,null,null,null,null,null,null,null,"",null,{"$f":"IFERROR(IF(OR(LOWER(Tabla3[[#This Row],[SEXO]])=\"masculino\", LOWER(Tabla3[[#This Row],[SEXO]])=\"m\", LOWER(Tabla3[[#This Row],[SEXO]])=\"1\"), \"MASCULINO\",\n  IF(OR(LOWER(Tabla3[[#This Row],[SEXO]])=\"femenino\", LOWER(Tabla3[[#This Row],[SEXO]])=\"f\", LOWER(Tabla3[[#This Row],[SEXO]])=\"2\"), \"FEMENINO\",\n  \"\")), \"\")","v":""},0,null,null,null,0]
[{"$f":"IF(Tabla3[[#This Row],[APELLIDOS Y NOMBRES]]>0,ROW()-14,\"\")","v":""},{"$f":"IFERROR(IF(Tabla3[[#This Row],[APELLIDOS Y NOMBRES]]>0,VLOOKUP($H$7,DATA!$A$79:$B$160,2,FALSE),\"\"),\"\")","v":""},null,null,null,null,null,{"$f":"((NOW()-Tabla3[[#This Row],[FECHA DE NACIMIENTO]])/365)-0.5","v":124.79767625317098},null,null,null,null,null,null,null,null,null,null,null,null,null,null,null,null,null,null,null,null,null,null,null,null,null,null,null,null,null,null,null,null,null,null,null,null,null,"",null,{"$f":"IFERROR(IF(OR(LOWER(Tabla3[[#This Row],[SEXO]])=\"masculino\", LOWER(Tabla3[[#This Row],[SEXO]])=\"m\", LOWER(Tabla3[[#This Row],[SEXO]])=\"1\"), \"MASCULINO\",\n  IF(OR(LOWER(Tabla3[[#This Row],[SEXO]])=\"femenino\", LOWER(Tabla3[[#This Row],[SEXO]])=\"f\", LOWER(Tabla3[[#This Row],[SEXO]])=\"2\"), \"FEMENINO\",\n  \"\")), \"\")","v":""},0,null,null,null,0]
[{"$f":"IF(Tabla3[[#This Row],[APELLIDOS Y NOMBRES]]>0,ROW()-14,\"\")","v":""},{"$f":"IFERROR(IF(Tabla3[[#This Row],[APELLIDOS Y NOMBRES]]>0,VLOOKUP($H$7,DATA!$A$79:$B$160,2,FALSE),\"\"),\"\")","v":""},null,null,null,null,null,{"$f":"((NOW()-Tabla3[[#This Row],[FECHA DE NACIMIENTO]])/365)-0.5","v":124.79767625317098},null,null,null,null,null,null,null,null,null,null,null,null,null,null,null,null,null,null,null,null,null,null,null,null,null,null,null,null,null,null,null,null,null,null,null,null,null,"",null,{"$f":"IFERROR(IF(OR(LOWER(Tabla3[[#This Row],[SEXO]])=\"masculino\", LOWER(Tabla3[[#This Row],[SEXO]])=\"m\", LOWER(Tabla3[[#This Row],[SEXO]])=\"1\"), \"MASCULINO\",\n  IF(OR(LOWER(Tabla3[[#This Row],[SEXO]])=\"femenino\", LOWER(Tabla3[[#This Row],[SEXO]])=\"f\", LOWER(Tabla3[[#This Row],[SEXO]])=\"2\"), \"FEMENINO\",\n  \"\")), \"\")","v":""},0,null,null,null,0]
[{"$f":"IF(Tabla3[[#This Row],[APELLIDOS Y NOMBRES]]>0,ROW()-14,\"\")","v":""},{"$f":"IFERROR(IF(Tabla3[[#This Row],[APELLIDOS Y NOMBRES]]>0,VLOOKUP($H$7,DATA!$A$79:$B$160,2,FALSE),\"\"),\"\")","v":""},null,null,null,null,null,{"$f":"((NOW()-Tabla3[[#This Row],[FECHA DE NACIMIENTO]])/365)-0.5","v":124.79767625317098},null,null,null,null,null,null,null,null,null,null,null,null,null,null,null,null,null,null,null,null,null,null,null,null,null,null,null,null,null,null,null,null,null,null,null,null,null,"",null,{"$f":"IFERROR(IF(OR(LOWER(Tabla3[[#This Row],[SEXO]])=\"masculino\", LOWER(Tabla3[[#This Row],[SEXO]])=\"m\", LOWER(Tabla3[[#This Row],[SEXO]])=\"1\"), \"MASCULINO\",\n  IF(OR(LOWER(Tabla3[[#This Row],[SEXO]])=\"femenino\", LOWER(Tabla3[[#This Row],[SEXO]])=\"f\", LOWER(Tabla3[[#This Row],[SEXO]])=\"2\"), \"FEMENINO\",\n  \"\")), \"\")","v":""},0,null,null,null,0]
[{"$f":"IF(Tabla3[[#This Row],[APELLIDOS Y NOMBRES]]>0,ROW()-14,\"\")","v":""},{"$f":"IFERROR(IF(Tabla3[[#This Row],[APELLIDOS Y NOMBRES]]>0,VLOOKUP($H$7,DATA!$A$79:$B$160,2,FALSE),\"\"),\"\")","v":""},null,null,null,null,null,{"$f":"((NOW()-Tabla3[[#This Row],[FECHA DE NACIMIENTO]])/365)-0.5","v":124.79767625317098},null,null,null,null,null,null,null,null,null,null,null,null,null,null,null,null,null,null,null,null,null,null,null,null,null,null,null,null,null,null,null,null,null,null,null,null,null,"",null,{"$f":"IFERROR(IF(OR(LOWER(Tabla3[[#This Row],[SEXO]])=\"masculino\", LOWER(Tabla3[[#This Row],[SEXO]])=\"m\", LOWER(Tabla3[[#This Row],[SEXO]])=\"1\"), \"MASCULINO\",\n  IF(OR(LOWER(Tabla3[[#This Row],[SEXO]])=\"femenino\", LOWER(Tabla3[[#This Row],[SEXO]])=\"f\", LOWER(Tabla3[[#This Row],[SEXO]])=\"2\"), \"FEMENINO\",\n  \"\")), \"\")","v":""},0,null,null,null,0]
[{"$f":"IF(Tabla3[[#This Row],[APELLIDOS Y NOMBRES]]>0,ROW()-14,\"\")","v":""},{"$f":"IFERROR(IF(Tabla3[[#This Row],[APELLIDOS Y NOMBRES]]>0,VLOOKUP($H$7,DATA!$A$79:$B$160,2,FALSE),\"\"),\"\")","v":""},null,null,null,null,null,{"$f":"((NOW()-Tabla3[[#This Row],[FECHA DE NACIMIENTO]])/365)-0.5","v":124.79767625317098},null,null,null,null,null,null,null,null,null,null,null,null,null,null,null,null,null,null,null,null,null,null,null,null,null,null,null,null,null,null,null,null,null,null,null,null,null,"",null,{"$f":"IFERROR(IF(OR(LOWER(Tabla3[[#This Row],[SEXO]])=\"masculino\", LOWER(Tabla3[[#This Row],[SEXO]])=\"m\", LOWER(Tabla3[[#This Row],[SEXO]])=\"1\"), \"MASCULINO\",\n  IF(OR(LOWER(Tabla3[[#This Row],[SEXO]])=\"femenino\", LOWER(Tabla3[[#This Row],[SEXO]])=\"f\", LOWER(Tabla3[[#This Row],[SEXO]])=\"2\"), \"FEMENINO\",\n  \"\")), \"\")","v":""},0,null,null,null,0]
[{"$f":"IF(Tabla3[[#This Row],[APELLIDOS Y NOMBRES]]>0,ROW()-14,\"\")","v":""},{"$f":"IFERROR(IF(Tabla3[[#This Row],[APELLIDOS Y NOMBRES]]>0,VLOOKUP($H$7,DATA!$A$79:$B$160,2,FALSE),\"\"),\"\")","v":""},null,null,null,null,null,{"$f":"((NOW()-Tabla3[[#This Row],[FECHA DE NACIMIENTO]])/365)-0.5","v":124.79767625317098},null,null,null,null,null,null,null,null,null,null,null,null,null,null,null,null,null,null,null,null,null,null,null,null,null,null,null,null,null,null,null,null,null,null,null,null,null,"",null,{"$f":"IFERROR(IF(OR(LOWER(Tabla3[[#This Row],[SEXO]])=\"masculino\", LOWER(Tabla3[[#This Row],[SEXO]])=\"m\", LOWER(Tabla3[[#This Row],[SEXO]])=\"1\"), \"MASCULINO\",\n  IF(OR(LOWER(Tabla3[[#This Row],[SEXO]])=\"femenino\", LOWER(Tabla3[[#This Row],[SEXO]])=\"f\", LOWER(Tabla3[[#This Row],[SEXO]])=\"2\"), \"FEMENINO\",\n  \"\")), \"\")","v":""},0,null,null,null,0]
[{"$f":"IF(Tabla3[[#This Row],[APELLIDOS Y NOMBRES]]>0,ROW()-14,\"\")","v":""},{"$f":"IFERROR(IF(Tabla3[[#This Row],[APELLIDOS Y NOMBRES]]>0,VLOOKUP($H$7,DATA!$A$79:$B$160,2,FALSE),\"\"),\"\")","v":""},null,null,null,null,null,{"$f":"((NOW()-Tabla3[[#This Row],[FECHA DE NACIMIENTO]])/365)-0.5","v":124.79767625317098},null,null,null,null,null,null,null,null,null,null,null,null,null,null,null,null,null,null,null,null,null,null,null,null,null,null,null,null,null,null,null,null,null,null,null,null,null,"",null,{"$f":"IFERROR(IF(OR(LOWER(Tabla3[[#This Row],[SEXO]])=\"masculino\", LOWER(Tabla3[[#This Row],[SEXO]])=\"m\", LOWER(Tabla3[[#This Row],[SEXO]])=\"1\"), \"MASCULINO\",\n  IF(OR(LOWER(Tabla3[[#This Row],[SEXO]])=\"femenino\", LOWER(Tabla3[[#This Row],[SEXO]])=\"f\", LOWER(Tabla3[[#This Row],[SEXO]])=\"2\"), \"FEMENINO\",\n  \"\")), \"\")","v":""},0,null,null,null,0]
[{"$f":"IF(Tabla3[[#This Row],[APELLIDOS Y NOMBRES]]>0,ROW()-14,\"\")","v":""},{"$f":"IFERROR(IF(Tabla3[[#This Row],[APELLIDOS Y NOMBRES]]>0,VLOOKUP($H$7,DATA!$A$79:$B$160,2,FALSE),\"\"),\"\")","v":""},null,null,null,null,null,{"$f":"((NOW()-Tabla3[[#This Row],[FECHA DE NACIMIENTO]])/365)-0.5","v":124.79767625317098},null,null,null,null,null,null,null,null,null,null,null,null,null,null,null,null,null,null,null,null,null,null,null,null,null,null,null,null,null,null,null,null,null,null,null,null,null,"",null,{"$f":"IFERROR(IF(OR(LOWER(Tabla3[[#This Row],[SEXO]])=\"masculino\", LOWER(Tabla3[[#This Row],[SEXO]])=\"m\", LOWER(Tabla3[[#This Row],[SEXO]])=\"1\"), \"MASCULINO\",\n  IF(OR(LOWER(Tabla3[[#This Row],[SEXO]])=\"femenino\", LOWER(Tabla3[[#This Row],[SEXO]])=\"f\", LOWER(Tabla3[[#This Row],[SEXO]])=\"2\"), \"FEMENINO\",\n  \"\")), \"\")","v":""},0,null,null,null,0]
[{"$f":"IF(Tabla3[[#This Row],[APELLIDOS Y NOMBRES]]>0,ROW()-14,\"\")","v":""},{"$f":"IFERROR(IF(Tabla3[[#This Row],[APELLIDOS Y NOMBRES]]>0,VLOOKUP($H$7,DATA!$A$79:$B$160,2,FALSE),\"\"),\"\")","v":""},null,null,null,null,null,{"$f":"((NOW()-Tabla3[[#This Row],[FECHA DE NACIMIENTO]])/365)-0.5","v":124.79767625317098},null,null,null,null,null,null,null,null,null,null,null,null,null,null,null,null,null,null,null,null,null,null,null,null,null,null,null,null,null,null,null,null,null,null,null,null,null,"",null,{"$f":"IFERROR(IF(OR(LOWER(Tabla3[[#This Row],[SEXO]])=\"masculino\", LOWER(Tabla3[[#This Row],[SEXO]])=\"m\", LOWER(Tabla3[[#This Row],[SEXO]])=\"1\"), \"MASCULINO\",\n  IF(OR(LOWER(Tabla3[[#This Row],[SEXO]])=\"femenino\", LOWER(Tabla3[[#This Row],[SEXO]])=\"f\", LOWER(Tabla3[[#This Row],[SEXO]])=\"2\"), \"FEMENINO\",\n  \"\")), \"\")","v":""},0,null,null,null,0]
[{"$f":"IF(Tabla3[[#This Row],[APELLIDOS Y NOMBRES]]>0,ROW()-14,\"\")","v":""},{"$f":"IFERROR(IF(Tabla3[[#This Row],[APELLIDOS Y NOMBRES]]>0,VLOOKUP($H$7,DATA!$A$79:$B$160,2,FALSE),\"\"),\"\")","v":""},null,null,null,null,null,{"$f":"((NOW()-Tabla3[[#This Row],[FECHA DE NACIMIENTO]])/365)-0.5","v":124.79767625317098},null,null,null,null,null,null,null,null,null,null,null,null,null,null,null,null,null,null,null,null,null,null,null,null,null,null,null,null,null,null,null,null,null,null,null,null,null,"",null,{"$f":"IFERROR(IF(OR(LOWER(Tabla3[[#This Row],[SEXO]])=\"masculino\", LOWER(Tabla3[[#This Row],[SEXO]])=\"m\", LOWER(Tabla3[[#This Row],[SEXO]])=\"1\"), \"MASCULINO\",\n  IF(OR(LOWER(Tabla3[[#This Row],[SEXO]])=\"femenino\", LOWER(Tabla3[[#This Row],[SEXO]])=\"f\", LOWER(Tabla3[[#This Row],[SEXO]])=\"2\"), \"FEMENINO\",\n  \"\")), \"\")","v":""},0,null,null,null,0]
[{"$f":"IF(Tabla3[[#This Row],[APELLIDOS Y NOMBRES]]>0,ROW()-14,\"\")","v":""},{"$f":"IFERROR(IF(Tabla3[[#This Row],[APELLIDOS Y NOMBRES]]>0,VLOOKUP($H$7,DATA!$A$79:$B$160,2,FALSE),\"\"),\"\")","v":""},null,null,null,null,null,{"$f":"((NOW()-Tabla3[[#This Row],[FECHA DE NACIMIENTO]])/365)-0.5","v":124.79767625317098},null,null,null,null,null,null,null,null,null,null,null,null,null,null,null,null,null,null,null,null,null,null,null,null,null,null,null,null,null,null,null,null,null,null,null,null,null,"",null,{"$f":"IFERROR(IF(OR(LOWER(Tabla3[[#This Row],[SEXO]])=\"masculino\", LOWER(Tabla3[[#This Row],[SEXO]])=\"m\", LOWER(Tabla3[[#This Row],[SEXO]])=\"1\"), \"MASCULINO\",\n  IF(OR(LOWER(Tabla3[[#This Row],[SEXO]])=\"femenino\", LOWER(Tabla3[[#This Row],[SEXO]])=\"f\", LOWER(Tabla3[[#This Row],[SEXO]])=\"2\"), \"FEMENINO\",\n  \"\")), \"\")","v":""},0,null,null,null,0]
[{"$f":"IF(Tabla3[[#This Row],[APELLIDOS Y NOMBRES]]>0,ROW()-14,\"\")","v":""},{"$f":"IFERROR(IF(Tabla3[[#This Row],[APELLIDOS Y NOMBRES]]>0,VLOOKUP($H$7,DATA!$A$79:$B$160,2,FALSE),\"\"),\"\")","v":""},null,null,null,null,null,{"$f":"((NOW()-Tabla3[[#This Row],[FECHA DE NACIMIENTO]])/365)-0.5","v":124.79767625317098},null,null,null,null,null,null,null,null,null,null,null,null,null,null,null,null,null,null,null,null,null,null,null,null,null,null,null,null,null,null,null,null,null,null,null,null,null,"",null,{"$f":"IFERROR(IF(OR(LOWER(Tabla3[[#This Row],[SEXO]])=\"masculino\", LOWER(Tabla3[[#This Row],[SEXO]])=\"m\", LOWER(Tabla3[[#This Row],[SEXO]])=\"1\"), \"MASCULINO\",\n  IF(OR(LOWER(Tabla3[[#This Row],[SEXO]])=\"femenino\", LOWER(Tabla3[[#This Row],[SEXO]])=\"f\", LOWER(Tabla3[[#This Row],[SEXO]])=\"2\"), \"FEMENINO\",\n  \"\")), \"\")","v":""},0,null,null,null,0]
[{"$f":"IF(Tabla3[[#This Row],[APELLIDOS Y NOMBRES]]>0,ROW()-14,\"\")","v":""},{"$f":"IFERROR(IF(Tabla3[[#This Row],[APELLIDOS Y NOMBRES]]>0,VLOOKUP($H$7,DATA!$A$79:$B$160,2,FALSE),\"\"),\"\")","v":""},null,null,null,null,null,{"$f":"((NOW()-Tabla3[[#This Row],[FECHA DE NACIMIENTO]])/365)-0.5","v":124.79767625317098},null,null,null,null,null,null,null,null,null,null,null,null,null,null,null,null,null,null,null,null,null,null,null,null,null,null,null,null,null,null,null,null,null,null,null,null,null,"",null,{"$f":"IFERROR(IF(OR(LOWER(Tabla3[[#This Row],[SEXO]])=\"masculino\", LOWER(Tabla3[[#This Row],[SEXO]])=\"m\", LOWER(Tabla3[[#This Row],[SEXO]])=\"1\"), \"MASCULINO\",\n  IF(OR(LOWER(Tabla3[[#This Row],[SEXO]])=\"femenino\", LOWER(Tabla3[[#This Row],[SEXO]])=\"f\", LOWER(Tabla3[[#This Row],[SEXO]])=\"2\"), \"FEMENINO\",\n  \"\")), \"\")","v":""},0,null,null,null,0]
[{"$f":"IF(Tabla3[[#This Row],[APELLIDOS Y NOMBRES]]>0,ROW()-14,\"\")","v":""},{"$f":"IFERROR(IF(Tabla3[[#This Row],[APELLIDOS Y NOMBRES]]>0,VLOOKUP($H$7,DATA!$A$79:$B$160,2,FALSE),\"\"),\"\")","v":""},null,null,null,null,null,{"$f":"((NOW()-Tabla3[[#This Row],[FECHA DE NACIMIENTO]])/365)-0.5","v":124.79767625317098},null,null,null,null,null,null,null,null,null,null,null,null,null,null,null,null,null,null,null,null,null,null,null,null,null,null,null,null,null,null,null,null,null,null,null,null,null,"",null,{"$f":"IFERROR(IF(OR(LOWER(Tabla3[[#This Row],[SEXO]])=\"masculino\", LOWER(Tabla3[[#This Row],[SEXO]])=\"m\", LOWER(Tabla3[[#This Row],[SEXO]])=\"1\"), \"MASCULINO\",\n  IF(OR(LOWER(Tabla3[[#This Row],[SEXO]])=\"femenino\", LOWER(Tabla3[[#This Row],[SEXO]])=\"f\", LOWER(Tabla3[[#This Row],[SEXO]])=\"2\"), \"FEMENINO\",\n  \"\")), \"\")","v":""},0,null,null,null,0]
[{"$f":"IF(Tabla3[[#This Row],[APELLIDOS Y NOMBRES]]>0,ROW()-14,\"\")","v":""},{"$f":"IFERROR(IF(Tabla3[[#This Row],[APELLIDOS Y NOMBRES]]>0,VLOOKUP($H$7,DATA!$A$79:$B$160,2,FALSE),\"\"),\"\")","v":""},null,null,null,null,null,{"$f":"((NOW()-Tabla3[[#This Row],[FECHA DE NACIMIENTO]])/365)-0.5","v":124.79767625317098},null,null,null,null,null,null,null,null,null,null,null,null,null,null,null,null,null,null,null,null,null,null,null,null,null,null,null,null,null,null,null,null,null,null,null,null,null,"",null,{"$f":"IFERROR(IF(OR(LOWER(Tabla3[[#This Row],[SEXO]])=\"masculino\", LOWER(Tabla3[[#This Row],[SEXO]])=\"m\", LOWER(Tabla3[[#This Row],[SEXO]])=\"1\"), \"MASCULINO\",\n  IF(OR(LOWER(Tabla3[[#This Row],[SEXO]])=\"femenino\", LOWER(Tabla3[[#This Row],[SEXO]])=\"f\", LOWER(Tabla3[[#This Row],[SEXO]])=\"2\"), \"FEMENINO\",\n  \"\")), \"\")","v":""},0,null,null,null,0]
[{"$f":"IF(Tabla3[[#This Row],[APELLIDOS Y NOMBRES]]>0,ROW()-14,\"\")","v":""},{"$f":"IFERROR(IF(Tabla3[[#This Row],[APELLIDOS Y NOMBRES]]>0,VLOOKUP($H$7,DATA!$A$79:$B$160,2,FALSE),\"\"),\"\")","v":""},null,null,null,null,null,{"$f":"((NOW()-Tabla3[[#This Row],[FECHA DE NACIMIENTO]])/365)-0.5","v":124.79767625317098},null,null,null,null,null,null,null,null,null,null,null,null,null,null,null,null,null,null,null,null,null,null,null,null,null,null,null,null,null,null,null,null,null,null,null,null,null,"",null,{"$f":"IFERROR(IF(OR(LOWER(Tabla3[[#This Row],[SEXO]])=\"masculino\", LOWER(Tabla3[[#This Row],[SEXO]])=\"m\", LOWER(Tabla3[[#This Row],[SEXO]])=\"1\"), \"MASCULINO\",\n  IF(OR(LOWER(Tabla3[[#This Row],[SEXO]])=\"femenino\", LOWER(Tabla3[[#This Row],[SEXO]])=\"f\", LOWER(Tabla3[[#This Row],[SEXO]])=\"2\"), \"FEMENINO\",\n  \"\")), \"\")","v":""},0,null,null,null,0]
[{"$f":"IF(Tabla3[[#This Row],[APELLIDOS Y NOMBRES]]>0,ROW()-14,\"\")","v":""},{"$f":"IFERROR(IF(Tabla3[[#This Row],[APELLIDOS Y NOMBRES]]>0,VLOOKUP($H$7,DATA!$A$79:$B$160,2,FALSE),\"\"),\"\")","v":""},null,null,null,null,null,{"$f":"((NOW()-Tabla3[[#This Row],[FECHA DE NACIMIENTO]])/365)-0.5","v":124.79767625317098},null,null,null,null,null,null,null,null,null,null,null,null,null,null,null,null,null,null,null,null,null,null,null,null,null,null,null,null,null,null,null,null,null,null,null,null,null,"",null,{"$f":"IFERROR(IF(OR(LOWER(Tabla3[[#This Row],[SEXO]])=\"masculino\", LOWER(Tabla3[[#This Row],[SEXO]])=\"m\", LOWER(Tabla3[[#This Row],[SEXO]])=\"1\"), \"MASCULINO\",\n  IF(OR(LOWER(Tabla3[[#This Row],[SEXO]])=\"femenino\", LOWER(Tabla3[[#This Row],[SEXO]])=\"f\", LOWER(Tabla3[[#This Row],[SEXO]])=\"2\"), \"FEMENINO\",\n  \"\")), \"\")","v":""},0,null,null,null,0]
[{"$f":"IF(Tabla3[[#This Row],[APELLIDOS Y NOMBRES]]>0,ROW()-14,\"\")","v":""},{"$f":"IFERROR(IF(Tabla3[[#This Row],[APELLIDOS Y NOMBRES]]>0,VLOOKUP($H$7,DATA!$A$79:$B$160,2,FALSE),\"\"),\"\")","v":""},null,null,null,null,null,{"$f":"((NOW()-Tabla3[[#This Row],[FECHA DE NACIMIENTO]])/365)-0.5","v":124.79767625317098},null,null,null,null,null,null,null,null,null,null,null,null,null,null,null,null,null,null,null,null,null,null,null,null,null,null,null,null,null,null,null,null,null,null,null,null,null,"",null,{"$f":"IFERROR(IF(OR(LOWER(Tabla3[[#This Row],[SEXO]])=\"masculino\", LOWER(Tabla3[[#This Row],[SEXO]])=\"m\", LOWER(Tabla3[[#This Row],[SEXO]])=\"1\"), \"MASCULINO\",\n  IF(OR(LOWER(Tabla3[[#This Row],[SEXO]])=\"femenino\", LOWER(Tabla3[[#This Row],[SEXO]])=\"f\", LOWER(Tabla3[[#This Row],[SEXO]])=\"2\"), \"FEMENINO\",\n  \"\")), \"\")","v":""},0,null,null,null,0]
[{"$f":"IF(Tabla3[[#This Row],[APELLIDOS Y NOMBRES]]>0,ROW()-14,\"\")","v":""},{"$f":"IFERROR(IF(Tabla3[[#This Row],[APELLIDOS Y NOMBRES]]>0,VLOOKUP($H$7,DATA!$A$79:$B$160,2,FALSE),\"\"),\"\")","v":""},null,null,null,null,null,{"$f":"((NOW()-Tabla3[[#This Row],[FECHA DE NACIMIENTO]])/365)-0.5","v":124.79767625317098},null,null,null,null,null,null,null,null,null,null,null,null,null,null,null,null,null,null,null,null,null,null,null,null,null,null,null,null,null,null,null,null,null,null,null,null,null,"",null,{"$f":"IFERROR(IF(OR(LOWER(Tabla3[[#This Row],[SEXO]])=\"masculino\", LOWER(Tabla3[[#This Row],[SEXO]])=\"m\", LOWER(Tabla3[[#This Row],[SEXO]])=\"1\"), \"MASCULINO\",\n  IF(OR(LOWER(Tabla3[[#This Row],[SEXO]])=\"femenino\", LOWER(Tabla3[[#This Row],[SEXO]])=\"f\", LOWER(Tabla3[[#This Row],[SEXO]])=\"2\"), \"FEMENINO\",\n  \"\")), \"\")","v":""},0,null,null,null,0]
[{"$f":"IF(Tabla3[[#This Row],[APELLIDOS Y NOMBRES]]>0,ROW()-14,\"\")","v":""},{"$f":"IFERROR(IF(Tabla3[[#This Row],[APELLIDOS Y NOMBRES]]>0,VLOOKUP($H$7,DATA!$A$79:$B$160,2,FALSE),\"\"),\"\")","v":""},null,null,null,null,null,{"$f":"((NOW()-Tabla3[[#This Row],[FECHA DE NACIMIENTO]])/365)-0.5","v":124.79767625317098},null,null,null,null,null,null,null,null,null,null,null,null,null,null,null,null,null,null,null,null,null,null,null,null,null,null,null,null,null,null,null,null,null,null,null,null,null,"",null,{"$f":"IFERROR(IF(OR(LOWER(Tabla3[[#This Row],[SEXO]])=\"masculino\", LOWER(Tabla3[[#This Row],[SEXO]])=\"m\", LOWER(Tabla3[[#This Row],[SEXO]])=\"1\"), \"MASCULINO\",\n  IF(OR(LOWER(Tabla3[[#This Row],[SEXO]])=\"femenino\", LOWER(Tabla3[[#This Row],[SEXO]])=\"f\", LOWER(Tabla3[[#This Row],[SEXO]])=\"2\"), \"FEMENINO\",\n  \"\")), \"\")","v":""},0,null,null,null,0]
[{"$f":"IF(Tabla3[[#This Row],[APELLIDOS Y NOMBRES]]>0,ROW()-14,\"\")","v":""},{"$f":"IFERROR(IF(Tabla3[[#This Row],[APELLIDOS Y NOMBRES]]>0,VLOOKUP($H$7,DATA!$A$79:$B$160,2,FALSE),\"\"),\"\")","v":""},null,null,null,null,null,{"$f":"((NOW()-Tabla3[[#This Row],[FECHA DE NACIMIENTO]])/365)-0.5","v":124.79767625317098},null,null,null,null,null,null,null,null,null,null,null,null,null,null,null,null,null,null,null,null,null,null,null,null,null,null,null,null,null,null,null,null,null,null,null,null,null,"",null,{"$f":"IFERROR(IF(OR(LOWER(Tabla3[[#This Row],[SEXO]])=\"masculino\", LOWER(Tabla3[[#This Row],[SEXO]])=\"m\", LOWER(Tabla3[[#This Row],[SEXO]])=\"1\"), \"MASCULINO\",\n  IF(OR(LOWER(Tabla3[[#This Row],[SEXO]])=\"femenino\", LOWER(Tabla3[[#This Row],[SEXO]])=\"f\", LOWER(Tabla3[[#This Row],[SEXO]])=\"2\"), \"FEMENINO\",\n  \"\")), \"\")","v":""},0,null,null,null,0]
[{"$f":"IF(Tabla3[[#This Row],[APELLIDOS Y NOMBRES]]>0,ROW()-14,\"\")","v":""},{"$f":"IFERROR(IF(Tabla3[[#This Row],[APELLIDOS Y NOMBRES]]>0,VLOOKUP($H$7,DATA!$A$79:$B$160,2,FALSE),\"\"),\"\")","v":""},null,null,null,null,null,{"$f":"((NOW()-Tabla3[[#This Row],[FECHA DE NACIMIENTO]])/365)-0.5","v":124.79767625317098},null,null,null,null,null,null,null,null,null,null,null,null,null,null,null,null,null,null,null,null,null,null,null,null,null,null,null,null,null,null,null,null,null,null,null,null,null,"",null,{"$f":"IFERROR(IF(OR(LOWER(Tabla3[[#This Row],[SEXO]])=\"masculino\", LOWER(Tabla3[[#This Row],[SEXO]])=\"m\", LOWER(Tabla3[[#This Row],[SEXO]])=\"1\"), \"MASCULINO\",\n  IF(OR(LOWER(Tabla3[[#This Row],[SEXO]])=\"femenino\", LOWER(Tabla3[[#This Row],[SEXO]])=\"f\", LOWER(Tabla3[[#This Row],[SEXO]])=\"2\"), \"FEMENINO\",\n  \"\")), \"\")","v":""},0,null,null,null,0]
[{"$f":"IF(Tabla3[[#This Row],[APELLIDOS Y NOMBRES]]>0,ROW()-14,\"\")","v":""},{"$f":"IFERROR(IF(Tabla3[[#This Row],[APELLIDOS Y NOMBRES]]>0,VLOOKUP($H$7,DATA!$A$79:$B$160,2,FALSE),\"\"),\"\")","v":""},null,null,null,null,null,{"$f":"((NOW()-Tabla3[[#This Row],[FECHA DE NACIMIENTO]])/365)-0.5","v":124.79767625317098},null,null,null,null,null,null,null,null,null,null,null,null,null,null,null,null,null,null,null,null,null,null,null,null,null,null,null,null,null,null,null,null,null,null,null,null,null,"",null,{"$f":"IFERROR(IF(OR(LOWER(Tabla3[[#This Row],[SEXO]])=\"masculino\", LOWER(Tabla3[[#This Row],[SEXO]])=\"m\", LOWER(Tabla3[[#This Row],[SEXO]])=\"1\"), \"MASCULINO\",\n  IF(OR(LOWER(Tabla3[[#This Row],[SEXO]])=\"femenino\", LOWER(Tabla3[[#This Row],[SEXO]])=\"f\", LOWER(Tabla3[[#This Row],[SEXO]])=\"2\"), \"FEMENINO\",\n  \"\")), \"\")","v":""},0,null,null,null,0]
[{"$f":"IF(Tabla3[[#This Row],[APELLIDOS Y NOMBRES]]>0,ROW()-14,\"\")","v":""},{"$f":"IFERROR(IF(Tabla3[[#This Row],[APELLIDOS Y NOMBRES]]>0,VLOOKUP($H$7,DATA!$A$79:$B$160,2,FALSE),\"\"),\"\")","v":""},null,null,null,null,null,{"$f":"((NOW()-Tabla3[[#This Row],[FECHA DE NACIMIENTO]])/365)-0.5","v":124.79767625317098},null,null,null,null,null,null,null,null,null,null,null,null,null,null,null,null,null,null,null,null,null,null,null,null,null,null,null,null,null,null,null,null,null,null,null,null,null,"",null,{"$f":"IFERROR(IF(OR(LOWER(Tabla3[[#This Row],[SEXO]])=\"masculino\", LOWER(Tabla3[[#This Row],[SEXO]])=\"m\", LOWER(Tabla3[[#This Row],[SEXO]])=\"1\"), \"MASCULINO\",\n  IF(OR(LOWER(Tabla3[[#This Row],[SEXO]])=\"femenino\", LOWER(Tabla3[[#This Row],[SEXO]])=\"f\", LOWER(Tabla3[[#This Row],[SEXO]])=\"2\"), \"FEMENINO\",\n  \"\")), \"\")","v":""},0,null,null,null,0]
[{"$f":"IF(Tabla3[[#This Row],[APELLIDOS Y NOMBRES]]>0,ROW()-14,\"\")","v":""},{"$f":"IFERROR(IF(Tabla3[[#This Row],[APELLIDOS Y NOMBRES]]>0,VLOOKUP($H$7,DATA!$A$79:$B$160,2,FALSE),\"\"),\"\")","v":""},null,null,null,null,null,{"$f":"((NOW()-Tabla3[[#This Row],[FECHA DE NACIMIENTO]])/365)-0.5","v":124.79767625317098},null,null,null,null,null,null,null,null,null,null,null,null,null,null,null,null,null,null,null,null,null,null,null,null,null,null,null,null,null,null,null,null,null,null,null,null,null,"",null,{"$f":"IFERROR(IF(OR(LOWER(Tabla3[[#This Row],[SEXO]])=\"masculino\", LOWER(Tabla3[[#This Row],[SEXO]])=\"m\", LOWER(Tabla3[[#This Row],[SEXO]])=\"1\"), \"MASCULINO\",\n  IF(OR(LOWER(Tabla3[[#This Row],[SEXO]])=\"femenino\", LOWER(Tabla3[[#This Row],[SEXO]])=\"f\", LOWER(Tabla3[[#This Row],[SEXO]])=\"2\"), \"FEMENINO\",\n  \"\")), \"\")","v":""},0,null,null,null,0]
[{"$f":"IF(Tabla3[[#This Row],[APELLIDOS Y NOMBRES]]>0,ROW()-14,\"\")","v":""},{"$f":"IFERROR(IF(Tabla3[[#This Row],[APELLIDOS Y NOMBRES]]>0,VLOOKUP($H$7,DATA!$A$79:$B$160,2,FALSE),\"\"),\"\")","v":""},null,null,null,null,null,{"$f":"((NOW()-Tabla3[[#This Row],[FECHA DE NACIMIENTO]])/365)-0.5","v":124.79767625317098},null,null,null,null,null,null,null,null,null,null,null,null,null,null,null,null,null,null,null,null,null,null,null,null,null,null,null,null,null,null,null,null,null,null,null,null,null,"",null,{"$f":"IFERROR(IF(OR(LOWER(Tabla3[[#This Row],[SEXO]])=\"masculino\", LOWER(Tabla3[[#This Row],[SEXO]])=\"m\", LOWER(Tabla3[[#This Row],[SEXO]])=\"1\"), \"MASCULINO\",\n  IF(OR(LOWER(Tabla3[[#This Row],[SEXO]])=\"femenino\", LOWER(Tabla3[[#This Row],[SEXO]])=\"f\", LOWER(Tabla3[[#This Row],[SEXO]])=\"2\"), \"FEMENINO\",\n  \"\")), \"\")","v":""},0,null,null,null,0]
[{"$f":"IF(Tabla3[[#This Row],[APELLIDOS Y NOMBRES]]>0,ROW()-14,\"\")","v":""},{"$f":"IFERROR(IF(Tabla3[[#This Row],[APELLIDOS Y NOMBRES]]>0,VLOOKUP($H$7,DATA!$A$79:$B$160,2,FALSE),\"\"),\"\")","v":""},null,null,null,null,null,{"$f":"((NOW()-Tabla3[[#This Row],[FECHA DE NACIMIENTO]])/365)-0.5","v":124.79767625317098},null,null,null,null,null,null,null,null,null,null,null,null,null,null,null,null,null,null,null,null,null,null,null,null,null,null,null,null,null,null,null,null,null,null,null,null,null,"",null,{"$f":"IFERROR(IF(OR(LOWER(Tabla3[[#This Row],[SEXO]])=\"masculino\", LOWER(Tabla3[[#This Row],[SEXO]])=\"m\", LOWER(Tabla3[[#This Row],[SEXO]])=\"1\"), \"MASCULINO\",\n  IF(OR(LOWER(Tabla3[[#This Row],[SEXO]])=\"femenino\", LOWER(Tabla3[[#This Row],[SEXO]])=\"f\", LOWER(Tabla3[[#This Row],[SEXO]])=\"2\"), \"FEMENINO\",\n  \"\")), \"\")","v":""},0,null,null,null,0]
[{"$f":"IF(Tabla3[[#This Row],[APELLIDOS Y NOMBRES]]>0,ROW()-14,\"\")","v":""},{"$f":"IFERROR(IF(Tabla3[[#This Row],[APELLIDOS Y NOMBRES]]>0,VLOOKUP($H$7,DATA!$A$79:$B$160,2,FALSE),\"\"),\"\")","v":""},null,null,null,null,null,{"$f":"((NOW()-Tabla3[[#This Row],[FECHA DE NACIMIENTO]])/365)-0.5","v":124.79767625317098},null,null,null,null,null,null,null,null,null,null,null,null,null,null,null,null,null,null,null,null,null,null,null,null,null,null,null,null,null,null,null,null,null,null,null,null,null,"",null,{"$f":"IFERROR(IF(OR(LOWER(Tabla3[[#This Row],[SEXO]])=\"masculino\", LOWER(Tabla3[[#This Row],[SEXO]])=\"m\", LOWER(Tabla3[[#This Row],[SEXO]])=\"1\"), \"MASCULINO\",\n  IF(OR(LOWER(Tabla3[[#This Row],[SEXO]])=\"femenino\", LOWER(Tabla3[[#This Row],[SEXO]])=\"f\", LOWER(Tabla3[[#This Row],[SEXO]])=\"2\"), \"FEMENINO\",\n  \"\")), \"\")","v":""},0,null,null,null,0]
[{"$f":"IF(Tabla3[[#This Row],[APELLIDOS Y NOMBRES]]>0,ROW()-14,\"\")","v":""},{"$f":"IFERROR(IF(Tabla3[[#This Row],[APELLIDOS Y NOMBRES]]>0,VLOOKUP($H$7,DATA!$A$79:$B$160,2,FALSE),\"\"),\"\")","v":""},null,null,null,null,null,{"$f":"((NOW()-Tabla3[[#This Row],[FECHA DE NACIMIENTO]])/365)-0.5","v":124.79767625317098},null,null,null,null,null,null,null,null,null,null,null,null,null,null,null,null,null,null,null,null,null,null,null,null,null,null,null,null,null,null,null,null,null,null,null,null,null,"",null,{"$f":"IFERROR(IF(OR(LOWER(Tabla3[[#This Row],[SEXO]])=\"masculino\", LOWER(Tabla3[[#This Row],[SEXO]])=\"m\", LOWER(Tabla3[[#This Row],[SEXO]])=\"1\"), \"MASCULINO\",\n  IF(OR(LOWER(Tabla3[[#This Row],[SEXO]])=\"femenino\", LOWER(Tabla3[[#This Row],[SEXO]])=\"f\", LOWER(Tabla3[[#This Row],[SEXO]])=\"2\"), \"FEMENINO\",\n  \"\")), \"\")","v":""},0,null,null,null,0]
[{"$f":"IF(Tabla3[[#This Row],[APELLIDOS Y NOMBRES]]>0,ROW()-14,\"\")","v":""},{"$f":"IFERROR(IF(Tabla3[[#This Row],[APELLIDOS Y NOMBRES]]>0,VLOOKUP($H$7,DATA!$A$79:$B$160,2,FALSE),\"\"),\"\")","v":""},null,null,null,null,null,{"$f":"((NOW()-Tabla3[[#This Row],[FECHA DE NACIMIENTO]])/365)-0.5","v":124.79767625317098},null,null,null,null,null,null,null,null,null,null,null,null,null,null,null,null,null,null,null,null,null,null,null,null,null,null,null,null,null,null,null,null,null,null,null,null,null,"",null,{"$f":"IFERROR(IF(OR(LOWER(Tabla3[[#This Row],[SEXO]])=\"masculino\", LOWER(Tabla3[[#This Row],[SEXO]])=\"m\", LOWER(Tabla3[[#This Row],[SEXO]])=\"1\"), \"MASCULINO\",\n  IF(OR(LOWER(Tabla3[[#This Row],[SEXO]])=\"femenino\", LOWER(Tabla3[[#This Row],[SEXO]])=\"f\", LOWER(Tabla3[[#This Row],[SEXO]])=\"2\"), \"FEMENINO\",\n  \"\")), \"\")","v":""},0,null,null,null,0]
[{"$f":"IF(Tabla3[[#This Row],[APELLIDOS Y NOMBRES]]>0,ROW()-14,\"\")","v":""},{"$f":"IFERROR(IF(Tabla3[[#This Row],[APELLIDOS Y NOMBRES]]>0,VLOOKUP($H$7,DATA!$A$79:$B$160,2,FALSE),\"\"),\"\")","v":""},null,null,null,null,null,{"$f":"((NOW()-Tabla3[[#This Row],[FECHA DE NACIMIENTO]])/365)-0.5","v":124.79767625317098},null,null,null,null,null,null,null,null,null,null,null,null,null,null,null,null,null,null,null,null,null,null,null,null,null,null,null,null,null,null,null,null,null,null,null,null,null,"",null,{"$f":"IFERROR(IF(OR(LOWER(Tabla3[[#This Row],[SEXO]])=\"masculino\", LOWER(Tabla3[[#This Row],[SEXO]])=\"m\", LOWER(Tabla3[[#This Row],[SEXO]])=\"1\"), \"MASCULINO\",\n  IF(OR(LOWER(Tabla3[[#This Row],[SEXO]])=\"femenino\", LOWER(Tabla3[[#This Row],[SEXO]])=\"f\", LOWER(Tabla3[[#This Row],[SEXO]])=\"2\"), \"FEMENINO\",\n  \"\")), \"\")","v":""},0,null,null,null,0]
[{"$f":"IF(Tabla3[[#This Row],[APELLIDOS Y NOMBRES]]>0,ROW()-14,\"\")","v":""},{"$f":"IFERROR(IF(Tabla3[[#This Row],[APELLIDOS Y NOMBRES]]>0,VLOOKUP($H$7,DATA!$A$79:$B$160,2,FALSE),\"\"),\"\")","v":""},null,null,null,null,null,{"$f":"((NOW()-Tabla3[[#This Row],[FECHA DE NACIMIENTO]])/365)-0.5","v":124.79767625317098},null,null,null,null,null,null,null,null,null,null,null,null,null,null,null,null,null,null,null,null,null,null,null,null,null,null,null,null,null,null,null,null,null,null,null,null,null,"",null,{"$f":"IFERROR(IF(OR(LOWER(Tabla3[[#This Row],[SEXO]])=\"masculino\", LOWER(Tabla3[[#This Row],[SEXO]])=\"m\", LOWER(Tabla3[[#This Row],[SEXO]])=\"1\"), \"MASCULINO\",\n  IF(OR(LOWER(Tabla3[[#This Row],[SEXO]])=\"femenino\", LOWER(Tabla3[[#This Row],[SEXO]])=\"f\", LOWER(Tabla3[[#This Row],[SEXO]])=\"2\"), \"FEMENINO\",\n  \"\")), \"\")","v":""},0,null,null,null,0]
[{"$f":"IF(Tabla3[[#This Row],[APELLIDOS Y NOMBRES]]>0,ROW()-14,\"\")","v":""},{"$f":"IFERROR(IF(Tabla3[[#This Row],[APELLIDOS Y NOMBRES]]>0,VLOOKUP($H$7,DATA!$A$79:$B$160,2,FALSE),\"\"),\"\")","v":""},null,null,null,null,null,{"$f":"((NOW()-Tabla3[[#This Row],[FECHA DE NACIMIENTO]])/365)-0.5","v":124.79767625317098},null,null,null,null,null,null,null,null,null,null,null,null,null,null,null,null,null,null,null,null,null,null,null,null,null,null,null,null,null,null,null,null,null,null,null,null,null,"",null,{"$f":"IFERROR(IF(OR(LOWER(Tabla3[[#This Row],[SEXO]])=\"masculino\", LOWER(Tabla3[[#This Row],[SEXO]])=\"m\", LOWER(Tabla3[[#This Row],[SEXO]])=\"1\"), \"MASCULINO\",\n  IF(OR(LOWER(Tabla3[[#This Row],[SEXO]])=\"femenino\", LOWER(Tabla3[[#This Row],[SEXO]])=\"f\", LOWER(Tabla3[[#This Row],[SEXO]])=\"2\"), \"FEMENINO\",\n  \"\")), \"\")","v":""},0,null,null,null,0]
[{"$f":"IF(Tabla3[[#This Row],[APELLIDOS Y NOMBRES]]>0,ROW()-14,\"\")","v":""},{"$f":"IFERROR(IF(Tabla3[[#This Row],[APELLIDOS Y NOMBRES]]>0,VLOOKUP($H$7,DATA!$A$79:$B$160,2,FALSE),\"\"),\"\")","v":""},null,null,null,null,null,{"$f":"((NOW()-Tabla3[[#This Row],[FECHA DE NACIMIENTO]])/365)-0.5","v":124.79767625317098},null,null,null,null,null,null,null,null,null,null,null,null,null,null,null,null,null,null,null,null,null,null,null,null,null,null,null,null,null,null,null,null,null,null,null,null,null,"",null,{"$f":"IFERROR(IF(OR(LOWER(Tabla3[[#This Row],[SEXO]])=\"masculino\", LOWER(Tabla3[[#This Row],[SEXO]])=\"m\", LOWER(Tabla3[[#This Row],[SEXO]])=\"1\"), \"MASCULINO\",\n  IF(OR(LOWER(Tabla3[[#This Row],[SEXO]])=\"femenino\", LOWER(Tabla3[[#This Row],[SEXO]])=\"f\", LOWER(Tabla3[[#This Row],[SEXO]])=\"2\"), \"FEMENINO\",\n  \"\")), \"\")","v":""},0,null,null,null,0]
[{"$f":"IF(Tabla3[[#This Row],[APELLIDOS Y NOMBRES]]>0,ROW()-14,\"\")","v":""},{"$f":"IFERROR(IF(Tabla3[[#This Row],[APELLIDOS Y NOMBRES]]>0,VLOOKUP($H$7,DATA!$A$79:$B$160,2,FALSE),\"\"),\"\")","v":""},null,null,null,null,null,{"$f":"((NOW()-Tabla3[[#This Row],[FECHA DE NACIMIENTO]])/365)-0.5","v":124.79767625317098},null,null,null,null,null,null,null,null,null,null,null,null,null,null,null,null,null,null,null,null,null,null,null,null,null,null,null,null,null,null,null,null,null,null,null,null,null,"",null,{"$f":"IFERROR(IF(OR(LOWER(Tabla3[[#This Row],[SEXO]])=\"masculino\", LOWER(Tabla3[[#This Row],[SEXO]])=\"m\", LOWER(Tabla3[[#This Row],[SEXO]])=\"1\"), \"MASCULINO\",\n  IF(OR(LOWER(Tabla3[[#This Row],[SEXO]])=\"femenino\", LOWER(Tabla3[[#This Row],[SEXO]])=\"f\", LOWER(Tabla3[[#This Row],[SEXO]])=\"2\"), \"FEMENINO\",\n  \"\")), \"\")","v":""},0,null,null,null,0]
[{"$f":"IF(Tabla3[[#This Row],[APELLIDOS Y NOMBRES]]>0,ROW()-14,\"\")","v":""},{"$f":"IFERROR(IF(Tabla3[[#This Row],[APELLIDOS Y NOMBRES]]>0,VLOOKUP($H$7,DATA!$A$79:$B$160,2,FALSE),\"\"),\"\")","v":""},null,null,null,null,null,{"$f":"((NOW()-Tabla3[[#This Row],[FECHA DE NACIMIENTO]])/365)-0.5","v":124.79767625317098},null,null,null,null,null,null,null,null,null,null,null,null,null,null,null,null,null,null,null,null,null,null,null,null,null,null,null,null,null,null,null,null,null,null,null,null,null,"",null,{"$f":"IFERROR(IF(OR(LOWER(Tabla3[[#This Row],[SEXO]])=\"masculino\", LOWER(Tabla3[[#This Row],[SEXO]])=\"m\", LOWER(Tabla3[[#This Row],[SEXO]])=\"1\"), \"MASCULINO\",\n  IF(OR(LOWER(Tabla3[[#This Row],[SEXO]])=\"femenino\", LOWER(Tabla3[[#This Row],[SEXO]])=\"f\", LOWER(Tabla3[[#This Row],[SEXO]])=\"2\"), \"FEMENINO\",\n  \"\")), \"\")","v":""},0,null,null,null,0]
[{"$f":"IF(Tabla3[[#This Row],[APELLIDOS Y NOMBRES]]>0,ROW()-14,\"\")","v":""},{"$f":"IFERROR(IF(Tabla3[[#This Row],[APELLIDOS Y NOMBRES]]>0,VLOOKUP($H$7,DATA!$A$79:$B$160,2,FALSE),\"\"),\"\")","v":""},null,null,null,null,null,{"$f":"((NOW()-Tabla3[[#This Row],[FECHA DE NACIMIENTO]])/365)-0.5","v":124.79767625317098},null,null,null,null,null,null,null,null,null,null,null,null,null,null,null,null,null,null,null,null,null,null,null,null,null,null,null,null,null,null,null,null,null,null,null,null,null,"",null,{"$f":"IFERROR(IF(OR(LOWER(Tabla3[[#This Row],[SEXO]])=\"masculino\", LOWER(Tabla3[[#This Row],[SEXO]])=\"m\", LOWER(Tabla3[[#This Row],[SEXO]])=\"1\"), \"MASCULINO\",\n  IF(OR(LOWER(Tabla3[[#This Row],[SEXO]])=\"femenino\", LOWER(Tabla3[[#This Row],[SEXO]])=\"f\", LOWER(Tabla3[[#This Row],[SEXO]])=\"2\"), \"FEMENINO\",\n  \"\")), \"\")","v":""},0,null,null,null,0]
[{"$f":"IF(Tabla3[[#This Row],[APELLIDOS Y NOMBRES]]>0,ROW()-14,\"\")","v":""},{"$f":"IFERROR(IF(Tabla3[[#This Row],[APELLIDOS Y NOMBRES]]>0,VLOOKUP($H$7,DATA!$A$79:$B$160,2,FALSE),\"\"),\"\")","v":""},null,null,null,null,null,{"$f":"((NOW()-Tabla3[[#This Row],[FECHA DE NACIMIENTO]])/365)-0.5","v":124.79767625317098},null,null,null,null,null,null,null,null,null,null,null,null,null,null,null,null,null,null,null,null,null,null,null,null,null,null,null,null,null,null,null,null,null,null,null,null,null,"",null,{"$f":"IFERROR(IF(OR(LOWER(Tabla3[[#This Row],[SEXO]])=\"masculino\", LOWER(Tabla3[[#This Row],[SEXO]])=\"m\", LOWER(Tabla3[[#This Row],[SEXO]])=\"1\"), \"MASCULINO\",\n  IF(OR(LOWER(Tabla3[[#This Row],[SEXO]])=\"femenino\", LOWER(Tabla3[[#This Row],[SEXO]])=\"f\", LOWER(Tabla3[[#This Row],[SEXO]])=\"2\"), \"FEMENINO\",\n  \"\")), \"\")","v":""},0,null,null,null,0]
[{"$f":"IF(Tabla3[[#This Row],[APELLIDOS Y NOMBRES]]>0,ROW()-14,\"\")","v":""},{"$f":"IFERROR(IF(Tabla3[[#This Row],[APELLIDOS Y NOMBRES]]>0,VLOOKUP($H$7,DATA!$A$79:$B$160,2,FALSE),\"\"),\"\")","v":""},null,null,null,null,null,{"$f":"((NOW()-Tabla3[[#This Row],[FECHA DE NACIMIENTO]])/365)-0.5","v":124.79767625317098},null,null,null,null,null,null,null,null,null,null,null,null,null,null,null,null,null,null,null,null,null,null,null,null,null,null,null,null,null,null,null,null,null,null,null,null,null,"",null,{"$f":"IFERROR(IF(OR(LOWER(Tabla3[[#This Row],[SEXO]])=\"masculino\", LOWER(Tabla3[[#This Row],[SEXO]])=\"m\", LOWER(Tabla3[[#This Row],[SEXO]])=\"1\"), \"MASCULINO\",\n  IF(OR(LOWER(Tabla3[[#This Row],[SEXO]])=\"femenino\", LOWER(Tabla3[[#This Row],[SEXO]])=\"f\", LOWER(Tabla3[[#This Row],[SEXO]])=\"2\"), \"FEMENINO\",\n  \"\")), \"\")","v":""},0,null,null,null,0]
[{"$f":"IF(Tabla3[[#This Row],[APELLIDOS Y NOMBRES]]>0,ROW()-14,\"\")","v":""},{"$f":"IFERROR(IF(Tabla3[[#This Row],[APELLIDOS Y NOMBRES]]>0,VLOOKUP($H$7,DATA!$A$79:$B$160,2,FALSE),\"\"),\"\")","v":""},null,null,null,null,null,{"$f":"((NOW()-Tabla3[[#This Row],[FECHA DE NACIMIENTO]])/365)-0.5","v":124.79767625317098},null,null,null,null,null,null,null,null,null,null,null,null,null,null,null,null,null,null,null,null,null,null,null,null,null,null,null,null,null,null,null,null,null,null,null,null,null,"",null,{"$f":"IFERROR(IF(OR(LOWER(Tabla3[[#This Row],[SEXO]])=\"masculino\", LOWER(Tabla3[[#This Row],[SEXO]])=\"m\", LOWER(Tabla3[[#This Row],[SEXO]])=\"1\"), \"MASCULINO\",\n  IF(OR(LOWER(Tabla3[[#This Row],[SEXO]])=\"femenino\", LOWER(Tabla3[[#This Row],[SEXO]])=\"f\", LOWER(Tabla3[[#This Row],[SEXO]])=\"2\"), \"FEMENINO\",\n  \"\")), \"\")","v":""},0,null,null,null,0]
[{"$f":"IF(Tabla3[[#This Row],[APELLIDOS Y NOMBRES]]>0,ROW()-14,\"\")","v":""},{"$f":"IFERROR(IF(Tabla3[[#This Row],[APELLIDOS Y NOMBRES]]>0,VLOOKUP($H$7,DATA!$A$79:$B$160,2,FALSE),\"\"),\"\")","v":""},null,null,null,null,null,{"$f":"((NOW()-Tabla3[[#This Row],[FECHA DE NACIMIENTO]])/365)-0.5","v":124.79767625317098},null,null,null,null,null,null,null,null,null,null,null,null,null,null,null,null,null,null,null,null,null,null,null,null,null,null,null,null,null,null,null,null,null,null,null,null,null,"",null,{"$f":"IFERROR(IF(OR(LOWER(Tabla3[[#This Row],[SEXO]])=\"masculino\", LOWER(Tabla3[[#This Row],[SEXO]])=\"m\", LOWER(Tabla3[[#This Row],[SEXO]])=\"1\"), \"MASCULINO\",\n  IF(OR(LOWER(Tabla3[[#This Row],[SEXO]])=\"femenino\", LOWER(Tabla3[[#This Row],[SEXO]])=\"f\", LOWER(Tabla3[[#This Row],[SEXO]])=\"2\"), \"FEMENINO\",\n  \"\")), \"\")","v":""},0,null,null,null,0]
[{"$f":"IF(Tabla3[[#This Row],[APELLIDOS Y NOMBRES]]>0,ROW()-14,\"\")","v":""},{"$f":"IFERROR(IF(Tabla3[[#This Row],[APELLIDOS Y NOMBRES]]>0,VLOOKUP($H$7,DATA!$A$79:$B$160,2,FALSE),\"\"),\"\")","v":""},null,null,null,null,null,{"$f":"((NOW()-Tabla3[[#This Row],[FECHA DE NACIMIENTO]])/365)-0.5","v":124.79767625317098},null,null,null,null,null,null,null,null,null,null,null,null,null,null,null,null,null,null,null,null,null,null,null,null,null,null,null,null,null,null,null,null,null,null,null,null,null,"",null,{"$f":"IFERROR(IF(OR(LOWER(Tabla3[[#This Row],[SEXO]])=\"masculino\", LOWER(Tabla3[[#This Row],[SEXO]])=\"m\", LOWER(Tabla3[[#This Row],[SEXO]])=\"1\"), \"MASCULINO\",\n  IF(OR(LOWER(Tabla3[[#This Row],[SEXO]])=\"femenino\", LOWER(Tabla3[[#This Row],[SEXO]])=\"f\", LOWER(Tabla3[[#This Row],[SEXO]])=\"2\"), \"FEMENINO\",\n  \"\")), \"\")","v":""},0,null,null,null,0]
[{"$f":"IF(Tabla3[[#This Row],[APELLIDOS Y NOMBRES]]>0,ROW()-14,\"\")","v":""},{"$f":"IFERROR(IF(Tabla3[[#This Row],[APELLIDOS Y NOMBRES]]>0,VLOOKUP($H$7,DATA!$A$79:$B$160,2,FALSE),\"\"),\"\")","v":""},null,null,null,null,null,{"$f":"((NOW()-Tabla3[[#This Row],[FECHA DE NACIMIENTO]])/365)-0.5","v":124.79767625317098},null,null,null,null,null,null,null,null,null,null,null,null,null,null,null,null,null,null,null,null,null,null,null,null,null,null,null,null,null,null,null,null,null,null,null,null,null,"",null,{"$f":"IFERROR(IF(OR(LOWER(Tabla3[[#This Row],[SEXO]])=\"masculino\", LOWER(Tabla3[[#This Row],[SEXO]])=\"m\", LOWER(Tabla3[[#This Row],[SEXO]])=\"1\"), \"MASCULINO\",\n  IF(OR(LOWER(Tabla3[[#This Row],[SEXO]])=\"femenino\", LOWER(Tabla3[[#This Row],[SEXO]])=\"f\", LOWER(Tabla3[[#This Row],[SEXO]])=\"2\"), \"FEMENINO\",\n  \"\")), \"\")","v":""},0,null,null,null,0]
[{"$f":"IF(Tabla3[[#This Row],[APELLIDOS Y NOMBRES]]>0,ROW()-14,\"\")","v":""},{"$f":"IFERROR(IF(Tabla3[[#This Row],[APELLIDOS Y NOMBRES]]>0,VLOOKUP($H$7,DATA!$A$79:$B$160,2,FALSE),\"\"),\"\")","v":""},null,null,null,null,null,{"$f":"((NOW()-Tabla3[[#This Row],[FECHA DE NACIMIENTO]])/365)-0.5","v":124.79767625317098},null,null,null,null,null,null,null,null,null,null,null,null,null,null,null,null,null,null,null,null,null,null,null,null,null,null,null,null,null,null,null,null,null,null,null,null,null,"",null,{"$f":"IFERROR(IF(OR(LOWER(Tabla3[[#This Row],[SEXO]])=\"masculino\", LOWER(Tabla3[[#This Row],[SEXO]])=\"m\", LOWER(Tabla3[[#This Row],[SEXO]])=\"1\"), \"MASCULINO\",\n  IF(OR(LOWER(Tabla3[[#This Row],[SEXO]])=\"femenino\", LOWER(Tabla3[[#This Row],[SEXO]])=\"f\", LOWER(Tabla3[[#This Row],[SEXO]])=\"2\"), \"FEMENINO\",\n  \"\")), \"\")","v":""},0,null,null,null,0]
[{"$f":"IF(Tabla3[[#This Row],[APELLIDOS Y NOMBRES]]>0,ROW()-14,\"\")","v":""},{"$f":"IFERROR(IF(Tabla3[[#This Row],[APELLIDOS Y NOMBRES]]>0,VLOOKUP($H$7,DATA!$A$79:$B$160,2,FALSE),\"\"),\"\")","v":""},null,null,null,null,null,{"$f":"((NOW()-Tabla3[[#This Row],[FECHA DE NACIMIENTO]])/365)-0.5","v":124.79767625317098},null,null,null,null,null,null,null,null,null,null,null,null,null,null,null,null,null,null,null,null,null,null,null,null,null,null,null,null,null,null,null,null,null,null,null,null,null,"",null,{"$f":"IFERROR(IF(OR(LOWER(Tabla3[[#This Row],[SEXO]])=\"masculino\", LOWER(Tabla3[[#This Row],[SEXO]])=\"m\", LOWER(Tabla3[[#This Row],[SEXO]])=\"1\"), \"MASCULINO\",\n  IF(OR(LOWER(Tabla3[[#This Row],[SEXO]])=\"femenino\", LOWER(Tabla3[[#This Row],[SEXO]])=\"f\", LOWER(Tabla3[[#This Row],[SEXO]])=\"2\"), \"FEMENINO\",\n  \"\")), \"\")","v":""},0,null,null,null,0]
[{"$f":"IF(Tabla3[[#This Row],[APELLIDOS Y NOMBRES]]>0,ROW()-14,\"\")","v":""},{"$f":"IFERROR(IF(Tabla3[[#This Row],[APELLIDOS Y NOMBRES]]>0,VLOOKUP($H$7,DATA!$A$79:$B$160,2,FALSE),\"\"),\"\")","v":""},null,null,null,null,null,{"$f":"((NOW()-Tabla3[[#This Row],[FECHA DE NACIMIENTO]])/365)-0.5","v":124.79767625317098},null,null,null,null,null,null,null,null,null,null,null,null,null,null,null,null,null,null,null,null,null,null,null,null,null,null,null,null,null,null,null,null,null,null,null,null,null,"",null,{"$f":"IFERROR(IF(OR(LOWER(Tabla3[[#This Row],[SEXO]])=\"masculino\", LOWER(Tabla3[[#This Row],[SEXO]])=\"m\", LOWER(Tabla3[[#This Row],[SEXO]])=\"1\"), \"MASCULINO\",\n  IF(OR(LOWER(Tabla3[[#This Row],[SEXO]])=\"femenino\", LOWER(Tabla3[[#This Row],[SEXO]])=\"f\", LOWER(Tabla3[[#This Row],[SEXO]])=\"2\"), \"FEMENINO\",\n  \"\")), \"\")","v":""},0,null,null,null,0]
[{"$f":"IF(Tabla3[[#This Row],[APELLIDOS Y NOMBRES]]>0,ROW()-14,\"\")","v":""},{"$f":"IFERROR(IF(Tabla3[[#This Row],[APELLIDOS Y NOMBRES]]>0,VLOOKUP($H$7,DATA!$A$79:$B$160,2,FALSE),\"\"),\"\")","v":""},null,null,null,null,null,{"$f":"((NOW()-Tabla3[[#This Row],[FECHA DE NACIMIENTO]])/365)-0.5","v":124.79767625317098},null,null,null,null,null,null,null,null,null,null,null,null,null,null,null,null,null,null,null,null,null,null,null,null,null,null,null,null,null,null,null,null,null,null,null,null,null,"",null,{"$f":"IFERROR(IF(OR(LOWER(Tabla3[[#This Row],[SEXO]])=\"masculino\", LOWER(Tabla3[[#This Row],[SEXO]])=\"m\", LOWER(Tabla3[[#This Row],[SEXO]])=\"1\"), \"MASCULINO\",\n  IF(OR(LOWER(Tabla3[[#This Row],[SEXO]])=\"femenino\", LOWER(Tabla3[[#This Row],[SEXO]])=\"f\", LOWER(Tabla3[[#This Row],[SEXO]])=\"2\"), \"FEMENINO\",\n  \"\")), \"\")","v":""},0,null,null,null,0]
[{"$f":"IF(Tabla3[[#This Row],[APELLIDOS Y NOMBRES]]>0,ROW()-14,\"\")","v":""},{"$f":"IFERROR(IF(Tabla3[[#This Row],[APELLIDOS Y NOMBRES]]>0,VLOOKUP($H$7,DATA!$A$79:$B$160,2,FALSE),\"\"),\"\")","v":""},null,null,null,null,null,{"$f":"((NOW()-Tabla3[[#This Row],[FECHA DE NACIMIENTO]])/365)-0.5","v":124.79767625317098},null,null,null,null,null,null,null,null,null,null,null,null,null,null,null,null,null,null,null,null,null,null,null,null,null,null,null,null,null,null,null,null,null,null,null,null,null,"",null,{"$f":"IFERROR(IF(OR(LOWER(Tabla3[[#This Row],[SEXO]])=\"masculino\", LOWER(Tabla3[[#This Row],[SEXO]])=\"m\", LOWER(Tabla3[[#This Row],[SEXO]])=\"1\"), \"MASCULINO\",\n  IF(OR(LOWER(Tabla3[[#This Row],[SEXO]])=\"femenino\", LOWER(Tabla3[[#This Row],[SEXO]])=\"f\", LOWER(Tabla3[[#This Row],[SEXO]])=\"2\"), \"FEMENINO\",\n  \"\")), \"\")","v":""},0,null,null,null,0]
[{"$f":"IF(Tabla3[[#This Row],[APELLIDOS Y NOMBRES]]>0,ROW()-14,\"\")","v":""},{"$f":"IFERROR(IF(Tabla3[[#This Row],[APELLIDOS Y NOMBRES]]>0,VLOOKUP($H$7,DATA!$A$79:$B$160,2,FALSE),\"\"),\"\")","v":""},null,null,null,null,null,{"$f":"((NOW()-Tabla3[[#This Row],[FECHA DE NACIMIENTO]])/365)-0.5","v":124.79767625317098},null,null,null,null,null,null,null,null,null,null,null,null,null,null,null,null,null,null,null,null,null,null,null,null,null,null,null,null,null,null,null,null,null,null,null,null,null,"",null,{"$f":"IFERROR(IF(OR(LOWER(Tabla3[[#This Row],[SEXO]])=\"masculino\", LOWER(Tabla3[[#This Row],[SEXO]])=\"m\", LOWER(Tabla3[[#This Row],[SEXO]])=\"1\"), \"MASCULINO\",\n  IF(OR(LOWER(Tabla3[[#This Row],[SEXO]])=\"femenino\", LOWER(Tabla3[[#This Row],[SEXO]])=\"f\", LOWER(Tabla3[[#This Row],[SEXO]])=\"2\"), \"FEMENINO\",\n  \"\")), \"\")","v":""},0,null,null,null,0]
[{"$f":"IF(Tabla3[[#This Row],[APELLIDOS Y NOMBRES]]>0,ROW()-14,\"\")","v":""},{"$f":"IFERROR(IF(Tabla3[[#This Row],[APELLIDOS Y NOMBRES]]>0,VLOOKUP($H$7,DATA!$A$79:$B$160,2,FALSE),\"\"),\"\")","v":""},null,null,null,null,null,{"$f":"((NOW()-Tabla3[[#This Row],[FECHA DE NACIMIENTO]])/365)-0.5","v":124.79767625317098},null,null,null,null,null,null,null,null,null,null,null,null,null,null,null,null,null,null,null,null,null,null,null,null,null,null,null,null,null,null,null,null,null,null,null,null,null,"",null,{"$f":"IFERROR(IF(OR(LOWER(Tabla3[[#This Row],[SEXO]])=\"masculino\", LOWER(Tabla3[[#This Row],[SEXO]])=\"m\", LOWER(Tabla3[[#This Row],[SEXO]])=\"1\"), \"MASCULINO\",\n  IF(OR(LOWER(Tabla3[[#This Row],[SEXO]])=\"femenino\", LOWER(Tabla3[[#This Row],[SEXO]])=\"f\", LOWER(Tabla3[[#This Row],[SEXO]])=\"2\"), \"FEMENINO\",\n  \"\")), \"\")","v":""},0,null,null,null,0]
[{"$f":"IF(Tabla3[[#This Row],[APELLIDOS Y NOMBRES]]>0,ROW()-14,\"\")","v":""},{"$f":"IFERROR(IF(Tabla3[[#This Row],[APELLIDOS Y NOMBRES]]>0,VLOOKUP($H$7,DATA!$A$79:$B$160,2,FALSE),\"\"),\"\")","v":""},null,null,null,null,null,{"$f":"((NOW()-Tabla3[[#This Row],[FECHA DE NACIMIENTO]])/365)-0.5","v":124.79767625317098},null,null,null,null,null,null,null,null,null,null,null,null,null,null,null,null,null,null,null,null,null,null,null,null,null,null,null,null,null,null,null,null,null,null,null,null,null,"",null,{"$f":"IFERROR(IF(OR(LOWER(Tabla3[[#This Row],[SEXO]])=\"masculino\", LOWER(Tabla3[[#This Row],[SEXO]])=\"m\", LOWER(Tabla3[[#This Row],[SEXO]])=\"1\"), \"MASCULINO\",\n  IF(OR(LOWER(Tabla3[[#This Row],[SEXO]])=\"femenino\", LOWER(Tabla3[[#This Row],[SEXO]])=\"f\", LOWER(Tabla3[[#This Row],[SEXO]])=\"2\"), \"FEMENINO\",\n  \"\")), \"\")","v":""},0,null,null,null,0]
[{"$f":"IF(Tabla3[[#This Row],[APELLIDOS Y NOMBRES]]>0,ROW()-14,\"\")","v":""},{"$f":"IFERROR(IF(Tabla3[[#This Row],[APELLIDOS Y NOMBRES]]>0,VLOOKUP($H$7,DATA!$A$79:$B$160,2,FALSE),\"\"),\"\")","v":""},null,null,null,null,null,{"$f":"((NOW()-Tabla3[[#This Row],[FECHA DE NACIMIENTO]])/365)-0.5","v":124.79767625317098},null,null,null,null,null,null,null,null,null,null,null,null,null,null,null,null,null,null,null,null,null,null,null,null,null,null,null,null,null,null,null,null,null,null,null,null,null,"",null,{"$f":"IFERROR(IF(OR(LOWER(Tabla3[[#This Row],[SEXO]])=\"masculino\", LOWER(Tabla3[[#This Row],[SEXO]])=\"m\", LOWER(Tabla3[[#This Row],[SEXO]])=\"1\"), \"MASCULINO\",\n  IF(OR(LOWER(Tabla3[[#This Row],[SEXO]])=\"femenino\", LOWER(Tabla3[[#This Row],[SEXO]])=\"f\", LOWER(Tabla3[[#This Row],[SEXO]])=\"2\"), \"FEMENINO\",\n  \"\")), \"\")","v":""},0,null,null,null,0]
[{"$f":"IF(Tabla3[[#This Row],[APELLIDOS Y NOMBRES]]>0,ROW()-14,\"\")","v":""},{"$f":"IFERROR(IF(Tabla3[[#This Row],[APELLIDOS Y NOMBRES]]>0,VLOOKUP($H$7,DATA!$A$79:$B$160,2,FALSE),\"\"),\"\")","v":""},null,null,null,null,null,{"$f":"((NOW()-Tabla3[[#This Row],[FECHA DE NACIMIENTO]])/365)-0.5","v":124.79767625317098},null,null,null,null,null,null,null,null,null,null,null,null,null,null,null,null,null,null,null,null,null,null,null,null,null,null,null,null,null,null,null,null,null,null,null,null,null,"",null,{"$f":"IFERROR(IF(OR(LOWER(Tabla3[[#This Row],[SEXO]])=\"masculino\", LOWER(Tabla3[[#This Row],[SEXO]])=\"m\", LOWER(Tabla3[[#This Row],[SEXO]])=\"1\"), \"MASCULINO\",\n  IF(OR(LOWER(Tabla3[[#This Row],[SEXO]])=\"femenino\", LOWER(Tabla3[[#This Row],[SEXO]])=\"f\", LOWER(Tabla3[[#This Row],[SEXO]])=\"2\"), \"FEMENINO\",\n  \"\")), \"\")","v":""},0,null,null,null,0]
[{"$f":"IF(Tabla3[[#This Row],[APELLIDOS Y NOMBRES]]>0,ROW()-14,\"\")","v":""},{"$f":"IFERROR(IF(Tabla3[[#This Row],[APELLIDOS Y NOMBRES]]>0,VLOOKUP($H$7,DATA!$A$79:$B$160,2,FALSE),\"\"),\"\")","v":""},null,null,null,null,null,{"$f":"((NOW()-Tabla3[[#This Row],[FECHA DE NACIMIENTO]])/365)-0.5","v":124.79767625317098},null,null,null,null,null,null,null,null,null,null,null,null,null,null,null,null,null,null,null,null,null,null,null,null,null,null,null,null,null,null,null,null,null,null,null,null,null,"",null,{"$f":"IFERROR(IF(OR(LOWER(Tabla3[[#This Row],[SEXO]])=\"masculino\", LOWER(Tabla3[[#This Row],[SEXO]])=\"m\", LOWER(Tabla3[[#This Row],[SEXO]])=\"1\"), \"MASCULINO\",\n  IF(OR(LOWER(Tabla3[[#This Row],[SEXO]])=\"femenino\", LOWER(Tabla3[[#This Row],[SEXO]])=\"f\", LOWER(Tabla3[[#This Row],[SEXO]])=\"2\"), \"FEMENINO\",\n  \"\")), \"\")","v":""},0,null,null,null,0]
[{"$f":"IF(Tabla3[[#This Row],[APELLIDOS Y NOMBRES]]>0,ROW()-14,\"\")","v":""},{"$f":"IFERROR(IF(Tabla3[[#This Row],[APELLIDOS Y NOMBRES]]>0,VLOOKUP($H$7,DATA!$A$79:$B$160,2,FALSE),\"\"),\"\")","v":""},null,null,null,null,null,{"$f":"((NOW()-Tabla3[[#This Row],[FECHA DE NACIMIENTO]])/365)-0.5","v":124.79767625317098},null,null,null,null,null,null,null,null,null,null,null,null,null,null,null,null,null,null,null,null,null,null,null,null,null,null,null,null,null,null,null,null,null,null,null,null,null,{"$f":"IF(OR($C$5=\"\", $D336=\"\"), \"\", $C$5)","v":""},null,{"$f":"IFERROR(IF(OR(LOWER(Tabla3[[#This Row],[SEXO]])=\"masculino\", LOWER(Tabla3[[#This Row],[SEXO]])=\"m\", LOWER(Tabla3[[#This Row],[SEXO]])=\"1\"), \"MASCULINO\",\n  IF(OR(LOWER(Tabla3[[#This Row],[SEXO]])=\"femenino\", LOWER(Tabla3[[#This Row],[SEXO]])=\"f\", LOWER(Tabla3[[#This Row],[SEXO]])=\"2\"), \"FEMENINO\",\n  \"\")), \"\")","v":""},{"$f":"COUNTIF(P336:AH336,104)","v":0},null,null,null,{"$f":"IF(COUNTIF(P336:AI336,104)>0,1,0)","v":0}]
[{"$f":"IF(Tabla3[[#This Row],[APELLIDOS Y NOMBRES]]>0,ROW()-14,\"\")","v":""},{"$f":"IFERROR(IF(Tabla3[[#This Row],[APELLIDOS Y NOMBRES]]>0,VLOOKUP($H$7,DATA!$A$79:$B$160,2,FALSE),\"\"),\"\")","v":""},null,null,null,null,null,{"$f":"((NOW()-Tabla3[[#This Row],[FECHA DE NACIMIENTO]])/365)-0.5","v":124.79767625317098},null,null,null,null,null,null,null,null,null,null,null,null,null,null,null,null,null,null,null,null,null,null,null,null,null,null,null,null,null,null,null,null,null,null,null,null,null,"",null,{"$f":"IFERROR(IF(OR(LOWER(Tabla3[[#This Row],[SEXO]])=\"masculino\", LOWER(Tabla3[[#This Row],[SEXO]])=\"m\", LOWER(Tabla3[[#This Row],[SEXO]])=\"1\"), \"MASCULINO\",\n  IF(OR(LOWER(Tabla3[[#This Row],[SEXO]])=\"femenino\", LOWER(Tabla3[[#This Row],[SEXO]])=\"f\", LOWER(Tabla3[[#This Row],[SEXO]])=\"2\"), \"FEMENINO\",\n  \"\")), \"\")","v":""},0,null,null,null,0]
[{"$f":"IF(Tabla3[[#This Row],[APELLIDOS Y NOMBRES]]>0,ROW()-14,\"\")","v":""},{"$f":"IFERROR(IF(Tabla3[[#This Row],[APELLIDOS Y NOMBRES]]>0,VLOOKUP($H$7,DATA!$A$79:$B$160,2,FALSE),\"\"),\"\")","v":""},null,null,null,null,null,{"$f":"((NOW()-Tabla3[[#This Row],[FECHA DE NACIMIENTO]])/365)-0.5","v":124.79767625317098},null,null,null,null,null,null,null,null,null,null,null,null,null,null,null,null,null,null,null,null,null,null,null,null,null,null,null,null,null,null,null,null,null,null,null,null,null,"",null,{"$f":"IFERROR(IF(OR(LOWER(Tabla3[[#This Row],[SEXO]])=\"masculino\", LOWER(Tabla3[[#This Row],[SEXO]])=\"m\", LOWER(Tabla3[[#This Row],[SEXO]])=\"1\"), \"MASCULINO\",\n  IF(OR(LOWER(Tabla3[[#This Row],[SEXO]])=\"femenino\", LOWER(Tabla3[[#This Row],[SEXO]])=\"f\", LOWER(Tabla3[[#This Row],[SEXO]])=\"2\"), \"FEMENINO\",\n  \"\")), \"\")","v":""},0,null,null,null,0]
[{"$f":"IF(Tabla3[[#This Row],[APELLIDOS Y NOMBRES]]>0,ROW()-14,\"\")","v":""},{"$f":"IFERROR(IF(Tabla3[[#This Row],[APELLIDOS Y NOMBRES]]>0,VLOOKUP($H$7,DATA!$A$79:$B$160,2,FALSE),\"\"),\"\")","v":""},null,null,null,null,null,{"$f":"((NOW()-Tabla3[[#This Row],[FECHA DE NACIMIENTO]])/365)-0.5","v":124.79767625317098},null,null,null,null,null,null,null,null,null,null,null,null,null,null,null,null,null,null,null,null,null,null,null,null,null,null,null,null,null,null,null,null,null,null,null,null,null,"",null,{"$f":"IFERROR(IF(OR(LOWER(Tabla3[[#This Row],[SEXO]])=\"masculino\", LOWER(Tabla3[[#This Row],[SEXO]])=\"m\", LOWER(Tabla3[[#This Row],[SEXO]])=\"1\"), \"MASCULINO\",\n  IF(OR(LOWER(Tabla3[[#This Row],[SEXO]])=\"femenino\", LOWER(Tabla3[[#This Row],[SEXO]])=\"f\", LOWER(Tabla3[[#This Row],[SEXO]])=\"2\"), \"FEMENINO\",\n  \"\")), \"\")","v":""},0,null,null,null,0]
[{"$f":"IF(Tabla3[[#This Row],[APELLIDOS Y NOMBRES]]>0,ROW()-14,\"\")","v":""},{"$f":"IFERROR(IF(Tabla3[[#This Row],[APELLIDOS Y NOMBRES]]>0,VLOOKUP($H$7,DATA!$A$79:$B$160,2,FALSE),\"\"),\"\")","v":""},null,null,null,null,null,{"$f":"((NOW()-Tabla3[[#This Row],[FECHA DE NACIMIENTO]])/365)-0.5","v":124.79767625317098},null,null,null,null,null,null,null,null,null,null,null,null,null,null,null,null,null,null,null,null,null,null,null,null,null,null,null,null,null,null,null,null,null,null,null,null,null,"",null,{"$f":"IFERROR(IF(OR(LOWER(Tabla3[[#This Row],[SEXO]])=\"masculino\", LOWER(Tabla3[[#This Row],[SEXO]])=\"m\", LOWER(Tabla3[[#This Row],[SEXO]])=\"1\"), \"MASCULINO\",\n  IF(OR(LOWER(Tabla3[[#This Row],[SEXO]])=\"femenino\", LOWER(Tabla3[[#This Row],[SEXO]])=\"f\", LOWER(Tabla3[[#This Row],[SEXO]])=\"2\"), \"FEMENINO\",\n  \"\")), \"\")","v":""},0,null,null,null,0]
[{"$f":"IF(Tabla3[[#This Row],[APELLIDOS Y NOMBRES]]>0,ROW()-14,\"\")","v":""},{"$f":"IFERROR(IF(Tabla3[[#This Row],[APELLIDOS Y NOMBRES]]>0,VLOOKUP($H$7,DATA!$A$79:$B$160,2,FALSE),\"\"),\"\")","v":""},null,null,null,null,null,{"$f":"((NOW()-Tabla3[[#This Row],[FECHA DE NACIMIENTO]])/365)-0.5","v":124.79767625317098},null,null,null,null,null,null,null,null,null,null,null,null,null,null,null,null,null,null,null,null,null,null,null,null,null,null,null,null,null,null,null,null,null,null,null,null,null,"",null,{"$f":"IFERROR(IF(OR(LOWER(Tabla3[[#This Row],[SEXO]])=\"masculino\", LOWER(Tabla3[[#This Row],[SEXO]])=\"m\", LOWER(Tabla3[[#This Row],[SEXO]])=\"1\"), \"MASCULINO\",\n  IF(OR(LOWER(Tabla3[[#This Row],[SEXO]])=\"femenino\", LOWER(Tabla3[[#This Row],[SEXO]])=\"f\", LOWER(Tabla3[[#This Row],[SEXO]])=\"2\"), \"FEMENINO\",\n  \"\")), \"\")","v":""},0,null,null,null,0]
[{"$f":"IF(Tabla3[[#This Row],[APELLIDOS Y NOMBRES]]>0,ROW()-14,\"\")","v":""},{"$f":"IFERROR(IF(Tabla3[[#This Row],[APELLIDOS Y NOMBRES]]>0,VLOOKUP($H$7,DATA!$A$79:$B$160,2,FALSE),\"\"),\"\")","v":""},null,null,null,null,null,{"$f":"((NOW()-Tabla3[[#This Row],[FECHA DE NACIMIENTO]])/365)-0.5","v":124.79767625317098},null,null,null,null,null,null,null,null,null,null,null,null,null,null,null,null,null,null,null,null,null,null,null,null,null,null,null,null,null,null,null,null,null,null,null,null,null,"",null,{"$f":"IFERROR(IF(OR(LOWER(Tabla3[[#This Row],[SEXO]])=\"masculino\", LOWER(Tabla3[[#This Row],[SEXO]])=\"m\", LOWER(Tabla3[[#This Row],[SEXO]])=\"1\"), \"MASCULINO\",\n  IF(OR(LOWER(Tabla3[[#This Row],[SEXO]])=\"femenino\", LOWER(Tabla3[[#This Row],[SEXO]])=\"f\", LOWER(Tabla3[[#This Row],[SEXO]])=\"2\"), \"FEMENINO\",\n  \"\")), \"\")","v":""},0,null,null,null,0]
[{"$f":"IF(Tabla3[[#This Row],[APELLIDOS Y NOMBRES]]>0,ROW()-14,\"\")","v":""},{"$f":"IFERROR(IF(Tabla3[[#This Row],[APELLIDOS Y NOMBRES]]>0,VLOOKUP($H$7,DATA!$A$79:$B$160,2,FALSE),\"\"),\"\")","v":""},null,null,null,null,null,{"$f":"((NOW()-Tabla3[[#This Row],[FECHA DE NACIMIENTO]])/365)-0.5","v":124.79767625317098},null,null,null,null,null,null,null,null,null,null,null,null,null,null,null,null,null,null,null,null,null,null,null,null,null,null,null,null,null,null,null,null,null,null,null,null,null,"",null,{"$f":"IFERROR(IF(OR(LOWER(Tabla3[[#This Row],[SEXO]])=\"masculino\", LOWER(Tabla3[[#This Row],[SEXO]])=\"m\", LOWER(Tabla3[[#This Row],[SEXO]])=\"1\"), \"MASCULINO\",\n  IF(OR(LOWER(Tabla3[[#This Row],[SEXO]])=\"femenino\", LOWER(Tabla3[[#This Row],[SEXO]])=\"f\", LOWER(Tabla3[[#This Row],[SEXO]])=\"2\"), \"FEMENINO\",\n  \"\")), \"\")","v":""},0,null,null,null,0]
[{"$f":"IF(Tabla3[[#This Row],[APELLIDOS Y NOMBRES]]>0,ROW()-14,\"\")","v":""},{"$f":"IFERROR(IF(Tabla3[[#This Row],[APELLIDOS Y NOMBRES]]>0,VLOOKUP($H$7,DATA!$A$79:$B$160,2,FALSE),\"\"),\"\")","v":""},null,null,null,null,null,{"$f":"((NOW()-Tabla3[[#This Row],[FECHA DE NACIMIENTO]])/365)-0.5","v":124.79767625317098},null,null,null,null,null,null,null,null,null,null,null,null,null,null,null,null,null,null,null,null,null,null,null,null,null,null,null,null,null,null,null,null,null,null,null,null,null,"",null,{"$f":"IFERROR(IF(OR(LOWER(Tabla3[[#This Row],[SEXO]])=\"masculino\", LOWER(Tabla3[[#This Row],[SEXO]])=\"m\", LOWER(Tabla3[[#This Row],[SEXO]])=\"1\"), \"MASCULINO\",\n  IF(OR(LOWER(Tabla3[[#This Row],[SEXO]])=\"femenino\", LOWER(Tabla3[[#This Row],[SEXO]])=\"f\", LOWER(Tabla3[[#This Row],[SEXO]])=\"2\"), \"FEMENINO\",\n  \"\")), \"\")","v":""},0,null,null,null,0]
[{"$f":"IF(Tabla3[[#This Row],[APELLIDOS Y NOMBRES]]>0,ROW()-14,\"\")","v":""},{"$f":"IFERROR(IF(Tabla3[[#This Row],[APELLIDOS Y NOMBRES]]>0,VLOOKUP($H$7,DATA!$A$79:$B$160,2,FALSE),\"\"),\"\")","v":""},null,null,null,null,null,{"$f":"((NOW()-Tabla3[[#This Row],[FECHA DE NACIMIENTO]])/365)-0.5","v":124.79767625317098},null,null,null,null,null,null,null,null,null,null,null,null,null,null,null,null,null,null,null,null,null,null,null,null,null,null,null,null,null,null,null,null,null,null,null,null,null,"",null,{"$f":"IFERROR(IF(OR(LOWER(Tabla3[[#This Row],[SEXO]])=\"masculino\", LOWER(Tabla3[[#This Row],[SEXO]])=\"m\", LOWER(Tabla3[[#This Row],[SEXO]])=\"1\"), \"MASCULINO\",\n  IF(OR(LOWER(Tabla3[[#This Row],[SEXO]])=\"femenino\", LOWER(Tabla3[[#This Row],[SEXO]])=\"f\", LOWER(Tabla3[[#This Row],[SEXO]])=\"2\"), \"FEMENINO\",\n  \"\")), \"\")","v":""},0,null,null,null,0]
[{"$f":"IF(Tabla3[[#This Row],[APELLIDOS Y NOMBRES]]>0,ROW()-14,\"\")","v":""},{"$f":"IFERROR(IF(Tabla3[[#This Row],[APELLIDOS Y NOMBRES]]>0,VLOOKUP($H$7,DATA!$A$79:$B$160,2,FALSE),\"\"),\"\")","v":""},null,null,null,null,null,{"$f":"((NOW()-Tabla3[[#This Row],[FECHA DE NACIMIENTO]])/365)-0.5","v":124.79767625317098},null,null,null,null,null,null,null,null,null,null,null,null,null,null,null,null,null,null,null,null,null,null,null,null,null,null,null,null,null,null,null,null,null,null,null,null,null,"",null,{"$f":"IFERROR(IF(OR(LOWER(Tabla3[[#This Row],[SEXO]])=\"masculino\", LOWER(Tabla3[[#This Row],[SEXO]])=\"m\", LOWER(Tabla3[[#This Row],[SEXO]])=\"1\"), \"MASCULINO\",\n  IF(OR(LOWER(Tabla3[[#This Row],[SEXO]])=\"femenino\", LOWER(Tabla3[[#This Row],[SEXO]])=\"f\", LOWER(Tabla3[[#This Row],[SEXO]])=\"2\"), \"FEMENINO\",\n  \"\")), \"\")","v":""},0,null,null,null,0]
[{"$f":"IF(Tabla3[[#This Row],[APELLIDOS Y NOMBRES]]>0,ROW()-14,\"\")","v":""},{"$f":"IFERROR(IF(Tabla3[[#This Row],[APELLIDOS Y NOMBRES]]>0,VLOOKUP($H$7,DATA!$A$79:$B$160,2,FALSE),\"\"),\"\")","v":""},null,null,null,null,null,{"$f":"((NOW()-Tabla3[[#This Row],[FECHA DE NACIMIENTO]])/365)-0.5","v":124.79767625317098},null,null,null,null,null,null,null,null,null,null,null,null,null,null,null,null,null,null,null,null,null,null,null,null,null,null,null,null,null,null,null,null,null,null,null,null,null,"",null,{"$f":"IFERROR(IF(OR(LOWER(Tabla3[[#This Row],[SEXO]])=\"masculino\", LOWER(Tabla3[[#This Row],[SEXO]])=\"m\", LOWER(Tabla3[[#This Row],[SEXO]])=\"1\"), \"MASCULINO\",\n  IF(OR(LOWER(Tabla3[[#This Row],[SEXO]])=\"femenino\", LOWER(Tabla3[[#This Row],[SEXO]])=\"f\", LOWER(Tabla3[[#This Row],[SEXO]])=\"2\"), \"FEMENINO\",\n  \"\")), \"\")","v":""},0,null,null,null,0]
[{"$f":"IF(Tabla3[[#This Row],[APELLIDOS Y NOMBRES]]>0,ROW()-14,\"\")","v":""},{"$f":"IFERROR(IF(Tabla3[[#This Row],[APELLIDOS Y NOMBRES]]>0,VLOOKUP($H$7,DATA!$A$79:$B$160,2,FALSE),\"\"),\"\")","v":""},null,null,null,null,null,{"$f":"((NOW()-Tabla3[[#This Row],[FECHA DE NACIMIENTO]])/365)-0.5","v":124.79767625317098},null,null,null,null,null,null,null,null,null,null,null,null,null,null,null,null,null,null,null,null,null,null,null,null,null,null,null,null,null,null,null,null,null,null,null,null,null,"",null,{"$f":"IFERROR(IF(OR(LOWER(Tabla3[[#This Row],[SEXO]])=\"masculino\", LOWER(Tabla3[[#This Row],[SEXO]])=\"m\", LOWER(Tabla3[[#This Row],[SEXO]])=\"1\"), \"MASCULINO\",\n  IF(OR(LOWER(Tabla3[[#This Row],[SEXO]])=\"femenino\", LOWER(Tabla3[[#This Row],[SEXO]])=\"f\", LOWER(Tabla3[[#This Row],[SEXO]])=\"2\"), \"FEMENINO\",\n  \"\")), \"\")","v":""},0,null,null,null,0]
[{"$f":"IF(Tabla3[[#This Row],[APELLIDOS Y NOMBRES]]>0,ROW()-14,\"\")","v":""},{"$f":"IFERROR(IF(Tabla3[[#This Row],[APELLIDOS Y NOMBRES]]>0,VLOOKUP($H$7,DATA!$A$79:$B$160,2,FALSE),\"\"),\"\")","v":""},null,null,null,null,null,{"$f":"((NOW()-Tabla3[[#This Row],[FECHA DE NACIMIENTO]])/365)-0.5","v":124.79767625317098},null,null,null,null,null,null,null,null,null,null,null,null,null,null,null,null,null,null,null,null,null,null,null,null,null,null,null,null,null,null,null,null,null,null,null,null,null,"",null,{"$f":"IFERROR(IF(OR(LOWER(Tabla3[[#This Row],[SEXO]])=\"masculino\", LOWER(Tabla3[[#This Row],[SEXO]])=\"m\", LOWER(Tabla3[[#This Row],[SEXO]])=\"1\"), \"MASCULINO\",\n  IF(OR(LOWER(Tabla3[[#This Row],[SEXO]])=\"femenino\", LOWER(Tabla3[[#This Row],[SEXO]])=\"f\", LOWER(Tabla3[[#This Row],[SEXO]])=\"2\"), \"FEMENINO\",\n  \"\")), \"\")","v":""},0,null,null,null,0]
[{"$f":"IF(Tabla3[[#This Row],[APELLIDOS Y NOMBRES]]>0,ROW()-14,\"\")","v":""},{"$f":"IFERROR(IF(Tabla3[[#This Row],[APELLIDOS Y NOMBRES]]>0,VLOOKUP($H$7,DATA!$A$79:$B$160,2,FALSE),\"\"),\"\")","v":""},null,null,null,null,null,{"$f":"((NOW()-Tabla3[[#This Row],[FECHA DE NACIMIENTO]])/365)-0.5","v":124.79767625317098},null,null,null,null,null,null,null,null,null,null,null,null,null,null,null,null,null,null,null,null,null,null,null,null,null,null,null,null,null,null,null,null,null,null,null,null,null,"",null,{"$f":"IFERROR(IF(OR(LOWER(Tabla3[[#This Row],[SEXO]])=\"masculino\", LOWER(Tabla3[[#This Row],[SEXO]])=\"m\", LOWER(Tabla3[[#This Row],[SEXO]])=\"1\"), \"MASCULINO\",\n  IF(OR(LOWER(Tabla3[[#This Row],[SEXO]])=\"femenino\", LOWER(Tabla3[[#This Row],[SEXO]])=\"f\", LOWER(Tabla3[[#This Row],[SEXO]])=\"2\"), \"FEMENINO\",\n  \"\")), \"\")","v":""},0,null,null,null,0]
[{"$f":"IF(Tabla3[[#This Row],[APELLIDOS Y NOMBRES]]>0,ROW()-14,\"\")","v":""},{"$f":"IFERROR(IF(Tabla3[[#This Row],[APELLIDOS Y NOMBRES]]>0,VLOOKUP($H$7,DATA!$A$79:$B$160,2,FALSE),\"\"),\"\")","v":""},null,null,null,null,null,{"$f":"((NOW()-Tabla3[[#This Row],[FECHA DE NACIMIENTO]])/365)-0.5","v":124.79767625317098},null,null,null,null,null,null,null,null,null,null,null,null,null,null,null,null,null,null,null,null,null,null,null,null,null,null,null,null,null,null,null,null,null,null,null,null,null,"",null,{"$f":"IFERROR(IF(OR(LOWER(Tabla3[[#This Row],[SEXO]])=\"masculino\", LOWER(Tabla3[[#This Row],[SEXO]])=\"m\", LOWER(Tabla3[[#This Row],[SEXO]])=\"1\"), \"MASCULINO\",\n  IF(OR(LOWER(Tabla3[[#This Row],[SEXO]])=\"femenino\", LOWER(Tabla3[[#This Row],[SEXO]])=\"f\", LOWER(Tabla3[[#This Row],[SEXO]])=\"2\"), \"FEMENINO\",\n  \"\")), \"\")","v":""},0,null,null,null,0]
[{"$f":"IF(Tabla3[[#This Row],[APELLIDOS Y NOMBRES]]>0,ROW()-14,\"\")","v":""},{"$f":"IFERROR(IF(Tabla3[[#This Row],[APELLIDOS Y NOMBRES]]>0,VLOOKUP($H$7,DATA!$A$79:$B$160,2,FALSE),\"\"),\"\")","v":""},null,null,null,null,null,{"$f":"((NOW()-Tabla3[[#This Row],[FECHA DE NACIMIENTO]])/365)-0.5","v":124.79767625317098},null,null,null,null,null,null,null,null,null,null,null,null,null,null,null,null,null,null,null,null,null,null,null,null,null,null,null,null,null,null,null,null,null,null,null,null,null,"",null,{"$f":"IFERROR(IF(OR(LOWER(Tabla3[[#This Row],[SEXO]])=\"masculino\", LOWER(Tabla3[[#This Row],[SEXO]])=\"m\", LOWER(Tabla3[[#This Row],[SEXO]])=\"1\"), \"MASCULINO\",\n  IF(OR(LOWER(Tabla3[[#This Row],[SEXO]])=\"femenino\", LOWER(Tabla3[[#This Row],[SEXO]])=\"f\", LOWER(Tabla3[[#This Row],[SEXO]])=\"2\"), \"FEMENINO\",\n  \"\")), \"\")","v":""},0,null,null,null,0]
[{"$f":"IF(Tabla3[[#This Row],[APELLIDOS Y NOMBRES]]>0,ROW()-14,\"\")","v":""},{"$f":"IFERROR(IF(Tabla3[[#This Row],[APELLIDOS Y NOMBRES]]>0,VLOOKUP($H$7,DATA!$A$79:$B$160,2,FALSE),\"\"),\"\")","v":""},null,null,null,null,null,{"$f":"((NOW()-Tabla3[[#This Row],[FECHA DE NACIMIENTO]])/365)-0.5","v":124.79767625317098},null,null,null,null,null,null,null,null,null,null,null,null,null,null,null,null,null,null,null,null,null,null,null,null,null,null,null,null,null,null,null,null,null,null,null,null,null,"",null,{"$f":"IFERROR(IF(OR(LOWER(Tabla3[[#This Row],[SEXO]])=\"masculino\", LOWER(Tabla3[[#This Row],[SEXO]])=\"m\", LOWER(Tabla3[[#This Row],[SEXO]])=\"1\"), \"MASCULINO\",\n  IF(OR(LOWER(Tabla3[[#This Row],[SEXO]])=\"femenino\", LOWER(Tabla3[[#This Row],[SEXO]])=\"f\", LOWER(Tabla3[[#This Row],[SEXO]])=\"2\"), \"FEMENINO\",\n  \"\")), \"\")","v":""},0,null,null,null,0]
[{"$f":"IF(Tabla3[[#This Row],[APELLIDOS Y NOMBRES]]>0,ROW()-14,\"\")","v":""},{"$f":"IFERROR(IF(Tabla3[[#This Row],[APELLIDOS Y NOMBRES]]>0,VLOOKUP($H$7,DATA!$A$79:$B$160,2,FALSE),\"\"),\"\")","v":""},null,null,null,null,null,{"$f":"((NOW()-Tabla3[[#This Row],[FECHA DE NACIMIENTO]])/365)-0.5","v":124.79767625317098},null,null,null,null,null,null,null,null,null,null,null,null,null,null,null,null,null,null,null,null,null,null,null,null,null,null,null,null,null,null,null,null,null,null,null,null,null,"",null,{"$f":"IFERROR(IF(OR(LOWER(Tabla3[[#This Row],[SEXO]])=\"masculino\", LOWER(Tabla3[[#This Row],[SEXO]])=\"m\", LOWER(Tabla3[[#This Row],[SEXO]])=\"1\"), \"MASCULINO\",\n  IF(OR(LOWER(Tabla3[[#This Row],[SEXO]])=\"femenino\", LOWER(Tabla3[[#This Row],[SEXO]])=\"f\", LOWER(Tabla3[[#This Row],[SEXO]])=\"2\"), \"FEMENINO\",\n  \"\")), \"\")","v":""},0,null,null,null,0]
[{"$f":"IF(Tabla3[[#This Row],[APELLIDOS Y NOMBRES]]>0,ROW()-14,\"\")","v":""},{"$f":"IFERROR(IF(Tabla3[[#This Row],[APELLIDOS Y NOMBRES]]>0,VLOOKUP($H$7,DATA!$A$79:$B$160,2,FALSE),\"\"),\"\")","v":""},null,null,null,null,null,{"$f":"((NOW()-Tabla3[[#This Row],[FECHA DE NACIMIENTO]])/365)-0.5","v":124.79767625317098},null,null,null,null,null,null,null,null,null,null,null,null,null,null,null,null,null,null,null,null,null,null,null,null,null,null,null,null,null,null,null,null,null,null,null,null,null,"",null,{"$f":"IFERROR(IF(OR(LOWER(Tabla3[[#This Row],[SEXO]])=\"masculino\", LOWER(Tabla3[[#This Row],[SEXO]])=\"m\", LOWER(Tabla3[[#This Row],[SEXO]])=\"1\"), \"MASCULINO\",\n  IF(OR(LOWER(Tabla3[[#This Row],[SEXO]])=\"femenino\", LOWER(Tabla3[[#This Row],[SEXO]])=\"f\", LOWER(Tabla3[[#This Row],[SEXO]])=\"2\"), \"FEMENINO\",\n  \"\")), \"\")","v":""},0,null,null,null,0]
[{"$f":"IF(Tabla3[[#This Row],[APELLIDOS Y NOMBRES]]>0,ROW()-14,\"\")","v":""},{"$f":"IFERROR(IF(Tabla3[[#This Row],[APELLIDOS Y NOMBRES]]>0,VLOOKUP($H$7,DATA!$A$79:$B$160,2,FALSE),\"\"),\"\")","v":""},null,null,null,null,null,{"$f":"((NOW()-Tabla3[[#This Row],[FECHA DE NACIMIENTO]])/365)-0.5","v":124.79767625317098},null,null,null,null,null,null,null,null,null,null,null,null,null,null,null,null,null,null,null,null,null,null,null,null,null,null,null,null,null,null,null,null,null,null,null,null,null,"",null,{"$f":"IFERROR(IF(OR(LOWER(Tabla3[[#This Row],[SEXO]])=\"masculino\", LOWER(Tabla3[[#This Row],[SEXO]])=\"m\", LOWER(Tabla3[[#This Row],[SEXO]])=\"1\"), \"MASCULINO\",\n  IF(OR(LOWER(Tabla3[[#This Row],[SEXO]])=\"femenino\", LOWER(Tabla3[[#This Row],[SEXO]])=\"f\", LOWER(Tabla3[[#This Row],[SEXO]])=\"2\"), \"FEMENINO\",\n  \"\")), \"\")","v":""},0,null,null,null,0]
[{"$f":"IF(Tabla3[[#This Row],[APELLIDOS Y NOMBRES]]>0,ROW()-14,\"\")","v":""},{"$f":"IFERROR(IF(Tabla3[[#This Row],[APELLIDOS Y NOMBRES]]>0,VLOOKUP($H$7,DATA!$A$79:$B$160,2,FALSE),\"\"),\"\")","v":""},null,null,null,null,null,{"$f":"((NOW()-Tabla3[[#This Row],[FECHA DE NACIMIENTO]])/365)-0.5","v":124.79767625317098},null,null,null,null,null,null,null,null,null,null,null,null,null,null,null,null,null,null,null,null,null,null,null,null,null,null,null,null,null,null,null,null,null,null,null,null,null,"",null,{"$f":"IFERROR(IF(OR(LOWER(Tabla3[[#This Row],[SEXO]])=\"masculino\", LOWER(Tabla3[[#This Row],[SEXO]])=\"m\", LOWER(Tabla3[[#This Row],[SEXO]])=\"1\"), \"MASCULINO\",\n  IF(OR(LOWER(Tabla3[[#This Row],[SEXO]])=\"femenino\", LOWER(Tabla3[[#This Row],[SEXO]])=\"f\", LOWER(Tabla3[[#This Row],[SEXO]])=\"2\"), \"FEMENINO\",\n  \"\")), \"\")","v":""},0,null,null,null,0]
[{"$f":"IF(Tabla3[[#This Row],[APELLIDOS Y NOMBRES]]>0,ROW()-14,\"\")","v":""},{"$f":"IFERROR(IF(Tabla3[[#This Row],[APELLIDOS Y NOMBRES]]>0,VLOOKUP($H$7,DATA!$A$79:$B$160,2,FALSE),\"\"),\"\")","v":""},null,null,null,null,null,{"$f":"((NOW()-Tabla3[[#This Row],[FECHA DE NACIMIENTO]])/365)-0.5","v":124.79767625317098},null,null,null,null,null,null,null,null,null,null,null,null,null,null,null,null,null,null,null,null,null,null,null,null,null,null,null,null,null,null,null,null,null,null,null,null,null,"",null,{"$f":"IFERROR(IF(OR(LOWER(Tabla3[[#This Row],[SEXO]])=\"masculino\", LOWER(Tabla3[[#This Row],[SEXO]])=\"m\", LOWER(Tabla3[[#This Row],[SEXO]])=\"1\"), \"MASCULINO\",\n  IF(OR(LOWER(Tabla3[[#This Row],[SEXO]])=\"femenino\", LOWER(Tabla3[[#This Row],[SEXO]])=\"f\", LOWER(Tabla3[[#This Row],[SEXO]])=\"2\"), \"FEMENINO\",\n  \"\")), \"\")","v":""},0,null,null,null,0]
[{"$f":"IF(Tabla3[[#This Row],[APELLIDOS Y NOMBRES]]>0,ROW()-14,\"\")","v":""},{"$f":"IFERROR(IF(Tabla3[[#This Row],[APELLIDOS Y NOMBRES]]>0,VLOOKUP($H$7,DATA!$A$79:$B$160,2,FALSE),\"\"),\"\")","v":""},null,null,null,null,null,{"$f":"((NOW()-Tabla3[[#This Row],[FECHA DE NACIMIENTO]])/365)-0.5","v":124.79767625317098},null,null,null,null,null,null,null,null,null,null,null,null,null,null,null,null,null,null,null,null,null,null,null,null,null,null,null,null,null,null,null,null,null,null,null,null,null,"",null,{"$f":"IFERROR(IF(OR(LOWER(Tabla3[[#This Row],[SEXO]])=\"masculino\", LOWER(Tabla3[[#This Row],[SEXO]])=\"m\", LOWER(Tabla3[[#This Row],[SEXO]])=\"1\"), \"MASCULINO\",\n  IF(OR(LOWER(Tabla3[[#This Row],[SEXO]])=\"femenino\", LOWER(Tabla3[[#This Row],[SEXO]])=\"f\", LOWER(Tabla3[[#This Row],[SEXO]])=\"2\"), \"FEMENINO\",\n  \"\")), \"\")","v":""},0,null,null,null,0]
[{"$f":"IF(Tabla3[[#This Row],[APELLIDOS Y NOMBRES]]>0,ROW()-14,\"\")","v":""},{"$f":"IFERROR(IF(Tabla3[[#This Row],[APELLIDOS Y NOMBRES]]>0,VLOOKUP($H$7,DATA!$A$79:$B$160,2,FALSE),\"\"),\"\")","v":""},null,null,null,null,null,{"$f":"((NOW()-Tabla3[[#This Row],[FECHA DE NACIMIENTO]])/365)-0.5","v":124.79767625317098},null,null,null,null,null,null,null,null,null,null,null,null,null,null,null,null,null,null,null,null,null,null,null,null,null,null,null,null,null,null,null,null,null,null,null,null,null,"",null,{"$f":"IFERROR(IF(OR(LOWER(Tabla3[[#This Row],[SEXO]])=\"masculino\", LOWER(Tabla3[[#This Row],[SEXO]])=\"m\", LOWER(Tabla3[[#This Row],[SEXO]])=\"1\"), \"MASCULINO\",\n  IF(OR(LOWER(Tabla3[[#This Row],[SEXO]])=\"femenino\", LOWER(Tabla3[[#This Row],[SEXO]])=\"f\", LOWER(Tabla3[[#This Row],[SEXO]])=\"2\"), \"FEMENINO\",\n  \"\")), \"\")","v":""},0,null,null,null,0]
[{"$f":"IF(Tabla3[[#This Row],[APELLIDOS Y NOMBRES]]>0,ROW()-14,\"\")","v":""},{"$f":"IFERROR(IF(Tabla3[[#This Row],[APELLIDOS Y NOMBRES]]>0,VLOOKUP($H$7,DATA!$A$79:$B$160,2,FALSE),\"\"),\"\")","v":""},null,null,null,null,null,{"$f":"((NOW()-Tabla3[[#This Row],[FECHA DE NACIMIENTO]])/365)-0.5","v":124.79767625317098},null,null,null,null,null,null,null,null,null,null,null,null,null,null,null,null,null,null,null,null,null,null,null,null,null,null,null,null,null,null,null,null,null,null,null,null,null,"",null,{"$f":"IFERROR(IF(OR(LOWER(Tabla3[[#This Row],[SEXO]])=\"masculino\", LOWER(Tabla3[[#This Row],[SEXO]])=\"m\", LOWER(Tabla3[[#This Row],[SEXO]])=\"1\"), \"MASCULINO\",\n  IF(OR(LOWER(Tabla3[[#This Row],[SEXO]])=\"femenino\", LOWER(Tabla3[[#This Row],[SEXO]])=\"f\", LOWER(Tabla3[[#This Row],[SEXO]])=\"2\"), \"FEMENINO\",\n  \"\")), \"\")","v":""},0,null,null,null,0]
[{"$f":"IF(Tabla3[[#This Row],[APELLIDOS Y NOMBRES]]>0,ROW()-14,\"\")","v":""},{"$f":"IFERROR(IF(Tabla3[[#This Row],[APELLIDOS Y NOMBRES]]>0,VLOOKUP($H$7,DATA!$A$79:$B$160,2,FALSE),\"\"),\"\")","v":""},null,null,null,null,null,{"$f":"((NOW()-Tabla3[[#This Row],[FECHA DE NACIMIENTO]])/365)-0.5","v":124.79767625317098},null,null,null,null,null,null,null,null,null,null,null,null,null,null,null,null,null,null,null,null,null,null,null,null,null,null,null,null,null,null,null,null,null,null,null,null,null,"",null,{"$f":"IFERROR(IF(OR(LOWER(Tabla3[[#This Row],[SEXO]])=\"masculino\", LOWER(Tabla3[[#This Row],[SEXO]])=\"m\", LOWER(Tabla3[[#This Row],[SEXO]])=\"1\"), \"MASCULINO\",\n  IF(OR(LOWER(Tabla3[[#This Row],[SEXO]])=\"femenino\", LOWER(Tabla3[[#This Row],[SEXO]])=\"f\", LOWER(Tabla3[[#This Row],[SEXO]])=\"2\"), \"FEMENINO\",\n  \"\")), \"\")","v":""},0,null,null,null,0]
[{"$f":"IF(Tabla3[[#This Row],[APELLIDOS Y NOMBRES]]>0,ROW()-14,\"\")","v":""},{"$f":"IFERROR(IF(Tabla3[[#This Row],[APELLIDOS Y NOMBRES]]>0,VLOOKUP($H$7,DATA!$A$79:$B$160,2,FALSE),\"\"),\"\")","v":""},null,null,null,null,null,{"$f":"((NOW()-Tabla3[[#This Row],[FECHA DE NACIMIENTO]])/365)-0.5","v":124.79767625317098},null,null,null,null,null,null,null,null,null,null,null,null,null,null,null,null,null,null,null,null,null,null,null,null,null,null,null,null,null,null,null,null,null,null,null,null,null,"",null,{"$f":"IFERROR(IF(OR(LOWER(Tabla3[[#This Row],[SEXO]])=\"masculino\", LOWER(Tabla3[[#This Row],[SEXO]])=\"m\", LOWER(Tabla3[[#This Row],[SEXO]])=\"1\"), \"MASCULINO\",\n  IF(OR(LOWER(Tabla3[[#This Row],[SEXO]])=\"femenino\", LOWER(Tabla3[[#This Row],[SEXO]])=\"f\", LOWER(Tabla3[[#This Row],[SEXO]])=\"2\"), \"FEMENINO\",\n  \"\")), \"\")","v":""},0,null,null,null,0]
[{"$f":"IF(Tabla3[[#This Row],[APELLIDOS Y NOMBRES]]>0,ROW()-14,\"\")","v":""},{"$f":"IFERROR(IF(Tabla3[[#This Row],[APELLIDOS Y NOMBRES]]>0,VLOOKUP($H$7,DATA!$A$79:$B$160,2,FALSE),\"\"),\"\")","v":""},null,null,null,null,null,{"$f":"((NOW()-Tabla3[[#This Row],[FECHA DE NACIMIENTO]])/365)-0.5","v":124.79767625317098},null,null,null,null,null,null,null,null,null,null,null,null,null,null,null,null,null,null,null,null,null,null,null,null,null,null,null,null,null,null,null,null,null,null,null,null,null,"",null,{"$f":"IFERROR(IF(OR(LOWER(Tabla3[[#This Row],[SEXO]])=\"masculino\", LOWER(Tabla3[[#This Row],[SEXO]])=\"m\", LOWER(Tabla3[[#This Row],[SEXO]])=\"1\"), \"MASCULINO\",\n  IF(OR(LOWER(Tabla3[[#This Row],[SEXO]])=\"femenino\", LOWER(Tabla3[[#This Row],[SEXO]])=\"f\", LOWER(Tabla3[[#This Row],[SEXO]])=\"2\"), \"FEMENINO\",\n  \"\")), \"\")","v":""},0,null,null,null,0]
[{"$f":"IF(Tabla3[[#This Row],[APELLIDOS Y NOMBRES]]>0,ROW()-14,\"\")","v":""},{"$f":"IFERROR(IF(Tabla3[[#This Row],[APELLIDOS Y NOMBRES]]>0,VLOOKUP($H$7,DATA!$A$79:$B$160,2,FALSE),\"\"),\"\")","v":""},null,null,null,null,null,{"$f":"((NOW()-Tabla3[[#This Row],[FECHA DE NACIMIENTO]])/365)-0.5","v":124.79767625317098},null,null,null,null,null,null,null,null,null,null,null,null,null,null,null,null,null,null,null,null,null,null,null,null,null,null,null,null,null,null,null,null,null,null,null,null,null,"",null,{"$f":"IFERROR(IF(OR(LOWER(Tabla3[[#This Row],[SEXO]])=\"masculino\", LOWER(Tabla3[[#This Row],[SEXO]])=\"m\", LOWER(Tabla3[[#This Row],[SEXO]])=\"1\"), \"MASCULINO\",\n  IF(OR(LOWER(Tabla3[[#This Row],[SEXO]])=\"femenino\", LOWER(Tabla3[[#This Row],[SEXO]])=\"f\", LOWER(Tabla3[[#This Row],[SEXO]])=\"2\"), \"FEMENINO\",\n  \"\")), \"\")","v":""},0,null,null,null,0]
[{"$f":"IF(Tabla3[[#This Row],[APELLIDOS Y NOMBRES]]>0,ROW()-14,\"\")","v":""},{"$f":"IFERROR(IF(Tabla3[[#This Row],[APELLIDOS Y NOMBRES]]>0,VLOOKUP($H$7,DATA!$A$79:$B$160,2,FALSE),\"\"),\"\")","v":""},null,null,null,null,null,{"$f":"((NOW()-Tabla3[[#This Row],[FECHA DE NACIMIENTO]])/365)-0.5","v":124.79767625317098},null,null,null,null,null,null,null,null,null,null,null,null,null,null,null,null,null,null,null,null,null,null,null,null,null,null,null,null,null,null,null,null,null,null,null,null,null,"",null,{"$f":"IFERROR(IF(OR(LOWER(Tabla3[[#This Row],[SEXO]])=\"masculino\", LOWER(Tabla3[[#This Row],[SEXO]])=\"m\", LOWER(Tabla3[[#This Row],[SEXO]])=\"1\"), \"MASCULINO\",\n  IF(OR(LOWER(Tabla3[[#This Row],[SEXO]])=\"femenino\", LOWER(Tabla3[[#This Row],[SEXO]])=\"f\", LOWER(Tabla3[[#This Row],[SEXO]])=\"2\"), \"FEMENINO\",\n  \"\")), \"\")","v":""},0,null,null,null,0]
[{"$f":"IF(Tabla3[[#This Row],[APELLIDOS Y NOMBRES]]>0,ROW()-14,\"\")","v":""},{"$f":"IFERROR(IF(Tabla3[[#This Row],[APELLIDOS Y NOMBRES]]>0,VLOOKUP($H$7,DATA!$A$79:$B$160,2,FALSE),\"\"),\"\")","v":""},null,null,null,null,null,{"$f":"((NOW()-Tabla3[[#This Row],[FECHA DE NACIMIENTO]])/365)-0.5","v":124.79767625317098},null,null,null,null,null,null,null,null,null,null,null,null,null,null,null,null,null,null,null,null,null,null,null,null,null,null,null,null,null,null,null,null,null,null,null,null,null,"",null,{"$f":"IFERROR(IF(OR(LOWER(Tabla3[[#This Row],[SEXO]])=\"masculino\", LOWER(Tabla3[[#This Row],[SEXO]])=\"m\", LOWER(Tabla3[[#This Row],[SEXO]])=\"1\"), \"MASCULINO\",\n  IF(OR(LOWER(Tabla3[[#This Row],[SEXO]])=\"femenino\", LOWER(Tabla3[[#This Row],[SEXO]])=\"f\", LOWER(Tabla3[[#This Row],[SEXO]])=\"2\"), \"FEMENINO\",\n  \"\")), \"\")","v":""},0,null,null,null,0]
[{"$f":"IF(Tabla3[[#This Row],[APELLIDOS Y NOMBRES]]>0,ROW()-14,\"\")","v":""},{"$f":"IFERROR(IF(Tabla3[[#This Row],[APELLIDOS Y NOMBRES]]>0,VLOOKUP($H$7,DATA!$A$79:$B$160,2,FALSE),\"\"),\"\")","v":""},null,null,null,null,null,{"$f":"((NOW()-Tabla3[[#This Row],[FECHA DE NACIMIENTO]])/365)-0.5","v":124.79767625317098},null,null,null,null,null,null,null,null,null,null,null,null,null,null,null,null,null,null,null,null,null,null,null,null,null,null,null,null,null,null,null,null,null,null,null,null,null,"",null,{"$f":"IFERROR(IF(OR(LOWER(Tabla3[[#This Row],[SEXO]])=\"masculino\", LOWER(Tabla3[[#This Row],[SEXO]])=\"m\", LOWER(Tabla3[[#This Row],[SEXO]])=\"1\"), \"MASCULINO\",\n  IF(OR(LOWER(Tabla3[[#This Row],[SEXO]])=\"femenino\", LOWER(Tabla3[[#This Row],[SEXO]])=\"f\", LOWER(Tabla3[[#This Row],[SEXO]])=\"2\"), \"FEMENINO\",\n  \"\")), \"\")","v":""},0,null,null,null,0]
[{"$f":"IF(Tabla3[[#This Row],[APELLIDOS Y NOMBRES]]>0,ROW()-14,\"\")","v":""},{"$f":"IFERROR(IF(Tabla3[[#This Row],[APELLIDOS Y NOMBRES]]>0,VLOOKUP($H$7,DATA!$A$79:$B$160,2,FALSE),\"\"),\"\")","v":""},null,null,null,null,null,{"$f":"((NOW()-Tabla3[[#This Row],[FECHA DE NACIMIENTO]])/365)-0.5","v":124.79767625317098},null,null,null,null,null,null,null,null,null,null,null,null,null,null,null,null,null,null,null,null,null,null,null,null,null,null,null,null,null,null,null,null,null,null,null,null,null,"",null,{"$f":"IFERROR(IF(OR(LOWER(Tabla3[[#This Row],[SEXO]])=\"masculino\", LOWER(Tabla3[[#This Row],[SEXO]])=\"m\", LOWER(Tabla3[[#This Row],[SEXO]])=\"1\"), \"MASCULINO\",\n  IF(OR(LOWER(Tabla3[[#This Row],[SEXO]])=\"femenino\", LOWER(Tabla3[[#This Row],[SEXO]])=\"f\", LOWER(Tabla3[[#This Row],[SEXO]])=\"2\"), \"FEMENINO\",\n  \"\")), \"\")","v":""},0,null,null,null,0]
[{"$f":"IF(Tabla3[[#This Row],[APELLIDOS Y NOMBRES]]>0,ROW()-14,\"\")","v":""},{"$f":"IFERROR(IF(Tabla3[[#This Row],[APELLIDOS Y NOMBRES]]>0,VLOOKUP($H$7,DATA!$A$79:$B$160,2,FALSE),\"\"),\"\")","v":""},null,null,null,null,null,{"$f":"((NOW()-Tabla3[[#This Row],[FECHA DE NACIMIENTO]])/365)-0.5","v":124.79767625317098},null,null,null,null,null,null,null,null,null,null,null,null,null,null,null,null,null,null,null,null,null,null,null,null,null,null,null,null,null,null,null,null,null,null,null,null,null,"",null,{"$f":"IFERROR(IF(OR(LOWER(Tabla3[[#This Row],[SEXO]])=\"masculino\", LOWER(Tabla3[[#This Row],[SEXO]])=\"m\", LOWER(Tabla3[[#This Row],[SEXO]])=\"1\"), \"MASCULINO\",\n  IF(OR(LOWER(Tabla3[[#This Row],[SEXO]])=\"femenino\", LOWER(Tabla3[[#This Row],[SEXO]])=\"f\", LOWER(Tabla3[[#This Row],[SEXO]])=\"2\"), \"FEMENINO\",\n  \"\")), \"\")","v":""},0,null,null,null,0]
[{"$f":"IF(Tabla3[[#This Row],[APELLIDOS Y NOMBRES]]>0,ROW()-14,\"\")","v":""},{"$f":"IFERROR(IF(Tabla3[[#This Row],[APELLIDOS Y NOMBRES]]>0,VLOOKUP($H$7,DATA!$A$79:$B$160,2,FALSE),\"\"),\"\")","v":""},null,null,null,null,null,{"$f":"((NOW()-Tabla3[[#This Row],[FECHA DE NACIMIENTO]])/365)-0.5","v":124.79767625317098},null,null,null,null,null,null,null,null,null,null,null,null,null,null,null,null,null,null,null,null,null,null,null,null,null,null,null,null,null,null,null,null,null,null,null,null,null,"",null,{"$f":"IFERROR(IF(OR(LOWER(Tabla3[[#This Row],[SEXO]])=\"masculino\", LOWER(Tabla3[[#This Row],[SEXO]])=\"m\", LOWER(Tabla3[[#This Row],[SEXO]])=\"1\"), \"MASCULINO\",\n  IF(OR(LOWER(Tabla3[[#This Row],[SEXO]])=\"femenino\", LOWER(Tabla3[[#This Row],[SEXO]])=\"f\", LOWER(Tabla3[[#This Row],[SEXO]])=\"2\"), \"FEMENINO\",\n  \"\")), \"\")","v":""},0,null,null,null,0]
[{"$f":"IF(Tabla3[[#This Row],[APELLIDOS Y NOMBRES]]>0,ROW()-14,\"\")","v":""},{"$f":"IFERROR(IF(Tabla3[[#This Row],[APELLIDOS Y NOMBRES]]>0,VLOOKUP($H$7,DATA!$A$79:$B$160,2,FALSE),\"\"),\"\")","v":""},null,null,null,null,null,{"$f":"((NOW()-Tabla3[[#This Row],[FECHA DE NACIMIENTO]])/365)-0.5","v":124.79767625317098},null,null,null,null,null,null,null,null,null,null,null,null,null,null,null,null,null,null,null,null,null,null,null,null,null,null,null,null,null,null,null,null,null,null,null,null,null,"",null,{"$f":"IFERROR(IF(OR(LOWER(Tabla3[[#This Row],[SEXO]])=\"masculino\", LOWER(Tabla3[[#This Row],[SEXO]])=\"m\", LOWER(Tabla3[[#This Row],[SEXO]])=\"1\"), \"MASCULINO\",\n  IF(OR(LOWER(Tabla3[[#This Row],[SEXO]])=\"femenino\", LOWER(Tabla3[[#This Row],[SEXO]])=\"f\", LOWER(Tabla3[[#This Row],[SEXO]])=\"2\"), \"FEMENINO\",\n  \"\")), \"\")","v":""},0,null,null,null,0]
[{"$f":"IF(Tabla3[[#This Row],[APELLIDOS Y NOMBRES]]>0,ROW()-14,\"\")","v":""},{"$f":"IFERROR(IF(Tabla3[[#This Row],[APELLIDOS Y NOMBRES]]>0,VLOOKUP($H$7,DATA!$A$79:$B$160,2,FALSE),\"\"),\"\")","v":""},null,null,null,null,null,{"$f":"((NOW()-Tabla3[[#This Row],[FECHA DE NACIMIENTO]])/365)-0.5","v":124.79767625317098},null,null,null,null,null,null,null,null,null,null,null,null,null,null,null,null,null,null,null,null,null,null,null,null,null,null,null,null,null,null,null,null,null,null,null,null,null,"",null,{"$f":"IFERROR(IF(OR(LOWER(Tabla3[[#This Row],[SEXO]])=\"masculino\", LOWER(Tabla3[[#This Row],[SEXO]])=\"m\", LOWER(Tabla3[[#This Row],[SEXO]])=\"1\"), \"MASCULINO\",\n  IF(OR(LOWER(Tabla3[[#This Row],[SEXO]])=\"femenino\", LOWER(Tabla3[[#This Row],[SEXO]])=\"f\", LOWER(Tabla3[[#This Row],[SEXO]])=\"2\"), \"FEMENINO\",\n  \"\")), \"\")","v":""},0,null,null,null,0]
[{"$f":"IF(Tabla3[[#This Row],[APELLIDOS Y NOMBRES]]>0,ROW()-14,\"\")","v":""},{"$f":"IFERROR(IF(Tabla3[[#This Row],[APELLIDOS Y NOMBRES]]>0,VLOOKUP($H$7,DATA!$A$79:$B$160,2,FALSE),\"\"),\"\")","v":""},null,null,null,null,null,{"$f":"((NOW()-Tabla3[[#This Row],[FECHA DE NACIMIENTO]])/365)-0.5","v":124.79767625317098},null,null,null,null,null,null,null,null,null,null,null,null,null,null,null,null,null,null,null,null,null,null,null,null,null,null,null,null,null,null,null,null,null,null,null,null,null,"",null,{"$f":"IFERROR(IF(OR(LOWER(Tabla3[[#This Row],[SEXO]])=\"masculino\", LOWER(Tabla3[[#This Row],[SEXO]])=\"m\", LOWER(Tabla3[[#This Row],[SEXO]])=\"1\"), \"MASCULINO\",\n  IF(OR(LOWER(Tabla3[[#This Row],[SEXO]])=\"femenino\", LOWER(Tabla3[[#This Row],[SEXO]])=\"f\", LOWER(Tabla3[[#This Row],[SEXO]])=\"2\"), \"FEMENINO\",\n  \"\")), \"\")","v":""},0,null,null,null,0]
[{"$f":"IF(Tabla3[[#This Row],[APELLIDOS Y NOMBRES]]>0,ROW()-14,\"\")","v":""},{"$f":"IFERROR(IF(Tabla3[[#This Row],[APELLIDOS Y NOMBRES]]>0,VLOOKUP($H$7,DATA!$A$79:$B$160,2,FALSE),\"\"),\"\")","v":""},null,null,null,null,null,{"$f":"((NOW()-Tabla3[[#This Row],[FECHA DE NACIMIENTO]])/365)-0.5","v":124.79767625317098},null,null,null,null,null,null,null,null,null,null,null,null,null,null,null,null,null,null,null,null,null,null,null,null,null,null,null,null,null,null,null,null,null,null,null,null,null,"",null,{"$f":"IFERROR(IF(OR(LOWER(Tabla3[[#This Row],[SEXO]])=\"masculino\", LOWER(Tabla3[[#This Row],[SEXO]])=\"m\", LOWER(Tabla3[[#This Row],[SEXO]])=\"1\"), \"MASCULINO\",\n  IF(OR(LOWER(Tabla3[[#This Row],[SEXO]])=\"femenino\", LOWER(Tabla3[[#This Row],[SEXO]])=\"f\", LOWER(Tabla3[[#This Row],[SEXO]])=\"2\"), \"FEMENINO\",\n  \"\")), \"\")","v":""},0,null,null,null,0]
[{"$f":"IF(Tabla3[[#This Row],[APELLIDOS Y NOMBRES]]>0,ROW()-14,\"\")","v":""},{"$f":"IFERROR(IF(Tabla3[[#This Row],[APELLIDOS Y NOMBRES]]>0,VLOOKUP($H$7,DATA!$A$79:$B$160,2,FALSE),\"\"),\"\")","v":""},null,null,null,null,null,{"$f":"((NOW()-Tabla3[[#This Row],[FECHA DE NACIMIENTO]])/365)-0.5","v":124.79767625317098},null,null,null,null,null,null,null,null,null,null,null,null,null,null,null,null,null,null,null,null,null,null,null,null,null,null,null,null,null,null,null,null,null,null,null,null,null,"",null,{"$f":"IFERROR(IF(OR(LOWER(Tabla3[[#This Row],[SEXO]])=\"masculino\", LOWER(Tabla3[[#This Row],[SEXO]])=\"m\", LOWER(Tabla3[[#This Row],[SEXO]])=\"1\"), \"MASCULINO\",\n  IF(OR(LOWER(Tabla3[[#This Row],[SEXO]])=\"femenino\", LOWER(Tabla3[[#This Row],[SEXO]])=\"f\", LOWER(Tabla3[[#This Row],[SEXO]])=\"2\"), \"FEMENINO\",\n  \"\")), \"\")","v":""},0,null,null,null,0]
[{"$f":"IF(Tabla3[[#This Row],[APELLIDOS Y NOMBRES]]>0,ROW()-14,\"\")","v":""},{"$f":"IFERROR(IF(Tabla3[[#This Row],[APELLIDOS Y NOMBRES]]>0,VLOOKUP($H$7,DATA!$A$79:$B$160,2,FALSE),\"\"),\"\")","v":""},null,null,null,null,null,{"$f":"((NOW()-Tabla3[[#This Row],[FECHA DE NACIMIENTO]])/365)-0.5","v":124.79767625317098},null,null,null,null,null,null,null,null,null,null,null,null,null,null,null,null,null,null,null,null,null,null,null,null,null,null,null,null,null,null,null,null,null,null,null,null,null,"",null,{"$f":"IFERROR(IF(OR(LOWER(Tabla3[[#This Row],[SEXO]])=\"masculino\", LOWER(Tabla3[[#This Row],[SEXO]])=\"m\", LOWER(Tabla3[[#This Row],[SEXO]])=\"1\"), \"MASCULINO\",\n  IF(OR(LOWER(Tabla3[[#This Row],[SEXO]])=\"femenino\", LOWER(Tabla3[[#This Row],[SEXO]])=\"f\", LOWER(Tabla3[[#This Row],[SEXO]])=\"2\"), \"FEMENINO\",\n  \"\")), \"\")","v":""},0,null,null,null,0]
[{"$f":"IF(Tabla3[[#This Row],[APELLIDOS Y NOMBRES]]>0,ROW()-14,\"\")","v":""},{"$f":"IFERROR(IF(Tabla3[[#This Row],[APELLIDOS Y NOMBRES]]>0,VLOOKUP($H$7,DATA!$A$79:$B$160,2,FALSE),\"\"),\"\")","v":""},null,null,null,null,null,{"$f":"((NOW()-Tabla3[[#This Row],[FECHA DE NACIMIENTO]])/365)-0.5","v":124.79767625317098},null,null,null,null,null,null,null,null,null,null,null,null,null,null,null,null,null,null,null,null,null,null,null,null,null,null,null,null,null,null,null,null,null,null,null,null,null,"",null,{"$f":"IFERROR(IF(OR(LOWER(Tabla3[[#This Row],[SEXO]])=\"masculino\", LOWER(Tabla3[[#This Row],[SEXO]])=\"m\", LOWER(Tabla3[[#This Row],[SEXO]])=\"1\"), \"MASCULINO\",\n  IF(OR(LOWER(Tabla3[[#This Row],[SEXO]])=\"femenino\", LOWER(Tabla3[[#This Row],[SEXO]])=\"f\", LOWER(Tabla3[[#This Row],[SEXO]])=\"2\"), \"FEMENINO\",\n  \"\")), \"\")","v":""},0,null,null,null,0]
[{"$f":"IF(Tabla3[[#This Row],[APELLIDOS Y NOMBRES]]>0,ROW()-14,\"\")","v":""},{"$f":"IFERROR(IF(Tabla3[[#This Row],[APELLIDOS Y NOMBRES]]>0,VLOOKUP($H$7,DATA!$A$79:$B$160,2,FALSE),\"\"),\"\")","v":""},null,null,null,null,null,{"$f":"((NOW()-Tabla3[[#This Row],[FECHA DE NACIMIENTO]])/365)-0.5","v":124.79767625317098},null,null,null,null,null,null,null,null,null,null,null,null,null,null,null,null,null,null,null,null,null,null,null,null,null,null,null,null,null,null,null,null,null,null,null,null,null,"",null,{"$f":"IFERROR(IF(OR(LOWER(Tabla3[[#This Row],[SEXO]])=\"masculino\", LOWER(Tabla3[[#This Row],[SEXO]])=\"m\", LOWER(Tabla3[[#This Row],[SEXO]])=\"1\"), \"MASCULINO\",\n  IF(OR(LOWER(Tabla3[[#This Row],[SEXO]])=\"femenino\", LOWER(Tabla3[[#This Row],[SEXO]])=\"f\", LOWER(Tabla3[[#This Row],[SEXO]])=\"2\"), \"FEMENINO\",\n  \"\")), \"\")","v":""},0,null,null,null,0]
[{"$f":"IF(Tabla3[[#This Row],[APELLIDOS Y NOMBRES]]>0,ROW()-14,\"\")","v":""},{"$f":"IFERROR(IF(Tabla3[[#This Row],[APELLIDOS Y NOMBRES]]>0,VLOOKUP($H$7,DATA!$A$79:$B$160,2,FALSE),\"\"),\"\")","v":""},null,null,null,null,null,{"$f":"((NOW()-Tabla3[[#This Row],[FECHA DE NACIMIENTO]])/365)-0.5","v":124.79767625317098},null,null,null,null,null,null,null,null,null,null,null,null,null,null,null,null,null,null,null,null,null,null,null,null,null,null,null,null,null,null,null,null,null,null,null,null,null,"",null,{"$f":"IFERROR(IF(OR(LOWER(Tabla3[[#This Row],[SEXO]])=\"masculino\", LOWER(Tabla3[[#This Row],[SEXO]])=\"m\", LOWER(Tabla3[[#This Row],[SEXO]])=\"1\"), \"MASCULINO\",\n  IF(OR(LOWER(Tabla3[[#This Row],[SEXO]])=\"femenino\", LOWER(Tabla3[[#This Row],[SEXO]])=\"f\", LOWER(Tabla3[[#This Row],[SEXO]])=\"2\"), \"FEMENINO\",\n  \"\")), \"\")","v":""},0,null,null,null,0]
[{"$f":"IF(Tabla3[[#This Row],[APELLIDOS Y NOMBRES]]>0,ROW()-14,\"\")","v":""},{"$f":"IFERROR(IF(Tabla3[[#This Row],[APELLIDOS Y NOMBRES]]>0,VLOOKUP($H$7,DATA!$A$79:$B$160,2,FALSE),\"\"),\"\")","v":""},null,null,null,null,null,{"$f":"((NOW()-Tabla3[[#This Row],[FECHA DE NACIMIENTO]])/365)-0.5","v":124.79767625317098},null,null,null,null,null,null,null,null,null,null,null,null,null,null,null,null,null,null,null,null,null,null,null,null,null,null,null,null,null,null,null,null,null,null,null,null,null,"",null,{"$f":"IFERROR(IF(OR(LOWER(Tabla3[[#This Row],[SEXO]])=\"masculino\", LOWER(Tabla3[[#This Row],[SEXO]])=\"m\", LOWER(Tabla3[[#This Row],[SEXO]])=\"1\"), \"MASCULINO\",\n  IF(OR(LOWER(Tabla3[[#This Row],[SEXO]])=\"femenino\", LOWER(Tabla3[[#This Row],[SEXO]])=\"f\", LOWER(Tabla3[[#This Row],[SEXO]])=\"2\"), \"FEMENINO\",\n  \"\")), \"\")","v":""},0,null,null,null,0]
[{"$f":"IF(Tabla3[[#This Row],[APELLIDOS Y NOMBRES]]>0,ROW()-14,\"\")","v":""},{"$f":"IFERROR(IF(Tabla3[[#This Row],[APELLIDOS Y NOMBRES]]>0,VLOOKUP($H$7,DATA!$A$79:$B$160,2,FALSE),\"\"),\"\")","v":""},null,null,null,null,null,{"$f":"((NOW()-Tabla3[[#This Row],[FECHA DE NACIMIENTO]])/365)-0.5","v":124.79767625317098},null,null,null,null,null,null,null,null,null,null,null,null,null,null,null,null,null,null,null,null,null,null,null,null,null,null,null,null,null,null,null,null,null,null,null,null,null,"",null,{"$f":"IFERROR(IF(OR(LOWER(Tabla3[[#This Row],[SEXO]])=\"masculino\", LOWER(Tabla3[[#This Row],[SEXO]])=\"m\", LOWER(Tabla3[[#This Row],[SEXO]])=\"1\"), \"MASCULINO\",\n  IF(OR(LOWER(Tabla3[[#This Row],[SEXO]])=\"femenino\", LOWER(Tabla3[[#This Row],[SEXO]])=\"f\", LOWER(Tabla3[[#This Row],[SEXO]])=\"2\"), \"FEMENINO\",\n  \"\")), \"\")","v":""},0,null,null,null,0]
[{"$f":"IF(Tabla3[[#This Row],[APELLIDOS Y NOMBRES]]>0,ROW()-14,\"\")","v":""},{"$f":"IFERROR(IF(Tabla3[[#This Row],[APELLIDOS Y NOMBRES]]>0,VLOOKUP($H$7,DATA!$A$79:$B$160,2,FALSE),\"\"),\"\")","v":""},null,null,null,null,null,{"$f":"((NOW()-Tabla3[[#This Row],[FECHA DE NACIMIENTO]])/365)-0.5","v":124.79767625317098},null,null,null,null,null,null,null,null,null,null,null,null,null,null,null,null,null,null,null,null,null,null,null,null,null,null,null,null,null,null,null,null,null,null,null,null,null,"",null,{"$f":"IFERROR(IF(OR(LOWER(Tabla3[[#This Row],[SEXO]])=\"masculino\", LOWER(Tabla3[[#This Row],[SEXO]])=\"m\", LOWER(Tabla3[[#This Row],[SEXO]])=\"1\"), \"MASCULINO\",\n  IF(OR(LOWER(Tabla3[[#This Row],[SEXO]])=\"femenino\", LOWER(Tabla3[[#This Row],[SEXO]])=\"f\", LOWER(Tabla3[[#This Row],[SEXO]])=\"2\"), \"FEMENINO\",\n  \"\")), \"\")","v":""},0,null,null,null,0]
[{"$f":"IF(Tabla3[[#This Row],[APELLIDOS Y NOMBRES]]>0,ROW()-14,\"\")","v":""},{"$f":"IFERROR(IF(Tabla3[[#This Row],[APELLIDOS Y NOMBRES]]>0,VLOOKUP($H$7,DATA!$A$79:$B$160,2,FALSE),\"\"),\"\")","v":""},null,null,null,null,null,{"$f":"((NOW()-Tabla3[[#This Row],[FECHA DE NACIMIENTO]])/365)-0.5","v":124.79767625317098},null,null,null,null,null,null,null,null,null,null,null,null,null,null,null,null,null,null,null,null,null,null,null,null,null,null,null,null,null,null,null,null,null,null,null,null,null,"",null,{"$f":"IFERROR(IF(OR(LOWER(Tabla3[[#This Row],[SEXO]])=\"masculino\", LOWER(Tabla3[[#This Row],[SEXO]])=\"m\", LOWER(Tabla3[[#This Row],[SEXO]])=\"1\"), \"MASCULINO\",\n  IF(OR(LOWER(Tabla3[[#This Row],[SEXO]])=\"femenino\", LOWER(Tabla3[[#This Row],[SEXO]])=\"f\", LOWER(Tabla3[[#This Row],[SEXO]])=\"2\"), \"FEMENINO\",\n  \"\")), \"\")","v":""},0,null,null,null,0]
[{"$f":"IF(Tabla3[[#This Row],[APELLIDOS Y NOMBRES]]>0,ROW()-14,\"\")","v":""},{"$f":"IFERROR(IF(Tabla3[[#This Row],[APELLIDOS Y NOMBRES]]>0,VLOOKUP($H$7,DATA!$A$79:$B$160,2,FALSE),\"\"),\"\")","v":""},null,null,null,null,null,{"$f":"((NOW()-Tabla3[[#This Row],[FECHA DE NACIMIENTO]])/365)-0.5","v":124.79767625317098},null,null,null,null,null,null,null,null,null,null,null,null,null,null,null,null,null,null,null,null,null,null,null,null,null,null,null,null,null,null,null,null,null,null,null,null,null,"",null,{"$f":"IFERROR(IF(OR(LOWER(Tabla3[[#This Row],[SEXO]])=\"masculino\", LOWER(Tabla3[[#This Row],[SEXO]])=\"m\", LOWER(Tabla3[[#This Row],[SEXO]])=\"1\"), \"MASCULINO\",\n  IF(OR(LOWER(Tabla3[[#This Row],[SEXO]])=\"femenino\", LOWER(Tabla3[[#This Row],[SEXO]])=\"f\", LOWER(Tabla3[[#This Row],[SEXO]])=\"2\"), \"FEMENINO\",\n  \"\")), \"\")","v":""},0,null,null,null,0]
[{"$f":"IF(Tabla3[[#This Row],[APELLIDOS Y NOMBRES]]>0,ROW()-14,\"\")","v":""},{"$f":"IFERROR(IF(Tabla3[[#This Row],[APELLIDOS Y NOMBRES]]>0,VLOOKUP($H$7,DATA!$A$79:$B$160,2,FALSE),\"\"),\"\")","v":""},null,null,null,null,null,{"$f":"((NOW()-Tabla3[[#This Row],[FECHA DE NACIMIENTO]])/365)-0.5","v":124.79767625317098},null,null,null,null,null,null,null,null,null,null,null,null,null,null,null,null,null,null,null,null,null,null,null,null,null,null,null,null,null,null,null,null,null,null,null,null,null,"",null,{"$f":"IFERROR(IF(OR(LOWER(Tabla3[[#This Row],[SEXO]])=\"masculino\", LOWER(Tabla3[[#This Row],[SEXO]])=\"m\", LOWER(Tabla3[[#This Row],[SEXO]])=\"1\"), \"MASCULINO\",\n  IF(OR(LOWER(Tabla3[[#This Row],[SEXO]])=\"femenino\", LOWER(Tabla3[[#This Row],[SEXO]])=\"f\", LOWER(Tabla3[[#This Row],[SEXO]])=\"2\"), \"FEMENINO\",\n  \"\")), \"\")","v":""},0,null,null,null,0]
[{"$f":"IF(Tabla3[[#This Row],[APELLIDOS Y NOMBRES]]>0,ROW()-14,\"\")","v":""},{"$f":"IFERROR(IF(Tabla3[[#This Row],[APELLIDOS Y NOMBRES]]>0,VLOOKUP($H$7,DATA!$A$79:$B$160,2,FALSE),\"\"),\"\")","v":""},null,null,null,null,null,{"$f":"((NOW()-Tabla3[[#This Row],[FECHA DE NACIMIENTO]])/365)-0.5","v":124.79767625317098},null,null,null,null,null,null,null,null,null,null,null,null,null,null,null,null,null,null,null,null,null,null,null,null,null,null,null,null,null,null,null,null,null,null,null,null,null,"",null,{"$f":"IFERROR(IF(OR(LOWER(Tabla3[[#This Row],[SEXO]])=\"masculino\", LOWER(Tabla3[[#This Row],[SEXO]])=\"m\", LOWER(Tabla3[[#This Row],[SEXO]])=\"1\"), \"MASCULINO\",\n  IF(OR(LOWER(Tabla3[[#This Row],[SEXO]])=\"femenino\", LOWER(Tabla3[[#This Row],[SEXO]])=\"f\", LOWER(Tabla3[[#This Row],[SEXO]])=\"2\"), \"FEMENINO\",\n  \"\")), \"\")","v":""},0,null,null,null,0]
[{"$f":"IF(Tabla3[[#This Row],[APELLIDOS Y NOMBRES]]>0,ROW()-14,\"\")","v":""},{"$f":"IFERROR(IF(Tabla3[[#This Row],[APELLIDOS Y NOMBRES]]>0,VLOOKUP($H$7,DATA!$A$79:$B$160,2,FALSE),\"\"),\"\")","v":""},null,null,null,null,null,{"$f":"((NOW()-Tabla3[[#This Row],[FECHA DE NACIMIENTO]])/365)-0.5","v":124.79767625317098},null,null,null,null,null,null,null,null,null,null,null,null,null,null,null,null,null,null,null,null,null,null,null,null,null,null,null,null,null,null,null,null,null,null,null,null,null,"",null,{"$f":"IFERROR(IF(OR(LOWER(Tabla3[[#This Row],[SEXO]])=\"masculino\", LOWER(Tabla3[[#This Row],[SEXO]])=\"m\", LOWER(Tabla3[[#This Row],[SEXO]])=\"1\"), \"MASCULINO\",\n  IF(OR(LOWER(Tabla3[[#This Row],[SEXO]])=\"femenino\", LOWER(Tabla3[[#This Row],[SEXO]])=\"f\", LOWER(Tabla3[[#This Row],[SEXO]])=\"2\"), \"FEMENINO\",\n  \"\")), \"\")","v":""},0,null,null,null,0]
[{"$f":"IF(Tabla3[[#This Row],[APELLIDOS Y NOMBRES]]>0,ROW()-14,\"\")","v":""},{"$f":"IFERROR(IF(Tabla3[[#This Row],[APELLIDOS Y NOMBRES]]>0,VLOOKUP($H$7,DATA!$A$79:$B$160,2,FALSE),\"\"),\"\")","v":""},null,null,null,null,null,{"$f":"((NOW()-Tabla3[[#This Row],[FECHA DE NACIMIENTO]])/365)-0.5","v":124.79767625317098},null,null,null,null,null,null,null,null,null,null,null,null,null,null,null,null,null,null,null,null,null,null,null,null,null,null,null,null,null,null,null,null,null,null,null,null,null,"",null,{"$f":"IFERROR(IF(OR(LOWER(Tabla3[[#This Row],[SEXO]])=\"masculino\", LOWER(Tabla3[[#This Row],[SEXO]])=\"m\", LOWER(Tabla3[[#This Row],[SEXO]])=\"1\"), \"MASCULINO\",\n  IF(OR(LOWER(Tabla3[[#This Row],[SEXO]])=\"femenino\", LOWER(Tabla3[[#This Row],[SEXO]])=\"f\", LOWER(Tabla3[[#This Row],[SEXO]])=\"2\"), \"FEMENINO\",\n  \"\")), \"\")","v":""},0,null,null,null,0]
[{"$f":"IF(Tabla3[[#This Row],[APELLIDOS Y NOMBRES]]>0,ROW()-14,\"\")","v":""},{"$f":"IFERROR(IF(Tabla3[[#This Row],[APELLIDOS Y NOMBRES]]>0,VLOOKUP($H$7,DATA!$A$79:$B$160,2,FALSE),\"\"),\"\")","v":""},null,null,null,null,null,{"$f":"((NOW()-Tabla3[[#This Row],[FECHA DE NACIMIENTO]])/365)-0.5","v":124.79767625317098},null,null,null,null,null,null,null,null,null,null,null,null,null,null,null,null,null,null,null,null,null,null,null,null,null,null,null,null,null,null,null,null,null,null,null,null,null,"",null,{"$f":"IFERROR(IF(OR(LOWER(Tabla3[[#This Row],[SEXO]])=\"masculino\", LOWER(Tabla3[[#This Row],[SEXO]])=\"m\", LOWER(Tabla3[[#This Row],[SEXO]])=\"1\"), \"MASCULINO\",\n  IF(OR(LOWER(Tabla3[[#This Row],[SEXO]])=\"femenino\", LOWER(Tabla3[[#This Row],[SEXO]])=\"f\", LOWER(Tabla3[[#This Row],[SEXO]])=\"2\"), \"FEMENINO\",\n  \"\")), \"\")","v":""},0,null,null,null,0]
[{"$f":"IF(Tabla3[[#This Row],[APELLIDOS Y NOMBRES]]>0,ROW()-14,\"\")","v":""},{"$f":"IFERROR(IF(Tabla3[[#This Row],[APELLIDOS Y NOMBRES]]>0,VLOOKUP($H$7,DATA!$A$79:$B$160,2,FALSE),\"\"),\"\")","v":""},null,null,null,null,null,{"$f":"((NOW()-Tabla3[[#This Row],[FECHA DE NACIMIENTO]])/365)-0.5","v":124.79767625317098},null,null,null,null,null,null,null,null,null,null,null,null,null,null,null,null,null,null,null,null,null,null,null,null,null,null,null,null,null,null,null,null,null,null,null,null,null,"",null,{"$f":"IFERROR(IF(OR(LOWER(Tabla3[[#This Row],[SEXO]])=\"masculino\", LOWER(Tabla3[[#This Row],[SEXO]])=\"m\", LOWER(Tabla3[[#This Row],[SEXO]])=\"1\"), \"MASCULINO\",\n  IF(OR(LOWER(Tabla3[[#This Row],[SEXO]])=\"femenino\", LOWER(Tabla3[[#This Row],[SEXO]])=\"f\", LOWER(Tabla3[[#This Row],[SEXO]])=\"2\"), \"FEMENINO\",\n  \"\")), \"\")","v":""},0,null,null,null,0]
[{"$f":"IF(Tabla3[[#This Row],[APELLIDOS Y NOMBRES]]>0,ROW()-14,\"\")","v":""},{"$f":"IFERROR(IF(Tabla3[[#This Row],[APELLIDOS Y NOMBRES]]>0,VLOOKUP($H$7,DATA!$A$79:$B$160,2,FALSE),\"\"),\"\")","v":""},null,null,null,null,null,{"$f":"((NOW()-Tabla3[[#This Row],[FECHA DE NACIMIENTO]])/365)-0.5","v":124.79767625317098},null,null,null,null,null,null,null,null,null,null,null,null,null,null,null,null,null,null,null,null,null,null,null,null,null,null,null,null,null,null,null,null,null,null,null,null,null,"",null,{"$f":"IFERROR(IF(OR(LOWER(Tabla3[[#This Row],[SEXO]])=\"masculino\", LOWER(Tabla3[[#This Row],[SEXO]])=\"m\", LOWER(Tabla3[[#This Row],[SEXO]])=\"1\"), \"MASCULINO\",\n  IF(OR(LOWER(Tabla3[[#This Row],[SEXO]])=\"femenino\", LOWER(Tabla3[[#This Row],[SEXO]])=\"f\", LOWER(Tabla3[[#This Row],[SEXO]])=\"2\"), \"FEMENINO\",\n  \"\")), \"\")","v":""},0,null,null,null,0]
[{"$f":"IF(Tabla3[[#This Row],[APELLIDOS Y NOMBRES]]>0,ROW()-14,\"\")","v":""},{"$f":"IFERROR(IF(Tabla3[[#This Row],[APELLIDOS Y NOMBRES]]>0,VLOOKUP($H$7,DATA!$A$79:$B$160,2,FALSE),\"\"),\"\")","v":""},null,null,null,null,null,{"$f":"((NOW()-Tabla3[[#This Row],[FECHA DE NACIMIENTO]])/365)-0.5","v":124.79767625317098},null,null,null,null,null,null,null,null,null,null,null,null,null,null,null,null,null,null,null,null,null,null,null,null,null,null,null,null,null,null,null,null,null,null,null,null,null,"",null,{"$f":"IFERROR(IF(OR(LOWER(Tabla3[[#This Row],[SEXO]])=\"masculino\", LOWER(Tabla3[[#This Row],[SEXO]])=\"m\", LOWER(Tabla3[[#This Row],[SEXO]])=\"1\"), \"MASCULINO\",\n  IF(OR(LOWER(Tabla3[[#This Row],[SEXO]])=\"femenino\", LOWER(Tabla3[[#This Row],[SEXO]])=\"f\", LOWER(Tabla3[[#This Row],[SEXO]])=\"2\"), \"FEMENINO\",\n  \"\")), \"\")","v":""},0,null,null,null,0]
[{"$f":"IF(Tabla3[[#This Row],[APELLIDOS Y NOMBRES]]>0,ROW()-14,\"\")","v":""},{"$f":"IFERROR(IF(Tabla3[[#This Row],[APELLIDOS Y NOMBRES]]>0,VLOOKUP($H$7,DATA!$A$79:$B$160,2,FALSE),\"\"),\"\")","v":""},null,null,null,null,null,{"$f":"((NOW()-Tabla3[[#This Row],[FECHA DE NACIMIENTO]])/365)-0.5","v":124.79767625317098},null,null,null,null,null,null,null,null,null,null,null,null,null,null,null,null,null,null,null,null,null,null,null,null,null,null,null,null,null,null,null,null,null,null,null,null,null,"",null,{"$f":"IFERROR(IF(OR(LOWER(Tabla3[[#This Row],[SEXO]])=\"masculino\", LOWER(Tabla3[[#This Row],[SEXO]])=\"m\", LOWER(Tabla3[[#This Row],[SEXO]])=\"1\"), \"MASCULINO\",\n  IF(OR(LOWER(Tabla3[[#This Row],[SEXO]])=\"femenino\", LOWER(Tabla3[[#This Row],[SEXO]])=\"f\", LOWER(Tabla3[[#This Row],[SEXO]])=\"2\"), \"FEMENINO\",\n  \"\")), \"\")","v":""},0,null,null,null,0]
[{"$f":"IF(Tabla3[[#This Row],[APELLIDOS Y NOMBRES]]>0,ROW()-14,\"\")","v":""},{"$f":"IFERROR(IF(Tabla3[[#This Row],[APELLIDOS Y NOMBRES]]>0,VLOOKUP($H$7,DATA!$A$79:$B$160,2,FALSE),\"\"),\"\")","v":""},null,null,null,null,null,{"$f":"((NOW()-Tabla3[[#This Row],[FECHA DE NACIMIENTO]])/365)-0.5","v":124.79767625317098},null,null,null,null,null,null,null,null,null,null,null,null,null,null,null,null,null,null,null,null,null,null,null,null,null,null,null,null,null,null,null,null,null,null,null,null,null,"",null,{"$f":"IFERROR(IF(OR(LOWER(Tabla3[[#This Row],[SEXO]])=\"masculino\", LOWER(Tabla3[[#This Row],[SEXO]])=\"m\", LOWER(Tabla3[[#This Row],[SEXO]])=\"1\"), \"MASCULINO\",\n  IF(OR(LOWER(Tabla3[[#This Row],[SEXO]])=\"femenino\", LOWER(Tabla3[[#This Row],[SEXO]])=\"f\", LOWER(Tabla3[[#This Row],[SEXO]])=\"2\"), \"FEMENINO\",\n  \"\")), \"\")","v":""},0,null,null,null,0]
[{"$f":"IF(Tabla3[[#This Row],[APELLIDOS Y NOMBRES]]>0,ROW()-14,\"\")","v":""},{"$f":"IFERROR(IF(Tabla3[[#This Row],[APELLIDOS Y NOMBRES]]>0,VLOOKUP($H$7,DATA!$A$79:$B$160,2,FALSE),\"\"),\"\")","v":""},null,null,null,null,null,{"$f":"((NOW()-Tabla3[[#This Row],[FECHA DE NACIMIENTO]])/365)-0.5","v":124.79767625317098},null,null,null,null,null,null,null,null,null,null,null,null,null,null,null,null,null,null,null,null,null,null,null,null,null,null,null,null,null,null,null,null,null,null,null,null,null,"",null,{"$f":"IFERROR(IF(OR(LOWER(Tabla3[[#This Row],[SEXO]])=\"masculino\", LOWER(Tabla3[[#This Row],[SEXO]])=\"m\", LOWER(Tabla3[[#This Row],[SEXO]])=\"1\"), \"MASCULINO\",\n  IF(OR(LOWER(Tabla3[[#This Row],[SEXO]])=\"femenino\", LOWER(Tabla3[[#This Row],[SEXO]])=\"f\", LOWER(Tabla3[[#This Row],[SEXO]])=\"2\"), \"FEMENINO\",\n  \"\")), \"\")","v":""},0,null,null,null,0]
[{"$f":"IF(Tabla3[[#This Row],[APELLIDOS Y NOMBRES]]>0,ROW()-14,\"\")","v":""},{"$f":"IFERROR(IF(Tabla3[[#This Row],[APELLIDOS Y NOMBRES]]>0,VLOOKUP($H$7,DATA!$A$79:$B$160,2,FALSE),\"\"),\"\")","v":""},null,null,null,null,null,{"$f":"((NOW()-Tabla3[[#This Row],[FECHA DE NACIMIENTO]])/365)-0.5","v":124.79767625317098},null,null,null,null,null,null,null,null,null,null,null,null,null,null,null,null,null,null,null,null,null,null,null,null,null,null,null,null,null,null,null,null,null,null,null,null,null,"",null,{"$f":"IFERROR(IF(OR(LOWER(Tabla3[[#This Row],[SEXO]])=\"masculino\", LOWER(Tabla3[[#This Row],[SEXO]])=\"m\", LOWER(Tabla3[[#This Row],[SEXO]])=\"1\"), \"MASCULINO\",\n  IF(OR(LOWER(Tabla3[[#This Row],[SEXO]])=\"femenino\", LOWER(Tabla3[[#This Row],[SEXO]])=\"f\", LOWER(Tabla3[[#This Row],[SEXO]])=\"2\"), \"FEMENINO\",\n  \"\")), \"\")","v":""},0,null,null,null,0]
[{"$f":"IF(Tabla3[[#This Row],[APELLIDOS Y NOMBRES]]>0,ROW()-14,\"\")","v":""},{"$f":"IFERROR(IF(Tabla3[[#This Row],[APELLIDOS Y NOMBRES]]>0,VLOOKUP($H$7,DATA!$A$79:$B$160,2,FALSE),\"\"),\"\")","v":""},null,null,null,null,null,{"$f":"((NOW()-Tabla3[[#This Row],[FECHA DE NACIMIENTO]])/365)-0.5","v":124.79767625317098},null,null,null,null,null,null,null,null,null,null,null,null,null,null,null,null,null,null,null,null,null,null,null,null,null,null,null,null,null,null,null,null,null,null,null,null,null,"",null,{"$f":"IFERROR(IF(OR(LOWER(Tabla3[[#This Row],[SEXO]])=\"masculino\", LOWER(Tabla3[[#This Row],[SEXO]])=\"m\", LOWER(Tabla3[[#This Row],[SEXO]])=\"1\"), \"MASCULINO\",\n  IF(OR(LOWER(Tabla3[[#This Row],[SEXO]])=\"femenino\", LOWER(Tabla3[[#This Row],[SEXO]])=\"f\", LOWER(Tabla3[[#This Row],[SEXO]])=\"2\"), \"FEMENINO\",\n  \"\")), \"\")","v":""},0,null,null,null,0]
[{"$f":"IF(Tabla3[[#This Row],[APELLIDOS Y NOMBRES]]>0,ROW()-14,\"\")","v":""},{"$f":"IFERROR(IF(Tabla3[[#This Row],[APELLIDOS Y NOMBRES]]>0,VLOOKUP($H$7,DATA!$A$79:$B$160,2,FALSE),\"\"),\"\")","v":""},null,null,null,null,null,{"$f":"((NOW()-Tabla3[[#This Row],[FECHA DE NACIMIENTO]])/365)-0.5","v":124.79767625317098},null,null,null,null,null,null,null,null,null,null,null,null,null,null,null,null,null,null,null,null,null,null,null,null,null,null,null,null,null,null,null,null,null,null,null,null,null,"",null,{"$f":"IFERROR(IF(OR(LOWER(Tabla3[[#This Row],[SEXO]])=\"masculino\", LOWER(Tabla3[[#This Row],[SEXO]])=\"m\", LOWER(Tabla3[[#This Row],[SEXO]])=\"1\"), \"MASCULINO\",\n  IF(OR(LOWER(Tabla3[[#This Row],[SEXO]])=\"femenino\", LOWER(Tabla3[[#This Row],[SEXO]])=\"f\", LOWER(Tabla3[[#This Row],[SEXO]])=\"2\"), \"FEMENINO\",\n  \"\")), \"\")","v":""},0,null,null,null,0]
[{"$f":"IF(Tabla3[[#This Row],[APELLIDOS Y NOMBRES]]>0,ROW()-14,\"\")","v":""},{"$f":"IFERROR(IF(Tabla3[[#This Row],[APELLIDOS Y NOMBRES]]>0,VLOOKUP($H$7,DATA!$A$79:$B$160,2,FALSE),\"\"),\"\")","v":""},null,null,null,null,null,{"$f":"((NOW()-Tabla3[[#This Row],[FECHA DE NACIMIENTO]])/365)-0.5","v":124.79767625317098},null,null,null,null,null,null,null,null,null,null,null,null,null,null,null,null,null,null,null,null,null,null,null,null,null,null,null,null,null,null,null,null,null,null,null,null,null,{"$f":"IF(OR($C$5=\"\", $D400=\"\"), \"\", $C$5)","v":""},null,{"$f":"IFERROR(IF(OR(LOWER(Tabla3[[#This Row],[SEXO]])=\"masculino\", LOWER(Tabla3[[#This Row],[SEXO]])=\"m\", LOWER(Tabla3[[#This Row],[SEXO]])=\"1\"), \"MASCULINO\",\n  IF(OR(LOWER(Tabla3[[#This Row],[SEXO]])=\"femenino\", LOWER(Tabla3[[#This Row],[SEXO]])=\"f\", LOWER(Tabla3[[#This Row],[SEXO]])=\"2\"), \"FEMENINO\",\n  \"\")), \"\")","v":""},{"$f":"COUNTIF(P400:AH400,104)","v":0},null,null,null,{"$f":"IF(COUNTIF(P400:AI400,104)>0,1,0)","v":0}]
[{"$f":"IF(Tabla3[[#This Row],[APELLIDOS Y NOMBRES]]>0,ROW()-14,\"\")","v":""},{"$f":"IFERROR(IF(Tabla3[[#This Row],[APELLIDOS Y NOMBRES]]>0,VLOOKUP($H$7,DATA!$A$79:$B$160,2,FALSE),\"\"),\"\")","v":""},null,null,null,null,null,{"$f":"((NOW()-Tabla3[[#This Row],[FECHA DE NACIMIENTO]])/365)-0.5","v":124.79767625317098},null,null,null,null,null,null,null,null,null,null,null,null,null,null,null,null,null,null,null,null,null,null,null,null,null,null,null,null,null,null,null,null,null,null,null,null,null,"",null,{"$f":"IFERROR(IF(OR(LOWER(Tabla3[[#This Row],[SEXO]])=\"masculino\", LOWER(Tabla3[[#This Row],[SEXO]])=\"m\", LOWER(Tabla3[[#This Row],[SEXO]])=\"1\"), \"MASCULINO\",\n  IF(OR(LOWER(Tabla3[[#This Row],[SEXO]])=\"femenino\", LOWER(Tabla3[[#This Row],[SEXO]])=\"f\", LOWER(Tabla3[[#This Row],[SEXO]])=\"2\"), \"FEMENINO\",\n  \"\")), \"\")","v":""},0,null,null,null,0]
[{"$f":"IF(Tabla3[[#This Row],[APELLIDOS Y NOMBRES]]>0,ROW()-14,\"\")","v":""},{"$f":"IFERROR(IF(Tabla3[[#This Row],[APELLIDOS Y NOMBRES]]>0,VLOOKUP($H$7,DATA!$A$79:$B$160,2,FALSE),\"\"),\"\")","v":""},null,null,null,null,null,{"$f":"((NOW()-Tabla3[[#This Row],[FECHA DE NACIMIENTO]])/365)-0.5","v":124.79767625317098},null,null,null,null,null,null,null,null,null,null,null,null,null,null,null,null,null,null,null,null,null,null,null,null,null,null,null,null,null,null,null,null,null,null,null,null,null,"",null,{"$f":"IFERROR(IF(OR(LOWER(Tabla3[[#This Row],[SEXO]])=\"masculino\", LOWER(Tabla3[[#This Row],[SEXO]])=\"m\", LOWER(Tabla3[[#This Row],[SEXO]])=\"1\"), \"MASCULINO\",\n  IF(OR(LOWER(Tabla3[[#This Row],[SEXO]])=\"femenino\", LOWER(Tabla3[[#This Row],[SEXO]])=\"f\", LOWER(Tabla3[[#This Row],[SEXO]])=\"2\"), \"FEMENINO\",\n  \"\")), \"\")","v":""},0,null,null,null,0]
[{"$f":"IF(Tabla3[[#This Row],[APELLIDOS Y NOMBRES]]>0,ROW()-14,\"\")","v":""},{"$f":"IFERROR(IF(Tabla3[[#This Row],[APELLIDOS Y NOMBRES]]>0,VLOOKUP($H$7,DATA!$A$79:$B$160,2,FALSE),\"\"),\"\")","v":""},null,null,null,null,null,{"$f":"((NOW()-Tabla3[[#This Row],[FECHA DE NACIMIENTO]])/365)-0.5","v":124.79767625317098},null,null,null,null,null,null,null,null,null,null,null,null,null,null,null,null,null,null,null,null,null,null,null,null,null,null,null,null,null,null,null,null,null,null,null,null,null,"",null,{"$f":"IFERROR(IF(OR(LOWER(Tabla3[[#This Row],[SEXO]])=\"masculino\", LOWER(Tabla3[[#This Row],[SEXO]])=\"m\", LOWER(Tabla3[[#This Row],[SEXO]])=\"1\"), \"MASCULINO\",\n  IF(OR(LOWER(Tabla3[[#This Row],[SEXO]])=\"femenino\", LOWER(Tabla3[[#This Row],[SEXO]])=\"f\", LOWER(Tabla3[[#This Row],[SEXO]])=\"2\"), \"FEMENINO\",\n  \"\")), \"\")","v":""},0,null,null,null,0]
[{"$f":"IF(Tabla3[[#This Row],[APELLIDOS Y NOMBRES]]>0,ROW()-14,\"\")","v":""},{"$f":"IFERROR(IF(Tabla3[[#This Row],[APELLIDOS Y NOMBRES]]>0,VLOOKUP($H$7,DATA!$A$79:$B$160,2,FALSE),\"\"),\"\")","v":""},null,null,null,null,null,{"$f":"((NOW()-Tabla3[[#This Row],[FECHA DE NACIMIENTO]])/365)-0.5","v":124.79767625317098},null,null,null,null,null,null,null,null,null,null,null,null,null,null,null,null,null,null,null,null,null,null,null,null,null,null,null,null,null,null,null,null,null,null,null,null,null,"",null,{"$f":"IFERROR(IF(OR(LOWER(Tabla3[[#This Row],[SEXO]])=\"masculino\", LOWER(Tabla3[[#This Row],[SEXO]])=\"m\", LOWER(Tabla3[[#This Row],[SEXO]])=\"1\"), \"MASCULINO\",\n  IF(OR(LOWER(Tabla3[[#This Row],[SEXO]])=\"femenino\", LOWER(Tabla3[[#This Row],[SEXO]])=\"f\", LOWER(Tabla3[[#This Row],[SEXO]])=\"2\"), \"FEMENINO\",\n  \"\")), \"\")","v":""},0,null,null,null,0]
[{"$f":"IF(Tabla3[[#This Row],[APELLIDOS Y NOMBRES]]>0,ROW()-14,\"\")","v":""},{"$f":"IFERROR(IF(Tabla3[[#This Row],[APELLIDOS Y NOMBRES]]>0,VLOOKUP($H$7,DATA!$A$79:$B$160,2,FALSE),\"\"),\"\")","v":""},null,null,null,null,null,{"$f":"((NOW()-Tabla3[[#This Row],[FECHA DE NACIMIENTO]])/365)-0.5","v":124.79767625317098},null,null,null,null,null,null,null,null,null,null,null,null,null,null,null,null,null,null,null,null,null,null,null,null,null,null,null,null,null,null,null,null,null,null,null,null,null,"",null,{"$f":"IFERROR(IF(OR(LOWER(Tabla3[[#This Row],[SEXO]])=\"masculino\", LOWER(Tabla3[[#This Row],[SEXO]])=\"m\", LOWER(Tabla3[[#This Row],[SEXO]])=\"1\"), \"MASCULINO\",\n  IF(OR(LOWER(Tabla3[[#This Row],[SEXO]])=\"femenino\", LOWER(Tabla3[[#This Row],[SEXO]])=\"f\", LOWER(Tabla3[[#This Row],[SEXO]])=\"2\"), \"FEMENINO\",\n  \"\")), \"\")","v":""},0,null,null,null,0]
[{"$f":"IF(Tabla3[[#This Row],[APELLIDOS Y NOMBRES]]>0,ROW()-14,\"\")","v":""},{"$f":"IFERROR(IF(Tabla3[[#This Row],[APELLIDOS Y NOMBRES]]>0,VLOOKUP($H$7,DATA!$A$79:$B$160,2,FALSE),\"\"),\"\")","v":""},null,null,null,null,null,{"$f":"((NOW()-Tabla3[[#This Row],[FECHA DE NACIMIENTO]])/365)-0.5","v":124.79767625317098},null,null,null,null,null,null,null,null,null,null,null,null,null,null,null,null,null,null,null,null,null,null,null,null,null,null,null,null,null,null,null,null,null,null,null,null,null,"",null,{"$f":"IFERROR(IF(OR(LOWER(Tabla3[[#This Row],[SEXO]])=\"masculino\", LOWER(Tabla3[[#This Row],[SEXO]])=\"m\", LOWER(Tabla3[[#This Row],[SEXO]])=\"1\"), \"MASCULINO\",\n  IF(OR(LOWER(Tabla3[[#This Row],[SEXO]])=\"femenino\", LOWER(Tabla3[[#This Row],[SEXO]])=\"f\", LOWER(Tabla3[[#This Row],[SEXO]])=\"2\"), \"FEMENINO\",\n  \"\")), \"\")","v":""},0,null,null,null,0]
[{"$f":"IF(Tabla3[[#This Row],[APELLIDOS Y NOMBRES]]>0,ROW()-14,\"\")","v":""},{"$f":"IFERROR(IF(Tabla3[[#This Row],[APELLIDOS Y NOMBRES]]>0,VLOOKUP($H$7,DATA!$A$79:$B$160,2,FALSE),\"\"),\"\")","v":""},null,null,null,null,null,{"$f":"((NOW()-Tabla3[[#This Row],[FECHA DE NACIMIENTO]])/365)-0.5","v":124.79767625317098},null,null,null,null,null,null,null,null,null,null,null,null,null,null,null,null,null,null,null,null,null,null,null,null,null,null,null,null,null,null,null,null,null,null,null,null,null,"",null,{"$f":"IFERROR(IF(OR(LOWER(Tabla3[[#This Row],[SEXO]])=\"masculino\", LOWER(Tabla3[[#This Row],[SEXO]])=\"m\", LOWER(Tabla3[[#This Row],[SEXO]])=\"1\"), \"MASCULINO\",\n  IF(OR(LOWER(Tabla3[[#This Row],[SEXO]])=\"femenino\", LOWER(Tabla3[[#This Row],[SEXO]])=\"f\", LOWER(Tabla3[[#This Row],[SEXO]])=\"2\"), \"FEMENINO\",\n  \"\")), \"\")","v":""},0,null,null,null,0]
[{"$f":"IF(Tabla3[[#This Row],[APELLIDOS Y NOMBRES]]>0,ROW()-14,\"\")","v":""},{"$f":"IFERROR(IF(Tabla3[[#This Row],[APELLIDOS Y NOMBRES]]>0,VLOOKUP($H$7,DATA!$A$79:$B$160,2,FALSE),\"\"),\"\")","v":""},null,null,null,null,null,{"$f":"((NOW()-Tabla3[[#This Row],[FECHA DE NACIMIENTO]])/365)-0.5","v":124.79767625317098},null,null,null,null,null,null,null,null,null,null,null,null,null,null,null,null,null,null,null,null,null,null,null,null,null,null,null,null,null,null,null,null,null,null,null,null,null,"",null,{"$f":"IFERROR(IF(OR(LOWER(Tabla3[[#This Row],[SEXO]])=\"masculino\", LOWER(Tabla3[[#This Row],[SEXO]])=\"m\", LOWER(Tabla3[[#This Row],[SEXO]])=\"1\"), \"MASCULINO\",\n  IF(OR(LOWER(Tabla3[[#This Row],[SEXO]])=\"femenino\", LOWER(Tabla3[[#This Row],[SEXO]])=\"f\", LOWER(Tabla3[[#This Row],[SEXO]])=\"2\"), \"FEMENINO\",\n  \"\")), \"\")","v":""},0,null,null,null,0]
[{"$f":"IF(Tabla3[[#This Row],[APELLIDOS Y NOMBRES]]>0,ROW()-14,\"\")","v":""},{"$f":"IFERROR(IF(Tabla3[[#This Row],[APELLIDOS Y NOMBRES]]>0,VLOOKUP($H$7,DATA!$A$79:$B$160,2,FALSE),\"\"),\"\")","v":""},null,null,null,null,null,{"$f":"((NOW()-Tabla3[[#This Row],[FECHA DE NACIMIENTO]])/365)-0.5","v":124.79767625317098},null,null,null,null,null,null,null,null,null,null,null,null,null,null,null,null,null,null,null,null,null,null,null,null,null,null,null,null,null,null,null,null,null,null,null,null,null,"",null,{"$f":"IFERROR(IF(OR(LOWER(Tabla3[[#This Row],[SEXO]])=\"masculino\", LOWER(Tabla3[[#This Row],[SEXO]])=\"m\", LOWER(Tabla3[[#This Row],[SEXO]])=\"1\"), \"MASCULINO\",\n  IF(OR(LOWER(Tabla3[[#This Row],[SEXO]])=\"femenino\", LOWER(Tabla3[[#This Row],[SEXO]])=\"f\", LOWER(Tabla3[[#This Row],[SEXO]])=\"2\"), \"FEMENINO\",\n  \"\")), \"\")","v":""},0,null,null,null,0]
[{"$f":"IF(Tabla3[[#This Row],[APELLIDOS Y NOMBRES]]>0,ROW()-14,\"\")","v":""},{"$f":"IFERROR(IF(Tabla3[[#This Row],[APELLIDOS Y NOMBRES]]>0,VLOOKUP($H$7,DATA!$A$79:$B$160,2,FALSE),\"\"),\"\")","v":""},null,null,null,null,null,{"$f":"((NOW()-Tabla3[[#This Row],[FECHA DE NACIMIENTO]])/365)-0.5","v":124.79767625317098},null,null,null,null,null,null,null,null,null,null,null,null,null,null,null,null,null,null,null,null,null,null,null,null,null,null,null,null,null,null,null,null,null,null,null,null,null,"",null,{"$f":"IFERROR(IF(OR(LOWER(Tabla3[[#This Row],[SEXO]])=\"masculino\", LOWER(Tabla3[[#This Row],[SEXO]])=\"m\", LOWER(Tabla3[[#This Row],[SEXO]])=\"1\"), \"MASCULINO\",\n  IF(OR(LOWER(Tabla3[[#This Row],[SEXO]])=\"femenino\", LOWER(Tabla3[[#This Row],[SEXO]])=\"f\", LOWER(Tabla3[[#This Row],[SEXO]])=\"2\"), \"FEMENINO\",\n  \"\")), \"\")","v":""},0,null,null,null,0]
[{"$f":"IF(Tabla3[[#This Row],[APELLIDOS Y NOMBRES]]>0,ROW()-14,\"\")","v":""},{"$f":"IFERROR(IF(Tabla3[[#This Row],[APELLIDOS Y NOMBRES]]>0,VLOOKUP($H$7,DATA!$A$79:$B$160,2,FALSE),\"\"),\"\")","v":""},null,null,null,null,null,{"$f":"((NOW()-Tabla3[[#This Row],[FECHA DE NACIMIENTO]])/365)-0.5","v":124.79767625317098},null,null,null,null,null,null,null,null,null,null,null,null,null,null,null,null,null,null,null,null,null,null,null,null,null,null,null,null,null,null,null,null,null,null,null,null,null,"",null,{"$f":"IFERROR(IF(OR(LOWER(Tabla3[[#This Row],[SEXO]])=\"masculino\", LOWER(Tabla3[[#This Row],[SEXO]])=\"m\", LOWER(Tabla3[[#This Row],[SEXO]])=\"1\"), \"MASCULINO\",\n  IF(OR(LOWER(Tabla3[[#This Row],[SEXO]])=\"femenino\", LOWER(Tabla3[[#This Row],[SEXO]])=\"f\", LOWER(Tabla3[[#This Row],[SEXO]])=\"2\"), \"FEMENINO\",\n  \"\")), \"\")","v":""},0,null,null,null,0]
[{"$f":"IF(Tabla3[[#This Row],[APELLIDOS Y NOMBRES]]>0,ROW()-14,\"\")","v":""},{"$f":"IFERROR(IF(Tabla3[[#This Row],[APELLIDOS Y NOMBRES]]>0,VLOOKUP($H$7,DATA!$A$79:$B$160,2,FALSE),\"\"),\"\")","v":""},null,null,null,null,null,{"$f":"((NOW()-Tabla3[[#This Row],[FECHA DE NACIMIENTO]])/365)-0.5","v":124.79767625317098},null,null,null,null,null,null,null,null,null,null,null,null,null,null,null,null,null,null,null,null,null,null,null,null,null,null,null,null,null,null,null,null,null,null,null,null,null,"",null,{"$f":"IFERROR(IF(OR(LOWER(Tabla3[[#This Row],[SEXO]])=\"masculino\", LOWER(Tabla3[[#This Row],[SEXO]])=\"m\", LOWER(Tabla3[[#This Row],[SEXO]])=\"1\"), \"MASCULINO\",\n  IF(OR(LOWER(Tabla3[[#This Row],[SEXO]])=\"femenino\", LOWER(Tabla3[[#This Row],[SEXO]])=\"f\", LOWER(Tabla3[[#This Row],[SEXO]])=\"2\"), \"FEMENINO\",\n  \"\")), \"\")","v":""},0,null,null,null,0]
[{"$f":"IF(Tabla3[[#This Row],[APELLIDOS Y NOMBRES]]>0,ROW()-14,\"\")","v":""},{"$f":"IFERROR(IF(Tabla3[[#This Row],[APELLIDOS Y NOMBRES]]>0,VLOOKUP($H$7,DATA!$A$79:$B$160,2,FALSE),\"\"),\"\")","v":""},null,null,null,null,null,{"$f":"((NOW()-Tabla3[[#This Row],[FECHA DE NACIMIENTO]])/365)-0.5","v":124.79767625317098},null,null,null,null,null,null,null,null,null,null,null,null,null,null,null,null,null,null,null,null,null,null,null,null,null,null,null,null,null,null,null,null,null,null,null,null,null,"",null,{"$f":"IFERROR(IF(OR(LOWER(Tabla3[[#This Row],[SEXO]])=\"masculino\", LOWER(Tabla3[[#This Row],[SEXO]])=\"m\", LOWER(Tabla3[[#This Row],[SEXO]])=\"1\"), \"MASCULINO\",\n  IF(OR(LOWER(Tabla3[[#This Row],[SEXO]])=\"femenino\", LOWER(Tabla3[[#This Row],[SEXO]])=\"f\", LOWER(Tabla3[[#This Row],[SEXO]])=\"2\"), \"FEMENINO\",\n  \"\")), \"\")","v":""},0,null,null,null,0]
[{"$f":"IF(Tabla3[[#This Row],[APELLIDOS Y NOMBRES]]>0,ROW()-14,\"\")","v":""},{"$f":"IFERROR(IF(Tabla3[[#This Row],[APELLIDOS Y NOMBRES]]>0,VLOOKUP($H$7,DATA!$A$79:$B$160,2,FALSE),\"\"),\"\")","v":""},null,null,null,null,null,{"$f":"((NOW()-Tabla3[[#This Row],[FECHA DE NACIMIENTO]])/365)-0.5","v":124.79767625317098},null,null,null,null,null,null,null,null,null,null,null,null,null,null,null,null,null,null,null,null,null,null,null,null,null,null,null,null,null,null,null,null,null,null,null,null,null,"",null,{"$f":"IFERROR(IF(OR(LOWER(Tabla3[[#This Row],[SEXO]])=\"masculino\", LOWER(Tabla3[[#This Row],[SEXO]])=\"m\", LOWER(Tabla3[[#This Row],[SEXO]])=\"1\"), \"MASCULINO\",\n  IF(OR(LOWER(Tabla3[[#This Row],[SEXO]])=\"femenino\", LOWER(Tabla3[[#This Row],[SEXO]])=\"f\", LOWER(Tabla3[[#This Row],[SEXO]])=\"2\"), \"FEMENINO\",\n  \"\")), \"\")","v":""},0,null,null,null,0]
[{"$f":"IF(Tabla3[[#This Row],[APELLIDOS Y NOMBRES]]>0,ROW()-14,\"\")","v":""},{"$f":"IFERROR(IF(Tabla3[[#This Row],[APELLIDOS Y NOMBRES]]>0,VLOOKUP($H$7,DATA!$A$79:$B$160,2,FALSE),\"\"),\"\")","v":""},null,null,null,null,null,{"$f":"((NOW()-Tabla3[[#This Row],[FECHA DE NACIMIENTO]])/365)-0.5","v":124.79767625317098},null,null,null,null,null,null,null,null,null,null,null,null,null,null,null,null,null,null,null,null,null,null,null,null,null,null,null,null,null,null,null,null,null,null,null,null,null,"",null,{"$f":"IFERROR(IF(OR(LOWER(Tabla3[[#This Row],[SEXO]])=\"masculino\", LOWER(Tabla3[[#This Row],[SEXO]])=\"m\", LOWER(Tabla3[[#This Row],[SEXO]])=\"1\"), \"MASCULINO\",\n  IF(OR(LOWER(Tabla3[[#This Row],[SEXO]])=\"femenino\", LOWER(Tabla3[[#This Row],[SEXO]])=\"f\", LOWER(Tabla3[[#This Row],[SEXO]])=\"2\"), \"FEMENINO\",\n  \"\")), \"\")","v":""},0,null,null,null,0]
[{"$f":"IF(Tabla3[[#This Row],[APELLIDOS Y NOMBRES]]>0,ROW()-14,\"\")","v":""},{"$f":"IFERROR(IF(Tabla3[[#This Row],[APELLIDOS Y NOMBRES]]>0,VLOOKUP($H$7,DATA!$A$79:$B$160,2,FALSE),\"\"),\"\")","v":""},null,null,null,null,null,{"$f":"((NOW()-Tabla3[[#This Row],[FECHA DE NACIMIENTO]])/365)-0.5","v":124.79767625317098},null,null,null,null,null,null,null,null,null,null,null,null,null,null,null,null,null,null,null,null,null,null,null,null,null,null,null,null,null,null,null,null,null,null,null,null,null,"",null,{"$f":"IFERROR(IF(OR(LOWER(Tabla3[[#This Row],[SEXO]])=\"masculino\", LOWER(Tabla3[[#This Row],[SEXO]])=\"m\", LOWER(Tabla3[[#This Row],[SEXO]])=\"1\"), \"MASCULINO\",\n  IF(OR(LOWER(Tabla3[[#This Row],[SEXO]])=\"femenino\", LOWER(Tabla3[[#This Row],[SEXO]])=\"f\", LOWER(Tabla3[[#This Row],[SEXO]])=\"2\"), \"FEMENINO\",\n  \"\")), \"\")","v":""},0,null,null,null,0]
[{"$f":"IF(Tabla3[[#This Row],[APELLIDOS Y NOMBRES]]>0,ROW()-14,\"\")","v":""},{"$f":"IFERROR(IF(Tabla3[[#This Row],[APELLIDOS Y NOMBRES]]>0,VLOOKUP($H$7,DATA!$A$79:$B$160,2,FALSE),\"\"),\"\")","v":""},null,null,null,null,null,{"$f":"((NOW()-Tabla3[[#This Row],[FECHA DE NACIMIENTO]])/365)-0.5","v":124.79767625317098},null,null,null,null,null,null,null,null,null,null,null,null,null,null,null,null,null,null,null,null,null,null,null,null,null,null,null,null,null,null,null,null,null,null,null,null,null,"",null,{"$f":"IFERROR(IF(OR(LOWER(Tabla3[[#This Row],[SEXO]])=\"masculino\", LOWER(Tabla3[[#This Row],[SEXO]])=\"m\", LOWER(Tabla3[[#This Row],[SEXO]])=\"1\"), \"MASCULINO\",\n  IF(OR(LOWER(Tabla3[[#This Row],[SEXO]])=\"femenino\", LOWER(Tabla3[[#This Row],[SEXO]])=\"f\", LOWER(Tabla3[[#This Row],[SEXO]])=\"2\"), \"FEMENINO\",\n  \"\")), \"\")","v":""},0,null,null,null,0]
[{"$f":"IF(Tabla3[[#This Row],[APELLIDOS Y NOMBRES]]>0,ROW()-14,\"\")","v":""},{"$f":"IFERROR(IF(Tabla3[[#This Row],[APELLIDOS Y NOMBRES]]>0,VLOOKUP($H$7,DATA!$A$79:$B$160,2,FALSE),\"\"),\"\")","v":""},null,null,null,null,null,{"$f":"((NOW()-Tabla3[[#This Row],[FECHA DE NACIMIENTO]])/365)-0.5","v":124.79767625317098},null,null,null,null,null,null,null,null,null,null,null,null,null,null,null,null,null,null,null,null,null,null,null,null,null,null,null,null,null,null,null,null,null,null,null,null,null,"",null,{"$f":"IFERROR(IF(OR(LOWER(Tabla3[[#This Row],[SEXO]])=\"masculino\", LOWER(Tabla3[[#This Row],[SEXO]])=\"m\", LOWER(Tabla3[[#This Row],[SEXO]])=\"1\"), \"MASCULINO\",\n  IF(OR(LOWER(Tabla3[[#This Row],[SEXO]])=\"femenino\", LOWER(Tabla3[[#This Row],[SEXO]])=\"f\", LOWER(Tabla3[[#This Row],[SEXO]])=\"2\"), \"FEMENINO\",\n  \"\")), \"\")","v":""},0,null,null,null,0]
[{"$f":"IF(Tabla3[[#This Row],[APELLIDOS Y NOMBRES]]>0,ROW()-14,\"\")","v":""},{"$f":"IFERROR(IF(Tabla3[[#This Row],[APELLIDOS Y NOMBRES]]>0,VLOOKUP($H$7,DATA!$A$79:$B$160,2,FALSE),\"\"),\"\")","v":""},null,null,null,null,null,{"$f":"((NOW()-Tabla3[[#This Row],[FECHA DE NACIMIENTO]])/365)-0.5","v":124.79767625317098},null,null,null,null,null,null,null,null,null,null,null,null,null,null,null,null,null,null,null,null,null,null,null,null,null,null,null,null,null,null,null,null,null,null,null,null,null,"",null,{"$f":"IFERROR(IF(OR(LOWER(Tabla3[[#This Row],[SEXO]])=\"masculino\", LOWER(Tabla3[[#This Row],[SEXO]])=\"m\", LOWER(Tabla3[[#This Row],[SEXO]])=\"1\"), \"MASCULINO\",\n  IF(OR(LOWER(Tabla3[[#This Row],[SEXO]])=\"femenino\", LOWER(Tabla3[[#This Row],[SEXO]])=\"f\", LOWER(Tabla3[[#This Row],[SEXO]])=\"2\"), \"FEMENINO\",\n  \"\")), \"\")","v":""},0,null,null,null,0]
[{"$f":"IF(Tabla3[[#This Row],[APELLIDOS Y NOMBRES]]>0,ROW()-14,\"\")","v":""},{"$f":"IFERROR(IF(Tabla3[[#This Row],[APELLIDOS Y NOMBRES]]>0,VLOOKUP($H$7,DATA!$A$79:$B$160,2,FALSE),\"\"),\"\")","v":""},null,null,null,null,null,{"$f":"((NOW()-Tabla3[[#This Row],[FECHA DE NACIMIENTO]])/365)-0.5","v":124.79767625317098},null,null,null,null,null,null,null,null,null,null,null,null,null,null,null,null,null,null,null,null,null,null,null,null,null,null,null,null,null,null,null,null,null,null,null,null,null,"",null,{"$f":"IFERROR(IF(OR(LOWER(Tabla3[[#This Row],[SEXO]])=\"masculino\", LOWER(Tabla3[[#This Row],[SEXO]])=\"m\", LOWER(Tabla3[[#This Row],[SEXO]])=\"1\"), \"MASCULINO\",\n  IF(OR(LOWER(Tabla3[[#This Row],[SEXO]])=\"femenino\", LOWER(Tabla3[[#This Row],[SEXO]])=\"f\", LOWER(Tabla3[[#This Row],[SEXO]])=\"2\"), \"FEMENINO\",\n  \"\")), \"\")","v":""},0,null,null,null,0]
[{"$f":"IF(Tabla3[[#This Row],[APELLIDOS Y NOMBRES]]>0,ROW()-14,\"\")","v":""},{"$f":"IFERROR(IF(Tabla3[[#This Row],[APELLIDOS Y NOMBRES]]>0,VLOOKUP($H$7,DATA!$A$79:$B$160,2,FALSE),\"\"),\"\")","v":""},null,null,null,null,null,{"$f":"((NOW()-Tabla3[[#This Row],[FECHA DE NACIMIENTO]])/365)-0.5","v":124.79767625317098},null,null,null,null,null,null,null,null,null,null,null,null,null,null,null,null,null,null,null,null,null,null,null,null,null,null,null,null,null,null,null,null,null,null,null,null,null,"",null,{"$f":"IFERROR(IF(OR(LOWER(Tabla3[[#This Row],[SEXO]])=\"masculino\", LOWER(Tabla3[[#This Row],[SEXO]])=\"m\", LOWER(Tabla3[[#This Row],[SEXO]])=\"1\"), \"MASCULINO\",\n  IF(OR(LOWER(Tabla3[[#This Row],[SEXO]])=\"femenino\", LOWER(Tabla3[[#This Row],[SEXO]])=\"f\", LOWER(Tabla3[[#This Row],[SEXO]])=\"2\"), \"FEMENINO\",\n  \"\")), \"\")","v":""},0,null,null,null,0]
[{"$f":"IF(Tabla3[[#This Row],[APELLIDOS Y NOMBRES]]>0,ROW()-14,\"\")","v":""},{"$f":"IFERROR(IF(Tabla3[[#This Row],[APELLIDOS Y NOMBRES]]>0,VLOOKUP($H$7,DATA!$A$79:$B$160,2,FALSE),\"\"),\"\")","v":""},null,null,null,null,null,{"$f":"((NOW()-Tabla3[[#This Row],[FECHA DE NACIMIENTO]])/365)-0.5","v":124.79767625317098},null,null,null,null,null,null,null,null,null,null,null,null,null,null,null,null,null,null,null,null,null,null,null,null,null,null,null,null,null,null,null,null,null,null,null,null,null,"",null,{"$f":"IFERROR(IF(OR(LOWER(Tabla3[[#This Row],[SEXO]])=\"masculino\", LOWER(Tabla3[[#This Row],[SEXO]])=\"m\", LOWER(Tabla3[[#This Row],[SEXO]])=\"1\"), \"MASCULINO\",\n  IF(OR(LOWER(Tabla3[[#This Row],[SEXO]])=\"femenino\", LOWER(Tabla3[[#This Row],[SEXO]])=\"f\", LOWER(Tabla3[[#This Row],[SEXO]])=\"2\"), \"FEMENINO\",\n  \"\")), \"\")","v":""},0,null,null,null,0]
[{"$f":"IF(Tabla3[[#This Row],[APELLIDOS Y NOMBRES]]>0,ROW()-14,\"\")","v":""},{"$f":"IFERROR(IF(Tabla3[[#This Row],[APELLIDOS Y NOMBRES]]>0,VLOOKUP($H$7,DATA!$A$79:$B$160,2,FALSE),\"\"),\"\")","v":""},null,null,null,null,null,{"$f":"((NOW()-Tabla3[[#This Row],[FECHA DE NACIMIENTO]])/365)-0.5","v":124.79767625317098},null,null,null,null,null,null,null,null,null,null,null,null,null,null,null,null,null,null,null,null,null,null,null,null,null,null,null,null,null,null,null,null,null,null,null,null,null,"",null,{"$f":"IFERROR(IF(OR(LOWER(Tabla3[[#This Row],[SEXO]])=\"masculino\", LOWER(Tabla3[[#This Row],[SEXO]])=\"m\", LOWER(Tabla3[[#This Row],[SEXO]])=\"1\"), \"MASCULINO\",\n  IF(OR(LOWER(Tabla3[[#This Row],[SEXO]])=\"femenino\", LOWER(Tabla3[[#This Row],[SEXO]])=\"f\", LOWER(Tabla3[[#This Row],[SEXO]])=\"2\"), \"FEMENINO\",\n  \"\")), \"\")","v":""},0,null,null,null,0]
[{"$f":"IF(Tabla3[[#This Row],[APELLIDOS Y NOMBRES]]>0,ROW()-14,\"\")","v":""},{"$f":"IFERROR(IF(Tabla3[[#This Row],[APELLIDOS Y NOMBRES]]>0,VLOOKUP($H$7,DATA!$A$79:$B$160,2,FALSE),\"\"),\"\")","v":""},null,null,null,null,null,{"$f":"((NOW()-Tabla3[[#This Row],[FECHA DE NACIMIENTO]])/365)-0.5","v":124.79767625317098},null,null,null,null,null,null,null,null,null,null,null,null,null,null,null,null,null,null,null,null,null,null,null,null,null,null,null,null,null,null,null,null,null,null,null,null,null,"",null,{"$f":"IFERROR(IF(OR(LOWER(Tabla3[[#This Row],[SEXO]])=\"masculino\", LOWER(Tabla3[[#This Row],[SEXO]])=\"m\", LOWER(Tabla3[[#This Row],[SEXO]])=\"1\"), \"MASCULINO\",\n  IF(OR(LOWER(Tabla3[[#This Row],[SEXO]])=\"femenino\", LOWER(Tabla3[[#This Row],[SEXO]])=\"f\", LOWER(Tabla3[[#This Row],[SEXO]])=\"2\"), \"FEMENINO\",\n  \"\")), \"\")","v":""},0,null,null,null,0]
[{"$f":"IF(Tabla3[[#This Row],[APELLIDOS Y NOMBRES]]>0,ROW()-14,\"\")","v":""},{"$f":"IFERROR(IF(Tabla3[[#This Row],[APELLIDOS Y NOMBRES]]>0,VLOOKUP($H$7,DATA!$A$79:$B$160,2,FALSE),\"\"),\"\")","v":""},null,null,null,null,null,{"$f":"((NOW()-Tabla3[[#This Row],[FECHA DE NACIMIENTO]])/365)-0.5","v":124.79767625317098},null,null,null,null,null,null,null,null,null,null,null,null,null,null,null,null,null,null,null,null,null,null,null,null,null,null,null,null,null,null,null,null,null,null,null,null,null,"",null,{"$f":"IFERROR(IF(OR(LOWER(Tabla3[[#This Row],[SEXO]])=\"masculino\", LOWER(Tabla3[[#This Row],[SEXO]])=\"m\", LOWER(Tabla3[[#This Row],[SEXO]])=\"1\"), \"MASCULINO\",\n  IF(OR(LOWER(Tabla3[[#This Row],[SEXO]])=\"femenino\", LOWER(Tabla3[[#This Row],[SEXO]])=\"f\", LOWER(Tabla3[[#This Row],[SEXO]])=\"2\"), \"FEMENINO\",\n  \"\")), \"\")","v":""},0,null,null,null,0]
[{"$f":"IF(Tabla3[[#This Row],[APELLIDOS Y NOMBRES]]>0,ROW()-14,\"\")","v":""},{"$f":"IFERROR(IF(Tabla3[[#This Row],[APELLIDOS Y NOMBRES]]>0,VLOOKUP($H$7,DATA!$A$79:$B$160,2,FALSE),\"\"),\"\")","v":""},null,null,null,null,null,{"$f":"((NOW()-Tabla3[[#This Row],[FECHA DE NACIMIENTO]])/365)-0.5","v":124.79767625317098},null,null,null,null,null,null,null,null,null,null,null,null,null,null,null,null,null,null,null,null,null,null,null,null,null,null,null,null,null,null,null,null,null,null,null,null,null,"",null,{"$f":"IFERROR(IF(OR(LOWER(Tabla3[[#This Row],[SEXO]])=\"masculino\", LOWER(Tabla3[[#This Row],[SEXO]])=\"m\", LOWER(Tabla3[[#This Row],[SEXO]])=\"1\"), \"MASCULINO\",\n  IF(OR(LOWER(Tabla3[[#This Row],[SEXO]])=\"femenino\", LOWER(Tabla3[[#This Row],[SEXO]])=\"f\", LOWER(Tabla3[[#This Row],[SEXO]])=\"2\"), \"FEMENINO\",\n  \"\")), \"\")","v":""},0,null,null,null,0]
[{"$f":"IF(Tabla3[[#This Row],[APELLIDOS Y NOMBRES]]>0,ROW()-14,\"\")","v":""},{"$f":"IFERROR(IF(Tabla3[[#This Row],[APELLIDOS Y NOMBRES]]>0,VLOOKUP($H$7,DATA!$A$79:$B$160,2,FALSE),\"\"),\"\")","v":""},null,null,null,null,null,{"$f":"((NOW()-Tabla3[[#This Row],[FECHA DE NACIMIENTO]])/365)-0.5","v":124.79767625317098},null,null,null,null,null,null,null,null,null,null,null,null,null,null,null,null,null,null,null,null,null,null,null,null,null,null,null,null,null,null,null,null,null,null,null,null,null,"",null,{"$f":"IFERROR(IF(OR(LOWER(Tabla3[[#This Row],[SEXO]])=\"masculino\", LOWER(Tabla3[[#This Row],[SEXO]])=\"m\", LOWER(Tabla3[[#This Row],[SEXO]])=\"1\"), \"MASCULINO\",\n  IF(OR(LOWER(Tabla3[[#This Row],[SEXO]])=\"femenino\", LOWER(Tabla3[[#This Row],[SEXO]])=\"f\", LOWER(Tabla3[[#This Row],[SEXO]])=\"2\"), \"FEMENINO\",\n  \"\")), \"\")","v":""},0,null,null,null,0]
[{"$f":"IF(Tabla3[[#This Row],[APELLIDOS Y NOMBRES]]>0,ROW()-14,\"\")","v":""},{"$f":"IFERROR(IF(Tabla3[[#This Row],[APELLIDOS Y NOMBRES]]>0,VLOOKUP($H$7,DATA!$A$79:$B$160,2,FALSE),\"\"),\"\")","v":""},null,null,null,null,null,{"$f":"((NOW()-Tabla3[[#This Row],[FECHA DE NACIMIENTO]])/365)-0.5","v":124.79767625317098},null,null,null,null,null,null,null,null,null,null,null,null,null,null,null,null,null,null,null,null,null,null,null,null,null,null,null,null,null,null,null,null,null,null,null,null,null,"",null,{"$f":"IFERROR(IF(OR(LOWER(Tabla3[[#This Row],[SEXO]])=\"masculino\", LOWER(Tabla3[[#This Row],[SEXO]])=\"m\", LOWER(Tabla3[[#This Row],[SEXO]])=\"1\"), \"MASCULINO\",\n  IF(OR(LOWER(Tabla3[[#This Row],[SEXO]])=\"femenino\", LOWER(Tabla3[[#This Row],[SEXO]])=\"f\", LOWER(Tabla3[[#This Row],[SEXO]])=\"2\"), \"FEMENINO\",\n  \"\")), \"\")","v":""},0,null,null,null,0]
[{"$f":"IF(Tabla3[[#This Row],[APELLIDOS Y NOMBRES]]>0,ROW()-14,\"\")","v":""},{"$f":"IFERROR(IF(Tabla3[[#This Row],[APELLIDOS Y NOMBRES]]>0,VLOOKUP($H$7,DATA!$A$79:$B$160,2,FALSE),\"\"),\"\")","v":""},null,null,null,null,null,{"$f":"((NOW()-Tabla3[[#This Row],[FECHA DE NACIMIENTO]])/365)-0.5","v":124.79767625317098},null,null,null,null,null,null,null,null,null,null,null,null,null,null,null,null,null,null,null,null,null,null,null,null,null,null,null,null,null,null,null,null,null,null,null,null,null,"",null,{"$f":"IFERROR(IF(OR(LOWER(Tabla3[[#This Row],[SEXO]])=\"masculino\", LOWER(Tabla3[[#This Row],[SEXO]])=\"m\", LOWER(Tabla3[[#This Row],[SEXO]])=\"1\"), \"MASCULINO\",\n  IF(OR(LOWER(Tabla3[[#This Row],[SEXO]])=\"femenino\", LOWER(Tabla3[[#This Row],[SEXO]])=\"f\", LOWER(Tabla3[[#This Row],[SEXO]])=\"2\"), \"FEMENINO\",\n  \"\")), \"\")","v":""},0,null,null,null,0]
[{"$f":"IF(Tabla3[[#This Row],[APELLIDOS Y NOMBRES]]>0,ROW()-14,\"\")","v":""},{"$f":"IFERROR(IF(Tabla3[[#This Row],[APELLIDOS Y NOMBRES]]>0,VLOOKUP($H$7,DATA!$A$79:$B$160,2,FALSE),\"\"),\"\")","v":""},null,null,null,null,null,{"$f":"((NOW()-Tabla3[[#This Row],[FECHA DE NACIMIENTO]])/365)-0.5","v":124.79767625317098},null,null,null,null,null,null,null,null,null,null,null,null,null,null,null,null,null,null,null,null,null,null,null,null,null,null,null,null,null,null,null,null,null,null,null,null,null,"",null,{"$f":"IFERROR(IF(OR(LOWER(Tabla3[[#This Row],[SEXO]])=\"masculino\", LOWER(Tabla3[[#This Row],[SEXO]])=\"m\", LOWER(Tabla3[[#This Row],[SEXO]])=\"1\"), \"MASCULINO\",\n  IF(OR(LOWER(Tabla3[[#This Row],[SEXO]])=\"femenino\", LOWER(Tabla3[[#This Row],[SEXO]])=\"f\", LOWER(Tabla3[[#This Row],[SEXO]])=\"2\"), \"FEMENINO\",\n  \"\")), \"\")","v":""},0,null,null,null,0]
[{"$f":"IF(Tabla3[[#This Row],[APELLIDOS Y NOMBRES]]>0,ROW()-14,\"\")","v":""},{"$f":"IFERROR(IF(Tabla3[[#This Row],[APELLIDOS Y NOMBRES]]>0,VLOOKUP($H$7,DATA!$A$79:$B$160,2,FALSE),\"\"),\"\")","v":""},null,null,null,null,null,{"$f":"((NOW()-Tabla3[[#This Row],[FECHA DE NACIMIENTO]])/365)-0.5","v":124.79767625317098},null,null,null,null,null,null,null,null,null,null,null,null,null,null,null,null,null,null,null,null,null,null,null,null,null,null,null,null,null,null,null,null,null,null,null,null,null,"",null,{"$f":"IFERROR(IF(OR(LOWER(Tabla3[[#This Row],[SEXO]])=\"masculino\", LOWER(Tabla3[[#This Row],[SEXO]])=\"m\", LOWER(Tabla3[[#This Row],[SEXO]])=\"1\"), \"MASCULINO\",\n  IF(OR(LOWER(Tabla3[[#This Row],[SEXO]])=\"femenino\", LOWER(Tabla3[[#This Row],[SEXO]])=\"f\", LOWER(Tabla3[[#This Row],[SEXO]])=\"2\"), \"FEMENINO\",\n  \"\")), \"\")","v":""},0,null,null,null,0]
[{"$f":"IF(Tabla3[[#This Row],[APELLIDOS Y NOMBRES]]>0,ROW()-14,\"\")","v":""},{"$f":"IFERROR(IF(Tabla3[[#This Row],[APELLIDOS Y NOMBRES]]>0,VLOOKUP($H$7,DATA!$A$79:$B$160,2,FALSE),\"\"),\"\")","v":""},null,null,null,null,null,{"$f":"((NOW()-Tabla3[[#This Row],[FECHA DE NACIMIENTO]])/365)-0.5","v":124.79767625317098},null,null,null,null,null,null,null,null,null,null,null,null,null,null,null,null,null,null,null,null,null,null,null,null,null,null,null,null,null,null,null,null,null,null,null,null,null,"",null,{"$f":"IFERROR(IF(OR(LOWER(Tabla3[[#This Row],[SEXO]])=\"masculino\", LOWER(Tabla3[[#This Row],[SEXO]])=\"m\", LOWER(Tabla3[[#This Row],[SEXO]])=\"1\"), \"MASCULINO\",\n  IF(OR(LOWER(Tabla3[[#This Row],[SEXO]])=\"femenino\", LOWER(Tabla3[[#This Row],[SEXO]])=\"f\", LOWER(Tabla3[[#This Row],[SEXO]])=\"2\"), \"FEMENINO\",\n  \"\")), \"\")","v":""},0,null,null,null,0]
[{"$f":"IF(Tabla3[[#This Row],[APELLIDOS Y NOMBRES]]>0,ROW()-14,\"\")","v":""},{"$f":"IFERROR(IF(Tabla3[[#This Row],[APELLIDOS Y NOMBRES]]>0,VLOOKUP($H$7,DATA!$A$79:$B$160,2,FALSE),\"\"),\"\")","v":""},null,null,null,null,null,{"$f":"((NOW()-Tabla3[[#This Row],[FECHA DE NACIMIENTO]])/365)-0.5","v":124.79767625317098},null,null,null,null,null,null,null,null,null,null,null,null,null,null,null,null,null,null,null,null,null,null,null,null,null,null,null,null,null,null,null,null,null,null,null,null,null,"",null,{"$f":"IFERROR(IF(OR(LOWER(Tabla3[[#This Row],[SEXO]])=\"masculino\", LOWER(Tabla3[[#This Row],[SEXO]])=\"m\", LOWER(Tabla3[[#This Row],[SEXO]])=\"1\"), \"MASCULINO\",\n  IF(OR(LOWER(Tabla3[[#This Row],[SEXO]])=\"femenino\", LOWER(Tabla3[[#This Row],[SEXO]])=\"f\", LOWER(Tabla3[[#This Row],[SEXO]])=\"2\"), \"FEMENINO\",\n  \"\")), \"\")","v":""},0,null,null,null,0]
[{"$f":"IF(Tabla3[[#This Row],[APELLIDOS Y NOMBRES]]>0,ROW()-14,\"\")","v":""},{"$f":"IFERROR(IF(Tabla3[[#This Row],[APELLIDOS Y NOMBRES]]>0,VLOOKUP($H$7,DATA!$A$79:$B$160,2,FALSE),\"\"),\"\")","v":""},null,null,null,null,null,{"$f":"((NOW()-Tabla3[[#This Row],[FECHA DE NACIMIENTO]])/365)-0.5","v":124.79767625317098},null,null,null,null,null,null,null,null,null,null,null,null,null,null,null,null,null,null,null,null,null,null,null,null,null,null,null,null,null,null,null,null,null,null,null,null,null,"",null,{"$f":"IFERROR(IF(OR(LOWER(Tabla3[[#This Row],[SEXO]])=\"masculino\", LOWER(Tabla3[[#This Row],[SEXO]])=\"m\", LOWER(Tabla3[[#This Row],[SEXO]])=\"1\"), \"MASCULINO\",\n  IF(OR(LOWER(Tabla3[[#This Row],[SEXO]])=\"femenino\", LOWER(Tabla3[[#This Row],[SEXO]])=\"f\", LOWER(Tabla3[[#This Row],[SEXO]])=\"2\"), \"FEMENINO\",\n  \"\")), \"\")","v":""},0,null,null,null,0]
[{"$f":"IF(Tabla3[[#This Row],[APELLIDOS Y NOMBRES]]>0,ROW()-14,\"\")","v":""},{"$f":"IFERROR(IF(Tabla3[[#This Row],[APELLIDOS Y NOMBRES]]>0,VLOOKUP($H$7,DATA!$A$79:$B$160,2,FALSE),\"\"),\"\")","v":""},null,null,null,null,null,{"$f":"((NOW()-Tabla3[[#This Row],[FECHA DE NACIMIENTO]])/365)-0.5","v":124.79767625317098},null,null,null,null,null,null,null,null,null,null,null,null,null,null,null,null,null,null,null,null,null,null,null,null,null,null,null,null,null,null,null,null,null,null,null,null,null,"",null,{"$f":"IFERROR(IF(OR(LOWER(Tabla3[[#This Row],[SEXO]])=\"masculino\", LOWER(Tabla3[[#This Row],[SEXO]])=\"m\", LOWER(Tabla3[[#This Row],[SEXO]])=\"1\"), \"MASCULINO\",\n  IF(OR(LOWER(Tabla3[[#This Row],[SEXO]])=\"femenino\", LOWER(Tabla3[[#This Row],[SEXO]])=\"f\", LOWER(Tabla3[[#This Row],[SEXO]])=\"2\"), \"FEMENINO\",\n  \"\")), \"\")","v":""},0,null,null,null,0]
[{"$f":"IF(Tabla3[[#This Row],[APELLIDOS Y NOMBRES]]>0,ROW()-14,\"\")","v":""},{"$f":"IFERROR(IF(Tabla3[[#This Row],[APELLIDOS Y NOMBRES]]>0,VLOOKUP($H$7,DATA!$A$79:$B$160,2,FALSE),\"\"),\"\")","v":""},null,null,null,null,null,{"$f":"((NOW()-Tabla3[[#This Row],[FECHA DE NACIMIENTO]])/365)-0.5","v":124.79767625317098},null,null,null,null,null,null,null,null,null,null,null,null,null,null,null,null,null,null,null,null,null,null,null,null,null,null,null,null,null,null,null,null,null,null,null,null,null,"",null,{"$f":"IFERROR(IF(OR(LOWER(Tabla3[[#This Row],[SEXO]])=\"masculino\", LOWER(Tabla3[[#This Row],[SEXO]])=\"m\", LOWER(Tabla3[[#This Row],[SEXO]])=\"1\"), \"MASCULINO\",\n  IF(OR(LOWER(Tabla3[[#This Row],[SEXO]])=\"femenino\", LOWER(Tabla3[[#This Row],[SEXO]])=\"f\", LOWER(Tabla3[[#This Row],[SEXO]])=\"2\"), \"FEMENINO\",\n  \"\")), \"\")","v":""},0,null,null,null,0]
[{"$f":"IF(Tabla3[[#This Row],[APELLIDOS Y NOMBRES]]>0,ROW()-14,\"\")","v":""},{"$f":"IFERROR(IF(Tabla3[[#This Row],[APELLIDOS Y NOMBRES]]>0,VLOOKUP($H$7,DATA!$A$79:$B$160,2,FALSE),\"\"),\"\")","v":""},null,null,null,null,null,{"$f":"((NOW()-Tabla3[[#This Row],[FECHA DE NACIMIENTO]])/365)-0.5","v":124.79767625317098},null,null,null,null,null,null,null,null,null,null,null,null,null,null,null,null,null,null,null,null,null,null,null,null,null,null,null,null,null,null,null,null,null,null,null,null,null,"",null,{"$f":"IFERROR(IF(OR(LOWER(Tabla3[[#This Row],[SEXO]])=\"masculino\", LOWER(Tabla3[[#This Row],[SEXO]])=\"m\", LOWER(Tabla3[[#This Row],[SEXO]])=\"1\"), \"MASCULINO\",\n  IF(OR(LOWER(Tabla3[[#This Row],[SEXO]])=\"femenino\", LOWER(Tabla3[[#This Row],[SEXO]])=\"f\", LOWER(Tabla3[[#This Row],[SEXO]])=\"2\"), \"FEMENINO\",\n  \"\")), \"\")","v":""},0,null,null,null,0]
[{"$f":"IF(Tabla3[[#This Row],[APELLIDOS Y NOMBRES]]>0,ROW()-14,\"\")","v":""},{"$f":"IFERROR(IF(Tabla3[[#This Row],[APELLIDOS Y NOMBRES]]>0,VLOOKUP($H$7,DATA!$A$79:$B$160,2,FALSE),\"\"),\"\")","v":""},null,null,null,null,null,{"$f":"((NOW()-Tabla3[[#This Row],[FECHA DE NACIMIENTO]])/365)-0.5","v":124.79767625317098},null,null,null,null,null,null,null,null,null,null,null,null,null,null,null,null,null,null,null,null,null,null,null,null,null,null,null,null,null,null,null,null,null,null,null,null,null,"",null,{"$f":"IFERROR(IF(OR(LOWER(Tabla3[[#This Row],[SEXO]])=\"masculino\", LOWER(Tabla3[[#This Row],[SEXO]])=\"m\", LOWER(Tabla3[[#This Row],[SEXO]])=\"1\"), \"MASCULINO\",\n  IF(OR(LOWER(Tabla3[[#This Row],[SEXO]])=\"femenino\", LOWER(Tabla3[[#This Row],[SEXO]])=\"f\", LOWER(Tabla3[[#This Row],[SEXO]])=\"2\"), \"FEMENINO\",\n  \"\")), \"\")","v":""},0,null,null,null,0]
[{"$f":"IF(Tabla3[[#This Row],[APELLIDOS Y NOMBRES]]>0,ROW()-14,\"\")","v":""},{"$f":"IFERROR(IF(Tabla3[[#This Row],[APELLIDOS Y NOMBRES]]>0,VLOOKUP($H$7,DATA!$A$79:$B$160,2,FALSE),\"\"),\"\")","v":""},null,null,null,null,null,{"$f":"((NOW()-Tabla3[[#This Row],[FECHA DE NACIMIENTO]])/365)-0.5","v":124.79767625317098},null,null,null,null,null,null,null,null,null,null,null,null,null,null,null,null,null,null,null,null,null,null,null,null,null,null,null,null,null,null,null,null,null,null,null,null,null,"",null,{"$f":"IFERROR(IF(OR(LOWER(Tabla3[[#This Row],[SEXO]])=\"masculino\", LOWER(Tabla3[[#This Row],[SEXO]])=\"m\", LOWER(Tabla3[[#This Row],[SEXO]])=\"1\"), \"MASCULINO\",\n  IF(OR(LOWER(Tabla3[[#This Row],[SEXO]])=\"femenino\", LOWER(Tabla3[[#This Row],[SEXO]])=\"f\", LOWER(Tabla3[[#This Row],[SEXO]])=\"2\"), \"FEMENINO\",\n  \"\")), \"\")","v":""},0,null,null,null,0]
[{"$f":"IF(Tabla3[[#This Row],[APELLIDOS Y NOMBRES]]>0,ROW()-14,\"\")","v":""},{"$f":"IFERROR(IF(Tabla3[[#This Row],[APELLIDOS Y NOMBRES]]>0,VLOOKUP($H$7,DATA!$A$79:$B$160,2,FALSE),\"\"),\"\")","v":""},null,null,null,null,null,{"$f":"((NOW()-Tabla3[[#This Row],[FECHA DE NACIMIENTO]])/365)-0.5","v":124.79767625317098},null,null,null,null,null,null,null,null,null,null,null,null,null,null,null,null,null,null,null,null,null,null,null,null,null,null,null,null,null,null,null,null,null,null,null,null,null,"",null,{"$f":"IFERROR(IF(OR(LOWER(Tabla3[[#This Row],[SEXO]])=\"masculino\", LOWER(Tabla3[[#This Row],[SEXO]])=\"m\", LOWER(Tabla3[[#This Row],[SEXO]])=\"1\"), \"MASCULINO\",\n  IF(OR(LOWER(Tabla3[[#This Row],[SEXO]])=\"femenino\", LOWER(Tabla3[[#This Row],[SEXO]])=\"f\", LOWER(Tabla3[[#This Row],[SEXO]])=\"2\"), \"FEMENINO\",\n  \"\")), \"\")","v":""},0,null,null,null,0]
[{"$f":"IF(Tabla3[[#This Row],[APELLIDOS Y NOMBRES]]>0,ROW()-14,\"\")","v":""},{"$f":"IFERROR(IF(Tabla3[[#This Row],[APELLIDOS Y NOMBRES]]>0,VLOOKUP($H$7,DATA!$A$79:$B$160,2,FALSE),\"\"),\"\")","v":""},null,null,null,null,null,{"$f":"((NOW()-Tabla3[[#This Row],[FECHA DE NACIMIENTO]])/365)-0.5","v":124.79767625317098},null,null,null,null,null,null,null,null,null,null,null,null,null,null,null,null,null,null,null,null,null,null,null,null,null,null,null,null,null,null,null,null,null,null,null,null,null,"",null,{"$f":"IFERROR(IF(OR(LOWER(Tabla3[[#This Row],[SEXO]])=\"masculino\", LOWER(Tabla3[[#This Row],[SEXO]])=\"m\", LOWER(Tabla3[[#This Row],[SEXO]])=\"1\"), \"MASCULINO\",\n  IF(OR(LOWER(Tabla3[[#This Row],[SEXO]])=\"femenino\", LOWER(Tabla3[[#This Row],[SEXO]])=\"f\", LOWER(Tabla3[[#This Row],[SEXO]])=\"2\"), \"FEMENINO\",\n  \"\")), \"\")","v":""},0,null,null,null,0]
[{"$f":"IF(Tabla3[[#This Row],[APELLIDOS Y NOMBRES]]>0,ROW()-14,\"\")","v":""},{"$f":"IFERROR(IF(Tabla3[[#This Row],[APELLIDOS Y NOMBRES]]>0,VLOOKUP($H$7,DATA!$A$79:$B$160,2,FALSE),\"\"),\"\")","v":""},null,null,null,null,null,{"$f":"((NOW()-Tabla3[[#This Row],[FECHA DE NACIMIENTO]])/365)-0.5","v":124.79767625317098},null,null,null,null,null,null,null,null,null,null,null,null,null,null,null,null,null,null,null,null,null,null,null,null,null,null,null,null,null,null,null,null,null,null,null,null,null,"",null,{"$f":"IFERROR(IF(OR(LOWER(Tabla3[[#This Row],[SEXO]])=\"masculino\", LOWER(Tabla3[[#This Row],[SEXO]])=\"m\", LOWER(Tabla3[[#This Row],[SEXO]])=\"1\"), \"MASCULINO\",\n  IF(OR(LOWER(Tabla3[[#This Row],[SEXO]])=\"femenino\", LOWER(Tabla3[[#This Row],[SEXO]])=\"f\", LOWER(Tabla3[[#This Row],[SEXO]])=\"2\"), \"FEMENINO\",\n  \"\")), \"\")","v":""},0,null,null,null,0]
[{"$f":"IF(Tabla3[[#This Row],[APELLIDOS Y NOMBRES]]>0,ROW()-14,\"\")","v":""},{"$f":"IFERROR(IF(Tabla3[[#This Row],[APELLIDOS Y NOMBRES]]>0,VLOOKUP($H$7,DATA!$A$79:$B$160,2,FALSE),\"\"),\"\")","v":""},null,null,null,null,null,{"$f":"((NOW()-Tabla3[[#This Row],[FECHA DE NACIMIENTO]])/365)-0.5","v":124.79767625317098},null,null,null,null,null,null,null,null,null,null,null,null,null,null,null,null,null,null,null,null,null,null,null,null,null,null,null,null,null,null,null,null,null,null,null,null,null,"",null,{"$f":"IFERROR(IF(OR(LOWER(Tabla3[[#This Row],[SEXO]])=\"masculino\", LOWER(Tabla3[[#This Row],[SEXO]])=\"m\", LOWER(Tabla3[[#This Row],[SEXO]])=\"1\"), \"MASCULINO\",\n  IF(OR(LOWER(Tabla3[[#This Row],[SEXO]])=\"femenino\", LOWER(Tabla3[[#This Row],[SEXO]])=\"f\", LOWER(Tabla3[[#This Row],[SEXO]])=\"2\"), \"FEMENINO\",\n  \"\")), \"\")","v":""},0,null,null,null,0]
[{"$f":"IF(Tabla3[[#This Row],[APELLIDOS Y NOMBRES]]>0,ROW()-14,\"\")","v":""},{"$f":"IFERROR(IF(Tabla3[[#This Row],[APELLIDOS Y NOMBRES]]>0,VLOOKUP($H$7,DATA!$A$79:$B$160,2,FALSE),\"\"),\"\")","v":""},null,null,null,null,null,{"$f":"((NOW()-Tabla3[[#This Row],[FECHA DE NACIMIENTO]])/365)-0.5","v":124.79767625317098},null,null,null,null,null,null,null,null,null,null,null,null,null,null,null,null,null,null,null,null,null,null,null,null,null,null,null,null,null,null,null,null,null,null,null,null,null,"",null,{"$f":"IFERROR(IF(OR(LOWER(Tabla3[[#This Row],[SEXO]])=\"masculino\", LOWER(Tabla3[[#This Row],[SEXO]])=\"m\", LOWER(Tabla3[[#This Row],[SEXO]])=\"1\"), \"MASCULINO\",\n  IF(OR(LOWER(Tabla3[[#This Row],[SEXO]])=\"femenino\", LOWER(Tabla3[[#This Row],[SEXO]])=\"f\", LOWER(Tabla3[[#This Row],[SEXO]])=\"2\"), \"FEMENINO\",\n  \"\")), \"\")","v":""},0,null,null,null,0]
[{"$f":"IF(Tabla3[[#This Row],[APELLIDOS Y NOMBRES]]>0,ROW()-14,\"\")","v":""},{"$f":"IFERROR(IF(Tabla3[[#This Row],[APELLIDOS Y NOMBRES]]>0,VLOOKUP($H$7,DATA!$A$79:$B$160,2,FALSE),\"\"),\"\")","v":""},null,null,null,null,null,{"$f":"((NOW()-Tabla3[[#This Row],[FECHA DE NACIMIENTO]])/365)-0.5","v":124.79767625317098},null,null,null,null,null,null,null,null,null,null,null,null,null,null,null,null,null,null,null,null,null,null,null,null,null,null,null,null,null,null,null,null,null,null,null,null,null,"",null,{"$f":"IFERROR(IF(OR(LOWER(Tabla3[[#This Row],[SEXO]])=\"masculino\", LOWER(Tabla3[[#This Row],[SEXO]])=\"m\", LOWER(Tabla3[[#This Row],[SEXO]])=\"1\"), \"MASCULINO\",\n  IF(OR(LOWER(Tabla3[[#This Row],[SEXO]])=\"femenino\", LOWER(Tabla3[[#This Row],[SEXO]])=\"f\", LOWER(Tabla3[[#This Row],[SEXO]])=\"2\"), \"FEMENINO\",\n  \"\")), \"\")","v":""},0,null,null,null,0]
[{"$f":"IF(Tabla3[[#This Row],[APELLIDOS Y NOMBRES]]>0,ROW()-14,\"\")","v":""},{"$f":"IFERROR(IF(Tabla3[[#This Row],[APELLIDOS Y NOMBRES]]>0,VLOOKUP($H$7,DATA!$A$79:$B$160,2,FALSE),\"\"),\"\")","v":""},null,null,null,null,null,{"$f":"((NOW()-Tabla3[[#This Row],[FECHA DE NACIMIENTO]])/365)-0.5","v":124.79767625317098},null,null,null,null,null,null,null,null,null,null,null,null,null,null,null,null,null,null,null,null,null,null,null,null,null,null,null,null,null,null,null,null,null,null,null,null,null,"",null,{"$f":"IFERROR(IF(OR(LOWER(Tabla3[[#This Row],[SEXO]])=\"masculino\", LOWER(Tabla3[[#This Row],[SEXO]])=\"m\", LOWER(Tabla3[[#This Row],[SEXO]])=\"1\"), \"MASCULINO\",\n  IF(OR(LOWER(Tabla3[[#This Row],[SEXO]])=\"femenino\", LOWER(Tabla3[[#This Row],[SEXO]])=\"f\", LOWER(Tabla3[[#This Row],[SEXO]])=\"2\"), \"FEMENINO\",\n  \"\")), \"\")","v":""},0,null,null,null,0]
[{"$f":"IF(Tabla3[[#This Row],[APELLIDOS Y NOMBRES]]>0,ROW()-14,\"\")","v":""},{"$f":"IFERROR(IF(Tabla3[[#This Row],[APELLIDOS Y NOMBRES]]>0,VLOOKUP($H$7,DATA!$A$79:$B$160,2,FALSE),\"\"),\"\")","v":""},null,null,null,null,null,{"$f":"((NOW()-Tabla3[[#This Row],[FECHA DE NACIMIENTO]])/365)-0.5","v":124.79767625317098},null,null,null,null,null,null,null,null,null,null,null,null,null,null,null,null,null,null,null,null,null,null,null,null,null,null,null,null,null,null,null,null,null,null,null,null,null,"",null,{"$f":"IFERROR(IF(OR(LOWER(Tabla3[[#This Row],[SEXO]])=\"masculino\", LOWER(Tabla3[[#This Row],[SEXO]])=\"m\", LOWER(Tabla3[[#This Row],[SEXO]])=\"1\"), \"MASCULINO\",\n  IF(OR(LOWER(Tabla3[[#This Row],[SEXO]])=\"femenino\", LOWER(Tabla3[[#This Row],[SEXO]])=\"f\", LOWER(Tabla3[[#This Row],[SEXO]])=\"2\"), \"FEMENINO\",\n  \"\")), \"\")","v":""},0,null,null,null,0]
[{"$f":"IF(Tabla3[[#This Row],[APELLIDOS Y NOMBRES]]>0,ROW()-14,\"\")","v":""},{"$f":"IFERROR(IF(Tabla3[[#This Row],[APELLIDOS Y NOMBRES]]>0,VLOOKUP($H$7,DATA!$A$79:$B$160,2,FALSE),\"\"),\"\")","v":""},null,null,null,null,null,{"$f":"((NOW()-Tabla3[[#This Row],[FECHA DE NACIMIENTO]])/365)-0.5","v":124.79767625317098},null,null,null,null,null,null,null,null,null,null,null,null,null,null,null,null,null,null,null,null,null,null,null,null,null,null,null,null,null,null,null,null,null,null,null,null,null,"",null,{"$f":"IFERROR(IF(OR(LOWER(Tabla3[[#This Row],[SEXO]])=\"masculino\", LOWER(Tabla3[[#This Row],[SEXO]])=\"m\", LOWER(Tabla3[[#This Row],[SEXO]])=\"1\"), \"MASCULINO\",\n  IF(OR(LOWER(Tabla3[[#This Row],[SEXO]])=\"femenino\", LOWER(Tabla3[[#This Row],[SEXO]])=\"f\", LOWER(Tabla3[[#This Row],[SEXO]])=\"2\"), \"FEMENINO\",\n  \"\")), \"\")","v":""},0,null,null,null,0]
[{"$f":"IF(Tabla3[[#This Row],[APELLIDOS Y NOMBRES]]>0,ROW()-14,\"\")","v":""},{"$f":"IFERROR(IF(Tabla3[[#This Row],[APELLIDOS Y NOMBRES]]>0,VLOOKUP($H$7,DATA!$A$79:$B$160,2,FALSE),\"\"),\"\")","v":""},null,null,null,null,null,{"$f":"((NOW()-Tabla3[[#This Row],[FECHA DE NACIMIENTO]])/365)-0.5","v":124.79767625317098},null,null,null,null,null,null,null,null,null,null,null,null,null,null,null,null,null,null,null,null,null,null,null,null,null,null,null,null,null,null,null,null,null,null,null,null,null,"",null,{"$f":"IFERROR(IF(OR(LOWER(Tabla3[[#This Row],[SEXO]])=\"masculino\", LOWER(Tabla3[[#This Row],[SEXO]])=\"m\", LOWER(Tabla3[[#This Row],[SEXO]])=\"1\"), \"MASCULINO\",\n  IF(OR(LOWER(Tabla3[[#This Row],[SEXO]])=\"femenino\", LOWER(Tabla3[[#This Row],[SEXO]])=\"f\", LOWER(Tabla3[[#This Row],[SEXO]])=\"2\"), \"FEMENINO\",\n  \"\")), \"\")","v":""},0,null,null,null,0]
[{"$f":"IF(Tabla3[[#This Row],[APELLIDOS Y NOMBRES]]>0,ROW()-14,\"\")","v":""},{"$f":"IFERROR(IF(Tabla3[[#This Row],[APELLIDOS Y NOMBRES]]>0,VLOOKUP($H$7,DATA!$A$79:$B$160,2,FALSE),\"\"),\"\")","v":""},null,null,null,null,null,{"$f":"((NOW()-Tabla3[[#This Row],[FECHA DE NACIMIENTO]])/365)-0.5","v":124.79767625317098},null,null,null,null,null,null,null,null,null,null,null,null,null,null,null,null,null,null,null,null,null,null,null,null,null,null,null,null,null,null,null,null,null,null,null,null,null,"",null,{"$f":"IFERROR(IF(OR(LOWER(Tabla3[[#This Row],[SEXO]])=\"masculino\", LOWER(Tabla3[[#This Row],[SEXO]])=\"m\", LOWER(Tabla3[[#This Row],[SEXO]])=\"1\"), \"MASCULINO\",\n  IF(OR(LOWER(Tabla3[[#This Row],[SEXO]])=\"femenino\", LOWER(Tabla3[[#This Row],[SEXO]])=\"f\", LOWER(Tabla3[[#This Row],[SEXO]])=\"2\"), \"FEMENINO\",\n  \"\")), \"\")","v":""},0,null,null,null,0]
[{"$f":"IF(Tabla3[[#This Row],[APELLIDOS Y NOMBRES]]>0,ROW()-14,\"\")","v":""},{"$f":"IFERROR(IF(Tabla3[[#This Row],[APELLIDOS Y NOMBRES]]>0,VLOOKUP($H$7,DATA!$A$79:$B$160,2,FALSE),\"\"),\"\")","v":""},null,null,null,null,null,{"$f":"((NOW()-Tabla3[[#This Row],[FECHA DE NACIMIENTO]])/365)-0.5","v":124.79767625317098},null,null,null,null,null,null,null,null,null,null,null,null,null,null,null,null,null,null,null,null,null,null,null,null,null,null,null,null,null,null,null,null,null,null,null,null,null,"",null,{"$f":"IFERROR(IF(OR(LOWER(Tabla3[[#This Row],[SEXO]])=\"masculino\", LOWER(Tabla3[[#This Row],[SEXO]])=\"m\", LOWER(Tabla3[[#This Row],[SEXO]])=\"1\"), \"MASCULINO\",\n  IF(OR(LOWER(Tabla3[[#This Row],[SEXO]])=\"femenino\", LOWER(Tabla3[[#This Row],[SEXO]])=\"f\", LOWER(Tabla3[[#This Row],[SEXO]])=\"2\"), \"FEMENINO\",\n  \"\")), \"\")","v":""},0,null,null,null,0]
[{"$f":"IF(Tabla3[[#This Row],[APELLIDOS Y NOMBRES]]>0,ROW()-14,\"\")","v":""},{"$f":"IFERROR(IF(Tabla3[[#This Row],[APELLIDOS Y NOMBRES]]>0,VLOOKUP($H$7,DATA!$A$79:$B$160,2,FALSE),\"\"),\"\")","v":""},null,null,null,null,null,{"$f":"((NOW()-Tabla3[[#This Row],[FECHA DE NACIMIENTO]])/365)-0.5","v":124.79767625317098},null,null,null,null,null,null,null,null,null,null,null,null,null,null,null,null,null,null,null,null,null,null,null,null,null,null,null,null,null,null,null,null,null,null,null,null,null,"",null,{"$f":"IFERROR(IF(OR(LOWER(Tabla3[[#This Row],[SEXO]])=\"masculino\", LOWER(Tabla3[[#This Row],[SEXO]])=\"m\", LOWER(Tabla3[[#This Row],[SEXO]])=\"1\"), \"MASCULINO\",\n  IF(OR(LOWER(Tabla3[[#This Row],[SEXO]])=\"femenino\", LOWER(Tabla3[[#This Row],[SEXO]])=\"f\", LOWER(Tabla3[[#This Row],[SEXO]])=\"2\"), \"FEMENINO\",\n  \"\")), \"\")","v":""},0,null,null,null,0]
[{"$f":"IF(Tabla3[[#This Row],[APELLIDOS Y NOMBRES]]>0,ROW()-14,\"\")","v":""},{"$f":"IFERROR(IF(Tabla3[[#This Row],[APELLIDOS Y NOMBRES]]>0,VLOOKUP($H$7,DATA!$A$79:$B$160,2,FALSE),\"\"),\"\")","v":""},null,null,null,null,null,{"$f":"((NOW()-Tabla3[[#This Row],[FECHA DE NACIMIENTO]])/365)-0.5","v":124.79767625317098},null,null,null,null,null,null,null,null,null,null,null,null,null,null,null,null,null,null,null,null,null,null,null,null,null,null,null,null,null,null,null,null,null,null,null,null,null,"",null,{"$f":"IFERROR(IF(OR(LOWER(Tabla3[[#This Row],[SEXO]])=\"masculino\", LOWER(Tabla3[[#This Row],[SEXO]])=\"m\", LOWER(Tabla3[[#This Row],[SEXO]])=\"1\"), \"MASCULINO\",\n  IF(OR(LOWER(Tabla3[[#This Row],[SEXO]])=\"femenino\", LOWER(Tabla3[[#This Row],[SEXO]])=\"f\", LOWER(Tabla3[[#This Row],[SEXO]])=\"2\"), \"FEMENINO\",\n  \"\")), \"\")","v":""},0,null,null,null,0]
[{"$f":"IF(Tabla3[[#This Row],[APELLIDOS Y NOMBRES]]>0,ROW()-14,\"\")","v":""},{"$f":"IFERROR(IF(Tabla3[[#This Row],[APELLIDOS Y NOMBRES]]>0,VLOOKUP($H$7,DATA!$A$79:$B$160,2,FALSE),\"\"),\"\")","v":""},null,null,null,null,null,{"$f":"((NOW()-Tabla3[[#This Row],[FECHA DE NACIMIENTO]])/365)-0.5","v":124.79767625317098},null,null,null,null,null,null,null,null,null,null,null,null,null,null,null,null,null,null,null,null,null,null,null,null,null,null,null,null,null,null,null,null,null,null,null,null,null,"",null,{"$f":"IFERROR(IF(OR(LOWER(Tabla3[[#This Row],[SEXO]])=\"masculino\", LOWER(Tabla3[[#This Row],[SEXO]])=\"m\", LOWER(Tabla3[[#This Row],[SEXO]])=\"1\"), \"MASCULINO\",\n  IF(OR(LOWER(Tabla3[[#This Row],[SEXO]])=\"femenino\", LOWER(Tabla3[[#This Row],[SEXO]])=\"f\", LOWER(Tabla3[[#This Row],[SEXO]])=\"2\"), \"FEMENINO\",\n  \"\")), \"\")","v":""},0,null,null,null,0]
[{"$f":"IF(Tabla3[[#This Row],[APELLIDOS Y NOMBRES]]>0,ROW()-14,\"\")","v":""},{"$f":"IFERROR(IF(Tabla3[[#This Row],[APELLIDOS Y NOMBRES]]>0,VLOOKUP($H$7,DATA!$A$79:$B$160,2,FALSE),\"\"),\"\")","v":""},null,null,null,null,null,{"$f":"((NOW()-Tabla3[[#This Row],[FECHA DE NACIMIENTO]])/365)-0.5","v":124.79767625317098},null,null,null,null,null,null,null,null,null,null,null,null,null,null,null,null,null,null,null,null,null,null,null,null,null,null,null,null,null,null,null,null,null,null,null,null,null,"",null,{"$f":"IFERROR(IF(OR(LOWER(Tabla3[[#This Row],[SEXO]])=\"masculino\", LOWER(Tabla3[[#This Row],[SEXO]])=\"m\", LOWER(Tabla3[[#This Row],[SEXO]])=\"1\"), \"MASCULINO\",\n  IF(OR(LOWER(Tabla3[[#This Row],[SEXO]])=\"femenino\", LOWER(Tabla3[[#This Row],[SEXO]])=\"f\", LOWER(Tabla3[[#This Row],[SEXO]])=\"2\"), \"FEMENINO\",\n  \"\")), \"\")","v":""},0,null,null,null,0]
[{"$f":"IF(Tabla3[[#This Row],[APELLIDOS Y NOMBRES]]>0,ROW()-14,\"\")","v":""},{"$f":"IFERROR(IF(Tabla3[[#This Row],[APELLIDOS Y NOMBRES]]>0,VLOOKUP($H$7,DATA!$A$79:$B$160,2,FALSE),\"\"),\"\")","v":""},null,null,null,null,null,{"$f":"((NOW()-Tabla3[[#This Row],[FECHA DE NACIMIENTO]])/365)-0.5","v":124.79767625317098},null,null,null,null,null,null,null,null,null,null,null,null,null,null,null,null,null,null,null,null,null,null,null,null,null,null,null,null,null,null,null,null,null,null,null,null,null,"",null,{"$f":"IFERROR(IF(OR(LOWER(Tabla3[[#This Row],[SEXO]])=\"masculino\", LOWER(Tabla3[[#This Row],[SEXO]])=\"m\", LOWER(Tabla3[[#This Row],[SEXO]])=\"1\"), \"MASCULINO\",\n  IF(OR(LOWER(Tabla3[[#This Row],[SEXO]])=\"femenino\", LOWER(Tabla3[[#This Row],[SEXO]])=\"f\", LOWER(Tabla3[[#This Row],[SEXO]])=\"2\"), \"FEMENINO\",\n  \"\")), \"\")","v":""},0,null,null,null,0]
[{"$f":"IF(Tabla3[[#This Row],[APELLIDOS Y NOMBRES]]>0,ROW()-14,\"\")","v":""},{"$f":"IFERROR(IF(Tabla3[[#This Row],[APELLIDOS Y NOMBRES]]>0,VLOOKUP($H$7,DATA!$A$79:$B$160,2,FALSE),\"\"),\"\")","v":""},null,null,null,null,null,{"$f":"((NOW()-Tabla3[[#This Row],[FECHA DE NACIMIENTO]])/365)-0.5","v":124.79767625317098},null,null,null,null,null,null,null,null,null,null,null,null,null,null,null,null,null,null,null,null,null,null,null,null,null,null,null,null,null,null,null,null,null,null,null,null,null,"",null,{"$f":"IFERROR(IF(OR(LOWER(Tabla3[[#This Row],[SEXO]])=\"masculino\", LOWER(Tabla3[[#This Row],[SEXO]])=\"m\", LOWER(Tabla3[[#This Row],[SEXO]])=\"1\"), \"MASCULINO\",\n  IF(OR(LOWER(Tabla3[[#This Row],[SEXO]])=\"femenino\", LOWER(Tabla3[[#This Row],[SEXO]])=\"f\", LOWER(Tabla3[[#This Row],[SEXO]])=\"2\"), \"FEMENINO\",\n  \"\")), \"\")","v":""},0,null,null,null,0]
[{"$f":"IF(Tabla3[[#This Row],[APELLIDOS Y NOMBRES]]>0,ROW()-14,\"\")","v":""},{"$f":"IFERROR(IF(Tabla3[[#This Row],[APELLIDOS Y NOMBRES]]>0,VLOOKUP($H$7,DATA!$A$79:$B$160,2,FALSE),\"\"),\"\")","v":""},null,null,null,null,null,{"$f":"((NOW()-Tabla3[[#This Row],[FECHA DE NACIMIENTO]])/365)-0.5","v":124.79767625317098},null,null,null,null,null,null,null,null,null,null,null,null,null,null,null,null,null,null,null,null,null,null,null,null,null,null,null,null,null,null,null,null,null,null,null,null,null,"",null,{"$f":"IFERROR(IF(OR(LOWER(Tabla3[[#This Row],[SEXO]])=\"masculino\", LOWER(Tabla3[[#This Row],[SEXO]])=\"m\", LOWER(Tabla3[[#This Row],[SEXO]])=\"1\"), \"MASCULINO\",\n  IF(OR(LOWER(Tabla3[[#This Row],[SEXO]])=\"femenino\", LOWER(Tabla3[[#This Row],[SEXO]])=\"f\", LOWER(Tabla3[[#This Row],[SEXO]])=\"2\"), \"FEMENINO\",\n  \"\")), \"\")","v":""},0,null,null,null,0]
[{"$f":"IF(Tabla3[[#This Row],[APELLIDOS Y NOMBRES]]>0,ROW()-14,\"\")","v":""},{"$f":"IFERROR(IF(Tabla3[[#This Row],[APELLIDOS Y NOMBRES]]>0,VLOOKUP($H$7,DATA!$A$79:$B$160,2,FALSE),\"\"),\"\")","v":""},null,null,null,null,null,{"$f":"((NOW()-Tabla3[[#This Row],[FECHA DE NACIMIENTO]])/365)-0.5","v":124.79767625317098},null,null,null,null,null,null,null,null,null,null,null,null,null,null,null,null,null,null,null,null,null,null,null,null,null,null,null,null,null,null,null,null,null,null,null,null,null,"",null,{"$f":"IFERROR(IF(OR(LOWER(Tabla3[[#This Row],[SEXO]])=\"masculino\", LOWER(Tabla3[[#This Row],[SEXO]])=\"m\", LOWER(Tabla3[[#This Row],[SEXO]])=\"1\"), \"MASCULINO\",\n  IF(OR(LOWER(Tabla3[[#This Row],[SEXO]])=\"femenino\", LOWER(Tabla3[[#This Row],[SEXO]])=\"f\", LOWER(Tabla3[[#This Row],[SEXO]])=\"2\"), \"FEMENINO\",\n  \"\")), \"\")","v":""},0,null,null,null,0]
[{"$f":"IF(Tabla3[[#This Row],[APELLIDOS Y NOMBRES]]>0,ROW()-14,\"\")","v":""},{"$f":"IFERROR(IF(Tabla3[[#This Row],[APELLIDOS Y NOMBRES]]>0,VLOOKUP($H$7,DATA!$A$79:$B$160,2,FALSE),\"\"),\"\")","v":""},null,null,null,null,null,{"$f":"((NOW()-Tabla3[[#This Row],[FECHA DE NACIMIENTO]])/365)-0.5","v":124.79767625317098},null,null,null,null,null,null,null,null,null,null,null,null,null,null,null,null,null,null,null,null,null,null,null,null,null,null,null,null,null,null,null,null,null,null,null,null,null,"",null,{"$f":"IFERROR(IF(OR(LOWER(Tabla3[[#This Row],[SEXO]])=\"masculino\", LOWER(Tabla3[[#This Row],[SEXO]])=\"m\", LOWER(Tabla3[[#This Row],[SEXO]])=\"1\"), \"MASCULINO\",\n  IF(OR(LOWER(Tabla3[[#This Row],[SEXO]])=\"femenino\", LOWER(Tabla3[[#This Row],[SEXO]])=\"f\", LOWER(Tabla3[[#This Row],[SEXO]])=\"2\"), \"FEMENINO\",\n  \"\")), \"\")","v":""},0,null,null,null,0]
[{"$f":"IF(Tabla3[[#This Row],[APELLIDOS Y NOMBRES]]>0,ROW()-14,\"\")","v":""},{"$f":"IFERROR(IF(Tabla3[[#This Row],[APELLIDOS Y NOMBRES]]>0,VLOOKUP($H$7,DATA!$A$79:$B$160,2,FALSE),\"\"),\"\")","v":""},null,null,null,null,null,{"$f":"((NOW()-Tabla3[[#This Row],[FECHA DE NACIMIENTO]])/365)-0.5","v":124.79767625317098},null,null,null,null,null,null,null,null,null,null,null,null,null,null,null,null,null,null,null,null,null,null,null,null,null,null,null,null,null,null,null,null,null,null,null,null,null,"",null,{"$f":"IFERROR(IF(OR(LOWER(Tabla3[[#This Row],[SEXO]])=\"masculino\", LOWER(Tabla3[[#This Row],[SEXO]])=\"m\", LOWER(Tabla3[[#This Row],[SEXO]])=\"1\"), \"MASCULINO\",\n  IF(OR(LOWER(Tabla3[[#This Row],[SEXO]])=\"femenino\", LOWER(Tabla3[[#This Row],[SEXO]])=\"f\", LOWER(Tabla3[[#This Row],[SEXO]])=\"2\"), \"FEMENINO\",\n  \"\")), \"\")","v":""},0,null,null,null,0]
[{"$f":"IF(Tabla3[[#This Row],[APELLIDOS Y NOMBRES]]>0,ROW()-14,\"\")","v":""},{"$f":"IFERROR(IF(Tabla3[[#This Row],[APELLIDOS Y NOMBRES]]>0,VLOOKUP($H$7,DATA!$A$79:$B$160,2,FALSE),\"\"),\"\")","v":""},null,null,null,null,null,{"$f":"((NOW()-Tabla3[[#This Row],[FECHA DE NACIMIENTO]])/365)-0.5","v":124.79767625317098},null,null,null,null,null,null,null,null,null,null,null,null,null,null,null,null,null,null,null,null,null,null,null,null,null,null,null,null,null,null,null,null,null,null,null,null,null,"",null,{"$f":"IFERROR(IF(OR(LOWER(Tabla3[[#This Row],[SEXO]])=\"masculino\", LOWER(Tabla3[[#This Row],[SEXO]])=\"m\", LOWER(Tabla3[[#This Row],[SEXO]])=\"1\"), \"MASCULINO\",\n  IF(OR(LOWER(Tabla3[[#This Row],[SEXO]])=\"femenino\", LOWER(Tabla3[[#This Row],[SEXO]])=\"f\", LOWER(Tabla3[[#This Row],[SEXO]])=\"2\"), \"FEMENINO\",\n  \"\")), \"\")","v":""},0,null,null,null,0]
[{"$f":"IF(Tabla3[[#This Row],[APELLIDOS Y NOMBRES]]>0,ROW()-14,\"\")","v":""},{"$f":"IFERROR(IF(Tabla3[[#This Row],[APELLIDOS Y NOMBRES]]>0,VLOOKUP($H$7,DATA!$A$79:$B$160,2,FALSE),\"\"),\"\")","v":""},null,null,null,null,null,{"$f":"((NOW()-Tabla3[[#This Row],[FECHA DE NACIMIENTO]])/365)-0.5","v":124.79767625317098},null,null,null,null,null,null,null,null,null,null,null,null,null,null,null,null,null,null,null,null,null,null,null,null,null,null,null,null,null,null,null,null,null,null,null,null,null,"",null,{"$f":"IFERROR(IF(OR(LOWER(Tabla3[[#This Row],[SEXO]])=\"masculino\", LOWER(Tabla3[[#This Row],[SEXO]])=\"m\", LOWER(Tabla3[[#This Row],[SEXO]])=\"1\"), \"MASCULINO\",\n  IF(OR(LOWER(Tabla3[[#This Row],[SEXO]])=\"femenino\", LOWER(Tabla3[[#This Row],[SEXO]])=\"f\", LOWER(Tabla3[[#This Row],[SEXO]])=\"2\"), \"FEMENINO\",\n  \"\")), \"\")","v":""},0,null,null,null,0]
[{"$f":"IF(Tabla3[[#This Row],[APELLIDOS Y NOMBRES]]>0,ROW()-14,\"\")","v":""},{"$f":"IFERROR(IF(Tabla3[[#This Row],[APELLIDOS Y NOMBRES]]>0,VLOOKUP($H$7,DATA!$A$79:$B$160,2,FALSE),\"\"),\"\")","v":""},null,null,null,null,null,{"$f":"((NOW()-Tabla3[[#This Row],[FECHA DE NACIMIENTO]])/365)-0.5","v":124.79767625317098},null,null,null,null,null,null,null,null,null,null,null,null,null,null,null,null,null,null,null,null,null,null,null,null,null,null,null,null,null,null,null,null,null,null,null,null,null,{"$f":"IF(OR($C$5=\"\", $D464=\"\"), \"\", $C$5)","v":""},null,{"$f":"IFERROR(IF(OR(LOWER(Tabla3[[#This Row],[SEXO]])=\"masculino\", LOWER(Tabla3[[#This Row],[SEXO]])=\"m\", LOWER(Tabla3[[#This Row],[SEXO]])=\"1\"), \"MASCULINO\",\n  IF(OR(LOWER(Tabla3[[#This Row],[SEXO]])=\"femenino\", LOWER(Tabla3[[#This Row],[SEXO]])=\"f\", LOWER(Tabla3[[#This Row],[SEXO]])=\"2\"), \"FEMENINO\",\n  \"\")), \"\")","v":""},{"$f":"COUNTIF(P464:AH464,104)","v":0},null,null,null,{"$f":"IF(COUNTIF(P464:AI464,104)>0,1,0)","v":0}]
[{"$f":"IF(Tabla3[[#This Row],[APELLIDOS Y NOMBRES]]>0,ROW()-14,\"\")","v":""},{"$f":"IFERROR(IF(Tabla3[[#This Row],[APELLIDOS Y NOMBRES]]>0,VLOOKUP($H$7,DATA!$A$79:$B$160,2,FALSE),\"\"),\"\")","v":""},null,null,null,null,null,{"$f":"((NOW()-Tabla3[[#This Row],[FECHA DE NACIMIENTO]])/365)-0.5","v":124.79767625317098},null,null,null,null,null,null,null,null,null,null,null,null,null,null,null,null,null,null,null,null,null,null,null,null,null,null,null,null,null,null,null,null,null,null,null,null,null,"",null,{"$f":"IFERROR(IF(OR(LOWER(Tabla3[[#This Row],[SEXO]])=\"masculino\", LOWER(Tabla3[[#This Row],[SEXO]])=\"m\", LOWER(Tabla3[[#This Row],[SEXO]])=\"1\"), \"MASCULINO\",\n  IF(OR(LOWER(Tabla3[[#This Row],[SEXO]])=\"femenino\", LOWER(Tabla3[[#This Row],[SEXO]])=\"f\", LOWER(Tabla3[[#This Row],[SEXO]])=\"2\"), \"FEMENINO\",\n  \"\")), \"\")","v":""},0,null,null,null,0]
[{"$f":"IF(Tabla3[[#This Row],[APELLIDOS Y NOMBRES]]>0,ROW()-14,\"\")","v":""},{"$f":"IFERROR(IF(Tabla3[[#This Row],[APELLIDOS Y NOMBRES]]>0,VLOOKUP($H$7,DATA!$A$79:$B$160,2,FALSE),\"\"),\"\")","v":""},null,null,null,null,null,{"$f":"((NOW()-Tabla3[[#This Row],[FECHA DE NACIMIENTO]])/365)-0.5","v":124.79767625317098},null,null,null,null,null,null,null,null,null,null,null,null,null,null,null,null,null,null,null,null,null,null,null,null,null,null,null,null,null,null,null,null,null,null,null,null,null,"",null,{"$f":"IFERROR(IF(OR(LOWER(Tabla3[[#This Row],[SEXO]])=\"masculino\", LOWER(Tabla3[[#This Row],[SEXO]])=\"m\", LOWER(Tabla3[[#This Row],[SEXO]])=\"1\"), \"MASCULINO\",\n  IF(OR(LOWER(Tabla3[[#This Row],[SEXO]])=\"femenino\", LOWER(Tabla3[[#This Row],[SEXO]])=\"f\", LOWER(Tabla3[[#This Row],[SEXO]])=\"2\"), \"FEMENINO\",\n  \"\")), \"\")","v":""},0,null,null,null,0]
[{"$f":"IF(Tabla3[[#This Row],[APELLIDOS Y NOMBRES]]>0,ROW()-14,\"\")","v":""},{"$f":"IFERROR(IF(Tabla3[[#This Row],[APELLIDOS Y NOMBRES]]>0,VLOOKUP($H$7,DATA!$A$79:$B$160,2,FALSE),\"\"),\"\")","v":""},null,null,null,null,null,{"$f":"((NOW()-Tabla3[[#This Row],[FECHA DE NACIMIENTO]])/365)-0.5","v":124.79767625317098},null,null,null,null,null,null,null,null,null,null,null,null,null,null,null,null,null,null,null,null,null,null,null,null,null,null,null,null,null,null,null,null,null,null,null,null,null,"",null,{"$f":"IFERROR(IF(OR(LOWER(Tabla3[[#This Row],[SEXO]])=\"masculino\", LOWER(Tabla3[[#This Row],[SEXO]])=\"m\", LOWER(Tabla3[[#This Row],[SEXO]])=\"1\"), \"MASCULINO\",\n  IF(OR(LOWER(Tabla3[[#This Row],[SEXO]])=\"femenino\", LOWER(Tabla3[[#This Row],[SEXO]])=\"f\", LOWER(Tabla3[[#This Row],[SEXO]])=\"2\"), \"FEMENINO\",\n  \"\")), \"\")","v":""},0,null,null,null,0]
[{"$f":"IF(Tabla3[[#This Row],[APELLIDOS Y NOMBRES]]>0,ROW()-14,\"\")","v":""},{"$f":"IFERROR(IF(Tabla3[[#This Row],[APELLIDOS Y NOMBRES]]>0,VLOOKUP($H$7,DATA!$A$79:$B$160,2,FALSE),\"\"),\"\")","v":""},null,null,null,null,null,{"$f":"((NOW()-Tabla3[[#This Row],[FECHA DE NACIMIENTO]])/365)-0.5","v":124.79767625317098},null,null,null,null,null,null,null,null,null,null,null,null,null,null,null,null,null,null,null,null,null,null,null,null,null,null,null,null,null,null,null,null,null,null,null,null,null,"",null,{"$f":"IFERROR(IF(OR(LOWER(Tabla3[[#This Row],[SEXO]])=\"masculino\", LOWER(Tabla3[[#This Row],[SEXO]])=\"m\", LOWER(Tabla3[[#This Row],[SEXO]])=\"1\"), \"MASCULINO\",\n  IF(OR(LOWER(Tabla3[[#This Row],[SEXO]])=\"femenino\", LOWER(Tabla3[[#This Row],[SEXO]])=\"f\", LOWER(Tabla3[[#This Row],[SEXO]])=\"2\"), \"FEMENINO\",\n  \"\")), \"\")","v":""},0,null,null,null,0]
[{"$f":"IF(Tabla3[[#This Row],[APELLIDOS Y NOMBRES]]>0,ROW()-14,\"\")","v":""},{"$f":"IFERROR(IF(Tabla3[[#This Row],[APELLIDOS Y NOMBRES]]>0,VLOOKUP($H$7,DATA!$A$79:$B$160,2,FALSE),\"\"),\"\")","v":""},null,null,null,null,null,{"$f":"((NOW()-Tabla3[[#This Row],[FECHA DE NACIMIENTO]])/365)-0.5","v":124.79767625317098},null,null,null,null,null,null,null,null,null,null,null,null,null,null,null,null,null,null,null,null,null,null,null,null,null,null,null,null,null,null,null,null,null,null,null,null,null,"",null,{"$f":"IFERROR(IF(OR(LOWER(Tabla3[[#This Row],[SEXO]])=\"masculino\", LOWER(Tabla3[[#This Row],[SEXO]])=\"m\", LOWER(Tabla3[[#This Row],[SEXO]])=\"1\"), \"MASCULINO\",\n  IF(OR(LOWER(Tabla3[[#This Row],[SEXO]])=\"femenino\", LOWER(Tabla3[[#This Row],[SEXO]])=\"f\", LOWER(Tabla3[[#This Row],[SEXO]])=\"2\"), \"FEMENINO\",\n  \"\")), \"\")","v":""},0,null,null,null,0]
[{"$f":"IF(Tabla3[[#This Row],[APELLIDOS Y NOMBRES]]>0,ROW()-14,\"\")","v":""},{"$f":"IFERROR(IF(Tabla3[[#This Row],[APELLIDOS Y NOMBRES]]>0,VLOOKUP($H$7,DATA!$A$79:$B$160,2,FALSE),\"\"),\"\")","v":""},null,null,null,null,null,{"$f":"((NOW()-Tabla3[[#This Row],[FECHA DE NACIMIENTO]])/365)-0.5","v":124.79767625317098},null,null,null,null,null,null,null,null,null,null,null,null,null,null,null,null,null,null,null,null,null,null,null,null,null,null,null,null,null,null,null,null,null,null,null,null,null,"",null,{"$f":"IFERROR(IF(OR(LOWER(Tabla3[[#This Row],[SEXO]])=\"masculino\", LOWER(Tabla3[[#This Row],[SEXO]])=\"m\", LOWER(Tabla3[[#This Row],[SEXO]])=\"1\"), \"MASCULINO\",\n  IF(OR(LOWER(Tabla3[[#This Row],[SEXO]])=\"femenino\", LOWER(Tabla3[[#This Row],[SEXO]])=\"f\", LOWER(Tabla3[[#This Row],[SEXO]])=\"2\"), \"FEMENINO\",\n  \"\")), \"\")","v":""},0,null,null,null,0]
[{"$f":"IF(Tabla3[[#This Row],[APELLIDOS Y NOMBRES]]>0,ROW()-14,\"\")","v":""},{"$f":"IFERROR(IF(Tabla3[[#This Row],[APELLIDOS Y NOMBRES]]>0,VLOOKUP($H$7,DATA!$A$79:$B$160,2,FALSE),\"\"),\"\")","v":""},null,null,null,null,null,{"$f":"((NOW()-Tabla3[[#This Row],[FECHA DE NACIMIENTO]])/365)-0.5","v":124.79767625317098},null,null,null,null,null,null,null,null,null,null,null,null,null,null,null,null,null,null,null,null,null,null,null,null,null,null,null,null,null,null,null,null,null,null,null,null,null,"",null,{"$f":"IFERROR(IF(OR(LOWER(Tabla3[[#This Row],[SEXO]])=\"masculino\", LOWER(Tabla3[[#This Row],[SEXO]])=\"m\", LOWER(Tabla3[[#This Row],[SEXO]])=\"1\"), \"MASCULINO\",\n  IF(OR(LOWER(Tabla3[[#This Row],[SEXO]])=\"femenino\", LOWER(Tabla3[[#This Row],[SEXO]])=\"f\", LOWER(Tabla3[[#This Row],[SEXO]])=\"2\"), \"FEMENINO\",\n  \"\")), \"\")","v":""},0,null,null,null,0]
[{"$f":"IF(Tabla3[[#This Row],[APELLIDOS Y NOMBRES]]>0,ROW()-14,\"\")","v":""},{"$f":"IFERROR(IF(Tabla3[[#This Row],[APELLIDOS Y NOMBRES]]>0,VLOOKUP($H$7,DATA!$A$79:$B$160,2,FALSE),\"\"),\"\")","v":""},null,null,null,null,null,{"$f":"((NOW()-Tabla3[[#This Row],[FECHA DE NACIMIENTO]])/365)-0.5","v":124.79767625317098},null,null,null,null,null,null,null,null,null,null,null,null,null,null,null,null,null,null,null,null,null,null,null,null,null,null,null,null,null,null,null,null,null,null,null,null,null,"",null,{"$f":"IFERROR(IF(OR(LOWER(Tabla3[[#This Row],[SEXO]])=\"masculino\", LOWER(Tabla3[[#This Row],[SEXO]])=\"m\", LOWER(Tabla3[[#This Row],[SEXO]])=\"1\"), \"MASCULINO\",\n  IF(OR(LOWER(Tabla3[[#This Row],[SEXO]])=\"femenino\", LOWER(Tabla3[[#This Row],[SEXO]])=\"f\", LOWER(Tabla3[[#This Row],[SEXO]])=\"2\"), \"FEMENINO\",\n  \"\")), \"\")","v":""},0,null,null,null,0]
[{"$f":"IF(Tabla3[[#This Row],[APELLIDOS Y NOMBRES]]>0,ROW()-14,\"\")","v":""},{"$f":"IFERROR(IF(Tabla3[[#This Row],[APELLIDOS Y NOMBRES]]>0,VLOOKUP($H$7,DATA!$A$79:$B$160,2,FALSE),\"\"),\"\")","v":""},null,null,null,null,null,{"$f":"((NOW()-Tabla3[[#This Row],[FECHA DE NACIMIENTO]])/365)-0.5","v":124.79767625317098},null,null,null,null,null,null,null,null,null,null,null,null,null,null,null,null,null,null,null,null,null,null,null,null,null,null,null,null,null,null,null,null,null,null,null,null,null,"",null,{"$f":"IFERROR(IF(OR(LOWER(Tabla3[[#This Row],[SEXO]])=\"masculino\", LOWER(Tabla3[[#This Row],[SEXO]])=\"m\", LOWER(Tabla3[[#This Row],[SEXO]])=\"1\"), \"MASCULINO\",\n  IF(OR(LOWER(Tabla3[[#This Row],[SEXO]])=\"femenino\", LOWER(Tabla3[[#This Row],[SEXO]])=\"f\", LOWER(Tabla3[[#This Row],[SEXO]])=\"2\"), \"FEMENINO\",\n  \"\")), \"\")","v":""},0,null,null,null,0]
[{"$f":"IF(Tabla3[[#This Row],[APELLIDOS Y NOMBRES]]>0,ROW()-14,\"\")","v":""},{"$f":"IFERROR(IF(Tabla3[[#This Row],[APELLIDOS Y NOMBRES]]>0,VLOOKUP($H$7,DATA!$A$79:$B$160,2,FALSE),\"\"),\"\")","v":""},null,null,null,null,null,{"$f":"((NOW()-Tabla3[[#This Row],[FECHA DE NACIMIENTO]])/365)-0.5","v":124.79767625317098},null,null,null,null,null,null,null,null,null,null,null,null,null,null,null,null,null,null,null,null,null,null,null,null,null,null,null,null,null,null,null,null,null,null,null,null,null,"",null,{"$f":"IFERROR(IF(OR(LOWER(Tabla3[[#This Row],[SEXO]])=\"masculino\", LOWER(Tabla3[[#This Row],[SEXO]])=\"m\", LOWER(Tabla3[[#This Row],[SEXO]])=\"1\"), \"MASCULINO\",\n  IF(OR(LOWER(Tabla3[[#This Row],[SEXO]])=\"femenino\", LOWER(Tabla3[[#This Row],[SEXO]])=\"f\", LOWER(Tabla3[[#This Row],[SEXO]])=\"2\"), \"FEMENINO\",\n  \"\")), \"\")","v":""},0,null,null,null,0]
[{"$f":"IF(Tabla3[[#This Row],[APELLIDOS Y NOMBRES]]>0,ROW()-14,\"\")","v":""},{"$f":"IFERROR(IF(Tabla3[[#This Row],[APELLIDOS Y NOMBRES]]>0,VLOOKUP($H$7,DATA!$A$79:$B$160,2,FALSE),\"\"),\"\")","v":""},null,null,null,null,null,{"$f":"((NOW()-Tabla3[[#This Row],[FECHA DE NACIMIENTO]])/365)-0.5","v":124.79767625317098},null,null,null,null,null,null,null,null,null,null,null,null,null,null,null,null,null,null,null,null,null,null,null,null,null,null,null,null,null,null,null,null,null,null,null,null,null,"",null,{"$f":"IFERROR(IF(OR(LOWER(Tabla3[[#This Row],[SEXO]])=\"masculino\", LOWER(Tabla3[[#This Row],[SEXO]])=\"m\", LOWER(Tabla3[[#This Row],[SEXO]])=\"1\"), \"MASCULINO\",\n  IF(OR(LOWER(Tabla3[[#This Row],[SEXO]])=\"femenino\", LOWER(Tabla3[[#This Row],[SEXO]])=\"f\", LOWER(Tabla3[[#This Row],[SEXO]])=\"2\"), \"FEMENINO\",\n  \"\")), \"\")","v":""},0,null,null,null,0]
[{"$f":"IF(Tabla3[[#This Row],[APELLIDOS Y NOMBRES]]>0,ROW()-14,\"\")","v":""},{"$f":"IFERROR(IF(Tabla3[[#This Row],[APELLIDOS Y NOMBRES]]>0,VLOOKUP($H$7,DATA!$A$79:$B$160,2,FALSE),\"\"),\"\")","v":""},null,null,null,null,null,{"$f":"((NOW()-Tabla3[[#This Row],[FECHA DE NACIMIENTO]])/365)-0.5","v":124.79767625317098},null,null,null,null,null,null,null,null,null,null,null,null,null,null,null,null,null,null,null,null,null,null,null,null,null,null,null,null,null,null,null,null,null,null,null,null,null,"",null,{"$f":"IFERROR(IF(OR(LOWER(Tabla3[[#This Row],[SEXO]])=\"masculino\", LOWER(Tabla3[[#This Row],[SEXO]])=\"m\", LOWER(Tabla3[[#This Row],[SEXO]])=\"1\"), \"MASCULINO\",\n  IF(OR(LOWER(Tabla3[[#This Row],[SEXO]])=\"femenino\", LOWER(Tabla3[[#This Row],[SEXO]])=\"f\", LOWER(Tabla3[[#This Row],[SEXO]])=\"2\"), \"FEMENINO\",\n  \"\")), \"\")","v":""},0,null,null,null,0]
[{"$f":"IF(Tabla3[[#This Row],[APELLIDOS Y NOMBRES]]>0,ROW()-14,\"\")","v":""},{"$f":"IFERROR(IF(Tabla3[[#This Row],[APELLIDOS Y NOMBRES]]>0,VLOOKUP($H$7,DATA!$A$79:$B$160,2,FALSE),\"\"),\"\")","v":""},null,null,null,null,null,{"$f":"((NOW()-Tabla3[[#This Row],[FECHA DE NACIMIENTO]])/365)-0.5","v":124.79767625317098},null,null,null,null,null,null,null,null,null,null,null,null,null,null,null,null,null,null,null,null,null,null,null,null,null,null,null,null,null,null,null,null,null,null,null,null,null,"",null,{"$f":"IFERROR(IF(OR(LOWER(Tabla3[[#This Row],[SEXO]])=\"masculino\", LOWER(Tabla3[[#This Row],[SEXO]])=\"m\", LOWER(Tabla3[[#This Row],[SEXO]])=\"1\"), \"MASCULINO\",\n  IF(OR(LOWER(Tabla3[[#This Row],[SEXO]])=\"femenino\", LOWER(Tabla3[[#This Row],[SEXO]])=\"f\", LOWER(Tabla3[[#This Row],[SEXO]])=\"2\"), \"FEMENINO\",\n  \"\")), \"\")","v":""},0,null,null,null,0]
[{"$f":"IF(Tabla3[[#This Row],[APELLIDOS Y NOMBRES]]>0,ROW()-14,\"\")","v":""},{"$f":"IFERROR(IF(Tabla3[[#This Row],[APELLIDOS Y NOMBRES]]>0,VLOOKUP($H$7,DATA!$A$79:$B$160,2,FALSE),\"\"),\"\")","v":""},null,null,null,null,null,{"$f":"((NOW()-Tabla3[[#This Row],[FECHA DE NACIMIENTO]])/365)-0.5","v":124.79767625317098},null,null,null,null,null,null,null,null,null,null,null,null,null,null,null,null,null,null,null,null,null,null,null,null,null,null,null,null,null,null,null,null,null,null,null,null,null,"",null,{"$f":"IFERROR(IF(OR(LOWER(Tabla3[[#This Row],[SEXO]])=\"masculino\", LOWER(Tabla3[[#This Row],[SEXO]])=\"m\", LOWER(Tabla3[[#This Row],[SEXO]])=\"1\"), \"MASCULINO\",\n  IF(OR(LOWER(Tabla3[[#This Row],[SEXO]])=\"femenino\", LOWER(Tabla3[[#This Row],[SEXO]])=\"f\", LOWER(Tabla3[[#This Row],[SEXO]])=\"2\"), \"FEMENINO\",\n  \"\")), \"\")","v":""},0,null,null,null,0]
[{"$f":"IF(Tabla3[[#This Row],[APELLIDOS Y NOMBRES]]>0,ROW()-14,\"\")","v":""},{"$f":"IFERROR(IF(Tabla3[[#This Row],[APELLIDOS Y NOMBRES]]>0,VLOOKUP($H$7,DATA!$A$79:$B$160,2,FALSE),\"\"),\"\")","v":""},null,null,null,null,null,{"$f":"((NOW()-Tabla3[[#This Row],[FECHA DE NACIMIENTO]])/365)-0.5","v":124.79767625317098},null,null,null,null,null,null,null,null,null,null,null,null,null,null,null,null,null,null,null,null,null,null,null,null,null,null,null,null,null,null,null,null,null,null,null,null,null,"",null,{"$f":"IFERROR(IF(OR(LOWER(Tabla3[[#This Row],[SEXO]])=\"masculino\", LOWER(Tabla3[[#This Row],[SEXO]])=\"m\", LOWER(Tabla3[[#This Row],[SEXO]])=\"1\"), \"MASCULINO\",\n  IF(OR(LOWER(Tabla3[[#This Row],[SEXO]])=\"femenino\", LOWER(Tabla3[[#This Row],[SEXO]])=\"f\", LOWER(Tabla3[[#This Row],[SEXO]])=\"2\"), \"FEMENINO\",\n  \"\")), \"\")","v":""},0,null,null,null,0]
[{"$f":"IF(Tabla3[[#This Row],[APELLIDOS Y NOMBRES]]>0,ROW()-14,\"\")","v":""},{"$f":"IFERROR(IF(Tabla3[[#This Row],[APELLIDOS Y NOMBRES]]>0,VLOOKUP($H$7,DATA!$A$79:$B$160,2,FALSE),\"\"),\"\")","v":""},null,null,null,null,null,{"$f":"((NOW()-Tabla3[[#This Row],[FECHA DE NACIMIENTO]])/365)-0.5","v":124.79767625317098},null,null,null,null,null,null,null,null,null,null,null,null,null,null,null,null,null,null,null,null,null,null,null,null,null,null,null,null,null,null,null,null,null,null,null,null,null,"",null,{"$f":"IFERROR(IF(OR(LOWER(Tabla3[[#This Row],[SEXO]])=\"masculino\", LOWER(Tabla3[[#This Row],[SEXO]])=\"m\", LOWER(Tabla3[[#This Row],[SEXO]])=\"1\"), \"MASCULINO\",\n  IF(OR(LOWER(Tabla3[[#This Row],[SEXO]])=\"femenino\", LOWER(Tabla3[[#This Row],[SEXO]])=\"f\", LOWER(Tabla3[[#This Row],[SEXO]])=\"2\"), \"FEMENINO\",\n  \"\")), \"\")","v":""},0,null,null,null,0]
[{"$f":"IF(Tabla3[[#This Row],[APELLIDOS Y NOMBRES]]>0,ROW()-14,\"\")","v":""},{"$f":"IFERROR(IF(Tabla3[[#This Row],[APELLIDOS Y NOMBRES]]>0,VLOOKUP($H$7,DATA!$A$79:$B$160,2,FALSE),\"\"),\"\")","v":""},null,null,null,null,null,{"$f":"((NOW()-Tabla3[[#This Row],[FECHA DE NACIMIENTO]])/365)-0.5","v":124.79767625317098},null,null,null,null,null,null,null,null,null,null,null,null,null,null,null,null,null,null,null,null,null,null,null,null,null,null,null,null,null,null,null,null,null,null,null,null,null,"",null,{"$f":"IFERROR(IF(OR(LOWER(Tabla3[[#This Row],[SEXO]])=\"masculino\", LOWER(Tabla3[[#This Row],[SEXO]])=\"m\", LOWER(Tabla3[[#This Row],[SEXO]])=\"1\"), \"MASCULINO\",\n  IF(OR(LOWER(Tabla3[[#This Row],[SEXO]])=\"femenino\", LOWER(Tabla3[[#This Row],[SEXO]])=\"f\", LOWER(Tabla3[[#This Row],[SEXO]])=\"2\"), \"FEMENINO\",\n  \"\")), \"\")","v":""},0,null,null,null,0]
[{"$f":"IF(Tabla3[[#This Row],[APELLIDOS Y NOMBRES]]>0,ROW()-14,\"\")","v":""},{"$f":"IFERROR(IF(Tabla3[[#This Row],[APELLIDOS Y NOMBRES]]>0,VLOOKUP($H$7,DATA!$A$79:$B$160,2,FALSE),\"\"),\"\")","v":""},null,null,null,null,null,{"$f":"((NOW()-Tabla3[[#This Row],[FECHA DE NACIMIENTO]])/365)-0.5","v":124.79767625317098},null,null,null,null,null,null,null,null,null,null,null,null,null,null,null,null,null,null,null,null,null,null,null,null,null,null,null,null,null,null,null,null,null,null,null,null,null,"",null,{"$f":"IFERROR(IF(OR(LOWER(Tabla3[[#This Row],[SEXO]])=\"masculino\", LOWER(Tabla3[[#This Row],[SEXO]])=\"m\", LOWER(Tabla3[[#This Row],[SEXO]])=\"1\"), \"MASCULINO\",\n  IF(OR(LOWER(Tabla3[[#This Row],[SEXO]])=\"femenino\", LOWER(Tabla3[[#This Row],[SEXO]])=\"f\", LOWER(Tabla3[[#This Row],[SEXO]])=\"2\"), \"FEMENINO\",\n  \"\")), \"\")","v":""},0,null,null,null,0]
[{"$f":"IF(Tabla3[[#This Row],[APELLIDOS Y NOMBRES]]>0,ROW()-14,\"\")","v":""},{"$f":"IFERROR(IF(Tabla3[[#This Row],[APELLIDOS Y NOMBRES]]>0,VLOOKUP($H$7,DATA!$A$79:$B$160,2,FALSE),\"\"),\"\")","v":""},null,null,null,null,null,{"$f":"((NOW()-Tabla3[[#This Row],[FECHA DE NACIMIENTO]])/365)-0.5","v":124.79767625317098},null,null,null,null,null,null,null,null,null,null,null,null,null,null,null,null,null,null,null,null,null,null,null,null,null,null,null,null,null,null,null,null,null,null,null,null,null,"",null,{"$f":"IFERROR(IF(OR(LOWER(Tabla3[[#This Row],[SEXO]])=\"masculino\", LOWER(Tabla3[[#This Row],[SEXO]])=\"m\", LOWER(Tabla3[[#This Row],[SEXO]])=\"1\"), \"MASCULINO\",\n  IF(OR(LOWER(Tabla3[[#This Row],[SEXO]])=\"femenino\", LOWER(Tabla3[[#This Row],[SEXO]])=\"f\", LOWER(Tabla3[[#This Row],[SEXO]])=\"2\"), \"FEMENINO\",\n  \"\")), \"\")","v":""},0,null,null,null,0]
[{"$f":"IF(Tabla3[[#This Row],[APELLIDOS Y NOMBRES]]>0,ROW()-14,\"\")","v":""},{"$f":"IFERROR(IF(Tabla3[[#This Row],[APELLIDOS Y NOMBRES]]>0,VLOOKUP($H$7,DATA!$A$79:$B$160,2,FALSE),\"\"),\"\")","v":""},null,null,null,null,null,{"$f":"((NOW()-Tabla3[[#This Row],[FECHA DE NACIMIENTO]])/365)-0.5","v":124.79767625317098},null,null,null,null,null,null,null,null,null,null,null,null,null,null,null,null,null,null,null,null,null,null,null,null,null,null,null,null,null,null,null,null,null,null,null,null,null,"",null,{"$f":"IFERROR(IF(OR(LOWER(Tabla3[[#This Row],[SEXO]])=\"masculino\", LOWER(Tabla3[[#This Row],[SEXO]])=\"m\", LOWER(Tabla3[[#This Row],[SEXO]])=\"1\"), \"MASCULINO\",\n  IF(OR(LOWER(Tabla3[[#This Row],[SEXO]])=\"femenino\", LOWER(Tabla3[[#This Row],[SEXO]])=\"f\", LOWER(Tabla3[[#This Row],[SEXO]])=\"2\"), \"FEMENINO\",\n  \"\")), \"\")","v":""},0,null,null,null,0]
[{"$f":"IF(Tabla3[[#This Row],[APELLIDOS Y NOMBRES]]>0,ROW()-14,\"\")","v":""},{"$f":"IFERROR(IF(Tabla3[[#This Row],[APELLIDOS Y NOMBRES]]>0,VLOOKUP($H$7,DATA!$A$79:$B$160,2,FALSE),\"\"),\"\")","v":""},null,null,null,null,null,{"$f":"((NOW()-Tabla3[[#This Row],[FECHA DE NACIMIENTO]])/365)-0.5","v":124.79767625317098},null,null,null,null,null,null,null,null,null,null,null,null,null,null,null,null,null,null,null,null,null,null,null,null,null,null,null,null,null,null,null,null,null,null,null,null,null,"",null,{"$f":"IFERROR(IF(OR(LOWER(Tabla3[[#This Row],[SEXO]])=\"masculino\", LOWER(Tabla3[[#This Row],[SEXO]])=\"m\", LOWER(Tabla3[[#This Row],[SEXO]])=\"1\"), \"MASCULINO\",\n  IF(OR(LOWER(Tabla3[[#This Row],[SEXO]])=\"femenino\", LOWER(Tabla3[[#This Row],[SEXO]])=\"f\", LOWER(Tabla3[[#This Row],[SEXO]])=\"2\"), \"FEMENINO\",\n  \"\")), \"\")","v":""},0,null,null,null,0]
[{"$f":"IF(Tabla3[[#This Row],[APELLIDOS Y NOMBRES]]>0,ROW()-14,\"\")","v":""},{"$f":"IFERROR(IF(Tabla3[[#This Row],[APELLIDOS Y NOMBRES]]>0,VLOOKUP($H$7,DATA!$A$79:$B$160,2,FALSE),\"\"),\"\")","v":""},null,null,null,null,null,{"$f":"((NOW()-Tabla3[[#This Row],[FECHA DE NACIMIENTO]])/365)-0.5","v":124.79767625317098},null,null,null,null,null,null,null,null,null,null,null,null,null,null,null,null,null,null,null,null,null,null,null,null,null,null,null,null,null,null,null,null,null,null,null,null,null,"",null,{"$f":"IFERROR(IF(OR(LOWER(Tabla3[[#This Row],[SEXO]])=\"masculino\", LOWER(Tabla3[[#This Row],[SEXO]])=\"m\", LOWER(Tabla3[[#This Row],[SEXO]])=\"1\"), \"MASCULINO\",\n  IF(OR(LOWER(Tabla3[[#This Row],[SEXO]])=\"femenino\", LOWER(Tabla3[[#This Row],[SEXO]])=\"f\", LOWER(Tabla3[[#This Row],[SEXO]])=\"2\"), \"FEMENINO\",\n  \"\")), \"\")","v":""},0,null,null,null,0]
[{"$f":"IF(Tabla3[[#This Row],[APELLIDOS Y NOMBRES]]>0,ROW()-14,\"\")","v":""},{"$f":"IFERROR(IF(Tabla3[[#This Row],[APELLIDOS Y NOMBRES]]>0,VLOOKUP($H$7,DATA!$A$79:$B$160,2,FALSE),\"\"),\"\")","v":""},null,null,null,null,null,{"$f":"((NOW()-Tabla3[[#This Row],[FECHA DE NACIMIENTO]])/365)-0.5","v":124.79767625317098},null,null,null,null,null,null,null,null,null,null,null,null,null,null,null,null,null,null,null,null,null,null,null,null,null,null,null,null,null,null,null,null,null,null,null,null,null,"",null,{"$f":"IFERROR(IF(OR(LOWER(Tabla3[[#This Row],[SEXO]])=\"masculino\", LOWER(Tabla3[[#This Row],[SEXO]])=\"m\", LOWER(Tabla3[[#This Row],[SEXO]])=\"1\"), \"MASCULINO\",\n  IF(OR(LOWER(Tabla3[[#This Row],[SEXO]])=\"femenino\", LOWER(Tabla3[[#This Row],[SEXO]])=\"f\", LOWER(Tabla3[[#This Row],[SEXO]])=\"2\"), \"FEMENINO\",\n  \"\")), \"\")","v":""},0,null,null,null,0]
[{"$f":"IF(Tabla3[[#This Row],[APELLIDOS Y NOMBRES]]>0,ROW()-14,\"\")","v":""},{"$f":"IFERROR(IF(Tabla3[[#This Row],[APELLIDOS Y NOMBRES]]>0,VLOOKUP($H$7,DATA!$A$79:$B$160,2,FALSE),\"\"),\"\")","v":""},null,null,null,null,null,{"$f":"((NOW()-Tabla3[[#This Row],[FECHA DE NACIMIENTO]])/365)-0.5","v":124.79767625317098},null,null,null,null,null,null,null,null,null,null,null,null,null,null,null,null,null,null,null,null,null,null,null,null,null,null,null,null,null,null,null,null,null,null,null,null,null,"",null,{"$f":"IFERROR(IF(OR(LOWER(Tabla3[[#This Row],[SEXO]])=\"masculino\", LOWER(Tabla3[[#This Row],[SEXO]])=\"m\", LOWER(Tabla3[[#This Row],[SEXO]])=\"1\"), \"MASCULINO\",\n  IF(OR(LOWER(Tabla3[[#This Row],[SEXO]])=\"femenino\", LOWER(Tabla3[[#This Row],[SEXO]])=\"f\", LOWER(Tabla3[[#This Row],[SEXO]])=\"2\"), \"FEMENINO\",\n  \"\")), \"\")","v":""},0,null,null,null,0]
[{"$f":"IF(Tabla3[[#This Row],[APELLIDOS Y NOMBRES]]>0,ROW()-14,\"\")","v":""},{"$f":"IFERROR(IF(Tabla3[[#This Row],[APELLIDOS Y NOMBRES]]>0,VLOOKUP($H$7,DATA!$A$79:$B$160,2,FALSE),\"\"),\"\")","v":""},null,null,null,null,null,{"$f":"((NOW()-Tabla3[[#This Row],[FECHA DE NACIMIENTO]])/365)-0.5","v":124.79767625317098},null,null,null,null,null,null,null,null,null,null,null,null,null,null,null,null,null,null,null,null,null,null,null,null,null,null,null,null,null,null,null,null,null,null,null,null,null,"",null,{"$f":"IFERROR(IF(OR(LOWER(Tabla3[[#This Row],[SEXO]])=\"masculino\", LOWER(Tabla3[[#This Row],[SEXO]])=\"m\", LOWER(Tabla3[[#This Row],[SEXO]])=\"1\"), \"MASCULINO\",\n  IF(OR(LOWER(Tabla3[[#This Row],[SEXO]])=\"femenino\", LOWER(Tabla3[[#This Row],[SEXO]])=\"f\", LOWER(Tabla3[[#This Row],[SEXO]])=\"2\"), \"FEMENINO\",\n  \"\")), \"\")","v":""},0,null,null,null,0]
[{"$f":"IF(Tabla3[[#This Row],[APELLIDOS Y NOMBRES]]>0,ROW()-14,\"\")","v":""},{"$f":"IFERROR(IF(Tabla3[[#This Row],[APELLIDOS Y NOMBRES]]>0,VLOOKUP($H$7,DATA!$A$79:$B$160,2,FALSE),\"\"),\"\")","v":""},null,null,null,null,null,{"$f":"((NOW()-Tabla3[[#This Row],[FECHA DE NACIMIENTO]])/365)-0.5","v":124.79767625317098},null,null,null,null,null,null,null,null,null,null,null,null,null,null,null,null,null,null,null,null,null,null,null,null,null,null,null,null,null,null,null,null,null,null,null,null,null,"",null,{"$f":"IFERROR(IF(OR(LOWER(Tabla3[[#This Row],[SEXO]])=\"masculino\", LOWER(Tabla3[[#This Row],[SEXO]])=\"m\", LOWER(Tabla3[[#This Row],[SEXO]])=\"1\"), \"MASCULINO\",\n  IF(OR(LOWER(Tabla3[[#This Row],[SEXO]])=\"femenino\", LOWER(Tabla3[[#This Row],[SEXO]])=\"f\", LOWER(Tabla3[[#This Row],[SEXO]])=\"2\"), \"FEMENINO\",\n  \"\")), \"\")","v":""},0,null,null,null,0]
[{"$f":"IF(Tabla3[[#This Row],[APELLIDOS Y NOMBRES]]>0,ROW()-14,\"\")","v":""},{"$f":"IFERROR(IF(Tabla3[[#This Row],[APELLIDOS Y NOMBRES]]>0,VLOOKUP($H$7,DATA!$A$79:$B$160,2,FALSE),\"\"),\"\")","v":""},null,null,null,null,null,{"$f":"((NOW()-Tabla3[[#This Row],[FECHA DE NACIMIENTO]])/365)-0.5","v":124.79767625317098},null,null,null,null,null,null,null,null,null,null,null,null,null,null,null,null,null,null,null,null,null,null,null,null,null,null,null,null,null,null,null,null,null,null,null,null,null,"",null,{"$f":"IFERROR(IF(OR(LOWER(Tabla3[[#This Row],[SEXO]])=\"masculino\", LOWER(Tabla3[[#This Row],[SEXO]])=\"m\", LOWER(Tabla3[[#This Row],[SEXO]])=\"1\"), \"MASCULINO\",\n  IF(OR(LOWER(Tabla3[[#This Row],[SEXO]])=\"femenino\", LOWER(Tabla3[[#This Row],[SEXO]])=\"f\", LOWER(Tabla3[[#This Row],[SEXO]])=\"2\"), \"FEMENINO\",\n  \"\")), \"\")","v":""},0,null,null,null,0]
[{"$f":"IF(Tabla3[[#This Row],[APELLIDOS Y NOMBRES]]>0,ROW()-14,\"\")","v":""},{"$f":"IFERROR(IF(Tabla3[[#This Row],[APELLIDOS Y NOMBRES]]>0,VLOOKUP($H$7,DATA!$A$79:$B$160,2,FALSE),\"\"),\"\")","v":""},null,null,null,null,null,{"$f":"((NOW()-Tabla3[[#This Row],[FECHA DE NACIMIENTO]])/365)-0.5","v":124.79767625317098},null,null,null,null,null,null,null,null,null,null,null,null,null,null,null,null,null,null,null,null,null,null,null,null,null,null,null,null,null,null,null,null,null,null,null,null,null,"",null,{"$f":"IFERROR(IF(OR(LOWER(Tabla3[[#This Row],[SEXO]])=\"masculino\", LOWER(Tabla3[[#This Row],[SEXO]])=\"m\", LOWER(Tabla3[[#This Row],[SEXO]])=\"1\"), \"MASCULINO\",\n  IF(OR(LOWER(Tabla3[[#This Row],[SEXO]])=\"femenino\", LOWER(Tabla3[[#This Row],[SEXO]])=\"f\", LOWER(Tabla3[[#This Row],[SEXO]])=\"2\"), \"FEMENINO\",\n  \"\")), \"\")","v":""},0,null,null,null,0]
[{"$f":"IF(Tabla3[[#This Row],[APELLIDOS Y NOMBRES]]>0,ROW()-14,\"\")","v":""},{"$f":"IFERROR(IF(Tabla3[[#This Row],[APELLIDOS Y NOMBRES]]>0,VLOOKUP($H$7,DATA!$A$79:$B$160,2,FALSE),\"\"),\"\")","v":""},null,null,null,null,null,{"$f":"((NOW()-Tabla3[[#This Row],[FECHA DE NACIMIENTO]])/365)-0.5","v":124.79767625317098},null,null,null,null,null,null,null,null,null,null,null,null,null,null,null,null,null,null,null,null,null,null,null,null,null,null,null,null,null,null,null,null,null,null,null,null,null,"",null,{"$f":"IFERROR(IF(OR(LOWER(Tabla3[[#This Row],[SEXO]])=\"masculino\", LOWER(Tabla3[[#This Row],[SEXO]])=\"m\", LOWER(Tabla3[[#This Row],[SEXO]])=\"1\"), \"MASCULINO\",\n  IF(OR(LOWER(Tabla3[[#This Row],[SEXO]])=\"femenino\", LOWER(Tabla3[[#This Row],[SEXO]])=\"f\", LOWER(Tabla3[[#This Row],[SEXO]])=\"2\"), \"FEMENINO\",\n  \"\")), \"\")","v":""},0,null,null,null,0]
[{"$f":"IF(Tabla3[[#This Row],[APELLIDOS Y NOMBRES]]>0,ROW()-14,\"\")","v":""},{"$f":"IFERROR(IF(Tabla3[[#This Row],[APELLIDOS Y NOMBRES]]>0,VLOOKUP($H$7,DATA!$A$79:$B$160,2,FALSE),\"\"),\"\")","v":""},null,null,null,null,null,{"$f":"((NOW()-Tabla3[[#This Row],[FECHA DE NACIMIENTO]])/365)-0.5","v":124.79767625317098},null,null,null,null,null,null,null,null,null,null,null,null,null,null,null,null,null,null,null,null,null,null,null,null,null,null,null,null,null,null,null,null,null,null,null,null,null,"",null,{"$f":"IFERROR(IF(OR(LOWER(Tabla3[[#This Row],[SEXO]])=\"masculino\", LOWER(Tabla3[[#This Row],[SEXO]])=\"m\", LOWER(Tabla3[[#This Row],[SEXO]])=\"1\"), \"MASCULINO\",\n  IF(OR(LOWER(Tabla3[[#This Row],[SEXO]])=\"femenino\", LOWER(Tabla3[[#This Row],[SEXO]])=\"f\", LOWER(Tabla3[[#This Row],[SEXO]])=\"2\"), \"FEMENINO\",\n  \"\")), \"\")","v":""},0,null,null,null,0]
[{"$f":"IF(Tabla3[[#This Row],[APELLIDOS Y NOMBRES]]>0,ROW()-14,\"\")","v":""},{"$f":"IFERROR(IF(Tabla3[[#This Row],[APELLIDOS Y NOMBRES]]>0,VLOOKUP($H$7,DATA!$A$79:$B$160,2,FALSE),\"\"),\"\")","v":""},null,null,null,null,null,{"$f":"((NOW()-Tabla3[[#This Row],[FECHA DE NACIMIENTO]])/365)-0.5","v":124.79767625317098},null,null,null,null,null,null,null,null,null,null,null,null,null,null,null,null,null,null,null,null,null,null,null,null,null,null,null,null,null,null,null,null,null,null,null,null,null,"",null,{"$f":"IFERROR(IF(OR(LOWER(Tabla3[[#This Row],[SEXO]])=\"masculino\", LOWER(Tabla3[[#This Row],[SEXO]])=\"m\", LOWER(Tabla3[[#This Row],[SEXO]])=\"1\"), \"MASCULINO\",\n  IF(OR(LOWER(Tabla3[[#This Row],[SEXO]])=\"femenino\", LOWER(Tabla3[[#This Row],[SEXO]])=\"f\", LOWER(Tabla3[[#This Row],[SEXO]])=\"2\"), \"FEMENINO\",\n  \"\")), \"\")","v":""},0,null,null,null,0]
[{"$f":"IF(Tabla3[[#This Row],[APELLIDOS Y NOMBRES]]>0,ROW()-14,\"\")","v":""},{"$f":"IFERROR(IF(Tabla3[[#This Row],[APELLIDOS Y NOMBRES]]>0,VLOOKUP($H$7,DATA!$A$79:$B$160,2,FALSE),\"\"),\"\")","v":""},null,null,null,null,null,{"$f":"((NOW()-Tabla3[[#This Row],[FECHA DE NACIMIENTO]])/365)-0.5","v":124.79767625317098},null,null,null,null,null,null,null,null,null,null,null,null,null,null,null,null,null,null,null,null,null,null,null,null,null,null,null,null,null,null,null,null,null,null,null,null,null,"",null,{"$f":"IFERROR(IF(OR(LOWER(Tabla3[[#This Row],[SEXO]])=\"masculino\", LOWER(Tabla3[[#This Row],[SEXO]])=\"m\", LOWER(Tabla3[[#This Row],[SEXO]])=\"1\"), \"MASCULINO\",\n  IF(OR(LOWER(Tabla3[[#This Row],[SEXO]])=\"femenino\", LOWER(Tabla3[[#This Row],[SEXO]])=\"f\", LOWER(Tabla3[[#This Row],[SEXO]])=\"2\"), \"FEMENINO\",\n  \"\")), \"\")","v":""},0,null,null,null,0]
[{"$f":"IF(Tabla3[[#This Row],[APELLIDOS Y NOMBRES]]>0,ROW()-14,\"\")","v":""},{"$f":"IFERROR(IF(Tabla3[[#This Row],[APELLIDOS Y NOMBRES]]>0,VLOOKUP($H$7,DATA!$A$79:$B$160,2,FALSE),\"\"),\"\")","v":""},null,null,null,null,null,{"$f":"((NOW()-Tabla3[[#This Row],[FECHA DE NACIMIENTO]])/365)-0.5","v":124.79767625317098},null,null,null,null,null,null,null,null,null,null,null,null,null,null,null,null,null,null,null,null,null,null,null,null,null,null,null,null,null,null,null,null,null,null,null,null,null,"",null,{"$f":"IFERROR(IF(OR(LOWER(Tabla3[[#This Row],[SEXO]])=\"masculino\", LOWER(Tabla3[[#This Row],[SEXO]])=\"m\", LOWER(Tabla3[[#This Row],[SEXO]])=\"1\"), \"MASCULINO\",\n  IF(OR(LOWER(Tabla3[[#This Row],[SEXO]])=\"femenino\", LOWER(Tabla3[[#This Row],[SEXO]])=\"f\", LOWER(Tabla3[[#This Row],[SEXO]])=\"2\"), \"FEMENINO\",\n  \"\")), \"\")","v":""},0,null,null,null,0]
[{"$f":"IF(Tabla3[[#This Row],[APELLIDOS Y NOMBRES]]>0,ROW()-14,\"\")","v":""},{"$f":"IFERROR(IF(Tabla3[[#This Row],[APELLIDOS Y NOMBRES]]>0,VLOOKUP($H$7,DATA!$A$79:$B$160,2,FALSE),\"\"),\"\")","v":""},null,null,null,null,null,{"$f":"((NOW()-Tabla3[[#This Row],[FECHA DE NACIMIENTO]])/365)-0.5","v":124.79767625317098},null,null,null,null,null,null,null,null,null,null,null,null,null,null,null,null,null,null,null,null,null,null,null,null,null,null,null,null,null,null,null,null,null,null,null,null,null,"",null,{"$f":"IFERROR(IF(OR(LOWER(Tabla3[[#This Row],[SEXO]])=\"masculino\", LOWER(Tabla3[[#This Row],[SEXO]])=\"m\", LOWER(Tabla3[[#This Row],[SEXO]])=\"1\"), \"MASCULINO\",\n  IF(OR(LOWER(Tabla3[[#This Row],[SEXO]])=\"femenino\", LOWER(Tabla3[[#This Row],[SEXO]])=\"f\", LOWER(Tabla3[[#This Row],[SEXO]])=\"2\"), \"FEMENINO\",\n  \"\")), \"\")","v":""},0,null,null,null,0]
[{"$f":"IF(Tabla3[[#This Row],[APELLIDOS Y NOMBRES]]>0,ROW()-14,\"\")","v":""},{"$f":"IFERROR(IF(Tabla3[[#This Row],[APELLIDOS Y NOMBRES]]>0,VLOOKUP($H$7,DATA!$A$79:$B$160,2,FALSE),\"\"),\"\")","v":""},null,null,null,null,null,{"$f":"((NOW()-Tabla3[[#This Row],[FECHA DE NACIMIENTO]])/365)-0.5","v":124.79767625317098},null,null,null,null,null,null,null,null,null,null,null,null,null,null,null,null,null,null,null,null,null,null,null,null,null,null,null,null,null,null,null,null,null,null,null,null,null,"",null,{"$f":"IFERROR(IF(OR(LOWER(Tabla3[[#This Row],[SEXO]])=\"masculino\", LOWER(Tabla3[[#This Row],[SEXO]])=\"m\", LOWER(Tabla3[[#This Row],[SEXO]])=\"1\"), \"MASCULINO\",\n  IF(OR(LOWER(Tabla3[[#This Row],[SEXO]])=\"femenino\", LOWER(Tabla3[[#This Row],[SEXO]])=\"f\", LOWER(Tabla3[[#This Row],[SEXO]])=\"2\"), \"FEMENINO\",\n  \"\")), \"\")","v":""},0,null,null,null,0]
[{"$f":"IF(Tabla3[[#This Row],[APELLIDOS Y NOMBRES]]>0,ROW()-14,\"\")","v":""},{"$f":"IFERROR(IF(Tabla3[[#This Row],[APELLIDOS Y NOMBRES]]>0,VLOOKUP($H$7,DATA!$A$79:$B$160,2,FALSE),\"\"),\"\")","v":""},null,null,null,null,null,{"$f":"((NOW()-Tabla3[[#This Row],[FECHA DE NACIMIENTO]])/365)-0.5","v":124.79767625317098},null,null,null,null,null,null,null,null,null,null,null,null,null,null,null,null,null,null,null,null,null,null,null,null,null,null,null,null,null,null,null,null,null,null,null,null,null,"",null,{"$f":"IFERROR(IF(OR(LOWER(Tabla3[[#This Row],[SEXO]])=\"masculino\", LOWER(Tabla3[[#This Row],[SEXO]])=\"m\", LOWER(Tabla3[[#This Row],[SEXO]])=\"1\"), \"MASCULINO\",\n  IF(OR(LOWER(Tabla3[[#This Row],[SEXO]])=\"femenino\", LOWER(Tabla3[[#This Row],[SEXO]])=\"f\", LOWER(Tabla3[[#This Row],[SEXO]])=\"2\"), \"FEMENINO\",\n  \"\")), \"\")","v":""},0,null,null,null,0]
[{"$f":"IF(Tabla3[[#This Row],[APELLIDOS Y NOMBRES]]>0,ROW()-14,\"\")","v":""},{"$f":"IFERROR(IF(Tabla3[[#This Row],[APELLIDOS Y NOMBRES]]>0,VLOOKUP($H$7,DATA!$A$79:$B$160,2,FALSE),\"\"),\"\")","v":""},null,null,null,null,null,{"$f":"((NOW()-Tabla3[[#This Row],[FECHA DE NACIMIENTO]])/365)-0.5","v":124.79767625317098},null,null,null,null,null,null,null,null,null,null,null,null,null,null,null,null,null,null,null,null,null,null,null,null,null,null,null,null,null,null,null,null,null,null,null,null,null,"",null,{"$f":"IFERROR(IF(OR(LOWER(Tabla3[[#This Row],[SEXO]])=\"masculino\", LOWER(Tabla3[[#This Row],[SEXO]])=\"m\", LOWER(Tabla3[[#This Row],[SEXO]])=\"1\"), \"MASCULINO\",\n  IF(OR(LOWER(Tabla3[[#This Row],[SEXO]])=\"femenino\", LOWER(Tabla3[[#This Row],[SEXO]])=\"f\", LOWER(Tabla3[[#This Row],[SEXO]])=\"2\"), \"FEMENINO\",\n  \"\")), \"\")","v":""},0,null,null,null,0]
[{"$f":"IF(Tabla3[[#This Row],[APELLIDOS Y NOMBRES]]>0,ROW()-14,\"\")","v":""},{"$f":"IFERROR(IF(Tabla3[[#This Row],[APELLIDOS Y NOMBRES]]>0,VLOOKUP($H$7,DATA!$A$79:$B$160,2,FALSE),\"\"),\"\")","v":""},null,null,null,null,null,{"$f":"((NOW()-Tabla3[[#This Row],[FECHA DE NACIMIENTO]])/365)-0.5","v":124.79767625317098},null,null,null,null,null,null,null,null,null,null,null,null,null,null,null,null,null,null,null,null,null,null,null,null,null,null,null,null,null,null,null,null,null,null,null,null,null,"",null,{"$f":"IFERROR(IF(OR(LOWER(Tabla3[[#This Row],[SEXO]])=\"masculino\", LOWER(Tabla3[[#This Row],[SEXO]])=\"m\", LOWER(Tabla3[[#This Row],[SEXO]])=\"1\"), \"MASCULINO\",\n  IF(OR(LOWER(Tabla3[[#This Row],[SEXO]])=\"femenino\", LOWER(Tabla3[[#This Row],[SEXO]])=\"f\", LOWER(Tabla3[[#This Row],[SEXO]])=\"2\"), \"FEMENINO\",\n  \"\")), \"\")","v":""},0,null,null,null,0]
[{"$f":"IF(Tabla3[[#This Row],[APELLIDOS Y NOMBRES]]>0,ROW()-14,\"\")","v":""},{"$f":"IFERROR(IF(Tabla3[[#This Row],[APELLIDOS Y NOMBRES]]>0,VLOOKUP($H$7,DATA!$A$79:$B$160,2,FALSE),\"\"),\"\")","v":""},null,null,null,null,null,{"$f":"((NOW()-Tabla3[[#This Row],[FECHA DE NACIMIENTO]])/365)-0.5","v":124.79767625317098},null,null,null,null,null,null,null,null,null,null,null,null,null,null,null,null,null,null,null,null,null,null,null,null,null,null,null,null,null,null,null,null,null,null,null,null,null,"",null,{"$f":"IFERROR(IF(OR(LOWER(Tabla3[[#This Row],[SEXO]])=\"masculino\", LOWER(Tabla3[[#This Row],[SEXO]])=\"m\", LOWER(Tabla3[[#This Row],[SEXO]])=\"1\"), \"MASCULINO\",\n  IF(OR(LOWER(Tabla3[[#This Row],[SEXO]])=\"femenino\", LOWER(Tabla3[[#This Row],[SEXO]])=\"f\", LOWER(Tabla3[[#This Row],[SEXO]])=\"2\"), \"FEMENINO\",\n  \"\")), \"\")","v":""},0,null,null,null,0]
[{"$f":"IF(Tabla3[[#This Row],[APELLIDOS Y NOMBRES]]>0,ROW()-14,\"\")","v":""},{"$f":"IFERROR(IF(Tabla3[[#This Row],[APELLIDOS Y NOMBRES]]>0,VLOOKUP($H$7,DATA!$A$79:$B$160,2,FALSE),\"\"),\"\")","v":""},null,null,null,null,null,{"$f":"((NOW()-Tabla3[[#This Row],[FECHA DE NACIMIENTO]])/365)-0.5","v":124.79767625317098},null,null,null,null,null,null,null,null,null,null,null,null,null,null,null,null,null,null,null,null,null,null,null,null,null,null,null,null,null,null,null,null,null,null,null,null,null,"",null,{"$f":"IFERROR(IF(OR(LOWER(Tabla3[[#This Row],[SEXO]])=\"masculino\", LOWER(Tabla3[[#This Row],[SEXO]])=\"m\", LOWER(Tabla3[[#This Row],[SEXO]])=\"1\"), \"MASCULINO\",\n  IF(OR(LOWER(Tabla3[[#This Row],[SEXO]])=\"femenino\", LOWER(Tabla3[[#This Row],[SEXO]])=\"f\", LOWER(Tabla3[[#This Row],[SEXO]])=\"2\"), \"FEMENINO\",\n  \"\")), \"\")","v":""},0,null,null,null,0]
[{"$f":"IF(Tabla3[[#This Row],[APELLIDOS Y NOMBRES]]>0,ROW()-14,\"\")","v":""},{"$f":"IFERROR(IF(Tabla3[[#This Row],[APELLIDOS Y NOMBRES]]>0,VLOOKUP($H$7,DATA!$A$79:$B$160,2,FALSE),\"\"),\"\")","v":""},null,null,null,null,null,{"$f":"((NOW()-Tabla3[[#This Row],[FECHA DE NACIMIENTO]])/365)-0.5","v":124.79767625317098},null,null,null,null,null,null,null,null,null,null,null,null,null,null,null,null,null,null,null,null,null,null,null,null,null,null,null,null,null,null,null,null,null,null,null,null,null,"",null,{"$f":"IFERROR(IF(OR(LOWER(Tabla3[[#This Row],[SEXO]])=\"masculino\", LOWER(Tabla3[[#This Row],[SEXO]])=\"m\", LOWER(Tabla3[[#This Row],[SEXO]])=\"1\"), \"MASCULINO\",\n  IF(OR(LOWER(Tabla3[[#This Row],[SEXO]])=\"femenino\", LOWER(Tabla3[[#This Row],[SEXO]])=\"f\", LOWER(Tabla3[[#This Row],[SEXO]])=\"2\"), \"FEMENINO\",\n  \"\")), \"\")","v":""},0,null,null,null,0]
[{"$f":"IF(Tabla3[[#This Row],[APELLIDOS Y NOMBRES]]>0,ROW()-14,\"\")","v":""},{"$f":"IFERROR(IF(Tabla3[[#This Row],[APELLIDOS Y NOMBRES]]>0,VLOOKUP($H$7,DATA!$A$79:$B$160,2,FALSE),\"\"),\"\")","v":""},null,null,null,null,null,{"$f":"((NOW()-Tabla3[[#This Row],[FECHA DE NACIMIENTO]])/365)-0.5","v":124.79767625317098},null,null,null,null,null,null,null,null,null,null,null,null,null,null,null,null,null,null,null,null,null,null,null,null,null,null,null,null,null,null,null,null,null,null,null,null,null,"",null,{"$f":"IFERROR(IF(OR(LOWER(Tabla3[[#This Row],[SEXO]])=\"masculino\", LOWER(Tabla3[[#This Row],[SEXO]])=\"m\", LOWER(Tabla3[[#This Row],[SEXO]])=\"1\"), \"MASCULINO\",\n  IF(OR(LOWER(Tabla3[[#This Row],[SEXO]])=\"femenino\", LOWER(Tabla3[[#This Row],[SEXO]])=\"f\", LOWER(Tabla3[[#This Row],[SEXO]])=\"2\"), \"FEMENINO\",\n  \"\")), \"\")","v":""},0,null,null,null,0]
[{"$f":"IF(Tabla3[[#This Row],[APELLIDOS Y NOMBRES]]>0,ROW()-14,\"\")","v":""},{"$f":"IFERROR(IF(Tabla3[[#This Row],[APELLIDOS Y NOMBRES]]>0,VLOOKUP($H$7,DATA!$A$79:$B$160,2,FALSE),\"\"),\"\")","v":""},null,null,null,null,null,{"$f":"((NOW()-Tabla3[[#This Row],[FECHA DE NACIMIENTO]])/365)-0.5","v":124.79767625317098},null,null,null,null,null,null,null,null,null,null,null,null,null,null,null,null,null,null,null,null,null,null,null,null,null,null,null,null,null,null,null,null,null,null,null,null,null,"",null,{"$f":"IFERROR(IF(OR(LOWER(Tabla3[[#This Row],[SEXO]])=\"masculino\", LOWER(Tabla3[[#This Row],[SEXO]])=\"m\", LOWER(Tabla3[[#This Row],[SEXO]])=\"1\"), \"MASCULINO\",\n  IF(OR(LOWER(Tabla3[[#This Row],[SEXO]])=\"femenino\", LOWER(Tabla3[[#This Row],[SEXO]])=\"f\", LOWER(Tabla3[[#This Row],[SEXO]])=\"2\"), \"FEMENINO\",\n  \"\")), \"\")","v":""},0,null,null,null,0]
[{"$f":"IF(Tabla3[[#This Row],[APELLIDOS Y NOMBRES]]>0,ROW()-14,\"\")","v":""},{"$f":"IFERROR(IF(Tabla3[[#This Row],[APELLIDOS Y NOMBRES]]>0,VLOOKUP($H$7,DATA!$A$79:$B$160,2,FALSE),\"\"),\"\")","v":""},null,null,null,null,null,{"$f":"((NOW()-Tabla3[[#This Row],[FECHA DE NACIMIENTO]])/365)-0.5","v":124.79767625317098},null,null,null,null,null,null,null,null,null,null,null,null,null,null,null,null,null,null,null,null,null,null,null,null,null,null,null,null,null,null,null,null,null,null,null,null,null,"",null,{"$f":"IFERROR(IF(OR(LOWER(Tabla3[[#This Row],[SEXO]])=\"masculino\", LOWER(Tabla3[[#This Row],[SEXO]])=\"m\", LOWER(Tabla3[[#This Row],[SEXO]])=\"1\"), \"MASCULINO\",\n  IF(OR(LOWER(Tabla3[[#This Row],[SEXO]])=\"femenino\", LOWER(Tabla3[[#This Row],[SEXO]])=\"f\", LOWER(Tabla3[[#This Row],[SEXO]])=\"2\"), \"FEMENINO\",\n  \"\")), \"\")","v":""},0,null,null,null,0]
[{"$f":"IF(Tabla3[[#This Row],[APELLIDOS Y NOMBRES]]>0,ROW()-14,\"\")","v":""},{"$f":"IFERROR(IF(Tabla3[[#This Row],[APELLIDOS Y NOMBRES]]>0,VLOOKUP($H$7,DATA!$A$79:$B$160,2,FALSE),\"\"),\"\")","v":""},null,null,null,null,null,{"$f":"((NOW()-Tabla3[[#This Row],[FECHA DE NACIMIENTO]])/365)-0.5","v":124.79767625317098},null,null,null,null,null,null,null,null,null,null,null,null,null,null,null,null,null,null,null,null,null,null,null,null,null,null,null,null,null,null,null,null,null,null,null,null,null,"",null,{"$f":"IFERROR(IF(OR(LOWER(Tabla3[[#This Row],[SEXO]])=\"masculino\", LOWER(Tabla3[[#This Row],[SEXO]])=\"m\", LOWER(Tabla3[[#This Row],[SEXO]])=\"1\"), \"MASCULINO\",\n  IF(OR(LOWER(Tabla3[[#This Row],[SEXO]])=\"femenino\", LOWER(Tabla3[[#This Row],[SEXO]])=\"f\", LOWER(Tabla3[[#This Row],[SEXO]])=\"2\"), \"FEMENINO\",\n  \"\")), \"\")","v":""},0,null,null,null,0]
[{"$f":"IF(Tabla3[[#This Row],[APELLIDOS Y NOMBRES]]>0,ROW()-14,\"\")","v":""},{"$f":"IFERROR(IF(Tabla3[[#This Row],[APELLIDOS Y NOMBRES]]>0,VLOOKUP($H$7,DATA!$A$79:$B$160,2,FALSE),\"\"),\"\")","v":""},null,null,null,null,null,{"$f":"((NOW()-Tabla3[[#This Row],[FECHA DE NACIMIENTO]])/365)-0.5","v":124.79767625317098},null,null,null,null,null,null,null,null,null,null,null,null,null,null,null,null,null,null,null,null,null,null,null,null,null,null,null,null,null,null,null,null,null,null,null,null,null,"",null,{"$f":"IFERROR(IF(OR(LOWER(Tabla3[[#This Row],[SEXO]])=\"masculino\", LOWER(Tabla3[[#This Row],[SEXO]])=\"m\", LOWER(Tabla3[[#This Row],[SEXO]])=\"1\"), \"MASCULINO\",\n  IF(OR(LOWER(Tabla3[[#This Row],[SEXO]])=\"femenino\", LOWER(Tabla3[[#This Row],[SEXO]])=\"f\", LOWER(Tabla3[[#This Row],[SEXO]])=\"2\"), \"FEMENINO\",\n  \"\")), \"\")","v":""},0,null,null,null,0]
[{"$f":"IF(Tabla3[[#This Row],[APELLIDOS Y NOMBRES]]>0,ROW()-14,\"\")","v":""},{"$f":"IFERROR(IF(Tabla3[[#This Row],[APELLIDOS Y NOMBRES]]>0,VLOOKUP($H$7,DATA!$A$79:$B$160,2,FALSE),\"\"),\"\")","v":""},null,null,null,null,null,{"$f":"((NOW()-Tabla3[[#This Row],[FECHA DE NACIMIENTO]])/365)-0.5","v":124.79767625317098},null,null,null,null,null,null,null,null,null,null,null,null,null,null,null,null,null,null,null,null,null,null,null,null,null,null,null,null,null,null,null,null,null,null,null,null,null,"",null,{"$f":"IFERROR(IF(OR(LOWER(Tabla3[[#This Row],[SEXO]])=\"masculino\", LOWER(Tabla3[[#This Row],[SEXO]])=\"m\", LOWER(Tabla3[[#This Row],[SEXO]])=\"1\"), \"MASCULINO\",\n  IF(OR(LOWER(Tabla3[[#This Row],[SEXO]])=\"femenino\", LOWER(Tabla3[[#This Row],[SEXO]])=\"f\", LOWER(Tabla3[[#This Row],[SEXO]])=\"2\"), \"FEMENINO\",\n  \"\")), \"\")","v":""},0,null,null,null,0]
[{"$f":"IF(Tabla3[[#This Row],[APELLIDOS Y NOMBRES]]>0,ROW()-14,\"\")","v":""},{"$f":"IFERROR(IF(Tabla3[[#This Row],[APELLIDOS Y NOMBRES]]>0,VLOOKUP($H$7,DATA!$A$79:$B$160,2,FALSE),\"\"),\"\")","v":""},null,null,null,null,null,{"$f":"((NOW()-Tabla3[[#This Row],[FECHA DE NACIMIENTO]])/365)-0.5","v":124.79767625317098},null,null,null,null,null,null,null,null,null,null,null,null,null,null,null,null,null,null,null,null,null,null,null,null,null,null,null,null,null,null,null,null,null,null,null,null,null,"",null,{"$f":"IFERROR(IF(OR(LOWER(Tabla3[[#This Row],[SEXO]])=\"masculino\", LOWER(Tabla3[[#This Row],[SEXO]])=\"m\", LOWER(Tabla3[[#This Row],[SEXO]])=\"1\"), \"MASCULINO\",\n  IF(OR(LOWER(Tabla3[[#This Row],[SEXO]])=\"femenino\", LOWER(Tabla3[[#This Row],[SEXO]])=\"f\", LOWER(Tabla3[[#This Row],[SEXO]])=\"2\"), \"FEMENINO\",\n  \"\")), \"\")","v":""},0,null,null,null,0]
[{"$f":"IF(Tabla3[[#This Row],[APELLIDOS Y NOMBRES]]>0,ROW()-14,\"\")","v":""},{"$f":"IFERROR(IF(Tabla3[[#This Row],[APELLIDOS Y NOMBRES]]>0,VLOOKUP($H$7,DATA!$A$79:$B$160,2,FALSE),\"\"),\"\")","v":""},null,null,null,null,null,{"$f":"((NOW()-Tabla3[[#This Row],[FECHA DE NACIMIENTO]])/365)-0.5","v":124.79767625317098},null,null,null,null,null,null,null,null,null,null,null,null,null,null,null,null,null,null,null,null,null,null,null,null,null,null,null,null,null,null,null,null,null,null,null,null,null,"",null,{"$f":"IFERROR(IF(OR(LOWER(Tabla3[[#This Row],[SEXO]])=\"masculino\", LOWER(Tabla3[[#This Row],[SEXO]])=\"m\", LOWER(Tabla3[[#This Row],[SEXO]])=\"1\"), \"MASCULINO\",\n  IF(OR(LOWER(Tabla3[[#This Row],[SEXO]])=\"femenino\", LOWER(Tabla3[[#This Row],[SEXO]])=\"f\", LOWER(Tabla3[[#This Row],[SEXO]])=\"2\"), \"FEMENINO\",\n  \"\")), \"\")","v":""},0,null,null,null,0]
[{"$f":"IF(Tabla3[[#This Row],[APELLIDOS Y NOMBRES]]>0,ROW()-14,\"\")","v":""},{"$f":"IFERROR(IF(Tabla3[[#This Row],[APELLIDOS Y NOMBRES]]>0,VLOOKUP($H$7,DATA!$A$79:$B$160,2,FALSE),\"\"),\"\")","v":""},null,null,null,null,null,{"$f":"((NOW()-Tabla3[[#This Row],[FECHA DE NACIMIENTO]])/365)-0.5","v":124.79767625317098},null,null,null,null,null,null,null,null,null,null,null,null,null,null,null,null,null,null,null,null,null,null,null,null,null,null,null,null,null,null,null,null,null,null,null,null,null,"",null,{"$f":"IFERROR(IF(OR(LOWER(Tabla3[[#This Row],[SEXO]])=\"masculino\", LOWER(Tabla3[[#This Row],[SEXO]])=\"m\", LOWER(Tabla3[[#This Row],[SEXO]])=\"1\"), \"MASCULINO\",\n  IF(OR(LOWER(Tabla3[[#This Row],[SEXO]])=\"femenino\", LOWER(Tabla3[[#This Row],[SEXO]])=\"f\", LOWER(Tabla3[[#This Row],[SEXO]])=\"2\"), \"FEMENINO\",\n  \"\")), \"\")","v":""},0,null,null,null,0]
[{"$f":"IF(Tabla3[[#This Row],[APELLIDOS Y NOMBRES]]>0,ROW()-14,\"\")","v":""},{"$f":"IFERROR(IF(Tabla3[[#This Row],[APELLIDOS Y NOMBRES]]>0,VLOOKUP($H$7,DATA!$A$79:$B$160,2,FALSE),\"\"),\"\")","v":""},null,null,null,null,null,{"$f":"((NOW()-Tabla3[[#This Row],[FECHA DE NACIMIENTO]])/365)-0.5","v":124.79767625317098},null,null,null,null,null,null,null,null,null,null,null,null,null,null,null,null,null,null,null,null,null,null,null,null,null,null,null,null,null,null,null,null,null,null,null,null,null,"",null,{"$f":"IFERROR(IF(OR(LOWER(Tabla3[[#This Row],[SEXO]])=\"masculino\", LOWER(Tabla3[[#This Row],[SEXO]])=\"m\", LOWER(Tabla3[[#This Row],[SEXO]])=\"1\"), \"MASCULINO\",\n  IF(OR(LOWER(Tabla3[[#This Row],[SEXO]])=\"femenino\", LOWER(Tabla3[[#This Row],[SEXO]])=\"f\", LOWER(Tabla3[[#This Row],[SEXO]])=\"2\"), \"FEMENINO\",\n  \"\")), \"\")","v":""},0,null,null,null,0]
[{"$f":"IF(Tabla3[[#This Row],[APELLIDOS Y NOMBRES]]>0,ROW()-14,\"\")","v":""},{"$f":"IFERROR(IF(Tabla3[[#This Row],[APELLIDOS Y NOMBRES]]>0,VLOOKUP($H$7,DATA!$A$79:$B$160,2,FALSE),\"\"),\"\")","v":""},null,null,null,null,null,{"$f":"((NOW()-Tabla3[[#This Row],[FECHA DE NACIMIENTO]])/365)-0.5","v":124.79767625317098},null,null,null,null,null,null,null,null,null,null,null,null,null,null,null,null,null,null,null,null,null,null,null,null,null,null,null,null,null,null,null,null,null,null,null,null,null,"",null,{"$f":"IFERROR(IF(OR(LOWER(Tabla3[[#This Row],[SEXO]])=\"masculino\", LOWER(Tabla3[[#This Row],[SEXO]])=\"m\", LOWER(Tabla3[[#This Row],[SEXO]])=\"1\"), \"MASCULINO\",\n  IF(OR(LOWER(Tabla3[[#This Row],[SEXO]])=\"femenino\", LOWER(Tabla3[[#This Row],[SEXO]])=\"f\", LOWER(Tabla3[[#This Row],[SEXO]])=\"2\"), \"FEMENINO\",\n  \"\")), \"\")","v":""},0,null,null,null,0]
[{"$f":"IF(Tabla3[[#This Row],[APELLIDOS Y NOMBRES]]>0,ROW()-14,\"\")","v":""},{"$f":"IFERROR(IF(Tabla3[[#This Row],[APELLIDOS Y NOMBRES]]>0,VLOOKUP($H$7,DATA!$A$79:$B$160,2,FALSE),\"\"),\"\")","v":""},null,null,null,null,null,{"$f":"((NOW()-Tabla3[[#This Row],[FECHA DE NACIMIENTO]])/365)-0.5","v":124.79767625317098},null,null,null,null,null,null,null,null,null,null,null,null,null,null,null,null,null,null,null,null,null,null,null,null,null,null,null,null,null,null,null,null,null,null,null,null,null,"",null,{"$f":"IFERROR(IF(OR(LOWER(Tabla3[[#This Row],[SEXO]])=\"masculino\", LOWER(Tabla3[[#This Row],[SEXO]])=\"m\", LOWER(Tabla3[[#This Row],[SEXO]])=\"1\"), \"MASCULINO\",\n  IF(OR(LOWER(Tabla3[[#This Row],[SEXO]])=\"femenino\", LOWER(Tabla3[[#This Row],[SEXO]])=\"f\", LOWER(Tabla3[[#This Row],[SEXO]])=\"2\"), \"FEMENINO\",\n  \"\")), \"\")","v":""},0,null,null,null,0]
[{"$f":"IF(Tabla3[[#This Row],[APELLIDOS Y NOMBRES]]>0,ROW()-14,\"\")","v":""},{"$f":"IFERROR(IF(Tabla3[[#This Row],[APELLIDOS Y NOMBRES]]>0,VLOOKUP($H$7,DATA!$A$79:$B$160,2,FALSE),\"\"),\"\")","v":""},null,null,null,null,null,{"$f":"((NOW()-Tabla3[[#This Row],[FECHA DE NACIMIENTO]])/365)-0.5","v":124.79767625317098},null,null,null,null,null,null,null,null,null,null,null,null,null,null,null,null,null,null,null,null,null,null,null,null,null,null,null,null,null,null,null,null,null,null,null,null,null,"",null,{"$f":"IFERROR(IF(OR(LOWER(Tabla3[[#This Row],[SEXO]])=\"masculino\", LOWER(Tabla3[[#This Row],[SEXO]])=\"m\", LOWER(Tabla3[[#This Row],[SEXO]])=\"1\"), \"MASCULINO\",\n  IF(OR(LOWER(Tabla3[[#This Row],[SEXO]])=\"femenino\", LOWER(Tabla3[[#This Row],[SEXO]])=\"f\", LOWER(Tabla3[[#This Row],[SEXO]])=\"2\"), \"FEMENINO\",\n  \"\")), \"\")","v":""},0,null,null,null,0]
[{"$f":"IF(Tabla3[[#This Row],[APELLIDOS Y NOMBRES]]>0,ROW()-14,\"\")","v":""},{"$f":"IFERROR(IF(Tabla3[[#This Row],[APELLIDOS Y NOMBRES]]>0,VLOOKUP($H$7,DATA!$A$79:$B$160,2,FALSE),\"\"),\"\")","v":""},null,null,null,null,null,{"$f":"((NOW()-Tabla3[[#This Row],[FECHA DE NACIMIENTO]])/365)-0.5","v":124.79767625317098},null,null,null,null,null,null,null,null,null,null,null,null,null,null,null,null,null,null,null,null,null,null,null,null,null,null,null,null,null,null,null,null,null,null,null,null,null,"",null,{"$f":"IFERROR(IF(OR(LOWER(Tabla3[[#This Row],[SEXO]])=\"masculino\", LOWER(Tabla3[[#This Row],[SEXO]])=\"m\", LOWER(Tabla3[[#This Row],[SEXO]])=\"1\"), \"MASCULINO\",\n  IF(OR(LOWER(Tabla3[[#This Row],[SEXO]])=\"femenino\", LOWER(Tabla3[[#This Row],[SEXO]])=\"f\", LOWER(Tabla3[[#This Row],[SEXO]])=\"2\"), \"FEMENINO\",\n  \"\")), \"\")","v":""},0,null,null,null,0]
[{"$f":"IF(Tabla3[[#This Row],[APELLIDOS Y NOMBRES]]>0,ROW()-14,\"\")","v":""},{"$f":"IFERROR(IF(Tabla3[[#This Row],[APELLIDOS Y NOMBRES]]>0,VLOOKUP($H$7,DATA!$A$79:$B$160,2,FALSE),\"\"),\"\")","v":""},null,null,null,null,null,{"$f":"((NOW()-Tabla3[[#This Row],[FECHA DE NACIMIENTO]])/365)-0.5","v":124.79767625317098},null,null,null,null,null,null,null,null,null,null,null,null,null,null,null,null,null,null,null,null,null,null,null,null,null,null,null,null,null,null,null,null,null,null,null,null,null,"",null,{"$f":"IFERROR(IF(OR(LOWER(Tabla3[[#This Row],[SEXO]])=\"masculino\", LOWER(Tabla3[[#This Row],[SEXO]])=\"m\", LOWER(Tabla3[[#This Row],[SEXO]])=\"1\"), \"MASCULINO\",\n  IF(OR(LOWER(Tabla3[[#This Row],[SEXO]])=\"femenino\", LOWER(Tabla3[[#This Row],[SEXO]])=\"f\", LOWER(Tabla3[[#This Row],[SEXO]])=\"2\"), \"FEMENINO\",\n  \"\")), \"\")","v":""},0,null,null,null,0]
[{"$f":"IF(Tabla3[[#This Row],[APELLIDOS Y NOMBRES]]>0,ROW()-14,\"\")","v":""},{"$f":"IFERROR(IF(Tabla3[[#This Row],[APELLIDOS Y NOMBRES]]>0,VLOOKUP($H$7,DATA!$A$79:$B$160,2,FALSE),\"\"),\"\")","v":""},null,null,null,null,null,{"$f":"((NOW()-Tabla3[[#This Row],[FECHA DE NACIMIENTO]])/365)-0.5","v":124.79767625317098},null,null,null,null,null,null,null,null,null,null,null,null,null,null,null,null,null,null,null,null,null,null,null,null,null,null,null,null,null,null,null,null,null,null,null,null,null,"",null,{"$f":"IFERROR(IF(OR(LOWER(Tabla3[[#This Row],[SEXO]])=\"masculino\", LOWER(Tabla3[[#This Row],[SEXO]])=\"m\", LOWER(Tabla3[[#This Row],[SEXO]])=\"1\"), \"MASCULINO\",\n  IF(OR(LOWER(Tabla3[[#This Row],[SEXO]])=\"femenino\", LOWER(Tabla3[[#This Row],[SEXO]])=\"f\", LOWER(Tabla3[[#This Row],[SEXO]])=\"2\"), \"FEMENINO\",\n  \"\")), \"\")","v":""},0,null,null,null,0]
[{"$f":"IF(Tabla3[[#This Row],[APELLIDOS Y NOMBRES]]>0,ROW()-14,\"\")","v":""},{"$f":"IFERROR(IF(Tabla3[[#This Row],[APELLIDOS Y NOMBRES]]>0,VLOOKUP($H$7,DATA!$A$79:$B$160,2,FALSE),\"\"),\"\")","v":""},null,null,null,null,null,{"$f":"((NOW()-Tabla3[[#This Row],[FECHA DE NACIMIENTO]])/365)-0.5","v":124.79767625317098},null,null,null,null,null,null,null,null,null,null,null,null,null,null,null,null,null,null,null,null,null,null,null,null,null,null,null,null,null,null,null,null,null,null,null,null,null,"",null,{"$f":"IFERROR(IF(OR(LOWER(Tabla3[[#This Row],[SEXO]])=\"masculino\", LOWER(Tabla3[[#This Row],[SEXO]])=\"m\", LOWER(Tabla3[[#This Row],[SEXO]])=\"1\"), \"MASCULINO\",\n  IF(OR(LOWER(Tabla3[[#This Row],[SEXO]])=\"femenino\", LOWER(Tabla3[[#This Row],[SEXO]])=\"f\", LOWER(Tabla3[[#This Row],[SEXO]])=\"2\"), \"FEMENINO\",\n  \"\")), \"\")","v":""},0,null,null,null,0]
[{"$f":"IF(Tabla3[[#This Row],[APELLIDOS Y NOMBRES]]>0,ROW()-14,\"\")","v":""},{"$f":"IFERROR(IF(Tabla3[[#This Row],[APELLIDOS Y NOMBRES]]>0,VLOOKUP($H$7,DATA!$A$79:$B$160,2,FALSE),\"\"),\"\")","v":""},null,null,null,null,null,{"$f":"((NOW()-Tabla3[[#This Row],[FECHA DE NACIMIENTO]])/365)-0.5","v":124.79767625317098},null,null,null,null,null,null,null,null,null,null,null,null,null,null,null,null,null,null,null,null,null,null,null,null,null,null,null,null,null,null,null,null,null,null,null,null,null,"",null,{"$f":"IFERROR(IF(OR(LOWER(Tabla3[[#This Row],[SEXO]])=\"masculino\", LOWER(Tabla3[[#This Row],[SEXO]])=\"m\", LOWER(Tabla3[[#This Row],[SEXO]])=\"1\"), \"MASCULINO\",\n  IF(OR(LOWER(Tabla3[[#This Row],[SEXO]])=\"femenino\", LOWER(Tabla3[[#This Row],[SEXO]])=\"f\", LOWER(Tabla3[[#This Row],[SEXO]])=\"2\"), \"FEMENINO\",\n  \"\")), \"\")","v":""},0,null,null,null,0]
[{"$f":"IF(Tabla3[[#This Row],[APELLIDOS Y NOMBRES]]>0,ROW()-14,\"\")","v":""},{"$f":"IFERROR(IF(Tabla3[[#This Row],[APELLIDOS Y NOMBRES]]>0,VLOOKUP($H$7,DATA!$A$79:$B$160,2,FALSE),\"\"),\"\")","v":""},null,null,null,null,null,{"$f":"((NOW()-Tabla3[[#This Row],[FECHA DE NACIMIENTO]])/365)-0.5","v":124.79767625317098},null,null,null,null,null,null,null,null,null,null,null,null,null,null,null,null,null,null,null,null,null,null,null,null,null,null,null,null,null,null,null,null,null,null,null,null,null,"",null,{"$f":"IFERROR(IF(OR(LOWER(Tabla3[[#This Row],[SEXO]])=\"masculino\", LOWER(Tabla3[[#This Row],[SEXO]])=\"m\", LOWER(Tabla3[[#This Row],[SEXO]])=\"1\"), \"MASCULINO\",\n  IF(OR(LOWER(Tabla3[[#This Row],[SEXO]])=\"femenino\", LOWER(Tabla3[[#This Row],[SEXO]])=\"f\", LOWER(Tabla3[[#This Row],[SEXO]])=\"2\"), \"FEMENINO\",\n  \"\")), \"\")","v":""},0,null,null,null,0]
[{"$f":"IF(Tabla3[[#This Row],[APELLIDOS Y NOMBRES]]>0,ROW()-14,\"\")","v":""},{"$f":"IFERROR(IF(Tabla3[[#This Row],[APELLIDOS Y NOMBRES]]>0,VLOOKUP($H$7,DATA!$A$79:$B$160,2,FALSE),\"\"),\"\")","v":""},null,null,null,null,null,{"$f":"((NOW()-Tabla3[[#This Row],[FECHA DE NACIMIENTO]])/365)-0.5","v":124.79767625317098},null,null,null,null,null,null,null,null,null,null,null,null,null,null,null,null,null,null,null,null,null,null,null,null,null,null,null,null,null,null,null,null,null,null,null,null,null,"",null,{"$f":"IFERROR(IF(OR(LOWER(Tabla3[[#This Row],[SEXO]])=\"masculino\", LOWER(Tabla3[[#This Row],[SEXO]])=\"m\", LOWER(Tabla3[[#This Row],[SEXO]])=\"1\"), \"MASCULINO\",\n  IF(OR(LOWER(Tabla3[[#This Row],[SEXO]])=\"femenino\", LOWER(Tabla3[[#This Row],[SEXO]])=\"f\", LOWER(Tabla3[[#This Row],[SEXO]])=\"2\"), \"FEMENINO\",\n  \"\")), \"\")","v":""},0,null,null,null,0]
[{"$f":"IF(Tabla3[[#This Row],[APELLIDOS Y NOMBRES]]>0,ROW()-14,\"\")","v":""},{"$f":"IFERROR(IF(Tabla3[[#This Row],[APELLIDOS Y NOMBRES]]>0,VLOOKUP($H$7,DATA!$A$79:$B$160,2,FALSE),\"\"),\"\")","v":""},null,null,null,null,null,{"$f":"((NOW()-Tabla3[[#This Row],[FECHA DE NACIMIENTO]])/365)-0.5","v":124.79767625317098},null,null,null,null,null,null,null,null,null,null,null,null,null,null,null,null,null,null,null,null,null,null,null,null,null,null,null,null,null,null,null,null,null,null,null,null,null,"",null,{"$f":"IFERROR(IF(OR(LOWER(Tabla3[[#This Row],[SEXO]])=\"masculino\", LOWER(Tabla3[[#This Row],[SEXO]])=\"m\", LOWER(Tabla3[[#This Row],[SEXO]])=\"1\"), \"MASCULINO\",\n  IF(OR(LOWER(Tabla3[[#This Row],[SEXO]])=\"femenino\", LOWER(Tabla3[[#This Row],[SEXO]])=\"f\", LOWER(Tabla3[[#This Row],[SEXO]])=\"2\"), \"FEMENINO\",\n  \"\")), \"\")","v":""},0,null,null,null,0]
[{"$f":"IF(Tabla3[[#This Row],[APELLIDOS Y NOMBRES]]>0,ROW()-14,\"\")","v":""},{"$f":"IFERROR(IF(Tabla3[[#This Row],[APELLIDOS Y NOMBRES]]>0,VLOOKUP($H$7,DATA!$A$79:$B$160,2,FALSE),\"\"),\"\")","v":""},null,null,null,null,null,{"$f":"((NOW()-Tabla3[[#This Row],[FECHA DE NACIMIENTO]])/365)-0.5","v":124.79767625317098},null,null,null,null,null,null,null,null,null,null,null,null,null,null,null,null,null,null,null,null,null,null,null,null,null,null,null,null,null,null,null,null,null,null,null,null,null,"",null,{"$f":"IFERROR(IF(OR(LOWER(Tabla3[[#This Row],[SEXO]])=\"masculino\", LOWER(Tabla3[[#This Row],[SEXO]])=\"m\", LOWER(Tabla3[[#This Row],[SEXO]])=\"1\"), \"MASCULINO\",\n  IF(OR(LOWER(Tabla3[[#This Row],[SEXO]])=\"femenino\", LOWER(Tabla3[[#This Row],[SEXO]])=\"f\", LOWER(Tabla3[[#This Row],[SEXO]])=\"2\"), \"FEMENINO\",\n  \"\")), \"\")","v":""},0,null,null,null,0]
[{"$f":"IF(Tabla3[[#This Row],[APELLIDOS Y NOMBRES]]>0,ROW()-14,\"\")","v":""},{"$f":"IFERROR(IF(Tabla3[[#This Row],[APELLIDOS Y NOMBRES]]>0,VLOOKUP($H$7,DATA!$A$79:$B$160,2,FALSE),\"\"),\"\")","v":""},null,null,null,null,null,{"$f":"((NOW()-Tabla3[[#This Row],[FECHA DE NACIMIENTO]])/365)-0.5","v":124.79767625317098},null,null,null,null,null,null,null,null,null,null,null,null,null,null,null,null,null,null,null,null,null,null,null,null,null,null,null,null,null,null,null,null,null,null,null,null,null,"",null,{"$f":"IFERROR(IF(OR(LOWER(Tabla3[[#This Row],[SEXO]])=\"masculino\", LOWER(Tabla3[[#This Row],[SEXO]])=\"m\", LOWER(Tabla3[[#This Row],[SEXO]])=\"1\"), \"MASCULINO\",\n  IF(OR(LOWER(Tabla3[[#This Row],[SEXO]])=\"femenino\", LOWER(Tabla3[[#This Row],[SEXO]])=\"f\", LOWER(Tabla3[[#This Row],[SEXO]])=\"2\"), \"FEMENINO\",\n  \"\")), \"\")","v":""},0,null,null,null,0]
[{"$f":"IF(Tabla3[[#This Row],[APELLIDOS Y NOMBRES]]>0,ROW()-14,\"\")","v":""},{"$f":"IFERROR(IF(Tabla3[[#This Row],[APELLIDOS Y NOMBRES]]>0,VLOOKUP($H$7,DATA!$A$79:$B$160,2,FALSE),\"\"),\"\")","v":""},null,null,null,null,null,{"$f":"((NOW()-Tabla3[[#This Row],[FECHA DE NACIMIENTO]])/365)-0.5","v":124.79767625317098},null,null,null,null,null,null,null,null,null,null,null,null,null,null,null,null,null,null,null,null,null,null,null,null,null,null,null,null,null,null,null,null,null,null,null,null,null,"",null,{"$f":"IFERROR(IF(OR(LOWER(Tabla3[[#This Row],[SEXO]])=\"masculino\", LOWER(Tabla3[[#This Row],[SEXO]])=\"m\", LOWER(Tabla3[[#This Row],[SEXO]])=\"1\"), \"MASCULINO\",\n  IF(OR(LOWER(Tabla3[[#This Row],[SEXO]])=\"femenino\", LOWER(Tabla3[[#This Row],[SEXO]])=\"f\", LOWER(Tabla3[[#This Row],[SEXO]])=\"2\"), \"FEMENINO\",\n  \"\")), \"\")","v":""},0,null,null,null,0]
[{"$f":"IF(Tabla3[[#This Row],[APELLIDOS Y NOMBRES]]>0,ROW()-14,\"\")","v":""},{"$f":"IFERROR(IF(Tabla3[[#This Row],[APELLIDOS Y NOMBRES]]>0,VLOOKUP($H$7,DATA!$A$79:$B$160,2,FALSE),\"\"),\"\")","v":""},null,null,null,null,null,{"$f":"((NOW()-Tabla3[[#This Row],[FECHA DE NACIMIENTO]])/365)-0.5","v":124.79767625317098},null,null,null,null,null,null,null,null,null,null,null,null,null,null,null,null,null,null,null,null,null,null,null,null,null,null,null,null,null,null,null,null,null,null,null,null,null,"",null,{"$f":"IFERROR(IF(OR(LOWER(Tabla3[[#This Row],[SEXO]])=\"masculino\", LOWER(Tabla3[[#This Row],[SEXO]])=\"m\", LOWER(Tabla3[[#This Row],[SEXO]])=\"1\"), \"MASCULINO\",\n  IF(OR(LOWER(Tabla3[[#This Row],[SEXO]])=\"femenino\", LOWER(Tabla3[[#This Row],[SEXO]])=\"f\", LOWER(Tabla3[[#This Row],[SEXO]])=\"2\"), \"FEMENINO\",\n  \"\")), \"\")","v":""},0,null,null,null,0]
[{"$f":"IF(Tabla3[[#This Row],[APELLIDOS Y NOMBRES]]>0,ROW()-14,\"\")","v":""},{"$f":"IFERROR(IF(Tabla3[[#This Row],[APELLIDOS Y NOMBRES]]>0,VLOOKUP($H$7,DATA!$A$79:$B$160,2,FALSE),\"\"),\"\")","v":""},null,null,null,null,null,{"$f":"((NOW()-Tabla3[[#This Row],[FECHA DE NACIMIENTO]])/365)-0.5","v":124.79767625317098},null,null,null,null,null,null,null,null,null,null,null,null,null,null,null,null,null,null,null,null,null,null,null,null,null,null,null,null,null,null,null,null,null,null,null,null,null,"",null,{"$f":"IFERROR(IF(OR(LOWER(Tabla3[[#This Row],[SEXO]])=\"masculino\", LOWER(Tabla3[[#This Row],[SEXO]])=\"m\", LOWER(Tabla3[[#This Row],[SEXO]])=\"1\"), \"MASCULINO\",\n  IF(OR(LOWER(Tabla3[[#This Row],[SEXO]])=\"femenino\", LOWER(Tabla3[[#This Row],[SEXO]])=\"f\", LOWER(Tabla3[[#This Row],[SEXO]])=\"2\"), \"FEMENINO\",\n  \"\")), \"\")","v":""},0,null,null,null,0]
[{"$f":"IF(Tabla3[[#This Row],[APELLIDOS Y NOMBRES]]>0,ROW()-14,\"\")","v":""},{"$f":"IFERROR(IF(Tabla3[[#This Row],[APELLIDOS Y NOMBRES]]>0,VLOOKUP($H$7,DATA!$A$79:$B$160,2,FALSE),\"\"),\"\")","v":""},null,null,null,null,null,{"$f":"((NOW()-Tabla3[[#This Row],[FECHA DE NACIMIENTO]])/365)-0.5","v":124.79767625317098},null,null,null,null,null,null,null,null,null,null,null,null,null,null,null,null,null,null,null,null,null,null,null,null,null,null,null,null,null,null,null,null,null,null,null,null,null,"",null,{"$f":"IFERROR(IF(OR(LOWER(Tabla3[[#This Row],[SEXO]])=\"masculino\", LOWER(Tabla3[[#This Row],[SEXO]])=\"m\", LOWER(Tabla3[[#This Row],[SEXO]])=\"1\"), \"MASCULINO\",\n  IF(OR(LOWER(Tabla3[[#This Row],[SEXO]])=\"femenino\", LOWER(Tabla3[[#This Row],[SEXO]])=\"f\", LOWER(Tabla3[[#This Row],[SEXO]])=\"2\"), \"FEMENINO\",\n  \"\")), \"\")","v":""},0,null,null,null,0]
[{"$f":"IF(Tabla3[[#This Row],[APELLIDOS Y NOMBRES]]>0,ROW()-14,\"\")","v":""},{"$f":"IFERROR(IF(Tabla3[[#This Row],[APELLIDOS Y NOMBRES]]>0,VLOOKUP($H$7,DATA!$A$79:$B$160,2,FALSE),\"\"),\"\")","v":""},null,null,null,null,null,{"$f":"((NOW()-Tabla3[[#This Row],[FECHA DE NACIMIENTO]])/365)-0.5","v":124.79767625317098},null,null,null,null,null,null,null,null,null,null,null,null,null,null,null,null,null,null,null,null,null,null,null,null,null,null,null,null,null,null,null,null,null,null,null,null,null,"",null,{"$f":"IFERROR(IF(OR(LOWER(Tabla3[[#This Row],[SEXO]])=\"masculino\", LOWER(Tabla3[[#This Row],[SEXO]])=\"m\", LOWER(Tabla3[[#This Row],[SEXO]])=\"1\"), \"MASCULINO\",\n  IF(OR(LOWER(Tabla3[[#This Row],[SEXO]])=\"femenino\", LOWER(Tabla3[[#This Row],[SEXO]])=\"f\", LOWER(Tabla3[[#This Row],[SEXO]])=\"2\"), \"FEMENINO\",\n  \"\")), \"\")","v":""},0,null,null,null,0]
[{"$f":"IF(Tabla3[[#This Row],[APELLIDOS Y NOMBRES]]>0,ROW()-14,\"\")","v":""},{"$f":"IFERROR(IF(Tabla3[[#This Row],[APELLIDOS Y NOMBRES]]>0,VLOOKUP($H$7,DATA!$A$79:$B$160,2,FALSE),\"\"),\"\")","v":""},null,null,null,null,null,{"$f":"((NOW()-Tabla3[[#This Row],[FECHA DE NACIMIENTO]])/365)-0.5","v":124.79767625317098},null,null,null,null,null,null,null,null,null,null,null,null,null,null,null,null,null,null,null,null,null,null,null,null,null,null,null,null,null,null,null,null,null,null,null,null,null,"",null,{"$f":"IFERROR(IF(OR(LOWER(Tabla3[[#This Row],[SEXO]])=\"masculino\", LOWER(Tabla3[[#This Row],[SEXO]])=\"m\", LOWER(Tabla3[[#This Row],[SEXO]])=\"1\"), \"MASCULINO\",\n  IF(OR(LOWER(Tabla3[[#This Row],[SEXO]])=\"femenino\", LOWER(Tabla3[[#This Row],[SEXO]])=\"f\", LOWER(Tabla3[[#This Row],[SEXO]])=\"2\"), \"FEMENINO\",\n  \"\")), \"\")","v":""},0,null,null,null,0]
[{"$f":"IF(Tabla3[[#This Row],[APELLIDOS Y NOMBRES]]>0,ROW()-14,\"\")","v":""},{"$f":"IFERROR(IF(Tabla3[[#This Row],[APELLIDOS Y NOMBRES]]>0,VLOOKUP($H$7,DATA!$A$79:$B$160,2,FALSE),\"\"),\"\")","v":""},null,null,null,null,null,{"$f":"((NOW()-Tabla3[[#This Row],[FECHA DE NACIMIENTO]])/365)-0.5","v":124.79767625317098},null,null,null,null,null,null,null,null,null,null,null,null,null,null,null,null,null,null,null,null,null,null,null,null,null,null,null,null,null,null,null,null,null,null,null,null,null,"",null,{"$f":"IFERROR(IF(OR(LOWER(Tabla3[[#This Row],[SEXO]])=\"masculino\", LOWER(Tabla3[[#This Row],[SEXO]])=\"m\", LOWER(Tabla3[[#This Row],[SEXO]])=\"1\"), \"MASCULINO\",\n  IF(OR(LOWER(Tabla3[[#This Row],[SEXO]])=\"femenino\", LOWER(Tabla3[[#This Row],[SEXO]])=\"f\", LOWER(Tabla3[[#This Row],[SEXO]])=\"2\"), \"FEMENINO\",\n  \"\")), \"\")","v":""},0,null,null,null,0]
[{"$f":"IF(Tabla3[[#This Row],[APELLIDOS Y NOMBRES]]>0,ROW()-14,\"\")","v":""},{"$f":"IFERROR(IF(Tabla3[[#This Row],[APELLIDOS Y NOMBRES]]>0,VLOOKUP($H$7,DATA!$A$79:$B$160,2,FALSE),\"\"),\"\")","v":""},null,null,null,null,null,{"$f":"((NOW()-Tabla3[[#This Row],[FECHA DE NACIMIENTO]])/365)-0.5","v":124.79767625317098},null,null,null,null,null,null,null,null,null,null,null,null,null,null,null,null,null,null,null,null,null,null,null,null,null,null,null,null,null,null,null,null,null,null,null,null,null,"",null,{"$f":"IFERROR(IF(OR(LOWER(Tabla3[[#This Row],[SEXO]])=\"masculino\", LOWER(Tabla3[[#This Row],[SEXO]])=\"m\", LOWER(Tabla3[[#This Row],[SEXO]])=\"1\"), \"MASCULINO\",\n  IF(OR(LOWER(Tabla3[[#This Row],[SEXO]])=\"femenino\", LOWER(Tabla3[[#This Row],[SEXO]])=\"f\", LOWER(Tabla3[[#This Row],[SEXO]])=\"2\"), \"FEMENINO\",\n  \"\")), \"\")","v":""},0,null,null,null,0]
[{"$f":"IF(Tabla3[[#This Row],[APELLIDOS Y NOMBRES]]>0,ROW()-14,\"\")","v":""},{"$f":"IFERROR(IF(Tabla3[[#This Row],[APELLIDOS Y NOMBRES]]>0,VLOOKUP($H$7,DATA!$A$79:$B$160,2,FALSE),\"\"),\"\")","v":""},null,null,null,null,null,{"$f":"((NOW()-Tabla3[[#This Row],[FECHA DE NACIMIENTO]])/365)-0.5","v":124.79767625317098},null,null,null,null,null,null,null,null,null,null,null,null,null,null,null,null,null,null,null,null,null,null,null,null,null,null,null,null,null,null,null,null,null,null,null,null,null,"",null,{"$f":"IFERROR(IF(OR(LOWER(Tabla3[[#This Row],[SEXO]])=\"masculino\", LOWER(Tabla3[[#This Row],[SEXO]])=\"m\", LOWER(Tabla3[[#This Row],[SEXO]])=\"1\"), \"MASCULINO\",\n  IF(OR(LOWER(Tabla3[[#This Row],[SEXO]])=\"femenino\", LOWER(Tabla3[[#This Row],[SEXO]])=\"f\", LOWER(Tabla3[[#This Row],[SEXO]])=\"2\"), \"FEMENINO\",\n  \"\")), \"\")","v":""},0,null,null,null,0]
[{"$f":"IF(Tabla3[[#This Row],[APELLIDOS Y NOMBRES]]>0,ROW()-14,\"\")","v":""},{"$f":"IFERROR(IF(Tabla3[[#This Row],[APELLIDOS Y NOMBRES]]>0,VLOOKUP($H$7,DATA!$A$79:$B$160,2,FALSE),\"\"),\"\")","v":""},null,null,null,null,null,{"$f":"((NOW()-Tabla3[[#This Row],[FECHA DE NACIMIENTO]])/365)-0.5","v":124.79767625317098},null,null,null,null,null,null,null,null,null,null,null,null,null,null,null,null,null,null,null,null,null,null,null,null,null,null,null,null,null,null,null,null,null,null,null,null,null,"",null,{"$f":"IFERROR(IF(OR(LOWER(Tabla3[[#This Row],[SEXO]])=\"masculino\", LOWER(Tabla3[[#This Row],[SEXO]])=\"m\", LOWER(Tabla3[[#This Row],[SEXO]])=\"1\"), \"MASCULINO\",\n  IF(OR(LOWER(Tabla3[[#This Row],[SEXO]])=\"femenino\", LOWER(Tabla3[[#This Row],[SEXO]])=\"f\", LOWER(Tabla3[[#This Row],[SEXO]])=\"2\"), \"FEMENINO\",\n  \"\")), \"\")","v":""},0,null,null,null,0]
[{"$f":"IF(Tabla3[[#This Row],[APELLIDOS Y NOMBRES]]>0,ROW()-14,\"\")","v":""},{"$f":"IFERROR(IF(Tabla3[[#This Row],[APELLIDOS Y NOMBRES]]>0,VLOOKUP($H$7,DATA!$A$79:$B$160,2,FALSE),\"\"),\"\")","v":""},null,null,null,null,null,{"$f":"((NOW()-Tabla3[[#This Row],[FECHA DE NACIMIENTO]])/365)-0.5","v":124.79767625317098},null,null,null,null,null,null,null,null,null,null,null,null,null,null,null,null,null,null,null,null,null,null,null,null,null,null,null,null,null,null,null,null,null,null,null,null,null,"",null,{"$f":"IFERROR(IF(OR(LOWER(Tabla3[[#This Row],[SEXO]])=\"masculino\", LOWER(Tabla3[[#This Row],[SEXO]])=\"m\", LOWER(Tabla3[[#This Row],[SEXO]])=\"1\"), \"MASCULINO\",\n  IF(OR(LOWER(Tabla3[[#This Row],[SEXO]])=\"femenino\", LOWER(Tabla3[[#This Row],[SEXO]])=\"f\", LOWER(Tabla3[[#This Row],[SEXO]])=\"2\"), \"FEMENINO\",\n  \"\")), \"\")","v":""},0,null,null,null,0]
[{"$f":"IF(Tabla3[[#This Row],[APELLIDOS Y NOMBRES]]>0,ROW()-14,\"\")","v":""},{"$f":"IFERROR(IF(Tabla3[[#This Row],[APELLIDOS Y NOMBRES]]>0,VLOOKUP($H$7,DATA!$A$79:$B$160,2,FALSE),\"\"),\"\")","v":""},null,null,null,null,null,{"$f":"((NOW()-Tabla3[[#This Row],[FECHA DE NACIMIENTO]])/365)-0.5","v":124.79767625317098},null,null,null,null,null,null,null,null,null,null,null,null,null,null,null,null,null,null,null,null,null,null,null,null,null,null,null,null,null,null,null,null,null,null,null,null,null,"",null,{"$f":"IFERROR(IF(OR(LOWER(Tabla3[[#This Row],[SEXO]])=\"masculino\", LOWER(Tabla3[[#This Row],[SEXO]])=\"m\", LOWER(Tabla3[[#This Row],[SEXO]])=\"1\"), \"MASCULINO\",\n  IF(OR(LOWER(Tabla3[[#This Row],[SEXO]])=\"femenino\", LOWER(Tabla3[[#This Row],[SEXO]])=\"f\", LOWER(Tabla3[[#This Row],[SEXO]])=\"2\"), \"FEMENINO\",\n  \"\")), \"\")","v":""},0,null,null,null,0]
[{"$f":"IF(Tabla3[[#This Row],[APELLIDOS Y NOMBRES]]>0,ROW()-14,\"\")","v":""},{"$f":"IFERROR(IF(Tabla3[[#This Row],[APELLIDOS Y NOMBRES]]>0,VLOOKUP($H$7,DATA!$A$79:$B$160,2,FALSE),\"\"),\"\")","v":""},null,null,null,null,null,{"$f":"((NOW()-Tabla3[[#This Row],[FECHA DE NACIMIENTO]])/365)-0.5","v":124.79767625317098},null,null,null,null,null,null,null,null,null,null,null,null,null,null,null,null,null,null,null,null,null,null,null,null,null,null,null,null,null,null,null,null,null,null,null,null,null,"",null,{"$f":"IFERROR(IF(OR(LOWER(Tabla3[[#This Row],[SEXO]])=\"masculino\", LOWER(Tabla3[[#This Row],[SEXO]])=\"m\", LOWER(Tabla3[[#This Row],[SEXO]])=\"1\"), \"MASCULINO\",\n  IF(OR(LOWER(Tabla3[[#This Row],[SEXO]])=\"femenino\", LOWER(Tabla3[[#This Row],[SEXO]])=\"f\", LOWER(Tabla3[[#This Row],[SEXO]])=\"2\"), \"FEMENINO\",\n  \"\")), \"\")","v":""},0,null,null,null,0]
[{"$f":"IF(Tabla3[[#This Row],[APELLIDOS Y NOMBRES]]>0,ROW()-14,\"\")","v":""},{"$f":"IFERROR(IF(Tabla3[[#This Row],[APELLIDOS Y NOMBRES]]>0,VLOOKUP($H$7,DATA!$A$79:$B$160,2,FALSE),\"\"),\"\")","v":""},null,null,null,null,null,{"$f":"((NOW()-Tabla3[[#This Row],[FECHA DE NACIMIENTO]])/365)-0.5","v":124.79767625317098},null,null,null,null,null,null,null,null,null,null,null,null,null,null,null,null,null,null,null,null,null,null,null,null,null,null,null,null,null,null,null,null,null,null,null,null,null,"",null,{"$f":"IFERROR(IF(OR(LOWER(Tabla3[[#This Row],[SEXO]])=\"masculino\", LOWER(Tabla3[[#This Row],[SEXO]])=\"m\", LOWER(Tabla3[[#This Row],[SEXO]])=\"1\"), \"MASCULINO\",\n  IF(OR(LOWER(Tabla3[[#This Row],[SEXO]])=\"femenino\", LOWER(Tabla3[[#This Row],[SEXO]])=\"f\", LOWER(Tabla3[[#This Row],[SEXO]])=\"2\"), \"FEMENINO\",\n  \"\")), \"\")","v":""},0,null,null,null,0]
[{"$f":"IF(Tabla3[[#This Row],[APELLIDOS Y NOMBRES]]>0,ROW()-14,\"\")","v":""},{"$f":"IFERROR(IF(Tabla3[[#This Row],[APELLIDOS Y NOMBRES]]>0,VLOOKUP($H$7,DATA!$A$79:$B$160,2,FALSE),\"\"),\"\")","v":""},null,null,null,null,null,{"$f":"((NOW()-Tabla3[[#This Row],[FECHA DE NACIMIENTO]])/365)-0.5","v":124.79767625317098},null,null,null,null,null,null,null,null,null,null,null,null,null,null,null,null,null,null,null,null,null,null,null,null,null,null,null,null,null,null,null,null,null,null,null,null,null,"",null,{"$f":"IFERROR(IF(OR(LOWER(Tabla3[[#This Row],[SEXO]])=\"masculino\", LOWER(Tabla3[[#This Row],[SEXO]])=\"m\", LOWER(Tabla3[[#This Row],[SEXO]])=\"1\"), \"MASCULINO\",\n  IF(OR(LOWER(Tabla3[[#This Row],[SEXO]])=\"femenino\", LOWER(Tabla3[[#This Row],[SEXO]])=\"f\", LOWER(Tabla3[[#This Row],[SEXO]])=\"2\"), \"FEMENINO\",\n  \"\")), \"\")","v":""},0,null,null,null,0]
[{"$f":"IF(Tabla3[[#This Row],[APELLIDOS Y NOMBRES]]>0,ROW()-14,\"\")","v":""},{"$f":"IFERROR(IF(Tabla3[[#This Row],[APELLIDOS Y NOMBRES]]>0,VLOOKUP($H$7,DATA!$A$79:$B$160,2,FALSE),\"\"),\"\")","v":""},null,null,null,null,null,{"$f":"((NOW()-Tabla3[[#This Row],[FECHA DE NACIMIENTO]])/365)-0.5","v":124.79767625317098},null,null,null,null,null,null,null,null,null,null,null,null,null,null,null,null,null,null,null,null,null,null,null,null,null,null,null,null,null,null,null,null,null,null,null,null,null,"",null,{"$f":"IFERROR(IF(OR(LOWER(Tabla3[[#This Row],[SEXO]])=\"masculino\", LOWER(Tabla3[[#This Row],[SEXO]])=\"m\", LOWER(Tabla3[[#This Row],[SEXO]])=\"1\"), \"MASCULINO\",\n  IF(OR(LOWER(Tabla3[[#This Row],[SEXO]])=\"femenino\", LOWER(Tabla3[[#This Row],[SEXO]])=\"f\", LOWER(Tabla3[[#This Row],[SEXO]])=\"2\"), \"FEMENINO\",\n  \"\")), \"\")","v":""},0,null,null,null,0]
[{"$f":"IF(Tabla3[[#This Row],[APELLIDOS Y NOMBRES]]>0,ROW()-14,\"\")","v":""},{"$f":"IFERROR(IF(Tabla3[[#This Row],[APELLIDOS Y NOMBRES]]>0,VLOOKUP($H$7,DATA!$A$79:$B$160,2,FALSE),\"\"),\"\")","v":""},null,null,null,null,null,{"$f":"((NOW()-Tabla3[[#This Row],[FECHA DE NACIMIENTO]])/365)-0.5","v":124.79767625317098},null,null,null,null,null,null,null,null,null,null,null,null,null,null,null,null,null,null,null,null,null,null,null,null,null,null,null,null,null,null,null,null,null,null,null,null,null,"",null,{"$f":"IFERROR(IF(OR(LOWER(Tabla3[[#This Row],[SEXO]])=\"masculino\", LOWER(Tabla3[[#This Row],[SEXO]])=\"m\", LOWER(Tabla3[[#This Row],[SEXO]])=\"1\"), \"MASCULINO\",\n  IF(OR(LOWER(Tabla3[[#This Row],[SEXO]])=\"femenino\", LOWER(Tabla3[[#This Row],[SEXO]])=\"f\", LOWER(Tabla3[[#This Row],[SEXO]])=\"2\"), \"FEMENINO\",\n  \"\")), \"\")","v":""},0,null,null,null,0]
[{"$f":"IF(Tabla3[[#This Row],[APELLIDOS Y NOMBRES]]>0,ROW()-14,\"\")","v":""},{"$f":"IFERROR(IF(Tabla3[[#This Row],[APELLIDOS Y NOMBRES]]>0,VLOOKUP($H$7,DATA!$A$79:$B$160,2,FALSE),\"\"),\"\")","v":""},null,null,null,null,null,{"$f":"((NOW()-Tabla3[[#This Row],[FECHA DE NACIMIENTO]])/365)-0.5","v":124.79767625317098},null,null,null,null,null,null,null,null,null,null,null,null,null,null,null,null,null,null,null,null,null,null,null,null,null,null,null,null,null,null,null,null,null,null,null,null,null,"",null,{"$f":"IFERROR(IF(OR(LOWER(Tabla3[[#This Row],[SEXO]])=\"masculino\", LOWER(Tabla3[[#This Row],[SEXO]])=\"m\", LOWER(Tabla3[[#This Row],[SEXO]])=\"1\"), \"MASCULINO\",\n  IF(OR(LOWER(Tabla3[[#This Row],[SEXO]])=\"femenino\", LOWER(Tabla3[[#This Row],[SEXO]])=\"f\", LOWER(Tabla3[[#This Row],[SEXO]])=\"2\"), \"FEMENINO\",\n  \"\")), \"\")","v":""},0,null,null,null,0]
[{"$f":"IF(Tabla3[[#This Row],[APELLIDOS Y NOMBRES]]>0,ROW()-14,\"\")","v":""},{"$f":"IFERROR(IF(Tabla3[[#This Row],[APELLIDOS Y NOMBRES]]>0,VLOOKUP($H$7,DATA!$A$79:$B$160,2,FALSE),\"\"),\"\")","v":""},null,null,null,null,null,{"$f":"((NOW()-Tabla3[[#This Row],[FECHA DE NACIMIENTO]])/365)-0.5","v":124.79767625317098},null,null,null,null,null,null,null,null,null,null,null,null,null,null,null,null,null,null,null,null,null,null,null,null,null,null,null,null,null,null,null,null,null,null,null,null,null,"",null,{"$f":"IFERROR(IF(OR(LOWER(Tabla3[[#This Row],[SEXO]])=\"masculino\", LOWER(Tabla3[[#This Row],[SEXO]])=\"m\", LOWER(Tabla3[[#This Row],[SEXO]])=\"1\"), \"MASCULINO\",\n  IF(OR(LOWER(Tabla3[[#This Row],[SEXO]])=\"femenino\", LOWER(Tabla3[[#This Row],[SEXO]])=\"f\", LOWER(Tabla3[[#This Row],[SEXO]])=\"2\"), \"FEMENINO\",\n  \"\")), \"\")","v":""},0,null,null,null,0]
[{"$f":"IF(Tabla3[[#This Row],[APELLIDOS Y NOMBRES]]>0,ROW()-14,\"\")","v":""},{"$f":"IFERROR(IF(Tabla3[[#This Row],[APELLIDOS Y NOMBRES]]>0,VLOOKUP($H$7,DATA!$A$79:$B$160,2,FALSE),\"\"),\"\")","v":""},null,null,null,null,null,{"$f":"((NOW()-Tabla3[[#This Row],[FECHA DE NACIMIENTO]])/365)-0.5","v":124.79767625317098},null,null,null,null,null,null,null,null,null,null,null,null,null,null,null,null,null,null,null,null,null,null,null,null,null,null,null,null,null,null,null,null,null,null,null,null,null,"",null,{"$f":"IFERROR(IF(OR(LOWER(Tabla3[[#This Row],[SEXO]])=\"masculino\", LOWER(Tabla3[[#This Row],[SEXO]])=\"m\", LOWER(Tabla3[[#This Row],[SEXO]])=\"1\"), \"MASCULINO\",\n  IF(OR(LOWER(Tabla3[[#This Row],[SEXO]])=\"femenino\", LOWER(Tabla3[[#This Row],[SEXO]])=\"f\", LOWER(Tabla3[[#This Row],[SEXO]])=\"2\"), \"FEMENINO\",\n  \"\")), \"\")","v":""},0,null,null,null,0]
[{"$f":"IF(Tabla3[[#This Row],[APELLIDOS Y NOMBRES]]>0,ROW()-14,\"\")","v":""},{"$f":"IFERROR(IF(Tabla3[[#This Row],[APELLIDOS Y NOMBRES]]>0,VLOOKUP($H$7,DATA!$A$79:$B$160,2,FALSE),\"\"),\"\")","v":""},null,null,null,null,null,{"$f":"((NOW()-Tabla3[[#This Row],[FECHA DE NACIMIENTO]])/365)-0.5","v":124.79767625317098},null,null,null,null,null,null,null,null,null,null,null,null,null,null,null,null,null,null,null,null,null,null,null,null,null,null,null,null,null,null,null,null,null,null,null,null,null,"",null,{"$f":"IFERROR(IF(OR(LOWER(Tabla3[[#This Row],[SEXO]])=\"masculino\", LOWER(Tabla3[[#This Row],[SEXO]])=\"m\", LOWER(Tabla3[[#This Row],[SEXO]])=\"1\"), \"MASCULINO\",\n  IF(OR(LOWER(Tabla3[[#This Row],[SEXO]])=\"femenino\", LOWER(Tabla3[[#This Row],[SEXO]])=\"f\", LOWER(Tabla3[[#This Row],[SEXO]])=\"2\"), \"FEMENINO\",\n  \"\")), \"\")","v":""},0,null,null,null,0]
[{"$f":"IF(Tabla3[[#This Row],[APELLIDOS Y NOMBRES]]>0,ROW()-14,\"\")","v":""},{"$f":"IFERROR(IF(Tabla3[[#This Row],[APELLIDOS Y NOMBRES]]>0,VLOOKUP($H$7,DATA!$A$79:$B$160,2,FALSE),\"\"),\"\")","v":""},null,null,null,null,null,{"$f":"((NOW()-Tabla3[[#This Row],[FECHA DE NACIMIENTO]])/365)-0.5","v":124.79767625317098},null,null,null,null,null,null,null,null,null,null,null,null,null,null,null,null,null,null,null,null,null,null,null,null,null,null,null,null,null,null,null,null,null,null,null,null,null,"",null,{"$f":"IFERROR(IF(OR(LOWER(Tabla3[[#This Row],[SEXO]])=\"masculino\", LOWER(Tabla3[[#This Row],[SEXO]])=\"m\", LOWER(Tabla3[[#This Row],[SEXO]])=\"1\"), \"MASCULINO\",\n  IF(OR(LOWER(Tabla3[[#This Row],[SEXO]])=\"femenino\", LOWER(Tabla3[[#This Row],[SEXO]])=\"f\", LOWER(Tabla3[[#This Row],[SEXO]])=\"2\"), \"FEMENINO\",\n  \"\")), \"\")","v":""},0,null,null,null,0]
[{"$f":"IF(Tabla3[[#This Row],[APELLIDOS Y NOMBRES]]>0,ROW()-14,\"\")","v":""},{"$f":"IFERROR(IF(Tabla3[[#This Row],[APELLIDOS Y NOMBRES]]>0,VLOOKUP($H$7,DATA!$A$79:$B$160,2,FALSE),\"\"),\"\")","v":""},null,null,null,null,null,{"$f":"((NOW()-Tabla3[[#This Row],[FECHA DE NACIMIENTO]])/365)-0.5","v":124.79767625317098},null,null,null,null,null,null,null,null,null,null,null,null,null,null,null,null,null,null,null,null,null,null,null,null,null,null,null,null,null,null,null,null,null,null,null,null,null,"",null,{"$f":"IFERROR(IF(OR(LOWER(Tabla3[[#This Row],[SEXO]])=\"masculino\", LOWER(Tabla3[[#This Row],[SEXO]])=\"m\", LOWER(Tabla3[[#This Row],[SEXO]])=\"1\"), \"MASCULINO\",\n  IF(OR(LOWER(Tabla3[[#This Row],[SEXO]])=\"femenino\", LOWER(Tabla3[[#This Row],[SEXO]])=\"f\", LOWER(Tabla3[[#This Row],[SEXO]])=\"2\"), \"FEMENINO\",\n  \"\")), \"\")","v":""},0,null,null,null,0]
[{"$f":"IF(Tabla3[[#This Row],[APELLIDOS Y NOMBRES]]>0,ROW()-14,\"\")","v":""},{"$f":"IFERROR(IF(Tabla3[[#This Row],[APELLIDOS Y NOMBRES]]>0,VLOOKUP($H$7,DATA!$A$79:$B$160,2,FALSE),\"\"),\"\")","v":""},null,null,null,null,null,{"$f":"((NOW()-Tabla3[[#This Row],[FECHA DE NACIMIENTO]])/365)-0.5","v":124.79767625317098},null,null,null,null,null,null,null,null,null,null,null,null,null,null,null,null,null,null,null,null,null,null,null,null,null,null,null,null,null,null,null,null,null,null,null,null,null,"",null,{"$f":"IFERROR(IF(OR(LOWER(Tabla3[[#This Row],[SEXO]])=\"masculino\", LOWER(Tabla3[[#This Row],[SEXO]])=\"m\", LOWER(Tabla3[[#This Row],[SEXO]])=\"1\"), \"MASCULINO\",\n  IF(OR(LOWER(Tabla3[[#This Row],[SEXO]])=\"femenino\", LOWER(Tabla3[[#This Row],[SEXO]])=\"f\", LOWER(Tabla3[[#This Row],[SEXO]])=\"2\"), \"FEMENINO\",\n  \"\")), \"\")","v":""},0,null,null,null,0]
[{"$f":"IF(Tabla3[[#This Row],[APELLIDOS Y NOMBRES]]>0,ROW()-14,\"\")","v":""},{"$f":"IFERROR(IF(Tabla3[[#This Row],[APELLIDOS Y NOMBRES]]>0,VLOOKUP($H$7,DATA!$A$79:$B$160,2,FALSE),\"\"),\"\")","v":""},null,null,null,null,null,{"$f":"((NOW()-Tabla3[[#This Row],[FECHA DE NACIMIENTO]])/365)-0.5","v":124.79767625317098},null,null,null,null,null,null,null,null,null,null,null,null,null,null,null,null,null,null,null,null,null,null,null,null,null,null,null,null,null,null,null,null,null,null,null,null,null,"",null,{"$f":"IFERROR(IF(OR(LOWER(Tabla3[[#This Row],[SEXO]])=\"masculino\", LOWER(Tabla3[[#This Row],[SEXO]])=\"m\", LOWER(Tabla3[[#This Row],[SEXO]])=\"1\"), \"MASCULINO\",\n  IF(OR(LOWER(Tabla3[[#This Row],[SEXO]])=\"femenino\", LOWER(Tabla3[[#This Row],[SEXO]])=\"f\", LOWER(Tabla3[[#This Row],[SEXO]])=\"2\"), \"FEMENINO\",\n  \"\")), \"\")","v":""},0,null,null,null,0]
[{"$f":"IF(Tabla3[[#This Row],[APELLIDOS Y NOMBRES]]>0,ROW()-14,\"\")","v":""},{"$f":"IFERROR(IF(Tabla3[[#This Row],[APELLIDOS Y NOMBRES]]>0,VLOOKUP($H$7,DATA!$A$79:$B$160,2,FALSE),\"\"),\"\")","v":""},null,null,null,null,null,{"$f":"((NOW()-Tabla3[[#This Row],[FECHA DE NACIMIENTO]])/365)-0.5","v":124.79767625317098},null,null,null,null,null,null,null,null,null,null,null,null,null,null,null,null,null,null,null,null,null,null,null,null,null,null,null,null,null,null,null,null,null,null,null,null,null,{"$f":"IF(OR($C$5=\"\", $D3664=\"\"), \"\", $C$5)","v":""},null,{"$f":"IFERROR(IF(OR(LOWER(Tabla3[[#This Row],[SEXO]])=\"masculino\", LOWER(Tabla3[[#This Row],[SEXO]])=\"m\", LOWER(Tabla3[[#This Row],[SEXO]])=\"1\"), \"MASCULINO\",\n  IF(OR(LOWER(Tabla3[[#This Row],[SEXO]])=\"femenino\", LOWER(Tabla3[[#This Row],[SEXO]])=\"f\", LOWER(Tabla3[[#This Row],[SEXO]])=\"2\"), \"FEMENINO\",\n  \"\")), \"\")","v":""},{"$f":"COUNTIF(P3664:AH3664,104)","v":0},null,null,null,{"$f":"IF(COUNTIF(P3664:AI3664,104)>0,1,0)","v":0}]
[{"$f":"IF(Tabla3[[#This Row],[APELLIDOS Y NOMBRES]]>0,ROW()-14,\"\")","v":""},{"$f":"IFERROR(IF(Tabla3[[#This Row],[APELLIDOS Y NOMBRES]]>0,VLOOKUP($H$7,DATA!$A$79:$B$160,2,FALSE),\"\"),\"\")","v":""},null,null,null,null,null,{"$f":"((NOW()-Tabla3[[#This Row],[FECHA DE NACIMIENTO]])/365)-0.5","v":124.79767625317098},null,null,null,null,null,null,null,null,null,null,null,null,null,null,null,null,null,null,null,null,null,null,null,null,null,null,null,null,null,null,null,null,null,null,null,null,null,"",null,{"$f":"IFERROR(IF(OR(LOWER(Tabla3[[#This Row],[SEXO]])=\"masculino\", LOWER(Tabla3[[#This Row],[SEXO]])=\"m\", LOWER(Tabla3[[#This Row],[SEXO]])=\"1\"), \"MASCULINO\",\n  IF(OR(LOWER(Tabla3[[#This Row],[SEXO]])=\"femenino\", LOWER(Tabla3[[#This Row],[SEXO]])=\"f\", LOWER(Tabla3[[#This Row],[SEXO]])=\"2\"), \"FEMENINO\",\n  \"\")), \"\")","v":""},0,null,null,null,0]
[{"$f":"IF(Tabla3[[#This Row],[APELLIDOS Y NOMBRES]]>0,ROW()-14,\"\")","v":""},{"$f":"IFERROR(IF(Tabla3[[#This Row],[APELLIDOS Y NOMBRES]]>0,VLOOKUP($H$7,DATA!$A$79:$B$160,2,FALSE),\"\"),\"\")","v":""},null,null,null,null,null,{"$f":"((NOW()-Tabla3[[#This Row],[FECHA DE NACIMIENTO]])/365)-0.5","v":124.79767625317098},null,null,null,null,null,null,null,null,null,null,null,null,null,null,null,null,null,null,null,null,null,null,null,null,null,null,null,null,null,null,null,null,null,null,null,null,null,"",null,{"$f":"IFERROR(IF(OR(LOWER(Tabla3[[#This Row],[SEXO]])=\"masculino\", LOWER(Tabla3[[#This Row],[SEXO]])=\"m\", LOWER(Tabla3[[#This Row],[SEXO]])=\"1\"), \"MASCULINO\",\n  IF(OR(LOWER(Tabla3[[#This Row],[SEXO]])=\"femenino\", LOWER(Tabla3[[#This Row],[SEXO]])=\"f\", LOWER(Tabla3[[#This Row],[SEXO]])=\"2\"), \"FEMENINO\",\n  \"\")), \"\")","v":""},0,null,null,null,0]
[{"$f":"IF(Tabla3[[#This Row],[APELLIDOS Y NOMBRES]]>0,ROW()-14,\"\")","v":""},{"$f":"IFERROR(IF(Tabla3[[#This Row],[APELLIDOS Y NOMBRES]]>0,VLOOKUP($H$7,DATA!$A$79:$B$160,2,FALSE),\"\"),\"\")","v":""},null,null,null,null,null,{"$f":"((NOW()-Tabla3[[#This Row],[FECHA DE NACIMIENTO]])/365)-0.5","v":124.79767625317098},null,null,null,null,null,null,null,null,null,null,null,null,null,null,null,null,null,null,null,null,null,null,null,null,null,null,null,null,null,null,null,null,null,null,null,null,null,"",null,{"$f":"IFERROR(IF(OR(LOWER(Tabla3[[#This Row],[SEXO]])=\"masculino\", LOWER(Tabla3[[#This Row],[SEXO]])=\"m\", LOWER(Tabla3[[#This Row],[SEXO]])=\"1\"), \"MASCULINO\",\n  IF(OR(LOWER(Tabla3[[#This Row],[SEXO]])=\"femenino\", LOWER(Tabla3[[#This Row],[SEXO]])=\"f\", LOWER(Tabla3[[#This Row],[SEXO]])=\"2\"), \"FEMENINO\",\n  \"\")), \"\")","v":""},0,null,null,null,0]
[{"$f":"IF(Tabla3[[#This Row],[APELLIDOS Y NOMBRES]]>0,ROW()-14,\"\")","v":""},{"$f":"IFERROR(IF(Tabla3[[#This Row],[APELLIDOS Y NOMBRES]]>0,VLOOKUP($H$7,DATA!$A$79:$B$160,2,FALSE),\"\"),\"\")","v":""},null,null,null,null,null,{"$f":"((NOW()-Tabla3[[#This Row],[FECHA DE NACIMIENTO]])/365)-0.5","v":124.79767625317098},null,null,null,null,null,null,null,null,null,null,null,null,null,null,null,null,null,null,null,null,null,null,null,null,null,null,null,null,null,null,null,null,null,null,null,null,null,"",null,{"$f":"IFERROR(IF(OR(LOWER(Tabla3[[#This Row],[SEXO]])=\"masculino\", LOWER(Tabla3[[#This Row],[SEXO]])=\"m\", LOWER(Tabla3[[#This Row],[SEXO]])=\"1\"), \"MASCULINO\",\n  IF(OR(LOWER(Tabla3[[#This Row],[SEXO]])=\"femenino\", LOWER(Tabla3[[#This Row],[SEXO]])=\"f\", LOWER(Tabla3[[#This Row],[SEXO]])=\"2\"), \"FEMENINO\",\n  \"\")), \"\")","v":""},0,null,null,null,0]
[{"$f":"IF(Tabla3[[#This Row],[APELLIDOS Y NOMBRES]]>0,ROW()-14,\"\")","v":""},{"$f":"IFERROR(IF(Tabla3[[#This Row],[APELLIDOS Y NOMBRES]]>0,VLOOKUP($H$7,DATA!$A$79:$B$160,2,FALSE),\"\"),\"\")","v":""},null,null,null,null,null,{"$f":"((NOW()-Tabla3[[#This Row],[FECHA DE NACIMIENTO]])/365)-0.5","v":124.79767625317098},null,null,null,null,null,null,null,null,null,null,null,null,null,null,null,null,null,null,null,null,null,null,null,null,null,null,null,null,null,null,null,null,null,null,null,null,null,"",null,{"$f":"IFERROR(IF(OR(LOWER(Tabla3[[#This Row],[SEXO]])=\"masculino\", LOWER(Tabla3[[#This Row],[SEXO]])=\"m\", LOWER(Tabla3[[#This Row],[SEXO]])=\"1\"), \"MASCULINO\",\n  IF(OR(LOWER(Tabla3[[#This Row],[SEXO]])=\"femenino\", LOWER(Tabla3[[#This Row],[SEXO]])=\"f\", LOWER(Tabla3[[#This Row],[SEXO]])=\"2\"), \"FEMENINO\",\n  \"\")), \"\")","v":""},0,null,null,null,0]
[{"$f":"IF(Tabla3[[#This Row],[APELLIDOS Y NOMBRES]]>0,ROW()-14,\"\")","v":""},{"$f":"IFERROR(IF(Tabla3[[#This Row],[APELLIDOS Y NOMBRES]]>0,VLOOKUP($H$7,DATA!$A$79:$B$160,2,FALSE),\"\"),\"\")","v":""},null,null,null,null,null,{"$f":"((NOW()-Tabla3[[#This Row],[FECHA DE NACIMIENTO]])/365)-0.5","v":124.79767625317098},null,null,null,null,null,null,null,null,null,null,null,null,null,null,null,null,null,null,null,null,null,null,null,null,null,null,null,null,null,null,null,null,null,null,null,null,null,"",null,{"$f":"IFERROR(IF(OR(LOWER(Tabla3[[#This Row],[SEXO]])=\"masculino\", LOWER(Tabla3[[#This Row],[SEXO]])=\"m\", LOWER(Tabla3[[#This Row],[SEXO]])=\"1\"), \"MASCULINO\",\n  IF(OR(LOWER(Tabla3[[#This Row],[SEXO]])=\"femenino\", LOWER(Tabla3[[#This Row],[SEXO]])=\"f\", LOWER(Tabla3[[#This Row],[SEXO]])=\"2\"), \"FEMENINO\",\n  \"\")), \"\")","v":""},0,null,null,null,0]
[{"$f":"IF(Tabla3[[#This Row],[APELLIDOS Y NOMBRES]]>0,ROW()-14,\"\")","v":""},{"$f":"IFERROR(IF(Tabla3[[#This Row],[APELLIDOS Y NOMBRES]]>0,VLOOKUP($H$7,DATA!$A$79:$B$160,2,FALSE),\"\"),\"\")","v":""},null,null,null,null,null,{"$f":"((NOW()-Tabla3[[#This Row],[FECHA DE NACIMIENTO]])/365)-0.5","v":124.79767625317098},null,null,null,null,null,null,null,null,null,null,null,null,null,null,null,null,null,null,null,null,null,null,null,null,null,null,null,null,null,null,null,null,null,null,null,null,null,"",null,{"$f":"IFERROR(IF(OR(LOWER(Tabla3[[#This Row],[SEXO]])=\"masculino\", LOWER(Tabla3[[#This Row],[SEXO]])=\"m\", LOWER(Tabla3[[#This Row],[SEXO]])=\"1\"), \"MASCULINO\",\n  IF(OR(LOWER(Tabla3[[#This Row],[SEXO]])=\"femenino\", LOWER(Tabla3[[#This Row],[SEXO]])=\"f\", LOWER(Tabla3[[#This Row],[SEXO]])=\"2\"), \"FEMENINO\",\n  \"\")), \"\")","v":""},0,null,null,null,0]
[{"$f":"IF(Tabla3[[#This Row],[APELLIDOS Y NOMBRES]]>0,ROW()-14,\"\")","v":""},{"$f":"IFERROR(IF(Tabla3[[#This Row],[APELLIDOS Y NOMBRES]]>0,VLOOKUP($H$7,DATA!$A$79:$B$160,2,FALSE),\"\"),\"\")","v":""},null,null,null,null,null,{"$f":"((NOW()-Tabla3[[#This Row],[FECHA DE NACIMIENTO]])/365)-0.5","v":124.79767625317098},null,null,null,null,null,null,null,null,null,null,null,null,null,null,null,null,null,null,null,null,null,null,null,null,null,null,null,null,null,null,null,null,null,null,null,null,null,"",null,{"$f":"IFERROR(IF(OR(LOWER(Tabla3[[#This Row],[SEXO]])=\"masculino\", LOWER(Tabla3[[#This Row],[SEXO]])=\"m\", LOWER(Tabla3[[#This Row],[SEXO]])=\"1\"), \"MASCULINO\",\n  IF(OR(LOWER(Tabla3[[#This Row],[SEXO]])=\"femenino\", LOWER(Tabla3[[#This Row],[SEXO]])=\"f\", LOWER(Tabla3[[#This Row],[SEXO]])=\"2\"), \"FEMENINO\",\n  \"\")), \"\")","v":""},0,null,null,null,0]
[{"$f":"IF(Tabla3[[#This Row],[APELLIDOS Y NOMBRES]]>0,ROW()-14,\"\")","v":""},{"$f":"IFERROR(IF(Tabla3[[#This Row],[APELLIDOS Y NOMBRES]]>0,VLOOKUP($H$7,DATA!$A$79:$B$160,2,FALSE),\"\"),\"\")","v":""},null,null,null,null,null,{"$f":"((NOW()-Tabla3[[#This Row],[FECHA DE NACIMIENTO]])/365)-0.5","v":124.79767625317098},null,null,null,null,null,null,null,null,null,null,null,null,null,null,null,null,null,null,null,null,null,null,null,null,null,null,null,null,null,null,null,null,null,null,null,null,null,"",null,{"$f":"IFERROR(IF(OR(LOWER(Tabla3[[#This Row],[SEXO]])=\"masculino\", LOWER(Tabla3[[#This Row],[SEXO]])=\"m\", LOWER(Tabla3[[#This Row],[SEXO]])=\"1\"), \"MASCULINO\",\n  IF(OR(LOWER(Tabla3[[#This Row],[SEXO]])=\"femenino\", LOWER(Tabla3[[#This Row],[SEXO]])=\"f\", LOWER(Tabla3[[#This Row],[SEXO]])=\"2\"), \"FEMENINO\",\n  \"\")), \"\")","v":""},0,null,null,null,0]
[{"$f":"IF(Tabla3[[#This Row],[APELLIDOS Y NOMBRES]]>0,ROW()-14,\"\")","v":""},{"$f":"IFERROR(IF(Tabla3[[#This Row],[APELLIDOS Y NOMBRES]]>0,VLOOKUP($H$7,DATA!$A$79:$B$160,2,FALSE),\"\"),\"\")","v":""},null,null,null,null,null,{"$f":"((NOW()-Tabla3[[#This Row],[FECHA DE NACIMIENTO]])/365)-0.5","v":124.79767625317098},null,null,null,null,null,null,null,null,null,null,null,null,null,null,null,null,null,null,null,null,null,null,null,null,null,null,null,null,null,null,null,null,null,null,null,null,null,"",null,{"$f":"IFERROR(IF(OR(LOWER(Tabla3[[#This Row],[SEXO]])=\"masculino\", LOWER(Tabla3[[#This Row],[SEXO]])=\"m\", LOWER(Tabla3[[#This Row],[SEXO]])=\"1\"), \"MASCULINO\",\n  IF(OR(LOWER(Tabla3[[#This Row],[SEXO]])=\"femenino\", LOWER(Tabla3[[#This Row],[SEXO]])=\"f\", LOWER(Tabla3[[#This Row],[SEXO]])=\"2\"), \"FEMENINO\",\n  \"\")), \"\")","v":""},0,null,null,null,0]
[{"$f":"IF(Tabla3[[#This Row],[APELLIDOS Y NOMBRES]]>0,ROW()-14,\"\")","v":""},{"$f":"IFERROR(IF(Tabla3[[#This Row],[APELLIDOS Y NOMBRES]]>0,VLOOKUP($H$7,DATA!$A$79:$B$160,2,FALSE),\"\"),\"\")","v":""},null,null,null,null,null,{"$f":"((NOW()-Tabla3[[#This Row],[FECHA DE NACIMIENTO]])/365)-0.5","v":124.79767625317098},null,null,null,null,null,null,null,null,null,null,null,null,null,null,null,null,null,null,null,null,null,null,null,null,null,null,null,null,null,null,null,null,null,null,null,null,null,"",null,{"$f":"IFERROR(IF(OR(LOWER(Tabla3[[#This Row],[SEXO]])=\"masculino\", LOWER(Tabla3[[#This Row],[SEXO]])=\"m\", LOWER(Tabla3[[#This Row],[SEXO]])=\"1\"), \"MASCULINO\",\n  IF(OR(LOWER(Tabla3[[#This Row],[SEXO]])=\"femenino\", LOWER(Tabla3[[#This Row],[SEXO]])=\"f\", LOWER(Tabla3[[#This Row],[SEXO]])=\"2\"), \"FEMENINO\",\n  \"\")), \"\")","v":""},0,null,null,null,0]
[{"$f":"IF(Tabla3[[#This Row],[APELLIDOS Y NOMBRES]]>0,ROW()-14,\"\")","v":""},{"$f":"IFERROR(IF(Tabla3[[#This Row],[APELLIDOS Y NOMBRES]]>0,VLOOKUP($H$7,DATA!$A$79:$B$160,2,FALSE),\"\"),\"\")","v":""},null,null,null,null,null,{"$f":"((NOW()-Tabla3[[#This Row],[FECHA DE NACIMIENTO]])/365)-0.5","v":124.79767625317098},null,null,null,null,null,null,null,null,null,null,null,null,null,null,null,null,null,null,null,null,null,null,null,null,null,null,null,null,null,null,null,null,null,null,null,null,null,"",null,{"$f":"IFERROR(IF(OR(LOWER(Tabla3[[#This Row],[SEXO]])=\"masculino\", LOWER(Tabla3[[#This Row],[SEXO]])=\"m\", LOWER(Tabla3[[#This Row],[SEXO]])=\"1\"), \"MASCULINO\",\n  IF(OR(LOWER(Tabla3[[#This Row],[SEXO]])=\"femenino\", LOWER(Tabla3[[#This Row],[SEXO]])=\"f\", LOWER(Tabla3[[#This Row],[SEXO]])=\"2\"), \"FEMENINO\",\n  \"\")), \"\")","v":""},0,null,null,null,0]
[{"$f":"IF(Tabla3[[#This Row],[APELLIDOS Y NOMBRES]]>0,ROW()-14,\"\")","v":""},{"$f":"IFERROR(IF(Tabla3[[#This Row],[APELLIDOS Y NOMBRES]]>0,VLOOKUP($H$7,DATA!$A$79:$B$160,2,FALSE),\"\"),\"\")","v":""},null,null,null,null,null,{"$f":"((NOW()-Tabla3[[#This Row],[FECHA DE NACIMIENTO]])/365)-0.5","v":124.79767625317098},null,null,null,null,null,null,null,null,null,null,null,null,null,null,null,null,null,null,null,null,null,null,null,null,null,null,null,null,null,null,null,null,null,null,null,null,null,"",null,{"$f":"IFERROR(IF(OR(LOWER(Tabla3[[#This Row],[SEXO]])=\"masculino\", LOWER(Tabla3[[#This Row],[SEXO]])=\"m\", LOWER(Tabla3[[#This Row],[SEXO]])=\"1\"), \"MASCULINO\",\n  IF(OR(LOWER(Tabla3[[#This Row],[SEXO]])=\"femenino\", LOWER(Tabla3[[#This Row],[SEXO]])=\"f\", LOWER(Tabla3[[#This Row],[SEXO]])=\"2\"), \"FEMENINO\",\n  \"\")), \"\")","v":""},0,null,null,null,0]
[{"$f":"IF(Tabla3[[#This Row],[APELLIDOS Y NOMBRES]]>0,ROW()-14,\"\")","v":""},{"$f":"IFERROR(IF(Tabla3[[#This Row],[APELLIDOS Y NOMBRES]]>0,VLOOKUP($H$7,DATA!$A$79:$B$160,2,FALSE),\"\"),\"\")","v":""},null,null,null,null,null,{"$f":"((NOW()-Tabla3[[#This Row],[FECHA DE NACIMIENTO]])/365)-0.5","v":124.79767625317098},null,null,null,null,null,null,null,null,null,null,null,null,null,null,null,null,null,null,null,null,null,null,null,null,null,null,null,null,null,null,null,null,null,null,null,null,null,"",null,{"$f":"IFERROR(IF(OR(LOWER(Tabla3[[#This Row],[SEXO]])=\"masculino\", LOWER(Tabla3[[#This Row],[SEXO]])=\"m\", LOWER(Tabla3[[#This Row],[SEXO]])=\"1\"), \"MASCULINO\",\n  IF(OR(LOWER(Tabla3[[#This Row],[SEXO]])=\"femenino\", LOWER(Tabla3[[#This Row],[SEXO]])=\"f\", LOWER(Tabla3[[#This Row],[SEXO]])=\"2\"), \"FEMENINO\",\n  \"\")), \"\")","v":""},0,null,null,null,0]
[{"$f":"IF(Tabla3[[#This Row],[APELLIDOS Y NOMBRES]]>0,ROW()-14,\"\")","v":""},{"$f":"IFERROR(IF(Tabla3[[#This Row],[APELLIDOS Y NOMBRES]]>0,VLOOKUP($H$7,DATA!$A$79:$B$160,2,FALSE),\"\"),\"\")","v":""},null,null,null,null,null,{"$f":"((NOW()-Tabla3[[#This Row],[FECHA DE NACIMIENTO]])/365)-0.5","v":124.79767625317098},null,null,null,null,null,null,null,null,null,null,null,null,null,null,null,null,null,null,null,null,null,null,null,null,null,null,null,null,null,null,null,null,null,null,null,null,null,"",null,{"$f":"IFERROR(IF(OR(LOWER(Tabla3[[#This Row],[SEXO]])=\"masculino\", LOWER(Tabla3[[#This Row],[SEXO]])=\"m\", LOWER(Tabla3[[#This Row],[SEXO]])=\"1\"), \"MASCULINO\",\n  IF(OR(LOWER(Tabla3[[#This Row],[SEXO]])=\"femenino\", LOWER(Tabla3[[#This Row],[SEXO]])=\"f\", LOWER(Tabla3[[#This Row],[SEXO]])=\"2\"), \"FEMENINO\",\n  \"\")), \"\")","v":""},0,null,null,null,0]
[{"$f":"IF(Tabla3[[#This Row],[APELLIDOS Y NOMBRES]]>0,ROW()-14,\"\")","v":""},{"$f":"IFERROR(IF(Tabla3[[#This Row],[APELLIDOS Y NOMBRES]]>0,VLOOKUP($H$7,DATA!$A$79:$B$160,2,FALSE),\"\"),\"\")","v":""},null,null,null,null,null,{"$f":"((NOW()-Tabla3[[#This Row],[FECHA DE NACIMIENTO]])/365)-0.5","v":124.79767625317098},null,null,null,null,null,null,null,null,null,null,null,null,null,null,null,null,null,null,null,null,null,null,null,null,null,null,null,null,null,null,null,null,null,null,null,null,null,"",null,{"$f":"IFERROR(IF(OR(LOWER(Tabla3[[#This Row],[SEXO]])=\"masculino\", LOWER(Tabla3[[#This Row],[SEXO]])=\"m\", LOWER(Tabla3[[#This Row],[SEXO]])=\"1\"), \"MASCULINO\",\n  IF(OR(LOWER(Tabla3[[#This Row],[SEXO]])=\"femenino\", LOWER(Tabla3[[#This Row],[SEXO]])=\"f\", LOWER(Tabla3[[#This Row],[SEXO]])=\"2\"), \"FEMENINO\",\n  \"\")), \"\")","v":""},0,null,null,null,0]
[{"$f":"IF(Tabla3[[#This Row],[APELLIDOS Y NOMBRES]]>0,ROW()-14,\"\")","v":""},{"$f":"IFERROR(IF(Tabla3[[#This Row],[APELLIDOS Y NOMBRES]]>0,VLOOKUP($H$7,DATA!$A$79:$B$160,2,FALSE),\"\"),\"\")","v":""},null,null,null,null,null,{"$f":"((NOW()-Tabla3[[#This Row],[FECHA DE NACIMIENTO]])/365)-0.5","v":124.79767625317098},null,null,null,null,null,null,null,null,null,null,null,null,null,null,null,null,null,null,null,null,null,null,null,null,null,null,null,null,null,null,null,null,null,null,null,null,null,"",null,{"$f":"IFERROR(IF(OR(LOWER(Tabla3[[#This Row],[SEXO]])=\"masculino\", LOWER(Tabla3[[#This Row],[SEXO]])=\"m\", LOWER(Tabla3[[#This Row],[SEXO]])=\"1\"), \"MASCULINO\",\n  IF(OR(LOWER(Tabla3[[#This Row],[SEXO]])=\"femenino\", LOWER(Tabla3[[#This Row],[SEXO]])=\"f\", LOWER(Tabla3[[#This Row],[SEXO]])=\"2\"), \"FEMENINO\",\n  \"\")), \"\")","v":""},0,null,null,null,0]
[{"$f":"IF(Tabla3[[#This Row],[APELLIDOS Y NOMBRES]]>0,ROW()-14,\"\")","v":""},{"$f":"IFERROR(IF(Tabla3[[#This Row],[APELLIDOS Y NOMBRES]]>0,VLOOKUP($H$7,DATA!$A$79:$B$160,2,FALSE),\"\"),\"\")","v":""},null,null,null,null,null,{"$f":"((NOW()-Tabla3[[#This Row],[FECHA DE NACIMIENTO]])/365)-0.5","v":124.79767625317098},null,null,null,null,null,null,null,null,null,null,null,null,null,null,null,null,null,null,null,null,null,null,null,null,null,null,null,null,null,null,null,null,null,null,null,null,null,"",null,{"$f":"IFERROR(IF(OR(LOWER(Tabla3[[#This Row],[SEXO]])=\"masculino\", LOWER(Tabla3[[#This Row],[SEXO]])=\"m\", LOWER(Tabla3[[#This Row],[SEXO]])=\"1\"), \"MASCULINO\",\n  IF(OR(LOWER(Tabla3[[#This Row],[SEXO]])=\"femenino\", LOWER(Tabla3[[#This Row],[SEXO]])=\"f\", LOWER(Tabla3[[#This Row],[SEXO]])=\"2\"), \"FEMENINO\",\n  \"\")), \"\")","v":""},0,null,null,null,0]
[{"$f":"IF(Tabla3[[#This Row],[APELLIDOS Y NOMBRES]]>0,ROW()-14,\"\")","v":""},{"$f":"IFERROR(IF(Tabla3[[#This Row],[APELLIDOS Y NOMBRES]]>0,VLOOKUP($H$7,DATA!$A$79:$B$160,2,FALSE),\"\"),\"\")","v":""},null,null,null,null,null,{"$f":"((NOW()-Tabla3[[#This Row],[FECHA DE NACIMIENTO]])/365)-0.5","v":124.79767625317098},null,null,null,null,null,null,null,null,null,null,null,null,null,null,null,null,null,null,null,null,null,null,null,null,null,null,null,null,null,null,null,null,null,null,null,null,null,"",null,{"$f":"IFERROR(IF(OR(LOWER(Tabla3[[#This Row],[SEXO]])=\"masculino\", LOWER(Tabla3[[#This Row],[SEXO]])=\"m\", LOWER(Tabla3[[#This Row],[SEXO]])=\"1\"), \"MASCULINO\",\n  IF(OR(LOWER(Tabla3[[#This Row],[SEXO]])=\"femenino\", LOWER(Tabla3[[#This Row],[SEXO]])=\"f\", LOWER(Tabla3[[#This Row],[SEXO]])=\"2\"), \"FEMENINO\",\n  \"\")), \"\")","v":""},0,null,null,null,0]
[{"$f":"IF(Tabla3[[#This Row],[APELLIDOS Y NOMBRES]]>0,ROW()-14,\"\")","v":""},{"$f":"IFERROR(IF(Tabla3[[#This Row],[APELLIDOS Y NOMBRES]]>0,VLOOKUP($H$7,DATA!$A$79:$B$160,2,FALSE),\"\"),\"\")","v":""},null,null,null,null,null,{"$f":"((NOW()-Tabla3[[#This Row],[FECHA DE NACIMIENTO]])/365)-0.5","v":124.79767625317098},null,null,null,null,null,null,null,null,null,null,null,null,null,null,null,null,null,null,null,null,null,null,null,null,null,null,null,null,null,null,null,null,null,null,null,null,null,"",null,{"$f":"IFERROR(IF(OR(LOWER(Tabla3[[#This Row],[SEXO]])=\"masculino\", LOWER(Tabla3[[#This Row],[SEXO]])=\"m\", LOWER(Tabla3[[#This Row],[SEXO]])=\"1\"), \"MASCULINO\",\n  IF(OR(LOWER(Tabla3[[#This Row],[SEXO]])=\"femenino\", LOWER(Tabla3[[#This Row],[SEXO]])=\"f\", LOWER(Tabla3[[#This Row],[SEXO]])=\"2\"), \"FEMENINO\",\n  \"\")), \"\")","v":""},0,null,null,null,0]
[{"$f":"IF(Tabla3[[#This Row],[APELLIDOS Y NOMBRES]]>0,ROW()-14,\"\")","v":""},{"$f":"IFERROR(IF(Tabla3[[#This Row],[APELLIDOS Y NOMBRES]]>0,VLOOKUP($H$7,DATA!$A$79:$B$160,2,FALSE),\"\"),\"\")","v":""},null,null,null,null,null,{"$f":"((NOW()-Tabla3[[#This Row],[FECHA DE NACIMIENTO]])/365)-0.5","v":124.79767625317098},null,null,null,null,null,null,null,null,null,null,null,null,null,null,null,null,null,null,null,null,null,null,null,null,null,null,null,null,null,null,null,null,null,null,null,null,null,"",null,{"$f":"IFERROR(IF(OR(LOWER(Tabla3[[#This Row],[SEXO]])=\"masculino\", LOWER(Tabla3[[#This Row],[SEXO]])=\"m\", LOWER(Tabla3[[#This Row],[SEXO]])=\"1\"), \"MASCULINO\",\n  IF(OR(LOWER(Tabla3[[#This Row],[SEXO]])=\"femenino\", LOWER(Tabla3[[#This Row],[SEXO]])=\"f\", LOWER(Tabla3[[#This Row],[SEXO]])=\"2\"), \"FEMENINO\",\n  \"\")), \"\")","v":""},0,null,null,null,0]
[{"$f":"IF(Tabla3[[#This Row],[APELLIDOS Y NOMBRES]]>0,ROW()-14,\"\")","v":""},{"$f":"IFERROR(IF(Tabla3[[#This Row],[APELLIDOS Y NOMBRES]]>0,VLOOKUP($H$7,DATA!$A$79:$B$160,2,FALSE),\"\"),\"\")","v":""},null,null,null,null,null,{"$f":"((NOW()-Tabla3[[#This Row],[FECHA DE NACIMIENTO]])/365)-0.5","v":124.79767625317098},null,null,null,null,null,null,null,null,null,null,null,null,null,null,null,null,null,null,null,null,null,null,null,null,null,null,null,null,null,null,null,null,null,null,null,null,null,"",null,{"$f":"IFERROR(IF(OR(LOWER(Tabla3[[#This Row],[SEXO]])=\"masculino\", LOWER(Tabla3[[#This Row],[SEXO]])=\"m\", LOWER(Tabla3[[#This Row],[SEXO]])=\"1\"), \"MASCULINO\",\n  IF(OR(LOWER(Tabla3[[#This Row],[SEXO]])=\"femenino\", LOWER(Tabla3[[#This Row],[SEXO]])=\"f\", LOWER(Tabla3[[#This Row],[SEXO]])=\"2\"), \"FEMENINO\",\n  \"\")), \"\")","v":""},0,null,null,null,0]
[{"$f":"IF(Tabla3[[#This Row],[APELLIDOS Y NOMBRES]]>0,ROW()-14,\"\")","v":""},{"$f":"IFERROR(IF(Tabla3[[#This Row],[APELLIDOS Y NOMBRES]]>0,VLOOKUP($H$7,DATA!$A$79:$B$160,2,FALSE),\"\"),\"\")","v":""},null,null,null,null,null,{"$f":"((NOW()-Tabla3[[#This Row],[FECHA DE NACIMIENTO]])/365)-0.5","v":124.79767625317098},null,null,null,null,null,null,null,null,null,null,null,null,null,null,null,null,null,null,null,null,null,null,null,null,null,null,null,null,null,null,null,null,null,null,null,null,null,"",null,{"$f":"IFERROR(IF(OR(LOWER(Tabla3[[#This Row],[SEXO]])=\"masculino\", LOWER(Tabla3[[#This Row],[SEXO]])=\"m\", LOWER(Tabla3[[#This Row],[SEXO]])=\"1\"), \"MASCULINO\",\n  IF(OR(LOWER(Tabla3[[#This Row],[SEXO]])=\"femenino\", LOWER(Tabla3[[#This Row],[SEXO]])=\"f\", LOWER(Tabla3[[#This Row],[SEXO]])=\"2\"), \"FEMENINO\",\n  \"\")), \"\")","v":""},0,null,null,null,0]
[{"$f":"IF(Tabla3[[#This Row],[APELLIDOS Y NOMBRES]]>0,ROW()-14,\"\")","v":""},{"$f":"IFERROR(IF(Tabla3[[#This Row],[APELLIDOS Y NOMBRES]]>0,VLOOKUP($H$7,DATA!$A$79:$B$160,2,FALSE),\"\"),\"\")","v":""},null,null,null,null,null,{"$f":"((NOW()-Tabla3[[#This Row],[FECHA DE NACIMIENTO]])/365)-0.5","v":124.79767625317098},null,null,null,null,null,null,null,null,null,null,null,null,null,null,null,null,null,null,null,null,null,null,null,null,null,null,null,null,null,null,null,null,null,null,null,null,null,"",null,{"$f":"IFERROR(IF(OR(LOWER(Tabla3[[#This Row],[SEXO]])=\"masculino\", LOWER(Tabla3[[#This Row],[SEXO]])=\"m\", LOWER(Tabla3[[#This Row],[SEXO]])=\"1\"), \"MASCULINO\",\n  IF(OR(LOWER(Tabla3[[#This Row],[SEXO]])=\"femenino\", LOWER(Tabla3[[#This Row],[SEXO]])=\"f\", LOWER(Tabla3[[#This Row],[SEXO]])=\"2\"), \"FEMENINO\",\n  \"\")), \"\")","v":""},0,null,null,null,0]
[{"$f":"IF(Tabla3[[#This Row],[APELLIDOS Y NOMBRES]]>0,ROW()-14,\"\")","v":""},{"$f":"IFERROR(IF(Tabla3[[#This Row],[APELLIDOS Y NOMBRES]]>0,VLOOKUP($H$7,DATA!$A$79:$B$160,2,FALSE),\"\"),\"\")","v":""},null,null,null,null,null,{"$f":"((NOW()-Tabla3[[#This Row],[FECHA DE NACIMIENTO]])/365)-0.5","v":124.79767625317098},null,null,null,null,null,null,null,null,null,null,null,null,null,null,null,null,null,null,null,null,null,null,null,null,null,null,null,null,null,null,null,null,null,null,null,null,null,"",null,{"$f":"IFERROR(IF(OR(LOWER(Tabla3[[#This Row],[SEXO]])=\"masculino\", LOWER(Tabla3[[#This Row],[SEXO]])=\"m\", LOWER(Tabla3[[#This Row],[SEXO]])=\"1\"), \"MASCULINO\",\n  IF(OR(LOWER(Tabla3[[#This Row],[SEXO]])=\"femenino\", LOWER(Tabla3[[#This Row],[SEXO]])=\"f\", LOWER(Tabla3[[#This Row],[SEXO]])=\"2\"), \"FEMENINO\",\n  \"\")), \"\")","v":""},0,null,null,null,0]
[{"$f":"IF(Tabla3[[#This Row],[APELLIDOS Y NOMBRES]]>0,ROW()-14,\"\")","v":""},{"$f":"IFERROR(IF(Tabla3[[#This Row],[APELLIDOS Y NOMBRES]]>0,VLOOKUP($H$7,DATA!$A$79:$B$160,2,FALSE),\"\"),\"\")","v":""},null,null,null,null,null,{"$f":"((NOW()-Tabla3[[#This Row],[FECHA DE NACIMIENTO]])/365)-0.5","v":124.79767625317098},null,null,null,null,null,null,null,null,null,null,null,null,null,null,null,null,null,null,null,null,null,null,null,null,null,null,null,null,null,null,null,null,null,null,null,null,null,"",null,{"$f":"IFERROR(IF(OR(LOWER(Tabla3[[#This Row],[SEXO]])=\"masculino\", LOWER(Tabla3[[#This Row],[SEXO]])=\"m\", LOWER(Tabla3[[#This Row],[SEXO]])=\"1\"), \"MASCULINO\",\n  IF(OR(LOWER(Tabla3[[#This Row],[SEXO]])=\"femenino\", LOWER(Tabla3[[#This Row],[SEXO]])=\"f\", LOWER(Tabla3[[#This Row],[SEXO]])=\"2\"), \"FEMENINO\",\n  \"\")), \"\")","v":""},0,null,null,null,0]
[{"$f":"IF(Tabla3[[#This Row],[APELLIDOS Y NOMBRES]]>0,ROW()-14,\"\")","v":""},{"$f":"IFERROR(IF(Tabla3[[#This Row],[APELLIDOS Y NOMBRES]]>0,VLOOKUP($H$7,DATA!$A$79:$B$160,2,FALSE),\"\"),\"\")","v":""},null,null,null,null,null,{"$f":"((NOW()-Tabla3[[#This Row],[FECHA DE NACIMIENTO]])/365)-0.5","v":124.79767625317098},null,null,null,null,null,null,null,null,null,null,null,null,null,null,null,null,null,null,null,null,null,null,null,null,null,null,null,null,null,null,null,null,null,null,null,null,null,"",null,{"$f":"IFERROR(IF(OR(LOWER(Tabla3[[#This Row],[SEXO]])=\"masculino\", LOWER(Tabla3[[#This Row],[SEXO]])=\"m\", LOWER(Tabla3[[#This Row],[SEXO]])=\"1\"), \"MASCULINO\",\n  IF(OR(LOWER(Tabla3[[#This Row],[SEXO]])=\"femenino\", LOWER(Tabla3[[#This Row],[SEXO]])=\"f\", LOWER(Tabla3[[#This Row],[SEXO]])=\"2\"), \"FEMENINO\",\n  \"\")), \"\")","v":""},0,null,null,null,0]
[{"$f":"IF(Tabla3[[#This Row],[APELLIDOS Y NOMBRES]]>0,ROW()-14,\"\")","v":""},{"$f":"IFERROR(IF(Tabla3[[#This Row],[APELLIDOS Y NOMBRES]]>0,VLOOKUP($H$7,DATA!$A$79:$B$160,2,FALSE),\"\"),\"\")","v":""},null,null,null,null,null,{"$f":"((NOW()-Tabla3[[#This Row],[FECHA DE NACIMIENTO]])/365)-0.5","v":124.79767625317098},null,null,null,null,null,null,null,null,null,null,null,null,null,null,null,null,null,null,null,null,null,null,null,null,null,null,null,null,null,null,null,null,null,null,null,null,null,"",null,{"$f":"IFERROR(IF(OR(LOWER(Tabla3[[#This Row],[SEXO]])=\"masculino\", LOWER(Tabla3[[#This Row],[SEXO]])=\"m\", LOWER(Tabla3[[#This Row],[SEXO]])=\"1\"), \"MASCULINO\",\n  IF(OR(LOWER(Tabla3[[#This Row],[SEXO]])=\"femenino\", LOWER(Tabla3[[#This Row],[SEXO]])=\"f\", LOWER(Tabla3[[#This Row],[SEXO]])=\"2\"), \"FEMENINO\",\n  \"\")), \"\")","v":""},0,null,null,null,0]
[{"$f":"IF(Tabla3[[#This Row],[APELLIDOS Y NOMBRES]]>0,ROW()-14,\"\")","v":""},{"$f":"IFERROR(IF(Tabla3[[#This Row],[APELLIDOS Y NOMBRES]]>0,VLOOKUP($H$7,DATA!$A$79:$B$160,2,FALSE),\"\"),\"\")","v":""},null,null,null,null,null,{"$f":"((NOW()-Tabla3[[#This Row],[FECHA DE NACIMIENTO]])/365)-0.5","v":124.79767625317098},null,null,null,null,null,null,null,null,null,null,null,null,null,null,null,null,null,null,null,null,null,null,null,null,null,null,null,null,null,null,null,null,null,null,null,null,null,"",null,{"$f":"IFERROR(IF(OR(LOWER(Tabla3[[#This Row],[SEXO]])=\"masculino\", LOWER(Tabla3[[#This Row],[SEXO]])=\"m\", LOWER(Tabla3[[#This Row],[SEXO]])=\"1\"), \"MASCULINO\",\n  IF(OR(LOWER(Tabla3[[#This Row],[SEXO]])=\"femenino\", LOWER(Tabla3[[#This Row],[SEXO]])=\"f\", LOWER(Tabla3[[#This Row],[SEXO]])=\"2\"), \"FEMENINO\",\n  \"\")), \"\")","v":""},0,null,null,null,0]
[{"$f":"IF(Tabla3[[#This Row],[APELLIDOS Y NOMBRES]]>0,ROW()-14,\"\")","v":""},{"$f":"IFERROR(IF(Tabla3[[#This Row],[APELLIDOS Y NOMBRES]]>0,VLOOKUP($H$7,DATA!$A$79:$B$160,2,FALSE),\"\"),\"\")","v":""},null,null,null,null,null,{"$f":"((NOW()-Tabla3[[#This Row],[FECHA DE NACIMIENTO]])/365)-0.5","v":124.79767625317098},null,null,null,null,null,null,null,null,null,null,null,null,null,null,null,null,null,null,null,null,null,null,null,null,null,null,null,null,null,null,null,null,null,null,null,null,null,"",null,{"$f":"IFERROR(IF(OR(LOWER(Tabla3[[#This Row],[SEXO]])=\"masculino\", LOWER(Tabla3[[#This Row],[SEXO]])=\"m\", LOWER(Tabla3[[#This Row],[SEXO]])=\"1\"), \"MASCULINO\",\n  IF(OR(LOWER(Tabla3[[#This Row],[SEXO]])=\"femenino\", LOWER(Tabla3[[#This Row],[SEXO]])=\"f\", LOWER(Tabla3[[#This Row],[SEXO]])=\"2\"), \"FEMENINO\",\n  \"\")), \"\")","v":""},0,null,null,null,0]
[{"$f":"IF(Tabla3[[#This Row],[APELLIDOS Y NOMBRES]]>0,ROW()-14,\"\")","v":""},{"$f":"IFERROR(IF(Tabla3[[#This Row],[APELLIDOS Y NOMBRES]]>0,VLOOKUP($H$7,DATA!$A$79:$B$160,2,FALSE),\"\"),\"\")","v":""},null,null,null,null,null,{"$f":"((NOW()-Tabla3[[#This Row],[FECHA DE NACIMIENTO]])/365)-0.5","v":124.79767625317098},null,null,null,null,null,null,null,null,null,null,null,null,null,null,null,null,null,null,null,null,null,null,null,null,null,null,null,null,null,null,null,null,null,null,null,null,null,"",null,{"$f":"IFERROR(IF(OR(LOWER(Tabla3[[#This Row],[SEXO]])=\"masculino\", LOWER(Tabla3[[#This Row],[SEXO]])=\"m\", LOWER(Tabla3[[#This Row],[SEXO]])=\"1\"), \"MASCULINO\",\n  IF(OR(LOWER(Tabla3[[#This Row],[SEXO]])=\"femenino\", LOWER(Tabla3[[#This Row],[SEXO]])=\"f\", LOWER(Tabla3[[#This Row],[SEXO]])=\"2\"), \"FEMENINO\",\n  \"\")), \"\")","v":""},0,null,null,null,0]
[{"$f":"IF(Tabla3[[#This Row],[APELLIDOS Y NOMBRES]]>0,ROW()-14,\"\")","v":""},{"$f":"IFERROR(IF(Tabla3[[#This Row],[APELLIDOS Y NOMBRES]]>0,VLOOKUP($H$7,DATA!$A$79:$B$160,2,FALSE),\"\"),\"\")","v":""},null,null,null,null,null,{"$f":"((NOW()-Tabla3[[#This Row],[FECHA DE NACIMIENTO]])/365)-0.5","v":124.79767625317098},null,null,null,null,null,null,null,null,null,null,null,null,null,null,null,null,null,null,null,null,null,null,null,null,null,null,null,null,null,null,null,null,null,null,null,null,null,"",null,{"$f":"IFERROR(IF(OR(LOWER(Tabla3[[#This Row],[SEXO]])=\"masculino\", LOWER(Tabla3[[#This Row],[SEXO]])=\"m\", LOWER(Tabla3[[#This Row],[SEXO]])=\"1\"), \"MASCULINO\",\n  IF(OR(LOWER(Tabla3[[#This Row],[SEXO]])=\"femenino\", LOWER(Tabla3[[#This Row],[SEXO]])=\"f\", LOWER(Tabla3[[#This Row],[SEXO]])=\"2\"), \"FEMENINO\",\n  \"\")), \"\")","v":""},0,null,null,null,0]
[{"$f":"IF(Tabla3[[#This Row],[APELLIDOS Y NOMBRES]]>0,ROW()-14,\"\")","v":""},{"$f":"IFERROR(IF(Tabla3[[#This Row],[APELLIDOS Y NOMBRES]]>0,VLOOKUP($H$7,DATA!$A$79:$B$160,2,FALSE),\"\"),\"\")","v":""},null,null,null,null,null,{"$f":"((NOW()-Tabla3[[#This Row],[FECHA DE NACIMIENTO]])/365)-0.5","v":124.79767625317098},null,null,null,null,null,null,null,null,null,null,null,null,null,null,null,null,null,null,null,null,null,null,null,null,null,null,null,null,null,null,null,null,null,null,null,null,null,"",null,{"$f":"IFERROR(IF(OR(LOWER(Tabla3[[#This Row],[SEXO]])=\"masculino\", LOWER(Tabla3[[#This Row],[SEXO]])=\"m\", LOWER(Tabla3[[#This Row],[SEXO]])=\"1\"), \"MASCULINO\",\n  IF(OR(LOWER(Tabla3[[#This Row],[SEXO]])=\"femenino\", LOWER(Tabla3[[#This Row],[SEXO]])=\"f\", LOWER(Tabla3[[#This Row],[SEXO]])=\"2\"), \"FEMENINO\",\n  \"\")), \"\")","v":""},0,null,null,null,0]
[{"$f":"IF(Tabla3[[#This Row],[APELLIDOS Y NOMBRES]]>0,ROW()-14,\"\")","v":""},{"$f":"IFERROR(IF(Tabla3[[#This Row],[APELLIDOS Y NOMBRES]]>0,VLOOKUP($H$7,DATA!$A$79:$B$160,2,FALSE),\"\"),\"\")","v":""},null,null,null,null,null,{"$f":"((NOW()-Tabla3[[#This Row],[FECHA DE NACIMIENTO]])/365)-0.5","v":124.79767625317098},null,null,null,null,null,null,null,null,null,null,null,null,null,null,null,null,null,null,null,null,null,null,null,null,null,null,null,null,null,null,null,null,null,null,null,null,null,"",null,{"$f":"IFERROR(IF(OR(LOWER(Tabla3[[#This Row],[SEXO]])=\"masculino\", LOWER(Tabla3[[#This Row],[SEXO]])=\"m\", LOWER(Tabla3[[#This Row],[SEXO]])=\"1\"), \"MASCULINO\",\n  IF(OR(LOWER(Tabla3[[#This Row],[SEXO]])=\"femenino\", LOWER(Tabla3[[#This Row],[SEXO]])=\"f\", LOWER(Tabla3[[#This Row],[SEXO]])=\"2\"), \"FEMENINO\",\n  \"\")), \"\")","v":""},0,null,null,null,0]
[{"$f":"IF(Tabla3[[#This Row],[APELLIDOS Y NOMBRES]]>0,ROW()-14,\"\")","v":""},{"$f":"IFERROR(IF(Tabla3[[#This Row],[APELLIDOS Y NOMBRES]]>0,VLOOKUP($H$7,DATA!$A$79:$B$160,2,FALSE),\"\"),\"\")","v":""},null,null,null,null,null,{"$f":"((NOW()-Tabla3[[#This Row],[FECHA DE NACIMIENTO]])/365)-0.5","v":124.79767625317098},null,null,null,null,null,null,null,null,null,null,null,null,null,null,null,null,null,null,null,null,null,null,null,null,null,null,null,null,null,null,null,null,null,null,null,null,null,"",null,{"$f":"IFERROR(IF(OR(LOWER(Tabla3[[#This Row],[SEXO]])=\"masculino\", LOWER(Tabla3[[#This Row],[SEXO]])=\"m\", LOWER(Tabla3[[#This Row],[SEXO]])=\"1\"), \"MASCULINO\",\n  IF(OR(LOWER(Tabla3[[#This Row],[SEXO]])=\"femenino\", LOWER(Tabla3[[#This Row],[SEXO]])=\"f\", LOWER(Tabla3[[#This Row],[SEXO]])=\"2\"), \"FEMENINO\",\n  \"\")), \"\")","v":""},0,null,null,null,0]
[{"$f":"IF(Tabla3[[#This Row],[APELLIDOS Y NOMBRES]]>0,ROW()-14,\"\")","v":""},{"$f":"IFERROR(IF(Tabla3[[#This Row],[APELLIDOS Y NOMBRES]]>0,VLOOKUP($H$7,DATA!$A$79:$B$160,2,FALSE),\"\"),\"\")","v":""},null,null,null,null,null,{"$f":"((NOW()-Tabla3[[#This Row],[FECHA DE NACIMIENTO]])/365)-0.5","v":124.79767625317098},null,null,null,null,null,null,null,null,null,null,null,null,null,null,null,null,null,null,null,null,null,null,null,null,null,null,null,null,null,null,null,null,null,null,null,null,null,"",null,{"$f":"IFERROR(IF(OR(LOWER(Tabla3[[#This Row],[SEXO]])=\"masculino\", LOWER(Tabla3[[#This Row],[SEXO]])=\"m\", LOWER(Tabla3[[#This Row],[SEXO]])=\"1\"), \"MASCULINO\",\n  IF(OR(LOWER(Tabla3[[#This Row],[SEXO]])=\"femenino\", LOWER(Tabla3[[#This Row],[SEXO]])=\"f\", LOWER(Tabla3[[#This Row],[SEXO]])=\"2\"), \"FEMENINO\",\n  \"\")), \"\")","v":""},0,null,null,null,0]
[{"$f":"IF(Tabla3[[#This Row],[APELLIDOS Y NOMBRES]]>0,ROW()-14,\"\")","v":""},{"$f":"IFERROR(IF(Tabla3[[#This Row],[APELLIDOS Y NOMBRES]]>0,VLOOKUP($H$7,DATA!$A$79:$B$160,2,FALSE),\"\"),\"\")","v":""},null,null,null,null,null,{"$f":"((NOW()-Tabla3[[#This Row],[FECHA DE NACIMIENTO]])/365)-0.5","v":124.79767625317098},null,null,null,null,null,null,null,null,null,null,null,null,null,null,null,null,null,null,null,null,null,null,null,null,null,null,null,null,null,null,null,null,null,null,null,null,null,"",null,{"$f":"IFERROR(IF(OR(LOWER(Tabla3[[#This Row],[SEXO]])=\"masculino\", LOWER(Tabla3[[#This Row],[SEXO]])=\"m\", LOWER(Tabla3[[#This Row],[SEXO]])=\"1\"), \"MASCULINO\",\n  IF(OR(LOWER(Tabla3[[#This Row],[SEXO]])=\"femenino\", LOWER(Tabla3[[#This Row],[SEXO]])=\"f\", LOWER(Tabla3[[#This Row],[SEXO]])=\"2\"), \"FEMENINO\",\n  \"\")), \"\")","v":""},0,null,null,null,0]
[{"$f":"IF(Tabla3[[#This Row],[APELLIDOS Y NOMBRES]]>0,ROW()-14,\"\")","v":""},{"$f":"IFERROR(IF(Tabla3[[#This Row],[APELLIDOS Y NOMBRES]]>0,VLOOKUP($H$7,DATA!$A$79:$B$160,2,FALSE),\"\"),\"\")","v":""},null,null,null,null,null,{"$f":"((NOW()-Tabla3[[#This Row],[FECHA DE NACIMIENTO]])/365)-0.5","v":124.79767625317098},null,null,null,null,null,null,null,null,null,null,null,null,null,null,null,null,null,null,null,null,null,null,null,null,null,null,null,null,null,null,null,null,null,null,null,null,null,"",null,{"$f":"IFERROR(IF(OR(LOWER(Tabla3[[#This Row],[SEXO]])=\"masculino\", LOWER(Tabla3[[#This Row],[SEXO]])=\"m\", LOWER(Tabla3[[#This Row],[SEXO]])=\"1\"), \"MASCULINO\",\n  IF(OR(LOWER(Tabla3[[#This Row],[SEXO]])=\"femenino\", LOWER(Tabla3[[#This Row],[SEXO]])=\"f\", LOWER(Tabla3[[#This Row],[SEXO]])=\"2\"), \"FEMENINO\",\n  \"\")), \"\")","v":""},0,null,null,null,0]
[{"$f":"IF(Tabla3[[#This Row],[APELLIDOS Y NOMBRES]]>0,ROW()-14,\"\")","v":""},{"$f":"IFERROR(IF(Tabla3[[#This Row],[APELLIDOS Y NOMBRES]]>0,VLOOKUP($H$7,DATA!$A$79:$B$160,2,FALSE),\"\"),\"\")","v":""},null,null,null,null,null,{"$f":"((NOW()-Tabla3[[#This Row],[FECHA DE NACIMIENTO]])/365)-0.5","v":124.79767625317098},null,null,null,null,null,null,null,null,null,null,null,null,null,null,null,null,null,null,null,null,null,null,null,null,null,null,null,null,null,null,null,null,null,null,null,null,null,"",null,{"$f":"IFERROR(IF(OR(LOWER(Tabla3[[#This Row],[SEXO]])=\"masculino\", LOWER(Tabla3[[#This Row],[SEXO]])=\"m\", LOWER(Tabla3[[#This Row],[SEXO]])=\"1\"), \"MASCULINO\",\n  IF(OR(LOWER(Tabla3[[#This Row],[SEXO]])=\"femenino\", LOWER(Tabla3[[#This Row],[SEXO]])=\"f\", LOWER(Tabla3[[#This Row],[SEXO]])=\"2\"), \"FEMENINO\",\n  \"\")), \"\")","v":""},0,null,null,null,0]
[{"$f":"IF(Tabla3[[#This Row],[APELLIDOS Y NOMBRES]]>0,ROW()-14,\"\")","v":""},{"$f":"IFERROR(IF(Tabla3[[#This Row],[APELLIDOS Y NOMBRES]]>0,VLOOKUP($H$7,DATA!$A$79:$B$160,2,FALSE),\"\"),\"\")","v":""},null,null,null,null,null,{"$f":"((NOW()-Tabla3[[#This Row],[FECHA DE NACIMIENTO]])/365)-0.5","v":124.79767625317098},null,null,null,null,null,null,null,null,null,null,null,null,null,null,null,null,null,null,null,null,null,null,null,null,null,null,null,null,null,null,null,null,null,null,null,null,null,"",null,{"$f":"IFERROR(IF(OR(LOWER(Tabla3[[#This Row],[SEXO]])=\"masculino\", LOWER(Tabla3[[#This Row],[SEXO]])=\"m\", LOWER(Tabla3[[#This Row],[SEXO]])=\"1\"), \"MASCULINO\",\n  IF(OR(LOWER(Tabla3[[#This Row],[SEXO]])=\"femenino\", LOWER(Tabla3[[#This Row],[SEXO]])=\"f\", LOWER(Tabla3[[#This Row],[SEXO]])=\"2\"), \"FEMENINO\",\n  \"\")), \"\")","v":""},0,null,null,null,0]
[{"$f":"IF(Tabla3[[#This Row],[APELLIDOS Y NOMBRES]]>0,ROW()-14,\"\")","v":""},{"$f":"IFERROR(IF(Tabla3[[#This Row],[APELLIDOS Y NOMBRES]]>0,VLOOKUP($H$7,DATA!$A$79:$B$160,2,FALSE),\"\"),\"\")","v":""},null,null,null,null,null,{"$f":"((NOW()-Tabla3[[#This Row],[FECHA DE NACIMIENTO]])/365)-0.5","v":124.79767625317098},null,null,null,null,null,null,null,null,null,null,null,null,null,null,null,null,null,null,null,null,null,null,null,null,null,null,null,null,null,null,null,null,null,null,null,null,null,"",null,{"$f":"IFERROR(IF(OR(LOWER(Tabla3[[#This Row],[SEXO]])=\"masculino\", LOWER(Tabla3[[#This Row],[SEXO]])=\"m\", LOWER(Tabla3[[#This Row],[SEXO]])=\"1\"), \"MASCULINO\",\n  IF(OR(LOWER(Tabla3[[#This Row],[SEXO]])=\"femenino\", LOWER(Tabla3[[#This Row],[SEXO]])=\"f\", LOWER(Tabla3[[#This Row],[SEXO]])=\"2\"), \"FEMENINO\",\n  \"\")), \"\")","v":""},0,null,null,null,0]
[{"$f":"IF(Tabla3[[#This Row],[APELLIDOS Y NOMBRES]]>0,ROW()-14,\"\")","v":""},{"$f":"IFERROR(IF(Tabla3[[#This Row],[APELLIDOS Y NOMBRES]]>0,VLOOKUP($H$7,DATA!$A$79:$B$160,2,FALSE),\"\"),\"\")","v":""},null,null,null,null,null,{"$f":"((NOW()-Tabla3[[#This Row],[FECHA DE NACIMIENTO]])/365)-0.5","v":124.79767625317098},null,null,null,null,null,null,null,null,null,null,null,null,null,null,null,null,null,null,null,null,null,null,null,null,null,null,null,null,null,null,null,null,null,null,null,null,null,"",null,{"$f":"IFERROR(IF(OR(LOWER(Tabla3[[#This Row],[SEXO]])=\"masculino\", LOWER(Tabla3[[#This Row],[SEXO]])=\"m\", LOWER(Tabla3[[#This Row],[SEXO]])=\"1\"), \"MASCULINO\",\n  IF(OR(LOWER(Tabla3[[#This Row],[SEXO]])=\"femenino\", LOWER(Tabla3[[#This Row],[SEXO]])=\"f\", LOWER(Tabla3[[#This Row],[SEXO]])=\"2\"), \"FEMENINO\",\n  \"\")), \"\")","v":""},0,null,null,null,0]
[{"$f":"IF(Tabla3[[#This Row],[APELLIDOS Y NOMBRES]]>0,ROW()-14,\"\")","v":""},{"$f":"IFERROR(IF(Tabla3[[#This Row],[APELLIDOS Y NOMBRES]]>0,VLOOKUP($H$7,DATA!$A$79:$B$160,2,FALSE),\"\"),\"\")","v":""},null,null,null,null,null,{"$f":"((NOW()-Tabla3[[#This Row],[FECHA DE NACIMIENTO]])/365)-0.5","v":124.79767625317098},null,null,null,null,null,null,null,null,null,null,null,null,null,null,null,null,null,null,null,null,null,null,null,null,null,null,null,null,null,null,null,null,null,null,null,null,null,"",null,{"$f":"IFERROR(IF(OR(LOWER(Tabla3[[#This Row],[SEXO]])=\"masculino\", LOWER(Tabla3[[#This Row],[SEXO]])=\"m\", LOWER(Tabla3[[#This Row],[SEXO]])=\"1\"), \"MASCULINO\",\n  IF(OR(LOWER(Tabla3[[#This Row],[SEXO]])=\"femenino\", LOWER(Tabla3[[#This Row],[SEXO]])=\"f\", LOWER(Tabla3[[#This Row],[SEXO]])=\"2\"), \"FEMENINO\",\n  \"\")), \"\")","v":""},0,null,null,null,0]
[{"$f":"IF(Tabla3[[#This Row],[APELLIDOS Y NOMBRES]]>0,ROW()-14,\"\")","v":""},{"$f":"IFERROR(IF(Tabla3[[#This Row],[APELLIDOS Y NOMBRES]]>0,VLOOKUP($H$7,DATA!$A$79:$B$160,2,FALSE),\"\"),\"\")","v":""},null,null,null,null,null,{"$f":"((NOW()-Tabla3[[#This Row],[FECHA DE NACIMIENTO]])/365)-0.5","v":124.79767625317098},null,null,null,null,null,null,null,null,null,null,null,null,null,null,null,null,null,null,null,null,null,null,null,null,null,null,null,null,null,null,null,null,null,null,null,null,null,"",null,{"$f":"IFERROR(IF(OR(LOWER(Tabla3[[#This Row],[SEXO]])=\"masculino\", LOWER(Tabla3[[#This Row],[SEXO]])=\"m\", LOWER(Tabla3[[#This Row],[SEXO]])=\"1\"), \"MASCULINO\",\n  IF(OR(LOWER(Tabla3[[#This Row],[SEXO]])=\"femenino\", LOWER(Tabla3[[#This Row],[SEXO]])=\"f\", LOWER(Tabla3[[#This Row],[SEXO]])=\"2\"), \"FEMENINO\",\n  \"\")), \"\")","v":""},0,null,null,null,0]
[{"$f":"IF(Tabla3[[#This Row],[APELLIDOS Y NOMBRES]]>0,ROW()-14,\"\")","v":""},{"$f":"IFERROR(IF(Tabla3[[#This Row],[APELLIDOS Y NOMBRES]]>0,VLOOKUP($H$7,DATA!$A$79:$B$160,2,FALSE),\"\"),\"\")","v":""},null,null,null,null,null,{"$f":"((NOW()-Tabla3[[#This Row],[FECHA DE NACIMIENTO]])/365)-0.5","v":124.79767625317098},null,null,null,null,null,null,null,null,null,null,null,null,null,null,null,null,null,null,null,null,null,null,null,null,null,null,null,null,null,null,null,null,null,null,null,null,null,"",null,{"$f":"IFERROR(IF(OR(LOWER(Tabla3[[#This Row],[SEXO]])=\"masculino\", LOWER(Tabla3[[#This Row],[SEXO]])=\"m\", LOWER(Tabla3[[#This Row],[SEXO]])=\"1\"), \"MASCULINO\",\n  IF(OR(LOWER(Tabla3[[#This Row],[SEXO]])=\"femenino\", LOWER(Tabla3[[#This Row],[SEXO]])=\"f\", LOWER(Tabla3[[#This Row],[SEXO]])=\"2\"), \"FEMENINO\",\n  \"\")), \"\")","v":""},0,null,null,null,0]
[{"$f":"IF(Tabla3[[#This Row],[APELLIDOS Y NOMBRES]]>0,ROW()-14,\"\")","v":""},{"$f":"IFERROR(IF(Tabla3[[#This Row],[APELLIDOS Y NOMBRES]]>0,VLOOKUP($H$7,DATA!$A$79:$B$160,2,FALSE),\"\"),\"\")","v":""},null,null,null,null,null,{"$f":"((NOW()-Tabla3[[#This Row],[FECHA DE NACIMIENTO]])/365)-0.5","v":124.79767625317098},null,null,null,null,null,null,null,null,null,null,null,null,null,null,null,null,null,null,null,null,null,null,null,null,null,null,null,null,null,null,null,null,null,null,null,null,null,"",null,{"$f":"IFERROR(IF(OR(LOWER(Tabla3[[#This Row],[SEXO]])=\"masculino\", LOWER(Tabla3[[#This Row],[SEXO]])=\"m\", LOWER(Tabla3[[#This Row],[SEXO]])=\"1\"), \"MASCULINO\",\n  IF(OR(LOWER(Tabla3[[#This Row],[SEXO]])=\"femenino\", LOWER(Tabla3[[#This Row],[SEXO]])=\"f\", LOWER(Tabla3[[#This Row],[SEXO]])=\"2\"), \"FEMENINO\",\n  \"\")), \"\")","v":""},0,null,null,null,0]
[{"$f":"IF(Tabla3[[#This Row],[APELLIDOS Y NOMBRES]]>0,ROW()-14,\"\")","v":""},{"$f":"IFERROR(IF(Tabla3[[#This Row],[APELLIDOS Y NOMBRES]]>0,VLOOKUP($H$7,DATA!$A$79:$B$160,2,FALSE),\"\"),\"\")","v":""},null,null,null,null,null,{"$f":"((NOW()-Tabla3[[#This Row],[FECHA DE NACIMIENTO]])/365)-0.5","v":124.79767625317098},null,null,null,null,null,null,null,null,null,null,null,null,null,null,null,null,null,null,null,null,null,null,null,null,null,null,null,null,null,null,null,null,null,null,null,null,null,"",null,{"$f":"IFERROR(IF(OR(LOWER(Tabla3[[#This Row],[SEXO]])=\"masculino\", LOWER(Tabla3[[#This Row],[SEXO]])=\"m\", LOWER(Tabla3[[#This Row],[SEXO]])=\"1\"), \"MASCULINO\",\n  IF(OR(LOWER(Tabla3[[#This Row],[SEXO]])=\"femenino\", LOWER(Tabla3[[#This Row],[SEXO]])=\"f\", LOWER(Tabla3[[#This Row],[SEXO]])=\"2\"), \"FEMENINO\",\n  \"\")), \"\")","v":""},0,null,null,null,0]
[{"$f":"IF(Tabla3[[#This Row],[APELLIDOS Y NOMBRES]]>0,ROW()-14,\"\")","v":""},{"$f":"IFERROR(IF(Tabla3[[#This Row],[APELLIDOS Y NOMBRES]]>0,VLOOKUP($H$7,DATA!$A$79:$B$160,2,FALSE),\"\"),\"\")","v":""},null,null,null,null,null,{"$f":"((NOW()-Tabla3[[#This Row],[FECHA DE NACIMIENTO]])/365)-0.5","v":124.79767625317098},null,null,null,null,null,null,null,null,null,null,null,null,null,null,null,null,null,null,null,null,null,null,null,null,null,null,null,null,null,null,null,null,null,null,null,null,null,"",null,{"$f":"IFERROR(IF(OR(LOWER(Tabla3[[#This Row],[SEXO]])=\"masculino\", LOWER(Tabla3[[#This Row],[SEXO]])=\"m\", LOWER(Tabla3[[#This Row],[SEXO]])=\"1\"), \"MASCULINO\",\n  IF(OR(LOWER(Tabla3[[#This Row],[SEXO]])=\"femenino\", LOWER(Tabla3[[#This Row],[SEXO]])=\"f\", LOWER(Tabla3[[#This Row],[SEXO]])=\"2\"), \"FEMENINO\",\n  \"\")), \"\")","v":""},0,null,null,null,0]
[{"$f":"IF(Tabla3[[#This Row],[APELLIDOS Y NOMBRES]]>0,ROW()-14,\"\")","v":""},{"$f":"IFERROR(IF(Tabla3[[#This Row],[APELLIDOS Y NOMBRES]]>0,VLOOKUP($H$7,DATA!$A$79:$B$160,2,FALSE),\"\"),\"\")","v":""},null,null,null,null,null,{"$f":"((NOW()-Tabla3[[#This Row],[FECHA DE NACIMIENTO]])/365)-0.5","v":124.79767625317098},null,null,null,null,null,null,null,null,null,null,null,null,null,null,null,null,null,null,null,null,null,null,null,null,null,null,null,null,null,null,null,null,null,null,null,null,null,"",null,{"$f":"IFERROR(IF(OR(LOWER(Tabla3[[#This Row],[SEXO]])=\"masculino\", LOWER(Tabla3[[#This Row],[SEXO]])=\"m\", LOWER(Tabla3[[#This Row],[SEXO]])=\"1\"), \"MASCULINO\",\n  IF(OR(LOWER(Tabla3[[#This Row],[SEXO]])=\"femenino\", LOWER(Tabla3[[#This Row],[SEXO]])=\"f\", LOWER(Tabla3[[#This Row],[SEXO]])=\"2\"), \"FEMENINO\",\n  \"\")), \"\")","v":""},0,null,null,null,0]
[{"$f":"IF(Tabla3[[#This Row],[APELLIDOS Y NOMBRES]]>0,ROW()-14,\"\")","v":""},{"$f":"IFERROR(IF(Tabla3[[#This Row],[APELLIDOS Y NOMBRES]]>0,VLOOKUP($H$7,DATA!$A$79:$B$160,2,FALSE),\"\"),\"\")","v":""},null,null,null,null,null,{"$f":"((NOW()-Tabla3[[#This Row],[FECHA DE NACIMIENTO]])/365)-0.5","v":124.79767625317098},null,null,null,null,null,null,null,null,null,null,null,null,null,null,null,null,null,null,null,null,null,null,null,null,null,null,null,null,null,null,null,null,null,null,null,null,null,"",null,{"$f":"IFERROR(IF(OR(LOWER(Tabla3[[#This Row],[SEXO]])=\"masculino\", LOWER(Tabla3[[#This Row],[SEXO]])=\"m\", LOWER(Tabla3[[#This Row],[SEXO]])=\"1\"), \"MASCULINO\",\n  IF(OR(LOWER(Tabla3[[#This Row],[SEXO]])=\"femenino\", LOWER(Tabla3[[#This Row],[SEXO]])=\"f\", LOWER(Tabla3[[#This Row],[SEXO]])=\"2\"), \"FEMENINO\",\n  \"\")), \"\")","v":""},0,null,null,null,0]
[{"$f":"IF(Tabla3[[#This Row],[APELLIDOS Y NOMBRES]]>0,ROW()-14,\"\")","v":""},{"$f":"IFERROR(IF(Tabla3[[#This Row],[APELLIDOS Y NOMBRES]]>0,VLOOKUP($H$7,DATA!$A$79:$B$160,2,FALSE),\"\"),\"\")","v":""},null,null,null,null,null,{"$f":"((NOW()-Tabla3[[#This Row],[FECHA DE NACIMIENTO]])/365)-0.5","v":124.79767625317098},null,null,null,null,null,null,null,null,null,null,null,null,null,null,null,null,null,null,null,null,null,null,null,null,null,null,null,null,null,null,null,null,null,null,null,null,null,"",null,{"$f":"IFERROR(IF(OR(LOWER(Tabla3[[#This Row],[SEXO]])=\"masculino\", LOWER(Tabla3[[#This Row],[SEXO]])=\"m\", LOWER(Tabla3[[#This Row],[SEXO]])=\"1\"), \"MASCULINO\",\n  IF(OR(LOWER(Tabla3[[#This Row],[SEXO]])=\"femenino\", LOWER(Tabla3[[#This Row],[SEXO]])=\"f\", LOWER(Tabla3[[#This Row],[SEXO]])=\"2\"), \"FEMENINO\",\n  \"\")), \"\")","v":""},0,null,null,null,0]
[{"$f":"IF(Tabla3[[#This Row],[APELLIDOS Y NOMBRES]]>0,ROW()-14,\"\")","v":""},{"$f":"IFERROR(IF(Tabla3[[#This Row],[APELLIDOS Y NOMBRES]]>0,VLOOKUP($H$7,DATA!$A$79:$B$160,2,FALSE),\"\"),\"\")","v":""},null,null,null,null,null,{"$f":"((NOW()-Tabla3[[#This Row],[FECHA DE NACIMIENTO]])/365)-0.5","v":124.79767625317098},null,null,null,null,null,null,null,null,null,null,null,null,null,null,null,null,null,null,null,null,null,null,null,null,null,null,null,null,null,null,null,null,null,null,null,null,null,"",null,{"$f":"IFERROR(IF(OR(LOWER(Tabla3[[#This Row],[SEXO]])=\"masculino\", LOWER(Tabla3[[#This Row],[SEXO]])=\"m\", LOWER(Tabla3[[#This Row],[SEXO]])=\"1\"), \"MASCULINO\",\n  IF(OR(LOWER(Tabla3[[#This Row],[SEXO]])=\"femenino\", LOWER(Tabla3[[#This Row],[SEXO]])=\"f\", LOWER(Tabla3[[#This Row],[SEXO]])=\"2\"), \"FEMENINO\",\n  \"\")), \"\")","v":""},0,null,null,null,0]
[{"$f":"IF(Tabla3[[#This Row],[APELLIDOS Y NOMBRES]]>0,ROW()-14,\"\")","v":""},{"$f":"IFERROR(IF(Tabla3[[#This Row],[APELLIDOS Y NOMBRES]]>0,VLOOKUP($H$7,DATA!$A$79:$B$160,2,FALSE),\"\"),\"\")","v":""},null,null,null,null,null,{"$f":"((NOW()-Tabla3[[#This Row],[FECHA DE NACIMIENTO]])/365)-0.5","v":124.79767625317098},null,null,null,null,null,null,null,null,null,null,null,null,null,null,null,null,null,null,null,null,null,null,null,null,null,null,null,null,null,null,null,null,null,null,null,null,null,"",null,{"$f":"IFERROR(IF(OR(LOWER(Tabla3[[#This Row],[SEXO]])=\"masculino\", LOWER(Tabla3[[#This Row],[SEXO]])=\"m\", LOWER(Tabla3[[#This Row],[SEXO]])=\"1\"), \"MASCULINO\",\n  IF(OR(LOWER(Tabla3[[#This Row],[SEXO]])=\"femenino\", LOWER(Tabla3[[#This Row],[SEXO]])=\"f\", LOWER(Tabla3[[#This Row],[SEXO]])=\"2\"), \"FEMENINO\",\n  \"\")), \"\")","v":""},0,null,null,null,0]
[{"$f":"IF(Tabla3[[#This Row],[APELLIDOS Y NOMBRES]]>0,ROW()-14,\"\")","v":""},{"$f":"IFERROR(IF(Tabla3[[#This Row],[APELLIDOS Y NOMBRES]]>0,VLOOKUP($H$7,DATA!$A$79:$B$160,2,FALSE),\"\"),\"\")","v":""},null,null,null,null,null,{"$f":"((NOW()-Tabla3[[#This Row],[FECHA DE NACIMIENTO]])/365)-0.5","v":124.79767625317098},null,null,null,null,null,null,null,null,null,null,null,null,null,null,null,null,null,null,null,null,null,null,null,null,null,null,null,null,null,null,null,null,null,null,null,null,null,"",null,{"$f":"IFERROR(IF(OR(LOWER(Tabla3[[#This Row],[SEXO]])=\"masculino\", LOWER(Tabla3[[#This Row],[SEXO]])=\"m\", LOWER(Tabla3[[#This Row],[SEXO]])=\"1\"), \"MASCULINO\",\n  IF(OR(LOWER(Tabla3[[#This Row],[SEXO]])=\"femenino\", LOWER(Tabla3[[#This Row],[SEXO]])=\"f\", LOWER(Tabla3[[#This Row],[SEXO]])=\"2\"), \"FEMENINO\",\n  \"\")), \"\")","v":""},0,null,null,null,0]
[{"$f":"IF(Tabla3[[#This Row],[APELLIDOS Y NOMBRES]]>0,ROW()-14,\"\")","v":""},{"$f":"IFERROR(IF(Tabla3[[#This Row],[APELLIDOS Y NOMBRES]]>0,VLOOKUP($H$7,DATA!$A$79:$B$160,2,FALSE),\"\"),\"\")","v":""},null,null,null,null,null,{"$f":"((NOW()-Tabla3[[#This Row],[FECHA DE NACIMIENTO]])/365)-0.5","v":124.79767625317098},null,null,null,null,null,null,null,null,null,null,null,null,null,null,null,null,null,null,null,null,null,null,null,null,null,null,null,null,null,null,null,null,null,null,null,null,null,"",null,{"$f":"IFERROR(IF(OR(LOWER(Tabla3[[#This Row],[SEXO]])=\"masculino\", LOWER(Tabla3[[#This Row],[SEXO]])=\"m\", LOWER(Tabla3[[#This Row],[SEXO]])=\"1\"), \"MASCULINO\",\n  IF(OR(LOWER(Tabla3[[#This Row],[SEXO]])=\"femenino\", LOWER(Tabla3[[#This Row],[SEXO]])=\"f\", LOWER(Tabla3[[#This Row],[SEXO]])=\"2\"), \"FEMENINO\",\n  \"\")), \"\")","v":""},0,null,null,null,0]
[{"$f":"IF(Tabla3[[#This Row],[APELLIDOS Y NOMBRES]]>0,ROW()-14,\"\")","v":""},{"$f":"IFERROR(IF(Tabla3[[#This Row],[APELLIDOS Y NOMBRES]]>0,VLOOKUP($H$7,DATA!$A$79:$B$160,2,FALSE),\"\"),\"\")","v":""},null,null,null,null,null,{"$f":"((NOW()-Tabla3[[#This Row],[FECHA DE NACIMIENTO]])/365)-0.5","v":124.79767625317098},null,null,null,null,null,null,null,null,null,null,null,null,null,null,null,null,null,null,null,null,null,null,null,null,null,null,null,null,null,null,null,null,null,null,null,null,null,"",null,{"$f":"IFERROR(IF(OR(LOWER(Tabla3[[#This Row],[SEXO]])=\"masculino\", LOWER(Tabla3[[#This Row],[SEXO]])=\"m\", LOWER(Tabla3[[#This Row],[SEXO]])=\"1\"), \"MASCULINO\",\n  IF(OR(LOWER(Tabla3[[#This Row],[SEXO]])=\"femenino\", LOWER(Tabla3[[#This Row],[SEXO]])=\"f\", LOWER(Tabla3[[#This Row],[SEXO]])=\"2\"), \"FEMENINO\",\n  \"\")), \"\")","v":""},0,null,null,null,0]
[{"$f":"IF(Tabla3[[#This Row],[APELLIDOS Y NOMBRES]]>0,ROW()-14,\"\")","v":""},{"$f":"IFERROR(IF(Tabla3[[#This Row],[APELLIDOS Y NOMBRES]]>0,VLOOKUP($H$7,DATA!$A$79:$B$160,2,FALSE),\"\"),\"\")","v":""},null,null,null,null,null,{"$f":"((NOW()-Tabla3[[#This Row],[FECHA DE NACIMIENTO]])/365)-0.5","v":124.79767625317098},null,null,null,null,null,null,null,null,null,null,null,null,null,null,null,null,null,null,null,null,null,null,null,null,null,null,null,null,null,null,null,null,null,null,null,null,null,"",null,{"$f":"IFERROR(IF(OR(LOWER(Tabla3[[#This Row],[SEXO]])=\"masculino\", LOWER(Tabla3[[#This Row],[SEXO]])=\"m\", LOWER(Tabla3[[#This Row],[SEXO]])=\"1\"), \"MASCULINO\",\n  IF(OR(LOWER(Tabla3[[#This Row],[SEXO]])=\"femenino\", LOWER(Tabla3[[#This Row],[SEXO]])=\"f\", LOWER(Tabla3[[#This Row],[SEXO]])=\"2\"), \"FEMENINO\",\n  \"\")), \"\")","v":""},0,null,null,null,0]
[{"$f":"IF(Tabla3[[#This Row],[APELLIDOS Y NOMBRES]]>0,ROW()-14,\"\")","v":""},{"$f":"IFERROR(IF(Tabla3[[#This Row],[APELLIDOS Y NOMBRES]]>0,VLOOKUP($H$7,DATA!$A$79:$B$160,2,FALSE),\"\"),\"\")","v":""},null,null,null,null,null,{"$f":"((NOW()-Tabla3[[#This Row],[FECHA DE NACIMIENTO]])/365)-0.5","v":124.79767625317098},null,null,null,null,null,null,null,null,null,null,null,null,null,null,null,null,null,null,null,null,null,null,null,null,null,null,null,null,null,null,null,null,null,null,null,null,null,"",null,{"$f":"IFERROR(IF(OR(LOWER(Tabla3[[#This Row],[SEXO]])=\"masculino\", LOWER(Tabla3[[#This Row],[SEXO]])=\"m\", LOWER(Tabla3[[#This Row],[SEXO]])=\"1\"), \"MASCULINO\",\n  IF(OR(LOWER(Tabla3[[#This Row],[SEXO]])=\"femenino\", LOWER(Tabla3[[#This Row],[SEXO]])=\"f\", LOWER(Tabla3[[#This Row],[SEXO]])=\"2\"), \"FEMENINO\",\n  \"\")), \"\")","v":""},0,null,null,null,0]
[{"$f":"IF(Tabla3[[#This Row],[APELLIDOS Y NOMBRES]]>0,ROW()-14,\"\")","v":""},{"$f":"IFERROR(IF(Tabla3[[#This Row],[APELLIDOS Y NOMBRES]]>0,VLOOKUP($H$7,DATA!$A$79:$B$160,2,FALSE),\"\"),\"\")","v":""},null,null,null,null,null,{"$f":"((NOW()-Tabla3[[#This Row],[FECHA DE NACIMIENTO]])/365)-0.5","v":124.79767625317098},null,null,null,null,null,null,null,null,null,null,null,null,null,null,null,null,null,null,null,null,null,null,null,null,null,null,null,null,null,null,null,null,null,null,null,null,null,"",null,{"$f":"IFERROR(IF(OR(LOWER(Tabla3[[#This Row],[SEXO]])=\"masculino\", LOWER(Tabla3[[#This Row],[SEXO]])=\"m\", LOWER(Tabla3[[#This Row],[SEXO]])=\"1\"), \"MASCULINO\",\n  IF(OR(LOWER(Tabla3[[#This Row],[SEXO]])=\"femenino\", LOWER(Tabla3[[#This Row],[SEXO]])=\"f\", LOWER(Tabla3[[#This Row],[SEXO]])=\"2\"), \"FEMENINO\",\n  \"\")), \"\")","v":""},0,null,null,null,0]
[{"$f":"IF(Tabla3[[#This Row],[APELLIDOS Y NOMBRES]]>0,ROW()-14,\"\")","v":""},{"$f":"IFERROR(IF(Tabla3[[#This Row],[APELLIDOS Y NOMBRES]]>0,VLOOKUP($H$7,DATA!$A$79:$B$160,2,FALSE),\"\"),\"\")","v":""},null,null,null,null,null,{"$f":"((NOW()-Tabla3[[#This Row],[FECHA DE NACIMIENTO]])/365)-0.5","v":124.79767625317098},null,null,null,null,null,null,null,null,null,null,null,null,null,null,null,null,null,null,null,null,null,null,null,null,null,null,null,null,null,null,null,null,null,null,null,null,null,"",null,{"$f":"IFERROR(IF(OR(LOWER(Tabla3[[#This Row],[SEXO]])=\"masculino\", LOWER(Tabla3[[#This Row],[SEXO]])=\"m\", LOWER(Tabla3[[#This Row],[SEXO]])=\"1\"), \"MASCULINO\",\n  IF(OR(LOWER(Tabla3[[#This Row],[SEXO]])=\"femenino\", LOWER(Tabla3[[#This Row],[SEXO]])=\"f\", LOWER(Tabla3[[#This Row],[SEXO]])=\"2\"), \"FEMENINO\",\n  \"\")), \"\")","v":""},0,null,null,null,0]
[{"$f":"IF(Tabla3[[#This Row],[APELLIDOS Y NOMBRES]]>0,ROW()-14,\"\")","v":""},{"$f":"IFERROR(IF(Tabla3[[#This Row],[APELLIDOS Y NOMBRES]]>0,VLOOKUP($H$7,DATA!$A$79:$B$160,2,FALSE),\"\"),\"\")","v":""},null,null,null,null,null,{"$f":"((NOW()-Tabla3[[#This Row],[FECHA DE NACIMIENTO]])/365)-0.5","v":124.79767625317098},null,null,null,null,null,null,null,null,null,null,null,null,null,null,null,null,null,null,null,null,null,null,null,null,null,null,null,null,null,null,null,null,null,null,null,null,null,"",null,{"$f":"IFERROR(IF(OR(LOWER(Tabla3[[#This Row],[SEXO]])=\"masculino\", LOWER(Tabla3[[#This Row],[SEXO]])=\"m\", LOWER(Tabla3[[#This Row],[SEXO]])=\"1\"), \"MASCULINO\",\n  IF(OR(LOWER(Tabla3[[#This Row],[SEXO]])=\"femenino\", LOWER(Tabla3[[#This Row],[SEXO]])=\"f\", LOWER(Tabla3[[#This Row],[SEXO]])=\"2\"), \"FEMENINO\",\n  \"\")), \"\")","v":""},0,null,null,null,0]
[{"$f":"IF(Tabla3[[#This Row],[APELLIDOS Y NOMBRES]]>0,ROW()-14,\"\")","v":""},{"$f":"IFERROR(IF(Tabla3[[#This Row],[APELLIDOS Y NOMBRES]]>0,VLOOKUP($H$7,DATA!$A$79:$B$160,2,FALSE),\"\"),\"\")","v":""},null,null,null,null,null,{"$f":"((NOW()-Tabla3[[#This Row],[FECHA DE NACIMIENTO]])/365)-0.5","v":124.79767625317098},null,null,null,null,null,null,null,null,null,null,null,null,null,null,null,null,null,null,null,null,null,null,null,null,null,null,null,null,null,null,null,null,null,null,null,null,null,"",null,{"$f":"IFERROR(IF(OR(LOWER(Tabla3[[#This Row],[SEXO]])=\"masculino\", LOWER(Tabla3[[#This Row],[SEXO]])=\"m\", LOWER(Tabla3[[#This Row],[SEXO]])=\"1\"), \"MASCULINO\",\n  IF(OR(LOWER(Tabla3[[#This Row],[SEXO]])=\"femenino\", LOWER(Tabla3[[#This Row],[SEXO]])=\"f\", LOWER(Tabla3[[#This Row],[SEXO]])=\"2\"), \"FEMENINO\",\n  \"\")), \"\")","v":""},0,null,null,null,0]
[{"$f":"IF(Tabla3[[#This Row],[APELLIDOS Y NOMBRES]]>0,ROW()-14,\"\")","v":""},{"$f":"IFERROR(IF(Tabla3[[#This Row],[APELLIDOS Y NOMBRES]]>0,VLOOKUP($H$7,DATA!$A$79:$B$160,2,FALSE),\"\"),\"\")","v":""},null,null,null,null,null,{"$f":"((NOW()-Tabla3[[#This Row],[FECHA DE NACIMIENTO]])/365)-0.5","v":124.79767625317098},null,null,null,null,null,null,null,null,null,null,null,null,null,null,null,null,null,null,null,null,null,null,null,null,null,null,null,null,null,null,null,null,null,null,null,null,null,"",null,{"$f":"IFERROR(IF(OR(LOWER(Tabla3[[#This Row],[SEXO]])=\"masculino\", LOWER(Tabla3[[#This Row],[SEXO]])=\"m\", LOWER(Tabla3[[#This Row],[SEXO]])=\"1\"), \"MASCULINO\",\n  IF(OR(LOWER(Tabla3[[#This Row],[SEXO]])=\"femenino\", LOWER(Tabla3[[#This Row],[SEXO]])=\"f\", LOWER(Tabla3[[#This Row],[SEXO]])=\"2\"), \"FEMENINO\",\n  \"\")), \"\")","v":""},0,null,null,null,0]
[{"$f":"IF(Tabla3[[#This Row],[APELLIDOS Y NOMBRES]]>0,ROW()-14,\"\")","v":""},{"$f":"IFERROR(IF(Tabla3[[#This Row],[APELLIDOS Y NOMBRES]]>0,VLOOKUP($H$7,DATA!$A$79:$B$160,2,FALSE),\"\"),\"\")","v":""},null,null,null,null,null,{"$f":"((NOW()-Tabla3[[#This Row],[FECHA DE NACIMIENTO]])/365)-0.5","v":124.79767625317098},null,null,null,null,null,null,null,null,null,null,null,null,null,null,null,null,null,null,null,null,null,null,null,null,null,null,null,null,null,null,null,null,null,null,null,null,null,"",null,{"$f":"IFERROR(IF(OR(LOWER(Tabla3[[#This Row],[SEXO]])=\"masculino\", LOWER(Tabla3[[#This Row],[SEXO]])=\"m\", LOWER(Tabla3[[#This Row],[SEXO]])=\"1\"), \"MASCULINO\",\n  IF(OR(LOWER(Tabla3[[#This Row],[SEXO]])=\"femenino\", LOWER(Tabla3[[#This Row],[SEXO]])=\"f\", LOWER(Tabla3[[#This Row],[SEXO]])=\"2\"), \"FEMENINO\",\n  \"\")), \"\")","v":""},0,null,null,null,0]
[{"$f":"IF(Tabla3[[#This Row],[APELLIDOS Y NOMBRES]]>0,ROW()-14,\"\")","v":""},{"$f":"IFERROR(IF(Tabla3[[#This Row],[APELLIDOS Y NOMBRES]]>0,VLOOKUP($H$7,DATA!$A$79:$B$160,2,FALSE),\"\"),\"\")","v":""},null,null,null,null,null,{"$f":"((NOW()-Tabla3[[#This Row],[FECHA DE NACIMIENTO]])/365)-0.5","v":124.79767625317098},null,null,null,null,null,null,null,null,null,null,null,null,null,null,null,null,null,null,null,null,null,null,null,null,null,null,null,null,null,null,null,null,null,null,null,null,null,"",null,{"$f":"IFERROR(IF(OR(LOWER(Tabla3[[#This Row],[SEXO]])=\"masculino\", LOWER(Tabla3[[#This Row],[SEXO]])=\"m\", LOWER(Tabla3[[#This Row],[SEXO]])=\"1\"), \"MASCULINO\",\n  IF(OR(LOWER(Tabla3[[#This Row],[SEXO]])=\"femenino\", LOWER(Tabla3[[#This Row],[SEXO]])=\"f\", LOWER(Tabla3[[#This Row],[SEXO]])=\"2\"), \"FEMENINO\",\n  \"\")), \"\")","v":""},0,null,null,null,0]
[{"$f":"IF(Tabla3[[#This Row],[APELLIDOS Y NOMBRES]]>0,ROW()-14,\"\")","v":""},{"$f":"IFERROR(IF(Tabla3[[#This Row],[APELLIDOS Y NOMBRES]]>0,VLOOKUP($H$7,DATA!$A$79:$B$160,2,FALSE),\"\"),\"\")","v":""},null,null,null,null,null,{"$f":"((NOW()-Tabla3[[#This Row],[FECHA DE NACIMIENTO]])/365)-0.5","v":124.79767625317098},null,null,null,null,null,null,null,null,null,null,null,null,null,null,null,null,null,null,null,null,null,null,null,null,null,null,null,null,null,null,null,null,null,null,null,null,null,"",null,{"$f":"IFERROR(IF(OR(LOWER(Tabla3[[#This Row],[SEXO]])=\"masculino\", LOWER(Tabla3[[#This Row],[SEXO]])=\"m\", LOWER(Tabla3[[#This Row],[SEXO]])=\"1\"), \"MASCULINO\",\n  IF(OR(LOWER(Tabla3[[#This Row],[SEXO]])=\"femenino\", LOWER(Tabla3[[#This Row],[SEXO]])=\"f\", LOWER(Tabla3[[#This Row],[SEXO]])=\"2\"), \"FEMENINO\",\n  \"\")), \"\")","v":""},0,null,null,null,0]
[{"$f":"IF(Tabla3[[#This Row],[APELLIDOS Y NOMBRES]]>0,ROW()-14,\"\")","v":""},{"$f":"IFERROR(IF(Tabla3[[#This Row],[APELLIDOS Y NOMBRES]]>0,VLOOKUP($H$7,DATA!$A$79:$B$160,2,FALSE),\"\"),\"\")","v":""},null,null,null,null,null,{"$f":"((NOW()-Tabla3[[#This Row],[FECHA DE NACIMIENTO]])/365)-0.5","v":124.79767625317098},null,null,null,null,null,null,null,null,null,null,null,null,null,null,null,null,null,null,null,null,null,null,null,null,null,null,null,null,null,null,null,null,null,null,null,null,null,"",null,{"$f":"IFERROR(IF(OR(LOWER(Tabla3[[#This Row],[SEXO]])=\"masculino\", LOWER(Tabla3[[#This Row],[SEXO]])=\"m\", LOWER(Tabla3[[#This Row],[SEXO]])=\"1\"), \"MASCULINO\",\n  IF(OR(LOWER(Tabla3[[#This Row],[SEXO]])=\"femenino\", LOWER(Tabla3[[#This Row],[SEXO]])=\"f\", LOWER(Tabla3[[#This Row],[SEXO]])=\"2\"), \"FEMENINO\",\n  \"\")), \"\")","v":""},0,null,null,null,0]
[{"$f":"IF(Tabla3[[#This Row],[APELLIDOS Y NOMBRES]]>0,ROW()-14,\"\")","v":""},{"$f":"IFERROR(IF(Tabla3[[#This Row],[APELLIDOS Y NOMBRES]]>0,VLOOKUP($H$7,DATA!$A$79:$B$160,2,FALSE),\"\"),\"\")","v":""},null,null,null,null,null,{"$f":"((NOW()-Tabla3[[#This Row],[FECHA DE NACIMIENTO]])/365)-0.5","v":124.79767625317098},null,null,null,null,null,null,null,null,null,null,null,null,null,null,null,null,null,null,null,null,null,null,null,null,null,null,null,null,null,null,null,null,null,null,null,null,null,"",null,{"$f":"IFERROR(IF(OR(LOWER(Tabla3[[#This Row],[SEXO]])=\"masculino\", LOWER(Tabla3[[#This Row],[SEXO]])=\"m\", LOWER(Tabla3[[#This Row],[SEXO]])=\"1\"), \"MASCULINO\",\n  IF(OR(LOWER(Tabla3[[#This Row],[SEXO]])=\"femenino\", LOWER(Tabla3[[#This Row],[SEXO]])=\"f\", LOWER(Tabla3[[#This Row],[SEXO]])=\"2\"), \"FEMENINO\",\n  \"\")), \"\")","v":""},0,null,null,null,0]
[{"$f":"IF(Tabla3[[#This Row],[APELLIDOS Y NOMBRES]]>0,ROW()-14,\"\")","v":""},{"$f":"IFERROR(IF(Tabla3[[#This Row],[APELLIDOS Y NOMBRES]]>0,VLOOKUP($H$7,DATA!$A$79:$B$160,2,FALSE),\"\"),\"\")","v":""},null,null,null,null,null,{"$f":"((NOW()-Tabla3[[#This Row],[FECHA DE NACIMIENTO]])/365)-0.5","v":124.79767625317098},null,null,null,null,null,null,null,null,null,null,null,null,null,null,null,null,null,null,null,null,null,null,null,null,null,null,null,null,null,null,null,null,null,null,null,null,null,"",null,{"$f":"IFERROR(IF(OR(LOWER(Tabla3[[#This Row],[SEXO]])=\"masculino\", LOWER(Tabla3[[#This Row],[SEXO]])=\"m\", LOWER(Tabla3[[#This Row],[SEXO]])=\"1\"), \"MASCULINO\",\n  IF(OR(LOWER(Tabla3[[#This Row],[SEXO]])=\"femenino\", LOWER(Tabla3[[#This Row],[SEXO]])=\"f\", LOWER(Tabla3[[#This Row],[SEXO]])=\"2\"), \"FEMENINO\",\n  \"\")), \"\")","v":""},0,null,null,null,0]
[{"$f":"IF(Tabla3[[#This Row],[APELLIDOS Y NOMBRES]]>0,ROW()-14,\"\")","v":""},{"$f":"IFERROR(IF(Tabla3[[#This Row],[APELLIDOS Y NOMBRES]]>0,VLOOKUP($H$7,DATA!$A$79:$B$160,2,FALSE),\"\"),\"\")","v":""},null,null,null,null,null,{"$f":"((NOW()-Tabla3[[#This Row],[FECHA DE NACIMIENTO]])/365)-0.5","v":124.79767625317098},null,null,null,null,null,null,null,null,null,null,null,null,null,null,null,null,null,null,null,null,null,null,null,null,null,null,null,null,null,null,null,null,null,null,null,null,null,"",null,{"$f":"IFERROR(IF(OR(LOWER(Tabla3[[#This Row],[SEXO]])=\"masculino\", LOWER(Tabla3[[#This Row],[SEXO]])=\"m\", LOWER(Tabla3[[#This Row],[SEXO]])=\"1\"), \"MASCULINO\",\n  IF(OR(LOWER(Tabla3[[#This Row],[SEXO]])=\"femenino\", LOWER(Tabla3[[#This Row],[SEXO]])=\"f\", LOWER(Tabla3[[#This Row],[SEXO]])=\"2\"), \"FEMENINO\",\n  \"\")), \"\")","v":""},0,null,null,null,0]
[{"$f":"IF(Tabla3[[#This Row],[APELLIDOS Y NOMBRES]]>0,ROW()-14,\"\")","v":""},{"$f":"IFERROR(IF(Tabla3[[#This Row],[APELLIDOS Y NOMBRES]]>0,VLOOKUP($H$7,DATA!$A$79:$B$160,2,FALSE),\"\"),\"\")","v":""},null,null,null,null,null,{"$f":"((NOW()-Tabla3[[#This Row],[FECHA DE NACIMIENTO]])/365)-0.5","v":124.79767625317098},null,null,null,null,null,null,null,null,null,null,null,null,null,null,null,null,null,null,null,null,null,null,null,null,null,null,null,null,null,null,null,null,null,null,null,null,null,"",null,{"$f":"IFERROR(IF(OR(LOWER(Tabla3[[#This Row],[SEXO]])=\"masculino\", LOWER(Tabla3[[#This Row],[SEXO]])=\"m\", LOWER(Tabla3[[#This Row],[SEXO]])=\"1\"), \"MASCULINO\",\n  IF(OR(LOWER(Tabla3[[#This Row],[SEXO]])=\"femenino\", LOWER(Tabla3[[#This Row],[SEXO]])=\"f\", LOWER(Tabla3[[#This Row],[SEXO]])=\"2\"), \"FEMENINO\",\n  \"\")), \"\")","v":""},0,null,null,null,0]
[{"$f":"IF(Tabla3[[#This Row],[APELLIDOS Y NOMBRES]]>0,ROW()-14,\"\")","v":""},{"$f":"IFERROR(IF(Tabla3[[#This Row],[APELLIDOS Y NOMBRES]]>0,VLOOKUP($H$7,DATA!$A$79:$B$160,2,FALSE),\"\"),\"\")","v":""},null,null,null,null,null,{"$f":"((NOW()-Tabla3[[#This Row],[FECHA DE NACIMIENTO]])/365)-0.5","v":124.79767625317098},null,null,null,null,null,null,null,null,null,null,null,null,null,null,null,null,null,null,null,null,null,null,null,null,null,null,null,null,null,null,null,null,null,null,null,null,null,"",null,{"$f":"IFERROR(IF(OR(LOWER(Tabla3[[#This Row],[SEXO]])=\"masculino\", LOWER(Tabla3[[#This Row],[SEXO]])=\"m\", LOWER(Tabla3[[#This Row],[SEXO]])=\"1\"), \"MASCULINO\",\n  IF(OR(LOWER(Tabla3[[#This Row],[SEXO]])=\"femenino\", LOWER(Tabla3[[#This Row],[SEXO]])=\"f\", LOWER(Tabla3[[#This Row],[SEXO]])=\"2\"), \"FEMENINO\",\n  \"\")), \"\")","v":""},0,null,null,null,0]
[{"$f":"IF(Tabla3[[#This Row],[APELLIDOS Y NOMBRES]]>0,ROW()-14,\"\")","v":""},{"$f":"IFERROR(IF(Tabla3[[#This Row],[APELLIDOS Y NOMBRES]]>0,VLOOKUP($H$7,DATA!$A$79:$B$160,2,FALSE),\"\"),\"\")","v":""},null,null,null,null,null,{"$f":"((NOW()-Tabla3[[#This Row],[FECHA DE NACIMIENTO]])/365)-0.5","v":124.79767625317098},null,null,null,null,null,null,null,null,null,null,null,null,null,null,null,null,null,null,null,null,null,null,null,null,null,null,null,null,null,null,null,null,null,null,null,null,null,"",null,{"$f":"IFERROR(IF(OR(LOWER(Tabla3[[#This Row],[SEXO]])=\"masculino\", LOWER(Tabla3[[#This Row],[SEXO]])=\"m\", LOWER(Tabla3[[#This Row],[SEXO]])=\"1\"), \"MASCULINO\",\n  IF(OR(LOWER(Tabla3[[#This Row],[SEXO]])=\"femenino\", LOWER(Tabla3[[#This Row],[SEXO]])=\"f\", LOWER(Tabla3[[#This Row],[SEXO]])=\"2\"), \"FEMENINO\",\n  \"\")), \"\")","v":""},0,null,null,null,0]
[{"$f":"IF(Tabla3[[#This Row],[APELLIDOS Y NOMBRES]]>0,ROW()-14,\"\")","v":""},{"$f":"IFERROR(IF(Tabla3[[#This Row],[APELLIDOS Y NOMBRES]]>0,VLOOKUP($H$7,DATA!$A$79:$B$160,2,FALSE),\"\"),\"\")","v":""},null,null,null,null,null,{"$f":"((NOW()-Tabla3[[#This Row],[FECHA DE NACIMIENTO]])/365)-0.5","v":124.79767625317098},null,null,null,null,null,null,null,null,null,null,null,null,null,null,null,null,null,null,null,null,null,null,null,null,null,null,null,null,null,null,null,null,null,null,null,null,null,"",null,{"$f":"IFERROR(IF(OR(LOWER(Tabla3[[#This Row],[SEXO]])=\"masculino\", LOWER(Tabla3[[#This Row],[SEXO]])=\"m\", LOWER(Tabla3[[#This Row],[SEXO]])=\"1\"), \"MASCULINO\",\n  IF(OR(LOWER(Tabla3[[#This Row],[SEXO]])=\"femenino\", LOWER(Tabla3[[#This Row],[SEXO]])=\"f\", LOWER(Tabla3[[#This Row],[SEXO]])=\"2\"), \"FEMENINO\",\n  \"\")), \"\")","v":""},0,null,null,null,0]
[{"$f":"IF(Tabla3[[#This Row],[APELLIDOS Y NOMBRES]]>0,ROW()-14,\"\")","v":""},{"$f":"IFERROR(IF(Tabla3[[#This Row],[APELLIDOS Y NOMBRES]]>0,VLOOKUP($H$7,DATA!$A$79:$B$160,2,FALSE),\"\"),\"\")","v":""},null,null,null,null,null,{"$f":"((NOW()-Tabla3[[#This Row],[FECHA DE NACIMIENTO]])/365)-0.5","v":124.79767625317098},null,null,null,null,null,null,null,null,null,null,null,null,null,null,null,null,null,null,null,null,null,null,null,null,null,null,null,null,null,null,null,null,null,null,null,null,null,"",null,{"$f":"IFERROR(IF(OR(LOWER(Tabla3[[#This Row],[SEXO]])=\"masculino\", LOWER(Tabla3[[#This Row],[SEXO]])=\"m\", LOWER(Tabla3[[#This Row],[SEXO]])=\"1\"), \"MASCULINO\",\n  IF(OR(LOWER(Tabla3[[#This Row],[SEXO]])=\"femenino\", LOWER(Tabla3[[#This Row],[SEXO]])=\"f\", LOWER(Tabla3[[#This Row],[SEXO]])=\"2\"), \"FEMENINO\",\n  \"\")), \"\")","v":""},0,null,null,null,0]
[{"$f":"IF(Tabla3[[#This Row],[APELLIDOS Y NOMBRES]]>0,ROW()-14,\"\")","v":""},{"$f":"IFERROR(IF(Tabla3[[#This Row],[APELLIDOS Y NOMBRES]]>0,VLOOKUP($H$7,DATA!$A$79:$B$160,2,FALSE),\"\"),\"\")","v":""},null,null,null,null,null,{"$f":"((NOW()-Tabla3[[#This Row],[FECHA DE NACIMIENTO]])/365)-0.5","v":124.79767625317098},null,null,null,null,null,null,null,null,null,null,null,null,null,null,null,null,null,null,null,null,null,null,null,null,null,null,null,null,null,null,null,null,null,null,null,null,null,"",null,{"$f":"IFERROR(IF(OR(LOWER(Tabla3[[#This Row],[SEXO]])=\"masculino\", LOWER(Tabla3[[#This Row],[SEXO]])=\"m\", LOWER(Tabla3[[#This Row],[SEXO]])=\"1\"), \"MASCULINO\",\n  IF(OR(LOWER(Tabla3[[#This Row],[SEXO]])=\"femenino\", LOWER(Tabla3[[#This Row],[SEXO]])=\"f\", LOWER(Tabla3[[#This Row],[SEXO]])=\"2\"), \"FEMENINO\",\n  \"\")), \"\")","v":""},0,null,null,null,0]
[{"$f":"IF(Tabla3[[#This Row],[APELLIDOS Y NOMBRES]]>0,ROW()-14,\"\")","v":""},{"$f":"IFERROR(IF(Tabla3[[#This Row],[APELLIDOS Y NOMBRES]]>0,VLOOKUP($H$7,DATA!$A$79:$B$160,2,FALSE),\"\"),\"\")","v":""},null,null,null,null,null,{"$f":"((NOW()-Tabla3[[#This Row],[FECHA DE NACIMIENTO]])/365)-0.5","v":124.79767625317098},null,null,null,null,null,null,null,null,null,null,null,null,null,null,null,null,null,null,null,null,null,null,null,null,null,null,null,null,null,null,null,null,null,null,null,null,null,"",null,{"$f":"IFERROR(IF(OR(LOWER(Tabla3[[#This Row],[SEXO]])=\"masculino\", LOWER(Tabla3[[#This Row],[SEXO]])=\"m\", LOWER(Tabla3[[#This Row],[SEXO]])=\"1\"), \"MASCULINO\",\n  IF(OR(LOWER(Tabla3[[#This Row],[SEXO]])=\"femenino\", LOWER(Tabla3[[#This Row],[SEXO]])=\"f\", LOWER(Tabla3[[#This Row],[SEXO]])=\"2\"), \"FEMENINO\",\n  \"\")), \"\")","v":""},0,null,null,null,0]
[{"$f":"IF(Tabla3[[#This Row],[APELLIDOS Y NOMBRES]]>0,ROW()-14,\"\")","v":""},{"$f":"IFERROR(IF(Tabla3[[#This Row],[APELLIDOS Y NOMBRES]]>0,VLOOKUP($H$7,DATA!$A$79:$B$160,2,FALSE),\"\"),\"\")","v":""},null,null,null,null,null,{"$f":"((NOW()-Tabla3[[#This Row],[FECHA DE NACIMIENTO]])/365)-0.5","v":124.79767625317098},null,null,null,null,null,null,null,null,null,null,null,null,null,null,null,null,null,null,null,null,null,null,null,null,null,null,null,null,null,null,null,null,null,null,null,null,null,"",null,{"$f":"IFERROR(IF(OR(LOWER(Tabla3[[#This Row],[SEXO]])=\"masculino\", LOWER(Tabla3[[#This Row],[SEXO]])=\"m\", LOWER(Tabla3[[#This Row],[SEXO]])=\"1\"), \"MASCULINO\",\n  IF(OR(LOWER(Tabla3[[#This Row],[SEXO]])=\"femenino\", LOWER(Tabla3[[#This Row],[SEXO]])=\"f\", LOWER(Tabla3[[#This Row],[SEXO]])=\"2\"), \"FEMENINO\",\n  \"\")), \"\")","v":""},0,null,null,null,0]
[{"$f":"IF(Tabla3[[#This Row],[APELLIDOS Y NOMBRES]]>0,ROW()-14,\"\")","v":""},{"$f":"IFERROR(IF(Tabla3[[#This Row],[APELLIDOS Y NOMBRES]]>0,VLOOKUP($H$7,DATA!$A$79:$B$160,2,FALSE),\"\"),\"\")","v":""},null,null,null,null,null,{"$f":"((NOW()-Tabla3[[#This Row],[FECHA DE NACIMIENTO]])/365)-0.5","v":124.79767625317098},null,null,null,null,null,null,null,null,null,null,null,null,null,null,null,null,null,null,null,null,null,null,null,null,null,null,null,null,null,null,null,null,null,null,null,null,null,"",null,{"$f":"IFERROR(IF(OR(LOWER(Tabla3[[#This Row],[SEXO]])=\"masculino\", LOWER(Tabla3[[#This Row],[SEXO]])=\"m\", LOWER(Tabla3[[#This Row],[SEXO]])=\"1\"), \"MASCULINO\",\n  IF(OR(LOWER(Tabla3[[#This Row],[SEXO]])=\"femenino\", LOWER(Tabla3[[#This Row],[SEXO]])=\"f\", LOWER(Tabla3[[#This Row],[SEXO]])=\"2\"), \"FEMENINO\",\n  \"\")), \"\")","v":""},0,null,null,null,0]
[{"$f":"IF(Tabla3[[#This Row],[APELLIDOS Y NOMBRES]]>0,ROW()-14,\"\")","v":""},{"$f":"IFERROR(IF(Tabla3[[#This Row],[APELLIDOS Y NOMBRES]]>0,VLOOKUP($H$7,DATA!$A$79:$B$160,2,FALSE),\"\"),\"\")","v":""},null,null,null,null,null,{"$f":"((NOW()-Tabla3[[#This Row],[FECHA DE NACIMIENTO]])/365)-0.5","v":124.79767625317098},null,null,null,null,null,null,null,null,null,null,null,null,null,null,null,null,null,null,null,null,null,null,null,null,null,null,null,null,null,null,null,null,null,null,null,null,null,"",null,{"$f":"IFERROR(IF(OR(LOWER(Tabla3[[#This Row],[SEXO]])=\"masculino\", LOWER(Tabla3[[#This Row],[SEXO]])=\"m\", LOWER(Tabla3[[#This Row],[SEXO]])=\"1\"), \"MASCULINO\",\n  IF(OR(LOWER(Tabla3[[#This Row],[SEXO]])=\"femenino\", LOWER(Tabla3[[#This Row],[SEXO]])=\"f\", LOWER(Tabla3[[#This Row],[SEXO]])=\"2\"), \"FEMENINO\",\n  \"\")), \"\")","v":""},0,null,null,null,0]
[{"$f":"IF(Tabla3[[#This Row],[APELLIDOS Y NOMBRES]]>0,ROW()-14,\"\")","v":""},{"$f":"IFERROR(IF(Tabla3[[#This Row],[APELLIDOS Y NOMBRES]]>0,VLOOKUP($H$7,DATA!$A$79:$B$160,2,FALSE),\"\"),\"\")","v":""},null,null,null,null,null,{"$f":"((NOW()-Tabla3[[#This Row],[FECHA DE NACIMIENTO]])/365)-0.5","v":124.79767625317098},null,null,null,null,null,null,null,null,null,null,null,null,null,null,null,null,null,null,null,null,null,null,null,null,null,null,null,null,null,null,null,null,null,null,null,null,null,{"$f":"IF(OR($C$5=\"\", $D8400=\"\"), \"\", $C$5)","v":""},null,{"$f":"IFERROR(IF(OR(LOWER(Tabla3[[#This Row],[SEXO]])=\"masculino\", LOWER(Tabla3[[#This Row],[SEXO]])=\"m\", LOWER(Tabla3[[#This Row],[SEXO]])=\"1\"), \"MASCULINO\",\n  IF(OR(LOWER(Tabla3[[#This Row],[SEXO]])=\"femenino\", LOWER(Tabla3[[#This Row],[SEXO]])=\"f\", LOWER(Tabla3[[#This Row],[SEXO]])=\"2\"), \"FEMENINO\",\n  \"\")), \"\")","v":""},{"$f":"COUNTIF(P8400:AH8400,104)","v":0},null,null,null,{"$f":"IF(COUNTIF(P8400:AI8400,104)>0,1,0)","v":0}]
[{"$f":"IF(Tabla3[[#This Row],[APELLIDOS Y NOMBRES]]>0,ROW()-14,\"\")","v":""},{"$f":"IFERROR(IF(Tabla3[[#This Row],[APELLIDOS Y NOMBRES]]>0,VLOOKUP($H$7,DATA!$A$79:$B$160,2,FALSE),\"\"),\"\")","v":""},null,null,null,null,null,{"$f":"((NOW()-Tabla3[[#This Row],[FECHA DE NACIMIENTO]])/365)-0.5","v":124.79767625317098},null,null,null,null,null,null,null,null,null,null,null,null,null,null,null,null,null,null,null,null,null,null,null,null,null,null,null,null,null,null,null,null,null,null,null,null,null,"",null,{"$f":"IFERROR(IF(OR(LOWER(Tabla3[[#This Row],[SEXO]])=\"masculino\", LOWER(Tabla3[[#This Row],[SEXO]])=\"m\", LOWER(Tabla3[[#This Row],[SEXO]])=\"1\"), \"MASCULINO\",\n  IF(OR(LOWER(Tabla3[[#This Row],[SEXO]])=\"femenino\", LOWER(Tabla3[[#This Row],[SEXO]])=\"f\", LOWER(Tabla3[[#This Row],[SEXO]])=\"2\"), \"FEMENINO\",\n  \"\")), \"\")","v":""},0,null,null,null,0]
[{"$f":"IF(Tabla3[[#This Row],[APELLIDOS Y NOMBRES]]>0,ROW()-14,\"\")","v":""},{"$f":"IFERROR(IF(Tabla3[[#This Row],[APELLIDOS Y NOMBRES]]>0,VLOOKUP($H$7,DATA!$A$79:$B$160,2,FALSE),\"\"),\"\")","v":""},null,null,null,null,null,{"$f":"((NOW()-Tabla3[[#This Row],[FECHA DE NACIMIENTO]])/365)-0.5","v":124.79767625317098},null,null,null,null,null,null,null,null,null,null,null,null,null,null,null,null,null,null,null,null,null,null,null,null,null,null,null,null,null,null,null,null,null,null,null,null,null,"",null,{"$f":"IFERROR(IF(OR(LOWER(Tabla3[[#This Row],[SEXO]])=\"masculino\", LOWER(Tabla3[[#This Row],[SEXO]])=\"m\", LOWER(Tabla3[[#This Row],[SEXO]])=\"1\"), \"MASCULINO\",\n  IF(OR(LOWER(Tabla3[[#This Row],[SEXO]])=\"femenino\", LOWER(Tabla3[[#This Row],[SEXO]])=\"f\", LOWER(Tabla3[[#This Row],[SEXO]])=\"2\"), \"FEMENINO\",\n  \"\")), \"\")","v":""},0,null,null,null,0]
[{"$f":"IF(Tabla3[[#This Row],[APELLIDOS Y NOMBRES]]>0,ROW()-14,\"\")","v":""},{"$f":"IFERROR(IF(Tabla3[[#This Row],[APELLIDOS Y NOMBRES]]>0,VLOOKUP($H$7,DATA!$A$79:$B$160,2,FALSE),\"\"),\"\")","v":""},null,null,null,null,null,{"$f":"((NOW()-Tabla3[[#This Row],[FECHA DE NACIMIENTO]])/365)-0.5","v":124.79767625317098},null,null,null,null,null,null,null,null,null,null,null,null,null,null,null,null,null,null,null,null,null,null,null,null,null,null,null,null,null,null,null,null,null,null,null,null,null,"",null,{"$f":"IFERROR(IF(OR(LOWER(Tabla3[[#This Row],[SEXO]])=\"masculino\", LOWER(Tabla3[[#This Row],[SEXO]])=\"m\", LOWER(Tabla3[[#This Row],[SEXO]])=\"1\"), \"MASCULINO\",\n  IF(OR(LOWER(Tabla3[[#This Row],[SEXO]])=\"femenino\", LOWER(Tabla3[[#This Row],[SEXO]])=\"f\", LOWER(Tabla3[[#This Row],[SEXO]])=\"2\"), \"FEMENINO\",\n  \"\")), \"\")","v":""},0,null,null,null,0]
[{"$f":"IF(Tabla3[[#This Row],[APELLIDOS Y NOMBRES]]>0,ROW()-14,\"\")","v":""},{"$f":"IFERROR(IF(Tabla3[[#This Row],[APELLIDOS Y NOMBRES]]>0,VLOOKUP($H$7,DATA!$A$79:$B$160,2,FALSE),\"\"),\"\")","v":""},null,null,null,null,null,{"$f":"((NOW()-Tabla3[[#This Row],[FECHA DE NACIMIENTO]])/365)-0.5","v":124.79767625317098},null,null,null,null,null,null,null,null,null,null,null,null,null,null,null,null,null,null,null,null,null,null,null,null,null,null,null,null,null,null,null,null,null,null,null,null,null,"",null,{"$f":"IFERROR(IF(OR(LOWER(Tabla3[[#This Row],[SEXO]])=\"masculino\", LOWER(Tabla3[[#This Row],[SEXO]])=\"m\", LOWER(Tabla3[[#This Row],[SEXO]])=\"1\"), \"MASCULINO\",\n  IF(OR(LOWER(Tabla3[[#This Row],[SEXO]])=\"femenino\", LOWER(Tabla3[[#This Row],[SEXO]])=\"f\", LOWER(Tabla3[[#This Row],[SEXO]])=\"2\"), \"FEMENINO\",\n  \"\")), \"\")","v":""},0,null,null,null,0]
[{"$f":"IF(Tabla3[[#This Row],[APELLIDOS Y NOMBRES]]>0,ROW()-14,\"\")","v":""},{"$f":"IFERROR(IF(Tabla3[[#This Row],[APELLIDOS Y NOMBRES]]>0,VLOOKUP($H$7,DATA!$A$79:$B$160,2,FALSE),\"\"),\"\")","v":""},null,null,null,null,null,{"$f":"((NOW()-Tabla3[[#This Row],[FECHA DE NACIMIENTO]])/365)-0.5","v":124.79767625317098},null,null,null,null,null,null,null,null,null,null,null,null,null,null,null,null,null,null,null,null,null,null,null,null,null,null,null,null,null,null,null,null,null,null,null,null,null,"",null,{"$f":"IFERROR(IF(OR(LOWER(Tabla3[[#This Row],[SEXO]])=\"masculino\", LOWER(Tabla3[[#This Row],[SEXO]])=\"m\", LOWER(Tabla3[[#This Row],[SEXO]])=\"1\"), \"MASCULINO\",\n  IF(OR(LOWER(Tabla3[[#This Row],[SEXO]])=\"femenino\", LOWER(Tabla3[[#This Row],[SEXO]])=\"f\", LOWER(Tabla3[[#This Row],[SEXO]])=\"2\"), \"FEMENINO\",\n  \"\")), \"\")","v":""},0,null,null,null,0]
[{"$f":"IF(Tabla3[[#This Row],[APELLIDOS Y NOMBRES]]>0,ROW()-14,\"\")","v":""},{"$f":"IFERROR(IF(Tabla3[[#This Row],[APELLIDOS Y NOMBRES]]>0,VLOOKUP($H$7,DATA!$A$79:$B$160,2,FALSE),\"\"),\"\")","v":""},null,null,null,null,null,{"$f":"((NOW()-Tabla3[[#This Row],[FECHA DE NACIMIENTO]])/365)-0.5","v":124.79767625317098},null,null,null,null,null,null,null,null,null,null,null,null,null,null,null,null,null,null,null,null,null,null,null,null,null,null,null,null,null,null,null,null,null,null,null,null,null,"",null,{"$f":"IFERROR(IF(OR(LOWER(Tabla3[[#This Row],[SEXO]])=\"masculino\", LOWER(Tabla3[[#This Row],[SEXO]])=\"m\", LOWER(Tabla3[[#This Row],[SEXO]])=\"1\"), \"MASCULINO\",\n  IF(OR(LOWER(Tabla3[[#This Row],[SEXO]])=\"femenino\", LOWER(Tabla3[[#This Row],[SEXO]])=\"f\", LOWER(Tabla3[[#This Row],[SEXO]])=\"2\"), \"FEMENINO\",\n  \"\")), \"\")","v":""},0,null,null,null,0]
[{"$f":"IF(Tabla3[[#This Row],[APELLIDOS Y NOMBRES]]>0,ROW()-14,\"\")","v":""},{"$f":"IFERROR(IF(Tabla3[[#This Row],[APELLIDOS Y NOMBRES]]>0,VLOOKUP($H$7,DATA!$A$79:$B$160,2,FALSE),\"\"),\"\")","v":""},null,null,null,null,null,{"$f":"((NOW()-Tabla3[[#This Row],[FECHA DE NACIMIENTO]])/365)-0.5","v":124.79767625317098},null,null,null,null,null,null,null,null,null,null,null,null,null,null,null,null,null,null,null,null,null,null,null,null,null,null,null,null,null,null,null,null,null,null,null,null,null,"",null,{"$f":"IFERROR(IF(OR(LOWER(Tabla3[[#This Row],[SEXO]])=\"masculino\", LOWER(Tabla3[[#This Row],[SEXO]])=\"m\", LOWER(Tabla3[[#This Row],[SEXO]])=\"1\"), \"MASCULINO\",\n  IF(OR(LOWER(Tabla3[[#This Row],[SEXO]])=\"femenino\", LOWER(Tabla3[[#This Row],[SEXO]])=\"f\", LOWER(Tabla3[[#This Row],[SEXO]])=\"2\"), \"FEMENINO\",\n  \"\")), \"\")","v":""},0,null,null,null,0]
[{"$f":"IF(Tabla3[[#This Row],[APELLIDOS Y NOMBRES]]>0,ROW()-14,\"\")","v":""},{"$f":"IFERROR(IF(Tabla3[[#This Row],[APELLIDOS Y NOMBRES]]>0,VLOOKUP($H$7,DATA!$A$79:$B$160,2,FALSE),\"\"),\"\")","v":""},null,null,null,null,null,{"$f":"((NOW()-Tabla3[[#This Row],[FECHA DE NACIMIENTO]])/365)-0.5","v":124.79767625317098},null,null,null,null,null,null,null,null,null,null,null,null,null,null,null,null,null,null,null,null,null,null,null,null,null,null,null,null,null,null,null,null,null,null,null,null,null,"",null,{"$f":"IFERROR(IF(OR(LOWER(Tabla3[[#This Row],[SEXO]])=\"masculino\", LOWER(Tabla3[[#This Row],[SEXO]])=\"m\", LOWER(Tabla3[[#This Row],[SEXO]])=\"1\"), \"MASCULINO\",\n  IF(OR(LOWER(Tabla3[[#This Row],[SEXO]])=\"femenino\", LOWER(Tabla3[[#This Row],[SEXO]])=\"f\", LOWER(Tabla3[[#This Row],[SEXO]])=\"2\"), \"FEMENINO\",\n  \"\")), \"\")","v":""},0,null,null,null,0]
[{"$f":"IF(Tabla3[[#This Row],[APELLIDOS Y NOMBRES]]>0,ROW()-14,\"\")","v":""},{"$f":"IFERROR(IF(Tabla3[[#This Row],[APELLIDOS Y NOMBRES]]>0,VLOOKUP($H$7,DATA!$A$79:$B$160,2,FALSE),\"\"),\"\")","v":""},null,null,null,null,null,{"$f":"((NOW()-Tabla3[[#This Row],[FECHA DE NACIMIENTO]])/365)-0.5","v":124.79767625317098},null,null,null,null,null,null,null,null,null,null,null,null,null,null,null,null,null,null,null,null,null,null,null,null,null,null,null,null,null,null,null,null,null,null,null,null,null,"",null,{"$f":"IFERROR(IF(OR(LOWER(Tabla3[[#This Row],[SEXO]])=\"masculino\", LOWER(Tabla3[[#This Row],[SEXO]])=\"m\", LOWER(Tabla3[[#This Row],[SEXO]])=\"1\"), \"MASCULINO\",\n  IF(OR(LOWER(Tabla3[[#This Row],[SEXO]])=\"femenino\", LOWER(Tabla3[[#This Row],[SEXO]])=\"f\", LOWER(Tabla3[[#This Row],[SEXO]])=\"2\"), \"FEMENINO\",\n  \"\")), \"\")","v":""},0,null,null,null,0]
[{"$f":"IF(Tabla3[[#This Row],[APELLIDOS Y NOMBRES]]>0,ROW()-14,\"\")","v":""},{"$f":"IFERROR(IF(Tabla3[[#This Row],[APELLIDOS Y NOMBRES]]>0,VLOOKUP($H$7,DATA!$A$79:$B$160,2,FALSE),\"\"),\"\")","v":""},null,null,null,null,null,{"$f":"((NOW()-Tabla3[[#This Row],[FECHA DE NACIMIENTO]])/365)-0.5","v":124.79767625317098},null,null,null,null,null,null,null,null,null,null,null,null,null,null,null,null,null,null,null,null,null,null,null,null,null,null,null,null,null,null,null,null,null,null,null,null,null,"",null,{"$f":"IFERROR(IF(OR(LOWER(Tabla3[[#This Row],[SEXO]])=\"masculino\", LOWER(Tabla3[[#This Row],[SEXO]])=\"m\", LOWER(Tabla3[[#This Row],[SEXO]])=\"1\"), \"MASCULINO\",\n  IF(OR(LOWER(Tabla3[[#This Row],[SEXO]])=\"femenino\", LOWER(Tabla3[[#This Row],[SEXO]])=\"f\", LOWER(Tabla3[[#This Row],[SEXO]])=\"2\"), \"FEMENINO\",\n  \"\")), \"\")","v":""},0,null,null,null,0]
[{"$f":"IF(Tabla3[[#This Row],[APELLIDOS Y NOMBRES]]>0,ROW()-14,\"\")","v":""},{"$f":"IFERROR(IF(Tabla3[[#This Row],[APELLIDOS Y NOMBRES]]>0,VLOOKUP($H$7,DATA!$A$79:$B$160,2,FALSE),\"\"),\"\")","v":""},null,null,null,null,null,{"$f":"((NOW()-Tabla3[[#This Row],[FECHA DE NACIMIENTO]])/365)-0.5","v":124.79767625317098},null,null,null,null,null,null,null,null,null,null,null,null,null,null,null,null,null,null,null,null,null,null,null,null,null,null,null,null,null,null,null,null,null,null,null,null,null,"",null,{"$f":"IFERROR(IF(OR(LOWER(Tabla3[[#This Row],[SEXO]])=\"masculino\", LOWER(Tabla3[[#This Row],[SEXO]])=\"m\", LOWER(Tabla3[[#This Row],[SEXO]])=\"1\"), \"MASCULINO\",\n  IF(OR(LOWER(Tabla3[[#This Row],[SEXO]])=\"femenino\", LOWER(Tabla3[[#This Row],[SEXO]])=\"f\", LOWER(Tabla3[[#This Row],[SEXO]])=\"2\"), \"FEMENINO\",\n  \"\")), \"\")","v":""},0,null,null,null,0]
[{"$f":"IF(Tabla3[[#This Row],[APELLIDOS Y NOMBRES]]>0,ROW()-14,\"\")","v":""},{"$f":"IFERROR(IF(Tabla3[[#This Row],[APELLIDOS Y NOMBRES]]>0,VLOOKUP($H$7,DATA!$A$79:$B$160,2,FALSE),\"\"),\"\")","v":""},null,null,null,null,null,{"$f":"((NOW()-Tabla3[[#This Row],[FECHA DE NACIMIENTO]])/365)-0.5","v":124.79767625317098},null,null,null,null,null,null,null,null,null,null,null,null,null,null,null,null,null,null,null,null,null,null,null,null,null,null,null,null,null,null,null,null,null,null,null,null,null,"",null,{"$f":"IFERROR(IF(OR(LOWER(Tabla3[[#This Row],[SEXO]])=\"masculino\", LOWER(Tabla3[[#This Row],[SEXO]])=\"m\", LOWER(Tabla3[[#This Row],[SEXO]])=\"1\"), \"MASCULINO\",\n  IF(OR(LOWER(Tabla3[[#This Row],[SEXO]])=\"femenino\", LOWER(Tabla3[[#This Row],[SEXO]])=\"f\", LOWER(Tabla3[[#This Row],[SEXO]])=\"2\"), \"FEMENINO\",\n  \"\")), \"\")","v":""},0,null,null,null,0]
[{"$f":"IF(Tabla3[[#This Row],[APELLIDOS Y NOMBRES]]>0,ROW()-14,\"\")","v":""},{"$f":"IFERROR(IF(Tabla3[[#This Row],[APELLIDOS Y NOMBRES]]>0,VLOOKUP($H$7,DATA!$A$79:$B$160,2,FALSE),\"\"),\"\")","v":""},null,null,null,null,null,{"$f":"((NOW()-Tabla3[[#This Row],[FECHA DE NACIMIENTO]])/365)-0.5","v":124.79767625317098},null,null,null,null,null,null,null,null,null,null,null,null,null,null,null,null,null,null,null,null,null,null,null,null,null,null,null,null,null,null,null,null,null,null,null,null,null,"",null,{"$f":"IFERROR(IF(OR(LOWER(Tabla3[[#This Row],[SEXO]])=\"masculino\", LOWER(Tabla3[[#This Row],[SEXO]])=\"m\", LOWER(Tabla3[[#This Row],[SEXO]])=\"1\"), \"MASCULINO\",\n  IF(OR(LOWER(Tabla3[[#This Row],[SEXO]])=\"femenino\", LOWER(Tabla3[[#This Row],[SEXO]])=\"f\", LOWER(Tabla3[[#This Row],[SEXO]])=\"2\"), \"FEMENINO\",\n  \"\")), \"\")","v":""},0,null,null,null,0]
[{"$f":"IF(Tabla3[[#This Row],[APELLIDOS Y NOMBRES]]>0,ROW()-14,\"\")","v":""},{"$f":"IFERROR(IF(Tabla3[[#This Row],[APELLIDOS Y NOMBRES]]>0,VLOOKUP($H$7,DATA!$A$79:$B$160,2,FALSE),\"\"),\"\")","v":""},null,null,null,null,null,{"$f":"((NOW()-Tabla3[[#This Row],[FECHA DE NACIMIENTO]])/365)-0.5","v":124.79767625317098},null,null,null,null,null,null,null,null,null,null,null,null,null,null,null,null,null,null,null,null,null,null,null,null,null,null,null,null,null,null,null,null,null,null,null,null,null,"",null,{"$f":"IFERROR(IF(OR(LOWER(Tabla3[[#This Row],[SEXO]])=\"masculino\", LOWER(Tabla3[[#This Row],[SEXO]])=\"m\", LOWER(Tabla3[[#This Row],[SEXO]])=\"1\"), \"MASCULINO\",\n  IF(OR(LOWER(Tabla3[[#This Row],[SEXO]])=\"femenino\", LOWER(Tabla3[[#This Row],[SEXO]])=\"f\", LOWER(Tabla3[[#This Row],[SEXO]])=\"2\"), \"FEMENINO\",\n  \"\")), \"\")","v":""},0,null,null,null,0]
[{"$f":"IF(Tabla3[[#This Row],[APELLIDOS Y NOMBRES]]>0,ROW()-14,\"\")","v":""},{"$f":"IFERROR(IF(Tabla3[[#This Row],[APELLIDOS Y NOMBRES]]>0,VLOOKUP($H$7,DATA!$A$79:$B$160,2,FALSE),\"\"),\"\")","v":""},null,null,null,null,null,{"$f":"((NOW()-Tabla3[[#This Row],[FECHA DE NACIMIENTO]])/365)-0.5","v":124.79767625317098},null,null,null,null,null,null,null,null,null,null,null,null,null,null,null,null,null,null,null,null,null,null,null,null,null,null,null,null,null,null,null,null,null,null,null,null,null,"",null,{"$f":"IFERROR(IF(OR(LOWER(Tabla3[[#This Row],[SEXO]])=\"masculino\", LOWER(Tabla3[[#This Row],[SEXO]])=\"m\", LOWER(Tabla3[[#This Row],[SEXO]])=\"1\"), \"MASCULINO\",\n  IF(OR(LOWER(Tabla3[[#This Row],[SEXO]])=\"femenino\", LOWER(Tabla3[[#This Row],[SEXO]])=\"f\", LOWER(Tabla3[[#This Row],[SEXO]])=\"2\"), \"FEMENINO\",\n  \"\")), \"\")","v":""},0,null,null,null,0]
[{"$f":"IF(Tabla3[[#This Row],[APELLIDOS Y NOMBRES]]>0,ROW()-14,\"\")","v":""},{"$f":"IFERROR(IF(Tabla3[[#This Row],[APELLIDOS Y NOMBRES]]>0,VLOOKUP($H$7,DATA!$A$79:$B$160,2,FALSE),\"\"),\"\")","v":""},null,null,null,null,null,{"$f":"((NOW()-Tabla3[[#This Row],[FECHA DE NACIMIENTO]])/365)-0.5","v":124.79767625317098},null,null,null,null,null,null,null,null,null,null,null,null,null,null,null,null,null,null,null,null,null,null,null,null,null,null,null,null,null,null,null,null,null,null,null,null,null,"",null,{"$f":"IFERROR(IF(OR(LOWER(Tabla3[[#This Row],[SEXO]])=\"masculino\", LOWER(Tabla3[[#This Row],[SEXO]])=\"m\", LOWER(Tabla3[[#This Row],[SEXO]])=\"1\"), \"MASCULINO\",\n  IF(OR(LOWER(Tabla3[[#This Row],[SEXO]])=\"femenino\", LOWER(Tabla3[[#This Row],[SEXO]])=\"f\", LOWER(Tabla3[[#This Row],[SEXO]])=\"2\"), \"FEMENINO\",\n  \"\")), \"\")","v":""},0,null,null,null,0]
[{"$f":"IF(Tabla3[[#This Row],[APELLIDOS Y NOMBRES]]>0,ROW()-14,\"\")","v":""},{"$f":"IFERROR(IF(Tabla3[[#This Row],[APELLIDOS Y NOMBRES]]>0,VLOOKUP($H$7,DATA!$A$79:$B$160,2,FALSE),\"\"),\"\")","v":""},null,null,null,null,null,{"$f":"((NOW()-Tabla3[[#This Row],[FECHA DE NACIMIENTO]])/365)-0.5","v":124.79767625317098},null,null,null,null,null,null,null,null,null,null,null,null,null,null,null,null,null,null,null,null,null,null,null,null,null,null,null,null,null,null,null,null,null,null,null,null,null,"",null,{"$f":"IFERROR(IF(OR(LOWER(Tabla3[[#This Row],[SEXO]])=\"masculino\", LOWER(Tabla3[[#This Row],[SEXO]])=\"m\", LOWER(Tabla3[[#This Row],[SEXO]])=\"1\"), \"MASCULINO\",\n  IF(OR(LOWER(Tabla3[[#This Row],[SEXO]])=\"femenino\", LOWER(Tabla3[[#This Row],[SEXO]])=\"f\", LOWER(Tabla3[[#This Row],[SEXO]])=\"2\"), \"FEMENINO\",\n  \"\")), \"\")","v":""},0,null,null,null,0]
[{"$f":"IF(Tabla3[[#This Row],[APELLIDOS Y NOMBRES]]>0,ROW()-14,\"\")","v":""},{"$f":"IFERROR(IF(Tabla3[[#This Row],[APELLIDOS Y NOMBRES]]>0,VLOOKUP($H$7,DATA!$A$79:$B$160,2,FALSE),\"\"),\"\")","v":""},null,null,null,null,null,{"$f":"((NOW()-Tabla3[[#This Row],[FECHA DE NACIMIENTO]])/365)-0.5","v":124.79767625317098},null,null,null,null,null,null,null,null,null,null,null,null,null,null,null,null,null,null,null,null,null,null,null,null,null,null,null,null,null,null,null,null,null,null,null,null,null,"",null,{"$f":"IFERROR(IF(OR(LOWER(Tabla3[[#This Row],[SEXO]])=\"masculino\", LOWER(Tabla3[[#This Row],[SEXO]])=\"m\", LOWER(Tabla3[[#This Row],[SEXO]])=\"1\"), \"MASCULINO\",\n  IF(OR(LOWER(Tabla3[[#This Row],[SEXO]])=\"femenino\", LOWER(Tabla3[[#This Row],[SEXO]])=\"f\", LOWER(Tabla3[[#This Row],[SEXO]])=\"2\"), \"FEMENINO\",\n  \"\")), \"\")","v":""},0,null,null,null,0]
[{"$f":"IF(Tabla3[[#This Row],[APELLIDOS Y NOMBRES]]>0,ROW()-14,\"\")","v":""},{"$f":"IFERROR(IF(Tabla3[[#This Row],[APELLIDOS Y NOMBRES]]>0,VLOOKUP($H$7,DATA!$A$79:$B$160,2,FALSE),\"\"),\"\")","v":""},null,null,null,null,null,{"$f":"((NOW()-Tabla3[[#This Row],[FECHA DE NACIMIENTO]])/365)-0.5","v":124.79767625317098},null,null,null,null,null,null,null,null,null,null,null,null,null,null,null,null,null,null,null,null,null,null,null,null,null,null,null,null,null,null,null,null,null,null,null,null,null,"",null,{"$f":"IFERROR(IF(OR(LOWER(Tabla3[[#This Row],[SEXO]])=\"masculino\", LOWER(Tabla3[[#This Row],[SEXO]])=\"m\", LOWER(Tabla3[[#This Row],[SEXO]])=\"1\"), \"MASCULINO\",\n  IF(OR(LOWER(Tabla3[[#This Row],[SEXO]])=\"femenino\", LOWER(Tabla3[[#This Row],[SEXO]])=\"f\", LOWER(Tabla3[[#This Row],[SEXO]])=\"2\"), \"FEMENINO\",\n  \"\")), \"\")","v":""},0,null,null,null,0]
[{"$f":"IF(Tabla3[[#This Row],[APELLIDOS Y NOMBRES]]>0,ROW()-14,\"\")","v":""},{"$f":"IFERROR(IF(Tabla3[[#This Row],[APELLIDOS Y NOMBRES]]>0,VLOOKUP($H$7,DATA!$A$79:$B$160,2,FALSE),\"\"),\"\")","v":""},null,null,null,null,null,{"$f":"((NOW()-Tabla3[[#This Row],[FECHA DE NACIMIENTO]])/365)-0.5","v":124.79767625317098},null,null,null,null,null,null,null,null,null,null,null,null,null,null,null,null,null,null,null,null,null,null,null,null,null,null,null,null,null,null,null,null,null,null,null,null,null,"",null,{"$f":"IFERROR(IF(OR(LOWER(Tabla3[[#This Row],[SEXO]])=\"masculino\", LOWER(Tabla3[[#This Row],[SEXO]])=\"m\", LOWER(Tabla3[[#This Row],[SEXO]])=\"1\"), \"MASCULINO\",\n  IF(OR(LOWER(Tabla3[[#This Row],[SEXO]])=\"femenino\", LOWER(Tabla3[[#This Row],[SEXO]])=\"f\", LOWER(Tabla3[[#This Row],[SEXO]])=\"2\"), \"FEMENINO\",\n  \"\")), \"\")","v":""},0,null,null,null,0]
[{"$f":"IF(Tabla3[[#This Row],[APELLIDOS Y NOMBRES]]>0,ROW()-14,\"\")","v":""},{"$f":"IFERROR(IF(Tabla3[[#This Row],[APELLIDOS Y NOMBRES]]>0,VLOOKUP($H$7,DATA!$A$79:$B$160,2,FALSE),\"\"),\"\")","v":""},null,null,null,null,null,{"$f":"((NOW()-Tabla3[[#This Row],[FECHA DE NACIMIENTO]])/365)-0.5","v":124.79767625317098},null,null,null,null,null,null,null,null,null,null,null,null,null,null,null,null,null,null,null,null,null,null,null,null,null,null,null,null,null,null,null,null,null,null,null,null,null,"",null,{"$f":"IFERROR(IF(OR(LOWER(Tabla3[[#This Row],[SEXO]])=\"masculino\", LOWER(Tabla3[[#This Row],[SEXO]])=\"m\", LOWER(Tabla3[[#This Row],[SEXO]])=\"1\"), \"MASCULINO\",\n  IF(OR(LOWER(Tabla3[[#This Row],[SEXO]])=\"femenino\", LOWER(Tabla3[[#This Row],[SEXO]])=\"f\", LOWER(Tabla3[[#This Row],[SEXO]])=\"2\"), \"FEMENINO\",\n  \"\")), \"\")","v":""},0,null,null,null,0]
[{"$f":"IF(Tabla3[[#This Row],[APELLIDOS Y NOMBRES]]>0,ROW()-14,\"\")","v":""},{"$f":"IFERROR(IF(Tabla3[[#This Row],[APELLIDOS Y NOMBRES]]>0,VLOOKUP($H$7,DATA!$A$79:$B$160,2,FALSE),\"\"),\"\")","v":""},null,null,null,null,null,{"$f":"((NOW()-Tabla3[[#This Row],[FECHA DE NACIMIENTO]])/365)-0.5","v":124.79767625317098},null,null,null,null,null,null,null,null,null,null,null,null,null,null,null,null,null,null,null,null,null,null,null,null,null,null,null,null,null,null,null,null,null,null,null,null,null,"",null,{"$f":"IFERROR(IF(OR(LOWER(Tabla3[[#This Row],[SEXO]])=\"masculino\", LOWER(Tabla3[[#This Row],[SEXO]])=\"m\", LOWER(Tabla3[[#This Row],[SEXO]])=\"1\"), \"MASCULINO\",\n  IF(OR(LOWER(Tabla3[[#This Row],[SEXO]])=\"femenino\", LOWER(Tabla3[[#This Row],[SEXO]])=\"f\", LOWER(Tabla3[[#This Row],[SEXO]])=\"2\"), \"FEMENINO\",\n  \"\")), \"\")","v":""},0,null,null,null,0]
[{"$f":"IF(Tabla3[[#This Row],[APELLIDOS Y NOMBRES]]>0,ROW()-14,\"\")","v":""},{"$f":"IFERROR(IF(Tabla3[[#This Row],[APELLIDOS Y NOMBRES]]>0,VLOOKUP($H$7,DATA!$A$79:$B$160,2,FALSE),\"\"),\"\")","v":""},null,null,null,null,null,{"$f":"((NOW()-Tabla3[[#This Row],[FECHA DE NACIMIENTO]])/365)-0.5","v":124.79767625317098},null,null,null,null,null,null,null,null,null,null,null,null,null,null,null,null,null,null,null,null,null,null,null,null,null,null,null,null,null,null,null,null,null,null,null,null,null,"",null,{"$f":"IFERROR(IF(OR(LOWER(Tabla3[[#This Row],[SEXO]])=\"masculino\", LOWER(Tabla3[[#This Row],[SEXO]])=\"m\", LOWER(Tabla3[[#This Row],[SEXO]])=\"1\"), \"MASCULINO\",\n  IF(OR(LOWER(Tabla3[[#This Row],[SEXO]])=\"femenino\", LOWER(Tabla3[[#This Row],[SEXO]])=\"f\", LOWER(Tabla3[[#This Row],[SEXO]])=\"2\"), \"FEMENINO\",\n  \"\")), \"\")","v":""},0,null,null,null,0]
[{"$f":"IF(Tabla3[[#This Row],[APELLIDOS Y NOMBRES]]>0,ROW()-14,\"\")","v":""},{"$f":"IFERROR(IF(Tabla3[[#This Row],[APELLIDOS Y NOMBRES]]>0,VLOOKUP($H$7,DATA!$A$79:$B$160,2,FALSE),\"\"),\"\")","v":""},null,null,null,null,null,{"$f":"((NOW()-Tabla3[[#This Row],[FECHA DE NACIMIENTO]])/365)-0.5","v":124.79767625317098},null,null,null,null,null,null,null,null,null,null,null,null,null,null,null,null,null,null,null,null,null,null,null,null,null,null,null,null,null,null,null,null,null,null,null,null,null,"",null,{"$f":"IFERROR(IF(OR(LOWER(Tabla3[[#This Row],[SEXO]])=\"masculino\", LOWER(Tabla3[[#This Row],[SEXO]])=\"m\", LOWER(Tabla3[[#This Row],[SEXO]])=\"1\"), \"MASCULINO\",\n  IF(OR(LOWER(Tabla3[[#This Row],[SEXO]])=\"femenino\", LOWER(Tabla3[[#This Row],[SEXO]])=\"f\", LOWER(Tabla3[[#This Row],[SEXO]])=\"2\"), \"FEMENINO\",\n  \"\")), \"\")","v":""},0,null,null,null,0]
[{"$f":"IF(Tabla3[[#This Row],[APELLIDOS Y NOMBRES]]>0,ROW()-14,\"\")","v":""},{"$f":"IFERROR(IF(Tabla3[[#This Row],[APELLIDOS Y NOMBRES]]>0,VLOOKUP($H$7,DATA!$A$79:$B$160,2,FALSE),\"\"),\"\")","v":""},null,null,null,null,null,{"$f":"((NOW()-Tabla3[[#This Row],[FECHA DE NACIMIENTO]])/365)-0.5","v":124.79767625317098},null,null,null,null,null,null,null,null,null,null,null,null,null,null,null,null,null,null,null,null,null,null,null,null,null,null,null,null,null,null,null,null,null,null,null,null,null,"",null,{"$f":"IFERROR(IF(OR(LOWER(Tabla3[[#This Row],[SEXO]])=\"masculino\", LOWER(Tabla3[[#This Row],[SEXO]])=\"m\", LOWER(Tabla3[[#This Row],[SEXO]])=\"1\"), \"MASCULINO\",\n  IF(OR(LOWER(Tabla3[[#This Row],[SEXO]])=\"femenino\", LOWER(Tabla3[[#This Row],[SEXO]])=\"f\", LOWER(Tabla3[[#This Row],[SEXO]])=\"2\"), \"FEMENINO\",\n  \"\")), \"\")","v":""},0,null,null,null,0]
[{"$f":"IF(Tabla3[[#This Row],[APELLIDOS Y NOMBRES]]>0,ROW()-14,\"\")","v":""},{"$f":"IFERROR(IF(Tabla3[[#This Row],[APELLIDOS Y NOMBRES]]>0,VLOOKUP($H$7,DATA!$A$79:$B$160,2,FALSE),\"\"),\"\")","v":""},null,null,null,null,null,{"$f":"((NOW()-Tabla3[[#This Row],[FECHA DE NACIMIENTO]])/365)-0.5","v":124.79767625317098},null,null,null,null,null,null,null,null,null,null,null,null,null,null,null,null,null,null,null,null,null,null,null,null,null,null,null,null,null,null,null,null,null,null,null,null,null,"",null,{"$f":"IFERROR(IF(OR(LOWER(Tabla3[[#This Row],[SEXO]])=\"masculino\", LOWER(Tabla3[[#This Row],[SEXO]])=\"m\", LOWER(Tabla3[[#This Row],[SEXO]])=\"1\"), \"MASCULINO\",\n  IF(OR(LOWER(Tabla3[[#This Row],[SEXO]])=\"femenino\", LOWER(Tabla3[[#This Row],[SEXO]])=\"f\", LOWER(Tabla3[[#This Row],[SEXO]])=\"2\"), \"FEMENINO\",\n  \"\")), \"\")","v":""},0,null,null,null,0]
[{"$f":"IF(Tabla3[[#This Row],[APELLIDOS Y NOMBRES]]>0,ROW()-14,\"\")","v":""},{"$f":"IFERROR(IF(Tabla3[[#This Row],[APELLIDOS Y NOMBRES]]>0,VLOOKUP($H$7,DATA!$A$79:$B$160,2,FALSE),\"\"),\"\")","v":""},null,null,null,null,null,{"$f":"((NOW()-Tabla3[[#This Row],[FECHA DE NACIMIENTO]])/365)-0.5","v":124.79767625317098},null,null,null,null,null,null,null,null,null,null,null,null,null,null,null,null,null,null,null,null,null,null,null,null,null,null,null,null,null,null,null,null,null,null,null,null,null,"",null,{"$f":"IFERROR(IF(OR(LOWER(Tabla3[[#This Row],[SEXO]])=\"masculino\", LOWER(Tabla3[[#This Row],[SEXO]])=\"m\", LOWER(Tabla3[[#This Row],[SEXO]])=\"1\"), \"MASCULINO\",\n  IF(OR(LOWER(Tabla3[[#This Row],[SEXO]])=\"femenino\", LOWER(Tabla3[[#This Row],[SEXO]])=\"f\", LOWER(Tabla3[[#This Row],[SEXO]])=\"2\"), \"FEMENINO\",\n  \"\")), \"\")","v":""},0,null,null,null,0]
[{"$f":"IF(Tabla3[[#This Row],[APELLIDOS Y NOMBRES]]>0,ROW()-14,\"\")","v":""},{"$f":"IFERROR(IF(Tabla3[[#This Row],[APELLIDOS Y NOMBRES]]>0,VLOOKUP($H$7,DATA!$A$79:$B$160,2,FALSE),\"\"),\"\")","v":""},null,null,null,null,null,{"$f":"((NOW()-Tabla3[[#This Row],[FECHA DE NACIMIENTO]])/365)-0.5","v":124.79767625317098},null,null,null,null,null,null,null,null,null,null,null,null,null,null,null,null,null,null,null,null,null,null,null,null,null,null,null,null,null,null,null,null,null,null,null,null,null,"",null,{"$f":"IFERROR(IF(OR(LOWER(Tabla3[[#This Row],[SEXO]])=\"masculino\", LOWER(Tabla3[[#This Row],[SEXO]])=\"m\", LOWER(Tabla3[[#This Row],[SEXO]])=\"1\"), \"MASCULINO\",\n  IF(OR(LOWER(Tabla3[[#This Row],[SEXO]])=\"femenino\", LOWER(Tabla3[[#This Row],[SEXO]])=\"f\", LOWER(Tabla3[[#This Row],[SEXO]])=\"2\"), \"FEMENINO\",\n  \"\")), \"\")","v":""},0,null,null,null,0]
[{"$f":"IF(Tabla3[[#This Row],[APELLIDOS Y NOMBRES]]>0,ROW()-14,\"\")","v":""},{"$f":"IFERROR(IF(Tabla3[[#This Row],[APELLIDOS Y NOMBRES]]>0,VLOOKUP($H$7,DATA!$A$79:$B$160,2,FALSE),\"\"),\"\")","v":""},null,null,null,null,null,{"$f":"((NOW()-Tabla3[[#This Row],[FECHA DE NACIMIENTO]])/365)-0.5","v":124.79767625317098},null,null,null,null,null,null,null,null,null,null,null,null,null,null,null,null,null,null,null,null,null,null,null,null,null,null,null,null,null,null,null,null,null,null,null,null,null,"",null,{"$f":"IFERROR(IF(OR(LOWER(Tabla3[[#This Row],[SEXO]])=\"masculino\", LOWER(Tabla3[[#This Row],[SEXO]])=\"m\", LOWER(Tabla3[[#This Row],[SEXO]])=\"1\"), \"MASCULINO\",\n  IF(OR(LOWER(Tabla3[[#This Row],[SEXO]])=\"femenino\", LOWER(Tabla3[[#This Row],[SEXO]])=\"f\", LOWER(Tabla3[[#This Row],[SEXO]])=\"2\"), \"FEMENINO\",\n  \"\")), \"\")","v":""},0,null,null,null,0]
[{"$f":"IF(Tabla3[[#This Row],[APELLIDOS Y NOMBRES]]>0,ROW()-14,\"\")","v":""},{"$f":"IFERROR(IF(Tabla3[[#This Row],[APELLIDOS Y NOMBRES]]>0,VLOOKUP($H$7,DATA!$A$79:$B$160,2,FALSE),\"\"),\"\")","v":""},null,null,null,null,null,{"$f":"((NOW()-Tabla3[[#This Row],[FECHA DE NACIMIENTO]])/365)-0.5","v":124.79767625317098},null,null,null,null,null,null,null,null,null,null,null,null,null,null,null,null,null,null,null,null,null,null,null,null,null,null,null,null,null,null,null,null,null,null,null,null,null,"",null,{"$f":"IFERROR(IF(OR(LOWER(Tabla3[[#This Row],[SEXO]])=\"masculino\", LOWER(Tabla3[[#This Row],[SEXO]])=\"m\", LOWER(Tabla3[[#This Row],[SEXO]])=\"1\"), \"MASCULINO\",\n  IF(OR(LOWER(Tabla3[[#This Row],[SEXO]])=\"femenino\", LOWER(Tabla3[[#This Row],[SEXO]])=\"f\", LOWER(Tabla3[[#This Row],[SEXO]])=\"2\"), \"FEMENINO\",\n  \"\")), \"\")","v":""},0,null,null,null,0]
[{"$f":"IF(Tabla3[[#This Row],[APELLIDOS Y NOMBRES]]>0,ROW()-14,\"\")","v":""},{"$f":"IFERROR(IF(Tabla3[[#This Row],[APELLIDOS Y NOMBRES]]>0,VLOOKUP($H$7,DATA!$A$79:$B$160,2,FALSE),\"\"),\"\")","v":""},null,null,null,null,null,{"$f":"((NOW()-Tabla3[[#This Row],[FECHA DE NACIMIENTO]])/365)-0.5","v":124.79767625317098},null,null,null,null,null,null,null,null,null,null,null,null,null,null,null,null,null,null,null,null,null,null,null,null,null,null,null,null,null,null,null,null,null,null,null,null,null,"",null,{"$f":"IFERROR(IF(OR(LOWER(Tabla3[[#This Row],[SEXO]])=\"masculino\", LOWER(Tabla3[[#This Row],[SEXO]])=\"m\", LOWER(Tabla3[[#This Row],[SEXO]])=\"1\"), \"MASCULINO\",\n  IF(OR(LOWER(Tabla3[[#This Row],[SEXO]])=\"femenino\", LOWER(Tabla3[[#This Row],[SEXO]])=\"f\", LOWER(Tabla3[[#This Row],[SEXO]])=\"2\"), \"FEMENINO\",\n  \"\")), \"\")","v":""},0,null,null,null,0]
[{"$f":"IF(Tabla3[[#This Row],[APELLIDOS Y NOMBRES]]>0,ROW()-14,\"\")","v":""},{"$f":"IFERROR(IF(Tabla3[[#This Row],[APELLIDOS Y NOMBRES]]>0,VLOOKUP($H$7,DATA!$A$79:$B$160,2,FALSE),\"\"),\"\")","v":""},null,null,null,null,null,{"$f":"((NOW()-Tabla3[[#This Row],[FECHA DE NACIMIENTO]])/365)-0.5","v":124.79767625317098},null,null,null,null,null,null,null,null,null,null,null,null,null,null,null,null,null,null,null,null,null,null,null,null,null,null,null,null,null,null,null,null,null,null,null,null,null,"",null,{"$f":"IFERROR(IF(OR(LOWER(Tabla3[[#This Row],[SEXO]])=\"masculino\", LOWER(Tabla3[[#This Row],[SEXO]])=\"m\", LOWER(Tabla3[[#This Row],[SEXO]])=\"1\"), \"MASCULINO\",\n  IF(OR(LOWER(Tabla3[[#This Row],[SEXO]])=\"femenino\", LOWER(Tabla3[[#This Row],[SEXO]])=\"f\", LOWER(Tabla3[[#This Row],[SEXO]])=\"2\"), \"FEMENINO\",\n  \"\")), \"\")","v":""},0,null,null,null,0]
[{"$f":"IF(Tabla3[[#This Row],[APELLIDOS Y NOMBRES]]>0,ROW()-14,\"\")","v":""},{"$f":"IFERROR(IF(Tabla3[[#This Row],[APELLIDOS Y NOMBRES]]>0,VLOOKUP($H$7,DATA!$A$79:$B$160,2,FALSE),\"\"),\"\")","v":""},null,null,null,null,null,{"$f":"((NOW()-Tabla3[[#This Row],[FECHA DE NACIMIENTO]])/365)-0.5","v":124.79767625317098},null,null,null,null,null,null,null,null,null,null,null,null,null,null,null,null,null,null,null,null,null,null,null,null,null,null,null,null,null,null,null,null,null,null,null,null,null,"",null,{"$f":"IFERROR(IF(OR(LOWER(Tabla3[[#This Row],[SEXO]])=\"masculino\", LOWER(Tabla3[[#This Row],[SEXO]])=\"m\", LOWER(Tabla3[[#This Row],[SEXO]])=\"1\"), \"MASCULINO\",\n  IF(OR(LOWER(Tabla3[[#This Row],[SEXO]])=\"femenino\", LOWER(Tabla3[[#This Row],[SEXO]])=\"f\", LOWER(Tabla3[[#This Row],[SEXO]])=\"2\"), \"FEMENINO\",\n  \"\")), \"\")","v":""},0,null,null,null,0]
[{"$f":"IF(Tabla3[[#This Row],[APELLIDOS Y NOMBRES]]>0,ROW()-14,\"\")","v":""},{"$f":"IFERROR(IF(Tabla3[[#This Row],[APELLIDOS Y NOMBRES]]>0,VLOOKUP($H$7,DATA!$A$79:$B$160,2,FALSE),\"\"),\"\")","v":""},null,null,null,null,null,{"$f":"((NOW()-Tabla3[[#This Row],[FECHA DE NACIMIENTO]])/365)-0.5","v":124.79767625317098},null,null,null,null,null,null,null,null,null,null,null,null,null,null,null,null,null,null,null,null,null,null,null,null,null,null,null,null,null,null,null,null,null,null,null,null,null,"",null,{"$f":"IFERROR(IF(OR(LOWER(Tabla3[[#This Row],[SEXO]])=\"masculino\", LOWER(Tabla3[[#This Row],[SEXO]])=\"m\", LOWER(Tabla3[[#This Row],[SEXO]])=\"1\"), \"MASCULINO\",\n  IF(OR(LOWER(Tabla3[[#This Row],[SEXO]])=\"femenino\", LOWER(Tabla3[[#This Row],[SEXO]])=\"f\", LOWER(Tabla3[[#This Row],[SEXO]])=\"2\"), \"FEMENINO\",\n  \"\")), \"\")","v":""},0,null,null,null,0]
[{"$f":"IF(Tabla3[[#This Row],[APELLIDOS Y NOMBRES]]>0,ROW()-14,\"\")","v":""},{"$f":"IFERROR(IF(Tabla3[[#This Row],[APELLIDOS Y NOMBRES]]>0,VLOOKUP($H$7,DATA!$A$79:$B$160,2,FALSE),\"\"),\"\")","v":""},null,null,null,null,null,{"$f":"((NOW()-Tabla3[[#This Row],[FECHA DE NACIMIENTO]])/365)-0.5","v":124.79767625317098},null,null,null,null,null,null,null,null,null,null,null,null,null,null,null,null,null,null,null,null,null,null,null,null,null,null,null,null,null,null,null,null,null,null,null,null,null,"",null,{"$f":"IFERROR(IF(OR(LOWER(Tabla3[[#This Row],[SEXO]])=\"masculino\", LOWER(Tabla3[[#This Row],[SEXO]])=\"m\", LOWER(Tabla3[[#This Row],[SEXO]])=\"1\"), \"MASCULINO\",\n  IF(OR(LOWER(Tabla3[[#This Row],[SEXO]])=\"femenino\", LOWER(Tabla3[[#This Row],[SEXO]])=\"f\", LOWER(Tabla3[[#This Row],[SEXO]])=\"2\"), \"FEMENINO\",\n  \"\")), \"\")","v":""},0,null,null,null,0]
[{"$f":"IF(Tabla3[[#This Row],[APELLIDOS Y NOMBRES]]>0,ROW()-14,\"\")","v":""},{"$f":"IFERROR(IF(Tabla3[[#This Row],[APELLIDOS Y NOMBRES]]>0,VLOOKUP($H$7,DATA!$A$79:$B$160,2,FALSE),\"\"),\"\")","v":""},null,null,null,null,null,{"$f":"((NOW()-Tabla3[[#This Row],[FECHA DE NACIMIENTO]])/365)-0.5","v":124.79767625317098},null,null,null,null,null,null,null,null,null,null,null,null,null,null,null,null,null,null,null,null,null,null,null,null,null,null,null,null,null,null,null,null,null,null,null,null,null,"",null,{"$f":"IFERROR(IF(OR(LOWER(Tabla3[[#This Row],[SEXO]])=\"masculino\", LOWER(Tabla3[[#This Row],[SEXO]])=\"m\", LOWER(Tabla3[[#This Row],[SEXO]])=\"1\"), \"MASCULINO\",\n  IF(OR(LOWER(Tabla3[[#This Row],[SEXO]])=\"femenino\", LOWER(Tabla3[[#This Row],[SEXO]])=\"f\", LOWER(Tabla3[[#This Row],[SEXO]])=\"2\"), \"FEMENINO\",\n  \"\")), \"\")","v":""},0,null,null,null,0]
[{"$f":"IF(Tabla3[[#This Row],[APELLIDOS Y NOMBRES]]>0,ROW()-14,\"\")","v":""},{"$f":"IFERROR(IF(Tabla3[[#This Row],[APELLIDOS Y NOMBRES]]>0,VLOOKUP($H$7,DATA!$A$79:$B$160,2,FALSE),\"\"),\"\")","v":""},null,null,null,null,null,{"$f":"((NOW()-Tabla3[[#This Row],[FECHA DE NACIMIENTO]])/365)-0.5","v":124.79767625317098},null,null,null,null,null,null,null,null,null,null,null,null,null,null,null,null,null,null,null,null,null,null,null,null,null,null,null,null,null,null,null,null,null,null,null,null,null,"",null,{"$f":"IFERROR(IF(OR(LOWER(Tabla3[[#This Row],[SEXO]])=\"masculino\", LOWER(Tabla3[[#This Row],[SEXO]])=\"m\", LOWER(Tabla3[[#This Row],[SEXO]])=\"1\"), \"MASCULINO\",\n  IF(OR(LOWER(Tabla3[[#This Row],[SEXO]])=\"femenino\", LOWER(Tabla3[[#This Row],[SEXO]])=\"f\", LOWER(Tabla3[[#This Row],[SEXO]])=\"2\"), \"FEMENINO\",\n  \"\")), \"\")","v":""},0,null,null,null,0]
[{"$f":"IF(Tabla3[[#This Row],[APELLIDOS Y NOMBRES]]>0,ROW()-14,\"\")","v":""},{"$f":"IFERROR(IF(Tabla3[[#This Row],[APELLIDOS Y NOMBRES]]>0,VLOOKUP($H$7,DATA!$A$79:$B$160,2,FALSE),\"\"),\"\")","v":""},null,null,null,null,null,{"$f":"((NOW()-Tabla3[[#This Row],[FECHA DE NACIMIENTO]])/365)-0.5","v":124.79767625317098},null,null,null,null,null,null,null,null,null,null,null,null,null,null,null,null,null,null,null,null,null,null,null,null,null,null,null,null,null,null,null,null,null,null,null,null,null,"",null,{"$f":"IFERROR(IF(OR(LOWER(Tabla3[[#This Row],[SEXO]])=\"masculino\", LOWER(Tabla3[[#This Row],[SEXO]])=\"m\", LOWER(Tabla3[[#This Row],[SEXO]])=\"1\"), \"MASCULINO\",\n  IF(OR(LOWER(Tabla3[[#This Row],[SEXO]])=\"femenino\", LOWER(Tabla3[[#This Row],[SEXO]])=\"f\", LOWER(Tabla3[[#This Row],[SEXO]])=\"2\"), \"FEMENINO\",\n  \"\")), \"\")","v":""},0,null,null,null,0]
[{"$f":"IF(Tabla3[[#This Row],[APELLIDOS Y NOMBRES]]>0,ROW()-14,\"\")","v":""},{"$f":"IFERROR(IF(Tabla3[[#This Row],[APELLIDOS Y NOMBRES]]>0,VLOOKUP($H$7,DATA!$A$79:$B$160,2,FALSE),\"\"),\"\")","v":""},null,null,null,null,null,{"$f":"((NOW()-Tabla3[[#This Row],[FECHA DE NACIMIENTO]])/365)-0.5","v":124.79767625317098},null,null,null,null,null,null,null,null,null,null,null,null,null,null,null,null,null,null,null,null,null,null,null,null,null,null,null,null,null,null,null,null,null,null,null,null,null,"",null,{"$f":"IFERROR(IF(OR(LOWER(Tabla3[[#This Row],[SEXO]])=\"masculino\", LOWER(Tabla3[[#This Row],[SEXO]])=\"m\", LOWER(Tabla3[[#This Row],[SEXO]])=\"1\"), \"MASCULINO\",\n  IF(OR(LOWER(Tabla3[[#This Row],[SEXO]])=\"femenino\", LOWER(Tabla3[[#This Row],[SEXO]])=\"f\", LOWER(Tabla3[[#This Row],[SEXO]])=\"2\"), \"FEMENINO\",\n  \"\")), \"\")","v":""},0,null,null,null,0]
[{"$f":"IF(Tabla3[[#This Row],[APELLIDOS Y NOMBRES]]>0,ROW()-14,\"\")","v":""},{"$f":"IFERROR(IF(Tabla3[[#This Row],[APELLIDOS Y NOMBRES]]>0,VLOOKUP($H$7,DATA!$A$79:$B$160,2,FALSE),\"\"),\"\")","v":""},null,null,null,null,null,{"$f":"((NOW()-Tabla3[[#This Row],[FECHA DE NACIMIENTO]])/365)-0.5","v":124.79767625317098},null,null,null,null,null,null,null,null,null,null,null,null,null,null,null,null,null,null,null,null,null,null,null,null,null,null,null,null,null,null,null,null,null,null,null,null,null,"",null,{"$f":"IFERROR(IF(OR(LOWER(Tabla3[[#This Row],[SEXO]])=\"masculino\", LOWER(Tabla3[[#This Row],[SEXO]])=\"m\", LOWER(Tabla3[[#This Row],[SEXO]])=\"1\"), \"MASCULINO\",\n  IF(OR(LOWER(Tabla3[[#This Row],[SEXO]])=\"femenino\", LOWER(Tabla3[[#This Row],[SEXO]])=\"f\", LOWER(Tabla3[[#This Row],[SEXO]])=\"2\"), \"FEMENINO\",\n  \"\")), \"\")","v":""},0,null,null,null,0]
[{"$f":"IF(Tabla3[[#This Row],[APELLIDOS Y NOMBRES]]>0,ROW()-14,\"\")","v":""},{"$f":"IFERROR(IF(Tabla3[[#This Row],[APELLIDOS Y NOMBRES]]>0,VLOOKUP($H$7,DATA!$A$79:$B$160,2,FALSE),\"\"),\"\")","v":""},null,null,null,null,null,{"$f":"((NOW()-Tabla3[[#This Row],[FECHA DE NACIMIENTO]])/365)-0.5","v":124.79767625317098},null,null,null,null,null,null,null,null,null,null,null,null,null,null,null,null,null,null,null,null,null,null,null,null,null,null,null,null,null,null,null,null,null,null,null,null,null,"",null,{"$f":"IFERROR(IF(OR(LOWER(Tabla3[[#This Row],[SEXO]])=\"masculino\", LOWER(Tabla3[[#This Row],[SEXO]])=\"m\", LOWER(Tabla3[[#This Row],[SEXO]])=\"1\"), \"MASCULINO\",\n  IF(OR(LOWER(Tabla3[[#This Row],[SEXO]])=\"femenino\", LOWER(Tabla3[[#This Row],[SEXO]])=\"f\", LOWER(Tabla3[[#This Row],[SEXO]])=\"2\"), \"FEMENINO\",\n  \"\")), \"\")","v":""},0,null,null,null,0]
[{"$f":"IF(Tabla3[[#This Row],[APELLIDOS Y NOMBRES]]>0,ROW()-14,\"\")","v":""},{"$f":"IFERROR(IF(Tabla3[[#This Row],[APELLIDOS Y NOMBRES]]>0,VLOOKUP($H$7,DATA!$A$79:$B$160,2,FALSE),\"\"),\"\")","v":""},null,null,null,null,null,{"$f":"((NOW()-Tabla3[[#This Row],[FECHA DE NACIMIENTO]])/365)-0.5","v":124.79767625317098},null,null,null,null,null,null,null,null,null,null,null,null,null,null,null,null,null,null,null,null,null,null,null,null,null,null,null,null,null,null,null,null,null,null,null,null,null,"",null,{"$f":"IFERROR(IF(OR(LOWER(Tabla3[[#This Row],[SEXO]])=\"masculino\", LOWER(Tabla3[[#This Row],[SEXO]])=\"m\", LOWER(Tabla3[[#This Row],[SEXO]])=\"1\"), \"MASCULINO\",\n  IF(OR(LOWER(Tabla3[[#This Row],[SEXO]])=\"femenino\", LOWER(Tabla3[[#This Row],[SEXO]])=\"f\", LOWER(Tabla3[[#This Row],[SEXO]])=\"2\"), \"FEMENINO\",\n  \"\")), \"\")","v":""},0,null,null,null,0]
[{"$f":"IF(Tabla3[[#This Row],[APELLIDOS Y NOMBRES]]>0,ROW()-14,\"\")","v":""},{"$f":"IFERROR(IF(Tabla3[[#This Row],[APELLIDOS Y NOMBRES]]>0,VLOOKUP($H$7,DATA!$A$79:$B$160,2,FALSE),\"\"),\"\")","v":""},null,null,null,null,null,{"$f":"((NOW()-Tabla3[[#This Row],[FECHA DE NACIMIENTO]])/365)-0.5","v":124.79767625317098},null,null,null,null,null,null,null,null,null,null,null,null,null,null,null,null,null,null,null,null,null,null,null,null,null,null,null,null,null,null,null,null,null,null,null,null,null,"",null,{"$f":"IFERROR(IF(OR(LOWER(Tabla3[[#This Row],[SEXO]])=\"masculino\", LOWER(Tabla3[[#This Row],[SEXO]])=\"m\", LOWER(Tabla3[[#This Row],[SEXO]])=\"1\"), \"MASCULINO\",\n  IF(OR(LOWER(Tabla3[[#This Row],[SEXO]])=\"femenino\", LOWER(Tabla3[[#This Row],[SEXO]])=\"f\", LOWER(Tabla3[[#This Row],[SEXO]])=\"2\"), \"FEMENINO\",\n  \"\")), \"\")","v":""},0,null,null,null,0]
[{"$f":"IF(Tabla3[[#This Row],[APELLIDOS Y NOMBRES]]>0,ROW()-14,\"\")","v":""},{"$f":"IFERROR(IF(Tabla3[[#This Row],[APELLIDOS Y NOMBRES]]>0,VLOOKUP($H$7,DATA!$A$79:$B$160,2,FALSE),\"\"),\"\")","v":""},null,null,null,null,null,{"$f":"((NOW()-Tabla3[[#This Row],[FECHA DE NACIMIENTO]])/365)-0.5","v":124.79767625317098},null,null,null,null,null,null,null,null,null,null,null,null,null,null,null,null,null,null,null,null,null,null,null,null,null,null,null,null,null,null,null,null,null,null,null,null,null,"",null,{"$f":"IFERROR(IF(OR(LOWER(Tabla3[[#This Row],[SEXO]])=\"masculino\", LOWER(Tabla3[[#This Row],[SEXO]])=\"m\", LOWER(Tabla3[[#This Row],[SEXO]])=\"1\"), \"MASCULINO\",\n  IF(OR(LOWER(Tabla3[[#This Row],[SEXO]])=\"femenino\", LOWER(Tabla3[[#This Row],[SEXO]])=\"f\", LOWER(Tabla3[[#This Row],[SEXO]])=\"2\"), \"FEMENINO\",\n  \"\")), \"\")","v":""},0,null,null,null,0]
[{"$f":"IF(Tabla3[[#This Row],[APELLIDOS Y NOMBRES]]>0,ROW()-14,\"\")","v":""},{"$f":"IFERROR(IF(Tabla3[[#This Row],[APELLIDOS Y NOMBRES]]>0,VLOOKUP($H$7,DATA!$A$79:$B$160,2,FALSE),\"\"),\"\")","v":""},null,null,null,null,null,{"$f":"((NOW()-Tabla3[[#This Row],[FECHA DE NACIMIENTO]])/365)-0.5","v":124.79767625317098},null,null,null,null,null,null,null,null,null,null,null,null,null,null,null,null,null,null,null,null,null,null,null,null,null,null,null,null,null,null,null,null,null,null,null,null,null,"",null,{"$f":"IFERROR(IF(OR(LOWER(Tabla3[[#This Row],[SEXO]])=\"masculino\", LOWER(Tabla3[[#This Row],[SEXO]])=\"m\", LOWER(Tabla3[[#This Row],[SEXO]])=\"1\"), \"MASCULINO\",\n  IF(OR(LOWER(Tabla3[[#This Row],[SEXO]])=\"femenino\", LOWER(Tabla3[[#This Row],[SEXO]])=\"f\", LOWER(Tabla3[[#This Row],[SEXO]])=\"2\"), \"FEMENINO\",\n  \"\")), \"\")","v":""},0,null,null,null,0]
[{"$f":"IF(Tabla3[[#This Row],[APELLIDOS Y NOMBRES]]>0,ROW()-14,\"\")","v":""},{"$f":"IFERROR(IF(Tabla3[[#This Row],[APELLIDOS Y NOMBRES]]>0,VLOOKUP($H$7,DATA!$A$79:$B$160,2,FALSE),\"\"),\"\")","v":""},null,null,null,null,null,{"$f":"((NOW()-Tabla3[[#This Row],[FECHA DE NACIMIENTO]])/365)-0.5","v":124.79767625317098},null,null,null,null,null,null,null,null,null,null,null,null,null,null,null,null,null,null,null,null,null,null,null,null,null,null,null,null,null,null,null,null,null,null,null,null,null,"",null,{"$f":"IFERROR(IF(OR(LOWER(Tabla3[[#This Row],[SEXO]])=\"masculino\", LOWER(Tabla3[[#This Row],[SEXO]])=\"m\", LOWER(Tabla3[[#This Row],[SEXO]])=\"1\"), \"MASCULINO\",\n  IF(OR(LOWER(Tabla3[[#This Row],[SEXO]])=\"femenino\", LOWER(Tabla3[[#This Row],[SEXO]])=\"f\", LOWER(Tabla3[[#This Row],[SEXO]])=\"2\"), \"FEMENINO\",\n  \"\")), \"\")","v":""},0,null,null,null,0]
[{"$f":"IF(Tabla3[[#This Row],[APELLIDOS Y NOMBRES]]>0,ROW()-14,\"\")","v":""},{"$f":"IFERROR(IF(Tabla3[[#This Row],[APELLIDOS Y NOMBRES]]>0,VLOOKUP($H$7,DATA!$A$79:$B$160,2,FALSE),\"\"),\"\")","v":""},null,null,null,null,null,{"$f":"((NOW()-Tabla3[[#This Row],[FECHA DE NACIMIENTO]])/365)-0.5","v":124.79767625317098},null,null,null,null,null,null,null,null,null,null,null,null,null,null,null,null,null,null,null,null,null,null,null,null,null,null,null,null,null,null,null,null,null,null,null,null,null,"",null,{"$f":"IFERROR(IF(OR(LOWER(Tabla3[[#This Row],[SEXO]])=\"masculino\", LOWER(Tabla3[[#This Row],[SEXO]])=\"m\", LOWER(Tabla3[[#This Row],[SEXO]])=\"1\"), \"MASCULINO\",\n  IF(OR(LOWER(Tabla3[[#This Row],[SEXO]])=\"femenino\", LOWER(Tabla3[[#This Row],[SEXO]])=\"f\", LOWER(Tabla3[[#This Row],[SEXO]])=\"2\"), \"FEMENINO\",\n  \"\")), \"\")","v":""},0,null,null,null,0]
[{"$f":"IF(Tabla3[[#This Row],[APELLIDOS Y NOMBRES]]>0,ROW()-14,\"\")","v":""},{"$f":"IFERROR(IF(Tabla3[[#This Row],[APELLIDOS Y NOMBRES]]>0,VLOOKUP($H$7,DATA!$A$79:$B$160,2,FALSE),\"\"),\"\")","v":""},null,null,null,null,null,{"$f":"((NOW()-Tabla3[[#This Row],[FECHA DE NACIMIENTO]])/365)-0.5","v":124.79767625317098},null,null,null,null,null,null,null,null,null,null,null,null,null,null,null,null,null,null,null,null,null,null,null,null,null,null,null,null,null,null,null,null,null,null,null,null,null,"",null,{"$f":"IFERROR(IF(OR(LOWER(Tabla3[[#This Row],[SEXO]])=\"masculino\", LOWER(Tabla3[[#This Row],[SEXO]])=\"m\", LOWER(Tabla3[[#This Row],[SEXO]])=\"1\"), \"MASCULINO\",\n  IF(OR(LOWER(Tabla3[[#This Row],[SEXO]])=\"femenino\", LOWER(Tabla3[[#This Row],[SEXO]])=\"f\", LOWER(Tabla3[[#This Row],[SEXO]])=\"2\"), \"FEMENINO\",\n  \"\")), \"\")","v":""},0,null,null,null,0]
[{"$f":"IF(Tabla3[[#This Row],[APELLIDOS Y NOMBRES]]>0,ROW()-14,\"\")","v":""},{"$f":"IFERROR(IF(Tabla3[[#This Row],[APELLIDOS Y NOMBRES]]>0,VLOOKUP($H$7,DATA!$A$79:$B$160,2,FALSE),\"\"),\"\")","v":""},null,null,null,null,null,{"$f":"((NOW()-Tabla3[[#This Row],[FECHA DE NACIMIENTO]])/365)-0.5","v":124.79767625317098},null,null,null,null,null,null,null,null,null,null,null,null,null,null,null,null,null,null,null,null,null,null,null,null,null,null,null,null,null,null,null,null,null,null,null,null,null,"",null,{"$f":"IFERROR(IF(OR(LOWER(Tabla3[[#This Row],[SEXO]])=\"masculino\", LOWER(Tabla3[[#This Row],[SEXO]])=\"m\", LOWER(Tabla3[[#This Row],[SEXO]])=\"1\"), \"MASCULINO\",\n  IF(OR(LOWER(Tabla3[[#This Row],[SEXO]])=\"femenino\", LOWER(Tabla3[[#This Row],[SEXO]])=\"f\", LOWER(Tabla3[[#This Row],[SEXO]])=\"2\"), \"FEMENINO\",\n  \"\")), \"\")","v":""},0,null,null,null,0]
[{"$f":"IF(Tabla3[[#This Row],[APELLIDOS Y NOMBRES]]>0,ROW()-14,\"\")","v":""},{"$f":"IFERROR(IF(Tabla3[[#This Row],[APELLIDOS Y NOMBRES]]>0,VLOOKUP($H$7,DATA!$A$79:$B$160,2,FALSE),\"\"),\"\")","v":""},null,null,null,null,null,{"$f":"((NOW()-Tabla3[[#This Row],[FECHA DE NACIMIENTO]])/365)-0.5","v":124.79767625317098},null,null,null,null,null,null,null,null,null,null,null,null,null,null,null,null,null,null,null,null,null,null,null,null,null,null,null,null,null,null,null,null,null,null,null,null,null,"",null,{"$f":"IFERROR(IF(OR(LOWER(Tabla3[[#This Row],[SEXO]])=\"masculino\", LOWER(Tabla3[[#This Row],[SEXO]])=\"m\", LOWER(Tabla3[[#This Row],[SEXO]])=\"1\"), \"MASCULINO\",\n  IF(OR(LOWER(Tabla3[[#This Row],[SEXO]])=\"femenino\", LOWER(Tabla3[[#This Row],[SEXO]])=\"f\", LOWER(Tabla3[[#This Row],[SEXO]])=\"2\"), \"FEMENINO\",\n  \"\")), \"\")","v":""},0,null,null,null,0]
[{"$f":"IF(Tabla3[[#This Row],[APELLIDOS Y NOMBRES]]>0,ROW()-14,\"\")","v":""},{"$f":"IFERROR(IF(Tabla3[[#This Row],[APELLIDOS Y NOMBRES]]>0,VLOOKUP($H$7,DATA!$A$79:$B$160,2,FALSE),\"\"),\"\")","v":""},null,null,null,null,null,{"$f":"((NOW()-Tabla3[[#This Row],[FECHA DE NACIMIENTO]])/365)-0.5","v":124.79767625317098},null,null,null,null,null,null,null,null,null,null,null,null,null,null,null,null,null,null,null,null,null,null,null,null,null,null,null,null,null,null,null,null,null,null,null,null,null,"",null,{"$f":"IFERROR(IF(OR(LOWER(Tabla3[[#This Row],[SEXO]])=\"masculino\", LOWER(Tabla3[[#This Row],[SEXO]])=\"m\", LOWER(Tabla3[[#This Row],[SEXO]])=\"1\"), \"MASCULINO\",\n  IF(OR(LOWER(Tabla3[[#This Row],[SEXO]])=\"femenino\", LOWER(Tabla3[[#This Row],[SEXO]])=\"f\", LOWER(Tabla3[[#This Row],[SEXO]])=\"2\"), \"FEMENINO\",\n  \"\")), \"\")","v":""},0,null,null,null,0]
[{"$f":"IF(Tabla3[[#This Row],[APELLIDOS Y NOMBRES]]>0,ROW()-14,\"\")","v":""},{"$f":"IFERROR(IF(Tabla3[[#This Row],[APELLIDOS Y NOMBRES]]>0,VLOOKUP($H$7,DATA!$A$79:$B$160,2,FALSE),\"\"),\"\")","v":""},null,null,null,null,null,{"$f":"((NOW()-Tabla3[[#This Row],[FECHA DE NACIMIENTO]])/365)-0.5","v":124.79767625317098},null,null,null,null,null,null,null,null,null,null,null,null,null,null,null,null,null,null,null,null,null,null,null,null,null,null,null,null,null,null,null,null,null,null,null,null,null,"",null,{"$f":"IFERROR(IF(OR(LOWER(Tabla3[[#This Row],[SEXO]])=\"masculino\", LOWER(Tabla3[[#This Row],[SEXO]])=\"m\", LOWER(Tabla3[[#This Row],[SEXO]])=\"1\"), \"MASCULINO\",\n  IF(OR(LOWER(Tabla3[[#This Row],[SEXO]])=\"femenino\", LOWER(Tabla3[[#This Row],[SEXO]])=\"f\", LOWER(Tabla3[[#This Row],[SEXO]])=\"2\"), \"FEMENINO\",\n  \"\")), \"\")","v":""},0,null,null,null,0]
[{"$f":"IF(Tabla3[[#This Row],[APELLIDOS Y NOMBRES]]>0,ROW()-14,\"\")","v":""},{"$f":"IFERROR(IF(Tabla3[[#This Row],[APELLIDOS Y NOMBRES]]>0,VLOOKUP($H$7,DATA!$A$79:$B$160,2,FALSE),\"\"),\"\")","v":""},null,null,null,null,null,{"$f":"((NOW()-Tabla3[[#This Row],[FECHA DE NACIMIENTO]])/365)-0.5","v":124.79767625317098},null,null,null,null,null,null,null,null,null,null,null,null,null,null,null,null,null,null,null,null,null,null,null,null,null,null,null,null,null,null,null,null,null,null,null,null,null,"",null,{"$f":"IFERROR(IF(OR(LOWER(Tabla3[[#This Row],[SEXO]])=\"masculino\", LOWER(Tabla3[[#This Row],[SEXO]])=\"m\", LOWER(Tabla3[[#This Row],[SEXO]])=\"1\"), \"MASCULINO\",\n  IF(OR(LOWER(Tabla3[[#This Row],[SEXO]])=\"femenino\", LOWER(Tabla3[[#This Row],[SEXO]])=\"f\", LOWER(Tabla3[[#This Row],[SEXO]])=\"2\"), \"FEMENINO\",\n  \"\")), \"\")","v":""},0,null,null,null,0]
[{"$f":"IF(Tabla3[[#This Row],[APELLIDOS Y NOMBRES]]>0,ROW()-14,\"\")","v":""},{"$f":"IFERROR(IF(Tabla3[[#This Row],[APELLIDOS Y NOMBRES]]>0,VLOOKUP($H$7,DATA!$A$79:$B$160,2,FALSE),\"\"),\"\")","v":""},null,null,null,null,null,{"$f":"((NOW()-Tabla3[[#This Row],[FECHA DE NACIMIENTO]])/365)-0.5","v":124.79767625317098},null,null,null,null,null,null,null,null,null,null,null,null,null,null,null,null,null,null,null,null,null,null,null,null,null,null,null,null,null,null,null,null,null,null,null,null,null,"",null,{"$f":"IFERROR(IF(OR(LOWER(Tabla3[[#This Row],[SEXO]])=\"masculino\", LOWER(Tabla3[[#This Row],[SEXO]])=\"m\", LOWER(Tabla3[[#This Row],[SEXO]])=\"1\"), \"MASCULINO\",\n  IF(OR(LOWER(Tabla3[[#This Row],[SEXO]])=\"femenino\", LOWER(Tabla3[[#This Row],[SEXO]])=\"f\", LOWER(Tabla3[[#This Row],[SEXO]])=\"2\"), \"FEMENINO\",\n  \"\")), \"\")","v":""},0,null,null,null,0]
[{"$f":"IF(Tabla3[[#This Row],[APELLIDOS Y NOMBRES]]>0,ROW()-14,\"\")","v":""},{"$f":"IFERROR(IF(Tabla3[[#This Row],[APELLIDOS Y NOMBRES]]>0,VLOOKUP($H$7,DATA!$A$79:$B$160,2,FALSE),\"\"),\"\")","v":""},null,null,null,null,null,{"$f":"((NOW()-Tabla3[[#This Row],[FECHA DE NACIMIENTO]])/365)-0.5","v":124.79767625317098},null,null,null,null,null,null,null,null,null,null,null,null,null,null,null,null,null,null,null,null,null,null,null,null,null,null,null,null,null,null,null,null,null,null,null,null,null,"",null,{"$f":"IFERROR(IF(OR(LOWER(Tabla3[[#This Row],[SEXO]])=\"masculino\", LOWER(Tabla3[[#This Row],[SEXO]])=\"m\", LOWER(Tabla3[[#This Row],[SEXO]])=\"1\"), \"MASCULINO\",\n  IF(OR(LOWER(Tabla3[[#This Row],[SEXO]])=\"femenino\", LOWER(Tabla3[[#This Row],[SEXO]])=\"f\", LOWER(Tabla3[[#This Row],[SEXO]])=\"2\"), \"FEMENINO\",\n  \"\")), \"\")","v":""},0,null,null,null,0]
[{"$f":"IF(Tabla3[[#This Row],[APELLIDOS Y NOMBRES]]>0,ROW()-14,\"\")","v":""},{"$f":"IFERROR(IF(Tabla3[[#This Row],[APELLIDOS Y NOMBRES]]>0,VLOOKUP($H$7,DATA!$A$79:$B$160,2,FALSE),\"\"),\"\")","v":""},null,null,null,null,null,{"$f":"((NOW()-Tabla3[[#This Row],[FECHA DE NACIMIENTO]])/365)-0.5","v":124.79767625317098},null,null,null,null,null,null,null,null,null,null,null,null,null,null,null,null,null,null,null,null,null,null,null,null,null,null,null,null,null,null,null,null,null,null,null,null,null,"",null,{"$f":"IFERROR(IF(OR(LOWER(Tabla3[[#This Row],[SEXO]])=\"masculino\", LOWER(Tabla3[[#This Row],[SEXO]])=\"m\", LOWER(Tabla3[[#This Row],[SEXO]])=\"1\"), \"MASCULINO\",\n  IF(OR(LOWER(Tabla3[[#This Row],[SEXO]])=\"femenino\", LOWER(Tabla3[[#This Row],[SEXO]])=\"f\", LOWER(Tabla3[[#This Row],[SEXO]])=\"2\"), \"FEMENINO\",\n  \"\")), \"\")","v":""},0,null,null,null,0]
[{"$f":"IF(Tabla3[[#This Row],[APELLIDOS Y NOMBRES]]>0,ROW()-14,\"\")","v":""},{"$f":"IFERROR(IF(Tabla3[[#This Row],[APELLIDOS Y NOMBRES]]>0,VLOOKUP($H$7,DATA!$A$79:$B$160,2,FALSE),\"\"),\"\")","v":""},null,null,null,null,null,{"$f":"((NOW()-Tabla3[[#This Row],[FECHA DE NACIMIENTO]])/365)-0.5","v":124.79767625317098},null,null,null,null,null,null,null,null,null,null,null,null,null,null,null,null,null,null,null,null,null,null,null,null,null,null,null,null,null,null,null,null,null,null,null,null,null,{"$f":"IF(OR($C$5=\"\", $D11728=\"\"), \"\", $C$5)","v":""},null,{"$f":"IFERROR(IF(OR(LOWER(Tabla3[[#This Row],[SEXO]])=\"masculino\", LOWER(Tabla3[[#This Row],[SEXO]])=\"m\", LOWER(Tabla3[[#This Row],[SEXO]])=\"1\"), \"MASCULINO\",\n  IF(OR(LOWER(Tabla3[[#This Row],[SEXO]])=\"femenino\", LOWER(Tabla3[[#This Row],[SEXO]])=\"f\", LOWER(Tabla3[[#This Row],[SEXO]])=\"2\"), \"FEMENINO\",\n  \"\")), \"\")","v":""},{"$f":"COUNTIF(P11728:AH11728,104)","v":0},null,null,null,{"$f":"IF(COUNTIF(P11728:AI11728,104)>0,1,0)","v":0}]
[{"$f":"IF(Tabla3[[#This Row],[APELLIDOS Y NOMBRES]]>0,ROW()-14,\"\")","v":""},{"$f":"IFERROR(IF(Tabla3[[#This Row],[APELLIDOS Y NOMBRES]]>0,VLOOKUP($H$7,DATA!$A$79:$B$160,2,FALSE),\"\"),\"\")","v":""},null,null,null,null,null,{"$f":"((NOW()-Tabla3[[#This Row],[FECHA DE NACIMIENTO]])/365)-0.5","v":124.79767625317098},null,null,null,null,null,null,null,null,null,null,null,null,null,null,null,null,null,null,null,null,null,null,null,null,null,null,null,null,null,null,null,null,null,null,null,null,null,"",null,{"$f":"IFERROR(IF(OR(LOWER(Tabla3[[#This Row],[SEXO]])=\"masculino\", LOWER(Tabla3[[#This Row],[SEXO]])=\"m\", LOWER(Tabla3[[#This Row],[SEXO]])=\"1\"), \"MASCULINO\",\n  IF(OR(LOWER(Tabla3[[#This Row],[SEXO]])=\"femenino\", LOWER(Tabla3[[#This Row],[SEXO]])=\"f\", LOWER(Tabla3[[#This Row],[SEXO]])=\"2\"), \"FEMENINO\",\n  \"\")), \"\")","v":""},0,null,null,null,0]
[{"$f":"IF(Tabla3[[#This Row],[APELLIDOS Y NOMBRES]]>0,ROW()-14,\"\")","v":""},{"$f":"IFERROR(IF(Tabla3[[#This Row],[APELLIDOS Y NOMBRES]]>0,VLOOKUP($H$7,DATA!$A$79:$B$160,2,FALSE),\"\"),\"\")","v":""},null,null,null,null,null,{"$f":"((NOW()-Tabla3[[#This Row],[FECHA DE NACIMIENTO]])/365)-0.5","v":124.79767625317098},null,null,null,null,null,null,null,null,null,null,null,null,null,null,null,null,null,null,null,null,null,null,null,null,null,null,null,null,null,null,null,null,null,null,null,null,null,"",null,{"$f":"IFERROR(IF(OR(LOWER(Tabla3[[#This Row],[SEXO]])=\"masculino\", LOWER(Tabla3[[#This Row],[SEXO]])=\"m\", LOWER(Tabla3[[#This Row],[SEXO]])=\"1\"), \"MASCULINO\",\n  IF(OR(LOWER(Tabla3[[#This Row],[SEXO]])=\"femenino\", LOWER(Tabla3[[#This Row],[SEXO]])=\"f\", LOWER(Tabla3[[#This Row],[SEXO]])=\"2\"), \"FEMENINO\",\n  \"\")), \"\")","v":""},0,null,null,null,0]
[{"$f":"IF(Tabla3[[#This Row],[APELLIDOS Y NOMBRES]]>0,ROW()-14,\"\")","v":""},{"$f":"IFERROR(IF(Tabla3[[#This Row],[APELLIDOS Y NOMBRES]]>0,VLOOKUP($H$7,DATA!$A$79:$B$160,2,FALSE),\"\"),\"\")","v":""},null,null,null,null,null,{"$f":"((NOW()-Tabla3[[#This Row],[FECHA DE NACIMIENTO]])/365)-0.5","v":124.79767625317098},null,null,null,null,null,null,null,null,null,null,null,null,null,null,null,null,null,null,null,null,null,null,null,null,null,null,null,null,null,null,null,null,null,null,null,null,null,"",null,{"$f":"IFERROR(IF(OR(LOWER(Tabla3[[#This Row],[SEXO]])=\"masculino\", LOWER(Tabla3[[#This Row],[SEXO]])=\"m\", LOWER(Tabla3[[#This Row],[SEXO]])=\"1\"), \"MASCULINO\",\n  IF(OR(LOWER(Tabla3[[#This Row],[SEXO]])=\"femenino\", LOWER(Tabla3[[#This Row],[SEXO]])=\"f\", LOWER(Tabla3[[#This Row],[SEXO]])=\"2\"), \"FEMENINO\",\n  \"\")), \"\")","v":""},0,null,null,null,0]
[{"$f":"IF(Tabla3[[#This Row],[APELLIDOS Y NOMBRES]]>0,ROW()-14,\"\")","v":""},{"$f":"IFERROR(IF(Tabla3[[#This Row],[APELLIDOS Y NOMBRES]]>0,VLOOKUP($H$7,DATA!$A$79:$B$160,2,FALSE),\"\"),\"\")","v":""},null,null,null,null,null,{"$f":"((NOW()-Tabla3[[#This Row],[FECHA DE NACIMIENTO]])/365)-0.5","v":124.79767625317098},null,null,null,null,null,null,null,null,null,null,null,null,null,null,null,null,null,null,null,null,null,null,null,null,null,null,null,null,null,null,null,null,null,null,null,null,null,"",null,{"$f":"IFERROR(IF(OR(LOWER(Tabla3[[#This Row],[SEXO]])=\"masculino\", LOWER(Tabla3[[#This Row],[SEXO]])=\"m\", LOWER(Tabla3[[#This Row],[SEXO]])=\"1\"), \"MASCULINO\",\n  IF(OR(LOWER(Tabla3[[#This Row],[SEXO]])=\"femenino\", LOWER(Tabla3[[#This Row],[SEXO]])=\"f\", LOWER(Tabla3[[#This Row],[SEXO]])=\"2\"), \"FEMENINO\",\n  \"\")), \"\")","v":""},0,null,null,null,0]
[{"$f":"IF(Tabla3[[#This Row],[APELLIDOS Y NOMBRES]]>0,ROW()-14,\"\")","v":""},{"$f":"IFERROR(IF(Tabla3[[#This Row],[APELLIDOS Y NOMBRES]]>0,VLOOKUP($H$7,DATA!$A$79:$B$160,2,FALSE),\"\"),\"\")","v":""},null,null,null,null,null,{"$f":"((NOW()-Tabla3[[#This Row],[FECHA DE NACIMIENTO]])/365)-0.5","v":124.79767625317098},null,null,null,null,null,null,null,null,null,null,null,null,null,null,null,null,null,null,null,null,null,null,null,null,null,null,null,null,null,null,null,null,null,null,null,null,null,"",null,{"$f":"IFERROR(IF(OR(LOWER(Tabla3[[#This Row],[SEXO]])=\"masculino\", LOWER(Tabla3[[#This Row],[SEXO]])=\"m\", LOWER(Tabla3[[#This Row],[SEXO]])=\"1\"), \"MASCULINO\",\n  IF(OR(LOWER(Tabla3[[#This Row],[SEXO]])=\"femenino\", LOWER(Tabla3[[#This Row],[SEXO]])=\"f\", LOWER(Tabla3[[#This Row],[SEXO]])=\"2\"), \"FEMENINO\",\n  \"\")), \"\")","v":""},0,null,null,null,0]
[{"$f":"IF(Tabla3[[#This Row],[APELLIDOS Y NOMBRES]]>0,ROW()-14,\"\")","v":""},{"$f":"IFERROR(IF(Tabla3[[#This Row],[APELLIDOS Y NOMBRES]]>0,VLOOKUP($H$7,DATA!$A$79:$B$160,2,FALSE),\"\"),\"\")","v":""},null,null,null,null,null,{"$f":"((NOW()-Tabla3[[#This Row],[FECHA DE NACIMIENTO]])/365)-0.5","v":124.79767625317098},null,null,null,null,null,null,null,null,null,null,null,null,null,null,null,null,null,null,null,null,null,null,null,null,null,null,null,null,null,null,null,null,null,null,null,null,null,"",null,{"$f":"IFERROR(IF(OR(LOWER(Tabla3[[#This Row],[SEXO]])=\"masculino\", LOWER(Tabla3[[#This Row],[SEXO]])=\"m\", LOWER(Tabla3[[#This Row],[SEXO]])=\"1\"), \"MASCULINO\",\n  IF(OR(LOWER(Tabla3[[#This Row],[SEXO]])=\"femenino\", LOWER(Tabla3[[#This Row],[SEXO]])=\"f\", LOWER(Tabla3[[#This Row],[SEXO]])=\"2\"), \"FEMENINO\",\n  \"\")), \"\")","v":""},0,null,null,null,0]
[{"$f":"IF(Tabla3[[#This Row],[APELLIDOS Y NOMBRES]]>0,ROW()-14,\"\")","v":""},{"$f":"IFERROR(IF(Tabla3[[#This Row],[APELLIDOS Y NOMBRES]]>0,VLOOKUP($H$7,DATA!$A$79:$B$160,2,FALSE),\"\"),\"\")","v":""},null,null,null,null,null,{"$f":"((NOW()-Tabla3[[#This Row],[FECHA DE NACIMIENTO]])/365)-0.5","v":124.79767625317098},null,null,null,null,null,null,null,null,null,null,null,null,null,null,null,null,null,null,null,null,null,null,null,null,null,null,null,null,null,null,null,null,null,null,null,null,null,"",null,{"$f":"IFERROR(IF(OR(LOWER(Tabla3[[#This Row],[SEXO]])=\"masculino\", LOWER(Tabla3[[#This Row],[SEXO]])=\"m\", LOWER(Tabla3[[#This Row],[SEXO]])=\"1\"), \"MASCULINO\",\n  IF(OR(LOWER(Tabla3[[#This Row],[SEXO]])=\"femenino\", LOWER(Tabla3[[#This Row],[SEXO]])=\"f\", LOWER(Tabla3[[#This Row],[SEXO]])=\"2\"), \"FEMENINO\",\n  \"\")), \"\")","v":""},0,null,null,null,0]
[{"$f":"IF(Tabla3[[#This Row],[APELLIDOS Y NOMBRES]]>0,ROW()-14,\"\")","v":""},{"$f":"IFERROR(IF(Tabla3[[#This Row],[APELLIDOS Y NOMBRES]]>0,VLOOKUP($H$7,DATA!$A$79:$B$160,2,FALSE),\"\"),\"\")","v":""},null,null,null,null,null,{"$f":"((NOW()-Tabla3[[#This Row],[FECHA DE NACIMIENTO]])/365)-0.5","v":124.79767625317098},null,null,null,null,null,null,null,null,null,null,null,null,null,null,null,null,null,null,null,null,null,null,null,null,null,null,null,null,null,null,null,null,null,null,null,null,null,"",null,{"$f":"IFERROR(IF(OR(LOWER(Tabla3[[#This Row],[SEXO]])=\"masculino\", LOWER(Tabla3[[#This Row],[SEXO]])=\"m\", LOWER(Tabla3[[#This Row],[SEXO]])=\"1\"), \"MASCULINO\",\n  IF(OR(LOWER(Tabla3[[#This Row],[SEXO]])=\"femenino\", LOWER(Tabla3[[#This Row],[SEXO]])=\"f\", LOWER(Tabla3[[#This Row],[SEXO]])=\"2\"), \"FEMENINO\",\n  \"\")), \"\")","v":""},0,null,null,null,0]
[{"$f":"IF(Tabla3[[#This Row],[APELLIDOS Y NOMBRES]]>0,ROW()-14,\"\")","v":""},{"$f":"IFERROR(IF(Tabla3[[#This Row],[APELLIDOS Y NOMBRES]]>0,VLOOKUP($H$7,DATA!$A$79:$B$160,2,FALSE),\"\"),\"\")","v":""},null,null,null,null,null,{"$f":"((NOW()-Tabla3[[#This Row],[FECHA DE NACIMIENTO]])/365)-0.5","v":124.79767625317098},null,null,null,null,null,null,null,null,null,null,null,null,null,null,null,null,null,null,null,null,null,null,null,null,null,null,null,null,null,null,null,null,null,null,null,null,null,"",null,{"$f":"IFERROR(IF(OR(LOWER(Tabla3[[#This Row],[SEXO]])=\"masculino\", LOWER(Tabla3[[#This Row],[SEXO]])=\"m\", LOWER(Tabla3[[#This Row],[SEXO]])=\"1\"), \"MASCULINO\",\n  IF(OR(LOWER(Tabla3[[#This Row],[SEXO]])=\"femenino\", LOWER(Tabla3[[#This Row],[SEXO]])=\"f\", LOWER(Tabla3[[#This Row],[SEXO]])=\"2\"), \"FEMENINO\",\n  \"\")), \"\")","v":""},0,null,null,null,0]
[{"$f":"IF(Tabla3[[#This Row],[APELLIDOS Y NOMBRES]]>0,ROW()-14,\"\")","v":""},{"$f":"IFERROR(IF(Tabla3[[#This Row],[APELLIDOS Y NOMBRES]]>0,VLOOKUP($H$7,DATA!$A$79:$B$160,2,FALSE),\"\"),\"\")","v":""},null,null,null,null,null,{"$f":"((NOW()-Tabla3[[#This Row],[FECHA DE NACIMIENTO]])/365)-0.5","v":124.79767625317098},null,null,null,null,null,null,null,null,null,null,null,null,null,null,null,null,null,null,null,null,null,null,null,null,null,null,null,null,null,null,null,null,null,null,null,null,null,"",null,{"$f":"IFERROR(IF(OR(LOWER(Tabla3[[#This Row],[SEXO]])=\"masculino\", LOWER(Tabla3[[#This Row],[SEXO]])=\"m\", LOWER(Tabla3[[#This Row],[SEXO]])=\"1\"), \"MASCULINO\",\n  IF(OR(LOWER(Tabla3[[#This Row],[SEXO]])=\"femenino\", LOWER(Tabla3[[#This Row],[SEXO]])=\"f\", LOWER(Tabla3[[#This Row],[SEXO]])=\"2\"), \"FEMENINO\",\n  \"\")), \"\")","v":""},0,null,null,null,0]
[{"$f":"IF(Tabla3[[#This Row],[APELLIDOS Y NOMBRES]]>0,ROW()-14,\"\")","v":""},{"$f":"IFERROR(IF(Tabla3[[#This Row],[APELLIDOS Y NOMBRES]]>0,VLOOKUP($H$7,DATA!$A$79:$B$160,2,FALSE),\"\"),\"\")","v":""},null,null,null,null,null,{"$f":"((NOW()-Tabla3[[#This Row],[FECHA DE NACIMIENTO]])/365)-0.5","v":124.79767625317098},null,null,null,null,null,null,null,null,null,null,null,null,null,null,null,null,null,null,null,null,null,null,null,null,null,null,null,null,null,null,null,null,null,null,null,null,null,"",null,{"$f":"IFERROR(IF(OR(LOWER(Tabla3[[#This Row],[SEXO]])=\"masculino\", LOWER(Tabla3[[#This Row],[SEXO]])=\"m\", LOWER(Tabla3[[#This Row],[SEXO]])=\"1\"), \"MASCULINO\",\n  IF(OR(LOWER(Tabla3[[#This Row],[SEXO]])=\"femenino\", LOWER(Tabla3[[#This Row],[SEXO]])=\"f\", LOWER(Tabla3[[#This Row],[SEXO]])=\"2\"), \"FEMENINO\",\n  \"\")), \"\")","v":""},0,null,null,null,0]
[{"$f":"IF(Tabla3[[#This Row],[APELLIDOS Y NOMBRES]]>0,ROW()-14,\"\")","v":""},{"$f":"IFERROR(IF(Tabla3[[#This Row],[APELLIDOS Y NOMBRES]]>0,VLOOKUP($H$7,DATA!$A$79:$B$160,2,FALSE),\"\"),\"\")","v":""},null,null,null,null,null,{"$f":"((NOW()-Tabla3[[#This Row],[FECHA DE NACIMIENTO]])/365)-0.5","v":124.79767625317098},null,null,null,null,null,null,null,null,null,null,null,null,null,null,null,null,null,null,null,null,null,null,null,null,null,null,null,null,null,null,null,null,null,null,null,null,null,"",null,{"$f":"IFERROR(IF(OR(LOWER(Tabla3[[#This Row],[SEXO]])=\"masculino\", LOWER(Tabla3[[#This Row],[SEXO]])=\"m\", LOWER(Tabla3[[#This Row],[SEXO]])=\"1\"), \"MASCULINO\",\n  IF(OR(LOWER(Tabla3[[#This Row],[SEXO]])=\"femenino\", LOWER(Tabla3[[#This Row],[SEXO]])=\"f\", LOWER(Tabla3[[#This Row],[SEXO]])=\"2\"), \"FEMENINO\",\n  \"\")), \"\")","v":""},0,null,null,null,0]
[{"$f":"IF(Tabla3[[#This Row],[APELLIDOS Y NOMBRES]]>0,ROW()-14,\"\")","v":""},{"$f":"IFERROR(IF(Tabla3[[#This Row],[APELLIDOS Y NOMBRES]]>0,VLOOKUP($H$7,DATA!$A$79:$B$160,2,FALSE),\"\"),\"\")","v":""},null,null,null,null,null,{"$f":"((NOW()-Tabla3[[#This Row],[FECHA DE NACIMIENTO]])/365)-0.5","v":124.79767625317098},null,null,null,null,null,null,null,null,null,null,null,null,null,null,null,null,null,null,null,null,null,null,null,null,null,null,null,null,null,null,null,null,null,null,null,null,null,"",null,{"$f":"IFERROR(IF(OR(LOWER(Tabla3[[#This Row],[SEXO]])=\"masculino\", LOWER(Tabla3[[#This Row],[SEXO]])=\"m\", LOWER(Tabla3[[#This Row],[SEXO]])=\"1\"), \"MASCULINO\",\n  IF(OR(LOWER(Tabla3[[#This Row],[SEXO]])=\"femenino\", LOWER(Tabla3[[#This Row],[SEXO]])=\"f\", LOWER(Tabla3[[#This Row],[SEXO]])=\"2\"), \"FEMENINO\",\n  \"\")), \"\")","v":""},0,null,null,null,0]
[{"$f":"IF(Tabla3[[#This Row],[APELLIDOS Y NOMBRES]]>0,ROW()-14,\"\")","v":""},{"$f":"IFERROR(IF(Tabla3[[#This Row],[APELLIDOS Y NOMBRES]]>0,VLOOKUP($H$7,DATA!$A$79:$B$160,2,FALSE),\"\"),\"\")","v":""},null,null,null,null,null,{"$f":"((NOW()-Tabla3[[#This Row],[FECHA DE NACIMIENTO]])/365)-0.5","v":124.79767625317098},null,null,null,null,null,null,null,null,null,null,null,null,null,null,null,null,null,null,null,null,null,null,null,null,null,null,null,null,null,null,null,null,null,null,null,null,null,"",null,{"$f":"IFERROR(IF(OR(LOWER(Tabla3[[#This Row],[SEXO]])=\"masculino\", LOWER(Tabla3[[#This Row],[SEXO]])=\"m\", LOWER(Tabla3[[#This Row],[SEXO]])=\"1\"), \"MASCULINO\",\n  IF(OR(LOWER(Tabla3[[#This Row],[SEXO]])=\"femenino\", LOWER(Tabla3[[#This Row],[SEXO]])=\"f\", LOWER(Tabla3[[#This Row],[SEXO]])=\"2\"), \"FEMENINO\",\n  \"\")), \"\")","v":""},0,null,null,null,0]
[{"$f":"IF(Tabla3[[#This Row],[APELLIDOS Y NOMBRES]]>0,ROW()-14,\"\")","v":""},{"$f":"IFERROR(IF(Tabla3[[#This Row],[APELLIDOS Y NOMBRES]]>0,VLOOKUP($H$7,DATA!$A$79:$B$160,2,FALSE),\"\"),\"\")","v":""},null,null,null,null,null,{"$f":"((NOW()-Tabla3[[#This Row],[FECHA DE NACIMIENTO]])/365)-0.5","v":124.79767625317098},null,null,null,null,null,null,null,null,null,null,null,null,null,null,null,null,null,null,null,null,null,null,null,null,null,null,null,null,null,null,null,null,null,null,null,null,null,"",null,{"$f":"IFERROR(IF(OR(LOWER(Tabla3[[#This Row],[SEXO]])=\"masculino\", LOWER(Tabla3[[#This Row],[SEXO]])=\"m\", LOWER(Tabla3[[#This Row],[SEXO]])=\"1\"), \"MASCULINO\",\n  IF(OR(LOWER(Tabla3[[#This Row],[SEXO]])=\"femenino\", LOWER(Tabla3[[#This Row],[SEXO]])=\"f\", LOWER(Tabla3[[#This Row],[SEXO]])=\"2\"), \"FEMENINO\",\n  \"\")), \"\")","v":""},0,null,null,null,0]
[{"$f":"IF(Tabla3[[#This Row],[APELLIDOS Y NOMBRES]]>0,ROW()-14,\"\")","v":""},{"$f":"IFERROR(IF(Tabla3[[#This Row],[APELLIDOS Y NOMBRES]]>0,VLOOKUP($H$7,DATA!$A$79:$B$160,2,FALSE),\"\"),\"\")","v":""},null,null,null,null,null,{"$f":"((NOW()-Tabla3[[#This Row],[FECHA DE NACIMIENTO]])/365)-0.5","v":124.79767625317098},null,null,null,null,null,null,null,null,null,null,null,null,null,null,null,null,null,null,null,null,null,null,null,null,null,null,null,null,null,null,null,null,null,null,null,null,null,"",null,{"$f":"IFERROR(IF(OR(LOWER(Tabla3[[#This Row],[SEXO]])=\"masculino\", LOWER(Tabla3[[#This Row],[SEXO]])=\"m\", LOWER(Tabla3[[#This Row],[SEXO]])=\"1\"), \"MASCULINO\",\n  IF(OR(LOWER(Tabla3[[#This Row],[SEXO]])=\"femenino\", LOWER(Tabla3[[#This Row],[SEXO]])=\"f\", LOWER(Tabla3[[#This Row],[SEXO]])=\"2\"), \"FEMENINO\",\n  \"\")), \"\")","v":""},0,null,null,null,0]
[{"$f":"IF(Tabla3[[#This Row],[APELLIDOS Y NOMBRES]]>0,ROW()-14,\"\")","v":""},{"$f":"IFERROR(IF(Tabla3[[#This Row],[APELLIDOS Y NOMBRES]]>0,VLOOKUP($H$7,DATA!$A$79:$B$160,2,FALSE),\"\"),\"\")","v":""},null,null,null,null,null,{"$f":"((NOW()-Tabla3[[#This Row],[FECHA DE NACIMIENTO]])/365)-0.5","v":124.79767625317098},null,null,null,null,null,null,null,null,null,null,null,null,null,null,null,null,null,null,null,null,null,null,null,null,null,null,null,null,null,null,null,null,null,null,null,null,null,"",null,{"$f":"IFERROR(IF(OR(LOWER(Tabla3[[#This Row],[SEXO]])=\"masculino\", LOWER(Tabla3[[#This Row],[SEXO]])=\"m\", LOWER(Tabla3[[#This Row],[SEXO]])=\"1\"), \"MASCULINO\",\n  IF(OR(LOWER(Tabla3[[#This Row],[SEXO]])=\"femenino\", LOWER(Tabla3[[#This Row],[SEXO]])=\"f\", LOWER(Tabla3[[#This Row],[SEXO]])=\"2\"), \"FEMENINO\",\n  \"\")), \"\")","v":""},0,null,null,null,0]
[{"$f":"IF(Tabla3[[#This Row],[APELLIDOS Y NOMBRES]]>0,ROW()-14,\"\")","v":""},{"$f":"IFERROR(IF(Tabla3[[#This Row],[APELLIDOS Y NOMBRES]]>0,VLOOKUP($H$7,DATA!$A$79:$B$160,2,FALSE),\"\"),\"\")","v":""},null,null,null,null,null,{"$f":"((NOW()-Tabla3[[#This Row],[FECHA DE NACIMIENTO]])/365)-0.5","v":124.79767625317098},null,null,null,null,null,null,null,null,null,null,null,null,null,null,null,null,null,null,null,null,null,null,null,null,null,null,null,null,null,null,null,null,null,null,null,null,null,"",null,{"$f":"IFERROR(IF(OR(LOWER(Tabla3[[#This Row],[SEXO]])=\"masculino\", LOWER(Tabla3[[#This Row],[SEXO]])=\"m\", LOWER(Tabla3[[#This Row],[SEXO]])=\"1\"), \"MASCULINO\",\n  IF(OR(LOWER(Tabla3[[#This Row],[SEXO]])=\"femenino\", LOWER(Tabla3[[#This Row],[SEXO]])=\"f\", LOWER(Tabla3[[#This Row],[SEXO]])=\"2\"), \"FEMENINO\",\n  \"\")), \"\")","v":""},0,null,null,null,0]
[{"$f":"IF(Tabla3[[#This Row],[APELLIDOS Y NOMBRES]]>0,ROW()-14,\"\")","v":""},{"$f":"IFERROR(IF(Tabla3[[#This Row],[APELLIDOS Y NOMBRES]]>0,VLOOKUP($H$7,DATA!$A$79:$B$160,2,FALSE),\"\"),\"\")","v":""},null,null,null,null,null,{"$f":"((NOW()-Tabla3[[#This Row],[FECHA DE NACIMIENTO]])/365)-0.5","v":124.79767625317098},null,null,null,null,null,null,null,null,null,null,null,null,null,null,null,null,null,null,null,null,null,null,null,null,null,null,null,null,null,null,null,null,null,null,null,null,null,"",null,{"$f":"IFERROR(IF(OR(LOWER(Tabla3[[#This Row],[SEXO]])=\"masculino\", LOWER(Tabla3[[#This Row],[SEXO]])=\"m\", LOWER(Tabla3[[#This Row],[SEXO]])=\"1\"), \"MASCULINO\",\n  IF(OR(LOWER(Tabla3[[#This Row],[SEXO]])=\"femenino\", LOWER(Tabla3[[#This Row],[SEXO]])=\"f\", LOWER(Tabla3[[#This Row],[SEXO]])=\"2\"), \"FEMENINO\",\n  \"\")), \"\")","v":""},0,null,null,null,0]
[{"$f":"IF(Tabla3[[#This Row],[APELLIDOS Y NOMBRES]]>0,ROW()-14,\"\")","v":""},{"$f":"IFERROR(IF(Tabla3[[#This Row],[APELLIDOS Y NOMBRES]]>0,VLOOKUP($H$7,DATA!$A$79:$B$160,2,FALSE),\"\"),\"\")","v":""},null,null,null,null,null,{"$f":"((NOW()-Tabla3[[#This Row],[FECHA DE NACIMIENTO]])/365)-0.5","v":124.79767625317098},null,null,null,null,null,null,null,null,null,null,null,null,null,null,null,null,null,null,null,null,null,null,null,null,null,null,null,null,null,null,null,null,null,null,null,null,null,"",null,{"$f":"IFERROR(IF(OR(LOWER(Tabla3[[#This Row],[SEXO]])=\"masculino\", LOWER(Tabla3[[#This Row],[SEXO]])=\"m\", LOWER(Tabla3[[#This Row],[SEXO]])=\"1\"), \"MASCULINO\",\n  IF(OR(LOWER(Tabla3[[#This Row],[SEXO]])=\"femenino\", LOWER(Tabla3[[#This Row],[SEXO]])=\"f\", LOWER(Tabla3[[#This Row],[SEXO]])=\"2\"), \"FEMENINO\",\n  \"\")), \"\")","v":""},0,null,null,null,0]
[{"$f":"IF(Tabla3[[#This Row],[APELLIDOS Y NOMBRES]]>0,ROW()-14,\"\")","v":""},{"$f":"IFERROR(IF(Tabla3[[#This Row],[APELLIDOS Y NOMBRES]]>0,VLOOKUP($H$7,DATA!$A$79:$B$160,2,FALSE),\"\"),\"\")","v":""},null,null,null,null,null,{"$f":"((NOW()-Tabla3[[#This Row],[FECHA DE NACIMIENTO]])/365)-0.5","v":124.79767625317098},null,null,null,null,null,null,null,null,null,null,null,null,null,null,null,null,null,null,null,null,null,null,null,null,null,null,null,null,null,null,null,null,null,null,null,null,null,"",null,{"$f":"IFERROR(IF(OR(LOWER(Tabla3[[#This Row],[SEXO]])=\"masculino\", LOWER(Tabla3[[#This Row],[SEXO]])=\"m\", LOWER(Tabla3[[#This Row],[SEXO]])=\"1\"), \"MASCULINO\",\n  IF(OR(LOWER(Tabla3[[#This Row],[SEXO]])=\"femenino\", LOWER(Tabla3[[#This Row],[SEXO]])=\"f\", LOWER(Tabla3[[#This Row],[SEXO]])=\"2\"), \"FEMENINO\",\n  \"\")), \"\")","v":""},0,null,null,null,0]
[{"$f":"IF(Tabla3[[#This Row],[APELLIDOS Y NOMBRES]]>0,ROW()-14,\"\")","v":""},{"$f":"IFERROR(IF(Tabla3[[#This Row],[APELLIDOS Y NOMBRES]]>0,VLOOKUP($H$7,DATA!$A$79:$B$160,2,FALSE),\"\"),\"\")","v":""},null,null,null,null,null,{"$f":"((NOW()-Tabla3[[#This Row],[FECHA DE NACIMIENTO]])/365)-0.5","v":124.79767625317098},null,null,null,null,null,null,null,null,null,null,null,null,null,null,null,null,null,null,null,null,null,null,null,null,null,null,null,null,null,null,null,null,null,null,null,null,null,"",null,{"$f":"IFERROR(IF(OR(LOWER(Tabla3[[#This Row],[SEXO]])=\"masculino\", LOWER(Tabla3[[#This Row],[SEXO]])=\"m\", LOWER(Tabla3[[#This Row],[SEXO]])=\"1\"), \"MASCULINO\",\n  IF(OR(LOWER(Tabla3[[#This Row],[SEXO]])=\"femenino\", LOWER(Tabla3[[#This Row],[SEXO]])=\"f\", LOWER(Tabla3[[#This Row],[SEXO]])=\"2\"), \"FEMENINO\",\n  \"\")), \"\")","v":""},0,null,null,null,0]
[{"$f":"IF(Tabla3[[#This Row],[APELLIDOS Y NOMBRES]]>0,ROW()-14,\"\")","v":""},{"$f":"IFERROR(IF(Tabla3[[#This Row],[APELLIDOS Y NOMBRES]]>0,VLOOKUP($H$7,DATA!$A$79:$B$160,2,FALSE),\"\"),\"\")","v":""},null,null,null,null,null,{"$f":"((NOW()-Tabla3[[#This Row],[FECHA DE NACIMIENTO]])/365)-0.5","v":124.79767625317098},null,null,null,null,null,null,null,null,null,null,null,null,null,null,null,null,null,null,null,null,null,null,null,null,null,null,null,null,null,null,null,null,null,null,null,null,null,"",null,{"$f":"IFERROR(IF(OR(LOWER(Tabla3[[#This Row],[SEXO]])=\"masculino\", LOWER(Tabla3[[#This Row],[SEXO]])=\"m\", LOWER(Tabla3[[#This Row],[SEXO]])=\"1\"), \"MASCULINO\",\n  IF(OR(LOWER(Tabla3[[#This Row],[SEXO]])=\"femenino\", LOWER(Tabla3[[#This Row],[SEXO]])=\"f\", LOWER(Tabla3[[#This Row],[SEXO]])=\"2\"), \"FEMENINO\",\n  \"\")), \"\")","v":""},0,null,null,null,0]
[{"$f":"IF(Tabla3[[#This Row],[APELLIDOS Y NOMBRES]]>0,ROW()-14,\"\")","v":""},{"$f":"IFERROR(IF(Tabla3[[#This Row],[APELLIDOS Y NOMBRES]]>0,VLOOKUP($H$7,DATA!$A$79:$B$160,2,FALSE),\"\"),\"\")","v":""},null,null,null,null,null,{"$f":"((NOW()-Tabla3[[#This Row],[FECHA DE NACIMIENTO]])/365)-0.5","v":124.79767625317098},null,null,null,null,null,null,null,null,null,null,null,null,null,null,null,null,null,null,null,null,null,null,null,null,null,null,null,null,null,null,null,null,null,null,null,null,null,"",null,{"$f":"IFERROR(IF(OR(LOWER(Tabla3[[#This Row],[SEXO]])=\"masculino\", LOWER(Tabla3[[#This Row],[SEXO]])=\"m\", LOWER(Tabla3[[#This Row],[SEXO]])=\"1\"), \"MASCULINO\",\n  IF(OR(LOWER(Tabla3[[#This Row],[SEXO]])=\"femenino\", LOWER(Tabla3[[#This Row],[SEXO]])=\"f\", LOWER(Tabla3[[#This Row],[SEXO]])=\"2\"), \"FEMENINO\",\n  \"\")), \"\")","v":""},0,null,null,null,0]
[{"$f":"IF(Tabla3[[#This Row],[APELLIDOS Y NOMBRES]]>0,ROW()-14,\"\")","v":""},{"$f":"IFERROR(IF(Tabla3[[#This Row],[APELLIDOS Y NOMBRES]]>0,VLOOKUP($H$7,DATA!$A$79:$B$160,2,FALSE),\"\"),\"\")","v":""},null,null,null,null,null,{"$f":"((NOW()-Tabla3[[#This Row],[FECHA DE NACIMIENTO]])/365)-0.5","v":124.79767625317098},null,null,null,null,null,null,null,null,null,null,null,null,null,null,null,null,null,null,null,null,null,null,null,null,null,null,null,null,null,null,null,null,null,null,null,null,null,"",null,{"$f":"IFERROR(IF(OR(LOWER(Tabla3[[#This Row],[SEXO]])=\"masculino\", LOWER(Tabla3[[#This Row],[SEXO]])=\"m\", LOWER(Tabla3[[#This Row],[SEXO]])=\"1\"), \"MASCULINO\",\n  IF(OR(LOWER(Tabla3[[#This Row],[SEXO]])=\"femenino\", LOWER(Tabla3[[#This Row],[SEXO]])=\"f\", LOWER(Tabla3[[#This Row],[SEXO]])=\"2\"), \"FEMENINO\",\n  \"\")), \"\")","v":""},0,null,null,null,0]
[{"$f":"IF(Tabla3[[#This Row],[APELLIDOS Y NOMBRES]]>0,ROW()-14,\"\")","v":""},{"$f":"IFERROR(IF(Tabla3[[#This Row],[APELLIDOS Y NOMBRES]]>0,VLOOKUP($H$7,DATA!$A$79:$B$160,2,FALSE),\"\"),\"\")","v":""},null,null,null,null,null,{"$f":"((NOW()-Tabla3[[#This Row],[FECHA DE NACIMIENTO]])/365)-0.5","v":124.79767625317098},null,null,null,null,null,null,null,null,null,null,null,null,null,null,null,null,null,null,null,null,null,null,null,null,null,null,null,null,null,null,null,null,null,null,null,null,null,"",null,{"$f":"IFERROR(IF(OR(LOWER(Tabla3[[#This Row],[SEXO]])=\"masculino\", LOWER(Tabla3[[#This Row],[SEXO]])=\"m\", LOWER(Tabla3[[#This Row],[SEXO]])=\"1\"), \"MASCULINO\",\n  IF(OR(LOWER(Tabla3[[#This Row],[SEXO]])=\"femenino\", LOWER(Tabla3[[#This Row],[SEXO]])=\"f\", LOWER(Tabla3[[#This Row],[SEXO]])=\"2\"), \"FEMENINO\",\n  \"\")), \"\")","v":""},0,null,null,null,0]
[{"$f":"IF(Tabla3[[#This Row],[APELLIDOS Y NOMBRES]]>0,ROW()-14,\"\")","v":""},{"$f":"IFERROR(IF(Tabla3[[#This Row],[APELLIDOS Y NOMBRES]]>0,VLOOKUP($H$7,DATA!$A$79:$B$160,2,FALSE),\"\"),\"\")","v":""},null,null,null,null,null,{"$f":"((NOW()-Tabla3[[#This Row],[FECHA DE NACIMIENTO]])/365)-0.5","v":124.79767625317098},null,null,null,null,null,null,null,null,null,null,null,null,null,null,null,null,null,null,null,null,null,null,null,null,null,null,null,null,null,null,null,null,null,null,null,null,null,"",null,{"$f":"IFERROR(IF(OR(LOWER(Tabla3[[#This Row],[SEXO]])=\"masculino\", LOWER(Tabla3[[#This Row],[SEXO]])=\"m\", LOWER(Tabla3[[#This Row],[SEXO]])=\"1\"), \"MASCULINO\",\n  IF(OR(LOWER(Tabla3[[#This Row],[SEXO]])=\"femenino\", LOWER(Tabla3[[#This Row],[SEXO]])=\"f\", LOWER(Tabla3[[#This Row],[SEXO]])=\"2\"), \"FEMENINO\",\n  \"\")), \"\")","v":""},0,null,null,null,0]
[{"$f":"IF(Tabla3[[#This Row],[APELLIDOS Y NOMBRES]]>0,ROW()-14,\"\")","v":""},{"$f":"IFERROR(IF(Tabla3[[#This Row],[APELLIDOS Y NOMBRES]]>0,VLOOKUP($H$7,DATA!$A$79:$B$160,2,FALSE),\"\"),\"\")","v":""},null,null,null,null,null,{"$f":"((NOW()-Tabla3[[#This Row],[FECHA DE NACIMIENTO]])/365)-0.5","v":124.79767625317098},null,null,null,null,null,null,null,null,null,null,null,null,null,null,null,null,null,null,null,null,null,null,null,null,null,null,null,null,null,null,null,null,null,null,null,null,null,"",null,{"$f":"IFERROR(IF(OR(LOWER(Tabla3[[#This Row],[SEXO]])=\"masculino\", LOWER(Tabla3[[#This Row],[SEXO]])=\"m\", LOWER(Tabla3[[#This Row],[SEXO]])=\"1\"), \"MASCULINO\",\n  IF(OR(LOWER(Tabla3[[#This Row],[SEXO]])=\"femenino\", LOWER(Tabla3[[#This Row],[SEXO]])=\"f\", LOWER(Tabla3[[#This Row],[SEXO]])=\"2\"), \"FEMENINO\",\n  \"\")), \"\")","v":""},0,null,null,null,0]
[{"$f":"IF(Tabla3[[#This Row],[APELLIDOS Y NOMBRES]]>0,ROW()-14,\"\")","v":""},{"$f":"IFERROR(IF(Tabla3[[#This Row],[APELLIDOS Y NOMBRES]]>0,VLOOKUP($H$7,DATA!$A$79:$B$160,2,FALSE),\"\"),\"\")","v":""},null,null,null,null,null,{"$f":"((NOW()-Tabla3[[#This Row],[FECHA DE NACIMIENTO]])/365)-0.5","v":124.79767625317098},null,null,null,null,null,null,null,null,null,null,null,null,null,null,null,null,null,null,null,null,null,null,null,null,null,null,null,null,null,null,null,null,null,null,null,null,null,"",null,{"$f":"IFERROR(IF(OR(LOWER(Tabla3[[#This Row],[SEXO]])=\"masculino\", LOWER(Tabla3[[#This Row],[SEXO]])=\"m\", LOWER(Tabla3[[#This Row],[SEXO]])=\"1\"), \"MASCULINO\",\n  IF(OR(LOWER(Tabla3[[#This Row],[SEXO]])=\"femenino\", LOWER(Tabla3[[#This Row],[SEXO]])=\"f\", LOWER(Tabla3[[#This Row],[SEXO]])=\"2\"), \"FEMENINO\",\n  \"\")), \"\")","v":""},0,null,null,null,0]
[{"$f":"IF(Tabla3[[#This Row],[APELLIDOS Y NOMBRES]]>0,ROW()-14,\"\")","v":""},{"$f":"IFERROR(IF(Tabla3[[#This Row],[APELLIDOS Y NOMBRES]]>0,VLOOKUP($H$7,DATA!$A$79:$B$160,2,FALSE),\"\"),\"\")","v":""},null,null,null,null,null,{"$f":"((NOW()-Tabla3[[#This Row],[FECHA DE NACIMIENTO]])/365)-0.5","v":124.79767625317098},null,null,null,null,null,null,null,null,null,null,null,null,null,null,null,null,null,null,null,null,null,null,null,null,null,null,null,null,null,null,null,null,null,null,null,null,null,"",null,{"$f":"IFERROR(IF(OR(LOWER(Tabla3[[#This Row],[SEXO]])=\"masculino\", LOWER(Tabla3[[#This Row],[SEXO]])=\"m\", LOWER(Tabla3[[#This Row],[SEXO]])=\"1\"), \"MASCULINO\",\n  IF(OR(LOWER(Tabla3[[#This Row],[SEXO]])=\"femenino\", LOWER(Tabla3[[#This Row],[SEXO]])=\"f\", LOWER(Tabla3[[#This Row],[SEXO]])=\"2\"), \"FEMENINO\",\n  \"\")), \"\")","v":""},0,null,null,null,0]
[{"$f":"IF(Tabla3[[#This Row],[APELLIDOS Y NOMBRES]]>0,ROW()-14,\"\")","v":""},{"$f":"IFERROR(IF(Tabla3[[#This Row],[APELLIDOS Y NOMBRES]]>0,VLOOKUP($H$7,DATA!$A$79:$B$160,2,FALSE),\"\"),\"\")","v":""},null,null,null,null,null,{"$f":"((NOW()-Tabla3[[#This Row],[FECHA DE NACIMIENTO]])/365)-0.5","v":124.79767625317098},null,null,null,null,null,null,null,null,null,null,null,null,null,null,null,null,null,null,null,null,null,null,null,null,null,null,null,null,null,null,null,null,null,null,null,null,null,"",null,{"$f":"IFERROR(IF(OR(LOWER(Tabla3[[#This Row],[SEXO]])=\"masculino\", LOWER(Tabla3[[#This Row],[SEXO]])=\"m\", LOWER(Tabla3[[#This Row],[SEXO]])=\"1\"), \"MASCULINO\",\n  IF(OR(LOWER(Tabla3[[#This Row],[SEXO]])=\"femenino\", LOWER(Tabla3[[#This Row],[SEXO]])=\"f\", LOWER(Tabla3[[#This Row],[SEXO]])=\"2\"), \"FEMENINO\",\n  \"\")), \"\")","v":""},0,null,null,null,0]
[{"$f":"IF(Tabla3[[#This Row],[APELLIDOS Y NOMBRES]]>0,ROW()-14,\"\")","v":""},{"$f":"IFERROR(IF(Tabla3[[#This Row],[APELLIDOS Y NOMBRES]]>0,VLOOKUP($H$7,DATA!$A$79:$B$160,2,FALSE),\"\"),\"\")","v":""},null,null,null,null,null,{"$f":"((NOW()-Tabla3[[#This Row],[FECHA DE NACIMIENTO]])/365)-0.5","v":124.79767625317098},null,null,null,null,null,null,null,null,null,null,null,null,null,null,null,null,null,null,null,null,null,null,null,null,null,null,null,null,null,null,null,null,null,null,null,null,null,"",null,{"$f":"IFERROR(IF(OR(LOWER(Tabla3[[#This Row],[SEXO]])=\"masculino\", LOWER(Tabla3[[#This Row],[SEXO]])=\"m\", LOWER(Tabla3[[#This Row],[SEXO]])=\"1\"), \"MASCULINO\",\n  IF(OR(LOWER(Tabla3[[#This Row],[SEXO]])=\"femenino\", LOWER(Tabla3[[#This Row],[SEXO]])=\"f\", LOWER(Tabla3[[#This Row],[SEXO]])=\"2\"), \"FEMENINO\",\n  \"\")), \"\")","v":""},0,null,null,null,0]
[{"$f":"IF(Tabla3[[#This Row],[APELLIDOS Y NOMBRES]]>0,ROW()-14,\"\")","v":""},{"$f":"IFERROR(IF(Tabla3[[#This Row],[APELLIDOS Y NOMBRES]]>0,VLOOKUP($H$7,DATA!$A$79:$B$160,2,FALSE),\"\"),\"\")","v":""},null,null,null,null,null,{"$f":"((NOW()-Tabla3[[#This Row],[FECHA DE NACIMIENTO]])/365)-0.5","v":124.79767625317098},null,null,null,null,null,null,null,null,null,null,null,null,null,null,null,null,null,null,null,null,null,null,null,null,null,null,null,null,null,null,null,null,null,null,null,null,null,"",null,{"$f":"IFERROR(IF(OR(LOWER(Tabla3[[#This Row],[SEXO]])=\"masculino\", LOWER(Tabla3[[#This Row],[SEXO]])=\"m\", LOWER(Tabla3[[#This Row],[SEXO]])=\"1\"), \"MASCULINO\",\n  IF(OR(LOWER(Tabla3[[#This Row],[SEXO]])=\"femenino\", LOWER(Tabla3[[#This Row],[SEXO]])=\"f\", LOWER(Tabla3[[#This Row],[SEXO]])=\"2\"), \"FEMENINO\",\n  \"\")), \"\")","v":""},0,null,null,null,0]
[{"$f":"IF(Tabla3[[#This Row],[APELLIDOS Y NOMBRES]]>0,ROW()-14,\"\")","v":""},{"$f":"IFERROR(IF(Tabla3[[#This Row],[APELLIDOS Y NOMBRES]]>0,VLOOKUP($H$7,DATA!$A$79:$B$160,2,FALSE),\"\"),\"\")","v":""},null,null,null,null,null,{"$f":"((NOW()-Tabla3[[#This Row],[FECHA DE NACIMIENTO]])/365)-0.5","v":124.79767625317098},null,null,null,null,null,null,null,null,null,null,null,null,null,null,null,null,null,null,null,null,null,null,null,null,null,null,null,null,null,null,null,null,null,null,null,null,null,"",null,{"$f":"IFERROR(IF(OR(LOWER(Tabla3[[#This Row],[SEXO]])=\"masculino\", LOWER(Tabla3[[#This Row],[SEXO]])=\"m\", LOWER(Tabla3[[#This Row],[SEXO]])=\"1\"), \"MASCULINO\",\n  IF(OR(LOWER(Tabla3[[#This Row],[SEXO]])=\"femenino\", LOWER(Tabla3[[#This Row],[SEXO]])=\"f\", LOWER(Tabla3[[#This Row],[SEXO]])=\"2\"), \"FEMENINO\",\n  \"\")), \"\")","v":""},0,null,null,null,0]
[{"$f":"IF(Tabla3[[#This Row],[APELLIDOS Y NOMBRES]]>0,ROW()-14,\"\")","v":""},{"$f":"IFERROR(IF(Tabla3[[#This Row],[APELLIDOS Y NOMBRES]]>0,VLOOKUP($H$7,DATA!$A$79:$B$160,2,FALSE),\"\"),\"\")","v":""},null,null,null,null,null,{"$f":"((NOW()-Tabla3[[#This Row],[FECHA DE NACIMIENTO]])/365)-0.5","v":124.79767625317098},null,null,null,null,null,null,null,null,null,null,null,null,null,null,null,null,null,null,null,null,null,null,null,null,null,null,null,null,null,null,null,null,null,null,null,null,null,"",null,{"$f":"IFERROR(IF(OR(LOWER(Tabla3[[#This Row],[SEXO]])=\"masculino\", LOWER(Tabla3[[#This Row],[SEXO]])=\"m\", LOWER(Tabla3[[#This Row],[SEXO]])=\"1\"), \"MASCULINO\",\n  IF(OR(LOWER(Tabla3[[#This Row],[SEXO]])=\"femenino\", LOWER(Tabla3[[#This Row],[SEXO]])=\"f\", LOWER(Tabla3[[#This Row],[SEXO]])=\"2\"), \"FEMENINO\",\n  \"\")), \"\")","v":""},0,null,null,null,0]
[{"$f":"IF(Tabla3[[#This Row],[APELLIDOS Y NOMBRES]]>0,ROW()-14,\"\")","v":""},{"$f":"IFERROR(IF(Tabla3[[#This Row],[APELLIDOS Y NOMBRES]]>0,VLOOKUP($H$7,DATA!$A$79:$B$160,2,FALSE),\"\"),\"\")","v":""},null,null,null,null,null,{"$f":"((NOW()-Tabla3[[#This Row],[FECHA DE NACIMIENTO]])/365)-0.5","v":124.79767625317098},null,null,null,null,null,null,null,null,null,null,null,null,null,null,null,null,null,null,null,null,null,null,null,null,null,null,null,null,null,null,null,null,null,null,null,null,null,"",null,{"$f":"IFERROR(IF(OR(LOWER(Tabla3[[#This Row],[SEXO]])=\"masculino\", LOWER(Tabla3[[#This Row],[SEXO]])=\"m\", LOWER(Tabla3[[#This Row],[SEXO]])=\"1\"), \"MASCULINO\",\n  IF(OR(LOWER(Tabla3[[#This Row],[SEXO]])=\"femenino\", LOWER(Tabla3[[#This Row],[SEXO]])=\"f\", LOWER(Tabla3[[#This Row],[SEXO]])=\"2\"), \"FEMENINO\",\n  \"\")), \"\")","v":""},0,null,null,null,0]
[{"$f":"IF(Tabla3[[#This Row],[APELLIDOS Y NOMBRES]]>0,ROW()-14,\"\")","v":""},{"$f":"IFERROR(IF(Tabla3[[#This Row],[APELLIDOS Y NOMBRES]]>0,VLOOKUP($H$7,DATA!$A$79:$B$160,2,FALSE),\"\"),\"\")","v":""},null,null,null,null,null,{"$f":"((NOW()-Tabla3[[#This Row],[FECHA DE NACIMIENTO]])/365)-0.5","v":124.79767625317098},null,null,null,null,null,null,null,null,null,null,null,null,null,null,null,null,null,null,null,null,null,null,null,null,null,null,null,null,null,null,null,null,null,null,null,null,null,"",null,{"$f":"IFERROR(IF(OR(LOWER(Tabla3[[#This Row],[SEXO]])=\"masculino\", LOWER(Tabla3[[#This Row],[SEXO]])=\"m\", LOWER(Tabla3[[#This Row],[SEXO]])=\"1\"), \"MASCULINO\",\n  IF(OR(LOWER(Tabla3[[#This Row],[SEXO]])=\"femenino\", LOWER(Tabla3[[#This Row],[SEXO]])=\"f\", LOWER(Tabla3[[#This Row],[SEXO]])=\"2\"), \"FEMENINO\",\n  \"\")), \"\")","v":""},0,null,null,null,0]
[{"$f":"IF(Tabla3[[#This Row],[APELLIDOS Y NOMBRES]]>0,ROW()-14,\"\")","v":""},{"$f":"IFERROR(IF(Tabla3[[#This Row],[APELLIDOS Y NOMBRES]]>0,VLOOKUP($H$7,DATA!$A$79:$B$160,2,FALSE),\"\"),\"\")","v":""},null,null,null,null,null,{"$f":"((NOW()-Tabla3[[#This Row],[FECHA DE NACIMIENTO]])/365)-0.5","v":124.79767625317098},null,null,null,null,null,null,null,null,null,null,null,null,null,null,null,null,null,null,null,null,null,null,null,null,null,null,null,null,null,null,null,null,null,null,null,null,null,"",null,{"$f":"IFERROR(IF(OR(LOWER(Tabla3[[#This Row],[SEXO]])=\"masculino\", LOWER(Tabla3[[#This Row],[SEXO]])=\"m\", LOWER(Tabla3[[#This Row],[SEXO]])=\"1\"), \"MASCULINO\",\n  IF(OR(LOWER(Tabla3[[#This Row],[SEXO]])=\"femenino\", LOWER(Tabla3[[#This Row],[SEXO]])=\"f\", LOWER(Tabla3[[#This Row],[SEXO]])=\"2\"), \"FEMENINO\",\n  \"\")), \"\")","v":""},0,null,null,null,0]
[{"$f":"IF(Tabla3[[#This Row],[APELLIDOS Y NOMBRES]]>0,ROW()-14,\"\")","v":""},{"$f":"IFERROR(IF(Tabla3[[#This Row],[APELLIDOS Y NOMBRES]]>0,VLOOKUP($H$7,DATA!$A$79:$B$160,2,FALSE),\"\"),\"\")","v":""},null,null,null,null,null,{"$f":"((NOW()-Tabla3[[#This Row],[FECHA DE NACIMIENTO]])/365)-0.5","v":124.79767625317098},null,null,null,null,null,null,null,null,null,null,null,null,null,null,null,null,null,null,null,null,null,null,null,null,null,null,null,null,null,null,null,null,null,null,null,null,null,"",null,{"$f":"IFERROR(IF(OR(LOWER(Tabla3[[#This Row],[SEXO]])=\"masculino\", LOWER(Tabla3[[#This Row],[SEXO]])=\"m\", LOWER(Tabla3[[#This Row],[SEXO]])=\"1\"), \"MASCULINO\",\n  IF(OR(LOWER(Tabla3[[#This Row],[SEXO]])=\"femenino\", LOWER(Tabla3[[#This Row],[SEXO]])=\"f\", LOWER(Tabla3[[#This Row],[SEXO]])=\"2\"), \"FEMENINO\",\n  \"\")), \"\")","v":""},0,null,null,null,0]
[{"$f":"IF(Tabla3[[#This Row],[APELLIDOS Y NOMBRES]]>0,ROW()-14,\"\")","v":""},{"$f":"IFERROR(IF(Tabla3[[#This Row],[APELLIDOS Y NOMBRES]]>0,VLOOKUP($H$7,DATA!$A$79:$B$160,2,FALSE),\"\"),\"\")","v":""},null,null,null,null,null,{"$f":"((NOW()-Tabla3[[#This Row],[FECHA DE NACIMIENTO]])/365)-0.5","v":124.79767625317098},null,null,null,null,null,null,null,null,null,null,null,null,null,null,null,null,null,null,null,null,null,null,null,null,null,null,null,null,null,null,null,null,null,null,null,null,null,"",null,{"$f":"IFERROR(IF(OR(LOWER(Tabla3[[#This Row],[SEXO]])=\"masculino\", LOWER(Tabla3[[#This Row],[SEXO]])=\"m\", LOWER(Tabla3[[#This Row],[SEXO]])=\"1\"), \"MASCULINO\",\n  IF(OR(LOWER(Tabla3[[#This Row],[SEXO]])=\"femenino\", LOWER(Tabla3[[#This Row],[SEXO]])=\"f\", LOWER(Tabla3[[#This Row],[SEXO]])=\"2\"), \"FEMENINO\",\n  \"\")), \"\")","v":""},0,null,null,null,0]
[{"$f":"IF(Tabla3[[#This Row],[APELLIDOS Y NOMBRES]]>0,ROW()-14,\"\")","v":""},{"$f":"IFERROR(IF(Tabla3[[#This Row],[APELLIDOS Y NOMBRES]]>0,VLOOKUP($H$7,DATA!$A$79:$B$160,2,FALSE),\"\"),\"\")","v":""},null,null,null,null,null,{"$f":"((NOW()-Tabla3[[#This Row],[FECHA DE NACIMIENTO]])/365)-0.5","v":124.79767625317098},null,null,null,null,null,null,null,null,null,null,null,null,null,null,null,null,null,null,null,null,null,null,null,null,null,null,null,null,null,null,null,null,null,null,null,null,null,"",null,{"$f":"IFERROR(IF(OR(LOWER(Tabla3[[#This Row],[SEXO]])=\"masculino\", LOWER(Tabla3[[#This Row],[SEXO]])=\"m\", LOWER(Tabla3[[#This Row],[SEXO]])=\"1\"), \"MASCULINO\",\n  IF(OR(LOWER(Tabla3[[#This Row],[SEXO]])=\"femenino\", LOWER(Tabla3[[#This Row],[SEXO]])=\"f\", LOWER(Tabla3[[#This Row],[SEXO]])=\"2\"), \"FEMENINO\",\n  \"\")), \"\")","v":""},0,null,null,null,0]
[{"$f":"IF(Tabla3[[#This Row],[APELLIDOS Y NOMBRES]]>0,ROW()-14,\"\")","v":""},{"$f":"IFERROR(IF(Tabla3[[#This Row],[APELLIDOS Y NOMBRES]]>0,VLOOKUP($H$7,DATA!$A$79:$B$160,2,FALSE),\"\"),\"\")","v":""},null,null,null,null,null,{"$f":"((NOW()-Tabla3[[#This Row],[FECHA DE NACIMIENTO]])/365)-0.5","v":124.79767625317098},null,null,null,null,null,null,null,null,null,null,null,null,null,null,null,null,null,null,null,null,null,null,null,null,null,null,null,null,null,null,null,null,null,null,null,null,null,"",null,{"$f":"IFERROR(IF(OR(LOWER(Tabla3[[#This Row],[SEXO]])=\"masculino\", LOWER(Tabla3[[#This Row],[SEXO]])=\"m\", LOWER(Tabla3[[#This Row],[SEXO]])=\"1\"), \"MASCULINO\",\n  IF(OR(LOWER(Tabla3[[#This Row],[SEXO]])=\"femenino\", LOWER(Tabla3[[#This Row],[SEXO]])=\"f\", LOWER(Tabla3[[#This Row],[SEXO]])=\"2\"), \"FEMENINO\",\n  \"\")), \"\")","v":""},0,null,null,null,0]
[{"$f":"IF(Tabla3[[#This Row],[APELLIDOS Y NOMBRES]]>0,ROW()-14,\"\")","v":""},{"$f":"IFERROR(IF(Tabla3[[#This Row],[APELLIDOS Y NOMBRES]]>0,VLOOKUP($H$7,DATA!$A$79:$B$160,2,FALSE),\"\"),\"\")","v":""},null,null,null,null,null,{"$f":"((NOW()-Tabla3[[#This Row],[FECHA DE NACIMIENTO]])/365)-0.5","v":124.79767625317098},null,null,null,null,null,null,null,null,null,null,null,null,null,null,null,null,null,null,null,null,null,null,null,null,null,null,null,null,null,null,null,null,null,null,null,null,null,"",null,{"$f":"IFERROR(IF(OR(LOWER(Tabla3[[#This Row],[SEXO]])=\"masculino\", LOWER(Tabla3[[#This Row],[SEXO]])=\"m\", LOWER(Tabla3[[#This Row],[SEXO]])=\"1\"), \"MASCULINO\",\n  IF(OR(LOWER(Tabla3[[#This Row],[SEXO]])=\"femenino\", LOWER(Tabla3[[#This Row],[SEXO]])=\"f\", LOWER(Tabla3[[#This Row],[SEXO]])=\"2\"), \"FEMENINO\",\n  \"\")), \"\")","v":""},0,null,null,null,0]
[{"$f":"IF(Tabla3[[#This Row],[APELLIDOS Y NOMBRES]]>0,ROW()-14,\"\")","v":""},{"$f":"IFERROR(IF(Tabla3[[#This Row],[APELLIDOS Y NOMBRES]]>0,VLOOKUP($H$7,DATA!$A$79:$B$160,2,FALSE),\"\"),\"\")","v":""},null,null,null,null,null,{"$f":"((NOW()-Tabla3[[#This Row],[FECHA DE NACIMIENTO]])/365)-0.5","v":124.79767625317098},null,null,null,null,null,null,null,null,null,null,null,null,null,null,null,null,null,null,null,null,null,null,null,null,null,null,null,null,null,null,null,null,null,null,null,null,null,"",null,{"$f":"IFERROR(IF(OR(LOWER(Tabla3[[#This Row],[SEXO]])=\"masculino\", LOWER(Tabla3[[#This Row],[SEXO]])=\"m\", LOWER(Tabla3[[#This Row],[SEXO]])=\"1\"), \"MASCULINO\",\n  IF(OR(LOWER(Tabla3[[#This Row],[SEXO]])=\"femenino\", LOWER(Tabla3[[#This Row],[SEXO]])=\"f\", LOWER(Tabla3[[#This Row],[SEXO]])=\"2\"), \"FEMENINO\",\n  \"\")), \"\")","v":""},0,null,null,null,0]
[{"$f":"IF(Tabla3[[#This Row],[APELLIDOS Y NOMBRES]]>0,ROW()-14,\"\")","v":""},{"$f":"IFERROR(IF(Tabla3[[#This Row],[APELLIDOS Y NOMBRES]]>0,VLOOKUP($H$7,DATA!$A$79:$B$160,2,FALSE),\"\"),\"\")","v":""},null,null,null,null,null,{"$f":"((NOW()-Tabla3[[#This Row],[FECHA DE NACIMIENTO]])/365)-0.5","v":124.79767625317098},null,null,null,null,null,null,null,null,null,null,null,null,null,null,null,null,null,null,null,null,null,null,null,null,null,null,null,null,null,null,null,null,null,null,null,null,null,"",null,{"$f":"IFERROR(IF(OR(LOWER(Tabla3[[#This Row],[SEXO]])=\"masculino\", LOWER(Tabla3[[#This Row],[SEXO]])=\"m\", LOWER(Tabla3[[#This Row],[SEXO]])=\"1\"), \"MASCULINO\",\n  IF(OR(LOWER(Tabla3[[#This Row],[SEXO]])=\"femenino\", LOWER(Tabla3[[#This Row],[SEXO]])=\"f\", LOWER(Tabla3[[#This Row],[SEXO]])=\"2\"), \"FEMENINO\",\n  \"\")), \"\")","v":""},0,null,null,null,0]
[{"$f":"IF(Tabla3[[#This Row],[APELLIDOS Y NOMBRES]]>0,ROW()-14,\"\")","v":""},{"$f":"IFERROR(IF(Tabla3[[#This Row],[APELLIDOS Y NOMBRES]]>0,VLOOKUP($H$7,DATA!$A$79:$B$160,2,FALSE),\"\"),\"\")","v":""},null,null,null,null,null,{"$f":"((NOW()-Tabla3[[#This Row],[FECHA DE NACIMIENTO]])/365)-0.5","v":124.79767625317098},null,null,null,null,null,null,null,null,null,null,null,null,null,null,null,null,null,null,null,null,null,null,null,null,null,null,null,null,null,null,null,null,null,null,null,null,null,"",null,{"$f":"IFERROR(IF(OR(LOWER(Tabla3[[#This Row],[SEXO]])=\"masculino\", LOWER(Tabla3[[#This Row],[SEXO]])=\"m\", LOWER(Tabla3[[#This Row],[SEXO]])=\"1\"), \"MASCULINO\",\n  IF(OR(LOWER(Tabla3[[#This Row],[SEXO]])=\"femenino\", LOWER(Tabla3[[#This Row],[SEXO]])=\"f\", LOWER(Tabla3[[#This Row],[SEXO]])=\"2\"), \"FEMENINO\",\n  \"\")), \"\")","v":""},0,null,null,null,0]
[{"$f":"IF(Tabla3[[#This Row],[APELLIDOS Y NOMBRES]]>0,ROW()-14,\"\")","v":""},{"$f":"IFERROR(IF(Tabla3[[#This Row],[APELLIDOS Y NOMBRES]]>0,VLOOKUP($H$7,DATA!$A$79:$B$160,2,FALSE),\"\"),\"\")","v":""},null,null,null,null,null,{"$f":"((NOW()-Tabla3[[#This Row],[FECHA DE NACIMIENTO]])/365)-0.5","v":124.79767625317098},null,null,null,null,null,null,null,null,null,null,null,null,null,null,null,null,null,null,null,null,null,null,null,null,null,null,null,null,null,null,null,null,null,null,null,null,null,"",null,{"$f":"IFERROR(IF(OR(LOWER(Tabla3[[#This Row],[SEXO]])=\"masculino\", LOWER(Tabla3[[#This Row],[SEXO]])=\"m\", LOWER(Tabla3[[#This Row],[SEXO]])=\"1\"), \"MASCULINO\",\n  IF(OR(LOWER(Tabla3[[#This Row],[SEXO]])=\"femenino\", LOWER(Tabla3[[#This Row],[SEXO]])=\"f\", LOWER(Tabla3[[#This Row],[SEXO]])=\"2\"), \"FEMENINO\",\n  \"\")), \"\")","v":""},0,null,null,null,0]
[{"$f":"IF(Tabla3[[#This Row],[APELLIDOS Y NOMBRES]]>0,ROW()-14,\"\")","v":""},{"$f":"IFERROR(IF(Tabla3[[#This Row],[APELLIDOS Y NOMBRES]]>0,VLOOKUP($H$7,DATA!$A$79:$B$160,2,FALSE),\"\"),\"\")","v":""},null,null,null,null,null,{"$f":"((NOW()-Tabla3[[#This Row],[FECHA DE NACIMIENTO]])/365)-0.5","v":124.79767625317098},null,null,null,null,null,null,null,null,null,null,null,null,null,null,null,null,null,null,null,null,null,null,null,null,null,null,null,null,null,null,null,null,null,null,null,null,null,"",null,{"$f":"IFERROR(IF(OR(LOWER(Tabla3[[#This Row],[SEXO]])=\"masculino\", LOWER(Tabla3[[#This Row],[SEXO]])=\"m\", LOWER(Tabla3[[#This Row],[SEXO]])=\"1\"), \"MASCULINO\",\n  IF(OR(LOWER(Tabla3[[#This Row],[SEXO]])=\"femenino\", LOWER(Tabla3[[#This Row],[SEXO]])=\"f\", LOWER(Tabla3[[#This Row],[SEXO]])=\"2\"), \"FEMENINO\",\n  \"\")), \"\")","v":""},0,null,null,null,0]
[{"$f":"IF(Tabla3[[#This Row],[APELLIDOS Y NOMBRES]]>0,ROW()-14,\"\")","v":""},{"$f":"IFERROR(IF(Tabla3[[#This Row],[APELLIDOS Y NOMBRES]]>0,VLOOKUP($H$7,DATA!$A$79:$B$160,2,FALSE),\"\"),\"\")","v":""},null,null,null,null,null,{"$f":"((NOW()-Tabla3[[#This Row],[FECHA DE NACIMIENTO]])/365)-0.5","v":124.79767625317098},null,null,null,null,null,null,null,null,null,null,null,null,null,null,null,null,null,null,null,null,null,null,null,null,null,null,null,null,null,null,null,null,null,null,null,null,null,"",null,{"$f":"IFERROR(IF(OR(LOWER(Tabla3[[#This Row],[SEXO]])=\"masculino\", LOWER(Tabla3[[#This Row],[SEXO]])=\"m\", LOWER(Tabla3[[#This Row],[SEXO]])=\"1\"), \"MASCULINO\",\n  IF(OR(LOWER(Tabla3[[#This Row],[SEXO]])=\"femenino\", LOWER(Tabla3[[#This Row],[SEXO]])=\"f\", LOWER(Tabla3[[#This Row],[SEXO]])=\"2\"), \"FEMENINO\",\n  \"\")), \"\")","v":""},0,null,null,null,0]
[{"$f":"IF(Tabla3[[#This Row],[APELLIDOS Y NOMBRES]]>0,ROW()-14,\"\")","v":""},{"$f":"IFERROR(IF(Tabla3[[#This Row],[APELLIDOS Y NOMBRES]]>0,VLOOKUP($H$7,DATA!$A$79:$B$160,2,FALSE),\"\"),\"\")","v":""},null,null,null,null,null,{"$f":"((NOW()-Tabla3[[#This Row],[FECHA DE NACIMIENTO]])/365)-0.5","v":124.79767625317098},null,null,null,null,null,null,null,null,null,null,null,null,null,null,null,null,null,null,null,null,null,null,null,null,null,null,null,null,null,null,null,null,null,null,null,null,null,"",null,{"$f":"IFERROR(IF(OR(LOWER(Tabla3[[#This Row],[SEXO]])=\"masculino\", LOWER(Tabla3[[#This Row],[SEXO]])=\"m\", LOWER(Tabla3[[#This Row],[SEXO]])=\"1\"), \"MASCULINO\",\n  IF(OR(LOWER(Tabla3[[#This Row],[SEXO]])=\"femenino\", LOWER(Tabla3[[#This Row],[SEXO]])=\"f\", LOWER(Tabla3[[#This Row],[SEXO]])=\"2\"), \"FEMENINO\",\n  \"\")), \"\")","v":""},0,null,null,null,0]
[{"$f":"IF(Tabla3[[#This Row],[APELLIDOS Y NOMBRES]]>0,ROW()-14,\"\")","v":""},{"$f":"IFERROR(IF(Tabla3[[#This Row],[APELLIDOS Y NOMBRES]]>0,VLOOKUP($H$7,DATA!$A$79:$B$160,2,FALSE),\"\"),\"\")","v":""},null,null,null,null,null,{"$f":"((NOW()-Tabla3[[#This Row],[FECHA DE NACIMIENTO]])/365)-0.5","v":124.79767625317098},null,null,null,null,null,null,null,null,null,null,null,null,null,null,null,null,null,null,null,null,null,null,null,null,null,null,null,null,null,null,null,null,null,null,null,null,null,"",null,{"$f":"IFERROR(IF(OR(LOWER(Tabla3[[#This Row],[SEXO]])=\"masculino\", LOWER(Tabla3[[#This Row],[SEXO]])=\"m\", LOWER(Tabla3[[#This Row],[SEXO]])=\"1\"), \"MASCULINO\",\n  IF(OR(LOWER(Tabla3[[#This Row],[SEXO]])=\"femenino\", LOWER(Tabla3[[#This Row],[SEXO]])=\"f\", LOWER(Tabla3[[#This Row],[SEXO]])=\"2\"), \"FEMENINO\",\n  \"\")), \"\")","v":""},0,null,null,null,0]
[{"$f":"IF(Tabla3[[#This Row],[APELLIDOS Y NOMBRES]]>0,ROW()-14,\"\")","v":""},{"$f":"IFERROR(IF(Tabla3[[#This Row],[APELLIDOS Y NOMBRES]]>0,VLOOKUP($H$7,DATA!$A$79:$B$160,2,FALSE),\"\"),\"\")","v":""},null,null,null,null,null,{"$f":"((NOW()-Tabla3[[#This Row],[FECHA DE NACIMIENTO]])/365)-0.5","v":124.79767625317098},null,null,null,null,null,null,null,null,null,null,null,null,null,null,null,null,null,null,null,null,null,null,null,null,null,null,null,null,null,null,null,null,null,null,null,null,null,"",null,{"$f":"IFERROR(IF(OR(LOWER(Tabla3[[#This Row],[SEXO]])=\"masculino\", LOWER(Tabla3[[#This Row],[SEXO]])=\"m\", LOWER(Tabla3[[#This Row],[SEXO]])=\"1\"), \"MASCULINO\",\n  IF(OR(LOWER(Tabla3[[#This Row],[SEXO]])=\"femenino\", LOWER(Tabla3[[#This Row],[SEXO]])=\"f\", LOWER(Tabla3[[#This Row],[SEXO]])=\"2\"), \"FEMENINO\",\n  \"\")), \"\")","v":""},0,null,null,null,0]
[{"$f":"IF(Tabla3[[#This Row],[APELLIDOS Y NOMBRES]]>0,ROW()-14,\"\")","v":""},{"$f":"IFERROR(IF(Tabla3[[#This Row],[APELLIDOS Y NOMBRES]]>0,VLOOKUP($H$7,DATA!$A$79:$B$160,2,FALSE),\"\"),\"\")","v":""},null,null,null,null,null,{"$f":"((NOW()-Tabla3[[#This Row],[FECHA DE NACIMIENTO]])/365)-0.5","v":124.79767625317098},null,null,null,null,null,null,null,null,null,null,null,null,null,null,null,null,null,null,null,null,null,null,null,null,null,null,null,null,null,null,null,null,null,null,null,null,null,"",null,{"$f":"IFERROR(IF(OR(LOWER(Tabla3[[#This Row],[SEXO]])=\"masculino\", LOWER(Tabla3[[#This Row],[SEXO]])=\"m\", LOWER(Tabla3[[#This Row],[SEXO]])=\"1\"), \"MASCULINO\",\n  IF(OR(LOWER(Tabla3[[#This Row],[SEXO]])=\"femenino\", LOWER(Tabla3[[#This Row],[SEXO]])=\"f\", LOWER(Tabla3[[#This Row],[SEXO]])=\"2\"), \"FEMENINO\",\n  \"\")), \"\")","v":""},0,null,null,null,0]
[{"$f":"IF(Tabla3[[#This Row],[APELLIDOS Y NOMBRES]]>0,ROW()-14,\"\")","v":""},{"$f":"IFERROR(IF(Tabla3[[#This Row],[APELLIDOS Y NOMBRES]]>0,VLOOKUP($H$7,DATA!$A$79:$B$160,2,FALSE),\"\"),\"\")","v":""},null,null,null,null,null,{"$f":"((NOW()-Tabla3[[#This Row],[FECHA DE NACIMIENTO]])/365)-0.5","v":124.79767625317098},null,null,null,null,null,null,null,null,null,null,null,null,null,null,null,null,null,null,null,null,null,null,null,null,null,null,null,null,null,null,null,null,null,null,null,null,null,"",null,{"$f":"IFERROR(IF(OR(LOWER(Tabla3[[#This Row],[SEXO]])=\"masculino\", LOWER(Tabla3[[#This Row],[SEXO]])=\"m\", LOWER(Tabla3[[#This Row],[SEXO]])=\"1\"), \"MASCULINO\",\n  IF(OR(LOWER(Tabla3[[#This Row],[SEXO]])=\"femenino\", LOWER(Tabla3[[#This Row],[SEXO]])=\"f\", LOWER(Tabla3[[#This Row],[SEXO]])=\"2\"), \"FEMENINO\",\n  \"\")), \"\")","v":""},0,null,null,null,0]
[{"$f":"IF(Tabla3[[#This Row],[APELLIDOS Y NOMBRES]]>0,ROW()-14,\"\")","v":""},{"$f":"IFERROR(IF(Tabla3[[#This Row],[APELLIDOS Y NOMBRES]]>0,VLOOKUP($H$7,DATA!$A$79:$B$160,2,FALSE),\"\"),\"\")","v":""},null,null,null,null,null,{"$f":"((NOW()-Tabla3[[#This Row],[FECHA DE NACIMIENTO]])/365)-0.5","v":124.79767625317098},null,null,null,null,null,null,null,null,null,null,null,null,null,null,null,null,null,null,null,null,null,null,null,null,null,null,null,null,null,null,null,null,null,null,null,null,null,"",null,{"$f":"IFERROR(IF(OR(LOWER(Tabla3[[#This Row],[SEXO]])=\"masculino\", LOWER(Tabla3[[#This Row],[SEXO]])=\"m\", LOWER(Tabla3[[#This Row],[SEXO]])=\"1\"), \"MASCULINO\",\n  IF(OR(LOWER(Tabla3[[#This Row],[SEXO]])=\"femenino\", LOWER(Tabla3[[#This Row],[SEXO]])=\"f\", LOWER(Tabla3[[#This Row],[SEXO]])=\"2\"), \"FEMENINO\",\n  \"\")), \"\")","v":""},0,null,null,null,0]
[{"$f":"IF(Tabla3[[#This Row],[APELLIDOS Y NOMBRES]]>0,ROW()-14,\"\")","v":""},{"$f":"IFERROR(IF(Tabla3[[#This Row],[APELLIDOS Y NOMBRES]]>0,VLOOKUP($H$7,DATA!$A$79:$B$160,2,FALSE),\"\"),\"\")","v":""},null,null,null,null,null,{"$f":"((NOW()-Tabla3[[#This Row],[FECHA DE NACIMIENTO]])/365)-0.5","v":124.79767625317098},null,null,null,null,null,null,null,null,null,null,null,null,null,null,null,null,null,null,null,null,null,null,null,null,null,null,null,null,null,null,null,null,null,null,null,null,null,"",null,{"$f":"IFERROR(IF(OR(LOWER(Tabla3[[#This Row],[SEXO]])=\"masculino\", LOWER(Tabla3[[#This Row],[SEXO]])=\"m\", LOWER(Tabla3[[#This Row],[SEXO]])=\"1\"), \"MASCULINO\",\n  IF(OR(LOWER(Tabla3[[#This Row],[SEXO]])=\"femenino\", LOWER(Tabla3[[#This Row],[SEXO]])=\"f\", LOWER(Tabla3[[#This Row],[SEXO]])=\"2\"), \"FEMENINO\",\n  \"\")), \"\")","v":""},0,null,null,null,0]
[{"$f":"IF(Tabla3[[#This Row],[APELLIDOS Y NOMBRES]]>0,ROW()-14,\"\")","v":""},{"$f":"IFERROR(IF(Tabla3[[#This Row],[APELLIDOS Y NOMBRES]]>0,VLOOKUP($H$7,DATA!$A$79:$B$160,2,FALSE),\"\"),\"\")","v":""},null,null,null,null,null,{"$f":"((NOW()-Tabla3[[#This Row],[FECHA DE NACIMIENTO]])/365)-0.5","v":124.79767625317098},null,null,null,null,null,null,null,null,null,null,null,null,null,null,null,null,null,null,null,null,null,null,null,null,null,null,null,null,null,null,null,null,null,null,null,null,null,"",null,{"$f":"IFERROR(IF(OR(LOWER(Tabla3[[#This Row],[SEXO]])=\"masculino\", LOWER(Tabla3[[#This Row],[SEXO]])=\"m\", LOWER(Tabla3[[#This Row],[SEXO]])=\"1\"), \"MASCULINO\",\n  IF(OR(LOWER(Tabla3[[#This Row],[SEXO]])=\"femenino\", LOWER(Tabla3[[#This Row],[SEXO]])=\"f\", LOWER(Tabla3[[#This Row],[SEXO]])=\"2\"), \"FEMENINO\",\n  \"\")), \"\")","v":""},0,null,null,null,0]
[{"$f":"IF(Tabla3[[#This Row],[APELLIDOS Y NOMBRES]]>0,ROW()-14,\"\")","v":""},{"$f":"IFERROR(IF(Tabla3[[#This Row],[APELLIDOS Y NOMBRES]]>0,VLOOKUP($H$7,DATA!$A$79:$B$160,2,FALSE),\"\"),\"\")","v":""},null,null,null,null,null,{"$f":"((NOW()-Tabla3[[#This Row],[FECHA DE NACIMIENTO]])/365)-0.5","v":124.79767625317098},null,null,null,null,null,null,null,null,null,null,null,null,null,null,null,null,null,null,null,null,null,null,null,null,null,null,null,null,null,null,null,null,null,null,null,null,null,"",null,{"$f":"IFERROR(IF(OR(LOWER(Tabla3[[#This Row],[SEXO]])=\"masculino\", LOWER(Tabla3[[#This Row],[SEXO]])=\"m\", LOWER(Tabla3[[#This Row],[SEXO]])=\"1\"), \"MASCULINO\",\n  IF(OR(LOWER(Tabla3[[#This Row],[SEXO]])=\"femenino\", LOWER(Tabla3[[#This Row],[SEXO]])=\"f\", LOWER(Tabla3[[#This Row],[SEXO]])=\"2\"), \"FEMENINO\",\n  \"\")), \"\")","v":""},0,null,null,null,0]
[{"$f":"IF(Tabla3[[#This Row],[APELLIDOS Y NOMBRES]]>0,ROW()-14,\"\")","v":""},{"$f":"IFERROR(IF(Tabla3[[#This Row],[APELLIDOS Y NOMBRES]]>0,VLOOKUP($H$7,DATA!$A$79:$B$160,2,FALSE),\"\"),\"\")","v":""},null,null,null,null,null,{"$f":"((NOW()-Tabla3[[#This Row],[FECHA DE NACIMIENTO]])/365)-0.5","v":124.79767625317098},null,null,null,null,null,null,null,null,null,null,null,null,null,null,null,null,null,null,null,null,null,null,null,null,null,null,null,null,null,null,null,null,null,null,null,null,null,"",null,{"$f":"IFERROR(IF(OR(LOWER(Tabla3[[#This Row],[SEXO]])=\"masculino\", LOWER(Tabla3[[#This Row],[SEXO]])=\"m\", LOWER(Tabla3[[#This Row],[SEXO]])=\"1\"), \"MASCULINO\",\n  IF(OR(LOWER(Tabla3[[#This Row],[SEXO]])=\"femenino\", LOWER(Tabla3[[#This Row],[SEXO]])=\"f\", LOWER(Tabla3[[#This Row],[SEXO]])=\"2\"), \"FEMENINO\",\n  \"\")), \"\")","v":""},0,null,null,null,0]
[{"$f":"IF(Tabla3[[#This Row],[APELLIDOS Y NOMBRES]]>0,ROW()-14,\"\")","v":""},{"$f":"IFERROR(IF(Tabla3[[#This Row],[APELLIDOS Y NOMBRES]]>0,VLOOKUP($H$7,DATA!$A$79:$B$160,2,FALSE),\"\"),\"\")","v":""},null,null,null,null,null,{"$f":"((NOW()-Tabla3[[#This Row],[FECHA DE NACIMIENTO]])/365)-0.5","v":124.79767625317098},null,null,null,null,null,null,null,null,null,null,null,null,null,null,null,null,null,null,null,null,null,null,null,null,null,null,null,null,null,null,null,null,null,null,null,null,null,"",null,{"$f":"IFERROR(IF(OR(LOWER(Tabla3[[#This Row],[SEXO]])=\"masculino\", LOWER(Tabla3[[#This Row],[SEXO]])=\"m\", LOWER(Tabla3[[#This Row],[SEXO]])=\"1\"), \"MASCULINO\",\n  IF(OR(LOWER(Tabla3[[#This Row],[SEXO]])=\"femenino\", LOWER(Tabla3[[#This Row],[SEXO]])=\"f\", LOWER(Tabla3[[#This Row],[SEXO]])=\"2\"), \"FEMENINO\",\n  \"\")), \"\")","v":""},0,null,null,null,0]
[{"$f":"IF(Tabla3[[#This Row],[APELLIDOS Y NOMBRES]]>0,ROW()-14,\"\")","v":""},{"$f":"IFERROR(IF(Tabla3[[#This Row],[APELLIDOS Y NOMBRES]]>0,VLOOKUP($H$7,DATA!$A$79:$B$160,2,FALSE),\"\"),\"\")","v":""},null,null,null,null,null,{"$f":"((NOW()-Tabla3[[#This Row],[FECHA DE NACIMIENTO]])/365)-0.5","v":124.79767625317098},null,null,null,null,null,null,null,null,null,null,null,null,null,null,null,null,null,null,null,null,null,null,null,null,null,null,null,null,null,null,null,null,null,null,null,null,null,"",null,{"$f":"IFERROR(IF(OR(LOWER(Tabla3[[#This Row],[SEXO]])=\"masculino\", LOWER(Tabla3[[#This Row],[SEXO]])=\"m\", LOWER(Tabla3[[#This Row],[SEXO]])=\"1\"), \"MASCULINO\",\n  IF(OR(LOWER(Tabla3[[#This Row],[SEXO]])=\"femenino\", LOWER(Tabla3[[#This Row],[SEXO]])=\"f\", LOWER(Tabla3[[#This Row],[SEXO]])=\"2\"), \"FEMENINO\",\n  \"\")), \"\")","v":""},0,null,null,null,0]
[{"$f":"IF(Tabla3[[#This Row],[APELLIDOS Y NOMBRES]]>0,ROW()-14,\"\")","v":""},{"$f":"IFERROR(IF(Tabla3[[#This Row],[APELLIDOS Y NOMBRES]]>0,VLOOKUP($H$7,DATA!$A$79:$B$160,2,FALSE),\"\"),\"\")","v":""},null,null,null,null,null,{"$f":"((NOW()-Tabla3[[#This Row],[FECHA DE NACIMIENTO]])/365)-0.5","v":124.79767625317098},null,null,null,null,null,null,null,null,null,null,null,null,null,null,null,null,null,null,null,null,null,null,null,null,null,null,null,null,null,null,null,null,null,null,null,null,null,"",null,{"$f":"IFERROR(IF(OR(LOWER(Tabla3[[#This Row],[SEXO]])=\"masculino\", LOWER(Tabla3[[#This Row],[SEXO]])=\"m\", LOWER(Tabla3[[#This Row],[SEXO]])=\"1\"), \"MASCULINO\",\n  IF(OR(LOWER(Tabla3[[#This Row],[SEXO]])=\"femenino\", LOWER(Tabla3[[#This Row],[SEXO]])=\"f\", LOWER(Tabla3[[#This Row],[SEXO]])=\"2\"), \"FEMENINO\",\n  \"\")), \"\")","v":""},0,null,null,null,0]
[{"$f":"IF(Tabla3[[#This Row],[APELLIDOS Y NOMBRES]]>0,ROW()-14,\"\")","v":""},{"$f":"IFERROR(IF(Tabla3[[#This Row],[APELLIDOS Y NOMBRES]]>0,VLOOKUP($H$7,DATA!$A$79:$B$160,2,FALSE),\"\"),\"\")","v":""},null,null,null,null,null,{"$f":"((NOW()-Tabla3[[#This Row],[FECHA DE NACIMIENTO]])/365)-0.5","v":124.79767625317098},null,null,null,null,null,null,null,null,null,null,null,null,null,null,null,null,null,null,null,null,null,null,null,null,null,null,null,null,null,null,null,null,null,null,null,null,null,"",null,{"$f":"IFERROR(IF(OR(LOWER(Tabla3[[#This Row],[SEXO]])=\"masculino\", LOWER(Tabla3[[#This Row],[SEXO]])=\"m\", LOWER(Tabla3[[#This Row],[SEXO]])=\"1\"), \"MASCULINO\",\n  IF(OR(LOWER(Tabla3[[#This Row],[SEXO]])=\"femenino\", LOWER(Tabla3[[#This Row],[SEXO]])=\"f\", LOWER(Tabla3[[#This Row],[SEXO]])=\"2\"), \"FEMENINO\",\n  \"\")), \"\")","v":""},0,null,null,null,0]
[{"$f":"IF(Tabla3[[#This Row],[APELLIDOS Y NOMBRES]]>0,ROW()-14,\"\")","v":""},{"$f":"IFERROR(IF(Tabla3[[#This Row],[APELLIDOS Y NOMBRES]]>0,VLOOKUP($H$7,DATA!$A$79:$B$160,2,FALSE),\"\"),\"\")","v":""},null,null,null,null,null,{"$f":"((NOW()-Tabla3[[#This Row],[FECHA DE NACIMIENTO]])/365)-0.5","v":124.79767625317098},null,null,null,null,null,null,null,null,null,null,null,null,null,null,null,null,null,null,null,null,null,null,null,null,null,null,null,null,null,null,null,null,null,null,null,null,null,"",null,{"$f":"IFERROR(IF(OR(LOWER(Tabla3[[#This Row],[SEXO]])=\"masculino\", LOWER(Tabla3[[#This Row],[SEXO]])=\"m\", LOWER(Tabla3[[#This Row],[SEXO]])=\"1\"), \"MASCULINO\",\n  IF(OR(LOWER(Tabla3[[#This Row],[SEXO]])=\"femenino\", LOWER(Tabla3[[#This Row],[SEXO]])=\"f\", LOWER(Tabla3[[#This Row],[SEXO]])=\"2\"), \"FEMENINO\",\n  \"\")), \"\")","v":""},0,null,null,null,0]
[{"$f":"IF(Tabla3[[#This Row],[APELLIDOS Y NOMBRES]]>0,ROW()-14,\"\")","v":""},{"$f":"IFERROR(IF(Tabla3[[#This Row],[APELLIDOS Y NOMBRES]]>0,VLOOKUP($H$7,DATA!$A$79:$B$160,2,FALSE),\"\"),\"\")","v":""},null,null,null,null,null,{"$f":"((NOW()-Tabla3[[#This Row],[FECHA DE NACIMIENTO]])/365)-0.5","v":124.79767625317098},null,null,null,null,null,null,null,null,null,null,null,null,null,null,null,null,null,null,null,null,null,null,null,null,null,null,null,null,null,null,null,null,null,null,null,null,null,"",null,{"$f":"IFERROR(IF(OR(LOWER(Tabla3[[#This Row],[SEXO]])=\"masculino\", LOWER(Tabla3[[#This Row],[SEXO]])=\"m\", LOWER(Tabla3[[#This Row],[SEXO]])=\"1\"), \"MASCULINO\",\n  IF(OR(LOWER(Tabla3[[#This Row],[SEXO]])=\"femenino\", LOWER(Tabla3[[#This Row],[SEXO]])=\"f\", LOWER(Tabla3[[#This Row],[SEXO]])=\"2\"), \"FEMENINO\",\n  \"\")), \"\")","v":""},0,null,null,null,0]
[{"$f":"IF(Tabla3[[#This Row],[APELLIDOS Y NOMBRES]]>0,ROW()-14,\"\")","v":""},{"$f":"IFERROR(IF(Tabla3[[#This Row],[APELLIDOS Y NOMBRES]]>0,VLOOKUP($H$7,DATA!$A$79:$B$160,2,FALSE),\"\"),\"\")","v":""},null,null,null,null,null,{"$f":"((NOW()-Tabla3[[#This Row],[FECHA DE NACIMIENTO]])/365)-0.5","v":124.79767625317098},null,null,null,null,null,null,null,null,null,null,null,null,null,null,null,null,null,null,null,null,null,null,null,null,null,null,null,null,null,null,null,null,null,null,null,null,null,"",null,{"$f":"IFERROR(IF(OR(LOWER(Tabla3[[#This Row],[SEXO]])=\"masculino\", LOWER(Tabla3[[#This Row],[SEXO]])=\"m\", LOWER(Tabla3[[#This Row],[SEXO]])=\"1\"), \"MASCULINO\",\n  IF(OR(LOWER(Tabla3[[#This Row],[SEXO]])=\"femenino\", LOWER(Tabla3[[#This Row],[SEXO]])=\"f\", LOWER(Tabla3[[#This Row],[SEXO]])=\"2\"), \"FEMENINO\",\n  \"\")), \"\")","v":""},0,null,null,null,0]
[{"$f":"IF(Tabla3[[#This Row],[APELLIDOS Y NOMBRES]]>0,ROW()-14,\"\")","v":""},{"$f":"IFERROR(IF(Tabla3[[#This Row],[APELLIDOS Y NOMBRES]]>0,VLOOKUP($H$7,DATA!$A$79:$B$160,2,FALSE),\"\"),\"\")","v":""},null,null,null,null,null,{"$f":"((NOW()-Tabla3[[#This Row],[FECHA DE NACIMIENTO]])/365)-0.5","v":124.79767625317098},null,null,null,null,null,null,null,null,null,null,null,null,null,null,null,null,null,null,null,null,null,null,null,null,null,null,null,null,null,null,null,null,null,null,null,null,null,"",null,{"$f":"IFERROR(IF(OR(LOWER(Tabla3[[#This Row],[SEXO]])=\"masculino\", LOWER(Tabla3[[#This Row],[SEXO]])=\"m\", LOWER(Tabla3[[#This Row],[SEXO]])=\"1\"), \"MASCULINO\",\n  IF(OR(LOWER(Tabla3[[#This Row],[SEXO]])=\"femenino\", LOWER(Tabla3[[#This Row],[SEXO]])=\"f\", LOWER(Tabla3[[#This Row],[SEXO]])=\"2\"), \"FEMENINO\",\n  \"\")), \"\")","v":""},0,null,null,null,0]
[{"$f":"IF(Tabla3[[#This Row],[APELLIDOS Y NOMBRES]]>0,ROW()-14,\"\")","v":""},{"$f":"IFERROR(IF(Tabla3[[#This Row],[APELLIDOS Y NOMBRES]]>0,VLOOKUP($H$7,DATA!$A$79:$B$160,2,FALSE),\"\"),\"\")","v":""},null,null,null,null,null,{"$f":"((NOW()-Tabla3[[#This Row],[FECHA DE NACIMIENTO]])/365)-0.5","v":124.79767625317098},null,null,null,null,null,null,null,null,null,null,null,null,null,null,null,null,null,null,null,null,null,null,null,null,null,null,null,null,null,null,null,null,null,null,null,null,null,"",null,{"$f":"IFERROR(IF(OR(LOWER(Tabla3[[#This Row],[SEXO]])=\"masculino\", LOWER(Tabla3[[#This Row],[SEXO]])=\"m\", LOWER(Tabla3[[#This Row],[SEXO]])=\"1\"), \"MASCULINO\",\n  IF(OR(LOWER(Tabla3[[#This Row],[SEXO]])=\"femenino\", LOWER(Tabla3[[#This Row],[SEXO]])=\"f\", LOWER(Tabla3[[#This Row],[SEXO]])=\"2\"), \"FEMENINO\",\n  \"\")), \"\")","v":""},0,null,null,null,0]
[{"$f":"IF(Tabla3[[#This Row],[APELLIDOS Y NOMBRES]]>0,ROW()-14,\"\")","v":""},{"$f":"IFERROR(IF(Tabla3[[#This Row],[APELLIDOS Y NOMBRES]]>0,VLOOKUP($H$7,DATA!$A$79:$B$160,2,FALSE),\"\"),\"\")","v":""},null,null,null,null,null,{"$f":"((NOW()-Tabla3[[#This Row],[FECHA DE NACIMIENTO]])/365)-0.5","v":124.79767625317098},null,null,null,null,null,null,null,null,null,null,null,null,null,null,null,null,null,null,null,null,null,null,null,null,null,null,null,null,null,null,null,null,null,null,null,null,null,"",null,{"$f":"IFERROR(IF(OR(LOWER(Tabla3[[#This Row],[SEXO]])=\"masculino\", LOWER(Tabla3[[#This Row],[SEXO]])=\"m\", LOWER(Tabla3[[#This Row],[SEXO]])=\"1\"), \"MASCULINO\",\n  IF(OR(LOWER(Tabla3[[#This Row],[SEXO]])=\"femenino\", LOWER(Tabla3[[#This Row],[SEXO]])=\"f\", LOWER(Tabla3[[#This Row],[SEXO]])=\"2\"), \"FEMENINO\",\n  \"\")), \"\")","v":""},0,null,null,null,0]
[{"$f":"IF(Tabla3[[#This Row],[APELLIDOS Y NOMBRES]]>0,ROW()-14,\"\")","v":""},{"$f":"IFERROR(IF(Tabla3[[#This Row],[APELLIDOS Y NOMBRES]]>0,VLOOKUP($H$7,DATA!$A$79:$B$160,2,FALSE),\"\"),\"\")","v":""},null,null,null,null,null,{"$f":"((NOW()-Tabla3[[#This Row],[FECHA DE NACIMIENTO]])/365)-0.5","v":124.79767625317098},null,null,null,null,null,null,null,null,null,null,null,null,null,null,null,null,null,null,null,null,null,null,null,null,null,null,null,null,null,null,null,null,null,null,null,null,null,"",null,{"$f":"IFERROR(IF(OR(LOWER(Tabla3[[#This Row],[SEXO]])=\"masculino\", LOWER(Tabla3[[#This Row],[SEXO]])=\"m\", LOWER(Tabla3[[#This Row],[SEXO]])=\"1\"), \"MASCULINO\",\n  IF(OR(LOWER(Tabla3[[#This Row],[SEXO]])=\"femenino\", LOWER(Tabla3[[#This Row],[SEXO]])=\"f\", LOWER(Tabla3[[#This Row],[SEXO]])=\"2\"), \"FEMENINO\",\n  \"\")), \"\")","v":""},0,null,null,null,0]
[{"$f":"IF(Tabla3[[#This Row],[APELLIDOS Y NOMBRES]]>0,ROW()-14,\"\")","v":""},{"$f":"IFERROR(IF(Tabla3[[#This Row],[APELLIDOS Y NOMBRES]]>0,VLOOKUP($H$7,DATA!$A$79:$B$160,2,FALSE),\"\"),\"\")","v":""},null,null,null,null,null,{"$f":"((NOW()-Tabla3[[#This Row],[FECHA DE NACIMIENTO]])/365)-0.5","v":124.79767625317098},null,null,null,null,null,null,null,null,null,null,null,null,null,null,null,null,null,null,null,null,null,null,null,null,null,null,null,null,null,null,null,null,null,null,null,null,null,"",null,{"$f":"IFERROR(IF(OR(LOWER(Tabla3[[#This Row],[SEXO]])=\"masculino\", LOWER(Tabla3[[#This Row],[SEXO]])=\"m\", LOWER(Tabla3[[#This Row],[SEXO]])=\"1\"), \"MASCULINO\",\n  IF(OR(LOWER(Tabla3[[#This Row],[SEXO]])=\"femenino\", LOWER(Tabla3[[#This Row],[SEXO]])=\"f\", LOWER(Tabla3[[#This Row],[SEXO]])=\"2\"), \"FEMENINO\",\n  \"\")), \"\")","v":""},0,null,null,null,0]
[{"$f":"IF(Tabla3[[#This Row],[APELLIDOS Y NOMBRES]]>0,ROW()-14,\"\")","v":""},{"$f":"IFERROR(IF(Tabla3[[#This Row],[APELLIDOS Y NOMBRES]]>0,VLOOKUP($H$7,DATA!$A$79:$B$160,2,FALSE),\"\"),\"\")","v":""},null,null,null,null,null,{"$f":"((NOW()-Tabla3[[#This Row],[FECHA DE NACIMIENTO]])/365)-0.5","v":124.79767625317098},null,null,null,null,null,null,null,null,null,null,null,null,null,null,null,null,null,null,null,null,null,null,null,null,null,null,null,null,null,null,null,null,null,null,null,null,null,"",null,{"$f":"IFERROR(IF(OR(LOWER(Tabla3[[#This Row],[SEXO]])=\"masculino\", LOWER(Tabla3[[#This Row],[SEXO]])=\"m\", LOWER(Tabla3[[#This Row],[SEXO]])=\"1\"), \"MASCULINO\",\n  IF(OR(LOWER(Tabla3[[#This Row],[SEXO]])=\"femenino\", LOWER(Tabla3[[#This Row],[SEXO]])=\"f\", LOWER(Tabla3[[#This Row],[SEXO]])=\"2\"), \"FEMENINO\",\n  \"\")), \"\")","v":""},0,null,null,null,0]
[{"$f":"IF(Tabla3[[#This Row],[APELLIDOS Y NOMBRES]]>0,ROW()-14,\"\")","v":""},{"$f":"IFERROR(IF(Tabla3[[#This Row],[APELLIDOS Y NOMBRES]]>0,VLOOKUP($H$7,DATA!$A$79:$B$160,2,FALSE),\"\"),\"\")","v":""},null,null,null,null,null,{"$f":"((NOW()-Tabla3[[#This Row],[FECHA DE NACIMIENTO]])/365)-0.5","v":124.79767625317098},null,null,null,null,null,null,null,null,null,null,null,null,null,null,null,null,null,null,null,null,null,null,null,null,null,null,null,null,null,null,null,null,null,null,null,null,null,"",null,{"$f":"IFERROR(IF(OR(LOWER(Tabla3[[#This Row],[SEXO]])=\"masculino\", LOWER(Tabla3[[#This Row],[SEXO]])=\"m\", LOWER(Tabla3[[#This Row],[SEXO]])=\"1\"), \"MASCULINO\",\n  IF(OR(LOWER(Tabla3[[#This Row],[SEXO]])=\"femenino\", LOWER(Tabla3[[#This Row],[SEXO]])=\"f\", LOWER(Tabla3[[#This Row],[SEXO]])=\"2\"), \"FEMENINO\",\n  \"\")), \"\")","v":""},0,null,null,null,0]
[{"$f":"IF(Tabla3[[#This Row],[APELLIDOS Y NOMBRES]]>0,ROW()-14,\"\")","v":""},{"$f":"IFERROR(IF(Tabla3[[#This Row],[APELLIDOS Y NOMBRES]]>0,VLOOKUP($H$7,DATA!$A$79:$B$160,2,FALSE),\"\"),\"\")","v":""},null,null,null,null,null,{"$f":"((NOW()-Tabla3[[#This Row],[FECHA DE NACIMIENTO]])/365)-0.5","v":124.79767625317098},null,null,null,null,null,null,null,null,null,null,null,null,null,null,null,null,null,null,null,null,null,null,null,null,null,null,null,null,null,null,null,null,null,null,null,null,null,"",null,{"$f":"IFERROR(IF(OR(LOWER(Tabla3[[#This Row],[SEXO]])=\"masculino\", LOWER(Tabla3[[#This Row],[SEXO]])=\"m\", LOWER(Tabla3[[#This Row],[SEXO]])=\"1\"), \"MASCULINO\",\n  IF(OR(LOWER(Tabla3[[#This Row],[SEXO]])=\"femenino\", LOWER(Tabla3[[#This Row],[SEXO]])=\"f\", LOWER(Tabla3[[#This Row],[SEXO]])=\"2\"), \"FEMENINO\",\n  \"\")), \"\")","v":""},0,null,null,null,0]
[{"$f":"IF(Tabla3[[#This Row],[APELLIDOS Y NOMBRES]]>0,ROW()-14,\"\")","v":""},{"$f":"IFERROR(IF(Tabla3[[#This Row],[APELLIDOS Y NOMBRES]]>0,VLOOKUP($H$7,DATA!$A$79:$B$160,2,FALSE),\"\"),\"\")","v":""},null,null,null,null,null,{"$f":"((NOW()-Tabla3[[#This Row],[FECHA DE NACIMIENTO]])/365)-0.5","v":124.79767625317098},null,null,null,null,null,null,null,null,null,null,null,null,null,null,null,null,null,null,null,null,null,null,null,null,null,null,null,null,null,null,null,null,null,null,null,null,null,"",null,{"$f":"IFERROR(IF(OR(LOWER(Tabla3[[#This Row],[SEXO]])=\"masculino\", LOWER(Tabla3[[#This Row],[SEXO]])=\"m\", LOWER(Tabla3[[#This Row],[SEXO]])=\"1\"), \"MASCULINO\",\n  IF(OR(LOWER(Tabla3[[#This Row],[SEXO]])=\"femenino\", LOWER(Tabla3[[#This Row],[SEXO]])=\"f\", LOWER(Tabla3[[#This Row],[SEXO]])=\"2\"), \"FEMENINO\",\n  \"\")), \"\")","v":""},0,null,null,null,0]
[{"$f":"IF(Tabla3[[#This Row],[APELLIDOS Y NOMBRES]]>0,ROW()-14,\"\")","v":""},{"$f":"IFERROR(IF(Tabla3[[#This Row],[APELLIDOS Y NOMBRES]]>0,VLOOKUP($H$7,DATA!$A$79:$B$160,2,FALSE),\"\"),\"\")","v":""},null,null,null,null,null,{"$f":"((NOW()-Tabla3[[#This Row],[FECHA DE NACIMIENTO]])/365)-0.5","v":124.79767625317098},null,null,null,null,null,null,null,null,null,null,null,null,null,null,null,null,null,null,null,null,null,null,null,null,null,null,null,null,null,null,null,null,null,null,null,null,null,"",null,{"$f":"IFERROR(IF(OR(LOWER(Tabla3[[#This Row],[SEXO]])=\"masculino\", LOWER(Tabla3[[#This Row],[SEXO]])=\"m\", LOWER(Tabla3[[#This Row],[SEXO]])=\"1\"), \"MASCULINO\",\n  IF(OR(LOWER(Tabla3[[#This Row],[SEXO]])=\"femenino\", LOWER(Tabla3[[#This Row],[SEXO]])=\"f\", LOWER(Tabla3[[#This Row],[SEXO]])=\"2\"), \"FEMENINO\",\n  \"\")), \"\")","v":""},0,null,null,null,0]
[{"$f":"IF(Tabla3[[#This Row],[APELLIDOS Y NOMBRES]]>0,ROW()-14,\"\")","v":""},{"$f":"IFERROR(IF(Tabla3[[#This Row],[APELLIDOS Y NOMBRES]]>0,VLOOKUP($H$7,DATA!$A$79:$B$160,2,FALSE),\"\"),\"\")","v":""},null,null,null,null,null,{"$f":"((NOW()-Tabla3[[#This Row],[FECHA DE NACIMIENTO]])/365)-0.5","v":124.79767625317098},null,null,null,null,null,null,null,null,null,null,null,null,null,null,null,null,null,null,null,null,null,null,null,null,null,null,null,null,null,null,null,null,null,null,null,null,null,"",null,{"$f":"IFERROR(IF(OR(LOWER(Tabla3[[#This Row],[SEXO]])=\"masculino\", LOWER(Tabla3[[#This Row],[SEXO]])=\"m\", LOWER(Tabla3[[#This Row],[SEXO]])=\"1\"), \"MASCULINO\",\n  IF(OR(LOWER(Tabla3[[#This Row],[SEXO]])=\"femenino\", LOWER(Tabla3[[#This Row],[SEXO]])=\"f\", LOWER(Tabla3[[#This Row],[SEXO]])=\"2\"), \"FEMENINO\",\n  \"\")), \"\")","v":""},0,null,null,null,0]
[{"$f":"IF(Tabla3[[#This Row],[APELLIDOS Y NOMBRES]]>0,ROW()-14,\"\")","v":""},{"$f":"IFERROR(IF(Tabla3[[#This Row],[APELLIDOS Y NOMBRES]]>0,VLOOKUP($H$7,DATA!$A$79:$B$160,2,FALSE),\"\"),\"\")","v":""},null,null,null,null,null,{"$f":"((NOW()-Tabla3[[#This Row],[FECHA DE NACIMIENTO]])/365)-0.5","v":124.79767625317098},null,null,null,null,null,null,null,null,null,null,null,null,null,null,null,null,null,null,null,null,null,null,null,null,null,null,null,null,null,null,null,null,null,null,null,null,null,"",null,{"$f":"IFERROR(IF(OR(LOWER(Tabla3[[#This Row],[SEXO]])=\"masculino\", LOWER(Tabla3[[#This Row],[SEXO]])=\"m\", LOWER(Tabla3[[#This Row],[SEXO]])=\"1\"), \"MASCULINO\",\n  IF(OR(LOWER(Tabla3[[#This Row],[SEXO]])=\"femenino\", LOWER(Tabla3[[#This Row],[SEXO]])=\"f\", LOWER(Tabla3[[#This Row],[SEXO]])=\"2\"), \"FEMENINO\",\n  \"\")), \"\")","v":""},0,null,null,null,0]
[{"$f":"IF(Tabla3[[#This Row],[APELLIDOS Y NOMBRES]]>0,ROW()-14,\"\")","v":""},{"$f":"IFERROR(IF(Tabla3[[#This Row],[APELLIDOS Y NOMBRES]]>0,VLOOKUP($H$7,DATA!$A$79:$B$160,2,FALSE),\"\"),\"\")","v":""},null,null,null,null,null,{"$f":"((NOW()-Tabla3[[#This Row],[FECHA DE NACIMIENTO]])/365)-0.5","v":124.79767625317098},null,null,null,null,null,null,null,null,null,null,null,null,null,null,null,null,null,null,null,null,null,null,null,null,null,null,null,null,null,null,null,null,null,null,null,null,null,"",null,{"$f":"IFERROR(IF(OR(LOWER(Tabla3[[#This Row],[SEXO]])=\"masculino\", LOWER(Tabla3[[#This Row],[SEXO]])=\"m\", LOWER(Tabla3[[#This Row],[SEXO]])=\"1\"), \"MASCULINO\",\n  IF(OR(LOWER(Tabla3[[#This Row],[SEXO]])=\"femenino\", LOWER(Tabla3[[#This Row],[SEXO]])=\"f\", LOWER(Tabla3[[#This Row],[SEXO]])=\"2\"), \"FEMENINO\",\n  \"\")), \"\")","v":""},0,null,null,null,0]
[{"$f":"IF(Tabla3[[#This Row],[APELLIDOS Y NOMBRES]]>0,ROW()-14,\"\")","v":""},{"$f":"IFERROR(IF(Tabla3[[#This Row],[APELLIDOS Y NOMBRES]]>0,VLOOKUP($H$7,DATA!$A$79:$B$160,2,FALSE),\"\"),\"\")","v":""},null,null,null,null,null,{"$f":"((NOW()-Tabla3[[#This Row],[FECHA DE NACIMIENTO]])/365)-0.5","v":124.79767625317098},null,null,null,null,null,null,null,null,null,null,null,null,null,null,null,null,null,null,null,null,null,null,null,null,null,null,null,null,null,null,null,null,null,null,null,null,null,"",null,{"$f":"IFERROR(IF(OR(LOWER(Tabla3[[#This Row],[SEXO]])=\"masculino\", LOWER(Tabla3[[#This Row],[SEXO]])=\"m\", LOWER(Tabla3[[#This Row],[SEXO]])=\"1\"), \"MASCULINO\",\n  IF(OR(LOWER(Tabla3[[#This Row],[SEXO]])=\"femenino\", LOWER(Tabla3[[#This Row],[SEXO]])=\"f\", LOWER(Tabla3[[#This Row],[SEXO]])=\"2\"), \"FEMENINO\",\n  \"\")), \"\")","v":""},0,null,null,null,0]
[{"$f":"IF(Tabla3[[#This Row],[APELLIDOS Y NOMBRES]]>0,ROW()-14,\"\")","v":""},{"$f":"IFERROR(IF(Tabla3[[#This Row],[APELLIDOS Y NOMBRES]]>0,VLOOKUP($H$7,DATA!$A$79:$B$160,2,FALSE),\"\"),\"\")","v":""},null,null,null,null,null,{"$f":"((NOW()-Tabla3[[#This Row],[FECHA DE NACIMIENTO]])/365)-0.5","v":124.79767625317098},null,null,null,null,null,null,null,null,null,null,null,null,null,null,null,null,null,null,null,null,null,null,null,null,null,null,null,null,null,null,null,null,null,null,null,null,null,"",null,{"$f":"IFERROR(IF(OR(LOWER(Tabla3[[#This Row],[SEXO]])=\"masculino\", LOWER(Tabla3[[#This Row],[SEXO]])=\"m\", LOWER(Tabla3[[#This Row],[SEXO]])=\"1\"), \"MASCULINO\",\n  IF(OR(LOWER(Tabla3[[#This Row],[SEXO]])=\"femenino\", LOWER(Tabla3[[#This Row],[SEXO]])=\"f\", LOWER(Tabla3[[#This Row],[SEXO]])=\"2\"), \"FEMENINO\",\n  \"\")), \"\")","v":""},0,null,null,null,0]
[{"$f":"IF(Tabla3[[#This Row],[APELLIDOS Y NOMBRES]]>0,ROW()-14,\"\")","v":""},{"$f":"IFERROR(IF(Tabla3[[#This Row],[APELLIDOS Y NOMBRES]]>0,VLOOKUP($H$7,DATA!$A$79:$B$160,2,FALSE),\"\"),\"\")","v":""},null,null,null,null,null,{"$f":"((NOW()-Tabla3[[#This Row],[FECHA DE NACIMIENTO]])/365)-0.5","v":124.79767625317098},null,null,null,null,null,null,null,null,null,null,null,null,null,null,null,null,null,null,null,null,null,null,null,null,null,null,null,null,null,null,null,null,null,null,null,null,null,"",null,{"$f":"IFERROR(IF(OR(LOWER(Tabla3[[#This Row],[SEXO]])=\"masculino\", LOWER(Tabla3[[#This Row],[SEXO]])=\"m\", LOWER(Tabla3[[#This Row],[SEXO]])=\"1\"), \"MASCULINO\",\n  IF(OR(LOWER(Tabla3[[#This Row],[SEXO]])=\"femenino\", LOWER(Tabla3[[#This Row],[SEXO]])=\"f\", LOWER(Tabla3[[#This Row],[SEXO]])=\"2\"), \"FEMENINO\",\n  \"\")), \"\")","v":""},0,null,null,null,0]
[{"$f":"IF(Tabla3[[#This Row],[APELLIDOS Y NOMBRES]]>0,ROW()-14,\"\")","v":""},{"$f":"IFERROR(IF(Tabla3[[#This Row],[APELLIDOS Y NOMBRES]]>0,VLOOKUP($H$7,DATA!$A$79:$B$160,2,FALSE),\"\"),\"\")","v":""},null,null,null,null,null,{"$f":"((NOW()-Tabla3[[#This Row],[FECHA DE NACIMIENTO]])/365)-0.5","v":124.79767625317098},null,null,null,null,null,null,null,null,null,null,null,null,null,null,null,null,null,null,null,null,null,null,null,null,null,null,null,null,null,null,null,null,null,null,null,null,null,"",null,{"$f":"IFERROR(IF(OR(LOWER(Tabla3[[#This Row],[SEXO]])=\"masculino\", LOWER(Tabla3[[#This Row],[SEXO]])=\"m\", LOWER(Tabla3[[#This Row],[SEXO]])=\"1\"), \"MASCULINO\",\n  IF(OR(LOWER(Tabla3[[#This Row],[SEXO]])=\"femenino\", LOWER(Tabla3[[#This Row],[SEXO]])=\"f\", LOWER(Tabla3[[#This Row],[SEXO]])=\"2\"), \"FEMENINO\",\n  \"\")), \"\")","v":""},0,null,null,null,0]
[{"$f":"IF(Tabla3[[#This Row],[APELLIDOS Y NOMBRES]]>0,ROW()-14,\"\")","v":""},{"$f":"IFERROR(IF(Tabla3[[#This Row],[APELLIDOS Y NOMBRES]]>0,VLOOKUP($H$7,DATA!$A$79:$B$160,2,FALSE),\"\"),\"\")","v":""},null,null,null,null,null,{"$f":"((NOW()-Tabla3[[#This Row],[FECHA DE NACIMIENTO]])/365)-0.5","v":124.79767625317098},null,null,null,null,null,null,null,null,null,null,null,null,null,null,null,null,null,null,null,null,null,null,null,null,null,null,null,null,null,null,null,null,null,null,null,null,null,"",null,{"$f":"IFERROR(IF(OR(LOWER(Tabla3[[#This Row],[SEXO]])=\"masculino\", LOWER(Tabla3[[#This Row],[SEXO]])=\"m\", LOWER(Tabla3[[#This Row],[SEXO]])=\"1\"), \"MASCULINO\",\n  IF(OR(LOWER(Tabla3[[#This Row],[SEXO]])=\"femenino\", LOWER(Tabla3[[#This Row],[SEXO]])=\"f\", LOWER(Tabla3[[#This Row],[SEXO]])=\"2\"), \"FEMENINO\",\n  \"\")), \"\")","v":""},0,null,null,null,0]
[{"$f":"IF(Tabla3[[#This Row],[APELLIDOS Y NOMBRES]]>0,ROW()-14,\"\")","v":""},{"$f":"IFERROR(IF(Tabla3[[#This Row],[APELLIDOS Y NOMBRES]]>0,VLOOKUP($H$7,DATA!$A$79:$B$160,2,FALSE),\"\"),\"\")","v":""},null,null,null,null,null,{"$f":"((NOW()-Tabla3[[#This Row],[FECHA DE NACIMIENTO]])/365)-0.5","v":124.79767625317098},null,null,null,null,null,null,null,null,null,null,null,null,null,null,null,null,null,null,null,null,null,null,null,null,null,null,null,null,null,null,null,null,null,null,null,null,null,"",null,{"$f":"IFERROR(IF(OR(LOWER(Tabla3[[#This Row],[SEXO]])=\"masculino\", LOWER(Tabla3[[#This Row],[SEXO]])=\"m\", LOWER(Tabla3[[#This Row],[SEXO]])=\"1\"), \"MASCULINO\",\n  IF(OR(LOWER(Tabla3[[#This Row],[SEXO]])=\"femenino\", LOWER(Tabla3[[#This Row],[SEXO]])=\"f\", LOWER(Tabla3[[#This Row],[SEXO]])=\"2\"), \"FEMENINO\",\n  \"\")), \"\")","v":""},0,null,null,null,0]
[{"$f":"IF(Tabla3[[#This Row],[APELLIDOS Y NOMBRES]]>0,ROW()-14,\"\")","v":""},{"$f":"IFERROR(IF(Tabla3[[#This Row],[APELLIDOS Y NOMBRES]]>0,VLOOKUP($H$7,DATA!$A$79:$B$160,2,FALSE),\"\"),\"\")","v":""},null,null,null,null,null,{"$f":"((NOW()-Tabla3[[#This Row],[FECHA DE NACIMIENTO]])/365)-0.5","v":124.79767625317098},null,null,null,null,null,null,null,null,null,null,null,null,null,null,null,null,null,null,null,null,null,null,null,null,null,null,null,null,null,null,null,null,null,null,null,null,null,"",null,{"$f":"IFERROR(IF(OR(LOWER(Tabla3[[#This Row],[SEXO]])=\"masculino\", LOWER(Tabla3[[#This Row],[SEXO]])=\"m\", LOWER(Tabla3[[#This Row],[SEXO]])=\"1\"), \"MASCULINO\",\n  IF(OR(LOWER(Tabla3[[#This Row],[SEXO]])=\"femenino\", LOWER(Tabla3[[#This Row],[SEXO]])=\"f\", LOWER(Tabla3[[#This Row],[SEXO]])=\"2\"), \"FEMENINO\",\n  \"\")), \"\")","v":""},0,null,null,null,0]
[{"$f":"IF(Tabla3[[#This Row],[APELLIDOS Y NOMBRES]]>0,ROW()-14,\"\")","v":""},{"$f":"IFERROR(IF(Tabla3[[#This Row],[APELLIDOS Y NOMBRES]]>0,VLOOKUP($H$7,DATA!$A$79:$B$160,2,FALSE),\"\"),\"\")","v":""},null,null,null,null,null,{"$f":"((NOW()-Tabla3[[#This Row],[FECHA DE NACIMIENTO]])/365)-0.5","v":124.79767625317098},null,null,null,null,null,null,null,null,null,null,null,null,null,null,null,null,null,null,null,null,null,null,null,null,null,null,null,null,null,null,null,null,null,null,null,null,null,"",null,{"$f":"IFERROR(IF(OR(LOWER(Tabla3[[#This Row],[SEXO]])=\"masculino\", LOWER(Tabla3[[#This Row],[SEXO]])=\"m\", LOWER(Tabla3[[#This Row],[SEXO]])=\"1\"), \"MASCULINO\",\n  IF(OR(LOWER(Tabla3[[#This Row],[SEXO]])=\"femenino\", LOWER(Tabla3[[#This Row],[SEXO]])=\"f\", LOWER(Tabla3[[#This Row],[SEXO]])=\"2\"), \"FEMENINO\",\n  \"\")), \"\")","v":""},0,null,null,null,0]
[{"$f":"IF(Tabla3[[#This Row],[APELLIDOS Y NOMBRES]]>0,ROW()-14,\"\")","v":""},{"$f":"IFERROR(IF(Tabla3[[#This Row],[APELLIDOS Y NOMBRES]]>0,VLOOKUP($H$7,DATA!$A$79:$B$160,2,FALSE),\"\"),\"\")","v":""},null,null,null,null,null,{"$f":"((NOW()-Tabla3[[#This Row],[FECHA DE NACIMIENTO]])/365)-0.5","v":124.79767625317098},null,null,null,null,null,null,null,null,null,null,null,null,null,null,null,null,null,null,null,null,null,null,null,null,null,null,null,null,null,null,null,null,null,null,null,null,null,"",null,{"$f":"IFERROR(IF(OR(LOWER(Tabla3[[#This Row],[SEXO]])=\"masculino\", LOWER(Tabla3[[#This Row],[SEXO]])=\"m\", LOWER(Tabla3[[#This Row],[SEXO]])=\"1\"), \"MASCULINO\",\n  IF(OR(LOWER(Tabla3[[#This Row],[SEXO]])=\"femenino\", LOWER(Tabla3[[#This Row],[SEXO]])=\"f\", LOWER(Tabla3[[#This Row],[SEXO]])=\"2\"), \"FEMENINO\",\n  \"\")), \"\")","v":""},0,null,null,null,0]
[{"$f":"IF(Tabla3[[#This Row],[APELLIDOS Y NOMBRES]]>0,ROW()-14,\"\")","v":""},{"$f":"IFERROR(IF(Tabla3[[#This Row],[APELLIDOS Y NOMBRES]]>0,VLOOKUP($H$7,DATA!$A$79:$B$160,2,FALSE),\"\"),\"\")","v":""},null,null,null,null,null,{"$f":"((NOW()-Tabla3[[#This Row],[FECHA DE NACIMIENTO]])/365)-0.5","v":124.79767625317098},null,null,null,null,null,null,null,null,null,null,null,null,null,null,null,null,null,null,null,null,null,null,null,null,null,null,null,null,null,null,null,null,null,null,null,null,null,{"$f":"IF(OR($C$5=\"\", $D16976=\"\"), \"\", $C$5)","v":""},null,{"$f":"IFERROR(IF(OR(LOWER(Tabla3[[#This Row],[SEXO]])=\"masculino\", LOWER(Tabla3[[#This Row],[SEXO]])=\"m\", LOWER(Tabla3[[#This Row],[SEXO]])=\"1\"), \"MASCULINO\",\n  IF(OR(LOWER(Tabla3[[#This Row],[SEXO]])=\"femenino\", LOWER(Tabla3[[#This Row],[SEXO]])=\"f\", LOWER(Tabla3[[#This Row],[SEXO]])=\"2\"), \"FEMENINO\",\n  \"\")), \"\")","v":""},{"$f":"COUNTIF(P16976:AH16976,104)","v":0},null,null,null,{"$f":"IF(COUNTIF(P16976:AI16976,104)>0,1,0)","v":0}]
[{"$f":"IF(Tabla3[[#This Row],[APELLIDOS Y NOMBRES]]>0,ROW()-14,\"\")","v":""},{"$f":"IFERROR(IF(Tabla3[[#This Row],[APELLIDOS Y NOMBRES]]>0,VLOOKUP($H$7,DATA!$A$79:$B$160,2,FALSE),\"\"),\"\")","v":""},null,null,null,null,null,{"$f":"((NOW()-Tabla3[[#This Row],[FECHA DE NACIMIENTO]])/365)-0.5","v":124.79767625317098},null,null,null,null,null,null,null,null,null,null,null,null,null,null,null,null,null,null,null,null,null,null,null,null,null,null,null,null,null,null,null,null,null,null,null,null,null,"",null,{"$f":"IFERROR(IF(OR(LOWER(Tabla3[[#This Row],[SEXO]])=\"masculino\", LOWER(Tabla3[[#This Row],[SEXO]])=\"m\", LOWER(Tabla3[[#This Row],[SEXO]])=\"1\"), \"MASCULINO\",\n  IF(OR(LOWER(Tabla3[[#This Row],[SEXO]])=\"femenino\", LOWER(Tabla3[[#This Row],[SEXO]])=\"f\", LOWER(Tabla3[[#This Row],[SEXO]])=\"2\"), \"FEMENINO\",\n  \"\")), \"\")","v":""},0,null,null,null,0]
[{"$f":"IF(Tabla3[[#This Row],[APELLIDOS Y NOMBRES]]>0,ROW()-14,\"\")","v":""},{"$f":"IFERROR(IF(Tabla3[[#This Row],[APELLIDOS Y NOMBRES]]>0,VLOOKUP($H$7,DATA!$A$79:$B$160,2,FALSE),\"\"),\"\")","v":""},null,null,null,null,null,{"$f":"((NOW()-Tabla3[[#This Row],[FECHA DE NACIMIENTO]])/365)-0.5","v":124.79767625317098},null,null,null,null,null,null,null,null,null,null,null,null,null,null,null,null,null,null,null,null,null,null,null,null,null,null,null,null,null,null,null,null,null,null,null,null,null,"",null,{"$f":"IFERROR(IF(OR(LOWER(Tabla3[[#This Row],[SEXO]])=\"masculino\", LOWER(Tabla3[[#This Row],[SEXO]])=\"m\", LOWER(Tabla3[[#This Row],[SEXO]])=\"1\"), \"MASCULINO\",\n  IF(OR(LOWER(Tabla3[[#This Row],[SEXO]])=\"femenino\", LOWER(Tabla3[[#This Row],[SEXO]])=\"f\", LOWER(Tabla3[[#This Row],[SEXO]])=\"2\"), \"FEMENINO\",\n  \"\")), \"\")","v":""},0,null,null,null,0]
[{"$f":"IF(Tabla3[[#This Row],[APELLIDOS Y NOMBRES]]>0,ROW()-14,\"\")","v":""},{"$f":"IFERROR(IF(Tabla3[[#This Row],[APELLIDOS Y NOMBRES]]>0,VLOOKUP($H$7,DATA!$A$79:$B$160,2,FALSE),\"\"),\"\")","v":""},null,null,null,null,null,{"$f":"((NOW()-Tabla3[[#This Row],[FECHA DE NACIMIENTO]])/365)-0.5","v":124.79767625317098},null,null,null,null,null,null,null,null,null,null,null,null,null,null,null,null,null,null,null,null,null,null,null,null,null,null,null,null,null,null,null,null,null,null,null,null,null,"",null,{"$f":"IFERROR(IF(OR(LOWER(Tabla3[[#This Row],[SEXO]])=\"masculino\", LOWER(Tabla3[[#This Row],[SEXO]])=\"m\", LOWER(Tabla3[[#This Row],[SEXO]])=\"1\"), \"MASCULINO\",\n  IF(OR(LOWER(Tabla3[[#This Row],[SEXO]])=\"femenino\", LOWER(Tabla3[[#This Row],[SEXO]])=\"f\", LOWER(Tabla3[[#This Row],[SEXO]])=\"2\"), \"FEMENINO\",\n  \"\")), \"\")","v":""},0,null,null,null,0]
[{"$f":"IF(Tabla3[[#This Row],[APELLIDOS Y NOMBRES]]>0,ROW()-14,\"\")","v":""},{"$f":"IFERROR(IF(Tabla3[[#This Row],[APELLIDOS Y NOMBRES]]>0,VLOOKUP($H$7,DATA!$A$79:$B$160,2,FALSE),\"\"),\"\")","v":""},null,null,null,null,null,{"$f":"((NOW()-Tabla3[[#This Row],[FECHA DE NACIMIENTO]])/365)-0.5","v":124.79767625317098},null,null,null,null,null,null,null,null,null,null,null,null,null,null,null,null,null,null,null,null,null,null,null,null,null,null,null,null,null,null,null,null,null,null,null,null,null,"",null,{"$f":"IFERROR(IF(OR(LOWER(Tabla3[[#This Row],[SEXO]])=\"masculino\", LOWER(Tabla3[[#This Row],[SEXO]])=\"m\", LOWER(Tabla3[[#This Row],[SEXO]])=\"1\"), \"MASCULINO\",\n  IF(OR(LOWER(Tabla3[[#This Row],[SEXO]])=\"femenino\", LOWER(Tabla3[[#This Row],[SEXO]])=\"f\", LOWER(Tabla3[[#This Row],[SEXO]])=\"2\"), \"FEMENINO\",\n  \"\")), \"\")","v":""},0,null,null,null,0]
[{"$f":"IF(Tabla3[[#This Row],[APELLIDOS Y NOMBRES]]>0,ROW()-14,\"\")","v":""},{"$f":"IFERROR(IF(Tabla3[[#This Row],[APELLIDOS Y NOMBRES]]>0,VLOOKUP($H$7,DATA!$A$79:$B$160,2,FALSE),\"\"),\"\")","v":""},null,null,null,null,null,{"$f":"((NOW()-Tabla3[[#This Row],[FECHA DE NACIMIENTO]])/365)-0.5","v":124.79767625317098},null,null,null,null,null,null,null,null,null,null,null,null,null,null,null,null,null,null,null,null,null,null,null,null,null,null,null,null,null,null,null,null,null,null,null,null,null,"",null,{"$f":"IFERROR(IF(OR(LOWER(Tabla3[[#This Row],[SEXO]])=\"masculino\", LOWER(Tabla3[[#This Row],[SEXO]])=\"m\", LOWER(Tabla3[[#This Row],[SEXO]])=\"1\"), \"MASCULINO\",\n  IF(OR(LOWER(Tabla3[[#This Row],[SEXO]])=\"femenino\", LOWER(Tabla3[[#This Row],[SEXO]])=\"f\", LOWER(Tabla3[[#This Row],[SEXO]])=\"2\"), \"FEMENINO\",\n  \"\")), \"\")","v":""},0,null,null,null,0]
[{"$f":"IF(Tabla3[[#This Row],[APELLIDOS Y NOMBRES]]>0,ROW()-14,\"\")","v":""},{"$f":"IFERROR(IF(Tabla3[[#This Row],[APELLIDOS Y NOMBRES]]>0,VLOOKUP($H$7,DATA!$A$79:$B$160,2,FALSE),\"\"),\"\")","v":""},null,null,null,null,null,{"$f":"((NOW()-Tabla3[[#This Row],[FECHA DE NACIMIENTO]])/365)-0.5","v":124.79767625317098},null,null,null,null,null,null,null,null,null,null,null,null,null,null,null,null,null,null,null,null,null,null,null,null,null,null,null,null,null,null,null,null,null,null,null,null,null,"",null,{"$f":"IFERROR(IF(OR(LOWER(Tabla3[[#This Row],[SEXO]])=\"masculino\", LOWER(Tabla3[[#This Row],[SEXO]])=\"m\", LOWER(Tabla3[[#This Row],[SEXO]])=\"1\"), \"MASCULINO\",\n  IF(OR(LOWER(Tabla3[[#This Row],[SEXO]])=\"femenino\", LOWER(Tabla3[[#This Row],[SEXO]])=\"f\", LOWER(Tabla3[[#This Row],[SEXO]])=\"2\"), \"FEMENINO\",\n  \"\")), \"\")","v":""},0,null,null,null,0]
[{"$f":"IF(Tabla3[[#This Row],[APELLIDOS Y NOMBRES]]>0,ROW()-14,\"\")","v":""},{"$f":"IFERROR(IF(Tabla3[[#This Row],[APELLIDOS Y NOMBRES]]>0,VLOOKUP($H$7,DATA!$A$79:$B$160,2,FALSE),\"\"),\"\")","v":""},null,null,null,null,null,{"$f":"((NOW()-Tabla3[[#This Row],[FECHA DE NACIMIENTO]])/365)-0.5","v":124.79767625317098},null,null,null,null,null,null,null,null,null,null,null,null,null,null,null,null,null,null,null,null,null,null,null,null,null,null,null,null,null,null,null,null,null,null,null,null,null,"",null,{"$f":"IFERROR(IF(OR(LOWER(Tabla3[[#This Row],[SEXO]])=\"masculino\", LOWER(Tabla3[[#This Row],[SEXO]])=\"m\", LOWER(Tabla3[[#This Row],[SEXO]])=\"1\"), \"MASCULINO\",\n  IF(OR(LOWER(Tabla3[[#This Row],[SEXO]])=\"femenino\", LOWER(Tabla3[[#This Row],[SEXO]])=\"f\", LOWER(Tabla3[[#This Row],[SEXO]])=\"2\"), \"FEMENINO\",\n  \"\")), \"\")","v":""},0,null,null,null,0]
[{"$f":"IF(Tabla3[[#This Row],[APELLIDOS Y NOMBRES]]>0,ROW()-14,\"\")","v":""},{"$f":"IFERROR(IF(Tabla3[[#This Row],[APELLIDOS Y NOMBRES]]>0,VLOOKUP($H$7,DATA!$A$79:$B$160,2,FALSE),\"\"),\"\")","v":""},null,null,null,null,null,{"$f":"((NOW()-Tabla3[[#This Row],[FECHA DE NACIMIENTO]])/365)-0.5","v":124.79767625317098},null,null,null,null,null,null,null,null,null,null,null,null,null,null,null,null,null,null,null,null,null,null,null,null,null,null,null,null,null,null,null,null,null,null,null,null,null,"",null,{"$f":"IFERROR(IF(OR(LOWER(Tabla3[[#This Row],[SEXO]])=\"masculino\", LOWER(Tabla3[[#This Row],[SEXO]])=\"m\", LOWER(Tabla3[[#This Row],[SEXO]])=\"1\"), \"MASCULINO\",\n  IF(OR(LOWER(Tabla3[[#This Row],[SEXO]])=\"femenino\", LOWER(Tabla3[[#This Row],[SEXO]])=\"f\", LOWER(Tabla3[[#This Row],[SEXO]])=\"2\"), \"FEMENINO\",\n  \"\")), \"\")","v":""},0,null,null,null,0]
[{"$f":"IF(Tabla3[[#This Row],[APELLIDOS Y NOMBRES]]>0,ROW()-14,\"\")","v":""},{"$f":"IFERROR(IF(Tabla3[[#This Row],[APELLIDOS Y NOMBRES]]>0,VLOOKUP($H$7,DATA!$A$79:$B$160,2,FALSE),\"\"),\"\")","v":""},null,null,null,null,null,{"$f":"((NOW()-Tabla3[[#This Row],[FECHA DE NACIMIENTO]])/365)-0.5","v":124.79767625317098},null,null,null,null,null,null,null,null,null,null,null,null,null,null,null,null,null,null,null,null,null,null,null,null,null,null,null,null,null,null,null,null,null,null,null,null,null,"",null,{"$f":"IFERROR(IF(OR(LOWER(Tabla3[[#This Row],[SEXO]])=\"masculino\", LOWER(Tabla3[[#This Row],[SEXO]])=\"m\", LOWER(Tabla3[[#This Row],[SEXO]])=\"1\"), \"MASCULINO\",\n  IF(OR(LOWER(Tabla3[[#This Row],[SEXO]])=\"femenino\", LOWER(Tabla3[[#This Row],[SEXO]])=\"f\", LOWER(Tabla3[[#This Row],[SEXO]])=\"2\"), \"FEMENINO\",\n  \"\")), \"\")","v":""},0,null,null,null,0]
[{"$f":"IF(Tabla3[[#This Row],[APELLIDOS Y NOMBRES]]>0,ROW()-14,\"\")","v":""},{"$f":"IFERROR(IF(Tabla3[[#This Row],[APELLIDOS Y NOMBRES]]>0,VLOOKUP($H$7,DATA!$A$79:$B$160,2,FALSE),\"\"),\"\")","v":""},null,null,null,null,null,{"$f":"((NOW()-Tabla3[[#This Row],[FECHA DE NACIMIENTO]])/365)-0.5","v":124.79767625317098},null,null,null,null,null,null,null,null,null,null,null,null,null,null,null,null,null,null,null,null,null,null,null,null,null,null,null,null,null,null,null,null,null,null,null,null,null,"",null,{"$f":"IFERROR(IF(OR(LOWER(Tabla3[[#This Row],[SEXO]])=\"masculino\", LOWER(Tabla3[[#This Row],[SEXO]])=\"m\", LOWER(Tabla3[[#This Row],[SEXO]])=\"1\"), \"MASCULINO\",\n  IF(OR(LOWER(Tabla3[[#This Row],[SEXO]])=\"femenino\", LOWER(Tabla3[[#This Row],[SEXO]])=\"f\", LOWER(Tabla3[[#This Row],[SEXO]])=\"2\"), \"FEMENINO\",\n  \"\")), \"\")","v":""},0,null,null,null,0]
[{"$f":"IF(Tabla3[[#This Row],[APELLIDOS Y NOMBRES]]>0,ROW()-14,\"\")","v":""},{"$f":"IFERROR(IF(Tabla3[[#This Row],[APELLIDOS Y NOMBRES]]>0,VLOOKUP($H$7,DATA!$A$79:$B$160,2,FALSE),\"\"),\"\")","v":""},null,null,null,null,null,{"$f":"((NOW()-Tabla3[[#This Row],[FECHA DE NACIMIENTO]])/365)-0.5","v":124.79767625317098},null,null,null,null,null,null,null,null,null,null,null,null,null,null,null,null,null,null,null,null,null,null,null,null,null,null,null,null,null,null,null,null,null,null,null,null,null,"",null,{"$f":"IFERROR(IF(OR(LOWER(Tabla3[[#This Row],[SEXO]])=\"masculino\", LOWER(Tabla3[[#This Row],[SEXO]])=\"m\", LOWER(Tabla3[[#This Row],[SEXO]])=\"1\"), \"MASCULINO\",\n  IF(OR(LOWER(Tabla3[[#This Row],[SEXO]])=\"femenino\", LOWER(Tabla3[[#This Row],[SEXO]])=\"f\", LOWER(Tabla3[[#This Row],[SEXO]])=\"2\"), \"FEMENINO\",\n  \"\")), \"\")","v":""},0,null,null,null,0]
[{"$f":"IF(Tabla3[[#This Row],[APELLIDOS Y NOMBRES]]>0,ROW()-14,\"\")","v":""},{"$f":"IFERROR(IF(Tabla3[[#This Row],[APELLIDOS Y NOMBRES]]>0,VLOOKUP($H$7,DATA!$A$79:$B$160,2,FALSE),\"\"),\"\")","v":""},null,null,null,null,null,{"$f":"((NOW()-Tabla3[[#This Row],[FECHA DE NACIMIENTO]])/365)-0.5","v":124.79767625317098},null,null,null,null,null,null,null,null,null,null,null,null,null,null,null,null,null,null,null,null,null,null,null,null,null,null,null,null,null,null,null,null,null,null,null,null,null,"",null,{"$f":"IFERROR(IF(OR(LOWER(Tabla3[[#This Row],[SEXO]])=\"masculino\", LOWER(Tabla3[[#This Row],[SEXO]])=\"m\", LOWER(Tabla3[[#This Row],[SEXO]])=\"1\"), \"MASCULINO\",\n  IF(OR(LOWER(Tabla3[[#This Row],[SEXO]])=\"femenino\", LOWER(Tabla3[[#This Row],[SEXO]])=\"f\", LOWER(Tabla3[[#This Row],[SEXO]])=\"2\"), \"FEMENINO\",\n  \"\")), \"\")","v":""},0,null,null,null,0]
[{"$f":"IF(Tabla3[[#This Row],[APELLIDOS Y NOMBRES]]>0,ROW()-14,\"\")","v":""},{"$f":"IFERROR(IF(Tabla3[[#This Row],[APELLIDOS Y NOMBRES]]>0,VLOOKUP($H$7,DATA!$A$79:$B$160,2,FALSE),\"\"),\"\")","v":""},null,null,null,null,null,{"$f":"((NOW()-Tabla3[[#This Row],[FECHA DE NACIMIENTO]])/365)-0.5","v":124.79767625317098},null,null,null,null,null,null,null,null,null,null,null,null,null,null,null,null,null,null,null,null,null,null,null,null,null,null,null,null,null,null,null,null,null,null,null,null,null,"",null,{"$f":"IFERROR(IF(OR(LOWER(Tabla3[[#This Row],[SEXO]])=\"masculino\", LOWER(Tabla3[[#This Row],[SEXO]])=\"m\", LOWER(Tabla3[[#This Row],[SEXO]])=\"1\"), \"MASCULINO\",\n  IF(OR(LOWER(Tabla3[[#This Row],[SEXO]])=\"femenino\", LOWER(Tabla3[[#This Row],[SEXO]])=\"f\", LOWER(Tabla3[[#This Row],[SEXO]])=\"2\"), \"FEMENINO\",\n  \"\")), \"\")","v":""},0,null,null,null,0]
[{"$f":"IF(Tabla3[[#This Row],[APELLIDOS Y NOMBRES]]>0,ROW()-14,\"\")","v":""},{"$f":"IFERROR(IF(Tabla3[[#This Row],[APELLIDOS Y NOMBRES]]>0,VLOOKUP($H$7,DATA!$A$79:$B$160,2,FALSE),\"\"),\"\")","v":""},null,null,null,null,null,{"$f":"((NOW()-Tabla3[[#This Row],[FECHA DE NACIMIENTO]])/365)-0.5","v":124.79767625317098},null,null,null,null,null,null,null,null,null,null,null,null,null,null,null,null,null,null,null,null,null,null,null,null,null,null,null,null,null,null,null,null,null,null,null,null,null,"",null,{"$f":"IFERROR(IF(OR(LOWER(Tabla3[[#This Row],[SEXO]])=\"masculino\", LOWER(Tabla3[[#This Row],[SEXO]])=\"m\", LOWER(Tabla3[[#This Row],[SEXO]])=\"1\"), \"MASCULINO\",\n  IF(OR(LOWER(Tabla3[[#This Row],[SEXO]])=\"femenino\", LOWER(Tabla3[[#This Row],[SEXO]])=\"f\", LOWER(Tabla3[[#This Row],[SEXO]])=\"2\"), \"FEMENINO\",\n  \"\")), \"\")","v":""},0,null,null,null,0]
[{"$f":"IF(Tabla3[[#This Row],[APELLIDOS Y NOMBRES]]>0,ROW()-14,\"\")","v":""},{"$f":"IFERROR(IF(Tabla3[[#This Row],[APELLIDOS Y NOMBRES]]>0,VLOOKUP($H$7,DATA!$A$79:$B$160,2,FALSE),\"\"),\"\")","v":""},null,null,null,null,null,{"$f":"((NOW()-Tabla3[[#This Row],[FECHA DE NACIMIENTO]])/365)-0.5","v":124.79767625317098},null,null,null,null,null,null,null,null,null,null,null,null,null,null,null,null,null,null,null,null,null,null,null,null,null,null,null,null,null,null,null,null,null,null,null,null,null,"",null,{"$f":"IFERROR(IF(OR(LOWER(Tabla3[[#This Row],[SEXO]])=\"masculino\", LOWER(Tabla3[[#This Row],[SEXO]])=\"m\", LOWER(Tabla3[[#This Row],[SEXO]])=\"1\"), \"MASCULINO\",\n  IF(OR(LOWER(Tabla3[[#This Row],[SEXO]])=\"femenino\", LOWER(Tabla3[[#This Row],[SEXO]])=\"f\", LOWER(Tabla3[[#This Row],[SEXO]])=\"2\"), \"FEMENINO\",\n  \"\")), \"\")","v":""},0,null,null,null,0]
[{"$f":"IF(Tabla3[[#This Row],[APELLIDOS Y NOMBRES]]>0,ROW()-14,\"\")","v":""},{"$f":"IFERROR(IF(Tabla3[[#This Row],[APELLIDOS Y NOMBRES]]>0,VLOOKUP($H$7,DATA!$A$79:$B$160,2,FALSE),\"\"),\"\")","v":""},null,null,null,null,null,{"$f":"((NOW()-Tabla3[[#This Row],[FECHA DE NACIMIENTO]])/365)-0.5","v":124.79767625317098},null,null,null,null,null,null,null,null,null,null,null,null,null,null,null,null,null,null,null,null,null,null,null,null,null,null,null,null,null,null,null,null,null,null,null,null,null,"",null,{"$f":"IFERROR(IF(OR(LOWER(Tabla3[[#This Row],[SEXO]])=\"masculino\", LOWER(Tabla3[[#This Row],[SEXO]])=\"m\", LOWER(Tabla3[[#This Row],[SEXO]])=\"1\"), \"MASCULINO\",\n  IF(OR(LOWER(Tabla3[[#This Row],[SEXO]])=\"femenino\", LOWER(Tabla3[[#This Row],[SEXO]])=\"f\", LOWER(Tabla3[[#This Row],[SEXO]])=\"2\"), \"FEMENINO\",\n  \"\")), \"\")","v":""},0,null,null,null,0]
[{"$f":"IF(Tabla3[[#This Row],[APELLIDOS Y NOMBRES]]>0,ROW()-14,\"\")","v":""},{"$f":"IFERROR(IF(Tabla3[[#This Row],[APELLIDOS Y NOMBRES]]>0,VLOOKUP($H$7,DATA!$A$79:$B$160,2,FALSE),\"\"),\"\")","v":""},null,null,null,null,null,{"$f":"((NOW()-Tabla3[[#This Row],[FECHA DE NACIMIENTO]])/365)-0.5","v":124.79767625317098},null,null,null,null,null,null,null,null,null,null,null,null,null,null,null,null,null,null,null,null,null,null,null,null,null,null,null,null,null,null,null,null,null,null,null,null,null,"",null,{"$f":"IFERROR(IF(OR(LOWER(Tabla3[[#This Row],[SEXO]])=\"masculino\", LOWER(Tabla3[[#This Row],[SEXO]])=\"m\", LOWER(Tabla3[[#This Row],[SEXO]])=\"1\"), \"MASCULINO\",\n  IF(OR(LOWER(Tabla3[[#This Row],[SEXO]])=\"femenino\", LOWER(Tabla3[[#This Row],[SEXO]])=\"f\", LOWER(Tabla3[[#This Row],[SEXO]])=\"2\"), \"FEMENINO\",\n  \"\")), \"\")","v":""},0,null,null,null,0]
[{"$f":"IF(Tabla3[[#This Row],[APELLIDOS Y NOMBRES]]>0,ROW()-14,\"\")","v":""},{"$f":"IFERROR(IF(Tabla3[[#This Row],[APELLIDOS Y NOMBRES]]>0,VLOOKUP($H$7,DATA!$A$79:$B$160,2,FALSE),\"\"),\"\")","v":""},null,null,null,null,null,{"$f":"((NOW()-Tabla3[[#This Row],[FECHA DE NACIMIENTO]])/365)-0.5","v":124.79767625317098},null,null,null,null,null,null,null,null,null,null,null,null,null,null,null,null,null,null,null,null,null,null,null,null,null,null,null,null,null,null,null,null,null,null,null,null,null,"",null,{"$f":"IFERROR(IF(OR(LOWER(Tabla3[[#This Row],[SEXO]])=\"masculino\", LOWER(Tabla3[[#This Row],[SEXO]])=\"m\", LOWER(Tabla3[[#This Row],[SEXO]])=\"1\"), \"MASCULINO\",\n  IF(OR(LOWER(Tabla3[[#This Row],[SEXO]])=\"femenino\", LOWER(Tabla3[[#This Row],[SEXO]])=\"f\", LOWER(Tabla3[[#This Row],[SEXO]])=\"2\"), \"FEMENINO\",\n  \"\")), \"\")","v":""},0,null,null,null,0]
[{"$f":"IF(Tabla3[[#This Row],[APELLIDOS Y NOMBRES]]>0,ROW()-14,\"\")","v":""},{"$f":"IFERROR(IF(Tabla3[[#This Row],[APELLIDOS Y NOMBRES]]>0,VLOOKUP($H$7,DATA!$A$79:$B$160,2,FALSE),\"\"),\"\")","v":""},null,null,null,null,null,{"$f":"((NOW()-Tabla3[[#This Row],[FECHA DE NACIMIENTO]])/365)-0.5","v":124.79767625317098},null,null,null,null,null,null,null,null,null,null,null,null,null,null,null,null,null,null,null,null,null,null,null,null,null,null,null,null,null,null,null,null,null,null,null,null,null,"",null,{"$f":"IFERROR(IF(OR(LOWER(Tabla3[[#This Row],[SEXO]])=\"masculino\", LOWER(Tabla3[[#This Row],[SEXO]])=\"m\", LOWER(Tabla3[[#This Row],[SEXO]])=\"1\"), \"MASCULINO\",\n  IF(OR(LOWER(Tabla3[[#This Row],[SEXO]])=\"femenino\", LOWER(Tabla3[[#This Row],[SEXO]])=\"f\", LOWER(Tabla3[[#This Row],[SEXO]])=\"2\"), \"FEMENINO\",\n  \"\")), \"\")","v":""},0,null,null,null,0]
[{"$f":"IF(Tabla3[[#This Row],[APELLIDOS Y NOMBRES]]>0,ROW()-14,\"\")","v":""},{"$f":"IFERROR(IF(Tabla3[[#This Row],[APELLIDOS Y NOMBRES]]>0,VLOOKUP($H$7,DATA!$A$79:$B$160,2,FALSE),\"\"),\"\")","v":""},null,null,null,null,null,{"$f":"((NOW()-Tabla3[[#This Row],[FECHA DE NACIMIENTO]])/365)-0.5","v":124.79767625317098},null,null,null,null,null,null,null,null,null,null,null,null,null,null,null,null,null,null,null,null,null,null,null,null,null,null,null,null,null,null,null,null,null,null,null,null,null,"",null,{"$f":"IFERROR(IF(OR(LOWER(Tabla3[[#This Row],[SEXO]])=\"masculino\", LOWER(Tabla3[[#This Row],[SEXO]])=\"m\", LOWER(Tabla3[[#This Row],[SEXO]])=\"1\"), \"MASCULINO\",\n  IF(OR(LOWER(Tabla3[[#This Row],[SEXO]])=\"femenino\", LOWER(Tabla3[[#This Row],[SEXO]])=\"f\", LOWER(Tabla3[[#This Row],[SEXO]])=\"2\"), \"FEMENINO\",\n  \"\")), \"\")","v":""},0,null,null,null,0]
[{"$f":"IF(Tabla3[[#This Row],[APELLIDOS Y NOMBRES]]>0,ROW()-14,\"\")","v":""},{"$f":"IFERROR(IF(Tabla3[[#This Row],[APELLIDOS Y NOMBRES]]>0,VLOOKUP($H$7,DATA!$A$79:$B$160,2,FALSE),\"\"),\"\")","v":""},null,null,null,null,null,{"$f":"((NOW()-Tabla3[[#This Row],[FECHA DE NACIMIENTO]])/365)-0.5","v":124.79767625317098},null,null,null,null,null,null,null,null,null,null,null,null,null,null,null,null,null,null,null,null,null,null,null,null,null,null,null,null,null,null,null,null,null,null,null,null,null,"",null,{"$f":"IFERROR(IF(OR(LOWER(Tabla3[[#This Row],[SEXO]])=\"masculino\", LOWER(Tabla3[[#This Row],[SEXO]])=\"m\", LOWER(Tabla3[[#This Row],[SEXO]])=\"1\"), \"MASCULINO\",\n  IF(OR(LOWER(Tabla3[[#This Row],[SEXO]])=\"femenino\", LOWER(Tabla3[[#This Row],[SEXO]])=\"f\", LOWER(Tabla3[[#This Row],[SEXO]])=\"2\"), \"FEMENINO\",\n  \"\")), \"\")","v":""},0,null,null,null,0]
[{"$f":"IF(Tabla3[[#This Row],[APELLIDOS Y NOMBRES]]>0,ROW()-14,\"\")","v":""},{"$f":"IFERROR(IF(Tabla3[[#This Row],[APELLIDOS Y NOMBRES]]>0,VLOOKUP($H$7,DATA!$A$79:$B$160,2,FALSE),\"\"),\"\")","v":""},null,null,null,null,null,{"$f":"((NOW()-Tabla3[[#This Row],[FECHA DE NACIMIENTO]])/365)-0.5","v":124.79767625317098},null,null,null,null,null,null,null,null,null,null,null,null,null,null,null,null,null,null,null,null,null,null,null,null,null,null,null,null,null,null,null,null,null,null,null,null,null,"",null,{"$f":"IFERROR(IF(OR(LOWER(Tabla3[[#This Row],[SEXO]])=\"masculino\", LOWER(Tabla3[[#This Row],[SEXO]])=\"m\", LOWER(Tabla3[[#This Row],[SEXO]])=\"1\"), \"MASCULINO\",\n  IF(OR(LOWER(Tabla3[[#This Row],[SEXO]])=\"femenino\", LOWER(Tabla3[[#This Row],[SEXO]])=\"f\", LOWER(Tabla3[[#This Row],[SEXO]])=\"2\"), \"FEMENINO\",\n  \"\")), \"\")","v":""},0,null,null,null,0]
[{"$f":"IF(Tabla3[[#This Row],[APELLIDOS Y NOMBRES]]>0,ROW()-14,\"\")","v":""},{"$f":"IFERROR(IF(Tabla3[[#This Row],[APELLIDOS Y NOMBRES]]>0,VLOOKUP($H$7,DATA!$A$79:$B$160,2,FALSE),\"\"),\"\")","v":""},null,null,null,null,null,{"$f":"((NOW()-Tabla3[[#This Row],[FECHA DE NACIMIENTO]])/365)-0.5","v":124.79767625317098},null,null,null,null,null,null,null,null,null,null,null,null,null,null,null,null,null,null,null,null,null,null,null,null,null,null,null,null,null,null,null,null,null,null,null,null,null,"",null,{"$f":"IFERROR(IF(OR(LOWER(Tabla3[[#This Row],[SEXO]])=\"masculino\", LOWER(Tabla3[[#This Row],[SEXO]])=\"m\", LOWER(Tabla3[[#This Row],[SEXO]])=\"1\"), \"MASCULINO\",\n  IF(OR(LOWER(Tabla3[[#This Row],[SEXO]])=\"femenino\", LOWER(Tabla3[[#This Row],[SEXO]])=\"f\", LOWER(Tabla3[[#This Row],[SEXO]])=\"2\"), \"FEMENINO\",\n  \"\")), \"\")","v":""},0,null,null,null,0]
[{"$f":"IF(Tabla3[[#This Row],[APELLIDOS Y NOMBRES]]>0,ROW()-14,\"\")","v":""},{"$f":"IFERROR(IF(Tabla3[[#This Row],[APELLIDOS Y NOMBRES]]>0,VLOOKUP($H$7,DATA!$A$79:$B$160,2,FALSE),\"\"),\"\")","v":""},null,null,null,null,null,{"$f":"((NOW()-Tabla3[[#This Row],[FECHA DE NACIMIENTO]])/365)-0.5","v":124.79767625317098},null,null,null,null,null,null,null,null,null,null,null,null,null,null,null,null,null,null,null,null,null,null,null,null,null,null,null,null,null,null,null,null,null,null,null,null,null,"",null,{"$f":"IFERROR(IF(OR(LOWER(Tabla3[[#This Row],[SEXO]])=\"masculino\", LOWER(Tabla3[[#This Row],[SEXO]])=\"m\", LOWER(Tabla3[[#This Row],[SEXO]])=\"1\"), \"MASCULINO\",\n  IF(OR(LOWER(Tabla3[[#This Row],[SEXO]])=\"femenino\", LOWER(Tabla3[[#This Row],[SEXO]])=\"f\", LOWER(Tabla3[[#This Row],[SEXO]])=\"2\"), \"FEMENINO\",\n  \"\")), \"\")","v":""},0,null,null,null,0]
[{"$f":"IF(Tabla3[[#This Row],[APELLIDOS Y NOMBRES]]>0,ROW()-14,\"\")","v":""},{"$f":"IFERROR(IF(Tabla3[[#This Row],[APELLIDOS Y NOMBRES]]>0,VLOOKUP($H$7,DATA!$A$79:$B$160,2,FALSE),\"\"),\"\")","v":""},null,null,null,null,null,{"$f":"((NOW()-Tabla3[[#This Row],[FECHA DE NACIMIENTO]])/365)-0.5","v":124.79767625317098},null,null,null,null,null,null,null,null,null,null,null,null,null,null,null,null,null,null,null,null,null,null,null,null,null,null,null,null,null,null,null,null,null,null,null,null,null,"",null,{"$f":"IFERROR(IF(OR(LOWER(Tabla3[[#This Row],[SEXO]])=\"masculino\", LOWER(Tabla3[[#This Row],[SEXO]])=\"m\", LOWER(Tabla3[[#This Row],[SEXO]])=\"1\"), \"MASCULINO\",\n  IF(OR(LOWER(Tabla3[[#This Row],[SEXO]])=\"femenino\", LOWER(Tabla3[[#This Row],[SEXO]])=\"f\", LOWER(Tabla3[[#This Row],[SEXO]])=\"2\"), \"FEMENINO\",\n  \"\")), \"\")","v":""},0,null,null,null,0]
[{"$f":"IF(Tabla3[[#This Row],[APELLIDOS Y NOMBRES]]>0,ROW()-14,\"\")","v":""},{"$f":"IFERROR(IF(Tabla3[[#This Row],[APELLIDOS Y NOMBRES]]>0,VLOOKUP($H$7,DATA!$A$79:$B$160,2,FALSE),\"\"),\"\")","v":""},null,null,null,null,null,{"$f":"((NOW()-Tabla3[[#This Row],[FECHA DE NACIMIENTO]])/365)-0.5","v":124.79767625317098},null,null,null,null,null,null,null,null,null,null,null,null,null,null,null,null,null,null,null,null,null,null,null,null,null,null,null,null,null,null,null,null,null,null,null,null,null,"",null,{"$f":"IFERROR(IF(OR(LOWER(Tabla3[[#This Row],[SEXO]])=\"masculino\", LOWER(Tabla3[[#This Row],[SEXO]])=\"m\", LOWER(Tabla3[[#This Row],[SEXO]])=\"1\"), \"MASCULINO\",\n  IF(OR(LOWER(Tabla3[[#This Row],[SEXO]])=\"femenino\", LOWER(Tabla3[[#This Row],[SEXO]])=\"f\", LOWER(Tabla3[[#This Row],[SEXO]])=\"2\"), \"FEMENINO\",\n  \"\")), \"\")","v":""},0,null,null,null,0]
[{"$f":"IF(Tabla3[[#This Row],[APELLIDOS Y NOMBRES]]>0,ROW()-14,\"\")","v":""},{"$f":"IFERROR(IF(Tabla3[[#This Row],[APELLIDOS Y NOMBRES]]>0,VLOOKUP($H$7,DATA!$A$79:$B$160,2,FALSE),\"\"),\"\")","v":""},null,null,null,null,null,{"$f":"((NOW()-Tabla3[[#This Row],[FECHA DE NACIMIENTO]])/365)-0.5","v":124.79767625317098},null,null,null,null,null,null,null,null,null,null,null,null,null,null,null,null,null,null,null,null,null,null,null,null,null,null,null,null,null,null,null,null,null,null,null,null,null,"",null,{"$f":"IFERROR(IF(OR(LOWER(Tabla3[[#This Row],[SEXO]])=\"masculino\", LOWER(Tabla3[[#This Row],[SEXO]])=\"m\", LOWER(Tabla3[[#This Row],[SEXO]])=\"1\"), \"MASCULINO\",\n  IF(OR(LOWER(Tabla3[[#This Row],[SEXO]])=\"femenino\", LOWER(Tabla3[[#This Row],[SEXO]])=\"f\", LOWER(Tabla3[[#This Row],[SEXO]])=\"2\"), \"FEMENINO\",\n  \"\")), \"\")","v":""},0,null,null,null,0]
[{"$f":"IF(Tabla3[[#This Row],[APELLIDOS Y NOMBRES]]>0,ROW()-14,\"\")","v":""},{"$f":"IFERROR(IF(Tabla3[[#This Row],[APELLIDOS Y NOMBRES]]>0,VLOOKUP($H$7,DATA!$A$79:$B$160,2,FALSE),\"\"),\"\")","v":""},null,null,null,null,null,{"$f":"((NOW()-Tabla3[[#This Row],[FECHA DE NACIMIENTO]])/365)-0.5","v":124.79767625317098},null,null,null,null,null,null,null,null,null,null,null,null,null,null,null,null,null,null,null,null,null,null,null,null,null,null,null,null,null,null,null,null,null,null,null,null,null,"",null,{"$f":"IFERROR(IF(OR(LOWER(Tabla3[[#This Row],[SEXO]])=\"masculino\", LOWER(Tabla3[[#This Row],[SEXO]])=\"m\", LOWER(Tabla3[[#This Row],[SEXO]])=\"1\"), \"MASCULINO\",\n  IF(OR(LOWER(Tabla3[[#This Row],[SEXO]])=\"femenino\", LOWER(Tabla3[[#This Row],[SEXO]])=\"f\", LOWER(Tabla3[[#This Row],[SEXO]])=\"2\"), \"FEMENINO\",\n  \"\")), \"\")","v":""},0,null,null,null,0]
[{"$f":"IF(Tabla3[[#This Row],[APELLIDOS Y NOMBRES]]>0,ROW()-14,\"\")","v":""},{"$f":"IFERROR(IF(Tabla3[[#This Row],[APELLIDOS Y NOMBRES]]>0,VLOOKUP($H$7,DATA!$A$79:$B$160,2,FALSE),\"\"),\"\")","v":""},null,null,null,null,null,{"$f":"((NOW()-Tabla3[[#This Row],[FECHA DE NACIMIENTO]])/365)-0.5","v":124.79767625317098},null,null,null,null,null,null,null,null,null,null,null,null,null,null,null,null,null,null,null,null,null,null,null,null,null,null,null,null,null,null,null,null,null,null,null,null,null,"",null,{"$f":"IFERROR(IF(OR(LOWER(Tabla3[[#This Row],[SEXO]])=\"masculino\", LOWER(Tabla3[[#This Row],[SEXO]])=\"m\", LOWER(Tabla3[[#This Row],[SEXO]])=\"1\"), \"MASCULINO\",\n  IF(OR(LOWER(Tabla3[[#This Row],[SEXO]])=\"femenino\", LOWER(Tabla3[[#This Row],[SEXO]])=\"f\", LOWER(Tabla3[[#This Row],[SEXO]])=\"2\"), \"FEMENINO\",\n  \"\")), \"\")","v":""},0,null,null,null,0]
[{"$f":"IF(Tabla3[[#This Row],[APELLIDOS Y NOMBRES]]>0,ROW()-14,\"\")","v":""},{"$f":"IFERROR(IF(Tabla3[[#This Row],[APELLIDOS Y NOMBRES]]>0,VLOOKUP($H$7,DATA!$A$79:$B$160,2,FALSE),\"\"),\"\")","v":""},null,null,null,null,null,{"$f":"((NOW()-Tabla3[[#This Row],[FECHA DE NACIMIENTO]])/365)-0.5","v":124.79767625317098},null,null,null,null,null,null,null,null,null,null,null,null,null,null,null,null,null,null,null,null,null,null,null,null,null,null,null,null,null,null,null,null,null,null,null,null,null,"",null,{"$f":"IFERROR(IF(OR(LOWER(Tabla3[[#This Row],[SEXO]])=\"masculino\", LOWER(Tabla3[[#This Row],[SEXO]])=\"m\", LOWER(Tabla3[[#This Row],[SEXO]])=\"1\"), \"MASCULINO\",\n  IF(OR(LOWER(Tabla3[[#This Row],[SEXO]])=\"femenino\", LOWER(Tabla3[[#This Row],[SEXO]])=\"f\", LOWER(Tabla3[[#This Row],[SEXO]])=\"2\"), \"FEMENINO\",\n  \"\")), \"\")","v":""},0,null,null,null,0]
[{"$f":"IF(Tabla3[[#This Row],[APELLIDOS Y NOMBRES]]>0,ROW()-14,\"\")","v":""},{"$f":"IFERROR(IF(Tabla3[[#This Row],[APELLIDOS Y NOMBRES]]>0,VLOOKUP($H$7,DATA!$A$79:$B$160,2,FALSE),\"\"),\"\")","v":""},null,null,null,null,null,{"$f":"((NOW()-Tabla3[[#This Row],[FECHA DE NACIMIENTO]])/365)-0.5","v":124.79767625317098},null,null,null,null,null,null,null,null,null,null,null,null,null,null,null,null,null,null,null,null,null,null,null,null,null,null,null,null,null,null,null,null,null,null,null,null,null,"",null,{"$f":"IFERROR(IF(OR(LOWER(Tabla3[[#This Row],[SEXO]])=\"masculino\", LOWER(Tabla3[[#This Row],[SEXO]])=\"m\", LOWER(Tabla3[[#This Row],[SEXO]])=\"1\"), \"MASCULINO\",\n  IF(OR(LOWER(Tabla3[[#This Row],[SEXO]])=\"femenino\", LOWER(Tabla3[[#This Row],[SEXO]])=\"f\", LOWER(Tabla3[[#This Row],[SEXO]])=\"2\"), \"FEMENINO\",\n  \"\")), \"\")","v":""},0,null,null,null,0]
[{"$f":"IF(Tabla3[[#This Row],[APELLIDOS Y NOMBRES]]>0,ROW()-14,\"\")","v":""},{"$f":"IFERROR(IF(Tabla3[[#This Row],[APELLIDOS Y NOMBRES]]>0,VLOOKUP($H$7,DATA!$A$79:$B$160,2,FALSE),\"\"),\"\")","v":""},null,null,null,null,null,{"$f":"((NOW()-Tabla3[[#This Row],[FECHA DE NACIMIENTO]])/365)-0.5","v":124.79767625317098},null,null,null,null,null,null,null,null,null,null,null,null,null,null,null,null,null,null,null,null,null,null,null,null,null,null,null,null,null,null,null,null,null,null,null,null,null,"",null,{"$f":"IFERROR(IF(OR(LOWER(Tabla3[[#This Row],[SEXO]])=\"masculino\", LOWER(Tabla3[[#This Row],[SEXO]])=\"m\", LOWER(Tabla3[[#This Row],[SEXO]])=\"1\"), \"MASCULINO\",\n  IF(OR(LOWER(Tabla3[[#This Row],[SEXO]])=\"femenino\", LOWER(Tabla3[[#This Row],[SEXO]])=\"f\", LOWER(Tabla3[[#This Row],[SEXO]])=\"2\"), \"FEMENINO\",\n  \"\")), \"\")","v":""},0,null,null,null,0]
[{"$f":"IF(Tabla3[[#This Row],[APELLIDOS Y NOMBRES]]>0,ROW()-14,\"\")","v":""},{"$f":"IFERROR(IF(Tabla3[[#This Row],[APELLIDOS Y NOMBRES]]>0,VLOOKUP($H$7,DATA!$A$79:$B$160,2,FALSE),\"\"),\"\")","v":""},null,null,null,null,null,{"$f":"((NOW()-Tabla3[[#This Row],[FECHA DE NACIMIENTO]])/365)-0.5","v":124.79767625317098},null,null,null,null,null,null,null,null,null,null,null,null,null,null,null,null,null,null,null,null,null,null,null,null,null,null,null,null,null,null,null,null,null,null,null,null,null,"",null,{"$f":"IFERROR(IF(OR(LOWER(Tabla3[[#This Row],[SEXO]])=\"masculino\", LOWER(Tabla3[[#This Row],[SEXO]])=\"m\", LOWER(Tabla3[[#This Row],[SEXO]])=\"1\"), \"MASCULINO\",\n  IF(OR(LOWER(Tabla3[[#This Row],[SEXO]])=\"femenino\", LOWER(Tabla3[[#This Row],[SEXO]])=\"f\", LOWER(Tabla3[[#This Row],[SEXO]])=\"2\"), \"FEMENINO\",\n  \"\")), \"\")","v":""},0,null,null,null,0]
[{"$f":"IF(Tabla3[[#This Row],[APELLIDOS Y NOMBRES]]>0,ROW()-14,\"\")","v":""},{"$f":"IFERROR(IF(Tabla3[[#This Row],[APELLIDOS Y NOMBRES]]>0,VLOOKUP($H$7,DATA!$A$79:$B$160,2,FALSE),\"\"),\"\")","v":""},null,null,null,null,null,{"$f":"((NOW()-Tabla3[[#This Row],[FECHA DE NACIMIENTO]])/365)-0.5","v":124.79767625317098},null,null,null,null,null,null,null,null,null,null,null,null,null,null,null,null,null,null,null,null,null,null,null,null,null,null,null,null,null,null,null,null,null,null,null,null,null,"",null,{"$f":"IFERROR(IF(OR(LOWER(Tabla3[[#This Row],[SEXO]])=\"masculino\", LOWER(Tabla3[[#This Row],[SEXO]])=\"m\", LOWER(Tabla3[[#This Row],[SEXO]])=\"1\"), \"MASCULINO\",\n  IF(OR(LOWER(Tabla3[[#This Row],[SEXO]])=\"femenino\", LOWER(Tabla3[[#This Row],[SEXO]])=\"f\", LOWER(Tabla3[[#This Row],[SEXO]])=\"2\"), \"FEMENINO\",\n  \"\")), \"\")","v":""},0,null,null,null,0]
[{"$f":"IF(Tabla3[[#This Row],[APELLIDOS Y NOMBRES]]>0,ROW()-14,\"\")","v":""},{"$f":"IFERROR(IF(Tabla3[[#This Row],[APELLIDOS Y NOMBRES]]>0,VLOOKUP($H$7,DATA!$A$79:$B$160,2,FALSE),\"\"),\"\")","v":""},null,null,null,null,null,{"$f":"((NOW()-Tabla3[[#This Row],[FECHA DE NACIMIENTO]])/365)-0.5","v":124.79767625317098},null,null,null,null,null,null,null,null,null,null,null,null,null,null,null,null,null,null,null,null,null,null,null,null,null,null,null,null,null,null,null,null,null,null,null,null,null,"",null,{"$f":"IFERROR(IF(OR(LOWER(Tabla3[[#This Row],[SEXO]])=\"masculino\", LOWER(Tabla3[[#This Row],[SEXO]])=\"m\", LOWER(Tabla3[[#This Row],[SEXO]])=\"1\"), \"MASCULINO\",\n  IF(OR(LOWER(Tabla3[[#This Row],[SEXO]])=\"femenino\", LOWER(Tabla3[[#This Row],[SEXO]])=\"f\", LOWER(Tabla3[[#This Row],[SEXO]])=\"2\"), \"FEMENINO\",\n  \"\")), \"\")","v":""},0,null,null,null,0]
[{"$f":"IF(Tabla3[[#This Row],[APELLIDOS Y NOMBRES]]>0,ROW()-14,\"\")","v":""},{"$f":"IFERROR(IF(Tabla3[[#This Row],[APELLIDOS Y NOMBRES]]>0,VLOOKUP($H$7,DATA!$A$79:$B$160,2,FALSE),\"\"),\"\")","v":""},null,null,null,null,null,{"$f":"((NOW()-Tabla3[[#This Row],[FECHA DE NACIMIENTO]])/365)-0.5","v":124.79767625317098},null,null,null,null,null,null,null,null,null,null,null,null,null,null,null,null,null,null,null,null,null,null,null,null,null,null,null,null,null,null,null,null,null,null,null,null,null,"",null,{"$f":"IFERROR(IF(OR(LOWER(Tabla3[[#This Row],[SEXO]])=\"masculino\", LOWER(Tabla3[[#This Row],[SEXO]])=\"m\", LOWER(Tabla3[[#This Row],[SEXO]])=\"1\"), \"MASCULINO\",\n  IF(OR(LOWER(Tabla3[[#This Row],[SEXO]])=\"femenino\", LOWER(Tabla3[[#This Row],[SEXO]])=\"f\", LOWER(Tabla3[[#This Row],[SEXO]])=\"2\"), \"FEMENINO\",\n  \"\")), \"\")","v":""},0,null,null,null,0]
[{"$f":"IF(Tabla3[[#This Row],[APELLIDOS Y NOMBRES]]>0,ROW()-14,\"\")","v":""},{"$f":"IFERROR(IF(Tabla3[[#This Row],[APELLIDOS Y NOMBRES]]>0,VLOOKUP($H$7,DATA!$A$79:$B$160,2,FALSE),\"\"),\"\")","v":""},null,null,null,null,null,{"$f":"((NOW()-Tabla3[[#This Row],[FECHA DE NACIMIENTO]])/365)-0.5","v":124.79767625317098},null,null,null,null,null,null,null,null,null,null,null,null,null,null,null,null,null,null,null,null,null,null,null,null,null,null,null,null,null,null,null,null,null,null,null,null,null,"",null,{"$f":"IFERROR(IF(OR(LOWER(Tabla3[[#This Row],[SEXO]])=\"masculino\", LOWER(Tabla3[[#This Row],[SEXO]])=\"m\", LOWER(Tabla3[[#This Row],[SEXO]])=\"1\"), \"MASCULINO\",\n  IF(OR(LOWER(Tabla3[[#This Row],[SEXO]])=\"femenino\", LOWER(Tabla3[[#This Row],[SEXO]])=\"f\", LOWER(Tabla3[[#This Row],[SEXO]])=\"2\"), \"FEMENINO\",\n  \"\")), \"\")","v":""},0,null,null,null,0]
[{"$f":"IF(Tabla3[[#This Row],[APELLIDOS Y NOMBRES]]>0,ROW()-14,\"\")","v":""},{"$f":"IFERROR(IF(Tabla3[[#This Row],[APELLIDOS Y NOMBRES]]>0,VLOOKUP($H$7,DATA!$A$79:$B$160,2,FALSE),\"\"),\"\")","v":""},null,null,null,null,null,{"$f":"((NOW()-Tabla3[[#This Row],[FECHA DE NACIMIENTO]])/365)-0.5","v":124.79767625317098},null,null,null,null,null,null,null,null,null,null,null,null,null,null,null,null,null,null,null,null,null,null,null,null,null,null,null,null,null,null,null,null,null,null,null,null,null,"",null,{"$f":"IFERROR(IF(OR(LOWER(Tabla3[[#This Row],[SEXO]])=\"masculino\", LOWER(Tabla3[[#This Row],[SEXO]])=\"m\", LOWER(Tabla3[[#This Row],[SEXO]])=\"1\"), \"MASCULINO\",\n  IF(OR(LOWER(Tabla3[[#This Row],[SEXO]])=\"femenino\", LOWER(Tabla3[[#This Row],[SEXO]])=\"f\", LOWER(Tabla3[[#This Row],[SEXO]])=\"2\"), \"FEMENINO\",\n  \"\")), \"\")","v":""},0,null,null,null,0]
[{"$f":"IF(Tabla3[[#This Row],[APELLIDOS Y NOMBRES]]>0,ROW()-14,\"\")","v":""},{"$f":"IFERROR(IF(Tabla3[[#This Row],[APELLIDOS Y NOMBRES]]>0,VLOOKUP($H$7,DATA!$A$79:$B$160,2,FALSE),\"\"),\"\")","v":""},null,null,null,null,null,{"$f":"((NOW()-Tabla3[[#This Row],[FECHA DE NACIMIENTO]])/365)-0.5","v":124.79767625317098},null,null,null,null,null,null,null,null,null,null,null,null,null,null,null,null,null,null,null,null,null,null,null,null,null,null,null,null,null,null,null,null,null,null,null,null,null,"",null,{"$f":"IFERROR(IF(OR(LOWER(Tabla3[[#This Row],[SEXO]])=\"masculino\", LOWER(Tabla3[[#This Row],[SEXO]])=\"m\", LOWER(Tabla3[[#This Row],[SEXO]])=\"1\"), \"MASCULINO\",\n  IF(OR(LOWER(Tabla3[[#This Row],[SEXO]])=\"femenino\", LOWER(Tabla3[[#This Row],[SEXO]])=\"f\", LOWER(Tabla3[[#This Row],[SEXO]])=\"2\"), \"FEMENINO\",\n  \"\")), \"\")","v":""},0,null,null,null,0]
[{"$f":"IF(Tabla3[[#This Row],[APELLIDOS Y NOMBRES]]>0,ROW()-14,\"\")","v":""},{"$f":"IFERROR(IF(Tabla3[[#This Row],[APELLIDOS Y NOMBRES]]>0,VLOOKUP($H$7,DATA!$A$79:$B$160,2,FALSE),\"\"),\"\")","v":""},null,null,null,null,null,{"$f":"((NOW()-Tabla3[[#This Row],[FECHA DE NACIMIENTO]])/365)-0.5","v":124.79767625317098},null,null,null,null,null,null,null,null,null,null,null,null,null,null,null,null,null,null,null,null,null,null,null,null,null,null,null,null,null,null,null,null,null,null,null,null,null,"",null,{"$f":"IFERROR(IF(OR(LOWER(Tabla3[[#This Row],[SEXO]])=\"masculino\", LOWER(Tabla3[[#This Row],[SEXO]])=\"m\", LOWER(Tabla3[[#This Row],[SEXO]])=\"1\"), \"MASCULINO\",\n  IF(OR(LOWER(Tabla3[[#This Row],[SEXO]])=\"femenino\", LOWER(Tabla3[[#This Row],[SEXO]])=\"f\", LOWER(Tabla3[[#This Row],[SEXO]])=\"2\"), \"FEMENINO\",\n  \"\")), \"\")","v":""},0,null,null,null,0]
[{"$f":"IF(Tabla3[[#This Row],[APELLIDOS Y NOMBRES]]>0,ROW()-14,\"\")","v":""},{"$f":"IFERROR(IF(Tabla3[[#This Row],[APELLIDOS Y NOMBRES]]>0,VLOOKUP($H$7,DATA!$A$79:$B$160,2,FALSE),\"\"),\"\")","v":""},null,null,null,null,null,{"$f":"((NOW()-Tabla3[[#This Row],[FECHA DE NACIMIENTO]])/365)-0.5","v":124.79767625317098},null,null,null,null,null,null,null,null,null,null,null,null,null,null,null,null,null,null,null,null,null,null,null,null,null,null,null,null,null,null,null,null,null,null,null,null,null,"",null,{"$f":"IFERROR(IF(OR(LOWER(Tabla3[[#This Row],[SEXO]])=\"masculino\", LOWER(Tabla3[[#This Row],[SEXO]])=\"m\", LOWER(Tabla3[[#This Row],[SEXO]])=\"1\"), \"MASCULINO\",\n  IF(OR(LOWER(Tabla3[[#This Row],[SEXO]])=\"femenino\", LOWER(Tabla3[[#This Row],[SEXO]])=\"f\", LOWER(Tabla3[[#This Row],[SEXO]])=\"2\"), \"FEMENINO\",\n  \"\")), \"\")","v":""},0,null,null,null,0]
[{"$f":"IF(Tabla3[[#This Row],[APELLIDOS Y NOMBRES]]>0,ROW()-14,\"\")","v":""},{"$f":"IFERROR(IF(Tabla3[[#This Row],[APELLIDOS Y NOMBRES]]>0,VLOOKUP($H$7,DATA!$A$79:$B$160,2,FALSE),\"\"),\"\")","v":""},null,null,null,null,null,{"$f":"((NOW()-Tabla3[[#This Row],[FECHA DE NACIMIENTO]])/365)-0.5","v":124.79767625317098},null,null,null,null,null,null,null,null,null,null,null,null,null,null,null,null,null,null,null,null,null,null,null,null,null,null,null,null,null,null,null,null,null,null,null,null,null,"",null,{"$f":"IFERROR(IF(OR(LOWER(Tabla3[[#This Row],[SEXO]])=\"masculino\", LOWER(Tabla3[[#This Row],[SEXO]])=\"m\", LOWER(Tabla3[[#This Row],[SEXO]])=\"1\"), \"MASCULINO\",\n  IF(OR(LOWER(Tabla3[[#This Row],[SEXO]])=\"femenino\", LOWER(Tabla3[[#This Row],[SEXO]])=\"f\", LOWER(Tabla3[[#This Row],[SEXO]])=\"2\"), \"FEMENINO\",\n  \"\")), \"\")","v":""},0,null,null,null,0]
[{"$f":"IF(Tabla3[[#This Row],[APELLIDOS Y NOMBRES]]>0,ROW()-14,\"\")","v":""},{"$f":"IFERROR(IF(Tabla3[[#This Row],[APELLIDOS Y NOMBRES]]>0,VLOOKUP($H$7,DATA!$A$79:$B$160,2,FALSE),\"\"),\"\")","v":""},null,null,null,null,null,{"$f":"((NOW()-Tabla3[[#This Row],[FECHA DE NACIMIENTO]])/365)-0.5","v":124.79767625317098},null,null,null,null,null,null,null,null,null,null,null,null,null,null,null,null,null,null,null,null,null,null,null,null,null,null,null,null,null,null,null,null,null,null,null,null,null,"",null,{"$f":"IFERROR(IF(OR(LOWER(Tabla3[[#This Row],[SEXO]])=\"masculino\", LOWER(Tabla3[[#This Row],[SEXO]])=\"m\", LOWER(Tabla3[[#This Row],[SEXO]])=\"1\"), \"MASCULINO\",\n  IF(OR(LOWER(Tabla3[[#This Row],[SEXO]])=\"femenino\", LOWER(Tabla3[[#This Row],[SEXO]])=\"f\", LOWER(Tabla3[[#This Row],[SEXO]])=\"2\"), \"FEMENINO\",\n  \"\")), \"\")","v":""},0,null,null,null,0]
[{"$f":"IF(Tabla3[[#This Row],[APELLIDOS Y NOMBRES]]>0,ROW()-14,\"\")","v":""},{"$f":"IFERROR(IF(Tabla3[[#This Row],[APELLIDOS Y NOMBRES]]>0,VLOOKUP($H$7,DATA!$A$79:$B$160,2,FALSE),\"\"),\"\")","v":""},null,null,null,null,null,{"$f":"((NOW()-Tabla3[[#This Row],[FECHA DE NACIMIENTO]])/365)-0.5","v":124.79767625317098},null,null,null,null,null,null,null,null,null,null,null,null,null,null,null,null,null,null,null,null,null,null,null,null,null,null,null,null,null,null,null,null,null,null,null,null,null,"",null,{"$f":"IFERROR(IF(OR(LOWER(Tabla3[[#This Row],[SEXO]])=\"masculino\", LOWER(Tabla3[[#This Row],[SEXO]])=\"m\", LOWER(Tabla3[[#This Row],[SEXO]])=\"1\"), \"MASCULINO\",\n  IF(OR(LOWER(Tabla3[[#This Row],[SEXO]])=\"femenino\", LOWER(Tabla3[[#This Row],[SEXO]])=\"f\", LOWER(Tabla3[[#This Row],[SEXO]])=\"2\"), \"FEMENINO\",\n  \"\")), \"\")","v":""},0,null,null,null,0]
[{"$f":"IF(Tabla3[[#This Row],[APELLIDOS Y NOMBRES]]>0,ROW()-14,\"\")","v":""},{"$f":"IFERROR(IF(Tabla3[[#This Row],[APELLIDOS Y NOMBRES]]>0,VLOOKUP($H$7,DATA!$A$79:$B$160,2,FALSE),\"\"),\"\")","v":""},null,null,null,null,null,{"$f":"((NOW()-Tabla3[[#This Row],[FECHA DE NACIMIENTO]])/365)-0.5","v":124.79767625317098},null,null,null,null,null,null,null,null,null,null,null,null,null,null,null,null,null,null,null,null,null,null,null,null,null,null,null,null,null,null,null,null,null,null,null,null,null,"",null,{"$f":"IFERROR(IF(OR(LOWER(Tabla3[[#This Row],[SEXO]])=\"masculino\", LOWER(Tabla3[[#This Row],[SEXO]])=\"m\", LOWER(Tabla3[[#This Row],[SEXO]])=\"1\"), \"MASCULINO\",\n  IF(OR(LOWER(Tabla3[[#This Row],[SEXO]])=\"femenino\", LOWER(Tabla3[[#This Row],[SEXO]])=\"f\", LOWER(Tabla3[[#This Row],[SEXO]])=\"2\"), \"FEMENINO\",\n  \"\")), \"\")","v":""},0,null,null,null,0]
[{"$f":"IF(Tabla3[[#This Row],[APELLIDOS Y NOMBRES]]>0,ROW()-14,\"\")","v":""},{"$f":"IFERROR(IF(Tabla3[[#This Row],[APELLIDOS Y NOMBRES]]>0,VLOOKUP($H$7,DATA!$A$79:$B$160,2,FALSE),\"\"),\"\")","v":""},null,null,null,null,null,{"$f":"((NOW()-Tabla3[[#This Row],[FECHA DE NACIMIENTO]])/365)-0.5","v":124.79767625317098},null,null,null,null,null,null,null,null,null,null,null,null,null,null,null,null,null,null,null,null,null,null,null,null,null,null,null,null,null,null,null,null,null,null,null,null,null,"",null,{"$f":"IFERROR(IF(OR(LOWER(Tabla3[[#This Row],[SEXO]])=\"masculino\", LOWER(Tabla3[[#This Row],[SEXO]])=\"m\", LOWER(Tabla3[[#This Row],[SEXO]])=\"1\"), \"MASCULINO\",\n  IF(OR(LOWER(Tabla3[[#This Row],[SEXO]])=\"femenino\", LOWER(Tabla3[[#This Row],[SEXO]])=\"f\", LOWER(Tabla3[[#This Row],[SEXO]])=\"2\"), \"FEMENINO\",\n  \"\")), \"\")","v":""},0,null,null,null,0]
[{"$f":"IF(Tabla3[[#This Row],[APELLIDOS Y NOMBRES]]>0,ROW()-14,\"\")","v":""},{"$f":"IFERROR(IF(Tabla3[[#This Row],[APELLIDOS Y NOMBRES]]>0,VLOOKUP($H$7,DATA!$A$79:$B$160,2,FALSE),\"\"),\"\")","v":""},null,null,null,null,null,{"$f":"((NOW()-Tabla3[[#This Row],[FECHA DE NACIMIENTO]])/365)-0.5","v":124.79767625317098},null,null,null,null,null,null,null,null,null,null,null,null,null,null,null,null,null,null,null,null,null,null,null,null,null,null,null,null,null,null,null,null,null,null,null,null,null,{"$f":"IF(OR($C$5=\"\", $D19728=\"\"), \"\", $C$5)","v":""},null,{"$f":"IFERROR(IF(OR(LOWER(Tabla3[[#This Row],[SEXO]])=\"masculino\", LOWER(Tabla3[[#This Row],[SEXO]])=\"m\", LOWER(Tabla3[[#This Row],[SEXO]])=\"1\"), \"MASCULINO\",\n  IF(OR(LOWER(Tabla3[[#This Row],[SEXO]])=\"femenino\", LOWER(Tabla3[[#This Row],[SEXO]])=\"f\", LOWER(Tabla3[[#This Row],[SEXO]])=\"2\"), \"FEMENINO\",\n  \"\")), \"\")","v":""},{"$f":"COUNTIF(P19728:AH19728,104)","v":0},null,null,null,{"$f":"IF(COUNTIF(P19728:AI19728,104)>0,1,0)","v":0}]
[{"$f":"IF(Tabla3[[#This Row],[APELLIDOS Y NOMBRES]]>0,ROW()-14,\"\")","v":""},{"$f":"IFERROR(IF(Tabla3[[#This Row],[APELLIDOS Y NOMBRES]]>0,VLOOKUP($H$7,DATA!$A$79:$B$160,2,FALSE),\"\"),\"\")","v":""},null,null,null,null,null,{"$f":"((NOW()-Tabla3[[#This Row],[FECHA DE NACIMIENTO]])/365)-0.5","v":124.79767625317098},null,null,null,null,null,null,null,null,null,null,null,null,null,null,null,null,null,null,null,null,null,null,null,null,null,null,null,null,null,null,null,null,null,null,null,null,null,"",null,{"$f":"IFERROR(IF(OR(LOWER(Tabla3[[#This Row],[SEXO]])=\"masculino\", LOWER(Tabla3[[#This Row],[SEXO]])=\"m\", LOWER(Tabla3[[#This Row],[SEXO]])=\"1\"), \"MASCULINO\",\n  IF(OR(LOWER(Tabla3[[#This Row],[SEXO]])=\"femenino\", LOWER(Tabla3[[#This Row],[SEXO]])=\"f\", LOWER(Tabla3[[#This Row],[SEXO]])=\"2\"), \"FEMENINO\",\n  \"\")), \"\")","v":""},0,null,null,null,0]
[{"$f":"IF(Tabla3[[#This Row],[APELLIDOS Y NOMBRES]]>0,ROW()-14,\"\")","v":""},{"$f":"IFERROR(IF(Tabla3[[#This Row],[APELLIDOS Y NOMBRES]]>0,VLOOKUP($H$7,DATA!$A$79:$B$160,2,FALSE),\"\"),\"\")","v":""},null,null,null,null,null,{"$f":"((NOW()-Tabla3[[#This Row],[FECHA DE NACIMIENTO]])/365)-0.5","v":124.79767625317098},null,null,null,null,null,null,null,null,null,null,null,null,null,null,null,null,null,null,null,null,null,null,null,null,null,null,null,null,null,null,null,null,null,null,null,null,null,"",null,{"$f":"IFERROR(IF(OR(LOWER(Tabla3[[#This Row],[SEXO]])=\"masculino\", LOWER(Tabla3[[#This Row],[SEXO]])=\"m\", LOWER(Tabla3[[#This Row],[SEXO]])=\"1\"), \"MASCULINO\",\n  IF(OR(LOWER(Tabla3[[#This Row],[SEXO]])=\"femenino\", LOWER(Tabla3[[#This Row],[SEXO]])=\"f\", LOWER(Tabla3[[#This Row],[SEXO]])=\"2\"), \"FEMENINO\",\n  \"\")), \"\")","v":""},0,null,null,null,0]
[{"$f":"IF(Tabla3[[#This Row],[APELLIDOS Y NOMBRES]]>0,ROW()-14,\"\")","v":""},{"$f":"IFERROR(IF(Tabla3[[#This Row],[APELLIDOS Y NOMBRES]]>0,VLOOKUP($H$7,DATA!$A$79:$B$160,2,FALSE),\"\"),\"\")","v":""},null,null,null,null,null,{"$f":"((NOW()-Tabla3[[#This Row],[FECHA DE NACIMIENTO]])/365)-0.5","v":124.79767625317098},null,null,null,null,null,null,null,null,null,null,null,null,null,null,null,null,null,null,null,null,null,null,null,null,null,null,null,null,null,null,null,null,null,null,null,null,null,"",null,{"$f":"IFERROR(IF(OR(LOWER(Tabla3[[#This Row],[SEXO]])=\"masculino\", LOWER(Tabla3[[#This Row],[SEXO]])=\"m\", LOWER(Tabla3[[#This Row],[SEXO]])=\"1\"), \"MASCULINO\",\n  IF(OR(LOWER(Tabla3[[#This Row],[SEXO]])=\"femenino\", LOWER(Tabla3[[#This Row],[SEXO]])=\"f\", LOWER(Tabla3[[#This Row],[SEXO]])=\"2\"), \"FEMENINO\",\n  \"\")), \"\")","v":""},0,null,null,null,0]
[{"$f":"IF(Tabla3[[#This Row],[APELLIDOS Y NOMBRES]]>0,ROW()-14,\"\")","v":""},{"$f":"IFERROR(IF(Tabla3[[#This Row],[APELLIDOS Y NOMBRES]]>0,VLOOKUP($H$7,DATA!$A$79:$B$160,2,FALSE),\"\"),\"\")","v":""},null,null,null,null,null,{"$f":"((NOW()-Tabla3[[#This Row],[FECHA DE NACIMIENTO]])/365)-0.5","v":124.79767625317098},null,null,null,null,null,null,null,null,null,null,null,null,null,null,null,null,null,null,null,null,null,null,null,null,null,null,null,null,null,null,null,null,null,null,null,null,null,"",null,{"$f":"IFERROR(IF(OR(LOWER(Tabla3[[#This Row],[SEXO]])=\"masculino\", LOWER(Tabla3[[#This Row],[SEXO]])=\"m\", LOWER(Tabla3[[#This Row],[SEXO]])=\"1\"), \"MASCULINO\",\n  IF(OR(LOWER(Tabla3[[#This Row],[SEXO]])=\"femenino\", LOWER(Tabla3[[#This Row],[SEXO]])=\"f\", LOWER(Tabla3[[#This Row],[SEXO]])=\"2\"), \"FEMENINO\",\n  \"\")), \"\")","v":""},0,null,null,null,0]
[{"$f":"IF(Tabla3[[#This Row],[APELLIDOS Y NOMBRES]]>0,ROW()-14,\"\")","v":""},{"$f":"IFERROR(IF(Tabla3[[#This Row],[APELLIDOS Y NOMBRES]]>0,VLOOKUP($H$7,DATA!$A$79:$B$160,2,FALSE),\"\"),\"\")","v":""},null,null,null,null,null,{"$f":"((NOW()-Tabla3[[#This Row],[FECHA DE NACIMIENTO]])/365)-0.5","v":124.79767625317098},null,null,null,null,null,null,null,null,null,null,null,null,null,null,null,null,null,null,null,null,null,null,null,null,null,null,null,null,null,null,null,null,null,null,null,null,null,"",null,{"$f":"IFERROR(IF(OR(LOWER(Tabla3[[#This Row],[SEXO]])=\"masculino\", LOWER(Tabla3[[#This Row],[SEXO]])=\"m\", LOWER(Tabla3[[#This Row],[SEXO]])=\"1\"), \"MASCULINO\",\n  IF(OR(LOWER(Tabla3[[#This Row],[SEXO]])=\"femenino\", LOWER(Tabla3[[#This Row],[SEXO]])=\"f\", LOWER(Tabla3[[#This Row],[SEXO]])=\"2\"), \"FEMENINO\",\n  \"\")), \"\")","v":""},0,null,null,null,0]
[{"$f":"IF(Tabla3[[#This Row],[APELLIDOS Y NOMBRES]]>0,ROW()-14,\"\")","v":""},{"$f":"IFERROR(IF(Tabla3[[#This Row],[APELLIDOS Y NOMBRES]]>0,VLOOKUP($H$7,DATA!$A$79:$B$160,2,FALSE),\"\"),\"\")","v":""},null,null,null,null,null,{"$f":"((NOW()-Tabla3[[#This Row],[FECHA DE NACIMIENTO]])/365)-0.5","v":124.79767625317098},null,null,null,null,null,null,null,null,null,null,null,null,null,null,null,null,null,null,null,null,null,null,null,null,null,null,null,null,null,null,null,null,null,null,null,null,null,"",null,{"$f":"IFERROR(IF(OR(LOWER(Tabla3[[#This Row],[SEXO]])=\"masculino\", LOWER(Tabla3[[#This Row],[SEXO]])=\"m\", LOWER(Tabla3[[#This Row],[SEXO]])=\"1\"), \"MASCULINO\",\n  IF(OR(LOWER(Tabla3[[#This Row],[SEXO]])=\"femenino\", LOWER(Tabla3[[#This Row],[SEXO]])=\"f\", LOWER(Tabla3[[#This Row],[SEXO]])=\"2\"), \"FEMENINO\",\n  \"\")), \"\")","v":""},0,null,null,null,0]
[{"$f":"IF(Tabla3[[#This Row],[APELLIDOS Y NOMBRES]]>0,ROW()-14,\"\")","v":""},{"$f":"IFERROR(IF(Tabla3[[#This Row],[APELLIDOS Y NOMBRES]]>0,VLOOKUP($H$7,DATA!$A$79:$B$160,2,FALSE),\"\"),\"\")","v":""},null,null,null,null,null,{"$f":"((NOW()-Tabla3[[#This Row],[FECHA DE NACIMIENTO]])/365)-0.5","v":124.79767625317098},null,null,null,null,null,null,null,null,null,null,null,null,null,null,null,null,null,null,null,null,null,null,null,null,null,null,null,null,null,null,null,null,null,null,null,null,null,"",null,{"$f":"IFERROR(IF(OR(LOWER(Tabla3[[#This Row],[SEXO]])=\"masculino\", LOWER(Tabla3[[#This Row],[SEXO]])=\"m\", LOWER(Tabla3[[#This Row],[SEXO]])=\"1\"), \"MASCULINO\",\n  IF(OR(LOWER(Tabla3[[#This Row],[SEXO]])=\"femenino\", LOWER(Tabla3[[#This Row],[SEXO]])=\"f\", LOWER(Tabla3[[#This Row],[SEXO]])=\"2\"), \"FEMENINO\",\n  \"\")), \"\")","v":""},0,null,null,null,0]
[{"$f":"IF(Tabla3[[#This Row],[APELLIDOS Y NOMBRES]]>0,ROW()-14,\"\")","v":""},{"$f":"IFERROR(IF(Tabla3[[#This Row],[APELLIDOS Y NOMBRES]]>0,VLOOKUP($H$7,DATA!$A$79:$B$160,2,FALSE),\"\"),\"\")","v":""},null,null,null,null,null,{"$f":"((NOW()-Tabla3[[#This Row],[FECHA DE NACIMIENTO]])/365)-0.5","v":124.79767625317098},null,null,null,null,null,null,null,null,null,null,null,null,null,null,null,null,null,null,null,null,null,null,null,null,null,null,null,null,null,null,null,null,null,null,null,null,null,"",null,{"$f":"IFERROR(IF(OR(LOWER(Tabla3[[#This Row],[SEXO]])=\"masculino\", LOWER(Tabla3[[#This Row],[SEXO]])=\"m\", LOWER(Tabla3[[#This Row],[SEXO]])=\"1\"), \"MASCULINO\",\n  IF(OR(LOWER(Tabla3[[#This Row],[SEXO]])=\"femenino\", LOWER(Tabla3[[#This Row],[SEXO]])=\"f\", LOWER(Tabla3[[#This Row],[SEXO]])=\"2\"), \"FEMENINO\",\n  \"\")), \"\")","v":""},0,null,null,null,0]
[{"$f":"IF(Tabla3[[#This Row],[APELLIDOS Y NOMBRES]]>0,ROW()-14,\"\")","v":""},{"$f":"IFERROR(IF(Tabla3[[#This Row],[APELLIDOS Y NOMBRES]]>0,VLOOKUP($H$7,DATA!$A$79:$B$160,2,FALSE),\"\"),\"\")","v":""},null,null,null,null,null,{"$f":"((NOW()-Tabla3[[#This Row],[FECHA DE NACIMIENTO]])/365)-0.5","v":124.79767625317098},null,null,null,null,null,null,null,null,null,null,null,null,null,null,null,null,null,null,null,null,null,null,null,null,null,null,null,null,null,null,null,null,null,null,null,null,null,"",null,{"$f":"IFERROR(IF(OR(LOWER(Tabla3[[#This Row],[SEXO]])=\"masculino\", LOWER(Tabla3[[#This Row],[SEXO]])=\"m\", LOWER(Tabla3[[#This Row],[SEXO]])=\"1\"), \"MASCULINO\",\n  IF(OR(LOWER(Tabla3[[#This Row],[SEXO]])=\"femenino\", LOWER(Tabla3[[#This Row],[SEXO]])=\"f\", LOWER(Tabla3[[#This Row],[SEXO]])=\"2\"), \"FEMENINO\",\n  \"\")), \"\")","v":""},0,null,null,null,0]
[{"$f":"IF(Tabla3[[#This Row],[APELLIDOS Y NOMBRES]]>0,ROW()-14,\"\")","v":""},{"$f":"IFERROR(IF(Tabla3[[#This Row],[APELLIDOS Y NOMBRES]]>0,VLOOKUP($H$7,DATA!$A$79:$B$160,2,FALSE),\"\"),\"\")","v":""},null,null,null,null,null,{"$f":"((NOW()-Tabla3[[#This Row],[FECHA DE NACIMIENTO]])/365)-0.5","v":124.79767625317098},null,null,null,null,null,null,null,null,null,null,null,null,null,null,null,null,null,null,null,null,null,null,null,null,null,null,null,null,null,null,null,null,null,null,null,null,null,"",null,{"$f":"IFERROR(IF(OR(LOWER(Tabla3[[#This Row],[SEXO]])=\"masculino\", LOWER(Tabla3[[#This Row],[SEXO]])=\"m\", LOWER(Tabla3[[#This Row],[SEXO]])=\"1\"), \"MASCULINO\",\n  IF(OR(LOWER(Tabla3[[#This Row],[SEXO]])=\"femenino\", LOWER(Tabla3[[#This Row],[SEXO]])=\"f\", LOWER(Tabla3[[#This Row],[SEXO]])=\"2\"), \"FEMENINO\",\n  \"\")), \"\")","v":""},0,null,null,null,0]
[{"$f":"IF(Tabla3[[#This Row],[APELLIDOS Y NOMBRES]]>0,ROW()-14,\"\")","v":""},{"$f":"IFERROR(IF(Tabla3[[#This Row],[APELLIDOS Y NOMBRES]]>0,VLOOKUP($H$7,DATA!$A$79:$B$160,2,FALSE),\"\"),\"\")","v":""},null,null,null,null,null,{"$f":"((NOW()-Tabla3[[#This Row],[FECHA DE NACIMIENTO]])/365)-0.5","v":124.79767625317098},null,null,null,null,null,null,null,null,null,null,null,null,null,null,null,null,null,null,null,null,null,null,null,null,null,null,null,null,null,null,null,null,null,null,null,null,null,"",null,{"$f":"IFERROR(IF(OR(LOWER(Tabla3[[#This Row],[SEXO]])=\"masculino\", LOWER(Tabla3[[#This Row],[SEXO]])=\"m\", LOWER(Tabla3[[#This Row],[SEXO]])=\"1\"), \"MASCULINO\",\n  IF(OR(LOWER(Tabla3[[#This Row],[SEXO]])=\"femenino\", LOWER(Tabla3[[#This Row],[SEXO]])=\"f\", LOWER(Tabla3[[#This Row],[SEXO]])=\"2\"), \"FEMENINO\",\n  \"\")), \"\")","v":""},0,null,null,null,0]
[{"$f":"IF(Tabla3[[#This Row],[APELLIDOS Y NOMBRES]]>0,ROW()-14,\"\")","v":""},{"$f":"IFERROR(IF(Tabla3[[#This Row],[APELLIDOS Y NOMBRES]]>0,VLOOKUP($H$7,DATA!$A$79:$B$160,2,FALSE),\"\"),\"\")","v":""},null,null,null,null,null,{"$f":"((NOW()-Tabla3[[#This Row],[FECHA DE NACIMIENTO]])/365)-0.5","v":124.79767625317098},null,null,null,null,null,null,null,null,null,null,null,null,null,null,null,null,null,null,null,null,null,null,null,null,null,null,null,null,null,null,null,null,null,null,null,null,null,"",null,{"$f":"IFERROR(IF(OR(LOWER(Tabla3[[#This Row],[SEXO]])=\"masculino\", LOWER(Tabla3[[#This Row],[SEXO]])=\"m\", LOWER(Tabla3[[#This Row],[SEXO]])=\"1\"), \"MASCULINO\",\n  IF(OR(LOWER(Tabla3[[#This Row],[SEXO]])=\"femenino\", LOWER(Tabla3[[#This Row],[SEXO]])=\"f\", LOWER(Tabla3[[#This Row],[SEXO]])=\"2\"), \"FEMENINO\",\n  \"\")), \"\")","v":""},0,null,null,null,0]
[{"$f":"IF(Tabla3[[#This Row],[APELLIDOS Y NOMBRES]]>0,ROW()-14,\"\")","v":""},{"$f":"IFERROR(IF(Tabla3[[#This Row],[APELLIDOS Y NOMBRES]]>0,VLOOKUP($H$7,DATA!$A$79:$B$160,2,FALSE),\"\"),\"\")","v":""},null,null,null,null,null,{"$f":"((NOW()-Tabla3[[#This Row],[FECHA DE NACIMIENTO]])/365)-0.5","v":124.79767625317098},null,null,null,null,null,null,null,null,null,null,null,null,null,null,null,null,null,null,null,null,null,null,null,null,null,null,null,null,null,null,null,null,null,null,null,null,null,"",null,{"$f":"IFERROR(IF(OR(LOWER(Tabla3[[#This Row],[SEXO]])=\"masculino\", LOWER(Tabla3[[#This Row],[SEXO]])=\"m\", LOWER(Tabla3[[#This Row],[SEXO]])=\"1\"), \"MASCULINO\",\n  IF(OR(LOWER(Tabla3[[#This Row],[SEXO]])=\"femenino\", LOWER(Tabla3[[#This Row],[SEXO]])=\"f\", LOWER(Tabla3[[#This Row],[SEXO]])=\"2\"), \"FEMENINO\",\n  \"\")), \"\")","v":""},0,null,null,null,0]
[{"$f":"IF(Tabla3[[#This Row],[APELLIDOS Y NOMBRES]]>0,ROW()-14,\"\")","v":""},{"$f":"IFERROR(IF(Tabla3[[#This Row],[APELLIDOS Y NOMBRES]]>0,VLOOKUP($H$7,DATA!$A$79:$B$160,2,FALSE),\"\"),\"\")","v":""},null,null,null,null,null,{"$f":"((NOW()-Tabla3[[#This Row],[FECHA DE NACIMIENTO]])/365)-0.5","v":124.79767625317098},null,null,null,null,null,null,null,null,null,null,null,null,null,null,null,null,null,null,null,null,null,null,null,null,null,null,null,null,null,null,null,null,null,null,null,null,null,"",null,{"$f":"IFERROR(IF(OR(LOWER(Tabla3[[#This Row],[SEXO]])=\"masculino\", LOWER(Tabla3[[#This Row],[SEXO]])=\"m\", LOWER(Tabla3[[#This Row],[SEXO]])=\"1\"), \"MASCULINO\",\n  IF(OR(LOWER(Tabla3[[#This Row],[SEXO]])=\"femenino\", LOWER(Tabla3[[#This Row],[SEXO]])=\"f\", LOWER(Tabla3[[#This Row],[SEXO]])=\"2\"), \"FEMENINO\",\n  \"\")), \"\")","v":""},0,null,null,null,0]
[{"$f":"IF(Tabla3[[#This Row],[APELLIDOS Y NOMBRES]]>0,ROW()-14,\"\")","v":""},{"$f":"IFERROR(IF(Tabla3[[#This Row],[APELLIDOS Y NOMBRES]]>0,VLOOKUP($H$7,DATA!$A$79:$B$160,2,FALSE),\"\"),\"\")","v":""},null,null,null,null,null,{"$f":"((NOW()-Tabla3[[#This Row],[FECHA DE NACIMIENTO]])/365)-0.5","v":124.79767625317098},null,null,null,null,null,null,null,null,null,null,null,null,null,null,null,null,null,null,null,null,null,null,null,null,null,null,null,null,null,null,null,null,null,null,null,null,null,"",null,{"$f":"IFERROR(IF(OR(LOWER(Tabla3[[#This Row],[SEXO]])=\"masculino\", LOWER(Tabla3[[#This Row],[SEXO]])=\"m\", LOWER(Tabla3[[#This Row],[SEXO]])=\"1\"), \"MASCULINO\",\n  IF(OR(LOWER(Tabla3[[#This Row],[SEXO]])=\"femenino\", LOWER(Tabla3[[#This Row],[SEXO]])=\"f\", LOWER(Tabla3[[#This Row],[SEXO]])=\"2\"), \"FEMENINO\",\n  \"\")), \"\")","v":""},0,null,null,null,0]
[{"$f":"IF(Tabla3[[#This Row],[APELLIDOS Y NOMBRES]]>0,ROW()-14,\"\")","v":""},{"$f":"IFERROR(IF(Tabla3[[#This Row],[APELLIDOS Y NOMBRES]]>0,VLOOKUP($H$7,DATA!$A$79:$B$160,2,FALSE),\"\"),\"\")","v":""},null,null,null,null,null,{"$f":"((NOW()-Tabla3[[#This Row],[FECHA DE NACIMIENTO]])/365)-0.5","v":124.79767625317098},null,null,null,null,null,null,null,null,null,null,null,null,null,null,null,null,null,null,null,null,null,null,null,null,null,null,null,null,null,null,null,null,null,null,null,null,null,"",null,{"$f":"IFERROR(IF(OR(LOWER(Tabla3[[#This Row],[SEXO]])=\"masculino\", LOWER(Tabla3[[#This Row],[SEXO]])=\"m\", LOWER(Tabla3[[#This Row],[SEXO]])=\"1\"), \"MASCULINO\",\n  IF(OR(LOWER(Tabla3[[#This Row],[SEXO]])=\"femenino\", LOWER(Tabla3[[#This Row],[SEXO]])=\"f\", LOWER(Tabla3[[#This Row],[SEXO]])=\"2\"), \"FEMENINO\",\n  \"\")), \"\")","v":""},0,null,null,null,0]
[{"$f":"IF(Tabla3[[#This Row],[APELLIDOS Y NOMBRES]]>0,ROW()-14,\"\")","v":""},{"$f":"IFERROR(IF(Tabla3[[#This Row],[APELLIDOS Y NOMBRES]]>0,VLOOKUP($H$7,DATA!$A$79:$B$160,2,FALSE),\"\"),\"\")","v":""},null,null,null,null,null,{"$f":"((NOW()-Tabla3[[#This Row],[FECHA DE NACIMIENTO]])/365)-0.5","v":124.79767625317098},null,null,null,null,null,null,null,null,null,null,null,null,null,null,null,null,null,null,null,null,null,null,null,null,null,null,null,null,null,null,null,null,null,null,null,null,null,"",null,{"$f":"IFERROR(IF(OR(LOWER(Tabla3[[#This Row],[SEXO]])=\"masculino\", LOWER(Tabla3[[#This Row],[SEXO]])=\"m\", LOWER(Tabla3[[#This Row],[SEXO]])=\"1\"), \"MASCULINO\",\n  IF(OR(LOWER(Tabla3[[#This Row],[SEXO]])=\"femenino\", LOWER(Tabla3[[#This Row],[SEXO]])=\"f\", LOWER(Tabla3[[#This Row],[SEXO]])=\"2\"), \"FEMENINO\",\n  \"\")), \"\")","v":""},0,null,null,null,0]
[{"$f":"IF(Tabla3[[#This Row],[APELLIDOS Y NOMBRES]]>0,ROW()-14,\"\")","v":""},{"$f":"IFERROR(IF(Tabla3[[#This Row],[APELLIDOS Y NOMBRES]]>0,VLOOKUP($H$7,DATA!$A$79:$B$160,2,FALSE),\"\"),\"\")","v":""},null,null,null,null,null,{"$f":"((NOW()-Tabla3[[#This Row],[FECHA DE NACIMIENTO]])/365)-0.5","v":124.79767625317098},null,null,null,null,null,null,null,null,null,null,null,null,null,null,null,null,null,null,null,null,null,null,null,null,null,null,null,null,null,null,null,null,null,null,null,null,null,"",null,{"$f":"IFERROR(IF(OR(LOWER(Tabla3[[#This Row],[SEXO]])=\"masculino\", LOWER(Tabla3[[#This Row],[SEXO]])=\"m\", LOWER(Tabla3[[#This Row],[SEXO]])=\"1\"), \"MASCULINO\",\n  IF(OR(LOWER(Tabla3[[#This Row],[SEXO]])=\"femenino\", LOWER(Tabla3[[#This Row],[SEXO]])=\"f\", LOWER(Tabla3[[#This Row],[SEXO]])=\"2\"), \"FEMENINO\",\n  \"\")), \"\")","v":""},0,null,null,null,0]
[{"$f":"IF(Tabla3[[#This Row],[APELLIDOS Y NOMBRES]]>0,ROW()-14,\"\")","v":""},{"$f":"IFERROR(IF(Tabla3[[#This Row],[APELLIDOS Y NOMBRES]]>0,VLOOKUP($H$7,DATA!$A$79:$B$160,2,FALSE),\"\"),\"\")","v":""},null,null,null,null,null,{"$f":"((NOW()-Tabla3[[#This Row],[FECHA DE NACIMIENTO]])/365)-0.5","v":124.79767625317098},null,null,null,null,null,null,null,null,null,null,null,null,null,null,null,null,null,null,null,null,null,null,null,null,null,null,null,null,null,null,null,null,null,null,null,null,null,"",null,{"$f":"IFERROR(IF(OR(LOWER(Tabla3[[#This Row],[SEXO]])=\"masculino\", LOWER(Tabla3[[#This Row],[SEXO]])=\"m\", LOWER(Tabla3[[#This Row],[SEXO]])=\"1\"), \"MASCULINO\",\n  IF(OR(LOWER(Tabla3[[#This Row],[SEXO]])=\"femenino\", LOWER(Tabla3[[#This Row],[SEXO]])=\"f\", LOWER(Tabla3[[#This Row],[SEXO]])=\"2\"), \"FEMENINO\",\n  \"\")), \"\")","v":""},0,null,null,null,0]
[{"$f":"IF(Tabla3[[#This Row],[APELLIDOS Y NOMBRES]]>0,ROW()-14,\"\")","v":""},{"$f":"IFERROR(IF(Tabla3[[#This Row],[APELLIDOS Y NOMBRES]]>0,VLOOKUP($H$7,DATA!$A$79:$B$160,2,FALSE),\"\"),\"\")","v":""},null,null,null,null,null,{"$f":"((NOW()-Tabla3[[#This Row],[FECHA DE NACIMIENTO]])/365)-0.5","v":124.79767625317098},null,null,null,null,null,null,null,null,null,null,null,null,null,null,null,null,null,null,null,null,null,null,null,null,null,null,null,null,null,null,null,null,null,null,null,null,null,"",null,{"$f":"IFERROR(IF(OR(LOWER(Tabla3[[#This Row],[SEXO]])=\"masculino\", LOWER(Tabla3[[#This Row],[SEXO]])=\"m\", LOWER(Tabla3[[#This Row],[SEXO]])=\"1\"), \"MASCULINO\",\n  IF(OR(LOWER(Tabla3[[#This Row],[SEXO]])=\"femenino\", LOWER(Tabla3[[#This Row],[SEXO]])=\"f\", LOWER(Tabla3[[#This Row],[SEXO]])=\"2\"), \"FEMENINO\",\n  \"\")), \"\")","v":""},0,null,null,null,0]
[{"$f":"IF(Tabla3[[#This Row],[APELLIDOS Y NOMBRES]]>0,ROW()-14,\"\")","v":""},{"$f":"IFERROR(IF(Tabla3[[#This Row],[APELLIDOS Y NOMBRES]]>0,VLOOKUP($H$7,DATA!$A$79:$B$160,2,FALSE),\"\"),\"\")","v":""},null,null,null,null,null,{"$f":"((NOW()-Tabla3[[#This Row],[FECHA DE NACIMIENTO]])/365)-0.5","v":124.79767625317098},null,null,null,null,null,null,null,null,null,null,null,null,null,null,null,null,null,null,null,null,null,null,null,null,null,null,null,null,null,null,null,null,null,null,null,null,null,"",null,{"$f":"IFERROR(IF(OR(LOWER(Tabla3[[#This Row],[SEXO]])=\"masculino\", LOWER(Tabla3[[#This Row],[SEXO]])=\"m\", LOWER(Tabla3[[#This Row],[SEXO]])=\"1\"), \"MASCULINO\",\n  IF(OR(LOWER(Tabla3[[#This Row],[SEXO]])=\"femenino\", LOWER(Tabla3[[#This Row],[SEXO]])=\"f\", LOWER(Tabla3[[#This Row],[SEXO]])=\"2\"), \"FEMENINO\",\n  \"\")), \"\")","v":""},0,null,null,null,0]
[{"$f":"IF(Tabla3[[#This Row],[APELLIDOS Y NOMBRES]]>0,ROW()-14,\"\")","v":""},{"$f":"IFERROR(IF(Tabla3[[#This Row],[APELLIDOS Y NOMBRES]]>0,VLOOKUP($H$7,DATA!$A$79:$B$160,2,FALSE),\"\"),\"\")","v":""},null,null,null,null,null,{"$f":"((NOW()-Tabla3[[#This Row],[FECHA DE NACIMIENTO]])/365)-0.5","v":124.79767625317098},null,null,null,null,null,null,null,null,null,null,null,null,null,null,null,null,null,null,null,null,null,null,null,null,null,null,null,null,null,null,null,null,null,null,null,null,null,"",null,{"$f":"IFERROR(IF(OR(LOWER(Tabla3[[#This Row],[SEXO]])=\"masculino\", LOWER(Tabla3[[#This Row],[SEXO]])=\"m\", LOWER(Tabla3[[#This Row],[SEXO]])=\"1\"), \"MASCULINO\",\n  IF(OR(LOWER(Tabla3[[#This Row],[SEXO]])=\"femenino\", LOWER(Tabla3[[#This Row],[SEXO]])=\"f\", LOWER(Tabla3[[#This Row],[SEXO]])=\"2\"), \"FEMENINO\",\n  \"\")), \"\")","v":""},0,null,null,null,0]
[{"$f":"IF(Tabla3[[#This Row],[APELLIDOS Y NOMBRES]]>0,ROW()-14,\"\")","v":""},{"$f":"IFERROR(IF(Tabla3[[#This Row],[APELLIDOS Y NOMBRES]]>0,VLOOKUP($H$7,DATA!$A$79:$B$160,2,FALSE),\"\"),\"\")","v":""},null,null,null,null,null,{"$f":"((NOW()-Tabla3[[#This Row],[FECHA DE NACIMIENTO]])/365)-0.5","v":124.79767625317098},null,null,null,null,null,null,null,null,null,null,null,null,null,null,null,null,null,null,null,null,null,null,null,null,null,null,null,null,null,null,null,null,null,null,null,null,null,"",null,{"$f":"IFERROR(IF(OR(LOWER(Tabla3[[#This Row],[SEXO]])=\"masculino\", LOWER(Tabla3[[#This Row],[SEXO]])=\"m\", LOWER(Tabla3[[#This Row],[SEXO]])=\"1\"), \"MASCULINO\",\n  IF(OR(LOWER(Tabla3[[#This Row],[SEXO]])=\"femenino\", LOWER(Tabla3[[#This Row],[SEXO]])=\"f\", LOWER(Tabla3[[#This Row],[SEXO]])=\"2\"), \"FEMENINO\",\n  \"\")), \"\")","v":""},0,null,null,null,0]
[{"$f":"IF(Tabla3[[#This Row],[APELLIDOS Y NOMBRES]]>0,ROW()-14,\"\")","v":""},{"$f":"IFERROR(IF(Tabla3[[#This Row],[APELLIDOS Y NOMBRES]]>0,VLOOKUP($H$7,DATA!$A$79:$B$160,2,FALSE),\"\"),\"\")","v":""},null,null,null,null,null,{"$f":"((NOW()-Tabla3[[#This Row],[FECHA DE NACIMIENTO]])/365)-0.5","v":124.79767625317098},null,null,null,null,null,null,null,null,null,null,null,null,null,null,null,null,null,null,null,null,null,null,null,null,null,null,null,null,null,null,null,null,null,null,null,null,null,"",null,{"$f":"IFERROR(IF(OR(LOWER(Tabla3[[#This Row],[SEXO]])=\"masculino\", LOWER(Tabla3[[#This Row],[SEXO]])=\"m\", LOWER(Tabla3[[#This Row],[SEXO]])=\"1\"), \"MASCULINO\",\n  IF(OR(LOWER(Tabla3[[#This Row],[SEXO]])=\"femenino\", LOWER(Tabla3[[#This Row],[SEXO]])=\"f\", LOWER(Tabla3[[#This Row],[SEXO]])=\"2\"), \"FEMENINO\",\n  \"\")), \"\")","v":""},0,null,null,null,0]
[{"$f":"IF(Tabla3[[#This Row],[APELLIDOS Y NOMBRES]]>0,ROW()-14,\"\")","v":""},{"$f":"IFERROR(IF(Tabla3[[#This Row],[APELLIDOS Y NOMBRES]]>0,VLOOKUP($H$7,DATA!$A$79:$B$160,2,FALSE),\"\"),\"\")","v":""},null,null,null,null,null,{"$f":"((NOW()-Tabla3[[#This Row],[FECHA DE NACIMIENTO]])/365)-0.5","v":124.79767625317098},null,null,null,null,null,null,null,null,null,null,null,null,null,null,null,null,null,null,null,null,null,null,null,null,null,null,null,null,null,null,null,null,null,null,null,null,null,"",null,{"$f":"IFERROR(IF(OR(LOWER(Tabla3[[#This Row],[SEXO]])=\"masculino\", LOWER(Tabla3[[#This Row],[SEXO]])=\"m\", LOWER(Tabla3[[#This Row],[SEXO]])=\"1\"), \"MASCULINO\",\n  IF(OR(LOWER(Tabla3[[#This Row],[SEXO]])=\"femenino\", LOWER(Tabla3[[#This Row],[SEXO]])=\"f\", LOWER(Tabla3[[#This Row],[SEXO]])=\"2\"), \"FEMENINO\",\n  \"\")), \"\")","v":""},0,null,null,null,0]
[{"$f":"IF(Tabla3[[#This Row],[APELLIDOS Y NOMBRES]]>0,ROW()-14,\"\")","v":""},{"$f":"IFERROR(IF(Tabla3[[#This Row],[APELLIDOS Y NOMBRES]]>0,VLOOKUP($H$7,DATA!$A$79:$B$160,2,FALSE),\"\"),\"\")","v":""},null,null,null,null,null,{"$f":"((NOW()-Tabla3[[#This Row],[FECHA DE NACIMIENTO]])/365)-0.5","v":124.79767625317098},null,null,null,null,null,null,null,null,null,null,null,null,null,null,null,null,null,null,null,null,null,null,null,null,null,null,null,null,null,null,null,null,null,null,null,null,null,"",null,{"$f":"IFERROR(IF(OR(LOWER(Tabla3[[#This Row],[SEXO]])=\"masculino\", LOWER(Tabla3[[#This Row],[SEXO]])=\"m\", LOWER(Tabla3[[#This Row],[SEXO]])=\"1\"), \"MASCULINO\",\n  IF(OR(LOWER(Tabla3[[#This Row],[SEXO]])=\"femenino\", LOWER(Tabla3[[#This Row],[SEXO]])=\"f\", LOWER(Tabla3[[#This Row],[SEXO]])=\"2\"), \"FEMENINO\",\n  \"\")), \"\")","v":""},0,null,null,null,0]
[{"$f":"IF(Tabla3[[#This Row],[APELLIDOS Y NOMBRES]]>0,ROW()-14,\"\")","v":""},{"$f":"IFERROR(IF(Tabla3[[#This Row],[APELLIDOS Y NOMBRES]]>0,VLOOKUP($H$7,DATA!$A$79:$B$160,2,FALSE),\"\"),\"\")","v":""},null,null,null,null,null,{"$f":"((NOW()-Tabla3[[#This Row],[FECHA DE NACIMIENTO]])/365)-0.5","v":124.79767625317098},null,null,null,null,null,null,null,null,null,null,null,null,null,null,null,null,null,null,null,null,null,null,null,null,null,null,null,null,null,null,null,null,null,null,null,null,null,"",null,{"$f":"IFERROR(IF(OR(LOWER(Tabla3[[#This Row],[SEXO]])=\"masculino\", LOWER(Tabla3[[#This Row],[SEXO]])=\"m\", LOWER(Tabla3[[#This Row],[SEXO]])=\"1\"), \"MASCULINO\",\n  IF(OR(LOWER(Tabla3[[#This Row],[SEXO]])=\"femenino\", LOWER(Tabla3[[#This Row],[SEXO]])=\"f\", LOWER(Tabla3[[#This Row],[SEXO]])=\"2\"), \"FEMENINO\",\n  \"\")), \"\")","v":""},0,null,null,null,0]
[{"$f":"IF(Tabla3[[#This Row],[APELLIDOS Y NOMBRES]]>0,ROW()-14,\"\")","v":""},{"$f":"IFERROR(IF(Tabla3[[#This Row],[APELLIDOS Y NOMBRES]]>0,VLOOKUP($H$7,DATA!$A$79:$B$160,2,FALSE),\"\"),\"\")","v":""},null,null,null,null,null,{"$f":"((NOW()-Tabla3[[#This Row],[FECHA DE NACIMIENTO]])/365)-0.5","v":124.79767625317098},null,null,null,null,null,null,null,null,null,null,null,null,null,null,null,null,null,null,null,null,null,null,null,null,null,null,null,null,null,null,null,null,null,null,null,null,null,"",null,{"$f":"IFERROR(IF(OR(LOWER(Tabla3[[#This Row],[SEXO]])=\"masculino\", LOWER(Tabla3[[#This Row],[SEXO]])=\"m\", LOWER(Tabla3[[#This Row],[SEXO]])=\"1\"), \"MASCULINO\",\n  IF(OR(LOWER(Tabla3[[#This Row],[SEXO]])=\"femenino\", LOWER(Tabla3[[#This Row],[SEXO]])=\"f\", LOWER(Tabla3[[#This Row],[SEXO]])=\"2\"), \"FEMENINO\",\n  \"\")), \"\")","v":""},0,null,null,null,0]
[{"$f":"IF(Tabla3[[#This Row],[APELLIDOS Y NOMBRES]]>0,ROW()-14,\"\")","v":""},{"$f":"IFERROR(IF(Tabla3[[#This Row],[APELLIDOS Y NOMBRES]]>0,VLOOKUP($H$7,DATA!$A$79:$B$160,2,FALSE),\"\"),\"\")","v":""},null,null,null,null,null,{"$f":"((NOW()-Tabla3[[#This Row],[FECHA DE NACIMIENTO]])/365)-0.5","v":124.79767625317098},null,null,null,null,null,null,null,null,null,null,null,null,null,null,null,null,null,null,null,null,null,null,null,null,null,null,null,null,null,null,null,null,null,null,null,null,null,"",null,{"$f":"IFERROR(IF(OR(LOWER(Tabla3[[#This Row],[SEXO]])=\"masculino\", LOWER(Tabla3[[#This Row],[SEXO]])=\"m\", LOWER(Tabla3[[#This Row],[SEXO]])=\"1\"), \"MASCULINO\",\n  IF(OR(LOWER(Tabla3[[#This Row],[SEXO]])=\"femenino\", LOWER(Tabla3[[#This Row],[SEXO]])=\"f\", LOWER(Tabla3[[#This Row],[SEXO]])=\"2\"), \"FEMENINO\",\n  \"\")), \"\")","v":""},0,null,null,null,0]
[{"$f":"IF(Tabla3[[#This Row],[APELLIDOS Y NOMBRES]]>0,ROW()-14,\"\")","v":""},{"$f":"IFERROR(IF(Tabla3[[#This Row],[APELLIDOS Y NOMBRES]]>0,VLOOKUP($H$7,DATA!$A$79:$B$160,2,FALSE),\"\"),\"\")","v":""},null,null,null,null,null,{"$f":"((NOW()-Tabla3[[#This Row],[FECHA DE NACIMIENTO]])/365)-0.5","v":124.79767625317098},null,null,null,null,null,null,null,null,null,null,null,null,null,null,null,null,null,null,null,null,null,null,null,null,null,null,null,null,null,null,null,null,null,null,null,null,null,"",null,{"$f":"IFERROR(IF(OR(LOWER(Tabla3[[#This Row],[SEXO]])=\"masculino\", LOWER(Tabla3[[#This Row],[SEXO]])=\"m\", LOWER(Tabla3[[#This Row],[SEXO]])=\"1\"), \"MASCULINO\",\n  IF(OR(LOWER(Tabla3[[#This Row],[SEXO]])=\"femenino\", LOWER(Tabla3[[#This Row],[SEXO]])=\"f\", LOWER(Tabla3[[#This Row],[SEXO]])=\"2\"), \"FEMENINO\",\n  \"\")), \"\")","v":""},0,null,null,null,0]
[{"$f":"IF(Tabla3[[#This Row],[APELLIDOS Y NOMBRES]]>0,ROW()-14,\"\")","v":""},{"$f":"IFERROR(IF(Tabla3[[#This Row],[APELLIDOS Y NOMBRES]]>0,VLOOKUP($H$7,DATA!$A$79:$B$160,2,FALSE),\"\"),\"\")","v":""},null,null,null,null,null,{"$f":"((NOW()-Tabla3[[#This Row],[FECHA DE NACIMIENTO]])/365)-0.5","v":124.79767625317098},null,null,null,null,null,null,null,null,null,null,null,null,null,null,null,null,null,null,null,null,null,null,null,null,null,null,null,null,null,null,null,null,null,null,null,null,null,"",null,{"$f":"IFERROR(IF(OR(LOWER(Tabla3[[#This Row],[SEXO]])=\"masculino\", LOWER(Tabla3[[#This Row],[SEXO]])=\"m\", LOWER(Tabla3[[#This Row],[SEXO]])=\"1\"), \"MASCULINO\",\n  IF(OR(LOWER(Tabla3[[#This Row],[SEXO]])=\"femenino\", LOWER(Tabla3[[#This Row],[SEXO]])=\"f\", LOWER(Tabla3[[#This Row],[SEXO]])=\"2\"), \"FEMENINO\",\n  \"\")), \"\")","v":""},0,null,null,null,0]
[{"$f":"IF(Tabla3[[#This Row],[APELLIDOS Y NOMBRES]]>0,ROW()-14,\"\")","v":""},{"$f":"IFERROR(IF(Tabla3[[#This Row],[APELLIDOS Y NOMBRES]]>0,VLOOKUP($H$7,DATA!$A$79:$B$160,2,FALSE),\"\"),\"\")","v":""},null,null,null,null,null,{"$f":"((NOW()-Tabla3[[#This Row],[FECHA DE NACIMIENTO]])/365)-0.5","v":124.79767625317098},null,null,null,null,null,null,null,null,null,null,null,null,null,null,null,null,null,null,null,null,null,null,null,null,null,null,null,null,null,null,null,null,null,null,null,null,null,"",null,{"$f":"IFERROR(IF(OR(LOWER(Tabla3[[#This Row],[SEXO]])=\"masculino\", LOWER(Tabla3[[#This Row],[SEXO]])=\"m\", LOWER(Tabla3[[#This Row],[SEXO]])=\"1\"), \"MASCULINO\",\n  IF(OR(LOWER(Tabla3[[#This Row],[SEXO]])=\"femenino\", LOWER(Tabla3[[#This Row],[SEXO]])=\"f\", LOWER(Tabla3[[#This Row],[SEXO]])=\"2\"), \"FEMENINO\",\n  \"\")), \"\")","v":""},0,null,null,null,0]
[{"$f":"IF(Tabla3[[#This Row],[APELLIDOS Y NOMBRES]]>0,ROW()-14,\"\")","v":""},{"$f":"IFERROR(IF(Tabla3[[#This Row],[APELLIDOS Y NOMBRES]]>0,VLOOKUP($H$7,DATA!$A$79:$B$160,2,FALSE),\"\"),\"\")","v":""},null,null,null,null,null,{"$f":"((NOW()-Tabla3[[#This Row],[FECHA DE NACIMIENTO]])/365)-0.5","v":124.79767625317098},null,null,null,null,null,null,null,null,null,null,null,null,null,null,null,null,null,null,null,null,null,null,null,null,null,null,null,null,null,null,null,null,null,null,null,null,null,"",null,{"$f":"IFERROR(IF(OR(LOWER(Tabla3[[#This Row],[SEXO]])=\"masculino\", LOWER(Tabla3[[#This Row],[SEXO]])=\"m\", LOWER(Tabla3[[#This Row],[SEXO]])=\"1\"), \"MASCULINO\",\n  IF(OR(LOWER(Tabla3[[#This Row],[SEXO]])=\"femenino\", LOWER(Tabla3[[#This Row],[SEXO]])=\"f\", LOWER(Tabla3[[#This Row],[SEXO]])=\"2\"), \"FEMENINO\",\n  \"\")), \"\")","v":""},0,null,null,null,0]
[{"$f":"IF(Tabla3[[#This Row],[APELLIDOS Y NOMBRES]]>0,ROW()-14,\"\")","v":""},{"$f":"IFERROR(IF(Tabla3[[#This Row],[APELLIDOS Y NOMBRES]]>0,VLOOKUP($H$7,DATA!$A$79:$B$160,2,FALSE),\"\"),\"\")","v":""},null,null,null,null,null,{"$f":"((NOW()-Tabla3[[#This Row],[FECHA DE NACIMIENTO]])/365)-0.5","v":124.79767625317098},null,null,null,null,null,null,null,null,null,null,null,null,null,null,null,null,null,null,null,null,null,null,null,null,null,null,null,null,null,null,null,null,null,null,null,null,null,"",null,{"$f":"IFERROR(IF(OR(LOWER(Tabla3[[#This Row],[SEXO]])=\"masculino\", LOWER(Tabla3[[#This Row],[SEXO]])=\"m\", LOWER(Tabla3[[#This Row],[SEXO]])=\"1\"), \"MASCULINO\",\n  IF(OR(LOWER(Tabla3[[#This Row],[SEXO]])=\"femenino\", LOWER(Tabla3[[#This Row],[SEXO]])=\"f\", LOWER(Tabla3[[#This Row],[SEXO]])=\"2\"), \"FEMENINO\",\n  \"\")), \"\")","v":""},0,null,null,null,0]
[{"$f":"IF(Tabla3[[#This Row],[APELLIDOS Y NOMBRES]]>0,ROW()-14,\"\")","v":""},{"$f":"IFERROR(IF(Tabla3[[#This Row],[APELLIDOS Y NOMBRES]]>0,VLOOKUP($H$7,DATA!$A$79:$B$160,2,FALSE),\"\"),\"\")","v":""},null,null,null,null,null,{"$f":"((NOW()-Tabla3[[#This Row],[FECHA DE NACIMIENTO]])/365)-0.5","v":124.79767625317098},null,null,null,null,null,null,null,null,null,null,null,null,null,null,null,null,null,null,null,null,null,null,null,null,null,null,null,null,null,null,null,null,null,null,null,null,null,"",null,{"$f":"IFERROR(IF(OR(LOWER(Tabla3[[#This Row],[SEXO]])=\"masculino\", LOWER(Tabla3[[#This Row],[SEXO]])=\"m\", LOWER(Tabla3[[#This Row],[SEXO]])=\"1\"), \"MASCULINO\",\n  IF(OR(LOWER(Tabla3[[#This Row],[SEXO]])=\"femenino\", LOWER(Tabla3[[#This Row],[SEXO]])=\"f\", LOWER(Tabla3[[#This Row],[SEXO]])=\"2\"), \"FEMENINO\",\n  \"\")), \"\")","v":""},0,null,null,null,0]
[{"$f":"IF(Tabla3[[#This Row],[APELLIDOS Y NOMBRES]]>0,ROW()-14,\"\")","v":""},{"$f":"IFERROR(IF(Tabla3[[#This Row],[APELLIDOS Y NOMBRES]]>0,VLOOKUP($H$7,DATA!$A$79:$B$160,2,FALSE),\"\"),\"\")","v":""},null,null,null,null,null,{"$f":"((NOW()-Tabla3[[#This Row],[FECHA DE NACIMIENTO]])/365)-0.5","v":124.79767625317098},null,null,null,null,null,null,null,null,null,null,null,null,null,null,null,null,null,null,null,null,null,null,null,null,null,null,null,null,null,null,null,null,null,null,null,null,null,"",null,{"$f":"IFERROR(IF(OR(LOWER(Tabla3[[#This Row],[SEXO]])=\"masculino\", LOWER(Tabla3[[#This Row],[SEXO]])=\"m\", LOWER(Tabla3[[#This Row],[SEXO]])=\"1\"), \"MASCULINO\",\n  IF(OR(LOWER(Tabla3[[#This Row],[SEXO]])=\"femenino\", LOWER(Tabla3[[#This Row],[SEXO]])=\"f\", LOWER(Tabla3[[#This Row],[SEXO]])=\"2\"), \"FEMENINO\",\n  \"\")), \"\")","v":""},0,null,null,null,0]
[{"$f":"IF(Tabla3[[#This Row],[APELLIDOS Y NOMBRES]]>0,ROW()-14,\"\")","v":""},{"$f":"IFERROR(IF(Tabla3[[#This Row],[APELLIDOS Y NOMBRES]]>0,VLOOKUP($H$7,DATA!$A$79:$B$160,2,FALSE),\"\"),\"\")","v":""},null,null,null,null,null,{"$f":"((NOW()-Tabla3[[#This Row],[FECHA DE NACIMIENTO]])/365)-0.5","v":124.79767625317098},null,null,null,null,null,null,null,null,null,null,null,null,null,null,null,null,null,null,null,null,null,null,null,null,null,null,null,null,null,null,null,null,null,null,null,null,null,"",null,{"$f":"IFERROR(IF(OR(LOWER(Tabla3[[#This Row],[SEXO]])=\"masculino\", LOWER(Tabla3[[#This Row],[SEXO]])=\"m\", LOWER(Tabla3[[#This Row],[SEXO]])=\"1\"), \"MASCULINO\",\n  IF(OR(LOWER(Tabla3[[#This Row],[SEXO]])=\"femenino\", LOWER(Tabla3[[#This Row],[SEXO]])=\"f\", LOWER(Tabla3[[#This Row],[SEXO]])=\"2\"), \"FEMENINO\",\n  \"\")), \"\")","v":""},0,null,null,null,0]
[{"$f":"IF(Tabla3[[#This Row],[APELLIDOS Y NOMBRES]]>0,ROW()-14,\"\")","v":""},{"$f":"IFERROR(IF(Tabla3[[#This Row],[APELLIDOS Y NOMBRES]]>0,VLOOKUP($H$7,DATA!$A$79:$B$160,2,FALSE),\"\"),\"\")","v":""},null,null,null,null,null,{"$f":"((NOW()-Tabla3[[#This Row],[FECHA DE NACIMIENTO]])/365)-0.5","v":124.79767625317098},null,null,null,null,null,null,null,null,null,null,null,null,null,null,null,null,null,null,null,null,null,null,null,null,null,null,null,null,null,null,null,null,null,null,null,null,null,"",null,{"$f":"IFERROR(IF(OR(LOWER(Tabla3[[#This Row],[SEXO]])=\"masculino\", LOWER(Tabla3[[#This Row],[SEXO]])=\"m\", LOWER(Tabla3[[#This Row],[SEXO]])=\"1\"), \"MASCULINO\",\n  IF(OR(LOWER(Tabla3[[#This Row],[SEXO]])=\"femenino\", LOWER(Tabla3[[#This Row],[SEXO]])=\"f\", LOWER(Tabla3[[#This Row],[SEXO]])=\"2\"), \"FEMENINO\",\n  \"\")), \"\")","v":""},0,null,null,null,0]
[{"$f":"IF(Tabla3[[#This Row],[APELLIDOS Y NOMBRES]]>0,ROW()-14,\"\")","v":""},{"$f":"IFERROR(IF(Tabla3[[#This Row],[APELLIDOS Y NOMBRES]]>0,VLOOKUP($H$7,DATA!$A$79:$B$160,2,FALSE),\"\"),\"\")","v":""},null,null,null,null,null,{"$f":"((NOW()-Tabla3[[#This Row],[FECHA DE NACIMIENTO]])/365)-0.5","v":124.79767625317098},null,null,null,null,null,null,null,null,null,null,null,null,null,null,null,null,null,null,null,null,null,null,null,null,null,null,null,null,null,null,null,null,null,null,null,null,null,"",null,{"$f":"IFERROR(IF(OR(LOWER(Tabla3[[#This Row],[SEXO]])=\"masculino\", LOWER(Tabla3[[#This Row],[SEXO]])=\"m\", LOWER(Tabla3[[#This Row],[SEXO]])=\"1\"), \"MASCULINO\",\n  IF(OR(LOWER(Tabla3[[#This Row],[SEXO]])=\"femenino\", LOWER(Tabla3[[#This Row],[SEXO]])=\"f\", LOWER(Tabla3[[#This Row],[SEXO]])=\"2\"), \"FEMENINO\",\n  \"\")), \"\")","v":""},0,null,null,null,0]
[{"$f":"IF(Tabla3[[#This Row],[APELLIDOS Y NOMBRES]]>0,ROW()-14,\"\")","v":""},{"$f":"IFERROR(IF(Tabla3[[#This Row],[APELLIDOS Y NOMBRES]]>0,VLOOKUP($H$7,DATA!$A$79:$B$160,2,FALSE),\"\"),\"\")","v":""},null,null,null,null,null,{"$f":"((NOW()-Tabla3[[#This Row],[FECHA DE NACIMIENTO]])/365)-0.5","v":124.79767625317098},null,null,null,null,null,null,null,null,null,null,null,null,null,null,null,null,null,null,null,null,null,null,null,null,null,null,null,null,null,null,null,null,null,null,null,null,null,"",null,{"$f":"IFERROR(IF(OR(LOWER(Tabla3[[#This Row],[SEXO]])=\"masculino\", LOWER(Tabla3[[#This Row],[SEXO]])=\"m\", LOWER(Tabla3[[#This Row],[SEXO]])=\"1\"), \"MASCULINO\",\n  IF(OR(LOWER(Tabla3[[#This Row],[SEXO]])=\"femenino\", LOWER(Tabla3[[#This Row],[SEXO]])=\"f\", LOWER(Tabla3[[#This Row],[SEXO]])=\"2\"), \"FEMENINO\",\n  \"\")), \"\")","v":""},0,null,null,null,0]
[{"$f":"IF(Tabla3[[#This Row],[APELLIDOS Y NOMBRES]]>0,ROW()-14,\"\")","v":""},{"$f":"IFERROR(IF(Tabla3[[#This Row],[APELLIDOS Y NOMBRES]]>0,VLOOKUP($H$7,DATA!$A$79:$B$160,2,FALSE),\"\"),\"\")","v":""},null,null,null,null,null,{"$f":"((NOW()-Tabla3[[#This Row],[FECHA DE NACIMIENTO]])/365)-0.5","v":124.79767625317098},null,null,null,null,null,null,null,null,null,null,null,null,null,null,null,null,null,null,null,null,null,null,null,null,null,null,null,null,null,null,null,null,null,null,null,null,null,"",null,{"$f":"IFERROR(IF(OR(LOWER(Tabla3[[#This Row],[SEXO]])=\"masculino\", LOWER(Tabla3[[#This Row],[SEXO]])=\"m\", LOWER(Tabla3[[#This Row],[SEXO]])=\"1\"), \"MASCULINO\",\n  IF(OR(LOWER(Tabla3[[#This Row],[SEXO]])=\"femenino\", LOWER(Tabla3[[#This Row],[SEXO]])=\"f\", LOWER(Tabla3[[#This Row],[SEXO]])=\"2\"), \"FEMENINO\",\n  \"\")), \"\")","v":""},0,null,null,null,0]
[{"$f":"IF(Tabla3[[#This Row],[APELLIDOS Y NOMBRES]]>0,ROW()-14,\"\")","v":""},{"$f":"IFERROR(IF(Tabla3[[#This Row],[APELLIDOS Y NOMBRES]]>0,VLOOKUP($H$7,DATA!$A$79:$B$160,2,FALSE),\"\"),\"\")","v":""},null,null,null,null,null,{"$f":"((NOW()-Tabla3[[#This Row],[FECHA DE NACIMIENTO]])/365)-0.5","v":124.79767625317098},null,null,null,null,null,null,null,null,null,null,null,null,null,null,null,null,null,null,null,null,null,null,null,null,null,null,null,null,null,null,null,null,null,null,null,null,null,"",null,{"$f":"IFERROR(IF(OR(LOWER(Tabla3[[#This Row],[SEXO]])=\"masculino\", LOWER(Tabla3[[#This Row],[SEXO]])=\"m\", LOWER(Tabla3[[#This Row],[SEXO]])=\"1\"), \"MASCULINO\",\n  IF(OR(LOWER(Tabla3[[#This Row],[SEXO]])=\"femenino\", LOWER(Tabla3[[#This Row],[SEXO]])=\"f\", LOWER(Tabla3[[#This Row],[SEXO]])=\"2\"), \"FEMENINO\",\n  \"\")), \"\")","v":""},0,null,null,null,0]
[{"$f":"IF(Tabla3[[#This Row],[APELLIDOS Y NOMBRES]]>0,ROW()-14,\"\")","v":""},{"$f":"IFERROR(IF(Tabla3[[#This Row],[APELLIDOS Y NOMBRES]]>0,VLOOKUP($H$7,DATA!$A$79:$B$160,2,FALSE),\"\"),\"\")","v":""},null,null,null,null,null,{"$f":"((NOW()-Tabla3[[#This Row],[FECHA DE NACIMIENTO]])/365)-0.5","v":124.79767625317098},null,null,null,null,null,null,null,null,null,null,null,null,null,null,null,null,null,null,null,null,null,null,null,null,null,null,null,null,null,null,null,null,null,null,null,null,null,"",null,{"$f":"IFERROR(IF(OR(LOWER(Tabla3[[#This Row],[SEXO]])=\"masculino\", LOWER(Tabla3[[#This Row],[SEXO]])=\"m\", LOWER(Tabla3[[#This Row],[SEXO]])=\"1\"), \"MASCULINO\",\n  IF(OR(LOWER(Tabla3[[#This Row],[SEXO]])=\"femenino\", LOWER(Tabla3[[#This Row],[SEXO]])=\"f\", LOWER(Tabla3[[#This Row],[SEXO]])=\"2\"), \"FEMENINO\",\n  \"\")), \"\")","v":""},0,null,null,null,0]
[{"$f":"IF(Tabla3[[#This Row],[APELLIDOS Y NOMBRES]]>0,ROW()-14,\"\")","v":""},{"$f":"IFERROR(IF(Tabla3[[#This Row],[APELLIDOS Y NOMBRES]]>0,VLOOKUP($H$7,DATA!$A$79:$B$160,2,FALSE),\"\"),\"\")","v":""},null,null,null,null,null,{"$f":"((NOW()-Tabla3[[#This Row],[FECHA DE NACIMIENTO]])/365)-0.5","v":124.79767625317098},null,null,null,null,null,null,null,null,null,null,null,null,null,null,null,null,null,null,null,null,null,null,null,null,null,null,null,null,null,null,null,null,null,null,null,null,null,"",null,{"$f":"IFERROR(IF(OR(LOWER(Tabla3[[#This Row],[SEXO]])=\"masculino\", LOWER(Tabla3[[#This Row],[SEXO]])=\"m\", LOWER(Tabla3[[#This Row],[SEXO]])=\"1\"), \"MASCULINO\",\n  IF(OR(LOWER(Tabla3[[#This Row],[SEXO]])=\"femenino\", LOWER(Tabla3[[#This Row],[SEXO]])=\"f\", LOWER(Tabla3[[#This Row],[SEXO]])=\"2\"), \"FEMENINO\",\n  \"\")), \"\")","v":""},0,null,null,null,0]
[{"$f":"IF(Tabla3[[#This Row],[APELLIDOS Y NOMBRES]]>0,ROW()-14,\"\")","v":""},{"$f":"IFERROR(IF(Tabla3[[#This Row],[APELLIDOS Y NOMBRES]]>0,VLOOKUP($H$7,DATA!$A$79:$B$160,2,FALSE),\"\"),\"\")","v":""},null,null,null,null,null,{"$f":"((NOW()-Tabla3[[#This Row],[FECHA DE NACIMIENTO]])/365)-0.5","v":124.79767625317098},null,null,null,null,null,null,null,null,null,null,null,null,null,null,null,null,null,null,null,null,null,null,null,null,null,null,null,null,null,null,null,null,null,null,null,null,null,"",null,{"$f":"IFERROR(IF(OR(LOWER(Tabla3[[#This Row],[SEXO]])=\"masculino\", LOWER(Tabla3[[#This Row],[SEXO]])=\"m\", LOWER(Tabla3[[#This Row],[SEXO]])=\"1\"), \"MASCULINO\",\n  IF(OR(LOWER(Tabla3[[#This Row],[SEXO]])=\"femenino\", LOWER(Tabla3[[#This Row],[SEXO]])=\"f\", LOWER(Tabla3[[#This Row],[SEXO]])=\"2\"), \"FEMENINO\",\n  \"\")), \"\")","v":""},0,null,null,null,0]
[{"$f":"IF(Tabla3[[#This Row],[APELLIDOS Y NOMBRES]]>0,ROW()-14,\"\")","v":""},{"$f":"IFERROR(IF(Tabla3[[#This Row],[APELLIDOS Y NOMBRES]]>0,VLOOKUP($H$7,DATA!$A$79:$B$160,2,FALSE),\"\"),\"\")","v":""},null,null,null,null,null,{"$f":"((NOW()-Tabla3[[#This Row],[FECHA DE NACIMIENTO]])/365)-0.5","v":124.79767625317098},null,null,null,null,null,null,null,null,null,null,null,null,null,null,null,null,null,null,null,null,null,null,null,null,null,null,null,null,null,null,null,null,null,null,null,null,null,"",null,{"$f":"IFERROR(IF(OR(LOWER(Tabla3[[#This Row],[SEXO]])=\"masculino\", LOWER(Tabla3[[#This Row],[SEXO]])=\"m\", LOWER(Tabla3[[#This Row],[SEXO]])=\"1\"), \"MASCULINO\",\n  IF(OR(LOWER(Tabla3[[#This Row],[SEXO]])=\"femenino\", LOWER(Tabla3[[#This Row],[SEXO]])=\"f\", LOWER(Tabla3[[#This Row],[SEXO]])=\"2\"), \"FEMENINO\",\n  \"\")), \"\")","v":""},0,null,null,null,0]
[{"$f":"IF(Tabla3[[#This Row],[APELLIDOS Y NOMBRES]]>0,ROW()-14,\"\")","v":""},{"$f":"IFERROR(IF(Tabla3[[#This Row],[APELLIDOS Y NOMBRES]]>0,VLOOKUP($H$7,DATA!$A$79:$B$160,2,FALSE),\"\"),\"\")","v":""},null,null,null,null,null,{"$f":"((NOW()-Tabla3[[#This Row],[FECHA DE NACIMIENTO]])/365)-0.5","v":124.79767625317098},null,null,null,null,null,null,null,null,null,null,null,null,null,null,null,null,null,null,null,null,null,null,null,null,null,null,null,null,null,null,null,null,null,null,null,null,null,"",null,{"$f":"IFERROR(IF(OR(LOWER(Tabla3[[#This Row],[SEXO]])=\"masculino\", LOWER(Tabla3[[#This Row],[SEXO]])=\"m\", LOWER(Tabla3[[#This Row],[SEXO]])=\"1\"), \"MASCULINO\",\n  IF(OR(LOWER(Tabla3[[#This Row],[SEXO]])=\"femenino\", LOWER(Tabla3[[#This Row],[SEXO]])=\"f\", LOWER(Tabla3[[#This Row],[SEXO]])=\"2\"), \"FEMENINO\",\n  \"\")), \"\")","v":""},0,null,null,null,0]
[{"$f":"IF(Tabla3[[#This Row],[APELLIDOS Y NOMBRES]]>0,ROW()-14,\"\")","v":""},{"$f":"IFERROR(IF(Tabla3[[#This Row],[APELLIDOS Y NOMBRES]]>0,VLOOKUP($H$7,DATA!$A$79:$B$160,2,FALSE),\"\"),\"\")","v":""},null,null,null,null,null,{"$f":"((NOW()-Tabla3[[#This Row],[FECHA DE NACIMIENTO]])/365)-0.5","v":124.79767625317098},null,null,null,null,null,null,null,null,null,null,null,null,null,null,null,null,null,null,null,null,null,null,null,null,null,null,null,null,null,null,null,null,null,null,null,null,null,"",null,{"$f":"IFERROR(IF(OR(LOWER(Tabla3[[#This Row],[SEXO]])=\"masculino\", LOWER(Tabla3[[#This Row],[SEXO]])=\"m\", LOWER(Tabla3[[#This Row],[SEXO]])=\"1\"), \"MASCULINO\",\n  IF(OR(LOWER(Tabla3[[#This Row],[SEXO]])=\"femenino\", LOWER(Tabla3[[#This Row],[SEXO]])=\"f\", LOWER(Tabla3[[#This Row],[SEXO]])=\"2\"), \"FEMENINO\",\n  \"\")), \"\")","v":""},0,null,null,null,0]
[{"$f":"IF(Tabla3[[#This Row],[APELLIDOS Y NOMBRES]]>0,ROW()-14,\"\")","v":""},{"$f":"IFERROR(IF(Tabla3[[#This Row],[APELLIDOS Y NOMBRES]]>0,VLOOKUP($H$7,DATA!$A$79:$B$160,2,FALSE),\"\"),\"\")","v":""},null,null,null,null,null,{"$f":"((NOW()-Tabla3[[#This Row],[FECHA DE NACIMIENTO]])/365)-0.5","v":124.79767625317098},null,null,null,null,null,null,null,null,null,null,null,null,null,null,null,null,null,null,null,null,null,null,null,null,null,null,null,null,null,null,null,null,null,null,null,null,null,"",null,{"$f":"IFERROR(IF(OR(LOWER(Tabla3[[#This Row],[SEXO]])=\"masculino\", LOWER(Tabla3[[#This Row],[SEXO]])=\"m\", LOWER(Tabla3[[#This Row],[SEXO]])=\"1\"), \"MASCULINO\",\n  IF(OR(LOWER(Tabla3[[#This Row],[SEXO]])=\"femenino\", LOWER(Tabla3[[#This Row],[SEXO]])=\"f\", LOWER(Tabla3[[#This Row],[SEXO]])=\"2\"), \"FEMENINO\",\n  \"\")), \"\")","v":""},0,null,null,null,0]
[{"$f":"IF(Tabla3[[#This Row],[APELLIDOS Y NOMBRES]]>0,ROW()-14,\"\")","v":""},{"$f":"IFERROR(IF(Tabla3[[#This Row],[APELLIDOS Y NOMBRES]]>0,VLOOKUP($H$7,DATA!$A$79:$B$160,2,FALSE),\"\"),\"\")","v":""},null,null,null,null,null,{"$f":"((NOW()-Tabla3[[#This Row],[FECHA DE NACIMIENTO]])/365)-0.5","v":124.79767625317098},null,null,null,null,null,null,null,null,null,null,null,null,null,null,null,null,null,null,null,null,null,null,null,null,null,null,null,null,null,null,null,null,null,null,null,null,null,"",null,{"$f":"IFERROR(IF(OR(LOWER(Tabla3[[#This Row],[SEXO]])=\"masculino\", LOWER(Tabla3[[#This Row],[SEXO]])=\"m\", LOWER(Tabla3[[#This Row],[SEXO]])=\"1\"), \"MASCULINO\",\n  IF(OR(LOWER(Tabla3[[#This Row],[SEXO]])=\"femenino\", LOWER(Tabla3[[#This Row],[SEXO]])=\"f\", LOWER(Tabla3[[#This Row],[SEXO]])=\"2\"), \"FEMENINO\",\n  \"\")), \"\")","v":""},0,null,null,null,0]
[{"$f":"IF(Tabla3[[#This Row],[APELLIDOS Y NOMBRES]]>0,ROW()-14,\"\")","v":""},{"$f":"IFERROR(IF(Tabla3[[#This Row],[APELLIDOS Y NOMBRES]]>0,VLOOKUP($H$7,DATA!$A$79:$B$160,2,FALSE),\"\"),\"\")","v":""},null,null,null,null,null,{"$f":"((NOW()-Tabla3[[#This Row],[FECHA DE NACIMIENTO]])/365)-0.5","v":124.79767625317098},null,null,null,null,null,null,null,null,null,null,null,null,null,null,null,null,null,null,null,null,null,null,null,null,null,null,null,null,null,null,null,null,null,null,null,null,null,"",null,{"$f":"IFERROR(IF(OR(LOWER(Tabla3[[#This Row],[SEXO]])=\"masculino\", LOWER(Tabla3[[#This Row],[SEXO]])=\"m\", LOWER(Tabla3[[#This Row],[SEXO]])=\"1\"), \"MASCULINO\",\n  IF(OR(LOWER(Tabla3[[#This Row],[SEXO]])=\"femenino\", LOWER(Tabla3[[#This Row],[SEXO]])=\"f\", LOWER(Tabla3[[#This Row],[SEXO]])=\"2\"), \"FEMENINO\",\n  \"\")), \"\")","v":""},0,null,null,null,0]
[{"$f":"IF(Tabla3[[#This Row],[APELLIDOS Y NOMBRES]]>0,ROW()-14,\"\")","v":""},{"$f":"IFERROR(IF(Tabla3[[#This Row],[APELLIDOS Y NOMBRES]]>0,VLOOKUP($H$7,DATA!$A$79:$B$160,2,FALSE),\"\"),\"\")","v":""},null,null,null,null,null,{"$f":"((NOW()-Tabla3[[#This Row],[FECHA DE NACIMIENTO]])/365)-0.5","v":124.79767625317098},null,null,null,null,null,null,null,null,null,null,null,null,null,null,null,null,null,null,null,null,null,null,null,null,null,null,null,null,null,null,null,null,null,null,null,null,null,"",null,{"$f":"IFERROR(IF(OR(LOWER(Tabla3[[#This Row],[SEXO]])=\"masculino\", LOWER(Tabla3[[#This Row],[SEXO]])=\"m\", LOWER(Tabla3[[#This Row],[SEXO]])=\"1\"), \"MASCULINO\",\n  IF(OR(LOWER(Tabla3[[#This Row],[SEXO]])=\"femenino\", LOWER(Tabla3[[#This Row],[SEXO]])=\"f\", LOWER(Tabla3[[#This Row],[SEXO]])=\"2\"), \"FEMENINO\",\n  \"\")), \"\")","v":""},0,null,null,null,0]
[{"$f":"IF(Tabla3[[#This Row],[APELLIDOS Y NOMBRES]]>0,ROW()-14,\"\")","v":""},{"$f":"IFERROR(IF(Tabla3[[#This Row],[APELLIDOS Y NOMBRES]]>0,VLOOKUP($H$7,DATA!$A$79:$B$160,2,FALSE),\"\"),\"\")","v":""},null,null,null,null,null,{"$f":"((NOW()-Tabla3[[#This Row],[FECHA DE NACIMIENTO]])/365)-0.5","v":124.79767625317098},null,null,null,null,null,null,null,null,null,null,null,null,null,null,null,null,null,null,null,null,null,null,null,null,null,null,null,null,null,null,null,null,null,null,null,null,null,"",null,{"$f":"IFERROR(IF(OR(LOWER(Tabla3[[#This Row],[SEXO]])=\"masculino\", LOWER(Tabla3[[#This Row],[SEXO]])=\"m\", LOWER(Tabla3[[#This Row],[SEXO]])=\"1\"), \"MASCULINO\",\n  IF(OR(LOWER(Tabla3[[#This Row],[SEXO]])=\"femenino\", LOWER(Tabla3[[#This Row],[SEXO]])=\"f\", LOWER(Tabla3[[#This Row],[SEXO]])=\"2\"), \"FEMENINO\",\n  \"\")), \"\")","v":""},0,null,null,null,0]
[{"$f":"IF(Tabla3[[#This Row],[APELLIDOS Y NOMBRES]]>0,ROW()-14,\"\")","v":""},{"$f":"IFERROR(IF(Tabla3[[#This Row],[APELLIDOS Y NOMBRES]]>0,VLOOKUP($H$7,DATA!$A$79:$B$160,2,FALSE),\"\"),\"\")","v":""},null,null,null,null,null,{"$f":"((NOW()-Tabla3[[#This Row],[FECHA DE NACIMIENTO]])/365)-0.5","v":124.79767625317098},null,null,null,null,null,null,null,null,null,null,null,null,null,null,null,null,null,null,null,null,null,null,null,null,null,null,null,null,null,null,null,null,null,null,null,null,null,"",null,{"$f":"IFERROR(IF(OR(LOWER(Tabla3[[#This Row],[SEXO]])=\"masculino\", LOWER(Tabla3[[#This Row],[SEXO]])=\"m\", LOWER(Tabla3[[#This Row],[SEXO]])=\"1\"), \"MASCULINO\",\n  IF(OR(LOWER(Tabla3[[#This Row],[SEXO]])=\"femenino\", LOWER(Tabla3[[#This Row],[SEXO]])=\"f\", LOWER(Tabla3[[#This Row],[SEXO]])=\"2\"), \"FEMENINO\",\n  \"\")), \"\")","v":""},0,null,null,null,0]
[{"$f":"IF(Tabla3[[#This Row],[APELLIDOS Y NOMBRES]]>0,ROW()-14,\"\")","v":""},{"$f":"IFERROR(IF(Tabla3[[#This Row],[APELLIDOS Y NOMBRES]]>0,VLOOKUP($H$7,DATA!$A$79:$B$160,2,FALSE),\"\"),\"\")","v":""},null,null,null,null,null,{"$f":"((NOW()-Tabla3[[#This Row],[FECHA DE NACIMIENTO]])/365)-0.5","v":124.79767625317098},null,null,null,null,null,null,null,null,null,null,null,null,null,null,null,null,null,null,null,null,null,null,null,null,null,null,null,null,null,null,null,null,null,null,null,null,null,"",null,{"$f":"IFERROR(IF(OR(LOWER(Tabla3[[#This Row],[SEXO]])=\"masculino\", LOWER(Tabla3[[#This Row],[SEXO]])=\"m\", LOWER(Tabla3[[#This Row],[SEXO]])=\"1\"), \"MASCULINO\",\n  IF(OR(LOWER(Tabla3[[#This Row],[SEXO]])=\"femenino\", LOWER(Tabla3[[#This Row],[SEXO]])=\"f\", LOWER(Tabla3[[#This Row],[SEXO]])=\"2\"), \"FEMENINO\",\n  \"\")), \"\")","v":""},0,null,null,null,0]
[{"$f":"IF(Tabla3[[#This Row],[APELLIDOS Y NOMBRES]]>0,ROW()-14,\"\")","v":""},{"$f":"IFERROR(IF(Tabla3[[#This Row],[APELLIDOS Y NOMBRES]]>0,VLOOKUP($H$7,DATA!$A$79:$B$160,2,FALSE),\"\"),\"\")","v":""},null,null,null,null,null,{"$f":"((NOW()-Tabla3[[#This Row],[FECHA DE NACIMIENTO]])/365)-0.5","v":124.79767625317098},null,null,null,null,null,null,null,null,null,null,null,null,null,null,null,null,null,null,null,null,null,null,null,null,null,null,null,null,null,null,null,null,null,null,null,null,null,"",null,{"$f":"IFERROR(IF(OR(LOWER(Tabla3[[#This Row],[SEXO]])=\"masculino\", LOWER(Tabla3[[#This Row],[SEXO]])=\"m\", LOWER(Tabla3[[#This Row],[SEXO]])=\"1\"), \"MASCULINO\",\n  IF(OR(LOWER(Tabla3[[#This Row],[SEXO]])=\"femenino\", LOWER(Tabla3[[#This Row],[SEXO]])=\"f\", LOWER(Tabla3[[#This Row],[SEXO]])=\"2\"), \"FEMENINO\",\n  \"\")), \"\")","v":""},0,null,null,null,0]
[{"$f":"IF(Tabla3[[#This Row],[APELLIDOS Y NOMBRES]]>0,ROW()-14,\"\")","v":""},{"$f":"IFERROR(IF(Tabla3[[#This Row],[APELLIDOS Y NOMBRES]]>0,VLOOKUP($H$7,DATA!$A$79:$B$160,2,FALSE),\"\"),\"\")","v":""},null,null,null,null,null,{"$f":"((NOW()-Tabla3[[#This Row],[FECHA DE NACIMIENTO]])/365)-0.5","v":124.79767625317098},null,null,null,null,null,null,null,null,null,null,null,null,null,null,null,null,null,null,null,null,null,null,null,null,null,null,null,null,null,null,null,null,null,null,null,null,null,"",null,{"$f":"IFERROR(IF(OR(LOWER(Tabla3[[#This Row],[SEXO]])=\"masculino\", LOWER(Tabla3[[#This Row],[SEXO]])=\"m\", LOWER(Tabla3[[#This Row],[SEXO]])=\"1\"), \"MASCULINO\",\n  IF(OR(LOWER(Tabla3[[#This Row],[SEXO]])=\"femenino\", LOWER(Tabla3[[#This Row],[SEXO]])=\"f\", LOWER(Tabla3[[#This Row],[SEXO]])=\"2\"), \"FEMENINO\",\n  \"\")), \"\")","v":""},0,null,null,null,0]
[{"$f":"IF(Tabla3[[#This Row],[APELLIDOS Y NOMBRES]]>0,ROW()-14,\"\")","v":""},{"$f":"IFERROR(IF(Tabla3[[#This Row],[APELLIDOS Y NOMBRES]]>0,VLOOKUP($H$7,DATA!$A$79:$B$160,2,FALSE),\"\"),\"\")","v":""},null,null,null,null,null,{"$f":"((NOW()-Tabla3[[#This Row],[FECHA DE NACIMIENTO]])/365)-0.5","v":124.79767625317098},null,null,null,null,null,null,null,null,null,null,null,null,null,null,null,null,null,null,null,null,null,null,null,null,null,null,null,null,null,null,null,null,null,null,null,null,null,"",null,{"$f":"IFERROR(IF(OR(LOWER(Tabla3[[#This Row],[SEXO]])=\"masculino\", LOWER(Tabla3[[#This Row],[SEXO]])=\"m\", LOWER(Tabla3[[#This Row],[SEXO]])=\"1\"), \"MASCULINO\",\n  IF(OR(LOWER(Tabla3[[#This Row],[SEXO]])=\"femenino\", LOWER(Tabla3[[#This Row],[SEXO]])=\"f\", LOWER(Tabla3[[#This Row],[SEXO]])=\"2\"), \"FEMENINO\",\n  \"\")), \"\")","v":""},0,null,null,null,0]
[{"$f":"IF(Tabla3[[#This Row],[APELLIDOS Y NOMBRES]]>0,ROW()-14,\"\")","v":""},{"$f":"IFERROR(IF(Tabla3[[#This Row],[APELLIDOS Y NOMBRES]]>0,VLOOKUP($H$7,DATA!$A$79:$B$160,2,FALSE),\"\"),\"\")","v":""},null,null,null,null,null,{"$f":"((NOW()-Tabla3[[#This Row],[FECHA DE NACIMIENTO]])/365)-0.5","v":124.79767625317098},null,null,null,null,null,null,null,null,null,null,null,null,null,null,null,null,null,null,null,null,null,null,null,null,null,null,null,null,null,null,null,null,null,null,null,null,null,"",null,{"$f":"IFERROR(IF(OR(LOWER(Tabla3[[#This Row],[SEXO]])=\"masculino\", LOWER(Tabla3[[#This Row],[SEXO]])=\"m\", LOWER(Tabla3[[#This Row],[SEXO]])=\"1\"), \"MASCULINO\",\n  IF(OR(LOWER(Tabla3[[#This Row],[SEXO]])=\"femenino\", LOWER(Tabla3[[#This Row],[SEXO]])=\"f\", LOWER(Tabla3[[#This Row],[SEXO]])=\"2\"), \"FEMENINO\",\n  \"\")), \"\")","v":""},0,null,null,null,0]
[{"$f":"IF(Tabla3[[#This Row],[APELLIDOS Y NOMBRES]]>0,ROW()-14,\"\")","v":""},{"$f":"IFERROR(IF(Tabla3[[#This Row],[APELLIDOS Y NOMBRES]]>0,VLOOKUP($H$7,DATA!$A$79:$B$160,2,FALSE),\"\"),\"\")","v":""},null,null,null,null,null,{"$f":"((NOW()-Tabla3[[#This Row],[FECHA DE NACIMIENTO]])/365)-0.5","v":124.79767625317098},null,null,null,null,null,null,null,null,null,null,null,null,null,null,null,null,null,null,null,null,null,null,null,null,null,null,null,null,null,null,null,null,null,null,null,null,null,"",null,{"$f":"IFERROR(IF(OR(LOWER(Tabla3[[#This Row],[SEXO]])=\"masculino\", LOWER(Tabla3[[#This Row],[SEXO]])=\"m\", LOWER(Tabla3[[#This Row],[SEXO]])=\"1\"), \"MASCULINO\",\n  IF(OR(LOWER(Tabla3[[#This Row],[SEXO]])=\"femenino\", LOWER(Tabla3[[#This Row],[SEXO]])=\"f\", LOWER(Tabla3[[#This Row],[SEXO]])=\"2\"), \"FEMENINO\",\n  \"\")), \"\")","v":""},0,null,null,null,0]
[{"$f":"IF(Tabla3[[#This Row],[APELLIDOS Y NOMBRES]]>0,ROW()-14,\"\")","v":""},{"$f":"IFERROR(IF(Tabla3[[#This Row],[APELLIDOS Y NOMBRES]]>0,VLOOKUP($H$7,DATA!$A$79:$B$160,2,FALSE),\"\"),\"\")","v":""},null,null,null,null,null,{"$f":"((NOW()-Tabla3[[#This Row],[FECHA DE NACIMIENTO]])/365)-0.5","v":124.79767625317098},null,null,null,null,null,null,null,null,null,null,null,null,null,null,null,null,null,null,null,null,null,null,null,null,null,null,null,null,null,null,null,null,null,null,null,null,null,"",null,{"$f":"IFERROR(IF(OR(LOWER(Tabla3[[#This Row],[SEXO]])=\"masculino\", LOWER(Tabla3[[#This Row],[SEXO]])=\"m\", LOWER(Tabla3[[#This Row],[SEXO]])=\"1\"), \"MASCULINO\",\n  IF(OR(LOWER(Tabla3[[#This Row],[SEXO]])=\"femenino\", LOWER(Tabla3[[#This Row],[SEXO]])=\"f\", LOWER(Tabla3[[#This Row],[SEXO]])=\"2\"), \"FEMENINO\",\n  \"\")), \"\")","v":""},0,null,null,null,0]
[{"$f":"IF(Tabla3[[#This Row],[APELLIDOS Y NOMBRES]]>0,ROW()-14,\"\")","v":""},{"$f":"IFERROR(IF(Tabla3[[#This Row],[APELLIDOS Y NOMBRES]]>0,VLOOKUP($H$7,DATA!$A$79:$B$160,2,FALSE),\"\"),\"\")","v":""},null,null,null,null,null,{"$f":"((NOW()-Tabla3[[#This Row],[FECHA DE NACIMIENTO]])/365)-0.5","v":124.79767625317098},null,null,null,null,null,null,null,null,null,null,null,null,null,null,null,null,null,null,null,null,null,null,null,null,null,null,null,null,null,null,null,null,null,null,null,null,null,"",null,{"$f":"IFERROR(IF(OR(LOWER(Tabla3[[#This Row],[SEXO]])=\"masculino\", LOWER(Tabla3[[#This Row],[SEXO]])=\"m\", LOWER(Tabla3[[#This Row],[SEXO]])=\"1\"), \"MASCULINO\",\n  IF(OR(LOWER(Tabla3[[#This Row],[SEXO]])=\"femenino\", LOWER(Tabla3[[#This Row],[SEXO]])=\"f\", LOWER(Tabla3[[#This Row],[SEXO]])=\"2\"), \"FEMENINO\",\n  \"\")), \"\")","v":""},0,null,null,null,0]
[{"$f":"IF(Tabla3[[#This Row],[APELLIDOS Y NOMBRES]]>0,ROW()-14,\"\")","v":""},{"$f":"IFERROR(IF(Tabla3[[#This Row],[APELLIDOS Y NOMBRES]]>0,VLOOKUP($H$7,DATA!$A$79:$B$160,2,FALSE),\"\"),\"\")","v":""},null,null,null,null,null,{"$f":"((NOW()-Tabla3[[#This Row],[FECHA DE NACIMIENTO]])/365)-0.5","v":124.79767625317098},null,null,null,null,null,null,null,null,null,null,null,null,null,null,null,null,null,null,null,null,null,null,null,null,null,null,null,null,null,null,null,null,null,null,null,null,null,"",null,{"$f":"IFERROR(IF(OR(LOWER(Tabla3[[#This Row],[SEXO]])=\"masculino\", LOWER(Tabla3[[#This Row],[SEXO]])=\"m\", LOWER(Tabla3[[#This Row],[SEXO]])=\"1\"), \"MASCULINO\",\n  IF(OR(LOWER(Tabla3[[#This Row],[SEXO]])=\"femenino\", LOWER(Tabla3[[#This Row],[SEXO]])=\"f\", LOWER(Tabla3[[#This Row],[SEXO]])=\"2\"), \"FEMENINO\",\n  \"\")), \"\")","v":""},0,null,null,null,0]
[{"$f":"IF(Tabla3[[#This Row],[APELLIDOS Y NOMBRES]]>0,ROW()-14,\"\")","v":""},{"$f":"IFERROR(IF(Tabla3[[#This Row],[APELLIDOS Y NOMBRES]]>0,VLOOKUP($H$7,DATA!$A$79:$B$160,2,FALSE),\"\"),\"\")","v":""},null,null,null,null,null,{"$f":"((NOW()-Tabla3[[#This Row],[FECHA DE NACIMIENTO]])/365)-0.5","v":124.79767625317098},null,null,null,null,null,null,null,null,null,null,null,null,null,null,null,null,null,null,null,null,null,null,null,null,null,null,null,null,null,null,null,null,null,null,null,null,null,"",null,{"$f":"IFERROR(IF(OR(LOWER(Tabla3[[#This Row],[SEXO]])=\"masculino\", LOWER(Tabla3[[#This Row],[SEXO]])=\"m\", LOWER(Tabla3[[#This Row],[SEXO]])=\"1\"), \"MASCULINO\",\n  IF(OR(LOWER(Tabla3[[#This Row],[SEXO]])=\"femenino\", LOWER(Tabla3[[#This Row],[SEXO]])=\"f\", LOWER(Tabla3[[#This Row],[SEXO]])=\"2\"), \"FEMENINO\",\n  \"\")), \"\")","v":""},0,null,null,null,0]
[{"$f":"IF(Tabla3[[#This Row],[APELLIDOS Y NOMBRES]]>0,ROW()-14,\"\")","v":""},{"$f":"IFERROR(IF(Tabla3[[#This Row],[APELLIDOS Y NOMBRES]]>0,VLOOKUP($H$7,DATA!$A$79:$B$160,2,FALSE),\"\"),\"\")","v":""},null,null,null,null,null,{"$f":"((NOW()-Tabla3[[#This Row],[FECHA DE NACIMIENTO]])/365)-0.5","v":124.79767625317098},null,null,null,null,null,null,null,null,null,null,null,null,null,null,null,null,null,null,null,null,null,null,null,null,null,null,null,null,null,null,null,null,null,null,null,null,null,"",null,{"$f":"IFERROR(IF(OR(LOWER(Tabla3[[#This Row],[SEXO]])=\"masculino\", LOWER(Tabla3[[#This Row],[SEXO]])=\"m\", LOWER(Tabla3[[#This Row],[SEXO]])=\"1\"), \"MASCULINO\",\n  IF(OR(LOWER(Tabla3[[#This Row],[SEXO]])=\"femenino\", LOWER(Tabla3[[#This Row],[SEXO]])=\"f\", LOWER(Tabla3[[#This Row],[SEXO]])=\"2\"), \"FEMENINO\",\n  \"\")), \"\")","v":""},0,null,null,null,0]
[{"$f":"IF(Tabla3[[#This Row],[APELLIDOS Y NOMBRES]]>0,ROW()-14,\"\")","v":""},{"$f":"IFERROR(IF(Tabla3[[#This Row],[APELLIDOS Y NOMBRES]]>0,VLOOKUP($H$7,DATA!$A$79:$B$160,2,FALSE),\"\"),\"\")","v":""},null,null,null,null,null,{"$f":"((NOW()-Tabla3[[#This Row],[FECHA DE NACIMIENTO]])/365)-0.5","v":124.79767625317098},null,null,null,null,null,null,null,null,null,null,null,null,null,null,null,null,null,null,null,null,null,null,null,null,null,null,null,null,null,null,null,null,null,null,null,null,null,"",null,{"$f":"IFERROR(IF(OR(LOWER(Tabla3[[#This Row],[SEXO]])=\"masculino\", LOWER(Tabla3[[#This Row],[SEXO]])=\"m\", LOWER(Tabla3[[#This Row],[SEXO]])=\"1\"), \"MASCULINO\",\n  IF(OR(LOWER(Tabla3[[#This Row],[SEXO]])=\"femenino\", LOWER(Tabla3[[#This Row],[SEXO]])=\"f\", LOWER(Tabla3[[#This Row],[SEXO]])=\"2\"), \"FEMENINO\",\n  \"\")), \"\")","v":""},0,null,null,null,0]
[{"$f":"IF(Tabla3[[#This Row],[APELLIDOS Y NOMBRES]]>0,ROW()-14,\"\")","v":""},{"$f":"IFERROR(IF(Tabla3[[#This Row],[APELLIDOS Y NOMBRES]]>0,VLOOKUP($H$7,DATA!$A$79:$B$160,2,FALSE),\"\"),\"\")","v":""},null,null,null,null,null,{"$f":"((NOW()-Tabla3[[#This Row],[FECHA DE NACIMIENTO]])/365)-0.5","v":124.79767625317098},null,null,null,null,null,null,null,null,null,null,null,null,null,null,null,null,null,null,null,null,null,null,null,null,null,null,null,null,null,null,null,null,null,null,null,null,null,"",null,{"$f":"IFERROR(IF(OR(LOWER(Tabla3[[#This Row],[SEXO]])=\"masculino\", LOWER(Tabla3[[#This Row],[SEXO]])=\"m\", LOWER(Tabla3[[#This Row],[SEXO]])=\"1\"), \"MASCULINO\",\n  IF(OR(LOWER(Tabla3[[#This Row],[SEXO]])=\"femenino\", LOWER(Tabla3[[#This Row],[SEXO]])=\"f\", LOWER(Tabla3[[#This Row],[SEXO]])=\"2\"), \"FEMENINO\",\n  \"\")), \"\")","v":""},0,null,null,null,0]
[{"$f":"IF(Tabla3[[#This Row],[APELLIDOS Y NOMBRES]]>0,ROW()-14,\"\")","v":""},{"$f":"IFERROR(IF(Tabla3[[#This Row],[APELLIDOS Y NOMBRES]]>0,VLOOKUP($H$7,DATA!$A$79:$B$160,2,FALSE),\"\"),\"\")","v":""},null,null,null,null,null,{"$f":"((NOW()-Tabla3[[#This Row],[FECHA DE NACIMIENTO]])/365)-0.5","v":124.79767625317098},null,null,null,null,null,null,null,null,null,null,null,null,null,null,null,null,null,null,null,null,null,null,null,null,null,null,null,null,null,null,null,null,null,null,null,null,null,"",null,{"$f":"IFERROR(IF(OR(LOWER(Tabla3[[#This Row],[SEXO]])=\"masculino\", LOWER(Tabla3[[#This Row],[SEXO]])=\"m\", LOWER(Tabla3[[#This Row],[SEXO]])=\"1\"), \"MASCULINO\",\n  IF(OR(LOWER(Tabla3[[#This Row],[SEXO]])=\"femenino\", LOWER(Tabla3[[#This Row],[SEXO]])=\"f\", LOWER(Tabla3[[#This Row],[SEXO]])=\"2\"), \"FEMENINO\",\n  \"\")), \"\")","v":""},0,null,null,null,0]
[{"$f":"IF(Tabla3[[#This Row],[APELLIDOS Y NOMBRES]]>0,ROW()-14,\"\")","v":""},{"$f":"IFERROR(IF(Tabla3[[#This Row],[APELLIDOS Y NOMBRES]]>0,VLOOKUP($H$7,DATA!$A$79:$B$160,2,FALSE),\"\"),\"\")","v":""},null,null,null,null,null,{"$f":"((NOW()-Tabla3[[#This Row],[FECHA DE NACIMIENTO]])/365)-0.5","v":124.79767625317098},null,null,null,null,null,null,null,null,null,null,null,null,null,null,null,null,null,null,null,null,null,null,null,null,null,null,null,null,null,null,null,null,null,null,null,null,null,"",null,{"$f":"IFERROR(IF(OR(LOWER(Tabla3[[#This Row],[SEXO]])=\"masculino\", LOWER(Tabla3[[#This Row],[SEXO]])=\"m\", LOWER(Tabla3[[#This Row],[SEXO]])=\"1\"), \"MASCULINO\",\n  IF(OR(LOWER(Tabla3[[#This Row],[SEXO]])=\"femenino\", LOWER(Tabla3[[#This Row],[SEXO]])=\"f\", LOWER(Tabla3[[#This Row],[SEXO]])=\"2\"), \"FEMENINO\",\n  \"\")), \"\")","v":""},0,null,null,null,0]
[{"$f":"IF(Tabla3[[#This Row],[APELLIDOS Y NOMBRES]]>0,ROW()-14,\"\")","v":""},{"$f":"IFERROR(IF(Tabla3[[#This Row],[APELLIDOS Y NOMBRES]]>0,VLOOKUP($H$7,DATA!$A$79:$B$160,2,FALSE),\"\"),\"\")","v":""},null,null,null,null,null,{"$f":"((NOW()-Tabla3[[#This Row],[FECHA DE NACIMIENTO]])/365)-0.5","v":124.79767625317098},null,null,null,null,null,null,null,null,null,null,null,null,null,null,null,null,null,null,null,null,null,null,null,null,null,null,null,null,null,null,null,null,null,null,null,null,null,"",null,{"$f":"IFERROR(IF(OR(LOWER(Tabla3[[#This Row],[SEXO]])=\"masculino\", LOWER(Tabla3[[#This Row],[SEXO]])=\"m\", LOWER(Tabla3[[#This Row],[SEXO]])=\"1\"), \"MASCULINO\",\n  IF(OR(LOWER(Tabla3[[#This Row],[SEXO]])=\"femenino\", LOWER(Tabla3[[#This Row],[SEXO]])=\"f\", LOWER(Tabla3[[#This Row],[SEXO]])=\"2\"), \"FEMENINO\",\n  \"\")), \"\")","v":""},0,null,null,null,0]
[{"$f":"IF(Tabla3[[#This Row],[APELLIDOS Y NOMBRES]]>0,ROW()-14,\"\")","v":""},{"$f":"IFERROR(IF(Tabla3[[#This Row],[APELLIDOS Y NOMBRES]]>0,VLOOKUP($H$7,DATA!$A$79:$B$160,2,FALSE),\"\"),\"\")","v":""},null,null,null,null,null,{"$f":"((NOW()-Tabla3[[#This Row],[FECHA DE NACIMIENTO]])/365)-0.5","v":124.79767625317098},null,null,null,null,null,null,null,null,null,null,null,null,null,null,null,null,null,null,null,null,null,null,null,null,null,null,null,null,null,null,null,null,null,null,null,null,null,"",null,{"$f":"IFERROR(IF(OR(LOWER(Tabla3[[#This Row],[SEXO]])=\"masculino\", LOWER(Tabla3[[#This Row],[SEXO]])=\"m\", LOWER(Tabla3[[#This Row],[SEXO]])=\"1\"), \"MASCULINO\",\n  IF(OR(LOWER(Tabla3[[#This Row],[SEXO]])=\"femenino\", LOWER(Tabla3[[#This Row],[SEXO]])=\"f\", LOWER(Tabla3[[#This Row],[SEXO]])=\"2\"), \"FEMENINO\",\n  \"\")), \"\")","v":""},0,null,null,null,0]
[{"$f":"IF(Tabla3[[#This Row],[APELLIDOS Y NOMBRES]]>0,ROW()-14,\"\")","v":""},{"$f":"IFERROR(IF(Tabla3[[#This Row],[APELLIDOS Y NOMBRES]]>0,VLOOKUP($H$7,DATA!$A$79:$B$160,2,FALSE),\"\"),\"\")","v":""},null,null,null,null,null,{"$f":"((NOW()-Tabla3[[#This Row],[FECHA DE NACIMIENTO]])/365)-0.5","v":124.79767625317098},null,null,null,null,null,null,null,null,null,null,null,null,null,null,null,null,null,null,null,null,null,null,null,null,null,null,null,null,null,null,null,null,null,null,null,null,null,"",null,{"$f":"IFERROR(IF(OR(LOWER(Tabla3[[#This Row],[SEXO]])=\"masculino\", LOWER(Tabla3[[#This Row],[SEXO]])=\"m\", LOWER(Tabla3[[#This Row],[SEXO]])=\"1\"), \"MASCULINO\",\n  IF(OR(LOWER(Tabla3[[#This Row],[SEXO]])=\"femenino\", LOWER(Tabla3[[#This Row],[SEXO]])=\"f\", LOWER(Tabla3[[#This Row],[SEXO]])=\"2\"), \"FEMENINO\",\n  \"\")), \"\")","v":""},0,null,null,null,0]
[{"$f":"IF(Tabla3[[#This Row],[APELLIDOS Y NOMBRES]]>0,ROW()-14,\"\")","v":""},{"$f":"IFERROR(IF(Tabla3[[#This Row],[APELLIDOS Y NOMBRES]]>0,VLOOKUP($H$7,DATA!$A$79:$B$160,2,FALSE),\"\"),\"\")","v":""},null,null,null,null,null,{"$f":"((NOW()-Tabla3[[#This Row],[FECHA DE NACIMIENTO]])/365)-0.5","v":124.79767625317098},null,null,null,null,null,null,null,null,null,null,null,null,null,null,null,null,null,null,null,null,null,null,null,null,null,null,null,null,null,null,null,null,null,null,null,null,null,"",null,{"$f":"IFERROR(IF(OR(LOWER(Tabla3[[#This Row],[SEXO]])=\"masculino\", LOWER(Tabla3[[#This Row],[SEXO]])=\"m\", LOWER(Tabla3[[#This Row],[SEXO]])=\"1\"), \"MASCULINO\",\n  IF(OR(LOWER(Tabla3[[#This Row],[SEXO]])=\"femenino\", LOWER(Tabla3[[#This Row],[SEXO]])=\"f\", LOWER(Tabla3[[#This Row],[SEXO]])=\"2\"), \"FEMENINO\",\n  \"\")), \"\")","v":""},0,null,null,null,0]
[{"$f":"IF(Tabla3[[#This Row],[APELLIDOS Y NOMBRES]]>0,ROW()-14,\"\")","v":""},{"$f":"IFERROR(IF(Tabla3[[#This Row],[APELLIDOS Y NOMBRES]]>0,VLOOKUP($H$7,DATA!$A$79:$B$160,2,FALSE),\"\"),\"\")","v":""},null,null,null,null,null,{"$f":"((NOW()-Tabla3[[#This Row],[FECHA DE NACIMIENTO]])/365)-0.5","v":124.79767625317098},null,null,null,null,null,null,null,null,null,null,null,null,null,null,null,null,null,null,null,null,null,null,null,null,null,null,null,null,null,null,null,null,null,null,null,null,null,"",null,{"$f":"IFERROR(IF(OR(LOWER(Tabla3[[#This Row],[SEXO]])=\"masculino\", LOWER(Tabla3[[#This Row],[SEXO]])=\"m\", LOWER(Tabla3[[#This Row],[SEXO]])=\"1\"), \"MASCULINO\",\n  IF(OR(LOWER(Tabla3[[#This Row],[SEXO]])=\"femenino\", LOWER(Tabla3[[#This Row],[SEXO]])=\"f\", LOWER(Tabla3[[#This Row],[SEXO]])=\"2\"), \"FEMENINO\",\n  \"\")), \"\")","v":""},0,null,null,null,0]
[{"$f":"IF(Tabla3[[#This Row],[APELLIDOS Y NOMBRES]]>0,ROW()-14,\"\")","v":""},{"$f":"IFERROR(IF(Tabla3[[#This Row],[APELLIDOS Y NOMBRES]]>0,VLOOKUP($H$7,DATA!$A$79:$B$160,2,FALSE),\"\"),\"\")","v":""},null,null,null,null,null,{"$f":"((NOW()-Tabla3[[#This Row],[FECHA DE NACIMIENTO]])/365)-0.5","v":124.79767625317098},null,null,null,null,null,null,null,null,null,null,null,null,null,null,null,null,null,null,null,null,null,null,null,null,null,null,null,null,null,null,null,null,null,null,null,null,null,"",null,{"$f":"IFERROR(IF(OR(LOWER(Tabla3[[#This Row],[SEXO]])=\"masculino\", LOWER(Tabla3[[#This Row],[SEXO]])=\"m\", LOWER(Tabla3[[#This Row],[SEXO]])=\"1\"), \"MASCULINO\",\n  IF(OR(LOWER(Tabla3[[#This Row],[SEXO]])=\"femenino\", LOWER(Tabla3[[#This Row],[SEXO]])=\"f\", LOWER(Tabla3[[#This Row],[SEXO]])=\"2\"), \"FEMENINO\",\n  \"\")), \"\")","v":""},0,null,null,null,0]
[{"$f":"IF(Tabla3[[#This Row],[APELLIDOS Y NOMBRES]]>0,ROW()-14,\"\")","v":""},{"$f":"IFERROR(IF(Tabla3[[#This Row],[APELLIDOS Y NOMBRES]]>0,VLOOKUP($H$7,DATA!$A$79:$B$160,2,FALSE),\"\"),\"\")","v":""},null,null,null,null,null,{"$f":"((NOW()-Tabla3[[#This Row],[FECHA DE NACIMIENTO]])/365)-0.5","v":124.79767625317098},null,null,null,null,null,null,null,null,null,null,null,null,null,null,null,null,null,null,null,null,null,null,null,null,null,null,null,null,null,null,null,null,null,null,null,null,null,"",null,{"$f":"IFERROR(IF(OR(LOWER(Tabla3[[#This Row],[SEXO]])=\"masculino\", LOWER(Tabla3[[#This Row],[SEXO]])=\"m\", LOWER(Tabla3[[#This Row],[SEXO]])=\"1\"), \"MASCULINO\",\n  IF(OR(LOWER(Tabla3[[#This Row],[SEXO]])=\"femenino\", LOWER(Tabla3[[#This Row],[SEXO]])=\"f\", LOWER(Tabla3[[#This Row],[SEXO]])=\"2\"), \"FEMENINO\",\n  \"\")), \"\")","v":""},0,null,null,null,0]
[{"$f":"IF(Tabla3[[#This Row],[APELLIDOS Y NOMBRES]]>0,ROW()-14,\"\")","v":""},{"$f":"IFERROR(IF(Tabla3[[#This Row],[APELLIDOS Y NOMBRES]]>0,VLOOKUP($H$7,DATA!$A$79:$B$160,2,FALSE),\"\"),\"\")","v":""},null,null,null,null,null,{"$f":"((NOW()-Tabla3[[#This Row],[FECHA DE NACIMIENTO]])/365)-0.5","v":124.79767625317098},null,null,null,null,null,null,null,null,null,null,null,null,null,null,null,null,null,null,null,null,null,null,null,null,null,null,null,null,null,null,null,null,null,null,null,null,null,"",null,{"$f":"IFERROR(IF(OR(LOWER(Tabla3[[#This Row],[SEXO]])=\"masculino\", LOWER(Tabla3[[#This Row],[SEXO]])=\"m\", LOWER(Tabla3[[#This Row],[SEXO]])=\"1\"), \"MASCULINO\",\n  IF(OR(LOWER(Tabla3[[#This Row],[SEXO]])=\"femenino\", LOWER(Tabla3[[#This Row],[SEXO]])=\"f\", LOWER(Tabla3[[#This Row],[SEXO]])=\"2\"), \"FEMENINO\",\n  \"\")), \"\")","v":""},0,null,null,null,0]
[{"$f":"IF(Tabla3[[#This Row],[APELLIDOS Y NOMBRES]]>0,ROW()-14,\"\")","v":""},{"$f":"IFERROR(IF(Tabla3[[#This Row],[APELLIDOS Y NOMBRES]]>0,VLOOKUP($H$7,DATA!$A$79:$B$160,2,FALSE),\"\"),\"\")","v":""},null,null,null,null,null,{"$f":"((NOW()-Tabla3[[#This Row],[FECHA DE NACIMIENTO]])/365)-0.5","v":124.79767625317098},null,null,null,null,null,null,null,null,null,null,null,null,null,null,null,null,null,null,null,null,null,null,null,null,null,null,null,null,null,null,null,null,null,null,null,null,null,"",null,{"$f":"IFERROR(IF(OR(LOWER(Tabla3[[#This Row],[SEXO]])=\"masculino\", LOWER(Tabla3[[#This Row],[SEXO]])=\"m\", LOWER(Tabla3[[#This Row],[SEXO]])=\"1\"), \"MASCULINO\",\n  IF(OR(LOWER(Tabla3[[#This Row],[SEXO]])=\"femenino\", LOWER(Tabla3[[#This Row],[SEXO]])=\"f\", LOWER(Tabla3[[#This Row],[SEXO]])=\"2\"), \"FEMENINO\",\n  \"\")), \"\")","v":""},0,null,null,null,0]
[{"$f":"IF(Tabla3[[#This Row],[APELLIDOS Y NOMBRES]]>0,ROW()-14,\"\")","v":""},{"$f":"IFERROR(IF(Tabla3[[#This Row],[APELLIDOS Y NOMBRES]]>0,VLOOKUP($H$7,DATA!$A$79:$B$160,2,FALSE),\"\"),\"\")","v":""},null,null,null,null,null,{"$f":"((NOW()-Tabla3[[#This Row],[FECHA DE NACIMIENTO]])/365)-0.5","v":124.79767625317098},null,null,null,null,null,null,null,null,null,null,null,null,null,null,null,null,null,null,null,null,null,null,null,null,null,null,null,null,null,null,null,null,null,null,null,null,null,"",null,{"$f":"IFERROR(IF(OR(LOWER(Tabla3[[#This Row],[SEXO]])=\"masculino\", LOWER(Tabla3[[#This Row],[SEXO]])=\"m\", LOWER(Tabla3[[#This Row],[SEXO]])=\"1\"), \"MASCULINO\",\n  IF(OR(LOWER(Tabla3[[#This Row],[SEXO]])=\"femenino\", LOWER(Tabla3[[#This Row],[SEXO]])=\"f\", LOWER(Tabla3[[#This Row],[SEXO]])=\"2\"), \"FEMENINO\",\n  \"\")), \"\")","v":""},0,null,null,null,0]
[{"$f":"IF(Tabla3[[#This Row],[APELLIDOS Y NOMBRES]]>0,ROW()-14,\"\")","v":""},{"$f":"IFERROR(IF(Tabla3[[#This Row],[APELLIDOS Y NOMBRES]]>0,VLOOKUP($H$7,DATA!$A$79:$B$160,2,FALSE),\"\"),\"\")","v":""},null,null,null,null,null,{"$f":"((NOW()-Tabla3[[#This Row],[FECHA DE NACIMIENTO]])/365)-0.5","v":124.79767625317098},null,null,null,null,null,null,null,null,null,null,null,null,null,null,null,null,null,null,null,null,null,null,null,null,null,null,null,null,null,null,null,null,null,null,null,null,null,"",null,{"$f":"IFERROR(IF(OR(LOWER(Tabla3[[#This Row],[SEXO]])=\"masculino\", LOWER(Tabla3[[#This Row],[SEXO]])=\"m\", LOWER(Tabla3[[#This Row],[SEXO]])=\"1\"), \"MASCULINO\",\n  IF(OR(LOWER(Tabla3[[#This Row],[SEXO]])=\"femenino\", LOWER(Tabla3[[#This Row],[SEXO]])=\"f\", LOWER(Tabla3[[#This Row],[SEXO]])=\"2\"), \"FEMENINO\",\n  \"\")), \"\")","v":""},0,null,null,null,0]
[{"$f":"IF(Tabla3[[#This Row],[APELLIDOS Y NOMBRES]]>0,ROW()-14,\"\")","v":""},{"$f":"IFERROR(IF(Tabla3[[#This Row],[APELLIDOS Y NOMBRES]]>0,VLOOKUP($H$7,DATA!$A$79:$B$160,2,FALSE),\"\"),\"\")","v":""},null,null,null,null,null,{"$f":"((NOW()-Tabla3[[#This Row],[FECHA DE NACIMIENTO]])/365)-0.5","v":124.79767625317098},null,null,null,null,null,null,null,null,null,null,null,null,null,null,null,null,null,null,null,null,null,null,null,null,null,null,null,null,null,null,null,null,null,null,null,null,null,"",null,{"$f":"IFERROR(IF(OR(LOWER(Tabla3[[#This Row],[SEXO]])=\"masculino\", LOWER(Tabla3[[#This Row],[SEXO]])=\"m\", LOWER(Tabla3[[#This Row],[SEXO]])=\"1\"), \"MASCULINO\",\n  IF(OR(LOWER(Tabla3[[#This Row],[SEXO]])=\"femenino\", LOWER(Tabla3[[#This Row],[SEXO]])=\"f\", LOWER(Tabla3[[#This Row],[SEXO]])=\"2\"), \"FEMENINO\",\n  \"\")), \"\")","v":""},0,null,null,null,0]
[{"$f":"IF(Tabla3[[#This Row],[APELLIDOS Y NOMBRES]]>0,ROW()-14,\"\")","v":""},{"$f":"IFERROR(IF(Tabla3[[#This Row],[APELLIDOS Y NOMBRES]]>0,VLOOKUP($H$7,DATA!$A$79:$B$160,2,FALSE),\"\"),\"\")","v":""},null,null,null,null,null,{"$f":"((NOW()-Tabla3[[#This Row],[FECHA DE NACIMIENTO]])/365)-0.5","v":124.79767625317098},null,null,null,null,null,null,null,null,null,null,null,null,null,null,null,null,null,null,null,null,null,null,null,null,null,null,null,null,null,null,null,null,null,null,null,null,null,"",null,{"$f":"IFERROR(IF(OR(LOWER(Tabla3[[#This Row],[SEXO]])=\"masculino\", LOWER(Tabla3[[#This Row],[SEXO]])=\"m\", LOWER(Tabla3[[#This Row],[SEXO]])=\"1\"), \"MASCULINO\",\n  IF(OR(LOWER(Tabla3[[#This Row],[SEXO]])=\"femenino\", LOWER(Tabla3[[#This Row],[SEXO]])=\"f\", LOWER(Tabla3[[#This Row],[SEXO]])=\"2\"), \"FEMENINO\",\n  \"\")), \"\")","v":""},0,null,null,null,0]
[{"$f":"IF(Tabla3[[#This Row],[APELLIDOS Y NOMBRES]]>0,ROW()-14,\"\")","v":""},{"$f":"IFERROR(IF(Tabla3[[#This Row],[APELLIDOS Y NOMBRES]]>0,VLOOKUP($H$7,DATA!$A$79:$B$160,2,FALSE),\"\"),\"\")","v":""},null,null,null,null,null,{"$f":"((NOW()-Tabla3[[#This Row],[FECHA DE NACIMIENTO]])/365)-0.5","v":124.79767625317098},null,null,null,null,null,null,null,null,null,null,null,null,null,null,null,null,null,null,null,null,null,null,null,null,null,null,null,null,null,null,null,null,null,null,null,null,null,"",null,{"$f":"IFERROR(IF(OR(LOWER(Tabla3[[#This Row],[SEXO]])=\"masculino\", LOWER(Tabla3[[#This Row],[SEXO]])=\"m\", LOWER(Tabla3[[#This Row],[SEXO]])=\"1\"), \"MASCULINO\",\n  IF(OR(LOWER(Tabla3[[#This Row],[SEXO]])=\"femenino\", LOWER(Tabla3[[#This Row],[SEXO]])=\"f\", LOWER(Tabla3[[#This Row],[SEXO]])=\"2\"), \"FEMENINO\",\n  \"\")), \"\")","v":""},0,null,null,null,0]
[{"$f":"IF(Tabla3[[#This Row],[APELLIDOS Y NOMBRES]]>0,ROW()-14,\"\")","v":""},{"$f":"IFERROR(IF(Tabla3[[#This Row],[APELLIDOS Y NOMBRES]]>0,VLOOKUP($H$7,DATA!$A$79:$B$160,2,FALSE),\"\"),\"\")","v":""},null,null,null,null,null,{"$f":"((NOW()-Tabla3[[#This Row],[FECHA DE NACIMIENTO]])/365)-0.5","v":124.79767625317098},null,null,null,null,null,null,null,null,null,null,null,null,null,null,null,null,null,null,null,null,null,null,null,null,null,null,null,null,null,null,null,null,null,null,null,null,null,"",null,{"$f":"IFERROR(IF(OR(LOWER(Tabla3[[#This Row],[SEXO]])=\"masculino\", LOWER(Tabla3[[#This Row],[SEXO]])=\"m\", LOWER(Tabla3[[#This Row],[SEXO]])=\"1\"), \"MASCULINO\",\n  IF(OR(LOWER(Tabla3[[#This Row],[SEXO]])=\"femenino\", LOWER(Tabla3[[#This Row],[SEXO]])=\"f\", LOWER(Tabla3[[#This Row],[SEXO]])=\"2\"), \"FEMENINO\",\n  \"\")), \"\")","v":""},0,null,null,null,0]
[{"$f":"IF(Tabla3[[#This Row],[APELLIDOS Y NOMBRES]]>0,ROW()-14,\"\")","v":""},{"$f":"IFERROR(IF(Tabla3[[#This Row],[APELLIDOS Y NOMBRES]]>0,VLOOKUP($H$7,DATA!$A$79:$B$160,2,FALSE),\"\"),\"\")","v":""},null,null,null,null,null,{"$f":"((NOW()-Tabla3[[#This Row],[FECHA DE NACIMIENTO]])/365)-0.5","v":124.79767625317098},null,null,null,null,null,null,null,null,null,null,null,null,null,null,null,null,null,null,null,null,null,null,null,null,null,null,null,null,null,null,null,null,null,null,null,null,null,"",null,{"$f":"IFERROR(IF(OR(LOWER(Tabla3[[#This Row],[SEXO]])=\"masculino\", LOWER(Tabla3[[#This Row],[SEXO]])=\"m\", LOWER(Tabla3[[#This Row],[SEXO]])=\"1\"), \"MASCULINO\",\n  IF(OR(LOWER(Tabla3[[#This Row],[SEXO]])=\"femenino\", LOWER(Tabla3[[#This Row],[SEXO]])=\"f\", LOWER(Tabla3[[#This Row],[SEXO]])=\"2\"), \"FEMENINO\",\n  \"\")), \"\")","v":""},0,null,null,null,0]
[{"$f":"IF(Tabla3[[#This Row],[APELLIDOS Y NOMBRES]]>0,ROW()-14,\"\")","v":""},{"$f":"IFERROR(IF(Tabla3[[#This Row],[APELLIDOS Y NOMBRES]]>0,VLOOKUP($H$7,DATA!$A$79:$B$160,2,FALSE),\"\"),\"\")","v":""},null,null,null,null,null,{"$f":"((NOW()-Tabla3[[#This Row],[FECHA DE NACIMIENTO]])/365)-0.5","v":124.79767625317098},null,null,null,null,null,null,null,null,null,null,null,null,null,null,null,null,null,null,null,null,null,null,null,null,null,null,null,null,null,null,null,null,null,null,null,null,null,"",null,{"$f":"IFERROR(IF(OR(LOWER(Tabla3[[#This Row],[SEXO]])=\"masculino\", LOWER(Tabla3[[#This Row],[SEXO]])=\"m\", LOWER(Tabla3[[#This Row],[SEXO]])=\"1\"), \"MASCULINO\",\n  IF(OR(LOWER(Tabla3[[#This Row],[SEXO]])=\"femenino\", LOWER(Tabla3[[#This Row],[SEXO]])=\"f\", LOWER(Tabla3[[#This Row],[SEXO]])=\"2\"), \"FEMENINO\",\n  \"\")), \"\")","v":""},0,null,null,null,0]
[{"$f":"IF(Tabla3[[#This Row],[APELLIDOS Y NOMBRES]]>0,ROW()-14,\"\")","v":""},{"$f":"IFERROR(IF(Tabla3[[#This Row],[APELLIDOS Y NOMBRES]]>0,VLOOKUP($H$7,DATA!$A$79:$B$160,2,FALSE),\"\"),\"\")","v":""},null,null,null,null,null,{"$f":"((NOW()-Tabla3[[#This Row],[FECHA DE NACIMIENTO]])/365)-0.5","v":124.79767625317098},null,null,null,null,null,null,null,null,null,null,null,null,null,null,null,null,null,null,null,null,null,null,null,null,null,null,null,null,null,null,null,null,null,null,null,null,null,"",null,{"$f":"IFERROR(IF(OR(LOWER(Tabla3[[#This Row],[SEXO]])=\"masculino\", LOWER(Tabla3[[#This Row],[SEXO]])=\"m\", LOWER(Tabla3[[#This Row],[SEXO]])=\"1\"), \"MASCULINO\",\n  IF(OR(LOWER(Tabla3[[#This Row],[SEXO]])=\"femenino\", LOWER(Tabla3[[#This Row],[SEXO]])=\"f\", LOWER(Tabla3[[#This Row],[SEXO]])=\"2\"), \"FEMENINO\",\n  \"\")), \"\")","v":""},0,null,null,null,0]
[{"$f":"IF(Tabla3[[#This Row],[APELLIDOS Y NOMBRES]]>0,ROW()-14,\"\")","v":""},{"$f":"IFERROR(IF(Tabla3[[#This Row],[APELLIDOS Y NOMBRES]]>0,VLOOKUP($H$7,DATA!$A$79:$B$160,2,FALSE),\"\"),\"\")","v":""},null,null,null,null,null,{"$f":"((NOW()-Tabla3[[#This Row],[FECHA DE NACIMIENTO]])/365)-0.5","v":124.79767625317098},null,null,null,null,null,null,null,null,null,null,null,null,null,null,null,null,null,null,null,null,null,null,null,null,null,null,null,null,null,null,null,null,null,null,null,null,null,"",null,{"$f":"IFERROR(IF(OR(LOWER(Tabla3[[#This Row],[SEXO]])=\"masculino\", LOWER(Tabla3[[#This Row],[SEXO]])=\"m\", LOWER(Tabla3[[#This Row],[SEXO]])=\"1\"), \"MASCULINO\",\n  IF(OR(LOWER(Tabla3[[#This Row],[SEXO]])=\"femenino\", LOWER(Tabla3[[#This Row],[SEXO]])=\"f\", LOWER(Tabla3[[#This Row],[SEXO]])=\"2\"), \"FEMENINO\",\n  \"\")), \"\")","v":""},0,null,null,null,0]
[{"$f":"IF(Tabla3[[#This Row],[APELLIDOS Y NOMBRES]]>0,ROW()-14,\"\")","v":""},{"$f":"IFERROR(IF(Tabla3[[#This Row],[APELLIDOS Y NOMBRES]]>0,VLOOKUP($H$7,DATA!$A$79:$B$160,2,FALSE),\"\"),\"\")","v":""},null,null,null,null,null,{"$f":"((NOW()-Tabla3[[#This Row],[FECHA DE NACIMIENTO]])/365)-0.5","v":124.79767625317098},null,null,null,null,null,null,null,null,null,null,null,null,null,null,null,null,null,null,null,null,null,null,null,null,null,null,null,null,null,null,null,null,null,null,null,null,null,"",null,{"$f":"IFERROR(IF(OR(LOWER(Tabla3[[#This Row],[SEXO]])=\"masculino\", LOWER(Tabla3[[#This Row],[SEXO]])=\"m\", LOWER(Tabla3[[#This Row],[SEXO]])=\"1\"), \"MASCULINO\",\n  IF(OR(LOWER(Tabla3[[#This Row],[SEXO]])=\"femenino\", LOWER(Tabla3[[#This Row],[SEXO]])=\"f\", LOWER(Tabla3[[#This Row],[SEXO]])=\"2\"), \"FEMENINO\",\n  \"\")), \"\")","v":""},0,null,null,null,0]
[{"$f":"IF(Tabla3[[#This Row],[APELLIDOS Y NOMBRES]]>0,ROW()-14,\"\")","v":""},{"$f":"IFERROR(IF(Tabla3[[#This Row],[APELLIDOS Y NOMBRES]]>0,VLOOKUP($H$7,DATA!$A$79:$B$160,2,FALSE),\"\"),\"\")","v":""},null,null,null,null,null,{"$f":"((NOW()-Tabla3[[#This Row],[FECHA DE NACIMIENTO]])/365)-0.5","v":124.79767625317098},null,null,null,null,null,null,null,null,null,null,null,null,null,null,null,null,null,null,null,null,null,null,null,null,null,null,null,null,null,null,null,null,null,null,null,null,null,"",null,{"$f":"IFERROR(IF(OR(LOWER(Tabla3[[#This Row],[SEXO]])=\"masculino\", LOWER(Tabla3[[#This Row],[SEXO]])=\"m\", LOWER(Tabla3[[#This Row],[SEXO]])=\"1\"), \"MASCULINO\",\n  IF(OR(LOWER(Tabla3[[#This Row],[SEXO]])=\"femenino\", LOWER(Tabla3[[#This Row],[SEXO]])=\"f\", LOWER(Tabla3[[#This Row],[SEXO]])=\"2\"), \"FEMENINO\",\n  \"\")), \"\")","v":""},0,null,null,null,0]
[{"$f":"IF(Tabla3[[#This Row],[APELLIDOS Y NOMBRES]]>0,ROW()-14,\"\")","v":""},{"$f":"IFERROR(IF(Tabla3[[#This Row],[APELLIDOS Y NOMBRES]]>0,VLOOKUP($H$7,DATA!$A$79:$B$160,2,FALSE),\"\"),\"\")","v":""},null,null,null,null,null,{"$f":"((NOW()-Tabla3[[#This Row],[FECHA DE NACIMIENTO]])/365)-0.5","v":124.79767625317098},null,null,null,null,null,null,null,null,null,null,null,null,null,null,null,null,null,null,null,null,null,null,null,null,null,null,null,null,null,null,null,null,null,null,null,null,null,"",null,{"$f":"IFERROR(IF(OR(LOWER(Tabla3[[#This Row],[SEXO]])=\"masculino\", LOWER(Tabla3[[#This Row],[SEXO]])=\"m\", LOWER(Tabla3[[#This Row],[SEXO]])=\"1\"), \"MASCULINO\",\n  IF(OR(LOWER(Tabla3[[#This Row],[SEXO]])=\"femenino\", LOWER(Tabla3[[#This Row],[SEXO]])=\"f\", LOWER(Tabla3[[#This Row],[SEXO]])=\"2\"), \"FEMENINO\",\n  \"\")), \"\")","v":""},0,null,null,null,0]
[{"$f":"IF(Tabla3[[#This Row],[APELLIDOS Y NOMBRES]]>0,ROW()-14,\"\")","v":""},{"$f":"IFERROR(IF(Tabla3[[#This Row],[APELLIDOS Y NOMBRES]]>0,VLOOKUP($H$7,DATA!$A$79:$B$160,2,FALSE),\"\"),\"\")","v":""},null,null,null,null,null,{"$f":"((NOW()-Tabla3[[#This Row],[FECHA DE NACIMIENTO]])/365)-0.5","v":124.79767625317098},null,null,null,null,null,null,null,null,null,null,null,null,null,null,null,null,null,null,null,null,null,null,null,null,null,null,null,null,null,null,null,null,null,null,null,null,null,"",null,{"$f":"IFERROR(IF(OR(LOWER(Tabla3[[#This Row],[SEXO]])=\"masculino\", LOWER(Tabla3[[#This Row],[SEXO]])=\"m\", LOWER(Tabla3[[#This Row],[SEXO]])=\"1\"), \"MASCULINO\",\n  IF(OR(LOWER(Tabla3[[#This Row],[SEXO]])=\"femenino\", LOWER(Tabla3[[#This Row],[SEXO]])=\"f\", LOWER(Tabla3[[#This Row],[SEXO]])=\"2\"), \"FEMENINO\",\n  \"\")), \"\")","v":""},0,null,null,null,0]
[{"$f":"IF(Tabla3[[#This Row],[APELLIDOS Y NOMBRES]]>0,ROW()-14,\"\")","v":""},{"$f":"IFERROR(IF(Tabla3[[#This Row],[APELLIDOS Y NOMBRES]]>0,VLOOKUP($H$7,DATA!$A$79:$B$160,2,FALSE),\"\"),\"\")","v":""},null,null,null,null,null,{"$f":"((NOW()-Tabla3[[#This Row],[FECHA DE NACIMIENTO]])/365)-0.5","v":124.79767625317098},null,null,null,null,null,null,null,null,null,null,null,null,null,null,null,null,null,null,null,null,null,null,null,null,null,null,null,null,null,null,null,null,null,null,null,null,null,{"$f":"IF(OR($C$5=\"\", $D25232=\"\"), \"\", $C$5)","v":""},null,{"$f":"IFERROR(IF(OR(LOWER(Tabla3[[#This Row],[SEXO]])=\"masculino\", LOWER(Tabla3[[#This Row],[SEXO]])=\"m\", LOWER(Tabla3[[#This Row],[SEXO]])=\"1\"), \"MASCULINO\",\n  IF(OR(LOWER(Tabla3[[#This Row],[SEXO]])=\"femenino\", LOWER(Tabla3[[#This Row],[SEXO]])=\"f\", LOWER(Tabla3[[#This Row],[SEXO]])=\"2\"), \"FEMENINO\",\n  \"\")), \"\")","v":""},{"$f":"COUNTIF(P25232:AH25232,104)","v":0},null,null,null,{"$f":"IF(COUNTIF(P25232:AI25232,104)>0,1,0)","v":0}]
[{"$f":"IF(Tabla3[[#This Row],[APELLIDOS Y NOMBRES]]>0,ROW()-14,\"\")","v":""},{"$f":"IFERROR(IF(Tabla3[[#This Row],[APELLIDOS Y NOMBRES]]>0,VLOOKUP($H$7,DATA!$A$79:$B$160,2,FALSE),\"\"),\"\")","v":""},null,null,null,null,null,{"$f":"((NOW()-Tabla3[[#This Row],[FECHA DE NACIMIENTO]])/365)-0.5","v":124.79767625317098},null,null,null,null,null,null,null,null,null,null,null,null,null,null,null,null,null,null,null,null,null,null,null,null,null,null,null,null,null,null,null,null,null,null,null,null,null,"",null,{"$f":"IFERROR(IF(OR(LOWER(Tabla3[[#This Row],[SEXO]])=\"masculino\", LOWER(Tabla3[[#This Row],[SEXO]])=\"m\", LOWER(Tabla3[[#This Row],[SEXO]])=\"1\"), \"MASCULINO\",\n  IF(OR(LOWER(Tabla3[[#This Row],[SEXO]])=\"femenino\", LOWER(Tabla3[[#This Row],[SEXO]])=\"f\", LOWER(Tabla3[[#This Row],[SEXO]])=\"2\"), \"FEMENINO\",\n  \"\")), \"\")","v":""},0,null,null,null,0]
[{"$f":"IF(Tabla3[[#This Row],[APELLIDOS Y NOMBRES]]>0,ROW()-14,\"\")","v":""},{"$f":"IFERROR(IF(Tabla3[[#This Row],[APELLIDOS Y NOMBRES]]>0,VLOOKUP($H$7,DATA!$A$79:$B$160,2,FALSE),\"\"),\"\")","v":""},null,null,null,null,null,{"$f":"((NOW()-Tabla3[[#This Row],[FECHA DE NACIMIENTO]])/365)-0.5","v":124.79767625317098},null,null,null,null,null,null,null,null,null,null,null,null,null,null,null,null,null,null,null,null,null,null,null,null,null,null,null,null,null,null,null,null,null,null,null,null,null,"",null,{"$f":"IFERROR(IF(OR(LOWER(Tabla3[[#This Row],[SEXO]])=\"masculino\", LOWER(Tabla3[[#This Row],[SEXO]])=\"m\", LOWER(Tabla3[[#This Row],[SEXO]])=\"1\"), \"MASCULINO\",\n  IF(OR(LOWER(Tabla3[[#This Row],[SEXO]])=\"femenino\", LOWER(Tabla3[[#This Row],[SEXO]])=\"f\", LOWER(Tabla3[[#This Row],[SEXO]])=\"2\"), \"FEMENINO\",\n  \"\")), \"\")","v":""},0,null,null,null,0]
[{"$f":"IF(Tabla3[[#This Row],[APELLIDOS Y NOMBRES]]>0,ROW()-14,\"\")","v":""},{"$f":"IFERROR(IF(Tabla3[[#This Row],[APELLIDOS Y NOMBRES]]>0,VLOOKUP($H$7,DATA!$A$79:$B$160,2,FALSE),\"\"),\"\")","v":""},null,null,null,null,null,{"$f":"((NOW()-Tabla3[[#This Row],[FECHA DE NACIMIENTO]])/365)-0.5","v":124.79767625317098},null,null,null,null,null,null,null,null,null,null,null,null,null,null,null,null,null,null,null,null,null,null,null,null,null,null,null,null,null,null,null,null,null,null,null,null,null,"",null,{"$f":"IFERROR(IF(OR(LOWER(Tabla3[[#This Row],[SEXO]])=\"masculino\", LOWER(Tabla3[[#This Row],[SEXO]])=\"m\", LOWER(Tabla3[[#This Row],[SEXO]])=\"1\"), \"MASCULINO\",\n  IF(OR(LOWER(Tabla3[[#This Row],[SEXO]])=\"femenino\", LOWER(Tabla3[[#This Row],[SEXO]])=\"f\", LOWER(Tabla3[[#This Row],[SEXO]])=\"2\"), \"FEMENINO\",\n  \"\")), \"\")","v":""},0,null,null,null,0]
[{"$f":"IF(Tabla3[[#This Row],[APELLIDOS Y NOMBRES]]>0,ROW()-14,\"\")","v":""},{"$f":"IFERROR(IF(Tabla3[[#This Row],[APELLIDOS Y NOMBRES]]>0,VLOOKUP($H$7,DATA!$A$79:$B$160,2,FALSE),\"\"),\"\")","v":""},null,null,null,null,null,{"$f":"((NOW()-Tabla3[[#This Row],[FECHA DE NACIMIENTO]])/365)-0.5","v":124.79767625317098},null,null,null,null,null,null,null,null,null,null,null,null,null,null,null,null,null,null,null,null,null,null,null,null,null,null,null,null,null,null,null,null,null,null,null,null,null,"",null,{"$f":"IFERROR(IF(OR(LOWER(Tabla3[[#This Row],[SEXO]])=\"masculino\", LOWER(Tabla3[[#This Row],[SEXO]])=\"m\", LOWER(Tabla3[[#This Row],[SEXO]])=\"1\"), \"MASCULINO\",\n  IF(OR(LOWER(Tabla3[[#This Row],[SEXO]])=\"femenino\", LOWER(Tabla3[[#This Row],[SEXO]])=\"f\", LOWER(Tabla3[[#This Row],[SEXO]])=\"2\"), \"FEMENINO\",\n  \"\")), \"\")","v":""},0,null,null,null,0]
[{"$f":"IF(Tabla3[[#This Row],[APELLIDOS Y NOMBRES]]>0,ROW()-14,\"\")","v":""},{"$f":"IFERROR(IF(Tabla3[[#This Row],[APELLIDOS Y NOMBRES]]>0,VLOOKUP($H$7,DATA!$A$79:$B$160,2,FALSE),\"\"),\"\")","v":""},null,null,null,null,null,{"$f":"((NOW()-Tabla3[[#This Row],[FECHA DE NACIMIENTO]])/365)-0.5","v":124.79767625317098},null,null,null,null,null,null,null,null,null,null,null,null,null,null,null,null,null,null,null,null,null,null,null,null,null,null,null,null,null,null,null,null,null,null,null,null,null,"",null,{"$f":"IFERROR(IF(OR(LOWER(Tabla3[[#This Row],[SEXO]])=\"masculino\", LOWER(Tabla3[[#This Row],[SEXO]])=\"m\", LOWER(Tabla3[[#This Row],[SEXO]])=\"1\"), \"MASCULINO\",\n  IF(OR(LOWER(Tabla3[[#This Row],[SEXO]])=\"femenino\", LOWER(Tabla3[[#This Row],[SEXO]])=\"f\", LOWER(Tabla3[[#This Row],[SEXO]])=\"2\"), \"FEMENINO\",\n  \"\")), \"\")","v":""},0,null,null,null,0]
[{"$f":"IF(Tabla3[[#This Row],[APELLIDOS Y NOMBRES]]>0,ROW()-14,\"\")","v":""},{"$f":"IFERROR(IF(Tabla3[[#This Row],[APELLIDOS Y NOMBRES]]>0,VLOOKUP($H$7,DATA!$A$79:$B$160,2,FALSE),\"\"),\"\")","v":""},null,null,null,null,null,{"$f":"((NOW()-Tabla3[[#This Row],[FECHA DE NACIMIENTO]])/365)-0.5","v":124.79767625317098},null,null,null,null,null,null,null,null,null,null,null,null,null,null,null,null,null,null,null,null,null,null,null,null,null,null,null,null,null,null,null,null,null,null,null,null,null,"",null,{"$f":"IFERROR(IF(OR(LOWER(Tabla3[[#This Row],[SEXO]])=\"masculino\", LOWER(Tabla3[[#This Row],[SEXO]])=\"m\", LOWER(Tabla3[[#This Row],[SEXO]])=\"1\"), \"MASCULINO\",\n  IF(OR(LOWER(Tabla3[[#This Row],[SEXO]])=\"femenino\", LOWER(Tabla3[[#This Row],[SEXO]])=\"f\", LOWER(Tabla3[[#This Row],[SEXO]])=\"2\"), \"FEMENINO\",\n  \"\")), \"\")","v":""},0,null,null,null,0]
[{"$f":"IF(Tabla3[[#This Row],[APELLIDOS Y NOMBRES]]>0,ROW()-14,\"\")","v":""},{"$f":"IFERROR(IF(Tabla3[[#This Row],[APELLIDOS Y NOMBRES]]>0,VLOOKUP($H$7,DATA!$A$79:$B$160,2,FALSE),\"\"),\"\")","v":""},null,null,null,null,null,{"$f":"((NOW()-Tabla3[[#This Row],[FECHA DE NACIMIENTO]])/365)-0.5","v":124.79767625317098},null,null,null,null,null,null,null,null,null,null,null,null,null,null,null,null,null,null,null,null,null,null,null,null,null,null,null,null,null,null,null,null,null,null,null,null,null,"",null,{"$f":"IFERROR(IF(OR(LOWER(Tabla3[[#This Row],[SEXO]])=\"masculino\", LOWER(Tabla3[[#This Row],[SEXO]])=\"m\", LOWER(Tabla3[[#This Row],[SEXO]])=\"1\"), \"MASCULINO\",\n  IF(OR(LOWER(Tabla3[[#This Row],[SEXO]])=\"femenino\", LOWER(Tabla3[[#This Row],[SEXO]])=\"f\", LOWER(Tabla3[[#This Row],[SEXO]])=\"2\"), \"FEMENINO\",\n  \"\")), \"\")","v":""},0,null,null,null,0]
[{"$f":"IF(Tabla3[[#This Row],[APELLIDOS Y NOMBRES]]>0,ROW()-14,\"\")","v":""},{"$f":"IFERROR(IF(Tabla3[[#This Row],[APELLIDOS Y NOMBRES]]>0,VLOOKUP($H$7,DATA!$A$79:$B$160,2,FALSE),\"\"),\"\")","v":""},null,null,null,null,null,{"$f":"((NOW()-Tabla3[[#This Row],[FECHA DE NACIMIENTO]])/365)-0.5","v":124.79767625317098},null,null,null,null,null,null,null,null,null,null,null,null,null,null,null,null,null,null,null,null,null,null,null,null,null,null,null,null,null,null,null,null,null,null,null,null,null,"",null,{"$f":"IFERROR(IF(OR(LOWER(Tabla3[[#This Row],[SEXO]])=\"masculino\", LOWER(Tabla3[[#This Row],[SEXO]])=\"m\", LOWER(Tabla3[[#This Row],[SEXO]])=\"1\"), \"MASCULINO\",\n  IF(OR(LOWER(Tabla3[[#This Row],[SEXO]])=\"femenino\", LOWER(Tabla3[[#This Row],[SEXO]])=\"f\", LOWER(Tabla3[[#This Row],[SEXO]])=\"2\"), \"FEMENINO\",\n  \"\")), \"\")","v":""},0,null,null,null,0]
[{"$f":"IF(Tabla3[[#This Row],[APELLIDOS Y NOMBRES]]>0,ROW()-14,\"\")","v":""},{"$f":"IFERROR(IF(Tabla3[[#This Row],[APELLIDOS Y NOMBRES]]>0,VLOOKUP($H$7,DATA!$A$79:$B$160,2,FALSE),\"\"),\"\")","v":""},null,null,null,null,null,{"$f":"((NOW()-Tabla3[[#This Row],[FECHA DE NACIMIENTO]])/365)-0.5","v":124.79767625317098},null,null,null,null,null,null,null,null,null,null,null,null,null,null,null,null,null,null,null,null,null,null,null,null,null,null,null,null,null,null,null,null,null,null,null,null,null,"",null,{"$f":"IFERROR(IF(OR(LOWER(Tabla3[[#This Row],[SEXO]])=\"masculino\", LOWER(Tabla3[[#This Row],[SEXO]])=\"m\", LOWER(Tabla3[[#This Row],[SEXO]])=\"1\"), \"MASCULINO\",\n  IF(OR(LOWER(Tabla3[[#This Row],[SEXO]])=\"femenino\", LOWER(Tabla3[[#This Row],[SEXO]])=\"f\", LOWER(Tabla3[[#This Row],[SEXO]])=\"2\"), \"FEMENINO\",\n  \"\")), \"\")","v":""},0,null,null,null,0]
[{"$f":"IF(Tabla3[[#This Row],[APELLIDOS Y NOMBRES]]>0,ROW()-14,\"\")","v":""},{"$f":"IFERROR(IF(Tabla3[[#This Row],[APELLIDOS Y NOMBRES]]>0,VLOOKUP($H$7,DATA!$A$79:$B$160,2,FALSE),\"\"),\"\")","v":""},null,null,null,null,null,{"$f":"((NOW()-Tabla3[[#This Row],[FECHA DE NACIMIENTO]])/365)-0.5","v":124.79767625317098},null,null,null,null,null,null,null,null,null,null,null,null,null,null,null,null,null,null,null,null,null,null,null,null,null,null,null,null,null,null,null,null,null,null,null,null,null,"",null,{"$f":"IFERROR(IF(OR(LOWER(Tabla3[[#This Row],[SEXO]])=\"masculino\", LOWER(Tabla3[[#This Row],[SEXO]])=\"m\", LOWER(Tabla3[[#This Row],[SEXO]])=\"1\"), \"MASCULINO\",\n  IF(OR(LOWER(Tabla3[[#This Row],[SEXO]])=\"femenino\", LOWER(Tabla3[[#This Row],[SEXO]])=\"f\", LOWER(Tabla3[[#This Row],[SEXO]])=\"2\"), \"FEMENINO\",\n  \"\")), \"\")","v":""},0,null,null,null,0]
[{"$f":"IF(Tabla3[[#This Row],[APELLIDOS Y NOMBRES]]>0,ROW()-14,\"\")","v":""},{"$f":"IFERROR(IF(Tabla3[[#This Row],[APELLIDOS Y NOMBRES]]>0,VLOOKUP($H$7,DATA!$A$79:$B$160,2,FALSE),\"\"),\"\")","v":""},null,null,null,null,null,{"$f":"((NOW()-Tabla3[[#This Row],[FECHA DE NACIMIENTO]])/365)-0.5","v":124.79767625317098},null,null,null,null,null,null,null,null,null,null,null,null,null,null,null,null,null,null,null,null,null,null,null,null,null,null,null,null,null,null,null,null,null,null,null,null,null,"",null,{"$f":"IFERROR(IF(OR(LOWER(Tabla3[[#This Row],[SEXO]])=\"masculino\", LOWER(Tabla3[[#This Row],[SEXO]])=\"m\", LOWER(Tabla3[[#This Row],[SEXO]])=\"1\"), \"MASCULINO\",\n  IF(OR(LOWER(Tabla3[[#This Row],[SEXO]])=\"femenino\", LOWER(Tabla3[[#This Row],[SEXO]])=\"f\", LOWER(Tabla3[[#This Row],[SEXO]])=\"2\"), \"FEMENINO\",\n  \"\")), \"\")","v":""},0,null,null,null,0]
[{"$f":"IF(Tabla3[[#This Row],[APELLIDOS Y NOMBRES]]>0,ROW()-14,\"\")","v":""},{"$f":"IFERROR(IF(Tabla3[[#This Row],[APELLIDOS Y NOMBRES]]>0,VLOOKUP($H$7,DATA!$A$79:$B$160,2,FALSE),\"\"),\"\")","v":""},null,null,null,null,null,{"$f":"((NOW()-Tabla3[[#This Row],[FECHA DE NACIMIENTO]])/365)-0.5","v":124.79767625317098},null,null,null,null,null,null,null,null,null,null,null,null,null,null,null,null,null,null,null,null,null,null,null,null,null,null,null,null,null,null,null,null,null,null,null,null,null,"",null,{"$f":"IFERROR(IF(OR(LOWER(Tabla3[[#This Row],[SEXO]])=\"masculino\", LOWER(Tabla3[[#This Row],[SEXO]])=\"m\", LOWER(Tabla3[[#This Row],[SEXO]])=\"1\"), \"MASCULINO\",\n  IF(OR(LOWER(Tabla3[[#This Row],[SEXO]])=\"femenino\", LOWER(Tabla3[[#This Row],[SEXO]])=\"f\", LOWER(Tabla3[[#This Row],[SEXO]])=\"2\"), \"FEMENINO\",\n  \"\")), \"\")","v":""},0,null,null,null,0]
[{"$f":"IF(Tabla3[[#This Row],[APELLIDOS Y NOMBRES]]>0,ROW()-14,\"\")","v":""},{"$f":"IFERROR(IF(Tabla3[[#This Row],[APELLIDOS Y NOMBRES]]>0,VLOOKUP($H$7,DATA!$A$79:$B$160,2,FALSE),\"\"),\"\")","v":""},null,null,null,null,null,{"$f":"((NOW()-Tabla3[[#This Row],[FECHA DE NACIMIENTO]])/365)-0.5","v":124.79767625317098},null,null,null,null,null,null,null,null,null,null,null,null,null,null,null,null,null,null,null,null,null,null,null,null,null,null,null,null,null,null,null,null,null,null,null,null,null,"",null,{"$f":"IFERROR(IF(OR(LOWER(Tabla3[[#This Row],[SEXO]])=\"masculino\", LOWER(Tabla3[[#This Row],[SEXO]])=\"m\", LOWER(Tabla3[[#This Row],[SEXO]])=\"1\"), \"MASCULINO\",\n  IF(OR(LOWER(Tabla3[[#This Row],[SEXO]])=\"femenino\", LOWER(Tabla3[[#This Row],[SEXO]])=\"f\", LOWER(Tabla3[[#This Row],[SEXO]])=\"2\"), \"FEMENINO\",\n  \"\")), \"\")","v":""},0,null,null,null,0]
[{"$f":"IF(Tabla3[[#This Row],[APELLIDOS Y NOMBRES]]>0,ROW()-14,\"\")","v":""},{"$f":"IFERROR(IF(Tabla3[[#This Row],[APELLIDOS Y NOMBRES]]>0,VLOOKUP($H$7,DATA!$A$79:$B$160,2,FALSE),\"\"),\"\")","v":""},null,null,null,null,null,{"$f":"((NOW()-Tabla3[[#This Row],[FECHA DE NACIMIENTO]])/365)-0.5","v":124.79767625317098},null,null,null,null,null,null,null,null,null,null,null,null,null,null,null,null,null,null,null,null,null,null,null,null,null,null,null,null,null,null,null,null,null,null,null,null,null,"",null,{"$f":"IFERROR(IF(OR(LOWER(Tabla3[[#This Row],[SEXO]])=\"masculino\", LOWER(Tabla3[[#This Row],[SEXO]])=\"m\", LOWER(Tabla3[[#This Row],[SEXO]])=\"1\"), \"MASCULINO\",\n  IF(OR(LOWER(Tabla3[[#This Row],[SEXO]])=\"femenino\", LOWER(Tabla3[[#This Row],[SEXO]])=\"f\", LOWER(Tabla3[[#This Row],[SEXO]])=\"2\"), \"FEMENINO\",\n  \"\")), \"\")","v":""},0,null,null,null,0]
[{"$f":"IF(Tabla3[[#This Row],[APELLIDOS Y NOMBRES]]>0,ROW()-14,\"\")","v":""},{"$f":"IFERROR(IF(Tabla3[[#This Row],[APELLIDOS Y NOMBRES]]>0,VLOOKUP($H$7,DATA!$A$79:$B$160,2,FALSE),\"\"),\"\")","v":""},null,null,null,null,null,{"$f":"((NOW()-Tabla3[[#This Row],[FECHA DE NACIMIENTO]])/365)-0.5","v":124.79767625317098},null,null,null,null,null,null,null,null,null,null,null,null,null,null,null,null,null,null,null,null,null,null,null,null,null,null,null,null,null,null,null,null,null,null,null,null,null,"",null,{"$f":"IFERROR(IF(OR(LOWER(Tabla3[[#This Row],[SEXO]])=\"masculino\", LOWER(Tabla3[[#This Row],[SEXO]])=\"m\", LOWER(Tabla3[[#This Row],[SEXO]])=\"1\"), \"MASCULINO\",\n  IF(OR(LOWER(Tabla3[[#This Row],[SEXO]])=\"femenino\", LOWER(Tabla3[[#This Row],[SEXO]])=\"f\", LOWER(Tabla3[[#This Row],[SEXO]])=\"2\"), \"FEMENINO\",\n  \"\")), \"\")","v":""},0,null,null,null,0]
[{"$f":"IF(Tabla3[[#This Row],[APELLIDOS Y NOMBRES]]>0,ROW()-14,\"\")","v":""},{"$f":"IFERROR(IF(Tabla3[[#This Row],[APELLIDOS Y NOMBRES]]>0,VLOOKUP($H$7,DATA!$A$79:$B$160,2,FALSE),\"\"),\"\")","v":""},null,null,null,null,null,{"$f":"((NOW()-Tabla3[[#This Row],[FECHA DE NACIMIENTO]])/365)-0.5","v":124.79767625317098},null,null,null,null,null,null,null,null,null,null,null,null,null,null,null,null,null,null,null,null,null,null,null,null,null,null,null,null,null,null,null,null,null,null,null,null,null,"",null,{"$f":"IFERROR(IF(OR(LOWER(Tabla3[[#This Row],[SEXO]])=\"masculino\", LOWER(Tabla3[[#This Row],[SEXO]])=\"m\", LOWER(Tabla3[[#This Row],[SEXO]])=\"1\"), \"MASCULINO\",\n  IF(OR(LOWER(Tabla3[[#This Row],[SEXO]])=\"femenino\", LOWER(Tabla3[[#This Row],[SEXO]])=\"f\", LOWER(Tabla3[[#This Row],[SEXO]])=\"2\"), \"FEMENINO\",\n  \"\")), \"\")","v":""},0,null,null,null,0]
[{"$f":"IF(Tabla3[[#This Row],[APELLIDOS Y NOMBRES]]>0,ROW()-14,\"\")","v":""},{"$f":"IFERROR(IF(Tabla3[[#This Row],[APELLIDOS Y NOMBRES]]>0,VLOOKUP($H$7,DATA!$A$79:$B$160,2,FALSE),\"\"),\"\")","v":""},null,null,null,null,null,{"$f":"((NOW()-Tabla3[[#This Row],[FECHA DE NACIMIENTO]])/365)-0.5","v":124.79767625317098},null,null,null,null,null,null,null,null,null,null,null,null,null,null,null,null,null,null,null,null,null,null,null,null,null,null,null,null,null,null,null,null,null,null,null,null,null,"",null,{"$f":"IFERROR(IF(OR(LOWER(Tabla3[[#This Row],[SEXO]])=\"masculino\", LOWER(Tabla3[[#This Row],[SEXO]])=\"m\", LOWER(Tabla3[[#This Row],[SEXO]])=\"1\"), \"MASCULINO\",\n  IF(OR(LOWER(Tabla3[[#This Row],[SEXO]])=\"femenino\", LOWER(Tabla3[[#This Row],[SEXO]])=\"f\", LOWER(Tabla3[[#This Row],[SEXO]])=\"2\"), \"FEMENINO\",\n  \"\")), \"\")","v":""},0,null,null,null,0]
[{"$f":"IF(Tabla3[[#This Row],[APELLIDOS Y NOMBRES]]>0,ROW()-14,\"\")","v":""},{"$f":"IFERROR(IF(Tabla3[[#This Row],[APELLIDOS Y NOMBRES]]>0,VLOOKUP($H$7,DATA!$A$79:$B$160,2,FALSE),\"\"),\"\")","v":""},null,null,null,null,null,{"$f":"((NOW()-Tabla3[[#This Row],[FECHA DE NACIMIENTO]])/365)-0.5","v":124.79767625317098},null,null,null,null,null,null,null,null,null,null,null,null,null,null,null,null,null,null,null,null,null,null,null,null,null,null,null,null,null,null,null,null,null,null,null,null,null,"",null,{"$f":"IFERROR(IF(OR(LOWER(Tabla3[[#This Row],[SEXO]])=\"masculino\", LOWER(Tabla3[[#This Row],[SEXO]])=\"m\", LOWER(Tabla3[[#This Row],[SEXO]])=\"1\"), \"MASCULINO\",\n  IF(OR(LOWER(Tabla3[[#This Row],[SEXO]])=\"femenino\", LOWER(Tabla3[[#This Row],[SEXO]])=\"f\", LOWER(Tabla3[[#This Row],[SEXO]])=\"2\"), \"FEMENINO\",\n  \"\")), \"\")","v":""},0,null,null,null,0]
[{"$f":"IF(Tabla3[[#This Row],[APELLIDOS Y NOMBRES]]>0,ROW()-14,\"\")","v":""},{"$f":"IFERROR(IF(Tabla3[[#This Row],[APELLIDOS Y NOMBRES]]>0,VLOOKUP($H$7,DATA!$A$79:$B$160,2,FALSE),\"\"),\"\")","v":""},null,null,null,null,null,{"$f":"((NOW()-Tabla3[[#This Row],[FECHA DE NACIMIENTO]])/365)-0.5","v":124.79767625317098},null,null,null,null,null,null,null,null,null,null,null,null,null,null,null,null,null,null,null,null,null,null,null,null,null,null,null,null,null,null,null,null,null,null,null,null,null,"",null,{"$f":"IFERROR(IF(OR(LOWER(Tabla3[[#This Row],[SEXO]])=\"masculino\", LOWER(Tabla3[[#This Row],[SEXO]])=\"m\", LOWER(Tabla3[[#This Row],[SEXO]])=\"1\"), \"MASCULINO\",\n  IF(OR(LOWER(Tabla3[[#This Row],[SEXO]])=\"femenino\", LOWER(Tabla3[[#This Row],[SEXO]])=\"f\", LOWER(Tabla3[[#This Row],[SEXO]])=\"2\"), \"FEMENINO\",\n  \"\")), \"\")","v":""},0,null,null,null,0]
[{"$f":"IF(Tabla3[[#This Row],[APELLIDOS Y NOMBRES]]>0,ROW()-14,\"\")","v":""},{"$f":"IFERROR(IF(Tabla3[[#This Row],[APELLIDOS Y NOMBRES]]>0,VLOOKUP($H$7,DATA!$A$79:$B$160,2,FALSE),\"\"),\"\")","v":""},null,null,null,null,null,{"$f":"((NOW()-Tabla3[[#This Row],[FECHA DE NACIMIENTO]])/365)-0.5","v":124.79767625317098},null,null,null,null,null,null,null,null,null,null,null,null,null,null,null,null,null,null,null,null,null,null,null,null,null,null,null,null,null,null,null,null,null,null,null,null,null,"",null,{"$f":"IFERROR(IF(OR(LOWER(Tabla3[[#This Row],[SEXO]])=\"masculino\", LOWER(Tabla3[[#This Row],[SEXO]])=\"m\", LOWER(Tabla3[[#This Row],[SEXO]])=\"1\"), \"MASCULINO\",\n  IF(OR(LOWER(Tabla3[[#This Row],[SEXO]])=\"femenino\", LOWER(Tabla3[[#This Row],[SEXO]])=\"f\", LOWER(Tabla3[[#This Row],[SEXO]])=\"2\"), \"FEMENINO\",\n  \"\")), \"\")","v":""},0,null,null,null,0]
[{"$f":"IF(Tabla3[[#This Row],[APELLIDOS Y NOMBRES]]>0,ROW()-14,\"\")","v":""},{"$f":"IFERROR(IF(Tabla3[[#This Row],[APELLIDOS Y NOMBRES]]>0,VLOOKUP($H$7,DATA!$A$79:$B$160,2,FALSE),\"\"),\"\")","v":""},null,null,null,null,null,{"$f":"((NOW()-Tabla3[[#This Row],[FECHA DE NACIMIENTO]])/365)-0.5","v":124.79767625317098},null,null,null,null,null,null,null,null,null,null,null,null,null,null,null,null,null,null,null,null,null,null,null,null,null,null,null,null,null,null,null,null,null,null,null,null,null,"",null,{"$f":"IFERROR(IF(OR(LOWER(Tabla3[[#This Row],[SEXO]])=\"masculino\", LOWER(Tabla3[[#This Row],[SEXO]])=\"m\", LOWER(Tabla3[[#This Row],[SEXO]])=\"1\"), \"MASCULINO\",\n  IF(OR(LOWER(Tabla3[[#This Row],[SEXO]])=\"femenino\", LOWER(Tabla3[[#This Row],[SEXO]])=\"f\", LOWER(Tabla3[[#This Row],[SEXO]])=\"2\"), \"FEMENINO\",\n  \"\")), \"\")","v":""},0,null,null,null,0]
[{"$f":"IF(Tabla3[[#This Row],[APELLIDOS Y NOMBRES]]>0,ROW()-14,\"\")","v":""},{"$f":"IFERROR(IF(Tabla3[[#This Row],[APELLIDOS Y NOMBRES]]>0,VLOOKUP($H$7,DATA!$A$79:$B$160,2,FALSE),\"\"),\"\")","v":""},null,null,null,null,null,{"$f":"((NOW()-Tabla3[[#This Row],[FECHA DE NACIMIENTO]])/365)-0.5","v":124.79767625317098},null,null,null,null,null,null,null,null,null,null,null,null,null,null,null,null,null,null,null,null,null,null,null,null,null,null,null,null,null,null,null,null,null,null,null,null,null,"",null,{"$f":"IFERROR(IF(OR(LOWER(Tabla3[[#This Row],[SEXO]])=\"masculino\", LOWER(Tabla3[[#This Row],[SEXO]])=\"m\", LOWER(Tabla3[[#This Row],[SEXO]])=\"1\"), \"MASCULINO\",\n  IF(OR(LOWER(Tabla3[[#This Row],[SEXO]])=\"femenino\", LOWER(Tabla3[[#This Row],[SEXO]])=\"f\", LOWER(Tabla3[[#This Row],[SEXO]])=\"2\"), \"FEMENINO\",\n  \"\")), \"\")","v":""},0,null,null,null,0]
[{"$f":"IF(Tabla3[[#This Row],[APELLIDOS Y NOMBRES]]>0,ROW()-14,\"\")","v":""},{"$f":"IFERROR(IF(Tabla3[[#This Row],[APELLIDOS Y NOMBRES]]>0,VLOOKUP($H$7,DATA!$A$79:$B$160,2,FALSE),\"\"),\"\")","v":""},null,null,null,null,null,{"$f":"((NOW()-Tabla3[[#This Row],[FECHA DE NACIMIENTO]])/365)-0.5","v":124.79767625317098},null,null,null,null,null,null,null,null,null,null,null,null,null,null,null,null,null,null,null,null,null,null,null,null,null,null,null,null,null,null,null,null,null,null,null,null,null,"",null,{"$f":"IFERROR(IF(OR(LOWER(Tabla3[[#This Row],[SEXO]])=\"masculino\", LOWER(Tabla3[[#This Row],[SEXO]])=\"m\", LOWER(Tabla3[[#This Row],[SEXO]])=\"1\"), \"MASCULINO\",\n  IF(OR(LOWER(Tabla3[[#This Row],[SEXO]])=\"femenino\", LOWER(Tabla3[[#This Row],[SEXO]])=\"f\", LOWER(Tabla3[[#This Row],[SEXO]])=\"2\"), \"FEMENINO\",\n  \"\")), \"\")","v":""},0,null,null,null,0]
[{"$f":"IF(Tabla3[[#This Row],[APELLIDOS Y NOMBRES]]>0,ROW()-14,\"\")","v":""},{"$f":"IFERROR(IF(Tabla3[[#This Row],[APELLIDOS Y NOMBRES]]>0,VLOOKUP($H$7,DATA!$A$79:$B$160,2,FALSE),\"\"),\"\")","v":""},null,null,null,null,null,{"$f":"((NOW()-Tabla3[[#This Row],[FECHA DE NACIMIENTO]])/365)-0.5","v":124.79767625317098},null,null,null,null,null,null,null,null,null,null,null,null,null,null,null,null,null,null,null,null,null,null,null,null,null,null,null,null,null,null,null,null,null,null,null,null,null,"",null,{"$f":"IFERROR(IF(OR(LOWER(Tabla3[[#This Row],[SEXO]])=\"masculino\", LOWER(Tabla3[[#This Row],[SEXO]])=\"m\", LOWER(Tabla3[[#This Row],[SEXO]])=\"1\"), \"MASCULINO\",\n  IF(OR(LOWER(Tabla3[[#This Row],[SEXO]])=\"femenino\", LOWER(Tabla3[[#This Row],[SEXO]])=\"f\", LOWER(Tabla3[[#This Row],[SEXO]])=\"2\"), \"FEMENINO\",\n  \"\")), \"\")","v":""},0,null,null,null,0]
[{"$f":"IF(Tabla3[[#This Row],[APELLIDOS Y NOMBRES]]>0,ROW()-14,\"\")","v":""},{"$f":"IFERROR(IF(Tabla3[[#This Row],[APELLIDOS Y NOMBRES]]>0,VLOOKUP($H$7,DATA!$A$79:$B$160,2,FALSE),\"\"),\"\")","v":""},null,null,null,null,null,{"$f":"((NOW()-Tabla3[[#This Row],[FECHA DE NACIMIENTO]])/365)-0.5","v":124.79767625317098},null,null,null,null,null,null,null,null,null,null,null,null,null,null,null,null,null,null,null,null,null,null,null,null,null,null,null,null,null,null,null,null,null,null,null,null,null,"",null,{"$f":"IFERROR(IF(OR(LOWER(Tabla3[[#This Row],[SEXO]])=\"masculino\", LOWER(Tabla3[[#This Row],[SEXO]])=\"m\", LOWER(Tabla3[[#This Row],[SEXO]])=\"1\"), \"MASCULINO\",\n  IF(OR(LOWER(Tabla3[[#This Row],[SEXO]])=\"femenino\", LOWER(Tabla3[[#This Row],[SEXO]])=\"f\", LOWER(Tabla3[[#This Row],[SEXO]])=\"2\"), \"FEMENINO\",\n  \"\")), \"\")","v":""},0,null,null,null,0]
[{"$f":"IF(Tabla3[[#This Row],[APELLIDOS Y NOMBRES]]>0,ROW()-14,\"\")","v":""},{"$f":"IFERROR(IF(Tabla3[[#This Row],[APELLIDOS Y NOMBRES]]>0,VLOOKUP($H$7,DATA!$A$79:$B$160,2,FALSE),\"\"),\"\")","v":""},null,null,null,null,null,{"$f":"((NOW()-Tabla3[[#This Row],[FECHA DE NACIMIENTO]])/365)-0.5","v":124.79767625317098},null,null,null,null,null,null,null,null,null,null,null,null,null,null,null,null,null,null,null,null,null,null,null,null,null,null,null,null,null,null,null,null,null,null,null,null,null,"",null,{"$f":"IFERROR(IF(OR(LOWER(Tabla3[[#This Row],[SEXO]])=\"masculino\", LOWER(Tabla3[[#This Row],[SEXO]])=\"m\", LOWER(Tabla3[[#This Row],[SEXO]])=\"1\"), \"MASCULINO\",\n  IF(OR(LOWER(Tabla3[[#This Row],[SEXO]])=\"femenino\", LOWER(Tabla3[[#This Row],[SEXO]])=\"f\", LOWER(Tabla3[[#This Row],[SEXO]])=\"2\"), \"FEMENINO\",\n  \"\")), \"\")","v":""},0,null,null,null,0]
[{"$f":"IF(Tabla3[[#This Row],[APELLIDOS Y NOMBRES]]>0,ROW()-14,\"\")","v":""},{"$f":"IFERROR(IF(Tabla3[[#This Row],[APELLIDOS Y NOMBRES]]>0,VLOOKUP($H$7,DATA!$A$79:$B$160,2,FALSE),\"\"),\"\")","v":""},null,null,null,null,null,{"$f":"((NOW()-Tabla3[[#This Row],[FECHA DE NACIMIENTO]])/365)-0.5","v":124.79767625317098},null,null,null,null,null,null,null,null,null,null,null,null,null,null,null,null,null,null,null,null,null,null,null,null,null,null,null,null,null,null,null,null,null,null,null,null,null,"",null,{"$f":"IFERROR(IF(OR(LOWER(Tabla3[[#This Row],[SEXO]])=\"masculino\", LOWER(Tabla3[[#This Row],[SEXO]])=\"m\", LOWER(Tabla3[[#This Row],[SEXO]])=\"1\"), \"MASCULINO\",\n  IF(OR(LOWER(Tabla3[[#This Row],[SEXO]])=\"femenino\", LOWER(Tabla3[[#This Row],[SEXO]])=\"f\", LOWER(Tabla3[[#This Row],[SEXO]])=\"2\"), \"FEMENINO\",\n  \"\")), \"\")","v":""},0,null,null,null,0]
[{"$f":"IF(Tabla3[[#This Row],[APELLIDOS Y NOMBRES]]>0,ROW()-14,\"\")","v":""},{"$f":"IFERROR(IF(Tabla3[[#This Row],[APELLIDOS Y NOMBRES]]>0,VLOOKUP($H$7,DATA!$A$79:$B$160,2,FALSE),\"\"),\"\")","v":""},null,null,null,null,null,{"$f":"((NOW()-Tabla3[[#This Row],[FECHA DE NACIMIENTO]])/365)-0.5","v":124.79767625317098},null,null,null,null,null,null,null,null,null,null,null,null,null,null,null,null,null,null,null,null,null,null,null,null,null,null,null,null,null,null,null,null,null,null,null,null,null,"",null,{"$f":"IFERROR(IF(OR(LOWER(Tabla3[[#This Row],[SEXO]])=\"masculino\", LOWER(Tabla3[[#This Row],[SEXO]])=\"m\", LOWER(Tabla3[[#This Row],[SEXO]])=\"1\"), \"MASCULINO\",\n  IF(OR(LOWER(Tabla3[[#This Row],[SEXO]])=\"femenino\", LOWER(Tabla3[[#This Row],[SEXO]])=\"f\", LOWER(Tabla3[[#This Row],[SEXO]])=\"2\"), \"FEMENINO\",\n  \"\")), \"\")","v":""},0,null,null,null,0]
[{"$f":"IF(Tabla3[[#This Row],[APELLIDOS Y NOMBRES]]>0,ROW()-14,\"\")","v":""},{"$f":"IFERROR(IF(Tabla3[[#This Row],[APELLIDOS Y NOMBRES]]>0,VLOOKUP($H$7,DATA!$A$79:$B$160,2,FALSE),\"\"),\"\")","v":""},null,null,null,null,null,{"$f":"((NOW()-Tabla3[[#This Row],[FECHA DE NACIMIENTO]])/365)-0.5","v":124.79767625317098},null,null,null,null,null,null,null,null,null,null,null,null,null,null,null,null,null,null,null,null,null,null,null,null,null,null,null,null,null,null,null,null,null,null,null,null,null,"",null,{"$f":"IFERROR(IF(OR(LOWER(Tabla3[[#This Row],[SEXO]])=\"masculino\", LOWER(Tabla3[[#This Row],[SEXO]])=\"m\", LOWER(Tabla3[[#This Row],[SEXO]])=\"1\"), \"MASCULINO\",\n  IF(OR(LOWER(Tabla3[[#This Row],[SEXO]])=\"femenino\", LOWER(Tabla3[[#This Row],[SEXO]])=\"f\", LOWER(Tabla3[[#This Row],[SEXO]])=\"2\"), \"FEMENINO\",\n  \"\")), \"\")","v":""},0,null,null,null,0]
[{"$f":"IF(Tabla3[[#This Row],[APELLIDOS Y NOMBRES]]>0,ROW()-14,\"\")","v":""},{"$f":"IFERROR(IF(Tabla3[[#This Row],[APELLIDOS Y NOMBRES]]>0,VLOOKUP($H$7,DATA!$A$79:$B$160,2,FALSE),\"\"),\"\")","v":""},null,null,null,null,null,{"$f":"((NOW()-Tabla3[[#This Row],[FECHA DE NACIMIENTO]])/365)-0.5","v":124.79767625317098},null,null,null,null,null,null,null,null,null,null,null,null,null,null,null,null,null,null,null,null,null,null,null,null,null,null,null,null,null,null,null,null,null,null,null,null,null,"",null,{"$f":"IFERROR(IF(OR(LOWER(Tabla3[[#This Row],[SEXO]])=\"masculino\", LOWER(Tabla3[[#This Row],[SEXO]])=\"m\", LOWER(Tabla3[[#This Row],[SEXO]])=\"1\"), \"MASCULINO\",\n  IF(OR(LOWER(Tabla3[[#This Row],[SEXO]])=\"femenino\", LOWER(Tabla3[[#This Row],[SEXO]])=\"f\", LOWER(Tabla3[[#This Row],[SEXO]])=\"2\"), \"FEMENINO\",\n  \"\")), \"\")","v":""},0,null,null,null,0]
[{"$f":"IF(Tabla3[[#This Row],[APELLIDOS Y NOMBRES]]>0,ROW()-14,\"\")","v":""},{"$f":"IFERROR(IF(Tabla3[[#This Row],[APELLIDOS Y NOMBRES]]>0,VLOOKUP($H$7,DATA!$A$79:$B$160,2,FALSE),\"\"),\"\")","v":""},null,null,null,null,null,{"$f":"((NOW()-Tabla3[[#This Row],[FECHA DE NACIMIENTO]])/365)-0.5","v":124.79767625317098},null,null,null,null,null,null,null,null,null,null,null,null,null,null,null,null,null,null,null,null,null,null,null,null,null,null,null,null,null,null,null,null,null,null,null,null,null,"",null,{"$f":"IFERROR(IF(OR(LOWER(Tabla3[[#This Row],[SEXO]])=\"masculino\", LOWER(Tabla3[[#This Row],[SEXO]])=\"m\", LOWER(Tabla3[[#This Row],[SEXO]])=\"1\"), \"MASCULINO\",\n  IF(OR(LOWER(Tabla3[[#This Row],[SEXO]])=\"femenino\", LOWER(Tabla3[[#This Row],[SEXO]])=\"f\", LOWER(Tabla3[[#This Row],[SEXO]])=\"2\"), \"FEMENINO\",\n  \"\")), \"\")","v":""},0,null,null,null,0]
[{"$f":"IF(Tabla3[[#This Row],[APELLIDOS Y NOMBRES]]>0,ROW()-14,\"\")","v":""},{"$f":"IFERROR(IF(Tabla3[[#This Row],[APELLIDOS Y NOMBRES]]>0,VLOOKUP($H$7,DATA!$A$79:$B$160,2,FALSE),\"\"),\"\")","v":""},null,null,null,null,null,{"$f":"((NOW()-Tabla3[[#This Row],[FECHA DE NACIMIENTO]])/365)-0.5","v":124.79767625317098},null,null,null,null,null,null,null,null,null,null,null,null,null,null,null,null,null,null,null,null,null,null,null,null,null,null,null,null,null,null,null,null,null,null,null,null,null,"",null,{"$f":"IFERROR(IF(OR(LOWER(Tabla3[[#This Row],[SEXO]])=\"masculino\", LOWER(Tabla3[[#This Row],[SEXO]])=\"m\", LOWER(Tabla3[[#This Row],[SEXO]])=\"1\"), \"MASCULINO\",\n  IF(OR(LOWER(Tabla3[[#This Row],[SEXO]])=\"femenino\", LOWER(Tabla3[[#This Row],[SEXO]])=\"f\", LOWER(Tabla3[[#This Row],[SEXO]])=\"2\"), \"FEMENINO\",\n  \"\")), \"\")","v":""},0,null,null,null,0]
[{"$f":"IF(Tabla3[[#This Row],[APELLIDOS Y NOMBRES]]>0,ROW()-14,\"\")","v":""},{"$f":"IFERROR(IF(Tabla3[[#This Row],[APELLIDOS Y NOMBRES]]>0,VLOOKUP($H$7,DATA!$A$79:$B$160,2,FALSE),\"\"),\"\")","v":""},null,null,null,null,null,{"$f":"((NOW()-Tabla3[[#This Row],[FECHA DE NACIMIENTO]])/365)-0.5","v":124.79767625317098},null,null,null,null,null,null,null,null,null,null,null,null,null,null,null,null,null,null,null,null,null,null,null,null,null,null,null,null,null,null,null,null,null,null,null,null,null,"",null,{"$f":"IFERROR(IF(OR(LOWER(Tabla3[[#This Row],[SEXO]])=\"masculino\", LOWER(Tabla3[[#This Row],[SEXO]])=\"m\", LOWER(Tabla3[[#This Row],[SEXO]])=\"1\"), \"MASCULINO\",\n  IF(OR(LOWER(Tabla3[[#This Row],[SEXO]])=\"femenino\", LOWER(Tabla3[[#This Row],[SEXO]])=\"f\", LOWER(Tabla3[[#This Row],[SEXO]])=\"2\"), \"FEMENINO\",\n  \"\")), \"\")","v":""},0,null,null,null,0]
[{"$f":"IF(Tabla3[[#This Row],[APELLIDOS Y NOMBRES]]>0,ROW()-14,\"\")","v":""},{"$f":"IFERROR(IF(Tabla3[[#This Row],[APELLIDOS Y NOMBRES]]>0,VLOOKUP($H$7,DATA!$A$79:$B$160,2,FALSE),\"\"),\"\")","v":""},null,null,null,null,null,{"$f":"((NOW()-Tabla3[[#This Row],[FECHA DE NACIMIENTO]])/365)-0.5","v":124.79767625317098},null,null,null,null,null,null,null,null,null,null,null,null,null,null,null,null,null,null,null,null,null,null,null,null,null,null,null,null,null,null,null,null,null,null,null,null,null,{"$f":"IF(OR($C$5=\"\", $D27216=\"\"), \"\", $C$5)","v":""},null,{"$f":"IFERROR(IF(OR(LOWER(Tabla3[[#This Row],[SEXO]])=\"masculino\", LOWER(Tabla3[[#This Row],[SEXO]])=\"m\", LOWER(Tabla3[[#This Row],[SEXO]])=\"1\"), \"MASCULINO\",\n  IF(OR(LOWER(Tabla3[[#This Row],[SEXO]])=\"femenino\", LOWER(Tabla3[[#This Row],[SEXO]])=\"f\", LOWER(Tabla3[[#This Row],[SEXO]])=\"2\"), \"FEMENINO\",\n  \"\")), \"\")","v":""},{"$f":"COUNTIF(P27216:AH27216,104)","v":0},null,null,null,{"$f":"IF(COUNTIF(P27216:AI27216,104)>0,1,0)","v":0}]
[{"$f":"IF(Tabla3[[#This Row],[APELLIDOS Y NOMBRES]]>0,ROW()-14,\"\")","v":""},{"$f":"IFERROR(IF(Tabla3[[#This Row],[APELLIDOS Y NOMBRES]]>0,VLOOKUP($H$7,DATA!$A$79:$B$160,2,FALSE),\"\"),\"\")","v":""},null,null,null,null,null,{"$f":"((NOW()-Tabla3[[#This Row],[FECHA DE NACIMIENTO]])/365)-0.5","v":124.79767625317098},null,null,null,null,null,null,null,null,null,null,null,null,null,null,null,null,null,null,null,null,null,null,null,null,null,null,null,null,null,null,null,null,null,null,null,null,null,"",null,{"$f":"IFERROR(IF(OR(LOWER(Tabla3[[#This Row],[SEXO]])=\"masculino\", LOWER(Tabla3[[#This Row],[SEXO]])=\"m\", LOWER(Tabla3[[#This Row],[SEXO]])=\"1\"), \"MASCULINO\",\n  IF(OR(LOWER(Tabla3[[#This Row],[SEXO]])=\"femenino\", LOWER(Tabla3[[#This Row],[SEXO]])=\"f\", LOWER(Tabla3[[#This Row],[SEXO]])=\"2\"), \"FEMENINO\",\n  \"\")), \"\")","v":""},0,null,null,null,0]
[{"$f":"IF(Tabla3[[#This Row],[APELLIDOS Y NOMBRES]]>0,ROW()-14,\"\")","v":""},{"$f":"IFERROR(IF(Tabla3[[#This Row],[APELLIDOS Y NOMBRES]]>0,VLOOKUP($H$7,DATA!$A$79:$B$160,2,FALSE),\"\"),\"\")","v":""},null,null,null,null,null,{"$f":"((NOW()-Tabla3[[#This Row],[FECHA DE NACIMIENTO]])/365)-0.5","v":124.79767625317098},null,null,null,null,null,null,null,null,null,null,null,null,null,null,null,null,null,null,null,null,null,null,null,null,null,null,null,null,null,null,null,null,null,null,null,null,null,"",null,{"$f":"IFERROR(IF(OR(LOWER(Tabla3[[#This Row],[SEXO]])=\"masculino\", LOWER(Tabla3[[#This Row],[SEXO]])=\"m\", LOWER(Tabla3[[#This Row],[SEXO]])=\"1\"), \"MASCULINO\",\n  IF(OR(LOWER(Tabla3[[#This Row],[SEXO]])=\"femenino\", LOWER(Tabla3[[#This Row],[SEXO]])=\"f\", LOWER(Tabla3[[#This Row],[SEXO]])=\"2\"), \"FEMENINO\",\n  \"\")), \"\")","v":""},0,null,null,null,0]
[{"$f":"IF(Tabla3[[#This Row],[APELLIDOS Y NOMBRES]]>0,ROW()-14,\"\")","v":""},{"$f":"IFERROR(IF(Tabla3[[#This Row],[APELLIDOS Y NOMBRES]]>0,VLOOKUP($H$7,DATA!$A$79:$B$160,2,FALSE),\"\"),\"\")","v":""},null,null,null,null,null,{"$f":"((NOW()-Tabla3[[#This Row],[FECHA DE NACIMIENTO]])/365)-0.5","v":124.79767625317098},null,null,null,null,null,null,null,null,null,null,null,null,null,null,null,null,null,null,null,null,null,null,null,null,null,null,null,null,null,null,null,null,null,null,null,null,null,"",null,{"$f":"IFERROR(IF(OR(LOWER(Tabla3[[#This Row],[SEXO]])=\"masculino\", LOWER(Tabla3[[#This Row],[SEXO]])=\"m\", LOWER(Tabla3[[#This Row],[SEXO]])=\"1\"), \"MASCULINO\",\n  IF(OR(LOWER(Tabla3[[#This Row],[SEXO]])=\"femenino\", LOWER(Tabla3[[#This Row],[SEXO]])=\"f\", LOWER(Tabla3[[#This Row],[SEXO]])=\"2\"), \"FEMENINO\",\n  \"\")), \"\")","v":""},0,null,null,null,0]
[{"$f":"IF(Tabla3[[#This Row],[APELLIDOS Y NOMBRES]]>0,ROW()-14,\"\")","v":""},{"$f":"IFERROR(IF(Tabla3[[#This Row],[APELLIDOS Y NOMBRES]]>0,VLOOKUP($H$7,DATA!$A$79:$B$160,2,FALSE),\"\"),\"\")","v":""},null,null,null,null,null,{"$f":"((NOW()-Tabla3[[#This Row],[FECHA DE NACIMIENTO]])/365)-0.5","v":124.79767625317098},null,null,null,null,null,null,null,null,null,null,null,null,null,null,null,null,null,null,null,null,null,null,null,null,null,null,null,null,null,null,null,null,null,null,null,null,null,"",null,{"$f":"IFERROR(IF(OR(LOWER(Tabla3[[#This Row],[SEXO]])=\"masculino\", LOWER(Tabla3[[#This Row],[SEXO]])=\"m\", LOWER(Tabla3[[#This Row],[SEXO]])=\"1\"), \"MASCULINO\",\n  IF(OR(LOWER(Tabla3[[#This Row],[SEXO]])=\"femenino\", LOWER(Tabla3[[#This Row],[SEXO]])=\"f\", LOWER(Tabla3[[#This Row],[SEXO]])=\"2\"), \"FEMENINO\",\n  \"\")), \"\")","v":""},0,null,null,null,0]
[{"$f":"IF(Tabla3[[#This Row],[APELLIDOS Y NOMBRES]]>0,ROW()-14,\"\")","v":""},{"$f":"IFERROR(IF(Tabla3[[#This Row],[APELLIDOS Y NOMBRES]]>0,VLOOKUP($H$7,DATA!$A$79:$B$160,2,FALSE),\"\"),\"\")","v":""},null,null,null,null,null,{"$f":"((NOW()-Tabla3[[#This Row],[FECHA DE NACIMIENTO]])/365)-0.5","v":124.79767625317098},null,null,null,null,null,null,null,null,null,null,null,null,null,null,null,null,null,null,null,null,null,null,null,null,null,null,null,null,null,null,null,null,null,null,null,null,null,"",null,{"$f":"IFERROR(IF(OR(LOWER(Tabla3[[#This Row],[SEXO]])=\"masculino\", LOWER(Tabla3[[#This Row],[SEXO]])=\"m\", LOWER(Tabla3[[#This Row],[SEXO]])=\"1\"), \"MASCULINO\",\n  IF(OR(LOWER(Tabla3[[#This Row],[SEXO]])=\"femenino\", LOWER(Tabla3[[#This Row],[SEXO]])=\"f\", LOWER(Tabla3[[#This Row],[SEXO]])=\"2\"), \"FEMENINO\",\n  \"\")), \"\")","v":""},0,null,null,null,0]
[{"$f":"IF(Tabla3[[#This Row],[APELLIDOS Y NOMBRES]]>0,ROW()-14,\"\")","v":""},{"$f":"IFERROR(IF(Tabla3[[#This Row],[APELLIDOS Y NOMBRES]]>0,VLOOKUP($H$7,DATA!$A$79:$B$160,2,FALSE),\"\"),\"\")","v":""},null,null,null,null,null,{"$f":"((NOW()-Tabla3[[#This Row],[FECHA DE NACIMIENTO]])/365)-0.5","v":124.79767625317098},null,null,null,null,null,null,null,null,null,null,null,null,null,null,null,null,null,null,null,null,null,null,null,null,null,null,null,null,null,null,null,null,null,null,null,null,null,"",null,{"$f":"IFERROR(IF(OR(LOWER(Tabla3[[#This Row],[SEXO]])=\"masculino\", LOWER(Tabla3[[#This Row],[SEXO]])=\"m\", LOWER(Tabla3[[#This Row],[SEXO]])=\"1\"), \"MASCULINO\",\n  IF(OR(LOWER(Tabla3[[#This Row],[SEXO]])=\"femenino\", LOWER(Tabla3[[#This Row],[SEXO]])=\"f\", LOWER(Tabla3[[#This Row],[SEXO]])=\"2\"), \"FEMENINO\",\n  \"\")), \"\")","v":""},0,null,null,null,0]
[{"$f":"IF(Tabla3[[#This Row],[APELLIDOS Y NOMBRES]]>0,ROW()-14,\"\")","v":""},{"$f":"IFERROR(IF(Tabla3[[#This Row],[APELLIDOS Y NOMBRES]]>0,VLOOKUP($H$7,DATA!$A$79:$B$160,2,FALSE),\"\"),\"\")","v":""},null,null,null,null,null,{"$f":"((NOW()-Tabla3[[#This Row],[FECHA DE NACIMIENTO]])/365)-0.5","v":124.79767625317098},null,null,null,null,null,null,null,null,null,null,null,null,null,null,null,null,null,null,null,null,null,null,null,null,null,null,null,null,null,null,null,null,null,null,null,null,null,"",null,{"$f":"IFERROR(IF(OR(LOWER(Tabla3[[#This Row],[SEXO]])=\"masculino\", LOWER(Tabla3[[#This Row],[SEXO]])=\"m\", LOWER(Tabla3[[#This Row],[SEXO]])=\"1\"), \"MASCULINO\",\n  IF(OR(LOWER(Tabla3[[#This Row],[SEXO]])=\"femenino\", LOWER(Tabla3[[#This Row],[SEXO]])=\"f\", LOWER(Tabla3[[#This Row],[SEXO]])=\"2\"), \"FEMENINO\",\n  \"\")), \"\")","v":""},0,null,null,null,0]
[{"$f":"IF(Tabla3[[#This Row],[APELLIDOS Y NOMBRES]]>0,ROW()-14,\"\")","v":""},{"$f":"IFERROR(IF(Tabla3[[#This Row],[APELLIDOS Y NOMBRES]]>0,VLOOKUP($H$7,DATA!$A$79:$B$160,2,FALSE),\"\"),\"\")","v":""},null,null,null,null,null,{"$f":"((NOW()-Tabla3[[#This Row],[FECHA DE NACIMIENTO]])/365)-0.5","v":124.79767625317098},null,null,null,null,null,null,null,null,null,null,null,null,null,null,null,null,null,null,null,null,null,null,null,null,null,null,null,null,null,null,null,null,null,null,null,null,null,"",null,{"$f":"IFERROR(IF(OR(LOWER(Tabla3[[#This Row],[SEXO]])=\"masculino\", LOWER(Tabla3[[#This Row],[SEXO]])=\"m\", LOWER(Tabla3[[#This Row],[SEXO]])=\"1\"), \"MASCULINO\",\n  IF(OR(LOWER(Tabla3[[#This Row],[SEXO]])=\"femenino\", LOWER(Tabla3[[#This Row],[SEXO]])=\"f\", LOWER(Tabla3[[#This Row],[SEXO]])=\"2\"), \"FEMENINO\",\n  \"\")), \"\")","v":""},0,null,null,null,0]
[{"$f":"IF(Tabla3[[#This Row],[APELLIDOS Y NOMBRES]]>0,ROW()-14,\"\")","v":""},{"$f":"IFERROR(IF(Tabla3[[#This Row],[APELLIDOS Y NOMBRES]]>0,VLOOKUP($H$7,DATA!$A$79:$B$160,2,FALSE),\"\"),\"\")","v":""},null,null,null,null,null,{"$f":"((NOW()-Tabla3[[#This Row],[FECHA DE NACIMIENTO]])/365)-0.5","v":124.79767625317098},null,null,null,null,null,null,null,null,null,null,null,null,null,null,null,null,null,null,null,null,null,null,null,null,null,null,null,null,null,null,null,null,null,null,null,null,null,"",null,{"$f":"IFERROR(IF(OR(LOWER(Tabla3[[#This Row],[SEXO]])=\"masculino\", LOWER(Tabla3[[#This Row],[SEXO]])=\"m\", LOWER(Tabla3[[#This Row],[SEXO]])=\"1\"), \"MASCULINO\",\n  IF(OR(LOWER(Tabla3[[#This Row],[SEXO]])=\"femenino\", LOWER(Tabla3[[#This Row],[SEXO]])=\"f\", LOWER(Tabla3[[#This Row],[SEXO]])=\"2\"), \"FEMENINO\",\n  \"\")), \"\")","v":""},0,null,null,null,0]
[{"$f":"IF(Tabla3[[#This Row],[APELLIDOS Y NOMBRES]]>0,ROW()-14,\"\")","v":""},{"$f":"IFERROR(IF(Tabla3[[#This Row],[APELLIDOS Y NOMBRES]]>0,VLOOKUP($H$7,DATA!$A$79:$B$160,2,FALSE),\"\"),\"\")","v":""},null,null,null,null,null,{"$f":"((NOW()-Tabla3[[#This Row],[FECHA DE NACIMIENTO]])/365)-0.5","v":124.79767625317098},null,null,null,null,null,null,null,null,null,null,null,null,null,null,null,null,null,null,null,null,null,null,null,null,null,null,null,null,null,null,null,null,null,null,null,null,null,"",null,{"$f":"IFERROR(IF(OR(LOWER(Tabla3[[#This Row],[SEXO]])=\"masculino\", LOWER(Tabla3[[#This Row],[SEXO]])=\"m\", LOWER(Tabla3[[#This Row],[SEXO]])=\"1\"), \"MASCULINO\",\n  IF(OR(LOWER(Tabla3[[#This Row],[SEXO]])=\"femenino\", LOWER(Tabla3[[#This Row],[SEXO]])=\"f\", LOWER(Tabla3[[#This Row],[SEXO]])=\"2\"), \"FEMENINO\",\n  \"\")), \"\")","v":""},0,null,null,null,0]
[{"$f":"IF(Tabla3[[#This Row],[APELLIDOS Y NOMBRES]]>0,ROW()-14,\"\")","v":""},{"$f":"IFERROR(IF(Tabla3[[#This Row],[APELLIDOS Y NOMBRES]]>0,VLOOKUP($H$7,DATA!$A$79:$B$160,2,FALSE),\"\"),\"\")","v":""},null,null,null,null,null,{"$f":"((NOW()-Tabla3[[#This Row],[FECHA DE NACIMIENTO]])/365)-0.5","v":124.79767625317098},null,null,null,null,null,null,null,null,null,null,null,null,null,null,null,null,null,null,null,null,null,null,null,null,null,null,null,null,null,null,null,null,null,null,null,null,null,"",null,{"$f":"IFERROR(IF(OR(LOWER(Tabla3[[#This Row],[SEXO]])=\"masculino\", LOWER(Tabla3[[#This Row],[SEXO]])=\"m\", LOWER(Tabla3[[#This Row],[SEXO]])=\"1\"), \"MASCULINO\",\n  IF(OR(LOWER(Tabla3[[#This Row],[SEXO]])=\"femenino\", LOWER(Tabla3[[#This Row],[SEXO]])=\"f\", LOWER(Tabla3[[#This Row],[SEXO]])=\"2\"), \"FEMENINO\",\n  \"\")), \"\")","v":""},0,null,null,null,0]
[{"$f":"IF(Tabla3[[#This Row],[APELLIDOS Y NOMBRES]]>0,ROW()-14,\"\")","v":""},{"$f":"IFERROR(IF(Tabla3[[#This Row],[APELLIDOS Y NOMBRES]]>0,VLOOKUP($H$7,DATA!$A$79:$B$160,2,FALSE),\"\"),\"\")","v":""},null,null,null,null,null,{"$f":"((NOW()-Tabla3[[#This Row],[FECHA DE NACIMIENTO]])/365)-0.5","v":124.79767625317098},null,null,null,null,null,null,null,null,null,null,null,null,null,null,null,null,null,null,null,null,null,null,null,null,null,null,null,null,null,null,null,null,null,null,null,null,null,"",null,{"$f":"IFERROR(IF(OR(LOWER(Tabla3[[#This Row],[SEXO]])=\"masculino\", LOWER(Tabla3[[#This Row],[SEXO]])=\"m\", LOWER(Tabla3[[#This Row],[SEXO]])=\"1\"), \"MASCULINO\",\n  IF(OR(LOWER(Tabla3[[#This Row],[SEXO]])=\"femenino\", LOWER(Tabla3[[#This Row],[SEXO]])=\"f\", LOWER(Tabla3[[#This Row],[SEXO]])=\"2\"), \"FEMENINO\",\n  \"\")), \"\")","v":""},0,null,null,null,0]
[{"$f":"IF(Tabla3[[#This Row],[APELLIDOS Y NOMBRES]]>0,ROW()-14,\"\")","v":""},{"$f":"IFERROR(IF(Tabla3[[#This Row],[APELLIDOS Y NOMBRES]]>0,VLOOKUP($H$7,DATA!$A$79:$B$160,2,FALSE),\"\"),\"\")","v":""},null,null,null,null,null,{"$f":"((NOW()-Tabla3[[#This Row],[FECHA DE NACIMIENTO]])/365)-0.5","v":124.79767625317098},null,null,null,null,null,null,null,null,null,null,null,null,null,null,null,null,null,null,null,null,null,null,null,null,null,null,null,null,null,null,null,null,null,null,null,null,null,"",null,{"$f":"IFERROR(IF(OR(LOWER(Tabla3[[#This Row],[SEXO]])=\"masculino\", LOWER(Tabla3[[#This Row],[SEXO]])=\"m\", LOWER(Tabla3[[#This Row],[SEXO]])=\"1\"), \"MASCULINO\",\n  IF(OR(LOWER(Tabla3[[#This Row],[SEXO]])=\"femenino\", LOWER(Tabla3[[#This Row],[SEXO]])=\"f\", LOWER(Tabla3[[#This Row],[SEXO]])=\"2\"), \"FEMENINO\",\n  \"\")), \"\")","v":""},0,null,null,null,0]
[{"$f":"IF(Tabla3[[#This Row],[APELLIDOS Y NOMBRES]]>0,ROW()-14,\"\")","v":""},{"$f":"IFERROR(IF(Tabla3[[#This Row],[APELLIDOS Y NOMBRES]]>0,VLOOKUP($H$7,DATA!$A$79:$B$160,2,FALSE),\"\"),\"\")","v":""},null,null,null,null,null,{"$f":"((NOW()-Tabla3[[#This Row],[FECHA DE NACIMIENTO]])/365)-0.5","v":124.79767625317098},null,null,null,null,null,null,null,null,null,null,null,null,null,null,null,null,null,null,null,null,null,null,null,null,null,null,null,null,null,null,null,null,null,null,null,null,null,"",null,{"$f":"IFERROR(IF(OR(LOWER(Tabla3[[#This Row],[SEXO]])=\"masculino\", LOWER(Tabla3[[#This Row],[SEXO]])=\"m\", LOWER(Tabla3[[#This Row],[SEXO]])=\"1\"), \"MASCULINO\",\n  IF(OR(LOWER(Tabla3[[#This Row],[SEXO]])=\"femenino\", LOWER(Tabla3[[#This Row],[SEXO]])=\"f\", LOWER(Tabla3[[#This Row],[SEXO]])=\"2\"), \"FEMENINO\",\n  \"\")), \"\")","v":""},0,null,null,null,0]
[{"$f":"IF(Tabla3[[#This Row],[APELLIDOS Y NOMBRES]]>0,ROW()-14,\"\")","v":""},{"$f":"IFERROR(IF(Tabla3[[#This Row],[APELLIDOS Y NOMBRES]]>0,VLOOKUP($H$7,DATA!$A$79:$B$160,2,FALSE),\"\"),\"\")","v":""},null,null,null,null,null,{"$f":"((NOW()-Tabla3[[#This Row],[FECHA DE NACIMIENTO]])/365)-0.5","v":124.79767625317098},null,null,null,null,null,null,null,null,null,null,null,null,null,null,null,null,null,null,null,null,null,null,null,null,null,null,null,null,null,null,null,null,null,null,null,null,null,"",null,{"$f":"IFERROR(IF(OR(LOWER(Tabla3[[#This Row],[SEXO]])=\"masculino\", LOWER(Tabla3[[#This Row],[SEXO]])=\"m\", LOWER(Tabla3[[#This Row],[SEXO]])=\"1\"), \"MASCULINO\",\n  IF(OR(LOWER(Tabla3[[#This Row],[SEXO]])=\"femenino\", LOWER(Tabla3[[#This Row],[SEXO]])=\"f\", LOWER(Tabla3[[#This Row],[SEXO]])=\"2\"), \"FEMENINO\",\n  \"\")), \"\")","v":""},0,null,null,null,0]
[{"$f":"IF(Tabla3[[#This Row],[APELLIDOS Y NOMBRES]]>0,ROW()-14,\"\")","v":""},{"$f":"IFERROR(IF(Tabla3[[#This Row],[APELLIDOS Y NOMBRES]]>0,VLOOKUP($H$7,DATA!$A$79:$B$160,2,FALSE),\"\"),\"\")","v":""},null,null,null,null,null,{"$f":"((NOW()-Tabla3[[#This Row],[FECHA DE NACIMIENTO]])/365)-0.5","v":124.79767625317098},null,null,null,null,null,null,null,null,null,null,null,null,null,null,null,null,null,null,null,null,null,null,null,null,null,null,null,null,null,null,null,null,null,null,null,null,null,"",null,{"$f":"IFERROR(IF(OR(LOWER(Tabla3[[#This Row],[SEXO]])=\"masculino\", LOWER(Tabla3[[#This Row],[SEXO]])=\"m\", LOWER(Tabla3[[#This Row],[SEXO]])=\"1\"), \"MASCULINO\",\n  IF(OR(LOWER(Tabla3[[#This Row],[SEXO]])=\"femenino\", LOWER(Tabla3[[#This Row],[SEXO]])=\"f\", LOWER(Tabla3[[#This Row],[SEXO]])=\"2\"), \"FEMENINO\",\n  \"\")), \"\")","v":""},0,null,null,null,0]
[{"$f":"IF(Tabla3[[#This Row],[APELLIDOS Y NOMBRES]]>0,ROW()-14,\"\")","v":""},{"$f":"IFERROR(IF(Tabla3[[#This Row],[APELLIDOS Y NOMBRES]]>0,VLOOKUP($H$7,DATA!$A$79:$B$160,2,FALSE),\"\"),\"\")","v":""},null,null,null,null,null,{"$f":"((NOW()-Tabla3[[#This Row],[FECHA DE NACIMIENTO]])/365)-0.5","v":124.79767625317098},null,null,null,null,null,null,null,null,null,null,null,null,null,null,null,null,null,null,null,null,null,null,null,null,null,null,null,null,null,null,null,null,null,null,null,null,null,"",null,{"$f":"IFERROR(IF(OR(LOWER(Tabla3[[#This Row],[SEXO]])=\"masculino\", LOWER(Tabla3[[#This Row],[SEXO]])=\"m\", LOWER(Tabla3[[#This Row],[SEXO]])=\"1\"), \"MASCULINO\",\n  IF(OR(LOWER(Tabla3[[#This Row],[SEXO]])=\"femenino\", LOWER(Tabla3[[#This Row],[SEXO]])=\"f\", LOWER(Tabla3[[#This Row],[SEXO]])=\"2\"), \"FEMENINO\",\n  \"\")), \"\")","v":""},0,null,null,null,0]
[{"$f":"IF(Tabla3[[#This Row],[APELLIDOS Y NOMBRES]]>0,ROW()-14,\"\")","v":""},{"$f":"IFERROR(IF(Tabla3[[#This Row],[APELLIDOS Y NOMBRES]]>0,VLOOKUP($H$7,DATA!$A$79:$B$160,2,FALSE),\"\"),\"\")","v":""},null,null,null,null,null,{"$f":"((NOW()-Tabla3[[#This Row],[FECHA DE NACIMIENTO]])/365)-0.5","v":124.79767625317098},null,null,null,null,null,null,null,null,null,null,null,null,null,null,null,null,null,null,null,null,null,null,null,null,null,null,null,null,null,null,null,null,null,null,null,null,null,"",null,{"$f":"IFERROR(IF(OR(LOWER(Tabla3[[#This Row],[SEXO]])=\"masculino\", LOWER(Tabla3[[#This Row],[SEXO]])=\"m\", LOWER(Tabla3[[#This Row],[SEXO]])=\"1\"), \"MASCULINO\",\n  IF(OR(LOWER(Tabla3[[#This Row],[SEXO]])=\"femenino\", LOWER(Tabla3[[#This Row],[SEXO]])=\"f\", LOWER(Tabla3[[#This Row],[SEXO]])=\"2\"), \"FEMENINO\",\n  \"\")), \"\")","v":""},0,null,null,null,0]
[{"$f":"IF(Tabla3[[#This Row],[APELLIDOS Y NOMBRES]]>0,ROW()-14,\"\")","v":""},{"$f":"IFERROR(IF(Tabla3[[#This Row],[APELLIDOS Y NOMBRES]]>0,VLOOKUP($H$7,DATA!$A$79:$B$160,2,FALSE),\"\"),\"\")","v":""},null,null,null,null,null,{"$f":"((NOW()-Tabla3[[#This Row],[FECHA DE NACIMIENTO]])/365)-0.5","v":124.79767625317098},null,null,null,null,null,null,null,null,null,null,null,null,null,null,null,null,null,null,null,null,null,null,null,null,null,null,null,null,null,null,null,null,null,null,null,null,null,"",null,{"$f":"IFERROR(IF(OR(LOWER(Tabla3[[#This Row],[SEXO]])=\"masculino\", LOWER(Tabla3[[#This Row],[SEXO]])=\"m\", LOWER(Tabla3[[#This Row],[SEXO]])=\"1\"), \"MASCULINO\",\n  IF(OR(LOWER(Tabla3[[#This Row],[SEXO]])=\"femenino\", LOWER(Tabla3[[#This Row],[SEXO]])=\"f\", LOWER(Tabla3[[#This Row],[SEXO]])=\"2\"), \"FEMENINO\",\n  \"\")), \"\")","v":""},0,null,null,null,0]
[{"$f":"IF(Tabla3[[#This Row],[APELLIDOS Y NOMBRES]]>0,ROW()-14,\"\")","v":""},{"$f":"IFERROR(IF(Tabla3[[#This Row],[APELLIDOS Y NOMBRES]]>0,VLOOKUP($H$7,DATA!$A$79:$B$160,2,FALSE),\"\"),\"\")","v":""},null,null,null,null,null,{"$f":"((NOW()-Tabla3[[#This Row],[FECHA DE NACIMIENTO]])/365)-0.5","v":124.79767625317098},null,null,null,null,null,null,null,null,null,null,null,null,null,null,null,null,null,null,null,null,null,null,null,null,null,null,null,null,null,null,null,null,null,null,null,null,null,"",null,{"$f":"IFERROR(IF(OR(LOWER(Tabla3[[#This Row],[SEXO]])=\"masculino\", LOWER(Tabla3[[#This Row],[SEXO]])=\"m\", LOWER(Tabla3[[#This Row],[SEXO]])=\"1\"), \"MASCULINO\",\n  IF(OR(LOWER(Tabla3[[#This Row],[SEXO]])=\"femenino\", LOWER(Tabla3[[#This Row],[SEXO]])=\"f\", LOWER(Tabla3[[#This Row],[SEXO]])=\"2\"), \"FEMENINO\",\n  \"\")), \"\")","v":""},0,null,null,null,0]
[{"$f":"IF(Tabla3[[#This Row],[APELLIDOS Y NOMBRES]]>0,ROW()-14,\"\")","v":""},{"$f":"IFERROR(IF(Tabla3[[#This Row],[APELLIDOS Y NOMBRES]]>0,VLOOKUP($H$7,DATA!$A$79:$B$160,2,FALSE),\"\"),\"\")","v":""},null,null,null,null,null,{"$f":"((NOW()-Tabla3[[#This Row],[FECHA DE NACIMIENTO]])/365)-0.5","v":124.79767625317098},null,null,null,null,null,null,null,null,null,null,null,null,null,null,null,null,null,null,null,null,null,null,null,null,null,null,null,null,null,null,null,null,null,null,null,null,null,"",null,{"$f":"IFERROR(IF(OR(LOWER(Tabla3[[#This Row],[SEXO]])=\"masculino\", LOWER(Tabla3[[#This Row],[SEXO]])=\"m\", LOWER(Tabla3[[#This Row],[SEXO]])=\"1\"), \"MASCULINO\",\n  IF(OR(LOWER(Tabla3[[#This Row],[SEXO]])=\"femenino\", LOWER(Tabla3[[#This Row],[SEXO]])=\"f\", LOWER(Tabla3[[#This Row],[SEXO]])=\"2\"), \"FEMENINO\",\n  \"\")), \"\")","v":""},0,null,null,null,0]
[{"$f":"IF(Tabla3[[#This Row],[APELLIDOS Y NOMBRES]]>0,ROW()-14,\"\")","v":""},{"$f":"IFERROR(IF(Tabla3[[#This Row],[APELLIDOS Y NOMBRES]]>0,VLOOKUP($H$7,DATA!$A$79:$B$160,2,FALSE),\"\"),\"\")","v":""},null,null,null,null,null,{"$f":"((NOW()-Tabla3[[#This Row],[FECHA DE NACIMIENTO]])/365)-0.5","v":124.79767625317098},null,null,null,null,null,null,null,null,null,null,null,null,null,null,null,null,null,null,null,null,null,null,null,null,null,null,null,null,null,null,null,null,null,null,null,null,null,"",null,{"$f":"IFERROR(IF(OR(LOWER(Tabla3[[#This Row],[SEXO]])=\"masculino\", LOWER(Tabla3[[#This Row],[SEXO]])=\"m\", LOWER(Tabla3[[#This Row],[SEXO]])=\"1\"), \"MASCULINO\",\n  IF(OR(LOWER(Tabla3[[#This Row],[SEXO]])=\"femenino\", LOWER(Tabla3[[#This Row],[SEXO]])=\"f\", LOWER(Tabla3[[#This Row],[SEXO]])=\"2\"), \"FEMENINO\",\n  \"\")), \"\")","v":""},0,null,null,null,0]
[{"$f":"IF(Tabla3[[#This Row],[APELLIDOS Y NOMBRES]]>0,ROW()-14,\"\")","v":""},{"$f":"IFERROR(IF(Tabla3[[#This Row],[APELLIDOS Y NOMBRES]]>0,VLOOKUP($H$7,DATA!$A$79:$B$160,2,FALSE),\"\"),\"\")","v":""},null,null,null,null,null,{"$f":"((NOW()-Tabla3[[#This Row],[FECHA DE NACIMIENTO]])/365)-0.5","v":124.79767625317098},null,null,null,null,null,null,null,null,null,null,null,null,null,null,null,null,null,null,null,null,null,null,null,null,null,null,null,null,null,null,null,null,null,null,null,null,null,"",null,{"$f":"IFERROR(IF(OR(LOWER(Tabla3[[#This Row],[SEXO]])=\"masculino\", LOWER(Tabla3[[#This Row],[SEXO]])=\"m\", LOWER(Tabla3[[#This Row],[SEXO]])=\"1\"), \"MASCULINO\",\n  IF(OR(LOWER(Tabla3[[#This Row],[SEXO]])=\"femenino\", LOWER(Tabla3[[#This Row],[SEXO]])=\"f\", LOWER(Tabla3[[#This Row],[SEXO]])=\"2\"), \"FEMENINO\",\n  \"\")), \"\")","v":""},0,null,null,null,0]
[{"$f":"IF(Tabla3[[#This Row],[APELLIDOS Y NOMBRES]]>0,ROW()-14,\"\")","v":""},{"$f":"IFERROR(IF(Tabla3[[#This Row],[APELLIDOS Y NOMBRES]]>0,VLOOKUP($H$7,DATA!$A$79:$B$160,2,FALSE),\"\"),\"\")","v":""},null,null,null,null,null,{"$f":"((NOW()-Tabla3[[#This Row],[FECHA DE NACIMIENTO]])/365)-0.5","v":124.79767625317098},null,null,null,null,null,null,null,null,null,null,null,null,null,null,null,null,null,null,null,null,null,null,null,null,null,null,null,null,null,null,null,null,null,null,null,null,null,"",null,{"$f":"IFERROR(IF(OR(LOWER(Tabla3[[#This Row],[SEXO]])=\"masculino\", LOWER(Tabla3[[#This Row],[SEXO]])=\"m\", LOWER(Tabla3[[#This Row],[SEXO]])=\"1\"), \"MASCULINO\",\n  IF(OR(LOWER(Tabla3[[#This Row],[SEXO]])=\"femenino\", LOWER(Tabla3[[#This Row],[SEXO]])=\"f\", LOWER(Tabla3[[#This Row],[SEXO]])=\"2\"), \"FEMENINO\",\n  \"\")), \"\")","v":""},0,null,null,null,0]
[{"$f":"IF(Tabla3[[#This Row],[APELLIDOS Y NOMBRES]]>0,ROW()-14,\"\")","v":""},{"$f":"IFERROR(IF(Tabla3[[#This Row],[APELLIDOS Y NOMBRES]]>0,VLOOKUP($H$7,DATA!$A$79:$B$160,2,FALSE),\"\"),\"\")","v":""},null,null,null,null,null,{"$f":"((NOW()-Tabla3[[#This Row],[FECHA DE NACIMIENTO]])/365)-0.5","v":124.79767625317098},null,null,null,null,null,null,null,null,null,null,null,null,null,null,null,null,null,null,null,null,null,null,null,null,null,null,null,null,null,null,null,null,null,null,null,null,null,"",null,{"$f":"IFERROR(IF(OR(LOWER(Tabla3[[#This Row],[SEXO]])=\"masculino\", LOWER(Tabla3[[#This Row],[SEXO]])=\"m\", LOWER(Tabla3[[#This Row],[SEXO]])=\"1\"), \"MASCULINO\",\n  IF(OR(LOWER(Tabla3[[#This Row],[SEXO]])=\"femenino\", LOWER(Tabla3[[#This Row],[SEXO]])=\"f\", LOWER(Tabla3[[#This Row],[SEXO]])=\"2\"), \"FEMENINO\",\n  \"\")), \"\")","v":""},0,null,null,null,0]
[{"$f":"IF(Tabla3[[#This Row],[APELLIDOS Y NOMBRES]]>0,ROW()-14,\"\")","v":""},{"$f":"IFERROR(IF(Tabla3[[#This Row],[APELLIDOS Y NOMBRES]]>0,VLOOKUP($H$7,DATA!$A$79:$B$160,2,FALSE),\"\"),\"\")","v":""},null,null,null,null,null,{"$f":"((NOW()-Tabla3[[#This Row],[FECHA DE NACIMIENTO]])/365)-0.5","v":124.79767625317098},null,null,null,null,null,null,null,null,null,null,null,null,null,null,null,null,null,null,null,null,null,null,null,null,null,null,null,null,null,null,null,null,null,null,null,null,null,"",null,{"$f":"IFERROR(IF(OR(LOWER(Tabla3[[#This Row],[SEXO]])=\"masculino\", LOWER(Tabla3[[#This Row],[SEXO]])=\"m\", LOWER(Tabla3[[#This Row],[SEXO]])=\"1\"), \"MASCULINO\",\n  IF(OR(LOWER(Tabla3[[#This Row],[SEXO]])=\"femenino\", LOWER(Tabla3[[#This Row],[SEXO]])=\"f\", LOWER(Tabla3[[#This Row],[SEXO]])=\"2\"), \"FEMENINO\",\n  \"\")), \"\")","v":""},0,null,null,null,0]
[{"$f":"IF(Tabla3[[#This Row],[APELLIDOS Y NOMBRES]]>0,ROW()-14,\"\")","v":""},{"$f":"IFERROR(IF(Tabla3[[#This Row],[APELLIDOS Y NOMBRES]]>0,VLOOKUP($H$7,DATA!$A$79:$B$160,2,FALSE),\"\"),\"\")","v":""},null,null,null,null,null,{"$f":"((NOW()-Tabla3[[#This Row],[FECHA DE NACIMIENTO]])/365)-0.5","v":124.79767625317098},null,null,null,null,null,null,null,null,null,null,null,null,null,null,null,null,null,null,null,null,null,null,null,null,null,null,null,null,null,null,null,null,null,null,null,null,null,"",null,{"$f":"IFERROR(IF(OR(LOWER(Tabla3[[#This Row],[SEXO]])=\"masculino\", LOWER(Tabla3[[#This Row],[SEXO]])=\"m\", LOWER(Tabla3[[#This Row],[SEXO]])=\"1\"), \"MASCULINO\",\n  IF(OR(LOWER(Tabla3[[#This Row],[SEXO]])=\"femenino\", LOWER(Tabla3[[#This Row],[SEXO]])=\"f\", LOWER(Tabla3[[#This Row],[SEXO]])=\"2\"), \"FEMENINO\",\n  \"\")), \"\")","v":""},0,null,null,null,0]
[{"$f":"IF(Tabla3[[#This Row],[APELLIDOS Y NOMBRES]]>0,ROW()-14,\"\")","v":""},{"$f":"IFERROR(IF(Tabla3[[#This Row],[APELLIDOS Y NOMBRES]]>0,VLOOKUP($H$7,DATA!$A$79:$B$160,2,FALSE),\"\"),\"\")","v":""},null,null,null,null,null,{"$f":"((NOW()-Tabla3[[#This Row],[FECHA DE NACIMIENTO]])/365)-0.5","v":124.79767625317098},null,null,null,null,null,null,null,null,null,null,null,null,null,null,null,null,null,null,null,null,null,null,null,null,null,null,null,null,null,null,null,null,null,null,null,null,null,"",null,{"$f":"IFERROR(IF(OR(LOWER(Tabla3[[#This Row],[SEXO]])=\"masculino\", LOWER(Tabla3[[#This Row],[SEXO]])=\"m\", LOWER(Tabla3[[#This Row],[SEXO]])=\"1\"), \"MASCULINO\",\n  IF(OR(LOWER(Tabla3[[#This Row],[SEXO]])=\"femenino\", LOWER(Tabla3[[#This Row],[SEXO]])=\"f\", LOWER(Tabla3[[#This Row],[SEXO]])=\"2\"), \"FEMENINO\",\n  \"\")), \"\")","v":""},0,null,null,null,0]
[{"$f":"IF(Tabla3[[#This Row],[APELLIDOS Y NOMBRES]]>0,ROW()-14,\"\")","v":""},{"$f":"IFERROR(IF(Tabla3[[#This Row],[APELLIDOS Y NOMBRES]]>0,VLOOKUP($H$7,DATA!$A$79:$B$160,2,FALSE),\"\"),\"\")","v":""},null,null,null,null,null,{"$f":"((NOW()-Tabla3[[#This Row],[FECHA DE NACIMIENTO]])/365)-0.5","v":124.79767625317098},null,null,null,null,null,null,null,null,null,null,null,null,null,null,null,null,null,null,null,null,null,null,null,null,null,null,null,null,null,null,null,null,null,null,null,null,null,"",null,{"$f":"IFERROR(IF(OR(LOWER(Tabla3[[#This Row],[SEXO]])=\"masculino\", LOWER(Tabla3[[#This Row],[SEXO]])=\"m\", LOWER(Tabla3[[#This Row],[SEXO]])=\"1\"), \"MASCULINO\",\n  IF(OR(LOWER(Tabla3[[#This Row],[SEXO]])=\"femenino\", LOWER(Tabla3[[#This Row],[SEXO]])=\"f\", LOWER(Tabla3[[#This Row],[SEXO]])=\"2\"), \"FEMENINO\",\n  \"\")), \"\")","v":""},0,null,null,null,0]
[{"$f":"IF(Tabla3[[#This Row],[APELLIDOS Y NOMBRES]]>0,ROW()-14,\"\")","v":""},{"$f":"IFERROR(IF(Tabla3[[#This Row],[APELLIDOS Y NOMBRES]]>0,VLOOKUP($H$7,DATA!$A$79:$B$160,2,FALSE),\"\"),\"\")","v":""},null,null,null,null,null,{"$f":"((NOW()-Tabla3[[#This Row],[FECHA DE NACIMIENTO]])/365)-0.5","v":124.79767625317098},null,null,null,null,null,null,null,null,null,null,null,null,null,null,null,null,null,null,null,null,null,null,null,null,null,null,null,null,null,null,null,null,null,null,null,null,null,"",null,{"$f":"IFERROR(IF(OR(LOWER(Tabla3[[#This Row],[SEXO]])=\"masculino\", LOWER(Tabla3[[#This Row],[SEXO]])=\"m\", LOWER(Tabla3[[#This Row],[SEXO]])=\"1\"), \"MASCULINO\",\n  IF(OR(LOWER(Tabla3[[#This Row],[SEXO]])=\"femenino\", LOWER(Tabla3[[#This Row],[SEXO]])=\"f\", LOWER(Tabla3[[#This Row],[SEXO]])=\"2\"), \"FEMENINO\",\n  \"\")), \"\")","v":""},0,null,null,null,0]
[{"$f":"IF(Tabla3[[#This Row],[APELLIDOS Y NOMBRES]]>0,ROW()-14,\"\")","v":""},{"$f":"IFERROR(IF(Tabla3[[#This Row],[APELLIDOS Y NOMBRES]]>0,VLOOKUP($H$7,DATA!$A$79:$B$160,2,FALSE),\"\"),\"\")","v":""},null,null,null,null,null,{"$f":"((NOW()-Tabla3[[#This Row],[FECHA DE NACIMIENTO]])/365)-0.5","v":124.79767625317098},null,null,null,null,null,null,null,null,null,null,null,null,null,null,null,null,null,null,null,null,null,null,null,null,null,null,null,null,null,null,null,null,null,null,null,null,null,"",null,{"$f":"IFERROR(IF(OR(LOWER(Tabla3[[#This Row],[SEXO]])=\"masculino\", LOWER(Tabla3[[#This Row],[SEXO]])=\"m\", LOWER(Tabla3[[#This Row],[SEXO]])=\"1\"), \"MASCULINO\",\n  IF(OR(LOWER(Tabla3[[#This Row],[SEXO]])=\"femenino\", LOWER(Tabla3[[#This Row],[SEXO]])=\"f\", LOWER(Tabla3[[#This Row],[SEXO]])=\"2\"), \"FEMENINO\",\n  \"\")), \"\")","v":""},0,null,null,null,0]
[{"$f":"IF(Tabla3[[#This Row],[APELLIDOS Y NOMBRES]]>0,ROW()-14,\"\")","v":""},{"$f":"IFERROR(IF(Tabla3[[#This Row],[APELLIDOS Y NOMBRES]]>0,VLOOKUP($H$7,DATA!$A$79:$B$160,2,FALSE),\"\"),\"\")","v":""},null,null,null,null,null,{"$f":"((NOW()-Tabla3[[#This Row],[FECHA DE NACIMIENTO]])/365)-0.5","v":124.79767625317098},null,null,null,null,null,null,null,null,null,null,null,null,null,null,null,null,null,null,null,null,null,null,null,null,null,null,null,null,null,null,null,null,null,null,null,null,null,"",null,{"$f":"IFERROR(IF(OR(LOWER(Tabla3[[#This Row],[SEXO]])=\"masculino\", LOWER(Tabla3[[#This Row],[SEXO]])=\"m\", LOWER(Tabla3[[#This Row],[SEXO]])=\"1\"), \"MASCULINO\",\n  IF(OR(LOWER(Tabla3[[#This Row],[SEXO]])=\"femenino\", LOWER(Tabla3[[#This Row],[SEXO]])=\"f\", LOWER(Tabla3[[#This Row],[SEXO]])=\"2\"), \"FEMENINO\",\n  \"\")), \"\")","v":""},0,null,null,null,0]
[{"$f":"IF(Tabla3[[#This Row],[APELLIDOS Y NOMBRES]]>0,ROW()-14,\"\")","v":""},{"$f":"IFERROR(IF(Tabla3[[#This Row],[APELLIDOS Y NOMBRES]]>0,VLOOKUP($H$7,DATA!$A$79:$B$160,2,FALSE),\"\"),\"\")","v":""},null,null,null,null,null,{"$f":"((NOW()-Tabla3[[#This Row],[FECHA DE NACIMIENTO]])/365)-0.5","v":124.79767625317098},null,null,null,null,null,null,null,null,null,null,null,null,null,null,null,null,null,null,null,null,null,null,null,null,null,null,null,null,null,null,null,null,null,null,null,null,null,"",null,{"$f":"IFERROR(IF(OR(LOWER(Tabla3[[#This Row],[SEXO]])=\"masculino\", LOWER(Tabla3[[#This Row],[SEXO]])=\"m\", LOWER(Tabla3[[#This Row],[SEXO]])=\"1\"), \"MASCULINO\",\n  IF(OR(LOWER(Tabla3[[#This Row],[SEXO]])=\"femenino\", LOWER(Tabla3[[#This Row],[SEXO]])=\"f\", LOWER(Tabla3[[#This Row],[SEXO]])=\"2\"), \"FEMENINO\",\n  \"\")), \"\")","v":""},0,null,null,null,0]
[{"$f":"IF(Tabla3[[#This Row],[APELLIDOS Y NOMBRES]]>0,ROW()-14,\"\")","v":""},{"$f":"IFERROR(IF(Tabla3[[#This Row],[APELLIDOS Y NOMBRES]]>0,VLOOKUP($H$7,DATA!$A$79:$B$160,2,FALSE),\"\"),\"\")","v":""},null,null,null,null,null,{"$f":"((NOW()-Tabla3[[#This Row],[FECHA DE NACIMIENTO]])/365)-0.5","v":124.79767625317098},null,null,null,null,null,null,null,null,null,null,null,null,null,null,null,null,null,null,null,null,null,null,null,null,null,null,null,null,null,null,null,null,null,null,null,null,null,"",null,{"$f":"IFERROR(IF(OR(LOWER(Tabla3[[#This Row],[SEXO]])=\"masculino\", LOWER(Tabla3[[#This Row],[SEXO]])=\"m\", LOWER(Tabla3[[#This Row],[SEXO]])=\"1\"), \"MASCULINO\",\n  IF(OR(LOWER(Tabla3[[#This Row],[SEXO]])=\"femenino\", LOWER(Tabla3[[#This Row],[SEXO]])=\"f\", LOWER(Tabla3[[#This Row],[SEXO]])=\"2\"), \"FEMENINO\",\n  \"\")), \"\")","v":""},0,null,null,null,0]
[{"$f":"IF(Tabla3[[#This Row],[APELLIDOS Y NOMBRES]]>0,ROW()-14,\"\")","v":""},{"$f":"IFERROR(IF(Tabla3[[#This Row],[APELLIDOS Y NOMBRES]]>0,VLOOKUP($H$7,DATA!$A$79:$B$160,2,FALSE),\"\"),\"\")","v":""},null,null,null,null,null,{"$f":"((NOW()-Tabla3[[#This Row],[FECHA DE NACIMIENTO]])/365)-0.5","v":124.79767625317098},null,null,null,null,null,null,null,null,null,null,null,null,null,null,null,null,null,null,null,null,null,null,null,null,null,null,null,null,null,null,null,null,null,null,null,null,null,"",null,{"$f":"IFERROR(IF(OR(LOWER(Tabla3[[#This Row],[SEXO]])=\"masculino\", LOWER(Tabla3[[#This Row],[SEXO]])=\"m\", LOWER(Tabla3[[#This Row],[SEXO]])=\"1\"), \"MASCULINO\",\n  IF(OR(LOWER(Tabla3[[#This Row],[SEXO]])=\"femenino\", LOWER(Tabla3[[#This Row],[SEXO]])=\"f\", LOWER(Tabla3[[#This Row],[SEXO]])=\"2\"), \"FEMENINO\",\n  \"\")), \"\")","v":""},0,null,null,null,0]
[{"$f":"IF(Tabla3[[#This Row],[APELLIDOS Y NOMBRES]]>0,ROW()-14,\"\")","v":""},{"$f":"IFERROR(IF(Tabla3[[#This Row],[APELLIDOS Y NOMBRES]]>0,VLOOKUP($H$7,DATA!$A$79:$B$160,2,FALSE),\"\"),\"\")","v":""},null,null,null,null,null,{"$f":"((NOW()-Tabla3[[#This Row],[FECHA DE NACIMIENTO]])/365)-0.5","v":124.79767625317098},null,null,null,null,null,null,null,null,null,null,null,null,null,null,null,null,null,null,null,null,null,null,null,null,null,null,null,null,null,null,null,null,null,null,null,null,null,"",null,{"$f":"IFERROR(IF(OR(LOWER(Tabla3[[#This Row],[SEXO]])=\"masculino\", LOWER(Tabla3[[#This Row],[SEXO]])=\"m\", LOWER(Tabla3[[#This Row],[SEXO]])=\"1\"), \"MASCULINO\",\n  IF(OR(LOWER(Tabla3[[#This Row],[SEXO]])=\"femenino\", LOWER(Tabla3[[#This Row],[SEXO]])=\"f\", LOWER(Tabla3[[#This Row],[SEXO]])=\"2\"), \"FEMENINO\",\n  \"\")), \"\")","v":""},0,null,null,null,0]
[{"$f":"IF(Tabla3[[#This Row],[APELLIDOS Y NOMBRES]]>0,ROW()-14,\"\")","v":""},{"$f":"IFERROR(IF(Tabla3[[#This Row],[APELLIDOS Y NOMBRES]]>0,VLOOKUP($H$7,DATA!$A$79:$B$160,2,FALSE),\"\"),\"\")","v":""},null,null,null,null,null,{"$f":"((NOW()-Tabla3[[#This Row],[FECHA DE NACIMIENTO]])/365)-0.5","v":124.79767625317098},null,null,null,null,null,null,null,null,null,null,null,null,null,null,null,null,null,null,null,null,null,null,null,null,null,null,null,null,null,null,null,null,null,null,null,null,null,"",null,{"$f":"IFERROR(IF(OR(LOWER(Tabla3[[#This Row],[SEXO]])=\"masculino\", LOWER(Tabla3[[#This Row],[SEXO]])=\"m\", LOWER(Tabla3[[#This Row],[SEXO]])=\"1\"), \"MASCULINO\",\n  IF(OR(LOWER(Tabla3[[#This Row],[SEXO]])=\"femenino\", LOWER(Tabla3[[#This Row],[SEXO]])=\"f\", LOWER(Tabla3[[#This Row],[SEXO]])=\"2\"), \"FEMENINO\",\n  \"\")), \"\")","v":""},0,null,null,null,0]
[{"$f":"IF(Tabla3[[#This Row],[APELLIDOS Y NOMBRES]]>0,ROW()-14,\"\")","v":""},{"$f":"IFERROR(IF(Tabla3[[#This Row],[APELLIDOS Y NOMBRES]]>0,VLOOKUP($H$7,DATA!$A$79:$B$160,2,FALSE),\"\"),\"\")","v":""},null,null,null,null,null,{"$f":"((NOW()-Tabla3[[#This Row],[FECHA DE NACIMIENTO]])/365)-0.5","v":124.79767625317098},null,null,null,null,null,null,null,null,null,null,null,null,null,null,null,null,null,null,null,null,null,null,null,null,null,null,null,null,null,null,null,null,null,null,null,null,null,"",null,{"$f":"IFERROR(IF(OR(LOWER(Tabla3[[#This Row],[SEXO]])=\"masculino\", LOWER(Tabla3[[#This Row],[SEXO]])=\"m\", LOWER(Tabla3[[#This Row],[SEXO]])=\"1\"), \"MASCULINO\",\n  IF(OR(LOWER(Tabla3[[#This Row],[SEXO]])=\"femenino\", LOWER(Tabla3[[#This Row],[SEXO]])=\"f\", LOWER(Tabla3[[#This Row],[SEXO]])=\"2\"), \"FEMENINO\",\n  \"\")), \"\")","v":""},0,null,null,null,0]
[{"$f":"IF(Tabla3[[#This Row],[APELLIDOS Y NOMBRES]]>0,ROW()-14,\"\")","v":""},{"$f":"IFERROR(IF(Tabla3[[#This Row],[APELLIDOS Y NOMBRES]]>0,VLOOKUP($H$7,DATA!$A$79:$B$160,2,FALSE),\"\"),\"\")","v":""},null,null,null,null,null,{"$f":"((NOW()-Tabla3[[#This Row],[FECHA DE NACIMIENTO]])/365)-0.5","v":124.79767625317098},null,null,null,null,null,null,null,null,null,null,null,null,null,null,null,null,null,null,null,null,null,null,null,null,null,null,null,null,null,null,null,null,null,null,null,null,null,"",null,{"$f":"IFERROR(IF(OR(LOWER(Tabla3[[#This Row],[SEXO]])=\"masculino\", LOWER(Tabla3[[#This Row],[SEXO]])=\"m\", LOWER(Tabla3[[#This Row],[SEXO]])=\"1\"), \"MASCULINO\",\n  IF(OR(LOWER(Tabla3[[#This Row],[SEXO]])=\"femenino\", LOWER(Tabla3[[#This Row],[SEXO]])=\"f\", LOWER(Tabla3[[#This Row],[SEXO]])=\"2\"), \"FEMENINO\",\n  \"\")), \"\")","v":""},0,null,null,null,0]
[{"$f":"IF(Tabla3[[#This Row],[APELLIDOS Y NOMBRES]]>0,ROW()-14,\"\")","v":""},{"$f":"IFERROR(IF(Tabla3[[#This Row],[APELLIDOS Y NOMBRES]]>0,VLOOKUP($H$7,DATA!$A$79:$B$160,2,FALSE),\"\"),\"\")","v":""},null,null,null,null,null,{"$f":"((NOW()-Tabla3[[#This Row],[FECHA DE NACIMIENTO]])/365)-0.5","v":124.79767625317098},null,null,null,null,null,null,null,null,null,null,null,null,null,null,null,null,null,null,null,null,null,null,null,null,null,null,null,null,null,null,null,null,null,null,null,null,null,"",null,{"$f":"IFERROR(IF(OR(LOWER(Tabla3[[#This Row],[SEXO]])=\"masculino\", LOWER(Tabla3[[#This Row],[SEXO]])=\"m\", LOWER(Tabla3[[#This Row],[SEXO]])=\"1\"), \"MASCULINO\",\n  IF(OR(LOWER(Tabla3[[#This Row],[SEXO]])=\"femenino\", LOWER(Tabla3[[#This Row],[SEXO]])=\"f\", LOWER(Tabla3[[#This Row],[SEXO]])=\"2\"), \"FEMENINO\",\n  \"\")), \"\")","v":""},0,null,null,null,0]
[{"$f":"IF(Tabla3[[#This Row],[APELLIDOS Y NOMBRES]]>0,ROW()-14,\"\")","v":""},{"$f":"IFERROR(IF(Tabla3[[#This Row],[APELLIDOS Y NOMBRES]]>0,VLOOKUP($H$7,DATA!$A$79:$B$160,2,FALSE),\"\"),\"\")","v":""},null,null,null,null,null,{"$f":"((NOW()-Tabla3[[#This Row],[FECHA DE NACIMIENTO]])/365)-0.5","v":124.79767625317098},null,null,null,null,null,null,null,null,null,null,null,null,null,null,null,null,null,null,null,null,null,null,null,null,null,null,null,null,null,null,null,null,null,null,null,null,null,"",null,{"$f":"IFERROR(IF(OR(LOWER(Tabla3[[#This Row],[SEXO]])=\"masculino\", LOWER(Tabla3[[#This Row],[SEXO]])=\"m\", LOWER(Tabla3[[#This Row],[SEXO]])=\"1\"), \"MASCULINO\",\n  IF(OR(LOWER(Tabla3[[#This Row],[SEXO]])=\"femenino\", LOWER(Tabla3[[#This Row],[SEXO]])=\"f\", LOWER(Tabla3[[#This Row],[SEXO]])=\"2\"), \"FEMENINO\",\n  \"\")), \"\")","v":""},0,null,null,null,0]
[{"$f":"IF(Tabla3[[#This Row],[APELLIDOS Y NOMBRES]]>0,ROW()-14,\"\")","v":""},{"$f":"IFERROR(IF(Tabla3[[#This Row],[APELLIDOS Y NOMBRES]]>0,VLOOKUP($H$7,DATA!$A$79:$B$160,2,FALSE),\"\"),\"\")","v":""},null,null,null,null,null,{"$f":"((NOW()-Tabla3[[#This Row],[FECHA DE NACIMIENTO]])/365)-0.5","v":124.79767625317098},null,null,null,null,null,null,null,null,null,null,null,null,null,null,null,null,null,null,null,null,null,null,null,null,null,null,null,null,null,null,null,null,null,null,null,null,null,"",null,{"$f":"IFERROR(IF(OR(LOWER(Tabla3[[#This Row],[SEXO]])=\"masculino\", LOWER(Tabla3[[#This Row],[SEXO]])=\"m\", LOWER(Tabla3[[#This Row],[SEXO]])=\"1\"), \"MASCULINO\",\n  IF(OR(LOWER(Tabla3[[#This Row],[SEXO]])=\"femenino\", LOWER(Tabla3[[#This Row],[SEXO]])=\"f\", LOWER(Tabla3[[#This Row],[SEXO]])=\"2\"), \"FEMENINO\",\n  \"\")), \"\")","v":""},0,null,null,null,0]
[{"$f":"IF(Tabla3[[#This Row],[APELLIDOS Y NOMBRES]]>0,ROW()-14,\"\")","v":""},{"$f":"IFERROR(IF(Tabla3[[#This Row],[APELLIDOS Y NOMBRES]]>0,VLOOKUP($H$7,DATA!$A$79:$B$160,2,FALSE),\"\"),\"\")","v":""},null,null,null,null,null,{"$f":"((NOW()-Tabla3[[#This Row],[FECHA DE NACIMIENTO]])/365)-0.5","v":124.79767625317098},null,null,null,null,null,null,null,null,null,null,null,null,null,null,null,null,null,null,null,null,null,null,null,null,null,null,null,null,null,null,null,null,null,null,null,null,null,"",null,{"$f":"IFERROR(IF(OR(LOWER(Tabla3[[#This Row],[SEXO]])=\"masculino\", LOWER(Tabla3[[#This Row],[SEXO]])=\"m\", LOWER(Tabla3[[#This Row],[SEXO]])=\"1\"), \"MASCULINO\",\n  IF(OR(LOWER(Tabla3[[#This Row],[SEXO]])=\"femenino\", LOWER(Tabla3[[#This Row],[SEXO]])=\"f\", LOWER(Tabla3[[#This Row],[SEXO]])=\"2\"), \"FEMENINO\",\n  \"\")), \"\")","v":""},0,null,null,null,0]
[{"$f":"IF(Tabla3[[#This Row],[APELLIDOS Y NOMBRES]]>0,ROW()-14,\"\")","v":""},{"$f":"IFERROR(IF(Tabla3[[#This Row],[APELLIDOS Y NOMBRES]]>0,VLOOKUP($H$7,DATA!$A$79:$B$160,2,FALSE),\"\"),\"\")","v":""},null,null,null,null,null,{"$f":"((NOW()-Tabla3[[#This Row],[FECHA DE NACIMIENTO]])/365)-0.5","v":124.79767625317098},null,null,null,null,null,null,null,null,null,null,null,null,null,null,null,null,null,null,null,null,null,null,null,null,null,null,null,null,null,null,null,null,null,null,null,null,null,"",null,{"$f":"IFERROR(IF(OR(LOWER(Tabla3[[#This Row],[SEXO]])=\"masculino\", LOWER(Tabla3[[#This Row],[SEXO]])=\"m\", LOWER(Tabla3[[#This Row],[SEXO]])=\"1\"), \"MASCULINO\",\n  IF(OR(LOWER(Tabla3[[#This Row],[SEXO]])=\"femenino\", LOWER(Tabla3[[#This Row],[SEXO]])=\"f\", LOWER(Tabla3[[#This Row],[SEXO]])=\"2\"), \"FEMENINO\",\n  \"\")), \"\")","v":""},0,null,null,null,0]
[{"$f":"IF(Tabla3[[#This Row],[APELLIDOS Y NOMBRES]]>0,ROW()-14,\"\")","v":""},{"$f":"IFERROR(IF(Tabla3[[#This Row],[APELLIDOS Y NOMBRES]]>0,VLOOKUP($H$7,DATA!$A$79:$B$160,2,FALSE),\"\"),\"\")","v":""},null,null,null,null,null,{"$f":"((NOW()-Tabla3[[#This Row],[FECHA DE NACIMIENTO]])/365)-0.5","v":124.79767625317098},null,null,null,null,null,null,null,null,null,null,null,null,null,null,null,null,null,null,null,null,null,null,null,null,null,null,null,null,null,null,null,null,null,null,null,null,null,"",null,{"$f":"IFERROR(IF(OR(LOWER(Tabla3[[#This Row],[SEXO]])=\"masculino\", LOWER(Tabla3[[#This Row],[SEXO]])=\"m\", LOWER(Tabla3[[#This Row],[SEXO]])=\"1\"), \"MASCULINO\",\n  IF(OR(LOWER(Tabla3[[#This Row],[SEXO]])=\"femenino\", LOWER(Tabla3[[#This Row],[SEXO]])=\"f\", LOWER(Tabla3[[#This Row],[SEXO]])=\"2\"), \"FEMENINO\",\n  \"\")), \"\")","v":""},0,null,null,null,0]
[{"$f":"IF(Tabla3[[#This Row],[APELLIDOS Y NOMBRES]]>0,ROW()-14,\"\")","v":""},{"$f":"IFERROR(IF(Tabla3[[#This Row],[APELLIDOS Y NOMBRES]]>0,VLOOKUP($H$7,DATA!$A$79:$B$160,2,FALSE),\"\"),\"\")","v":""},null,null,null,null,null,{"$f":"((NOW()-Tabla3[[#This Row],[FECHA DE NACIMIENTO]])/365)-0.5","v":124.79767625317098},null,null,null,null,null,null,null,null,null,null,null,null,null,null,null,null,null,null,null,null,null,null,null,null,null,null,null,null,null,null,null,null,null,null,null,null,null,"",null,{"$f":"IFERROR(IF(OR(LOWER(Tabla3[[#This Row],[SEXO]])=\"masculino\", LOWER(Tabla3[[#This Row],[SEXO]])=\"m\", LOWER(Tabla3[[#This Row],[SEXO]])=\"1\"), \"MASCULINO\",\n  IF(OR(LOWER(Tabla3[[#This Row],[SEXO]])=\"femenino\", LOWER(Tabla3[[#This Row],[SEXO]])=\"f\", LOWER(Tabla3[[#This Row],[SEXO]])=\"2\"), \"FEMENINO\",\n  \"\")), \"\")","v":""},0,null,null,null,0]
[{"$f":"IF(Tabla3[[#This Row],[APELLIDOS Y NOMBRES]]>0,ROW()-14,\"\")","v":""},{"$f":"IFERROR(IF(Tabla3[[#This Row],[APELLIDOS Y NOMBRES]]>0,VLOOKUP($H$7,DATA!$A$79:$B$160,2,FALSE),\"\"),\"\")","v":""},null,null,null,null,null,{"$f":"((NOW()-Tabla3[[#This Row],[FECHA DE NACIMIENTO]])/365)-0.5","v":124.79767625317098},null,null,null,null,null,null,null,null,null,null,null,null,null,null,null,null,null,null,null,null,null,null,null,null,null,null,null,null,null,null,null,null,null,null,null,null,null,"",null,{"$f":"IFERROR(IF(OR(LOWER(Tabla3[[#This Row],[SEXO]])=\"masculino\", LOWER(Tabla3[[#This Row],[SEXO]])=\"m\", LOWER(Tabla3[[#This Row],[SEXO]])=\"1\"), \"MASCULINO\",\n  IF(OR(LOWER(Tabla3[[#This Row],[SEXO]])=\"femenino\", LOWER(Tabla3[[#This Row],[SEXO]])=\"f\", LOWER(Tabla3[[#This Row],[SEXO]])=\"2\"), \"FEMENINO\",\n  \"\")), \"\")","v":""},0,null,null,null,0]
[{"$f":"IF(Tabla3[[#This Row],[APELLIDOS Y NOMBRES]]>0,ROW()-14,\"\")","v":""},{"$f":"IFERROR(IF(Tabla3[[#This Row],[APELLIDOS Y NOMBRES]]>0,VLOOKUP($H$7,DATA!$A$79:$B$160,2,FALSE),\"\"),\"\")","v":""},null,null,null,null,null,{"$f":"((NOW()-Tabla3[[#This Row],[FECHA DE NACIMIENTO]])/365)-0.5","v":124.79767625317098},null,null,null,null,null,null,null,null,null,null,null,null,null,null,null,null,null,null,null,null,null,null,null,null,null,null,null,null,null,null,null,null,null,null,null,null,null,"",null,{"$f":"IFERROR(IF(OR(LOWER(Tabla3[[#This Row],[SEXO]])=\"masculino\", LOWER(Tabla3[[#This Row],[SEXO]])=\"m\", LOWER(Tabla3[[#This Row],[SEXO]])=\"1\"), \"MASCULINO\",\n  IF(OR(LOWER(Tabla3[[#This Row],[SEXO]])=\"femenino\", LOWER(Tabla3[[#This Row],[SEXO]])=\"f\", LOWER(Tabla3[[#This Row],[SEXO]])=\"2\"), \"FEMENINO\",\n  \"\")), \"\")","v":""},0,null,null,null,0]
[{"$f":"IF(Tabla3[[#This Row],[APELLIDOS Y NOMBRES]]>0,ROW()-14,\"\")","v":""},{"$f":"IFERROR(IF(Tabla3[[#This Row],[APELLIDOS Y NOMBRES]]>0,VLOOKUP($H$7,DATA!$A$79:$B$160,2,FALSE),\"\"),\"\")","v":""},null,null,null,null,null,{"$f":"((NOW()-Tabla3[[#This Row],[FECHA DE NACIMIENTO]])/365)-0.5","v":124.79767625317098},null,null,null,null,null,null,null,null,null,null,null,null,null,null,null,null,null,null,null,null,null,null,null,null,null,null,null,null,null,null,null,null,null,null,null,null,null,"",null,{"$f":"IFERROR(IF(OR(LOWER(Tabla3[[#This Row],[SEXO]])=\"masculino\", LOWER(Tabla3[[#This Row],[SEXO]])=\"m\", LOWER(Tabla3[[#This Row],[SEXO]])=\"1\"), \"MASCULINO\",\n  IF(OR(LOWER(Tabla3[[#This Row],[SEXO]])=\"femenino\", LOWER(Tabla3[[#This Row],[SEXO]])=\"f\", LOWER(Tabla3[[#This Row],[SEXO]])=\"2\"), \"FEMENINO\",\n  \"\")), \"\")","v":""},0,null,null,null,0]
[{"$f":"IF(Tabla3[[#This Row],[APELLIDOS Y NOMBRES]]>0,ROW()-14,\"\")","v":""},{"$f":"IFERROR(IF(Tabla3[[#This Row],[APELLIDOS Y NOMBRES]]>0,VLOOKUP($H$7,DATA!$A$79:$B$160,2,FALSE),\"\"),\"\")","v":""},null,null,null,null,null,{"$f":"((NOW()-Tabla3[[#This Row],[FECHA DE NACIMIENTO]])/365)-0.5","v":124.79767625317098},null,null,null,null,null,null,null,null,null,null,null,null,null,null,null,null,null,null,null,null,null,null,null,null,null,null,null,null,null,null,null,null,null,null,null,null,null,"",null,{"$f":"IFERROR(IF(OR(LOWER(Tabla3[[#This Row],[SEXO]])=\"masculino\", LOWER(Tabla3[[#This Row],[SEXO]])=\"m\", LOWER(Tabla3[[#This Row],[SEXO]])=\"1\"), \"MASCULINO\",\n  IF(OR(LOWER(Tabla3[[#This Row],[SEXO]])=\"femenino\", LOWER(Tabla3[[#This Row],[SEXO]])=\"f\", LOWER(Tabla3[[#This Row],[SEXO]])=\"2\"), \"FEMENINO\",\n  \"\")), \"\")","v":""},0,null,null,null,0]
[{"$f":"IF(Tabla3[[#This Row],[APELLIDOS Y NOMBRES]]>0,ROW()-14,\"\")","v":""},{"$f":"IFERROR(IF(Tabla3[[#This Row],[APELLIDOS Y NOMBRES]]>0,VLOOKUP($H$7,DATA!$A$79:$B$160,2,FALSE),\"\"),\"\")","v":""},null,null,null,null,null,{"$f":"((NOW()-Tabla3[[#This Row],[FECHA DE NACIMIENTO]])/365)-0.5","v":124.79767625317098},null,null,null,null,null,null,null,null,null,null,null,null,null,null,null,null,null,null,null,null,null,null,null,null,null,null,null,null,null,null,null,null,null,null,null,null,null,"",null,{"$f":"IFERROR(IF(OR(LOWER(Tabla3[[#This Row],[SEXO]])=\"masculino\", LOWER(Tabla3[[#This Row],[SEXO]])=\"m\", LOWER(Tabla3[[#This Row],[SEXO]])=\"1\"), \"MASCULINO\",\n  IF(OR(LOWER(Tabla3[[#This Row],[SEXO]])=\"femenino\", LOWER(Tabla3[[#This Row],[SEXO]])=\"f\", LOWER(Tabla3[[#This Row],[SEXO]])=\"2\"), \"FEMENINO\",\n  \"\")), \"\")","v":""},0,null,null,null,0]
[{"$f":"IF(Tabla3[[#This Row],[APELLIDOS Y NOMBRES]]>0,ROW()-14,\"\")","v":""},{"$f":"IFERROR(IF(Tabla3[[#This Row],[APELLIDOS Y NOMBRES]]>0,VLOOKUP($H$7,DATA!$A$79:$B$160,2,FALSE),\"\"),\"\")","v":""},null,null,null,null,null,{"$f":"((NOW()-Tabla3[[#This Row],[FECHA DE NACIMIENTO]])/365)-0.5","v":124.79767625317098},null,null,null,null,null,null,null,null,null,null,null,null,null,null,null,null,null,null,null,null,null,null,null,null,null,null,null,null,null,null,null,null,null,null,null,null,null,"",null,{"$f":"IFERROR(IF(OR(LOWER(Tabla3[[#This Row],[SEXO]])=\"masculino\", LOWER(Tabla3[[#This Row],[SEXO]])=\"m\", LOWER(Tabla3[[#This Row],[SEXO]])=\"1\"), \"MASCULINO\",\n  IF(OR(LOWER(Tabla3[[#This Row],[SEXO]])=\"femenino\", LOWER(Tabla3[[#This Row],[SEXO]])=\"f\", LOWER(Tabla3[[#This Row],[SEXO]])=\"2\"), \"FEMENINO\",\n  \"\")), \"\")","v":""},0,null,null,null,0]
[{"$f":"IF(Tabla3[[#This Row],[APELLIDOS Y NOMBRES]]>0,ROW()-14,\"\")","v":""},{"$f":"IFERROR(IF(Tabla3[[#This Row],[APELLIDOS Y NOMBRES]]>0,VLOOKUP($H$7,DATA!$A$79:$B$160,2,FALSE),\"\"),\"\")","v":""},null,null,null,null,null,{"$f":"((NOW()-Tabla3[[#This Row],[FECHA DE NACIMIENTO]])/365)-0.5","v":124.79767625317098},null,null,null,null,null,null,null,null,null,null,null,null,null,null,null,null,null,null,null,null,null,null,null,null,null,null,null,null,null,null,null,null,null,null,null,null,null,"",null,{"$f":"IFERROR(IF(OR(LOWER(Tabla3[[#This Row],[SEXO]])=\"masculino\", LOWER(Tabla3[[#This Row],[SEXO]])=\"m\", LOWER(Tabla3[[#This Row],[SEXO]])=\"1\"), \"MASCULINO\",\n  IF(OR(LOWER(Tabla3[[#This Row],[SEXO]])=\"femenino\", LOWER(Tabla3[[#This Row],[SEXO]])=\"f\", LOWER(Tabla3[[#This Row],[SEXO]])=\"2\"), \"FEMENINO\",\n  \"\")), \"\")","v":""},0,null,null,null,0]
[{"$f":"IF(Tabla3[[#This Row],[APELLIDOS Y NOMBRES]]>0,ROW()-14,\"\")","v":""},{"$f":"IFERROR(IF(Tabla3[[#This Row],[APELLIDOS Y NOMBRES]]>0,VLOOKUP($H$7,DATA!$A$79:$B$160,2,FALSE),\"\"),\"\")","v":""},null,null,null,null,null,{"$f":"((NOW()-Tabla3[[#This Row],[FECHA DE NACIMIENTO]])/365)-0.5","v":124.79767625317098},null,null,null,null,null,null,null,null,null,null,null,null,null,null,null,null,null,null,null,null,null,null,null,null,null,null,null,null,null,null,null,null,null,null,null,null,null,"",null,{"$f":"IFERROR(IF(OR(LOWER(Tabla3[[#This Row],[SEXO]])=\"masculino\", LOWER(Tabla3[[#This Row],[SEXO]])=\"m\", LOWER(Tabla3[[#This Row],[SEXO]])=\"1\"), \"MASCULINO\",\n  IF(OR(LOWER(Tabla3[[#This Row],[SEXO]])=\"femenino\", LOWER(Tabla3[[#This Row],[SEXO]])=\"f\", LOWER(Tabla3[[#This Row],[SEXO]])=\"2\"), \"FEMENINO\",\n  \"\")), \"\")","v":""},0,null,null,null,0]
[{"$f":"IF(Tabla3[[#This Row],[APELLIDOS Y NOMBRES]]>0,ROW()-14,\"\")","v":""},{"$f":"IFERROR(IF(Tabla3[[#This Row],[APELLIDOS Y NOMBRES]]>0,VLOOKUP($H$7,DATA!$A$79:$B$160,2,FALSE),\"\"),\"\")","v":""},null,null,null,null,null,{"$f":"((NOW()-Tabla3[[#This Row],[FECHA DE NACIMIENTO]])/365)-0.5","v":124.79767625317098},null,null,null,null,null,null,null,null,null,null,null,null,null,null,null,null,null,null,null,null,null,null,null,null,null,null,null,null,null,null,null,null,null,null,null,null,null,"",null,{"$f":"IFERROR(IF(OR(LOWER(Tabla3[[#This Row],[SEXO]])=\"masculino\", LOWER(Tabla3[[#This Row],[SEXO]])=\"m\", LOWER(Tabla3[[#This Row],[SEXO]])=\"1\"), \"MASCULINO\",\n  IF(OR(LOWER(Tabla3[[#This Row],[SEXO]])=\"femenino\", LOWER(Tabla3[[#This Row],[SEXO]])=\"f\", LOWER(Tabla3[[#This Row],[SEXO]])=\"2\"), \"FEMENINO\",\n  \"\")), \"\")","v":""},0,null,null,null,0]
[{"$f":"IF(Tabla3[[#This Row],[APELLIDOS Y NOMBRES]]>0,ROW()-14,\"\")","v":""},{"$f":"IFERROR(IF(Tabla3[[#This Row],[APELLIDOS Y NOMBRES]]>0,VLOOKUP($H$7,DATA!$A$79:$B$160,2,FALSE),\"\"),\"\")","v":""},null,null,null,null,null,{"$f":"((NOW()-Tabla3[[#This Row],[FECHA DE NACIMIENTO]])/365)-0.5","v":124.79767625317098},null,null,null,null,null,null,null,null,null,null,null,null,null,null,null,null,null,null,null,null,null,null,null,null,null,null,null,null,null,null,null,null,null,null,null,null,null,"",null,{"$f":"IFERROR(IF(OR(LOWER(Tabla3[[#This Row],[SEXO]])=\"masculino\", LOWER(Tabla3[[#This Row],[SEXO]])=\"m\", LOWER(Tabla3[[#This Row],[SEXO]])=\"1\"), \"MASCULINO\",\n  IF(OR(LOWER(Tabla3[[#This Row],[SEXO]])=\"femenino\", LOWER(Tabla3[[#This Row],[SEXO]])=\"f\", LOWER(Tabla3[[#This Row],[SEXO]])=\"2\"), \"FEMENINO\",\n  \"\")), \"\")","v":""},0,null,null,null,0]
[{"$f":"IF(Tabla3[[#This Row],[APELLIDOS Y NOMBRES]]>0,ROW()-14,\"\")","v":""},{"$f":"IFERROR(IF(Tabla3[[#This Row],[APELLIDOS Y NOMBRES]]>0,VLOOKUP($H$7,DATA!$A$79:$B$160,2,FALSE),\"\"),\"\")","v":""},null,null,null,null,null,{"$f":"((NOW()-Tabla3[[#This Row],[FECHA DE NACIMIENTO]])/365)-0.5","v":124.79767625317098},null,null,null,null,null,null,null,null,null,null,null,null,null,null,null,null,null,null,null,null,null,null,null,null,null,null,null,null,null,null,null,null,null,null,null,null,null,"",null,{"$f":"IFERROR(IF(OR(LOWER(Tabla3[[#This Row],[SEXO]])=\"masculino\", LOWER(Tabla3[[#This Row],[SEXO]])=\"m\", LOWER(Tabla3[[#This Row],[SEXO]])=\"1\"), \"MASCULINO\",\n  IF(OR(LOWER(Tabla3[[#This Row],[SEXO]])=\"femenino\", LOWER(Tabla3[[#This Row],[SEXO]])=\"f\", LOWER(Tabla3[[#This Row],[SEXO]])=\"2\"), \"FEMENINO\",\n  \"\")), \"\")","v":""},0,null,null,null,0]
[{"$f":"IF(Tabla3[[#This Row],[APELLIDOS Y NOMBRES]]>0,ROW()-14,\"\")","v":""},{"$f":"IFERROR(IF(Tabla3[[#This Row],[APELLIDOS Y NOMBRES]]>0,VLOOKUP($H$7,DATA!$A$79:$B$160,2,FALSE),\"\"),\"\")","v":""},null,null,null,null,null,{"$f":"((NOW()-Tabla3[[#This Row],[FECHA DE NACIMIENTO]])/365)-0.5","v":124.79767625317098},null,null,null,null,null,null,null,null,null,null,null,null,null,null,null,null,null,null,null,null,null,null,null,null,null,null,null,null,null,null,null,null,null,null,null,null,null,"",null,{"$f":"IFERROR(IF(OR(LOWER(Tabla3[[#This Row],[SEXO]])=\"masculino\", LOWER(Tabla3[[#This Row],[SEXO]])=\"m\", LOWER(Tabla3[[#This Row],[SEXO]])=\"1\"), \"MASCULINO\",\n  IF(OR(LOWER(Tabla3[[#This Row],[SEXO]])=\"femenino\", LOWER(Tabla3[[#This Row],[SEXO]])=\"f\", LOWER(Tabla3[[#This Row],[SEXO]])=\"2\"), \"FEMENINO\",\n  \"\")), \"\")","v":""},0,null,null,null,0]
[{"$f":"IF(Tabla3[[#This Row],[APELLIDOS Y NOMBRES]]>0,ROW()-14,\"\")","v":""},{"$f":"IFERROR(IF(Tabla3[[#This Row],[APELLIDOS Y NOMBRES]]>0,VLOOKUP($H$7,DATA!$A$79:$B$160,2,FALSE),\"\"),\"\")","v":""},null,null,null,null,null,{"$f":"((NOW()-Tabla3[[#This Row],[FECHA DE NACIMIENTO]])/365)-0.5","v":124.79767625317098},null,null,null,null,null,null,null,null,null,null,null,null,null,null,null,null,null,null,null,null,null,null,null,null,null,null,null,null,null,null,null,null,null,null,null,null,null,{"$f":"IF(OR($C$5=\"\", $D29904=\"\"), \"\", $C$5)","v":""},null,{"$f":"IFERROR(IF(OR(LOWER(Tabla3[[#This Row],[SEXO]])=\"masculino\", LOWER(Tabla3[[#This Row],[SEXO]])=\"m\", LOWER(Tabla3[[#This Row],[SEXO]])=\"1\"), \"MASCULINO\",\n  IF(OR(LOWER(Tabla3[[#This Row],[SEXO]])=\"femenino\", LOWER(Tabla3[[#This Row],[SEXO]])=\"f\", LOWER(Tabla3[[#This Row],[SEXO]])=\"2\"), \"FEMENINO\",\n  \"\")), \"\")","v":""},{"$f":"COUNTIF(P29904:AH29904,104)","v":0},null,null,null,{"$f":"IF(COUNTIF(P29904:AI29904,104)>0,1,0)","v":0}]
[{"$f":"IF(Tabla3[[#This Row],[APELLIDOS Y NOMBRES]]>0,ROW()-14,\"\")","v":""},{"$f":"IFERROR(IF(Tabla3[[#This Row],[APELLIDOS Y NOMBRES]]>0,VLOOKUP($H$7,DATA!$A$79:$B$160,2,FALSE),\"\"),\"\")","v":""},null,null,null,null,null,{"$f":"((NOW()-Tabla3[[#This Row],[FECHA DE NACIMIENTO]])/365)-0.5","v":124.79767625317098},null,null,null,null,null,null,null,null,null,null,null,null,null,null,null,null,null,null,null,null,null,null,null,null,null,null,null,null,null,null,null,null,null,null,null,null,null,"",null,{"$f":"IFERROR(IF(OR(LOWER(Tabla3[[#This Row],[SEXO]])=\"masculino\", LOWER(Tabla3[[#This Row],[SEXO]])=\"m\", LOWER(Tabla3[[#This Row],[SEXO]])=\"1\"), \"MASCULINO\",\n  IF(OR(LOWER(Tabla3[[#This Row],[SEXO]])=\"femenino\", LOWER(Tabla3[[#This Row],[SEXO]])=\"f\", LOWER(Tabla3[[#This Row],[SEXO]])=\"2\"), \"FEMENINO\",\n  \"\")), \"\")","v":""},0,null,null,null,0]
[{"$f":"IF(Tabla3[[#This Row],[APELLIDOS Y NOMBRES]]>0,ROW()-14,\"\")","v":""},{"$f":"IFERROR(IF(Tabla3[[#This Row],[APELLIDOS Y NOMBRES]]>0,VLOOKUP($H$7,DATA!$A$79:$B$160,2,FALSE),\"\"),\"\")","v":""},null,null,null,null,null,{"$f":"((NOW()-Tabla3[[#This Row],[FECHA DE NACIMIENTO]])/365)-0.5","v":124.79767625317098},null,null,null,null,null,null,null,null,null,null,null,null,null,null,null,null,null,null,null,null,null,null,null,null,null,null,null,null,null,null,null,null,null,null,null,null,null,"",null,{"$f":"IFERROR(IF(OR(LOWER(Tabla3[[#This Row],[SEXO]])=\"masculino\", LOWER(Tabla3[[#This Row],[SEXO]])=\"m\", LOWER(Tabla3[[#This Row],[SEXO]])=\"1\"), \"MASCULINO\",\n  IF(OR(LOWER(Tabla3[[#This Row],[SEXO]])=\"femenino\", LOWER(Tabla3[[#This Row],[SEXO]])=\"f\", LOWER(Tabla3[[#This Row],[SEXO]])=\"2\"), \"FEMENINO\",\n  \"\")), \"\")","v":""},0,null,null,null,0]
[{"$f":"IF(Tabla3[[#This Row],[APELLIDOS Y NOMBRES]]>0,ROW()-14,\"\")","v":""},{"$f":"IFERROR(IF(Tabla3[[#This Row],[APELLIDOS Y NOMBRES]]>0,VLOOKUP($H$7,DATA!$A$79:$B$160,2,FALSE),\"\"),\"\")","v":""},null,null,null,null,null,{"$f":"((NOW()-Tabla3[[#This Row],[FECHA DE NACIMIENTO]])/365)-0.5","v":124.79767625317098},null,null,null,null,null,null,null,null,null,null,null,null,null,null,null,null,null,null,null,null,null,null,null,null,null,null,null,null,null,null,null,null,null,null,null,null,null,"",null,{"$f":"IFERROR(IF(OR(LOWER(Tabla3[[#This Row],[SEXO]])=\"masculino\", LOWER(Tabla3[[#This Row],[SEXO]])=\"m\", LOWER(Tabla3[[#This Row],[SEXO]])=\"1\"), \"MASCULINO\",\n  IF(OR(LOWER(Tabla3[[#This Row],[SEXO]])=\"femenino\", LOWER(Tabla3[[#This Row],[SEXO]])=\"f\", LOWER(Tabla3[[#This Row],[SEXO]])=\"2\"), \"FEMENINO\",\n  \"\")), \"\")","v":""},0,null,null,null,0]
[{"$f":"IF(Tabla3[[#This Row],[APELLIDOS Y NOMBRES]]>0,ROW()-14,\"\")","v":""},{"$f":"IFERROR(IF(Tabla3[[#This Row],[APELLIDOS Y NOMBRES]]>0,VLOOKUP($H$7,DATA!$A$79:$B$160,2,FALSE),\"\"),\"\")","v":""},null,null,null,null,null,{"$f":"((NOW()-Tabla3[[#This Row],[FECHA DE NACIMIENTO]])/365)-0.5","v":124.79767625317098},null,null,null,null,null,null,null,null,null,null,null,null,null,null,null,null,null,null,null,null,null,null,null,null,null,null,null,null,null,null,null,null,null,null,null,null,null,"",null,{"$f":"IFERROR(IF(OR(LOWER(Tabla3[[#This Row],[SEXO]])=\"masculino\", LOWER(Tabla3[[#This Row],[SEXO]])=\"m\", LOWER(Tabla3[[#This Row],[SEXO]])=\"1\"), \"MASCULINO\",\n  IF(OR(LOWER(Tabla3[[#This Row],[SEXO]])=\"femenino\", LOWER(Tabla3[[#This Row],[SEXO]])=\"f\", LOWER(Tabla3[[#This Row],[SEXO]])=\"2\"), \"FEMENINO\",\n  \"\")), \"\")","v":""},0,null,null,null,0]
[{"$f":"IF(Tabla3[[#This Row],[APELLIDOS Y NOMBRES]]>0,ROW()-14,\"\")","v":""},{"$f":"IFERROR(IF(Tabla3[[#This Row],[APELLIDOS Y NOMBRES]]>0,VLOOKUP($H$7,DATA!$A$79:$B$160,2,FALSE),\"\"),\"\")","v":""},null,null,null,null,null,{"$f":"((NOW()-Tabla3[[#This Row],[FECHA DE NACIMIENTO]])/365)-0.5","v":124.79767625317098},null,null,null,null,null,null,null,null,null,null,null,null,null,null,null,null,null,null,null,null,null,null,null,null,null,null,null,null,null,null,null,null,null,null,null,null,null,"",null,{"$f":"IFERROR(IF(OR(LOWER(Tabla3[[#This Row],[SEXO]])=\"masculino\", LOWER(Tabla3[[#This Row],[SEXO]])=\"m\", LOWER(Tabla3[[#This Row],[SEXO]])=\"1\"), \"MASCULINO\",\n  IF(OR(LOWER(Tabla3[[#This Row],[SEXO]])=\"femenino\", LOWER(Tabla3[[#This Row],[SEXO]])=\"f\", LOWER(Tabla3[[#This Row],[SEXO]])=\"2\"), \"FEMENINO\",\n  \"\")), \"\")","v":""},0,null,null,null,0]
[{"$f":"IF(Tabla3[[#This Row],[APELLIDOS Y NOMBRES]]>0,ROW()-14,\"\")","v":""},{"$f":"IFERROR(IF(Tabla3[[#This Row],[APELLIDOS Y NOMBRES]]>0,VLOOKUP($H$7,DATA!$A$79:$B$160,2,FALSE),\"\"),\"\")","v":""},null,null,null,null,null,{"$f":"((NOW()-Tabla3[[#This Row],[FECHA DE NACIMIENTO]])/365)-0.5","v":124.79767625317098},null,null,null,null,null,null,null,null,null,null,null,null,null,null,null,null,null,null,null,null,null,null,null,null,null,null,null,null,null,null,null,null,null,null,null,null,null,"",null,{"$f":"IFERROR(IF(OR(LOWER(Tabla3[[#This Row],[SEXO]])=\"masculino\", LOWER(Tabla3[[#This Row],[SEXO]])=\"m\", LOWER(Tabla3[[#This Row],[SEXO]])=\"1\"), \"MASCULINO\",\n  IF(OR(LOWER(Tabla3[[#This Row],[SEXO]])=\"femenino\", LOWER(Tabla3[[#This Row],[SEXO]])=\"f\", LOWER(Tabla3[[#This Row],[SEXO]])=\"2\"), \"FEMENINO\",\n  \"\")), \"\")","v":""},0,null,null,null,0]
[{"$f":"IF(Tabla3[[#This Row],[APELLIDOS Y NOMBRES]]>0,ROW()-14,\"\")","v":""},{"$f":"IFERROR(IF(Tabla3[[#This Row],[APELLIDOS Y NOMBRES]]>0,VLOOKUP($H$7,DATA!$A$79:$B$160,2,FALSE),\"\"),\"\")","v":""},null,null,null,null,null,{"$f":"((NOW()-Tabla3[[#This Row],[FECHA DE NACIMIENTO]])/365)-0.5","v":124.79767625317098},null,null,null,null,null,null,null,null,null,null,null,null,null,null,null,null,null,null,null,null,null,null,null,null,null,null,null,null,null,null,null,null,null,null,null,null,null,"",null,{"$f":"IFERROR(IF(OR(LOWER(Tabla3[[#This Row],[SEXO]])=\"masculino\", LOWER(Tabla3[[#This Row],[SEXO]])=\"m\", LOWER(Tabla3[[#This Row],[SEXO]])=\"1\"), \"MASCULINO\",\n  IF(OR(LOWER(Tabla3[[#This Row],[SEXO]])=\"femenino\", LOWER(Tabla3[[#This Row],[SEXO]])=\"f\", LOWER(Tabla3[[#This Row],[SEXO]])=\"2\"), \"FEMENINO\",\n  \"\")), \"\")","v":""},0,null,null,null,0]
[{"$f":"IF(Tabla3[[#This Row],[APELLIDOS Y NOMBRES]]>0,ROW()-14,\"\")","v":""},{"$f":"IFERROR(IF(Tabla3[[#This Row],[APELLIDOS Y NOMBRES]]>0,VLOOKUP($H$7,DATA!$A$79:$B$160,2,FALSE),\"\"),\"\")","v":""},null,null,null,null,null,{"$f":"((NOW()-Tabla3[[#This Row],[FECHA DE NACIMIENTO]])/365)-0.5","v":124.79767625317098},null,null,null,null,null,null,null,null,null,null,null,null,null,null,null,null,null,null,null,null,null,null,null,null,null,null,null,null,null,null,null,null,null,null,null,null,null,"",null,{"$f":"IFERROR(IF(OR(LOWER(Tabla3[[#This Row],[SEXO]])=\"masculino\", LOWER(Tabla3[[#This Row],[SEXO]])=\"m\", LOWER(Tabla3[[#This Row],[SEXO]])=\"1\"), \"MASCULINO\",\n  IF(OR(LOWER(Tabla3[[#This Row],[SEXO]])=\"femenino\", LOWER(Tabla3[[#This Row],[SEXO]])=\"f\", LOWER(Tabla3[[#This Row],[SEXO]])=\"2\"), \"FEMENINO\",\n  \"\")), \"\")","v":""},0,null,null,null,0]
[{"$f":"IF(Tabla3[[#This Row],[APELLIDOS Y NOMBRES]]>0,ROW()-14,\"\")","v":""},{"$f":"IFERROR(IF(Tabla3[[#This Row],[APELLIDOS Y NOMBRES]]>0,VLOOKUP($H$7,DATA!$A$79:$B$160,2,FALSE),\"\"),\"\")","v":""},null,null,null,null,null,{"$f":"((NOW()-Tabla3[[#This Row],[FECHA DE NACIMIENTO]])/365)-0.5","v":124.79767625317098},null,null,null,null,null,null,null,null,null,null,null,null,null,null,null,null,null,null,null,null,null,null,null,null,null,null,null,null,null,null,null,null,null,null,null,null,null,"",null,{"$f":"IFERROR(IF(OR(LOWER(Tabla3[[#This Row],[SEXO]])=\"masculino\", LOWER(Tabla3[[#This Row],[SEXO]])=\"m\", LOWER(Tabla3[[#This Row],[SEXO]])=\"1\"), \"MASCULINO\",\n  IF(OR(LOWER(Tabla3[[#This Row],[SEXO]])=\"femenino\", LOWER(Tabla3[[#This Row],[SEXO]])=\"f\", LOWER(Tabla3[[#This Row],[SEXO]])=\"2\"), \"FEMENINO\",\n  \"\")), \"\")","v":""},0,null,null,null,0]
[{"$f":"IF(Tabla3[[#This Row],[APELLIDOS Y NOMBRES]]>0,ROW()-14,\"\")","v":""},{"$f":"IFERROR(IF(Tabla3[[#This Row],[APELLIDOS Y NOMBRES]]>0,VLOOKUP($H$7,DATA!$A$79:$B$160,2,FALSE),\"\"),\"\")","v":""},null,null,null,null,null,{"$f":"((NOW()-Tabla3[[#This Row],[FECHA DE NACIMIENTO]])/365)-0.5","v":124.79767625317098},null,null,null,null,null,null,null,null,null,null,null,null,null,null,null,null,null,null,null,null,null,null,null,null,null,null,null,null,null,null,null,null,null,null,null,null,null,"",null,{"$f":"IFERROR(IF(OR(LOWER(Tabla3[[#This Row],[SEXO]])=\"masculino\", LOWER(Tabla3[[#This Row],[SEXO]])=\"m\", LOWER(Tabla3[[#This Row],[SEXO]])=\"1\"), \"MASCULINO\",\n  IF(OR(LOWER(Tabla3[[#This Row],[SEXO]])=\"femenino\", LOWER(Tabla3[[#This Row],[SEXO]])=\"f\", LOWER(Tabla3[[#This Row],[SEXO]])=\"2\"), \"FEMENINO\",\n  \"\")), \"\")","v":""},0,null,null,null,0]
[{"$f":"IF(Tabla3[[#This Row],[APELLIDOS Y NOMBRES]]>0,ROW()-14,\"\")","v":""},{"$f":"IFERROR(IF(Tabla3[[#This Row],[APELLIDOS Y NOMBRES]]>0,VLOOKUP($H$7,DATA!$A$79:$B$160,2,FALSE),\"\"),\"\")","v":""},null,null,null,null,null,{"$f":"((NOW()-Tabla3[[#This Row],[FECHA DE NACIMIENTO]])/365)-0.5","v":124.79767625317098},null,null,null,null,null,null,null,null,null,null,null,null,null,null,null,null,null,null,null,null,null,null,null,null,null,null,null,null,null,null,null,null,null,null,null,null,null,"",null,{"$f":"IFERROR(IF(OR(LOWER(Tabla3[[#This Row],[SEXO]])=\"masculino\", LOWER(Tabla3[[#This Row],[SEXO]])=\"m\", LOWER(Tabla3[[#This Row],[SEXO]])=\"1\"), \"MASCULINO\",\n  IF(OR(LOWER(Tabla3[[#This Row],[SEXO]])=\"femenino\", LOWER(Tabla3[[#This Row],[SEXO]])=\"f\", LOWER(Tabla3[[#This Row],[SEXO]])=\"2\"), \"FEMENINO\",\n  \"\")), \"\")","v":""},0,null,null,null,0]
[{"$f":"IF(Tabla3[[#This Row],[APELLIDOS Y NOMBRES]]>0,ROW()-14,\"\")","v":""},{"$f":"IFERROR(IF(Tabla3[[#This Row],[APELLIDOS Y NOMBRES]]>0,VLOOKUP($H$7,DATA!$A$79:$B$160,2,FALSE),\"\"),\"\")","v":""},null,null,null,null,null,{"$f":"((NOW()-Tabla3[[#This Row],[FECHA DE NACIMIENTO]])/365)-0.5","v":124.79767625317098},null,null,null,null,null,null,null,null,null,null,null,null,null,null,null,null,null,null,null,null,null,null,null,null,null,null,null,null,null,null,null,null,null,null,null,null,null,"",null,{"$f":"IFERROR(IF(OR(LOWER(Tabla3[[#This Row],[SEXO]])=\"masculino\", LOWER(Tabla3[[#This Row],[SEXO]])=\"m\", LOWER(Tabla3[[#This Row],[SEXO]])=\"1\"), \"MASCULINO\",\n  IF(OR(LOWER(Tabla3[[#This Row],[SEXO]])=\"femenino\", LOWER(Tabla3[[#This Row],[SEXO]])=\"f\", LOWER(Tabla3[[#This Row],[SEXO]])=\"2\"), \"FEMENINO\",\n  \"\")), \"\")","v":""},0,null,null,null,0]
[{"$f":"IF(Tabla3[[#This Row],[APELLIDOS Y NOMBRES]]>0,ROW()-14,\"\")","v":""},{"$f":"IFERROR(IF(Tabla3[[#This Row],[APELLIDOS Y NOMBRES]]>0,VLOOKUP($H$7,DATA!$A$79:$B$160,2,FALSE),\"\"),\"\")","v":""},null,null,null,null,null,{"$f":"((NOW()-Tabla3[[#This Row],[FECHA DE NACIMIENTO]])/365)-0.5","v":124.79767625317098},null,null,null,null,null,null,null,null,null,null,null,null,null,null,null,null,null,null,null,null,null,null,null,null,null,null,null,null,null,null,null,null,null,null,null,null,null,"",null,{"$f":"IFERROR(IF(OR(LOWER(Tabla3[[#This Row],[SEXO]])=\"masculino\", LOWER(Tabla3[[#This Row],[SEXO]])=\"m\", LOWER(Tabla3[[#This Row],[SEXO]])=\"1\"), \"MASCULINO\",\n  IF(OR(LOWER(Tabla3[[#This Row],[SEXO]])=\"femenino\", LOWER(Tabla3[[#This Row],[SEXO]])=\"f\", LOWER(Tabla3[[#This Row],[SEXO]])=\"2\"), \"FEMENINO\",\n  \"\")), \"\")","v":""},0,null,null,null,0]
[{"$f":"IF(Tabla3[[#This Row],[APELLIDOS Y NOMBRES]]>0,ROW()-14,\"\")","v":""},{"$f":"IFERROR(IF(Tabla3[[#This Row],[APELLIDOS Y NOMBRES]]>0,VLOOKUP($H$7,DATA!$A$79:$B$160,2,FALSE),\"\"),\"\")","v":""},null,null,null,null,null,{"$f":"((NOW()-Tabla3[[#This Row],[FECHA DE NACIMIENTO]])/365)-0.5","v":124.79767625317098},null,null,null,null,null,null,null,null,null,null,null,null,null,null,null,null,null,null,null,null,null,null,null,null,null,null,null,null,null,null,null,null,null,null,null,null,null,"",null,{"$f":"IFERROR(IF(OR(LOWER(Tabla3[[#This Row],[SEXO]])=\"masculino\", LOWER(Tabla3[[#This Row],[SEXO]])=\"m\", LOWER(Tabla3[[#This Row],[SEXO]])=\"1\"), \"MASCULINO\",\n  IF(OR(LOWER(Tabla3[[#This Row],[SEXO]])=\"femenino\", LOWER(Tabla3[[#This Row],[SEXO]])=\"f\", LOWER(Tabla3[[#This Row],[SEXO]])=\"2\"), \"FEMENINO\",\n  \"\")), \"\")","v":""},0,null,null,null,0]
[{"$f":"IF(Tabla3[[#This Row],[APELLIDOS Y NOMBRES]]>0,ROW()-14,\"\")","v":""},{"$f":"IFERROR(IF(Tabla3[[#This Row],[APELLIDOS Y NOMBRES]]>0,VLOOKUP($H$7,DATA!$A$79:$B$160,2,FALSE),\"\"),\"\")","v":""},null,null,null,null,null,{"$f":"((NOW()-Tabla3[[#This Row],[FECHA DE NACIMIENTO]])/365)-0.5","v":124.79767625317098},null,null,null,null,null,null,null,null,null,null,null,null,null,null,null,null,null,null,null,null,null,null,null,null,null,null,null,null,null,null,null,null,null,null,null,null,null,"",null,{"$f":"IFERROR(IF(OR(LOWER(Tabla3[[#This Row],[SEXO]])=\"masculino\", LOWER(Tabla3[[#This Row],[SEXO]])=\"m\", LOWER(Tabla3[[#This Row],[SEXO]])=\"1\"), \"MASCULINO\",\n  IF(OR(LOWER(Tabla3[[#This Row],[SEXO]])=\"femenino\", LOWER(Tabla3[[#This Row],[SEXO]])=\"f\", LOWER(Tabla3[[#This Row],[SEXO]])=\"2\"), \"FEMENINO\",\n  \"\")), \"\")","v":""},0,null,null,null,0]
[{"$f":"IF(Tabla3[[#This Row],[APELLIDOS Y NOMBRES]]>0,ROW()-14,\"\")","v":""},{"$f":"IFERROR(IF(Tabla3[[#This Row],[APELLIDOS Y NOMBRES]]>0,VLOOKUP($H$7,DATA!$A$79:$B$160,2,FALSE),\"\"),\"\")","v":""},null,null,null,null,null,{"$f":"((NOW()-Tabla3[[#This Row],[FECHA DE NACIMIENTO]])/365)-0.5","v":124.79767625317098},null,null,null,null,null,null,null,null,null,null,null,null,null,null,null,null,null,null,null,null,null,null,null,null,null,null,null,null,null,null,null,null,null,null,null,null,null,"",null,{"$f":"IFERROR(IF(OR(LOWER(Tabla3[[#This Row],[SEXO]])=\"masculino\", LOWER(Tabla3[[#This Row],[SEXO]])=\"m\", LOWER(Tabla3[[#This Row],[SEXO]])=\"1\"), \"MASCULINO\",\n  IF(OR(LOWER(Tabla3[[#This Row],[SEXO]])=\"femenino\", LOWER(Tabla3[[#This Row],[SEXO]])=\"f\", LOWER(Tabla3[[#This Row],[SEXO]])=\"2\"), \"FEMENINO\",\n  \"\")), \"\")","v":""},0,null,null,null,0]
[{"$f":"IF(Tabla3[[#This Row],[APELLIDOS Y NOMBRES]]>0,ROW()-14,\"\")","v":""},{"$f":"IFERROR(IF(Tabla3[[#This Row],[APELLIDOS Y NOMBRES]]>0,VLOOKUP($H$7,DATA!$A$79:$B$160,2,FALSE),\"\"),\"\")","v":""},null,null,null,null,null,{"$f":"((NOW()-Tabla3[[#This Row],[FECHA DE NACIMIENTO]])/365)-0.5","v":124.79767625317098},null,null,null,null,null,null,null,null,null,null,null,null,null,null,null,null,null,null,null,null,null,null,null,null,null,null,null,null,null,null,null,null,null,null,null,null,null,"",null,{"$f":"IFERROR(IF(OR(LOWER(Tabla3[[#This Row],[SEXO]])=\"masculino\", LOWER(Tabla3[[#This Row],[SEXO]])=\"m\", LOWER(Tabla3[[#This Row],[SEXO]])=\"1\"), \"MASCULINO\",\n  IF(OR(LOWER(Tabla3[[#This Row],[SEXO]])=\"femenino\", LOWER(Tabla3[[#This Row],[SEXO]])=\"f\", LOWER(Tabla3[[#This Row],[SEXO]])=\"2\"), \"FEMENINO\",\n  \"\")), \"\")","v":""},0,null,null,null,0]
[{"$f":"IF(Tabla3[[#This Row],[APELLIDOS Y NOMBRES]]>0,ROW()-14,\"\")","v":""},{"$f":"IFERROR(IF(Tabla3[[#This Row],[APELLIDOS Y NOMBRES]]>0,VLOOKUP($H$7,DATA!$A$79:$B$160,2,FALSE),\"\"),\"\")","v":""},null,null,null,null,null,{"$f":"((NOW()-Tabla3[[#This Row],[FECHA DE NACIMIENTO]])/365)-0.5","v":124.79767625317098},null,null,null,null,null,null,null,null,null,null,null,null,null,null,null,null,null,null,null,null,null,null,null,null,null,null,null,null,null,null,null,null,null,null,null,null,null,"",null,{"$f":"IFERROR(IF(OR(LOWER(Tabla3[[#This Row],[SEXO]])=\"masculino\", LOWER(Tabla3[[#This Row],[SEXO]])=\"m\", LOWER(Tabla3[[#This Row],[SEXO]])=\"1\"), \"MASCULINO\",\n  IF(OR(LOWER(Tabla3[[#This Row],[SEXO]])=\"femenino\", LOWER(Tabla3[[#This Row],[SEXO]])=\"f\", LOWER(Tabla3[[#This Row],[SEXO]])=\"2\"), \"FEMENINO\",\n  \"\")), \"\")","v":""},0,null,null,null,0]
[{"$f":"IF(Tabla3[[#This Row],[APELLIDOS Y NOMBRES]]>0,ROW()-14,\"\")","v":""},{"$f":"IFERROR(IF(Tabla3[[#This Row],[APELLIDOS Y NOMBRES]]>0,VLOOKUP($H$7,DATA!$A$79:$B$160,2,FALSE),\"\"),\"\")","v":""},null,null,null,null,null,{"$f":"((NOW()-Tabla3[[#This Row],[FECHA DE NACIMIENTO]])/365)-0.5","v":124.79767625317098},null,null,null,null,null,null,null,null,null,null,null,null,null,null,null,null,null,null,null,null,null,null,null,null,null,null,null,null,null,null,null,null,null,null,null,null,null,"",null,{"$f":"IFERROR(IF(OR(LOWER(Tabla3[[#This Row],[SEXO]])=\"masculino\", LOWER(Tabla3[[#This Row],[SEXO]])=\"m\", LOWER(Tabla3[[#This Row],[SEXO]])=\"1\"), \"MASCULINO\",\n  IF(OR(LOWER(Tabla3[[#This Row],[SEXO]])=\"femenino\", LOWER(Tabla3[[#This Row],[SEXO]])=\"f\", LOWER(Tabla3[[#This Row],[SEXO]])=\"2\"), \"FEMENINO\",\n  \"\")), \"\")","v":""},0,null,null,null,0]
[{"$f":"IF(Tabla3[[#This Row],[APELLIDOS Y NOMBRES]]>0,ROW()-14,\"\")","v":""},{"$f":"IFERROR(IF(Tabla3[[#This Row],[APELLIDOS Y NOMBRES]]>0,VLOOKUP($H$7,DATA!$A$79:$B$160,2,FALSE),\"\"),\"\")","v":""},null,null,null,null,null,{"$f":"((NOW()-Tabla3[[#This Row],[FECHA DE NACIMIENTO]])/365)-0.5","v":124.79767625317098},null,null,null,null,null,null,null,null,null,null,null,null,null,null,null,null,null,null,null,null,null,null,null,null,null,null,null,null,null,null,null,null,null,null,null,null,null,"",null,{"$f":"IFERROR(IF(OR(LOWER(Tabla3[[#This Row],[SEXO]])=\"masculino\", LOWER(Tabla3[[#This Row],[SEXO]])=\"m\", LOWER(Tabla3[[#This Row],[SEXO]])=\"1\"), \"MASCULINO\",\n  IF(OR(LOWER(Tabla3[[#This Row],[SEXO]])=\"femenino\", LOWER(Tabla3[[#This Row],[SEXO]])=\"f\", LOWER(Tabla3[[#This Row],[SEXO]])=\"2\"), \"FEMENINO\",\n  \"\")), \"\")","v":""},0,null,null,null,0]
[{"$f":"IF(Tabla3[[#This Row],[APELLIDOS Y NOMBRES]]>0,ROW()-14,\"\")","v":""},{"$f":"IFERROR(IF(Tabla3[[#This Row],[APELLIDOS Y NOMBRES]]>0,VLOOKUP($H$7,DATA!$A$79:$B$160,2,FALSE),\"\"),\"\")","v":""},null,null,null,null,null,{"$f":"((NOW()-Tabla3[[#This Row],[FECHA DE NACIMIENTO]])/365)-0.5","v":124.79767625317098},null,null,null,null,null,null,null,null,null,null,null,null,null,null,null,null,null,null,null,null,null,null,null,null,null,null,null,null,null,null,null,null,null,null,null,null,null,"",null,{"$f":"IFERROR(IF(OR(LOWER(Tabla3[[#This Row],[SEXO]])=\"masculino\", LOWER(Tabla3[[#This Row],[SEXO]])=\"m\", LOWER(Tabla3[[#This Row],[SEXO]])=\"1\"), \"MASCULINO\",\n  IF(OR(LOWER(Tabla3[[#This Row],[SEXO]])=\"femenino\", LOWER(Tabla3[[#This Row],[SEXO]])=\"f\", LOWER(Tabla3[[#This Row],[SEXO]])=\"2\"), \"FEMENINO\",\n  \"\")), \"\")","v":""},0,null,null,null,0]
[{"$f":"IF(Tabla3[[#This Row],[APELLIDOS Y NOMBRES]]>0,ROW()-14,\"\")","v":""},{"$f":"IFERROR(IF(Tabla3[[#This Row],[APELLIDOS Y NOMBRES]]>0,VLOOKUP($H$7,DATA!$A$79:$B$160,2,FALSE),\"\"),\"\")","v":""},null,null,null,null,null,{"$f":"((NOW()-Tabla3[[#This Row],[FECHA DE NACIMIENTO]])/365)-0.5","v":124.79767625317098},null,null,null,null,null,null,null,null,null,null,null,null,null,null,null,null,null,null,null,null,null,null,null,null,null,null,null,null,null,null,null,null,null,null,null,null,null,"",null,{"$f":"IFERROR(IF(OR(LOWER(Tabla3[[#This Row],[SEXO]])=\"masculino\", LOWER(Tabla3[[#This Row],[SEXO]])=\"m\", LOWER(Tabla3[[#This Row],[SEXO]])=\"1\"), \"MASCULINO\",\n  IF(OR(LOWER(Tabla3[[#This Row],[SEXO]])=\"femenino\", LOWER(Tabla3[[#This Row],[SEXO]])=\"f\", LOWER(Tabla3[[#This Row],[SEXO]])=\"2\"), \"FEMENINO\",\n  \"\")), \"\")","v":""},0,null,null,null,0]
[{"$f":"IF(Tabla3[[#This Row],[APELLIDOS Y NOMBRES]]>0,ROW()-14,\"\")","v":""},{"$f":"IFERROR(IF(Tabla3[[#This Row],[APELLIDOS Y NOMBRES]]>0,VLOOKUP($H$7,DATA!$A$79:$B$160,2,FALSE),\"\"),\"\")","v":""},null,null,null,null,null,{"$f":"((NOW()-Tabla3[[#This Row],[FECHA DE NACIMIENTO]])/365)-0.5","v":124.79767625317098},null,null,null,null,null,null,null,null,null,null,null,null,null,null,null,null,null,null,null,null,null,null,null,null,null,null,null,null,null,null,null,null,null,null,null,null,null,"",null,{"$f":"IFERROR(IF(OR(LOWER(Tabla3[[#This Row],[SEXO]])=\"masculino\", LOWER(Tabla3[[#This Row],[SEXO]])=\"m\", LOWER(Tabla3[[#This Row],[SEXO]])=\"1\"), \"MASCULINO\",\n  IF(OR(LOWER(Tabla3[[#This Row],[SEXO]])=\"femenino\", LOWER(Tabla3[[#This Row],[SEXO]])=\"f\", LOWER(Tabla3[[#This Row],[SEXO]])=\"2\"), \"FEMENINO\",\n  \"\")), \"\")","v":""},0,null,null,null,0]
[{"$f":"IF(Tabla3[[#This Row],[APELLIDOS Y NOMBRES]]>0,ROW()-14,\"\")","v":""},{"$f":"IFERROR(IF(Tabla3[[#This Row],[APELLIDOS Y NOMBRES]]>0,VLOOKUP($H$7,DATA!$A$79:$B$160,2,FALSE),\"\"),\"\")","v":""},null,null,null,null,null,{"$f":"((NOW()-Tabla3[[#This Row],[FECHA DE NACIMIENTO]])/365)-0.5","v":124.79767625317098},null,null,null,null,null,null,null,null,null,null,null,null,null,null,null,null,null,null,null,null,null,null,null,null,null,null,null,null,null,null,null,null,null,null,null,null,null,"",null,{"$f":"IFERROR(IF(OR(LOWER(Tabla3[[#This Row],[SEXO]])=\"masculino\", LOWER(Tabla3[[#This Row],[SEXO]])=\"m\", LOWER(Tabla3[[#This Row],[SEXO]])=\"1\"), \"MASCULINO\",\n  IF(OR(LOWER(Tabla3[[#This Row],[SEXO]])=\"femenino\", LOWER(Tabla3[[#This Row],[SEXO]])=\"f\", LOWER(Tabla3[[#This Row],[SEXO]])=\"2\"), \"FEMENINO\",\n  \"\")), \"\")","v":""},0,null,null,null,0]
[{"$f":"IF(Tabla3[[#This Row],[APELLIDOS Y NOMBRES]]>0,ROW()-14,\"\")","v":""},{"$f":"IFERROR(IF(Tabla3[[#This Row],[APELLIDOS Y NOMBRES]]>0,VLOOKUP($H$7,DATA!$A$79:$B$160,2,FALSE),\"\"),\"\")","v":""},null,null,null,null,null,{"$f":"((NOW()-Tabla3[[#This Row],[FECHA DE NACIMIENTO]])/365)-0.5","v":124.79767625317098},null,null,null,null,null,null,null,null,null,null,null,null,null,null,null,null,null,null,null,null,null,null,null,null,null,null,null,null,null,null,null,null,null,null,null,null,null,"",null,{"$f":"IFERROR(IF(OR(LOWER(Tabla3[[#This Row],[SEXO]])=\"masculino\", LOWER(Tabla3[[#This Row],[SEXO]])=\"m\", LOWER(Tabla3[[#This Row],[SEXO]])=\"1\"), \"MASCULINO\",\n  IF(OR(LOWER(Tabla3[[#This Row],[SEXO]])=\"femenino\", LOWER(Tabla3[[#This Row],[SEXO]])=\"f\", LOWER(Tabla3[[#This Row],[SEXO]])=\"2\"), \"FEMENINO\",\n  \"\")), \"\")","v":""},0,null,null,null,0]
[{"$f":"IF(Tabla3[[#This Row],[APELLIDOS Y NOMBRES]]>0,ROW()-14,\"\")","v":""},{"$f":"IFERROR(IF(Tabla3[[#This Row],[APELLIDOS Y NOMBRES]]>0,VLOOKUP($H$7,DATA!$A$79:$B$160,2,FALSE),\"\"),\"\")","v":""},null,null,null,null,null,{"$f":"((NOW()-Tabla3[[#This Row],[FECHA DE NACIMIENTO]])/365)-0.5","v":124.79767625317098},null,null,null,null,null,null,null,null,null,null,null,null,null,null,null,null,null,null,null,null,null,null,null,null,null,null,null,null,null,null,null,null,null,null,null,null,null,"",null,{"$f":"IFERROR(IF(OR(LOWER(Tabla3[[#This Row],[SEXO]])=\"masculino\", LOWER(Tabla3[[#This Row],[SEXO]])=\"m\", LOWER(Tabla3[[#This Row],[SEXO]])=\"1\"), \"MASCULINO\",\n  IF(OR(LOWER(Tabla3[[#This Row],[SEXO]])=\"femenino\", LOWER(Tabla3[[#This Row],[SEXO]])=\"f\", LOWER(Tabla3[[#This Row],[SEXO]])=\"2\"), \"FEMENINO\",\n  \"\")), \"\")","v":""},0,null,null,null,0]
[{"$f":"IF(Tabla3[[#This Row],[APELLIDOS Y NOMBRES]]>0,ROW()-14,\"\")","v":""},{"$f":"IFERROR(IF(Tabla3[[#This Row],[APELLIDOS Y NOMBRES]]>0,VLOOKUP($H$7,DATA!$A$79:$B$160,2,FALSE),\"\"),\"\")","v":""},null,null,null,null,null,{"$f":"((NOW()-Tabla3[[#This Row],[FECHA DE NACIMIENTO]])/365)-0.5","v":124.79767625317098},null,null,null,null,null,null,null,null,null,null,null,null,null,null,null,null,null,null,null,null,null,null,null,null,null,null,null,null,null,null,null,null,null,null,null,null,null,"",null,{"$f":"IFERROR(IF(OR(LOWER(Tabla3[[#This Row],[SEXO]])=\"masculino\", LOWER(Tabla3[[#This Row],[SEXO]])=\"m\", LOWER(Tabla3[[#This Row],[SEXO]])=\"1\"), \"MASCULINO\",\n  IF(OR(LOWER(Tabla3[[#This Row],[SEXO]])=\"femenino\", LOWER(Tabla3[[#This Row],[SEXO]])=\"f\", LOWER(Tabla3[[#This Row],[SEXO]])=\"2\"), \"FEMENINO\",\n  \"\")), \"\")","v":""},0,null,null,null,0]
[{"$f":"IF(Tabla3[[#This Row],[APELLIDOS Y NOMBRES]]>0,ROW()-14,\"\")","v":""},{"$f":"IFERROR(IF(Tabla3[[#This Row],[APELLIDOS Y NOMBRES]]>0,VLOOKUP($H$7,DATA!$A$79:$B$160,2,FALSE),\"\"),\"\")","v":""},null,null,null,null,null,{"$f":"((NOW()-Tabla3[[#This Row],[FECHA DE NACIMIENTO]])/365)-0.5","v":124.79767625317098},null,null,null,null,null,null,null,null,null,null,null,null,null,null,null,null,null,null,null,null,null,null,null,null,null,null,null,null,null,null,null,null,null,null,null,null,null,"",null,{"$f":"IFERROR(IF(OR(LOWER(Tabla3[[#This Row],[SEXO]])=\"masculino\", LOWER(Tabla3[[#This Row],[SEXO]])=\"m\", LOWER(Tabla3[[#This Row],[SEXO]])=\"1\"), \"MASCULINO\",\n  IF(OR(LOWER(Tabla3[[#This Row],[SEXO]])=\"femenino\", LOWER(Tabla3[[#This Row],[SEXO]])=\"f\", LOWER(Tabla3[[#This Row],[SEXO]])=\"2\"), \"FEMENINO\",\n  \"\")), \"\")","v":""},0,null,null,null,0]
[{"$f":"IF(Tabla3[[#This Row],[APELLIDOS Y NOMBRES]]>0,ROW()-14,\"\")","v":""},{"$f":"IFERROR(IF(Tabla3[[#This Row],[APELLIDOS Y NOMBRES]]>0,VLOOKUP($H$7,DATA!$A$79:$B$160,2,FALSE),\"\"),\"\")","v":""},null,null,null,null,null,{"$f":"((NOW()-Tabla3[[#This Row],[FECHA DE NACIMIENTO]])/365)-0.5","v":124.79767625317098},null,null,null,null,null,null,null,null,null,null,null,null,null,null,null,null,null,null,null,null,null,null,null,null,null,null,null,null,null,null,null,null,null,null,null,null,null,"",null,{"$f":"IFERROR(IF(OR(LOWER(Tabla3[[#This Row],[SEXO]])=\"masculino\", LOWER(Tabla3[[#This Row],[SEXO]])=\"m\", LOWER(Tabla3[[#This Row],[SEXO]])=\"1\"), \"MASCULINO\",\n  IF(OR(LOWER(Tabla3[[#This Row],[SEXO]])=\"femenino\", LOWER(Tabla3[[#This Row],[SEXO]])=\"f\", LOWER(Tabla3[[#This Row],[SEXO]])=\"2\"), \"FEMENINO\",\n  \"\")), \"\")","v":""},0,null,null,null,0]
[{"$f":"IF(Tabla3[[#This Row],[APELLIDOS Y NOMBRES]]>0,ROW()-14,\"\")","v":""},{"$f":"IFERROR(IF(Tabla3[[#This Row],[APELLIDOS Y NOMBRES]]>0,VLOOKUP($H$7,DATA!$A$79:$B$160,2,FALSE),\"\"),\"\")","v":""},null,null,null,null,null,{"$f":"((NOW()-Tabla3[[#This Row],[FECHA DE NACIMIENTO]])/365)-0.5","v":124.79767625317098},null,null,null,null,null,null,null,null,null,null,null,null,null,null,null,null,null,null,null,null,null,null,null,null,null,null,null,null,null,null,null,null,null,null,null,null,null,"",null,{"$f":"IFERROR(IF(OR(LOWER(Tabla3[[#This Row],[SEXO]])=\"masculino\", LOWER(Tabla3[[#This Row],[SEXO]])=\"m\", LOWER(Tabla3[[#This Row],[SEXO]])=\"1\"), \"MASCULINO\",\n  IF(OR(LOWER(Tabla3[[#This Row],[SEXO]])=\"femenino\", LOWER(Tabla3[[#This Row],[SEXO]])=\"f\", LOWER(Tabla3[[#This Row],[SEXO]])=\"2\"), \"FEMENINO\",\n  \"\")), \"\")","v":""},0,null,null,null,0]
[{"$f":"IF(Tabla3[[#This Row],[APELLIDOS Y NOMBRES]]>0,ROW()-14,\"\")","v":""},{"$f":"IFERROR(IF(Tabla3[[#This Row],[APELLIDOS Y NOMBRES]]>0,VLOOKUP($H$7,DATA!$A$79:$B$160,2,FALSE),\"\"),\"\")","v":""},null,null,null,null,null,{"$f":"((NOW()-Tabla3[[#This Row],[FECHA DE NACIMIENTO]])/365)-0.5","v":124.79767625317098},null,null,null,null,null,null,null,null,null,null,null,null,null,null,null,null,null,null,null,null,null,null,null,null,null,null,null,null,null,null,null,null,null,null,null,null,null,"",null,{"$f":"IFERROR(IF(OR(LOWER(Tabla3[[#This Row],[SEXO]])=\"masculino\", LOWER(Tabla3[[#This Row],[SEXO]])=\"m\", LOWER(Tabla3[[#This Row],[SEXO]])=\"1\"), \"MASCULINO\",\n  IF(OR(LOWER(Tabla3[[#This Row],[SEXO]])=\"femenino\", LOWER(Tabla3[[#This Row],[SEXO]])=\"f\", LOWER(Tabla3[[#This Row],[SEXO]])=\"2\"), \"FEMENINO\",\n  \"\")), \"\")","v":""},0,null,null,null,0]
[{"$f":"IF(Tabla3[[#This Row],[APELLIDOS Y NOMBRES]]>0,ROW()-14,\"\")","v":""},{"$f":"IFERROR(IF(Tabla3[[#This Row],[APELLIDOS Y NOMBRES]]>0,VLOOKUP($H$7,DATA!$A$79:$B$160,2,FALSE),\"\"),\"\")","v":""},null,null,null,null,null,{"$f":"((NOW()-Tabla3[[#This Row],[FECHA DE NACIMIENTO]])/365)-0.5","v":124.79767625317098},null,null,null,null,null,null,null,null,null,null,null,null,null,null,null,null,null,null,null,null,null,null,null,null,null,null,null,null,null,null,null,null,null,null,null,null,null,"",null,{"$f":"IFERROR(IF(OR(LOWER(Tabla3[[#This Row],[SEXO]])=\"masculino\", LOWER(Tabla3[[#This Row],[SEXO]])=\"m\", LOWER(Tabla3[[#This Row],[SEXO]])=\"1\"), \"MASCULINO\",\n  IF(OR(LOWER(Tabla3[[#This Row],[SEXO]])=\"femenino\", LOWER(Tabla3[[#This Row],[SEXO]])=\"f\", LOWER(Tabla3[[#This Row],[SEXO]])=\"2\"), \"FEMENINO\",\n  \"\")), \"\")","v":""},0,null,null,null,0]
[{"$f":"IF(Tabla3[[#This Row],[APELLIDOS Y NOMBRES]]>0,ROW()-14,\"\")","v":""},{"$f":"IFERROR(IF(Tabla3[[#This Row],[APELLIDOS Y NOMBRES]]>0,VLOOKUP($H$7,DATA!$A$79:$B$160,2,FALSE),\"\"),\"\")","v":""},null,null,null,null,null,{"$f":"((NOW()-Tabla3[[#This Row],[FECHA DE NACIMIENTO]])/365)-0.5","v":124.79767625317098},null,null,null,null,null,null,null,null,null,null,null,null,null,null,null,null,null,null,null,null,null,null,null,null,null,null,null,null,null,null,null,null,null,null,null,null,null,"",null,{"$f":"IFERROR(IF(OR(LOWER(Tabla3[[#This Row],[SEXO]])=\"masculino\", LOWER(Tabla3[[#This Row],[SEXO]])=\"m\", LOWER(Tabla3[[#This Row],[SEXO]])=\"1\"), \"MASCULINO\",\n  IF(OR(LOWER(Tabla3[[#This Row],[SEXO]])=\"femenino\", LOWER(Tabla3[[#This Row],[SEXO]])=\"f\", LOWER(Tabla3[[#This Row],[SEXO]])=\"2\"), \"FEMENINO\",\n  \"\")), \"\")","v":""},0,null,null,null,0]
[{"$f":"IF(Tabla3[[#This Row],[APELLIDOS Y NOMBRES]]>0,ROW()-14,\"\")","v":""},{"$f":"IFERROR(IF(Tabla3[[#This Row],[APELLIDOS Y NOMBRES]]>0,VLOOKUP($H$7,DATA!$A$79:$B$160,2,FALSE),\"\"),\"\")","v":""},null,null,null,null,null,{"$f":"((NOW()-Tabla3[[#This Row],[FECHA DE NACIMIENTO]])/365)-0.5","v":124.79767625317098},null,null,null,null,null,null,null,null,null,null,null,null,null,null,null,null,null,null,null,null,null,null,null,null,null,null,null,null,null,null,null,null,null,null,null,null,null,"",null,{"$f":"IFERROR(IF(OR(LOWER(Tabla3[[#This Row],[SEXO]])=\"masculino\", LOWER(Tabla3[[#This Row],[SEXO]])=\"m\", LOWER(Tabla3[[#This Row],[SEXO]])=\"1\"), \"MASCULINO\",\n  IF(OR(LOWER(Tabla3[[#This Row],[SEXO]])=\"femenino\", LOWER(Tabla3[[#This Row],[SEXO]])=\"f\", LOWER(Tabla3[[#This Row],[SEXO]])=\"2\"), \"FEMENINO\",\n  \"\")), \"\")","v":""},0,null,null,null,0]
[{"$f":"IF(Tabla3[[#This Row],[APELLIDOS Y NOMBRES]]>0,ROW()-14,\"\")","v":""},{"$f":"IFERROR(IF(Tabla3[[#This Row],[APELLIDOS Y NOMBRES]]>0,VLOOKUP($H$7,DATA!$A$79:$B$160,2,FALSE),\"\"),\"\")","v":""},null,null,null,null,null,{"$f":"((NOW()-Tabla3[[#This Row],[FECHA DE NACIMIENTO]])/365)-0.5","v":124.79767625317098},null,null,null,null,null,null,null,null,null,null,null,null,null,null,null,null,null,null,null,null,null,null,null,null,null,null,null,null,null,null,null,null,null,null,null,null,null,"",null,{"$f":"IFERROR(IF(OR(LOWER(Tabla3[[#This Row],[SEXO]])=\"masculino\", LOWER(Tabla3[[#This Row],[SEXO]])=\"m\", LOWER(Tabla3[[#This Row],[SEXO]])=\"1\"), \"MASCULINO\",\n  IF(OR(LOWER(Tabla3[[#This Row],[SEXO]])=\"femenino\", LOWER(Tabla3[[#This Row],[SEXO]])=\"f\", LOWER(Tabla3[[#This Row],[SEXO]])=\"2\"), \"FEMENINO\",\n  \"\")), \"\")","v":""},0,null,null,null,0]
[{"$f":"IF(Tabla3[[#This Row],[APELLIDOS Y NOMBRES]]>0,ROW()-14,\"\")","v":""},{"$f":"IFERROR(IF(Tabla3[[#This Row],[APELLIDOS Y NOMBRES]]>0,VLOOKUP($H$7,DATA!$A$79:$B$160,2,FALSE),\"\"),\"\")","v":""},null,null,null,null,null,{"$f":"((NOW()-Tabla3[[#This Row],[FECHA DE NACIMIENTO]])/365)-0.5","v":124.79767625317098},null,null,null,null,null,null,null,null,null,null,null,null,null,null,null,null,null,null,null,null,null,null,null,null,null,null,null,null,null,null,null,null,null,null,null,null,null,"",null,{"$f":"IFERROR(IF(OR(LOWER(Tabla3[[#This Row],[SEXO]])=\"masculino\", LOWER(Tabla3[[#This Row],[SEXO]])=\"m\", LOWER(Tabla3[[#This Row],[SEXO]])=\"1\"), \"MASCULINO\",\n  IF(OR(LOWER(Tabla3[[#This Row],[SEXO]])=\"femenino\", LOWER(Tabla3[[#This Row],[SEXO]])=\"f\", LOWER(Tabla3[[#This Row],[SEXO]])=\"2\"), \"FEMENINO\",\n  \"\")), \"\")","v":""},0,null,null,null,0]
[{"$f":"IF(Tabla3[[#This Row],[APELLIDOS Y NOMBRES]]>0,ROW()-14,\"\")","v":""},{"$f":"IFERROR(IF(Tabla3[[#This Row],[APELLIDOS Y NOMBRES]]>0,VLOOKUP($H$7,DATA!$A$79:$B$160,2,FALSE),\"\"),\"\")","v":""},null,null,null,null,null,{"$f":"((NOW()-Tabla3[[#This Row],[FECHA DE NACIMIENTO]])/365)-0.5","v":124.79767625317098},null,null,null,null,null,null,null,null,null,null,null,null,null,null,null,null,null,null,null,null,null,null,null,null,null,null,null,null,null,null,null,null,null,null,null,null,null,"",null,{"$f":"IFERROR(IF(OR(LOWER(Tabla3[[#This Row],[SEXO]])=\"masculino\", LOWER(Tabla3[[#This Row],[SEXO]])=\"m\", LOWER(Tabla3[[#This Row],[SEXO]])=\"1\"), \"MASCULINO\",\n  IF(OR(LOWER(Tabla3[[#This Row],[SEXO]])=\"femenino\", LOWER(Tabla3[[#This Row],[SEXO]])=\"f\", LOWER(Tabla3[[#This Row],[SEXO]])=\"2\"), \"FEMENINO\",\n  \"\")), \"\")","v":""},0,null,null,null,0]
[{"$f":"IF(Tabla3[[#This Row],[APELLIDOS Y NOMBRES]]>0,ROW()-14,\"\")","v":""},{"$f":"IFERROR(IF(Tabla3[[#This Row],[APELLIDOS Y NOMBRES]]>0,VLOOKUP($H$7,DATA!$A$79:$B$160,2,FALSE),\"\"),\"\")","v":""},null,null,null,null,null,{"$f":"((NOW()-Tabla3[[#This Row],[FECHA DE NACIMIENTO]])/365)-0.5","v":124.79767625317098},null,null,null,null,null,null,null,null,null,null,null,null,null,null,null,null,null,null,null,null,null,null,null,null,null,null,null,null,null,null,null,null,null,null,null,null,null,"",null,{"$f":"IFERROR(IF(OR(LOWER(Tabla3[[#This Row],[SEXO]])=\"masculino\", LOWER(Tabla3[[#This Row],[SEXO]])=\"m\", LOWER(Tabla3[[#This Row],[SEXO]])=\"1\"), \"MASCULINO\",\n  IF(OR(LOWER(Tabla3[[#This Row],[SEXO]])=\"femenino\", LOWER(Tabla3[[#This Row],[SEXO]])=\"f\", LOWER(Tabla3[[#This Row],[SEXO]])=\"2\"), \"FEMENINO\",\n  \"\")), \"\")","v":""},0,null,null,null,0]
[{"$f":"IF(Tabla3[[#This Row],[APELLIDOS Y NOMBRES]]>0,ROW()-14,\"\")","v":""},{"$f":"IFERROR(IF(Tabla3[[#This Row],[APELLIDOS Y NOMBRES]]>0,VLOOKUP($H$7,DATA!$A$79:$B$160,2,FALSE),\"\"),\"\")","v":""},null,null,null,null,null,{"$f":"((NOW()-Tabla3[[#This Row],[FECHA DE NACIMIENTO]])/365)-0.5","v":124.79767625317098},null,null,null,null,null,null,null,null,null,null,null,null,null,null,null,null,null,null,null,null,null,null,null,null,null,null,null,null,null,null,null,null,null,null,null,null,null,"",null,{"$f":"IFERROR(IF(OR(LOWER(Tabla3[[#This Row],[SEXO]])=\"masculino\", LOWER(Tabla3[[#This Row],[SEXO]])=\"m\", LOWER(Tabla3[[#This Row],[SEXO]])=\"1\"), \"MASCULINO\",\n  IF(OR(LOWER(Tabla3[[#This Row],[SEXO]])=\"femenino\", LOWER(Tabla3[[#This Row],[SEXO]])=\"f\", LOWER(Tabla3[[#This Row],[SEXO]])=\"2\"), \"FEMENINO\",\n  \"\")), \"\")","v":""},0,null,null,null,0]
[{"$f":"IF(Tabla3[[#This Row],[APELLIDOS Y NOMBRES]]>0,ROW()-14,\"\")","v":""},{"$f":"IFERROR(IF(Tabla3[[#This Row],[APELLIDOS Y NOMBRES]]>0,VLOOKUP($H$7,DATA!$A$79:$B$160,2,FALSE),\"\"),\"\")","v":""},null,null,null,null,null,{"$f":"((NOW()-Tabla3[[#This Row],[FECHA DE NACIMIENTO]])/365)-0.5","v":124.79767625317098},null,null,null,null,null,null,null,null,null,null,null,null,null,null,null,null,null,null,null,null,null,null,null,null,null,null,null,null,null,null,null,null,null,null,null,null,null,"",null,{"$f":"IFERROR(IF(OR(LOWER(Tabla3[[#This Row],[SEXO]])=\"masculino\", LOWER(Tabla3[[#This Row],[SEXO]])=\"m\", LOWER(Tabla3[[#This Row],[SEXO]])=\"1\"), \"MASCULINO\",\n  IF(OR(LOWER(Tabla3[[#This Row],[SEXO]])=\"femenino\", LOWER(Tabla3[[#This Row],[SEXO]])=\"f\", LOWER(Tabla3[[#This Row],[SEXO]])=\"2\"), \"FEMENINO\",\n  \"\")), \"\")","v":""},0,null,null,null,0]
[{"$f":"IF(Tabla3[[#This Row],[APELLIDOS Y NOMBRES]]>0,ROW()-14,\"\")","v":""},{"$f":"IFERROR(IF(Tabla3[[#This Row],[APELLIDOS Y NOMBRES]]>0,VLOOKUP($H$7,DATA!$A$79:$B$160,2,FALSE),\"\"),\"\")","v":""},null,null,null,null,null,{"$f":"((NOW()-Tabla3[[#This Row],[FECHA DE NACIMIENTO]])/365)-0.5","v":124.79767625317098},null,null,null,null,null,null,null,null,null,null,null,null,null,null,null,null,null,null,null,null,null,null,null,null,null,null,null,null,null,null,null,null,null,null,null,null,null,"",null,{"$f":"IFERROR(IF(OR(LOWER(Tabla3[[#This Row],[SEXO]])=\"masculino\", LOWER(Tabla3[[#This Row],[SEXO]])=\"m\", LOWER(Tabla3[[#This Row],[SEXO]])=\"1\"), \"MASCULINO\",\n  IF(OR(LOWER(Tabla3[[#This Row],[SEXO]])=\"femenino\", LOWER(Tabla3[[#This Row],[SEXO]])=\"f\", LOWER(Tabla3[[#This Row],[SEXO]])=\"2\"), \"FEMENINO\",\n  \"\")), \"\")","v":""},0,null,null,null,0]
[{"$f":"IF(Tabla3[[#This Row],[APELLIDOS Y NOMBRES]]>0,ROW()-14,\"\")","v":""},{"$f":"IFERROR(IF(Tabla3[[#This Row],[APELLIDOS Y NOMBRES]]>0,VLOOKUP($H$7,DATA!$A$79:$B$160,2,FALSE),\"\"),\"\")","v":""},null,null,null,null,null,{"$f":"((NOW()-Tabla3[[#This Row],[FECHA DE NACIMIENTO]])/365)-0.5","v":124.79767625317098},null,null,null,null,null,null,null,null,null,null,null,null,null,null,null,null,null,null,null,null,null,null,null,null,null,null,null,null,null,null,null,null,null,null,null,null,null,"",null,{"$f":"IFERROR(IF(OR(LOWER(Tabla3[[#This Row],[SEXO]])=\"masculino\", LOWER(Tabla3[[#This Row],[SEXO]])=\"m\", LOWER(Tabla3[[#This Row],[SEXO]])=\"1\"), \"MASCULINO\",\n  IF(OR(LOWER(Tabla3[[#This Row],[SEXO]])=\"femenino\", LOWER(Tabla3[[#This Row],[SEXO]])=\"f\", LOWER(Tabla3[[#This Row],[SEXO]])=\"2\"), \"FEMENINO\",\n  \"\")), \"\")","v":""},0,null,null,null,0]
[{"$f":"IF(Tabla3[[#This Row],[APELLIDOS Y NOMBRES]]>0,ROW()-14,\"\")","v":""},{"$f":"IFERROR(IF(Tabla3[[#This Row],[APELLIDOS Y NOMBRES]]>0,VLOOKUP($H$7,DATA!$A$79:$B$160,2,FALSE),\"\"),\"\")","v":""},null,null,null,null,null,{"$f":"((NOW()-Tabla3[[#This Row],[FECHA DE NACIMIENTO]])/365)-0.5","v":124.79767625317098},null,null,null,null,null,null,null,null,null,null,null,null,null,null,null,null,null,null,null,null,null,null,null,null,null,null,null,null,null,null,null,null,null,null,null,null,null,"",null,{"$f":"IFERROR(IF(OR(LOWER(Tabla3[[#This Row],[SEXO]])=\"masculino\", LOWER(Tabla3[[#This Row],[SEXO]])=\"m\", LOWER(Tabla3[[#This Row],[SEXO]])=\"1\"), \"MASCULINO\",\n  IF(OR(LOWER(Tabla3[[#This Row],[SEXO]])=\"femenino\", LOWER(Tabla3[[#This Row],[SEXO]])=\"f\", LOWER(Tabla3[[#This Row],[SEXO]])=\"2\"), \"FEMENINO\",\n  \"\")), \"\")","v":""},0,null,null,null,0]
[{"$f":"IF(Tabla3[[#This Row],[APELLIDOS Y NOMBRES]]>0,ROW()-14,\"\")","v":""},{"$f":"IFERROR(IF(Tabla3[[#This Row],[APELLIDOS Y NOMBRES]]>0,VLOOKUP($H$7,DATA!$A$79:$B$160,2,FALSE),\"\"),\"\")","v":""},null,null,null,null,null,{"$f":"((NOW()-Tabla3[[#This Row],[FECHA DE NACIMIENTO]])/365)-0.5","v":124.79767625317098},null,null,null,null,null,null,null,null,null,null,null,null,null,null,null,null,null,null,null,null,null,null,null,null,null,null,null,null,null,null,null,null,null,null,null,null,null,"",null,{"$f":"IFERROR(IF(OR(LOWER(Tabla3[[#This Row],[SEXO]])=\"masculino\", LOWER(Tabla3[[#This Row],[SEXO]])=\"m\", LOWER(Tabla3[[#This Row],[SEXO]])=\"1\"), \"MASCULINO\",\n  IF(OR(LOWER(Tabla3[[#This Row],[SEXO]])=\"femenino\", LOWER(Tabla3[[#This Row],[SEXO]])=\"f\", LOWER(Tabla3[[#This Row],[SEXO]])=\"2\"), \"FEMENINO\",\n  \"\")), \"\")","v":""},0,null,null,null,0]
[{"$f":"IF(Tabla3[[#This Row],[APELLIDOS Y NOMBRES]]>0,ROW()-14,\"\")","v":""},{"$f":"IFERROR(IF(Tabla3[[#This Row],[APELLIDOS Y NOMBRES]]>0,VLOOKUP($H$7,DATA!$A$79:$B$160,2,FALSE),\"\"),\"\")","v":""},null,null,null,null,null,{"$f":"((NOW()-Tabla3[[#This Row],[FECHA DE NACIMIENTO]])/365)-0.5","v":124.79767625317098},null,null,null,null,null,null,null,null,null,null,null,null,null,null,null,null,null,null,null,null,null,null,null,null,null,null,null,null,null,null,null,null,null,null,null,null,null,"",null,{"$f":"IFERROR(IF(OR(LOWER(Tabla3[[#This Row],[SEXO]])=\"masculino\", LOWER(Tabla3[[#This Row],[SEXO]])=\"m\", LOWER(Tabla3[[#This Row],[SEXO]])=\"1\"), \"MASCULINO\",\n  IF(OR(LOWER(Tabla3[[#This Row],[SEXO]])=\"femenino\", LOWER(Tabla3[[#This Row],[SEXO]])=\"f\", LOWER(Tabla3[[#This Row],[SEXO]])=\"2\"), \"FEMENINO\",\n  \"\")), \"\")","v":""},0,null,null,null,0]
[{"$f":"IF(Tabla3[[#This Row],[APELLIDOS Y NOMBRES]]>0,ROW()-14,\"\")","v":""},{"$f":"IFERROR(IF(Tabla3[[#This Row],[APELLIDOS Y NOMBRES]]>0,VLOOKUP($H$7,DATA!$A$79:$B$160,2,FALSE),\"\"),\"\")","v":""},null,null,null,null,null,{"$f":"((NOW()-Tabla3[[#This Row],[FECHA DE NACIMIENTO]])/365)-0.5","v":124.79767625317098},null,null,null,null,null,null,null,null,null,null,null,null,null,null,null,null,null,null,null,null,null,null,null,null,null,null,null,null,null,null,null,null,null,null,null,null,null,"",null,{"$f":"IFERROR(IF(OR(LOWER(Tabla3[[#This Row],[SEXO]])=\"masculino\", LOWER(Tabla3[[#This Row],[SEXO]])=\"m\", LOWER(Tabla3[[#This Row],[SEXO]])=\"1\"), \"MASCULINO\",\n  IF(OR(LOWER(Tabla3[[#This Row],[SEXO]])=\"femenino\", LOWER(Tabla3[[#This Row],[SEXO]])=\"f\", LOWER(Tabla3[[#This Row],[SEXO]])=\"2\"), \"FEMENINO\",\n  \"\")), \"\")","v":""},0,null,null,null,0]
[{"$f":"IF(Tabla3[[#This Row],[APELLIDOS Y NOMBRES]]>0,ROW()-14,\"\")","v":""},{"$f":"IFERROR(IF(Tabla3[[#This Row],[APELLIDOS Y NOMBRES]]>0,VLOOKUP($H$7,DATA!$A$79:$B$160,2,FALSE),\"\"),\"\")","v":""},null,null,null,null,null,{"$f":"((NOW()-Tabla3[[#This Row],[FECHA DE NACIMIENTO]])/365)-0.5","v":124.79767625317098},null,null,null,null,null,null,null,null,null,null,null,null,null,null,null,null,null,null,null,null,null,null,null,null,null,null,null,null,null,null,null,null,null,null,null,null,null,"",null,{"$f":"IFERROR(IF(OR(LOWER(Tabla3[[#This Row],[SEXO]])=\"masculino\", LOWER(Tabla3[[#This Row],[SEXO]])=\"m\", LOWER(Tabla3[[#This Row],[SEXO]])=\"1\"), \"MASCULINO\",\n  IF(OR(LOWER(Tabla3[[#This Row],[SEXO]])=\"femenino\", LOWER(Tabla3[[#This Row],[SEXO]])=\"f\", LOWER(Tabla3[[#This Row],[SEXO]])=\"2\"), \"FEMENINO\",\n  \"\")), \"\")","v":""},0,null,null,null,0]
[{"$f":"IF(Tabla3[[#This Row],[APELLIDOS Y NOMBRES]]>0,ROW()-14,\"\")","v":""},{"$f":"IFERROR(IF(Tabla3[[#This Row],[APELLIDOS Y NOMBRES]]>0,VLOOKUP($H$7,DATA!$A$79:$B$160,2,FALSE),\"\"),\"\")","v":""},null,null,null,null,null,{"$f":"((NOW()-Tabla3[[#This Row],[FECHA DE NACIMIENTO]])/365)-0.5","v":124.79767625317098},null,null,null,null,null,null,null,null,null,null,null,null,null,null,null,null,null,null,null,null,null,null,null,null,null,null,null,null,null,null,null,null,null,null,null,null,null,"",null,{"$f":"IFERROR(IF(OR(LOWER(Tabla3[[#This Row],[SEXO]])=\"masculino\", LOWER(Tabla3[[#This Row],[SEXO]])=\"m\", LOWER(Tabla3[[#This Row],[SEXO]])=\"1\"), \"MASCULINO\",\n  IF(OR(LOWER(Tabla3[[#This Row],[SEXO]])=\"femenino\", LOWER(Tabla3[[#This Row],[SEXO]])=\"f\", LOWER(Tabla3[[#This Row],[SEXO]])=\"2\"), \"FEMENINO\",\n  \"\")), \"\")","v":""},0,null,null,null,0]
[{"$f":"IF(Tabla3[[#This Row],[APELLIDOS Y NOMBRES]]>0,ROW()-14,\"\")","v":""},{"$f":"IFERROR(IF(Tabla3[[#This Row],[APELLIDOS Y NOMBRES]]>0,VLOOKUP($H$7,DATA!$A$79:$B$160,2,FALSE),\"\"),\"\")","v":""},null,null,null,null,null,{"$f":"((NOW()-Tabla3[[#This Row],[FECHA DE NACIMIENTO]])/365)-0.5","v":124.79767625317098},null,null,null,null,null,null,null,null,null,null,null,null,null,null,null,null,null,null,null,null,null,null,null,null,null,null,null,null,null,null,null,null,null,null,null,null,null,"",null,{"$f":"IFERROR(IF(OR(LOWER(Tabla3[[#This Row],[SEXO]])=\"masculino\", LOWER(Tabla3[[#This Row],[SEXO]])=\"m\", LOWER(Tabla3[[#This Row],[SEXO]])=\"1\"), \"MASCULINO\",\n  IF(OR(LOWER(Tabla3[[#This Row],[SEXO]])=\"femenino\", LOWER(Tabla3[[#This Row],[SEXO]])=\"f\", LOWER(Tabla3[[#This Row],[SEXO]])=\"2\"), \"FEMENINO\",\n  \"\")), \"\")","v":""},0,null,null,null,0]
[{"$f":"IF(Tabla3[[#This Row],[APELLIDOS Y NOMBRES]]>0,ROW()-14,\"\")","v":""},{"$f":"IFERROR(IF(Tabla3[[#This Row],[APELLIDOS Y NOMBRES]]>0,VLOOKUP($H$7,DATA!$A$79:$B$160,2,FALSE),\"\"),\"\")","v":""},null,null,null,null,null,{"$f":"((NOW()-Tabla3[[#This Row],[FECHA DE NACIMIENTO]])/365)-0.5","v":124.79767625317098},null,null,null,null,null,null,null,null,null,null,null,null,null,null,null,null,null,null,null,null,null,null,null,null,null,null,null,null,null,null,null,null,null,null,null,null,null,"",null,{"$f":"IFERROR(IF(OR(LOWER(Tabla3[[#This Row],[SEXO]])=\"masculino\", LOWER(Tabla3[[#This Row],[SEXO]])=\"m\", LOWER(Tabla3[[#This Row],[SEXO]])=\"1\"), \"MASCULINO\",\n  IF(OR(LOWER(Tabla3[[#This Row],[SEXO]])=\"femenino\", LOWER(Tabla3[[#This Row],[SEXO]])=\"f\", LOWER(Tabla3[[#This Row],[SEXO]])=\"2\"), \"FEMENINO\",\n  \"\")), \"\")","v":""},0,null,null,null,0]
[{"$f":"IF(Tabla3[[#This Row],[APELLIDOS Y NOMBRES]]>0,ROW()-14,\"\")","v":""},{"$f":"IFERROR(IF(Tabla3[[#This Row],[APELLIDOS Y NOMBRES]]>0,VLOOKUP($H$7,DATA!$A$79:$B$160,2,FALSE),\"\"),\"\")","v":""},null,null,null,null,null,{"$f":"((NOW()-Tabla3[[#This Row],[FECHA DE NACIMIENTO]])/365)-0.5","v":124.79767625317098},null,null,null,null,null,null,null,null,null,null,null,null,null,null,null,null,null,null,null,null,null,null,null,null,null,null,null,null,null,null,null,null,null,null,null,null,null,"",null,{"$f":"IFERROR(IF(OR(LOWER(Tabla3[[#This Row],[SEXO]])=\"masculino\", LOWER(Tabla3[[#This Row],[SEXO]])=\"m\", LOWER(Tabla3[[#This Row],[SEXO]])=\"1\"), \"MASCULINO\",\n  IF(OR(LOWER(Tabla3[[#This Row],[SEXO]])=\"femenino\", LOWER(Tabla3[[#This Row],[SEXO]])=\"f\", LOWER(Tabla3[[#This Row],[SEXO]])=\"2\"), \"FEMENINO\",\n  \"\")), \"\")","v":""},0,null,null,null,0]
[{"$f":"IF(Tabla3[[#This Row],[APELLIDOS Y NOMBRES]]>0,ROW()-14,\"\")","v":""},{"$f":"IFERROR(IF(Tabla3[[#This Row],[APELLIDOS Y NOMBRES]]>0,VLOOKUP($H$7,DATA!$A$79:$B$160,2,FALSE),\"\"),\"\")","v":""},null,null,null,null,null,{"$f":"((NOW()-Tabla3[[#This Row],[FECHA DE NACIMIENTO]])/365)-0.5","v":124.79767625317098},null,null,null,null,null,null,null,null,null,null,null,null,null,null,null,null,null,null,null,null,null,null,null,null,null,null,null,null,null,null,null,null,null,null,null,null,null,"",null,{"$f":"IFERROR(IF(OR(LOWER(Tabla3[[#This Row],[SEXO]])=\"masculino\", LOWER(Tabla3[[#This Row],[SEXO]])=\"m\", LOWER(Tabla3[[#This Row],[SEXO]])=\"1\"), \"MASCULINO\",\n  IF(OR(LOWER(Tabla3[[#This Row],[SEXO]])=\"femenino\", LOWER(Tabla3[[#This Row],[SEXO]])=\"f\", LOWER(Tabla3[[#This Row],[SEXO]])=\"2\"), \"FEMENINO\",\n  \"\")), \"\")","v":""},0,null,null,null,0]
[{"$f":"IF(Tabla3[[#This Row],[APELLIDOS Y NOMBRES]]>0,ROW()-14,\"\")","v":""},{"$f":"IFERROR(IF(Tabla3[[#This Row],[APELLIDOS Y NOMBRES]]>0,VLOOKUP($H$7,DATA!$A$79:$B$160,2,FALSE),\"\"),\"\")","v":""},null,null,null,null,null,{"$f":"((NOW()-Tabla3[[#This Row],[FECHA DE NACIMIENTO]])/365)-0.5","v":124.79767625317098},null,null,null,null,null,null,null,null,null,null,null,null,null,null,null,null,null,null,null,null,null,null,null,null,null,null,null,null,null,null,null,null,null,null,null,null,null,"",null,{"$f":"IFERROR(IF(OR(LOWER(Tabla3[[#This Row],[SEXO]])=\"masculino\", LOWER(Tabla3[[#This Row],[SEXO]])=\"m\", LOWER(Tabla3[[#This Row],[SEXO]])=\"1\"), \"MASCULINO\",\n  IF(OR(LOWER(Tabla3[[#This Row],[SEXO]])=\"femenino\", LOWER(Tabla3[[#This Row],[SEXO]])=\"f\", LOWER(Tabla3[[#This Row],[SEXO]])=\"2\"), \"FEMENINO\",\n  \"\")), \"\")","v":""},0,null,null,null,0]
[{"$f":"IF(Tabla3[[#This Row],[APELLIDOS Y NOMBRES]]>0,ROW()-14,\"\")","v":""},{"$f":"IFERROR(IF(Tabla3[[#This Row],[APELLIDOS Y NOMBRES]]>0,VLOOKUP($H$7,DATA!$A$79:$B$160,2,FALSE),\"\"),\"\")","v":""},null,null,null,null,null,{"$f":"((NOW()-Tabla3[[#This Row],[FECHA DE NACIMIENTO]])/365)-0.5","v":124.79767625317098},null,null,null,null,null,null,null,null,null,null,null,null,null,null,null,null,null,null,null,null,null,null,null,null,null,null,null,null,null,null,null,null,null,null,null,null,null,"",null,{"$f":"IFERROR(IF(OR(LOWER(Tabla3[[#This Row],[SEXO]])=\"masculino\", LOWER(Tabla3[[#This Row],[SEXO]])=\"m\", LOWER(Tabla3[[#This Row],[SEXO]])=\"1\"), \"MASCULINO\",\n  IF(OR(LOWER(Tabla3[[#This Row],[SEXO]])=\"femenino\", LOWER(Tabla3[[#This Row],[SEXO]])=\"f\", LOWER(Tabla3[[#This Row],[SEXO]])=\"2\"), \"FEMENINO\",\n  \"\")), \"\")","v":""},0,null,null,null,0]
[{"$f":"IF(Tabla3[[#This Row],[APELLIDOS Y NOMBRES]]>0,ROW()-14,\"\")","v":""},{"$f":"IFERROR(IF(Tabla3[[#This Row],[APELLIDOS Y NOMBRES]]>0,VLOOKUP($H$7,DATA!$A$79:$B$160,2,FALSE),\"\"),\"\")","v":""},null,null,null,null,null,{"$f":"((NOW()-Tabla3[[#This Row],[FECHA DE NACIMIENTO]])/365)-0.5","v":124.79767625317098},null,null,null,null,null,null,null,null,null,null,null,null,null,null,null,null,null,null,null,null,null,null,null,null,null,null,null,null,null,null,null,null,null,null,null,null,null,"",null,{"$f":"IFERROR(IF(OR(LOWER(Tabla3[[#This Row],[SEXO]])=\"masculino\", LOWER(Tabla3[[#This Row],[SEXO]])=\"m\", LOWER(Tabla3[[#This Row],[SEXO]])=\"1\"), \"MASCULINO\",\n  IF(OR(LOWER(Tabla3[[#This Row],[SEXO]])=\"femenino\", LOWER(Tabla3[[#This Row],[SEXO]])=\"f\", LOWER(Tabla3[[#This Row],[SEXO]])=\"2\"), \"FEMENINO\",\n  \"\")), \"\")","v":""},0,null,null,null,0]
[{"$f":"IF(Tabla3[[#This Row],[APELLIDOS Y NOMBRES]]>0,ROW()-14,\"\")","v":""},{"$f":"IFERROR(IF(Tabla3[[#This Row],[APELLIDOS Y NOMBRES]]>0,VLOOKUP($H$7,DATA!$A$79:$B$160,2,FALSE),\"\"),\"\")","v":""},null,null,null,null,null,{"$f":"((NOW()-Tabla3[[#This Row],[FECHA DE NACIMIENTO]])/365)-0.5","v":124.79767625317098},null,null,null,null,null,null,null,null,null,null,null,null,null,null,null,null,null,null,null,null,null,null,null,null,null,null,null,null,null,null,null,null,null,null,null,null,null,"",null,{"$f":"IFERROR(IF(OR(LOWER(Tabla3[[#This Row],[SEXO]])=\"masculino\", LOWER(Tabla3[[#This Row],[SEXO]])=\"m\", LOWER(Tabla3[[#This Row],[SEXO]])=\"1\"), \"MASCULINO\",\n  IF(OR(LOWER(Tabla3[[#This Row],[SEXO]])=\"femenino\", LOWER(Tabla3[[#This Row],[SEXO]])=\"f\", LOWER(Tabla3[[#This Row],[SEXO]])=\"2\"), \"FEMENINO\",\n  \"\")), \"\")","v":""},0,null,null,null,0]
[{"$f":"IF(Tabla3[[#This Row],[APELLIDOS Y NOMBRES]]>0,ROW()-14,\"\")","v":""},{"$f":"IFERROR(IF(Tabla3[[#This Row],[APELLIDOS Y NOMBRES]]>0,VLOOKUP($H$7,DATA!$A$79:$B$160,2,FALSE),\"\"),\"\")","v":""},null,null,null,null,null,{"$f":"((NOW()-Tabla3[[#This Row],[FECHA DE NACIMIENTO]])/365)-0.5","v":124.79767625317098},null,null,null,null,null,null,null,null,null,null,null,null,null,null,null,null,null,null,null,null,null,null,null,null,null,null,null,null,null,null,null,null,null,null,null,null,null,"",null,{"$f":"IFERROR(IF(OR(LOWER(Tabla3[[#This Row],[SEXO]])=\"masculino\", LOWER(Tabla3[[#This Row],[SEXO]])=\"m\", LOWER(Tabla3[[#This Row],[SEXO]])=\"1\"), \"MASCULINO\",\n  IF(OR(LOWER(Tabla3[[#This Row],[SEXO]])=\"femenino\", LOWER(Tabla3[[#This Row],[SEXO]])=\"f\", LOWER(Tabla3[[#This Row],[SEXO]])=\"2\"), \"FEMENINO\",\n  \"\")), \"\")","v":""},0,null,null,null,0]
[{"$f":"IF(Tabla3[[#This Row],[APELLIDOS Y NOMBRES]]>0,ROW()-14,\"\")","v":""},{"$f":"IFERROR(IF(Tabla3[[#This Row],[APELLIDOS Y NOMBRES]]>0,VLOOKUP($H$7,DATA!$A$79:$B$160,2,FALSE),\"\"),\"\")","v":""},null,null,null,null,null,{"$f":"((NOW()-Tabla3[[#This Row],[FECHA DE NACIMIENTO]])/365)-0.5","v":124.79767625317098},null,null,null,null,null,null,null,null,null,null,null,null,null,null,null,null,null,null,null,null,null,null,null,null,null,null,null,null,null,null,null,null,null,null,null,null,null,"",null,{"$f":"IFERROR(IF(OR(LOWER(Tabla3[[#This Row],[SEXO]])=\"masculino\", LOWER(Tabla3[[#This Row],[SEXO]])=\"m\", LOWER(Tabla3[[#This Row],[SEXO]])=\"1\"), \"MASCULINO\",\n  IF(OR(LOWER(Tabla3[[#This Row],[SEXO]])=\"femenino\", LOWER(Tabla3[[#This Row],[SEXO]])=\"f\", LOWER(Tabla3[[#This Row],[SEXO]])=\"2\"), \"FEMENINO\",\n  \"\")), \"\")","v":""},0,null,null,null,0]
[{"$f":"IF(Tabla3[[#This Row],[APELLIDOS Y NOMBRES]]>0,ROW()-14,\"\")","v":""},{"$f":"IFERROR(IF(Tabla3[[#This Row],[APELLIDOS Y NOMBRES]]>0,VLOOKUP($H$7,DATA!$A$79:$B$160,2,FALSE),\"\"),\"\")","v":""},null,null,null,null,null,{"$f":"((NOW()-Tabla3[[#This Row],[FECHA DE NACIMIENTO]])/365)-0.5","v":124.79767625317098},null,null,null,null,null,null,null,null,null,null,null,null,null,null,null,null,null,null,null,null,null,null,null,null,null,null,null,null,null,null,null,null,null,null,null,null,null,"",null,{"$f":"IFERROR(IF(OR(LOWER(Tabla3[[#This Row],[SEXO]])=\"masculino\", LOWER(Tabla3[[#This Row],[SEXO]])=\"m\", LOWER(Tabla3[[#This Row],[SEXO]])=\"1\"), \"MASCULINO\",\n  IF(OR(LOWER(Tabla3[[#This Row],[SEXO]])=\"femenino\", LOWER(Tabla3[[#This Row],[SEXO]])=\"f\", LOWER(Tabla3[[#This Row],[SEXO]])=\"2\"), \"FEMENINO\",\n  \"\")), \"\")","v":""},0,null,null,null,0]
[{"$f":"IF(Tabla3[[#This Row],[APELLIDOS Y NOMBRES]]>0,ROW()-14,\"\")","v":""},{"$f":"IFERROR(IF(Tabla3[[#This Row],[APELLIDOS Y NOMBRES]]>0,VLOOKUP($H$7,DATA!$A$79:$B$160,2,FALSE),\"\"),\"\")","v":""},null,null,null,null,null,{"$f":"((NOW()-Tabla3[[#This Row],[FECHA DE NACIMIENTO]])/365)-0.5","v":124.79767625317098},null,null,null,null,null,null,null,null,null,null,null,null,null,null,null,null,null,null,null,null,null,null,null,null,null,null,null,null,null,null,null,null,null,null,null,null,null,"",null,{"$f":"IFERROR(IF(OR(LOWER(Tabla3[[#This Row],[SEXO]])=\"masculino\", LOWER(Tabla3[[#This Row],[SEXO]])=\"m\", LOWER(Tabla3[[#This Row],[SEXO]])=\"1\"), \"MASCULINO\",\n  IF(OR(LOWER(Tabla3[[#This Row],[SEXO]])=\"femenino\", LOWER(Tabla3[[#This Row],[SEXO]])=\"f\", LOWER(Tabla3[[#This Row],[SEXO]])=\"2\"), \"FEMENINO\",\n  \"\")), \"\")","v":""},0,null,null,null,0]
[{"$f":"IF(Tabla3[[#This Row],[APELLIDOS Y NOMBRES]]>0,ROW()-14,\"\")","v":""},{"$f":"IFERROR(IF(Tabla3[[#This Row],[APELLIDOS Y NOMBRES]]>0,VLOOKUP($H$7,DATA!$A$79:$B$160,2,FALSE),\"\"),\"\")","v":""},null,null,null,null,null,{"$f":"((NOW()-Tabla3[[#This Row],[FECHA DE NACIMIENTO]])/365)-0.5","v":124.79767625317098},null,null,null,null,null,null,null,null,null,null,null,null,null,null,null,null,null,null,null,null,null,null,null,null,null,null,null,null,null,null,null,null,null,null,null,null,null,"",null,{"$f":"IFERROR(IF(OR(LOWER(Tabla3[[#This Row],[SEXO]])=\"masculino\", LOWER(Tabla3[[#This Row],[SEXO]])=\"m\", LOWER(Tabla3[[#This Row],[SEXO]])=\"1\"), \"MASCULINO\",\n  IF(OR(LOWER(Tabla3[[#This Row],[SEXO]])=\"femenino\", LOWER(Tabla3[[#This Row],[SEXO]])=\"f\", LOWER(Tabla3[[#This Row],[SEXO]])=\"2\"), \"FEMENINO\",\n  \"\")), \"\")","v":""},0,null,null,null,0]
[{"$f":"IF(Tabla3[[#This Row],[APELLIDOS Y NOMBRES]]>0,ROW()-14,\"\")","v":""},{"$f":"IFERROR(IF(Tabla3[[#This Row],[APELLIDOS Y NOMBRES]]>0,VLOOKUP($H$7,DATA!$A$79:$B$160,2,FALSE),\"\"),\"\")","v":""},null,null,null,null,null,{"$f":"((NOW()-Tabla3[[#This Row],[FECHA DE NACIMIENTO]])/365)-0.5","v":124.79767625317098},null,null,null,null,null,null,null,null,null,null,null,null,null,null,null,null,null,null,null,null,null,null,null,null,null,null,null,null,null,null,null,null,null,null,null,null,null,"",null,{"$f":"IFERROR(IF(OR(LOWER(Tabla3[[#This Row],[SEXO]])=\"masculino\", LOWER(Tabla3[[#This Row],[SEXO]])=\"m\", LOWER(Tabla3[[#This Row],[SEXO]])=\"1\"), \"MASCULINO\",\n  IF(OR(LOWER(Tabla3[[#This Row],[SEXO]])=\"femenino\", LOWER(Tabla3[[#This Row],[SEXO]])=\"f\", LOWER(Tabla3[[#This Row],[SEXO]])=\"2\"), \"FEMENINO\",\n  \"\")), \"\")","v":""},0,null,null,null,0]
[{"$f":"IF(Tabla3[[#This Row],[APELLIDOS Y NOMBRES]]>0,ROW()-14,\"\")","v":""},{"$f":"IFERROR(IF(Tabla3[[#This Row],[APELLIDOS Y NOMBRES]]>0,VLOOKUP($H$7,DATA!$A$79:$B$160,2,FALSE),\"\"),\"\")","v":""},null,null,null,null,null,{"$f":"((NOW()-Tabla3[[#This Row],[FECHA DE NACIMIENTO]])/365)-0.5","v":124.79767625317098},null,null,null,null,null,null,null,null,null,null,null,null,null,null,null,null,null,null,null,null,null,null,null,null,null,null,null,null,null,null,null,null,null,null,null,null,null,"",null,{"$f":"IFERROR(IF(OR(LOWER(Tabla3[[#This Row],[SEXO]])=\"masculino\", LOWER(Tabla3[[#This Row],[SEXO]])=\"m\", LOWER(Tabla3[[#This Row],[SEXO]])=\"1\"), \"MASCULINO\",\n  IF(OR(LOWER(Tabla3[[#This Row],[SEXO]])=\"femenino\", LOWER(Tabla3[[#This Row],[SEXO]])=\"f\", LOWER(Tabla3[[#This Row],[SEXO]])=\"2\"), \"FEMENINO\",\n  \"\")), \"\")","v":""},0,null,null,null,0]
[{"$f":"IF(Tabla3[[#This Row],[APELLIDOS Y NOMBRES]]>0,ROW()-14,\"\")","v":""},{"$f":"IFERROR(IF(Tabla3[[#This Row],[APELLIDOS Y NOMBRES]]>0,VLOOKUP($H$7,DATA!$A$79:$B$160,2,FALSE),\"\"),\"\")","v":""},null,null,null,null,null,{"$f":"((NOW()-Tabla3[[#This Row],[FECHA DE NACIMIENTO]])/365)-0.5","v":124.79767625317098},null,null,null,null,null,null,null,null,null,null,null,null,null,null,null,null,null,null,null,null,null,null,null,null,null,null,null,null,null,null,null,null,null,null,null,null,null,{"$f":"IF(OR($C$5=\"\", $D29968=\"\"), \"\", $C$5)","v":""},null,{"$f":"IFERROR(IF(OR(LOWER(Tabla3[[#This Row],[SEXO]])=\"masculino\", LOWER(Tabla3[[#This Row],[SEXO]])=\"m\", LOWER(Tabla3[[#This Row],[SEXO]])=\"1\"), \"MASCULINO\",\n  IF(OR(LOWER(Tabla3[[#This Row],[SEXO]])=\"femenino\", LOWER(Tabla3[[#This Row],[SEXO]])=\"f\", LOWER(Tabla3[[#This Row],[SEXO]])=\"2\"), \"FEMENINO\",\n  \"\")), \"\")","v":""},{"$f":"COUNTIF(P29968:AH29968,104)","v":0},null,null,null,{"$f":"IF(COUNTIF(P29968:AI29968,104)>0,1,0)","v":0}]
[{"$f":"IF(Tabla3[[#This Row],[APELLIDOS Y NOMBRES]]>0,ROW()-14,\"\")","v":""},{"$f":"IFERROR(IF(Tabla3[[#This Row],[APELLIDOS Y NOMBRES]]>0,VLOOKUP($H$7,DATA!$A$79:$B$160,2,FALSE),\"\"),\"\")","v":""},null,null,null,null,null,{"$f":"((NOW()-Tabla3[[#This Row],[FECHA DE NACIMIENTO]])/365)-0.5","v":124.79767625317098},null,null,null,null,null,null,null,null,null,null,null,null,null,null,null,null,null,null,null,null,null,null,null,null,null,null,null,null,null,null,null,null,null,null,null,null,null,"",null,{"$f":"IFERROR(IF(OR(LOWER(Tabla3[[#This Row],[SEXO]])=\"masculino\", LOWER(Tabla3[[#This Row],[SEXO]])=\"m\", LOWER(Tabla3[[#This Row],[SEXO]])=\"1\"), \"MASCULINO\",\n  IF(OR(LOWER(Tabla3[[#This Row],[SEXO]])=\"femenino\", LOWER(Tabla3[[#This Row],[SEXO]])=\"f\", LOWER(Tabla3[[#This Row],[SEXO]])=\"2\"), \"FEMENINO\",\n  \"\")), \"\")","v":""},0,null,null,null,0]
[{"$f":"IF(Tabla3[[#This Row],[APELLIDOS Y NOMBRES]]>0,ROW()-14,\"\")","v":""},{"$f":"IFERROR(IF(Tabla3[[#This Row],[APELLIDOS Y NOMBRES]]>0,VLOOKUP($H$7,DATA!$A$79:$B$160,2,FALSE),\"\"),\"\")","v":""},null,null,null,null,null,{"$f":"((NOW()-Tabla3[[#This Row],[FECHA DE NACIMIENTO]])/365)-0.5","v":124.79767625317098},null,null,null,null,null,null,null,null,null,null,null,null,null,null,null,null,null,null,null,null,null,null,null,null,null,null,null,null,null,null,null,null,null,null,null,null,null,"",null,{"$f":"IFERROR(IF(OR(LOWER(Tabla3[[#This Row],[SEXO]])=\"masculino\", LOWER(Tabla3[[#This Row],[SEXO]])=\"m\", LOWER(Tabla3[[#This Row],[SEXO]])=\"1\"), \"MASCULINO\",\n  IF(OR(LOWER(Tabla3[[#This Row],[SEXO]])=\"femenino\", LOWER(Tabla3[[#This Row],[SEXO]])=\"f\", LOWER(Tabla3[[#This Row],[SEXO]])=\"2\"), \"FEMENINO\",\n  \"\")), \"\")","v":""},0,null,null,null,0]
[{"$f":"IF(Tabla3[[#This Row],[APELLIDOS Y NOMBRES]]>0,ROW()-14,\"\")","v":""},{"$f":"IFERROR(IF(Tabla3[[#This Row],[APELLIDOS Y NOMBRES]]>0,VLOOKUP($H$7,DATA!$A$79:$B$160,2,FALSE),\"\"),\"\")","v":""},null,null,null,null,null,{"$f":"((NOW()-Tabla3[[#This Row],[FECHA DE NACIMIENTO]])/365)-0.5","v":124.79767625317098},null,null,null,null,null,null,null,null,null,null,null,null,null,null,null,null,null,null,null,null,null,null,null,null,null,null,null,null,null,null,null,null,null,null,null,null,null,"",null,{"$f":"IFERROR(IF(OR(LOWER(Tabla3[[#This Row],[SEXO]])=\"masculino\", LOWER(Tabla3[[#This Row],[SEXO]])=\"m\", LOWER(Tabla3[[#This Row],[SEXO]])=\"1\"), \"MASCULINO\",\n  IF(OR(LOWER(Tabla3[[#This Row],[SEXO]])=\"femenino\", LOWER(Tabla3[[#This Row],[SEXO]])=\"f\", LOWER(Tabla3[[#This Row],[SEXO]])=\"2\"), \"FEMENINO\",\n  \"\")), \"\")","v":""},0,null,null,null,0]
[{"$f":"IF(Tabla3[[#This Row],[APELLIDOS Y NOMBRES]]>0,ROW()-14,\"\")","v":""},{"$f":"IFERROR(IF(Tabla3[[#This Row],[APELLIDOS Y NOMBRES]]>0,VLOOKUP($H$7,DATA!$A$79:$B$160,2,FALSE),\"\"),\"\")","v":""},null,null,null,null,null,{"$f":"((NOW()-Tabla3[[#This Row],[FECHA DE NACIMIENTO]])/365)-0.5","v":124.79767625317098},null,null,null,null,null,null,null,null,null,null,null,null,null,null,null,null,null,null,null,null,null,null,null,null,null,null,null,null,null,null,null,null,null,null,null,null,null,"",null,{"$f":"IFERROR(IF(OR(LOWER(Tabla3[[#This Row],[SEXO]])=\"masculino\", LOWER(Tabla3[[#This Row],[SEXO]])=\"m\", LOWER(Tabla3[[#This Row],[SEXO]])=\"1\"), \"MASCULINO\",\n  IF(OR(LOWER(Tabla3[[#This Row],[SEXO]])=\"femenino\", LOWER(Tabla3[[#This Row],[SEXO]])=\"f\", LOWER(Tabla3[[#This Row],[SEXO]])=\"2\"), \"FEMENINO\",\n  \"\")), \"\")","v":""},0,null,null,null,0]
[{"$f":"IF(Tabla3[[#This Row],[APELLIDOS Y NOMBRES]]>0,ROW()-14,\"\")","v":""},{"$f":"IFERROR(IF(Tabla3[[#This Row],[APELLIDOS Y NOMBRES]]>0,VLOOKUP($H$7,DATA!$A$79:$B$160,2,FALSE),\"\"),\"\")","v":""},null,null,null,null,null,{"$f":"((NOW()-Tabla3[[#This Row],[FECHA DE NACIMIENTO]])/365)-0.5","v":124.79767625317098},null,null,null,null,null,null,null,null,null,null,null,null,null,null,null,null,null,null,null,null,null,null,null,null,null,null,null,null,null,null,null,null,null,null,null,null,null,"",null,{"$f":"IFERROR(IF(OR(LOWER(Tabla3[[#This Row],[SEXO]])=\"masculino\", LOWER(Tabla3[[#This Row],[SEXO]])=\"m\", LOWER(Tabla3[[#This Row],[SEXO]])=\"1\"), \"MASCULINO\",\n  IF(OR(LOWER(Tabla3[[#This Row],[SEXO]])=\"femenino\", LOWER(Tabla3[[#This Row],[SEXO]])=\"f\", LOWER(Tabla3[[#This Row],[SEXO]])=\"2\"), \"FEMENINO\",\n  \"\")), \"\")","v":""},0,null,null,null,0]
[{"$f":"IF(Tabla3[[#This Row],[APELLIDOS Y NOMBRES]]>0,ROW()-14,\"\")","v":""},{"$f":"IFERROR(IF(Tabla3[[#This Row],[APELLIDOS Y NOMBRES]]>0,VLOOKUP($H$7,DATA!$A$79:$B$160,2,FALSE),\"\"),\"\")","v":""},null,null,null,null,null,{"$f":"((NOW()-Tabla3[[#This Row],[FECHA DE NACIMIENTO]])/365)-0.5","v":124.79767625317098},null,null,null,null,null,null,null,null,null,null,null,null,null,null,null,null,null,null,null,null,null,null,null,null,null,null,null,null,null,null,null,null,null,null,null,null,null,"",null,{"$f":"IFERROR(IF(OR(LOWER(Tabla3[[#This Row],[SEXO]])=\"masculino\", LOWER(Tabla3[[#This Row],[SEXO]])=\"m\", LOWER(Tabla3[[#This Row],[SEXO]])=\"1\"), \"MASCULINO\",\n  IF(OR(LOWER(Tabla3[[#This Row],[SEXO]])=\"femenino\", LOWER(Tabla3[[#This Row],[SEXO]])=\"f\", LOWER(Tabla3[[#This Row],[SEXO]])=\"2\"), \"FEMENINO\",\n  \"\")), \"\")","v":""},0,null,null,null,0]
[{"$f":"IF(Tabla3[[#This Row],[APELLIDOS Y NOMBRES]]>0,ROW()-14,\"\")","v":""},{"$f":"IFERROR(IF(Tabla3[[#This Row],[APELLIDOS Y NOMBRES]]>0,VLOOKUP($H$7,DATA!$A$79:$B$160,2,FALSE),\"\"),\"\")","v":""},null,null,null,null,null,{"$f":"((NOW()-Tabla3[[#This Row],[FECHA DE NACIMIENTO]])/365)-0.5","v":124.79767625317098},null,null,null,null,null,null,null,null,null,null,null,null,null,null,null,null,null,null,null,null,null,null,null,null,null,null,null,null,null,null,null,null,null,null,null,null,null,"",null,{"$f":"IFERROR(IF(OR(LOWER(Tabla3[[#This Row],[SEXO]])=\"masculino\", LOWER(Tabla3[[#This Row],[SEXO]])=\"m\", LOWER(Tabla3[[#This Row],[SEXO]])=\"1\"), \"MASCULINO\",\n  IF(OR(LOWER(Tabla3[[#This Row],[SEXO]])=\"femenino\", LOWER(Tabla3[[#This Row],[SEXO]])=\"f\", LOWER(Tabla3[[#This Row],[SEXO]])=\"2\"), \"FEMENINO\",\n  \"\")), \"\")","v":""},0,null,null,null,0]
[{"$f":"IF(Tabla3[[#This Row],[APELLIDOS Y NOMBRES]]>0,ROW()-14,\"\")","v":""},{"$f":"IFERROR(IF(Tabla3[[#This Row],[APELLIDOS Y NOMBRES]]>0,VLOOKUP($H$7,DATA!$A$79:$B$160,2,FALSE),\"\"),\"\")","v":""},null,null,null,null,null,{"$f":"((NOW()-Tabla3[[#This Row],[FECHA DE NACIMIENTO]])/365)-0.5","v":124.79767625317098},null,null,null,null,null,null,null,null,null,null,null,null,null,null,null,null,null,null,null,null,null,null,null,null,null,null,null,null,null,null,null,null,null,null,null,null,null,"",null,{"$f":"IFERROR(IF(OR(LOWER(Tabla3[[#This Row],[SEXO]])=\"masculino\", LOWER(Tabla3[[#This Row],[SEXO]])=\"m\", LOWER(Tabla3[[#This Row],[SEXO]])=\"1\"), \"MASCULINO\",\n  IF(OR(LOWER(Tabla3[[#This Row],[SEXO]])=\"femenino\", LOWER(Tabla3[[#This Row],[SEXO]])=\"f\", LOWER(Tabla3[[#This Row],[SEXO]])=\"2\"), \"FEMENINO\",\n  \"\")), \"\")","v":""},0,null,null,null,0]
[{"$f":"IF(Tabla3[[#This Row],[APELLIDOS Y NOMBRES]]>0,ROW()-14,\"\")","v":""},{"$f":"IFERROR(IF(Tabla3[[#This Row],[APELLIDOS Y NOMBRES]]>0,VLOOKUP($H$7,DATA!$A$79:$B$160,2,FALSE),\"\"),\"\")","v":""},null,null,null,null,null,{"$f":"((NOW()-Tabla3[[#This Row],[FECHA DE NACIMIENTO]])/365)-0.5","v":124.79767625317098},null,null,null,null,null,null,null,null,null,null,null,null,null,null,null,null,null,null,null,null,null,null,null,null,null,null,null,null,null,null,null,null,null,null,null,null,null,"",null,{"$f":"IFERROR(IF(OR(LOWER(Tabla3[[#This Row],[SEXO]])=\"masculino\", LOWER(Tabla3[[#This Row],[SEXO]])=\"m\", LOWER(Tabla3[[#This Row],[SEXO]])=\"1\"), \"MASCULINO\",\n  IF(OR(LOWER(Tabla3[[#This Row],[SEXO]])=\"femenino\", LOWER(Tabla3[[#This Row],[SEXO]])=\"f\", LOWER(Tabla3[[#This Row],[SEXO]])=\"2\"), \"FEMENINO\",\n  \"\")), \"\")","v":""},0,null,null,null,0]
[{"$f":"IF(Tabla3[[#This Row],[APELLIDOS Y NOMBRES]]>0,ROW()-14,\"\")","v":""},{"$f":"IFERROR(IF(Tabla3[[#This Row],[APELLIDOS Y NOMBRES]]>0,VLOOKUP($H$7,DATA!$A$79:$B$160,2,FALSE),\"\"),\"\")","v":""},null,null,null,null,null,{"$f":"((NOW()-Tabla3[[#This Row],[FECHA DE NACIMIENTO]])/365)-0.5","v":124.79767625317098},null,null,null,null,null,null,null,null,null,null,null,null,null,null,null,null,null,null,null,null,null,null,null,null,null,null,null,null,null,null,null,null,null,null,null,null,null,"",null,{"$f":"IFERROR(IF(OR(LOWER(Tabla3[[#This Row],[SEXO]])=\"masculino\", LOWER(Tabla3[[#This Row],[SEXO]])=\"m\", LOWER(Tabla3[[#This Row],[SEXO]])=\"1\"), \"MASCULINO\",\n  IF(OR(LOWER(Tabla3[[#This Row],[SEXO]])=\"femenino\", LOWER(Tabla3[[#This Row],[SEXO]])=\"f\", LOWER(Tabla3[[#This Row],[SEXO]])=\"2\"), \"FEMENINO\",\n  \"\")), \"\")","v":""},0,null,null,null,0]
[{"$f":"IF(Tabla3[[#This Row],[APELLIDOS Y NOMBRES]]>0,ROW()-14,\"\")","v":""},{"$f":"IFERROR(IF(Tabla3[[#This Row],[APELLIDOS Y NOMBRES]]>0,VLOOKUP($H$7,DATA!$A$79:$B$160,2,FALSE),\"\"),\"\")","v":""},null,null,null,null,null,{"$f":"((NOW()-Tabla3[[#This Row],[FECHA DE NACIMIENTO]])/365)-0.5","v":124.79767625317098},null,null,null,null,null,null,null,null,null,null,null,null,null,null,null,null,null,null,null,null,null,null,null,null,null,null,null,null,null,null,null,null,null,null,null,null,null,"",null,{"$f":"IFERROR(IF(OR(LOWER(Tabla3[[#This Row],[SEXO]])=\"masculino\", LOWER(Tabla3[[#This Row],[SEXO]])=\"m\", LOWER(Tabla3[[#This Row],[SEXO]])=\"1\"), \"MASCULINO\",\n  IF(OR(LOWER(Tabla3[[#This Row],[SEXO]])=\"femenino\", LOWER(Tabla3[[#This Row],[SEXO]])=\"f\", LOWER(Tabla3[[#This Row],[SEXO]])=\"2\"), \"FEMENINO\",\n  \"\")), \"\")","v":""},0,null,null,null,0]
[{"$f":"IF(Tabla3[[#This Row],[APELLIDOS Y NOMBRES]]>0,ROW()-14,\"\")","v":""},{"$f":"IFERROR(IF(Tabla3[[#This Row],[APELLIDOS Y NOMBRES]]>0,VLOOKUP($H$7,DATA!$A$79:$B$160,2,FALSE),\"\"),\"\")","v":""},null,null,null,null,null,{"$f":"((NOW()-Tabla3[[#This Row],[FECHA DE NACIMIENTO]])/365)-0.5","v":124.79767625317098},null,null,null,null,null,null,null,null,null,null,null,null,null,null,null,null,null,null,null,null,null,null,null,null,null,null,null,null,null,null,null,null,null,null,null,null,null,"",null,{"$f":"IFERROR(IF(OR(LOWER(Tabla3[[#This Row],[SEXO]])=\"masculino\", LOWER(Tabla3[[#This Row],[SEXO]])=\"m\", LOWER(Tabla3[[#This Row],[SEXO]])=\"1\"), \"MASCULINO\",\n  IF(OR(LOWER(Tabla3[[#This Row],[SEXO]])=\"femenino\", LOWER(Tabla3[[#This Row],[SEXO]])=\"f\", LOWER(Tabla3[[#This Row],[SEXO]])=\"2\"), \"FEMENINO\",\n  \"\")), \"\")","v":""},0,null,null,null,0]
[{"$f":"IF(Tabla3[[#This Row],[APELLIDOS Y NOMBRES]]>0,ROW()-14,\"\")","v":""},{"$f":"IFERROR(IF(Tabla3[[#This Row],[APELLIDOS Y NOMBRES]]>0,VLOOKUP($H$7,DATA!$A$79:$B$160,2,FALSE),\"\"),\"\")","v":""},null,null,null,null,null,{"$f":"((NOW()-Tabla3[[#This Row],[FECHA DE NACIMIENTO]])/365)-0.5","v":124.79767625317098},null,null,null,null,null,null,null,null,null,null,null,null,null,null,null,null,null,null,null,null,null,null,null,null,null,null,null,null,null,null,null,null,null,null,null,null,null,"",null,{"$f":"IFERROR(IF(OR(LOWER(Tabla3[[#This Row],[SEXO]])=\"masculino\", LOWER(Tabla3[[#This Row],[SEXO]])=\"m\", LOWER(Tabla3[[#This Row],[SEXO]])=\"1\"), \"MASCULINO\",\n  IF(OR(LOWER(Tabla3[[#This Row],[SEXO]])=\"femenino\", LOWER(Tabla3[[#This Row],[SEXO]])=\"f\", LOWER(Tabla3[[#This Row],[SEXO]])=\"2\"), \"FEMENINO\",\n  \"\")), \"\")","v":""},0,null,null,null,0]
[{"$f":"IF(Tabla3[[#This Row],[APELLIDOS Y NOMBRES]]>0,ROW()-14,\"\")","v":""},{"$f":"IFERROR(IF(Tabla3[[#This Row],[APELLIDOS Y NOMBRES]]>0,VLOOKUP($H$7,DATA!$A$79:$B$160,2,FALSE),\"\"),\"\")","v":""},null,null,null,null,null,{"$f":"((NOW()-Tabla3[[#This Row],[FECHA DE NACIMIENTO]])/365)-0.5","v":124.79767625317098},null,null,null,null,null,null,null,null,null,null,null,null,null,null,null,null,null,null,null,null,null,null,null,null,null,null,null,null,null,null,null,null,null,null,null,null,null,"",null,{"$f":"IFERROR(IF(OR(LOWER(Tabla3[[#This Row],[SEXO]])=\"masculino\", LOWER(Tabla3[[#This Row],[SEXO]])=\"m\", LOWER(Tabla3[[#This Row],[SEXO]])=\"1\"), \"MASCULINO\",\n  IF(OR(LOWER(Tabla3[[#This Row],[SEXO]])=\"femenino\", LOWER(Tabla3[[#This Row],[SEXO]])=\"f\", LOWER(Tabla3[[#This Row],[SEXO]])=\"2\"), \"FEMENINO\",\n  \"\")), \"\")","v":""},0,null,null,null,0]
[{"$f":"IF(Tabla3[[#This Row],[APELLIDOS Y NOMBRES]]>0,ROW()-14,\"\")","v":""},{"$f":"IFERROR(IF(Tabla3[[#This Row],[APELLIDOS Y NOMBRES]]>0,VLOOKUP($H$7,DATA!$A$79:$B$160,2,FALSE),\"\"),\"\")","v":""},null,null,null,null,null,{"$f":"((NOW()-Tabla3[[#This Row],[FECHA DE NACIMIENTO]])/365)-0.5","v":124.79767625317098},null,null,null,null,null,null,null,null,null,null,null,null,null,null,null,null,null,null,null,null,null,null,null,null,null,null,null,null,null,null,null,null,null,null,null,null,null,"",null,{"$f":"IFERROR(IF(OR(LOWER(Tabla3[[#This Row],[SEXO]])=\"masculino\", LOWER(Tabla3[[#This Row],[SEXO]])=\"m\", LOWER(Tabla3[[#This Row],[SEXO]])=\"1\"), \"MASCULINO\",\n  IF(OR(LOWER(Tabla3[[#This Row],[SEXO]])=\"femenino\", LOWER(Tabla3[[#This Row],[SEXO]])=\"f\", LOWER(Tabla3[[#This Row],[SEXO]])=\"2\"), \"FEMENINO\",\n  \"\")), \"\")","v":""},0,null,null,null,0]
[{"$f":"IF(Tabla3[[#This Row],[APELLIDOS Y NOMBRES]]>0,ROW()-14,\"\")","v":""},{"$f":"IFERROR(IF(Tabla3[[#This Row],[APELLIDOS Y NOMBRES]]>0,VLOOKUP($H$7,DATA!$A$79:$B$160,2,FALSE),\"\"),\"\")","v":""},null,null,null,null,null,{"$f":"((NOW()-Tabla3[[#This Row],[FECHA DE NACIMIENTO]])/365)-0.5","v":124.79767625317098},null,null,null,null,null,null,null,null,null,null,null,null,null,null,null,null,null,null,null,null,null,null,null,null,null,null,null,null,null,null,null,null,null,null,null,null,null,"",null,{"$f":"IFERROR(IF(OR(LOWER(Tabla3[[#This Row],[SEXO]])=\"masculino\", LOWER(Tabla3[[#This Row],[SEXO]])=\"m\", LOWER(Tabla3[[#This Row],[SEXO]])=\"1\"), \"MASCULINO\",\n  IF(OR(LOWER(Tabla3[[#This Row],[SEXO]])=\"femenino\", LOWER(Tabla3[[#This Row],[SEXO]])=\"f\", LOWER(Tabla3[[#This Row],[SEXO]])=\"2\"), \"FEMENINO\",\n  \"\")), \"\")","v":""},0,null,null,null,0]
[{"$f":"IF(Tabla3[[#This Row],[APELLIDOS Y NOMBRES]]>0,ROW()-14,\"\")","v":""},{"$f":"IFERROR(IF(Tabla3[[#This Row],[APELLIDOS Y NOMBRES]]>0,VLOOKUP($H$7,DATA!$A$79:$B$160,2,FALSE),\"\"),\"\")","v":""},null,null,null,null,null,{"$f":"((NOW()-Tabla3[[#This Row],[FECHA DE NACIMIENTO]])/365)-0.5","v":124.79767625317098},null,null,null,null,null,null,null,null,null,null,null,null,null,null,null,null,null,null,null,null,null,null,null,null,null,null,null,null,null,null,null,null,null,null,null,null,null,"",null,{"$f":"IFERROR(IF(OR(LOWER(Tabla3[[#This Row],[SEXO]])=\"masculino\", LOWER(Tabla3[[#This Row],[SEXO]])=\"m\", LOWER(Tabla3[[#This Row],[SEXO]])=\"1\"), \"MASCULINO\",\n  IF(OR(LOWER(Tabla3[[#This Row],[SEXO]])=\"femenino\", LOWER(Tabla3[[#This Row],[SEXO]])=\"f\", LOWER(Tabla3[[#This Row],[SEXO]])=\"2\"), \"FEMENINO\",\n  \"\")), \"\")","v":""},0,null,null,null,0]
[{"$f":"IF(Tabla3[[#This Row],[APELLIDOS Y NOMBRES]]>0,ROW()-14,\"\")","v":""},{"$f":"IFERROR(IF(Tabla3[[#This Row],[APELLIDOS Y NOMBRES]]>0,VLOOKUP($H$7,DATA!$A$79:$B$160,2,FALSE),\"\"),\"\")","v":""},null,null,null,null,null,{"$f":"((NOW()-Tabla3[[#This Row],[FECHA DE NACIMIENTO]])/365)-0.5","v":124.79767625317098},null,null,null,null,null,null,null,null,null,null,null,null,null,null,null,null,null,null,null,null,null,null,null,null,null,null,null,null,null,null,null,null,null,null,null,null,null,"",null,{"$f":"IFERROR(IF(OR(LOWER(Tabla3[[#This Row],[SEXO]])=\"masculino\", LOWER(Tabla3[[#This Row],[SEXO]])=\"m\", LOWER(Tabla3[[#This Row],[SEXO]])=\"1\"), \"MASCULINO\",\n  IF(OR(LOWER(Tabla3[[#This Row],[SEXO]])=\"femenino\", LOWER(Tabla3[[#This Row],[SEXO]])=\"f\", LOWER(Tabla3[[#This Row],[SEXO]])=\"2\"), \"FEMENINO\",\n  \"\")), \"\")","v":""},0,null,null,null,0]
[{"$f":"IF(Tabla3[[#This Row],[APELLIDOS Y NOMBRES]]>0,ROW()-14,\"\")","v":""},{"$f":"IFERROR(IF(Tabla3[[#This Row],[APELLIDOS Y NOMBRES]]>0,VLOOKUP($H$7,DATA!$A$79:$B$160,2,FALSE),\"\"),\"\")","v":""},null,null,null,null,null,{"$f":"((NOW()-Tabla3[[#This Row],[FECHA DE NACIMIENTO]])/365)-0.5","v":124.79767625317098},null,null,null,null,null,null,null,null,null,null,null,null,null,null,null,null,null,null,null,null,null,null,null,null,null,null,null,null,null,null,null,null,null,null,null,null,null,"",null,{"$f":"IFERROR(IF(OR(LOWER(Tabla3[[#This Row],[SEXO]])=\"masculino\", LOWER(Tabla3[[#This Row],[SEXO]])=\"m\", LOWER(Tabla3[[#This Row],[SEXO]])=\"1\"), \"MASCULINO\",\n  IF(OR(LOWER(Tabla3[[#This Row],[SEXO]])=\"femenino\", LOWER(Tabla3[[#This Row],[SEXO]])=\"f\", LOWER(Tabla3[[#This Row],[SEXO]])=\"2\"), \"FEMENINO\",\n  \"\")), \"\")","v":""},0,null,null,null,0]
[{"$f":"IF(Tabla3[[#This Row],[APELLIDOS Y NOMBRES]]>0,ROW()-14,\"\")","v":""},{"$f":"IFERROR(IF(Tabla3[[#This Row],[APELLIDOS Y NOMBRES]]>0,VLOOKUP($H$7,DATA!$A$79:$B$160,2,FALSE),\"\"),\"\")","v":""},null,null,null,null,null,{"$f":"((NOW()-Tabla3[[#This Row],[FECHA DE NACIMIENTO]])/365)-0.5","v":124.79767625317098},null,null,null,null,null,null,null,null,null,null,null,null,null,null,null,null,null,null,null,null,null,null,null,null,null,null,null,null,null,null,null,null,null,null,null,null,null,"",null,{"$f":"IFERROR(IF(OR(LOWER(Tabla3[[#This Row],[SEXO]])=\"masculino\", LOWER(Tabla3[[#This Row],[SEXO]])=\"m\", LOWER(Tabla3[[#This Row],[SEXO]])=\"1\"), \"MASCULINO\",\n  IF(OR(LOWER(Tabla3[[#This Row],[SEXO]])=\"femenino\", LOWER(Tabla3[[#This Row],[SEXO]])=\"f\", LOWER(Tabla3[[#This Row],[SEXO]])=\"2\"), \"FEMENINO\",\n  \"\")), \"\")","v":""},0,null,null,null,0]
[{"$f":"IF(Tabla3[[#This Row],[APELLIDOS Y NOMBRES]]>0,ROW()-14,\"\")","v":""},{"$f":"IFERROR(IF(Tabla3[[#This Row],[APELLIDOS Y NOMBRES]]>0,VLOOKUP($H$7,DATA!$A$79:$B$160,2,FALSE),\"\"),\"\")","v":""},null,null,null,null,null,{"$f":"((NOW()-Tabla3[[#This Row],[FECHA DE NACIMIENTO]])/365)-0.5","v":124.79767625317098},null,null,null,null,null,null,null,null,null,null,null,null,null,null,null,null,null,null,null,null,null,null,null,null,null,null,null,null,null,null,null,null,null,null,null,null,null,"",null,{"$f":"IFERROR(IF(OR(LOWER(Tabla3[[#This Row],[SEXO]])=\"masculino\", LOWER(Tabla3[[#This Row],[SEXO]])=\"m\", LOWER(Tabla3[[#This Row],[SEXO]])=\"1\"), \"MASCULINO\",\n  IF(OR(LOWER(Tabla3[[#This Row],[SEXO]])=\"femenino\", LOWER(Tabla3[[#This Row],[SEXO]])=\"f\", LOWER(Tabla3[[#This Row],[SEXO]])=\"2\"), \"FEMENINO\",\n  \"\")), \"\")","v":""},0,null,null,null,0]
[{"$f":"IF(Tabla3[[#This Row],[APELLIDOS Y NOMBRES]]>0,ROW()-14,\"\")","v":""},{"$f":"IFERROR(IF(Tabla3[[#This Row],[APELLIDOS Y NOMBRES]]>0,VLOOKUP($H$7,DATA!$A$79:$B$160,2,FALSE),\"\"),\"\")","v":""},null,null,null,null,null,{"$f":"((NOW()-Tabla3[[#This Row],[FECHA DE NACIMIENTO]])/365)-0.5","v":124.79767625317098},null,null,null,null,null,null,null,null,null,null,null,null,null,null,null,null,null,null,null,null,null,null,null,null,null,null,null,null,null,null,null,null,null,null,null,null,null,"",null,{"$f":"IFERROR(IF(OR(LOWER(Tabla3[[#This Row],[SEXO]])=\"masculino\", LOWER(Tabla3[[#This Row],[SEXO]])=\"m\", LOWER(Tabla3[[#This Row],[SEXO]])=\"1\"), \"MASCULINO\",\n  IF(OR(LOWER(Tabla3[[#This Row],[SEXO]])=\"femenino\", LOWER(Tabla3[[#This Row],[SEXO]])=\"f\", LOWER(Tabla3[[#This Row],[SEXO]])=\"2\"), \"FEMENINO\",\n  \"\")), \"\")","v":""},0,null,null,null,0]
[{"$f":"IF(Tabla3[[#This Row],[APELLIDOS Y NOMBRES]]>0,ROW()-14,\"\")","v":""},{"$f":"IFERROR(IF(Tabla3[[#This Row],[APELLIDOS Y NOMBRES]]>0,VLOOKUP($H$7,DATA!$A$79:$B$160,2,FALSE),\"\"),\"\")","v":""},null,null,null,null,null,{"$f":"((NOW()-Tabla3[[#This Row],[FECHA DE NACIMIENTO]])/365)-0.5","v":124.79767625317098},null,null,null,null,null,null,null,null,null,null,null,null,null,null,null,null,null,null,null,null,null,null,null,null,null,null,null,null,null,null,null,null,null,null,null,null,null,"",null,{"$f":"IFERROR(IF(OR(LOWER(Tabla3[[#This Row],[SEXO]])=\"masculino\", LOWER(Tabla3[[#This Row],[SEXO]])=\"m\", LOWER(Tabla3[[#This Row],[SEXO]])=\"1\"), \"MASCULINO\",\n  IF(OR(LOWER(Tabla3[[#This Row],[SEXO]])=\"femenino\", LOWER(Tabla3[[#This Row],[SEXO]])=\"f\", LOWER(Tabla3[[#This Row],[SEXO]])=\"2\"), \"FEMENINO\",\n  \"\")), \"\")","v":""},0,null,null,null,0]
[{"$f":"IF(Tabla3[[#This Row],[APELLIDOS Y NOMBRES]]>0,ROW()-14,\"\")","v":""},{"$f":"IFERROR(IF(Tabla3[[#This Row],[APELLIDOS Y NOMBRES]]>0,VLOOKUP($H$7,DATA!$A$79:$B$160,2,FALSE),\"\"),\"\")","v":""},null,null,null,null,null,{"$f":"((NOW()-Tabla3[[#This Row],[FECHA DE NACIMIENTO]])/365)-0.5","v":124.79767625317098},null,null,null,null,null,null,null,null,null,null,null,null,null,null,null,null,null,null,null,null,null,null,null,null,null,null,null,null,null,null,null,null,null,null,null,null,null,"",null,{"$f":"IFERROR(IF(OR(LOWER(Tabla3[[#This Row],[SEXO]])=\"masculino\", LOWER(Tabla3[[#This Row],[SEXO]])=\"m\", LOWER(Tabla3[[#This Row],[SEXO]])=\"1\"), \"MASCULINO\",\n  IF(OR(LOWER(Tabla3[[#This Row],[SEXO]])=\"femenino\", LOWER(Tabla3[[#This Row],[SEXO]])=\"f\", LOWER(Tabla3[[#This Row],[SEXO]])=\"2\"), \"FEMENINO\",\n  \"\")), \"\")","v":""},0,null,null,null,0]
[{"$f":"IF(Tabla3[[#This Row],[APELLIDOS Y NOMBRES]]>0,ROW()-14,\"\")","v":""},{"$f":"IFERROR(IF(Tabla3[[#This Row],[APELLIDOS Y NOMBRES]]>0,VLOOKUP($H$7,DATA!$A$79:$B$160,2,FALSE),\"\"),\"\")","v":""},null,null,null,null,null,{"$f":"((NOW()-Tabla3[[#This Row],[FECHA DE NACIMIENTO]])/365)-0.5","v":124.79767625317098},null,null,null,null,null,null,null,null,null,null,null,null,null,null,null,null,null,null,null,null,null,null,null,null,null,null,null,null,null,null,null,null,null,null,null,null,null,"",null,{"$f":"IFERROR(IF(OR(LOWER(Tabla3[[#This Row],[SEXO]])=\"masculino\", LOWER(Tabla3[[#This Row],[SEXO]])=\"m\", LOWER(Tabla3[[#This Row],[SEXO]])=\"1\"), \"MASCULINO\",\n  IF(OR(LOWER(Tabla3[[#This Row],[SEXO]])=\"femenino\", LOWER(Tabla3[[#This Row],[SEXO]])=\"f\", LOWER(Tabla3[[#This Row],[SEXO]])=\"2\"), \"FEMENINO\",\n  \"\")), \"\")","v":""},0,null,null,null,0]
[{"$f":"IF(Tabla3[[#This Row],[APELLIDOS Y NOMBRES]]>0,ROW()-14,\"\")","v":""},{"$f":"IFERROR(IF(Tabla3[[#This Row],[APELLIDOS Y NOMBRES]]>0,VLOOKUP($H$7,DATA!$A$79:$B$160,2,FALSE),\"\"),\"\")","v":""},null,null,null,null,null,{"$f":"((NOW()-Tabla3[[#This Row],[FECHA DE NACIMIENTO]])/365)-0.5","v":124.79767625317098},null,null,null,null,null,null,null,null,null,null,null,null,null,null,null,null,null,null,null,null,null,null,null,null,null,null,null,null,null,null,null,null,null,null,null,null,null,"",null,{"$f":"IFERROR(IF(OR(LOWER(Tabla3[[#This Row],[SEXO]])=\"masculino\", LOWER(Tabla3[[#This Row],[SEXO]])=\"m\", LOWER(Tabla3[[#This Row],[SEXO]])=\"1\"), \"MASCULINO\",\n  IF(OR(LOWER(Tabla3[[#This Row],[SEXO]])=\"femenino\", LOWER(Tabla3[[#This Row],[SEXO]])=\"f\", LOWER(Tabla3[[#This Row],[SEXO]])=\"2\"), \"FEMENINO\",\n  \"\")), \"\")","v":""},0,null,null,null,0]
[{"$f":"IF(Tabla3[[#This Row],[APELLIDOS Y NOMBRES]]>0,ROW()-14,\"\")","v":""},{"$f":"IFERROR(IF(Tabla3[[#This Row],[APELLIDOS Y NOMBRES]]>0,VLOOKUP($H$7,DATA!$A$79:$B$160,2,FALSE),\"\"),\"\")","v":""},null,null,null,null,null,{"$f":"((NOW()-Tabla3[[#This Row],[FECHA DE NACIMIENTO]])/365)-0.5","v":124.79767625317098},null,null,null,null,null,null,null,null,null,null,null,null,null,null,null,null,null,null,null,null,null,null,null,null,null,null,null,null,null,null,null,null,null,null,null,null,null,"",null,{"$f":"IFERROR(IF(OR(LOWER(Tabla3[[#This Row],[SEXO]])=\"masculino\", LOWER(Tabla3[[#This Row],[SEXO]])=\"m\", LOWER(Tabla3[[#This Row],[SEXO]])=\"1\"), \"MASCULINO\",\n  IF(OR(LOWER(Tabla3[[#This Row],[SEXO]])=\"femenino\", LOWER(Tabla3[[#This Row],[SEXO]])=\"f\", LOWER(Tabla3[[#This Row],[SEXO]])=\"2\"), \"FEMENINO\",\n  \"\")), \"\")","v":""},0,null,null,null,0]
[{"$f":"IF(Tabla3[[#This Row],[APELLIDOS Y NOMBRES]]>0,ROW()-14,\"\")","v":""},{"$f":"IFERROR(IF(Tabla3[[#This Row],[APELLIDOS Y NOMBRES]]>0,VLOOKUP($H$7,DATA!$A$79:$B$160,2,FALSE),\"\"),\"\")","v":""},null,null,null,null,null,{"$f":"((NOW()-Tabla3[[#This Row],[FECHA DE NACIMIENTO]])/365)-0.5","v":124.79767625317098},null,null,null,null,null,null,null,null,null,null,null,null,null,null,null,null,null,null,null,null,null,null,null,null,null,null,null,null,null,null,null,null,null,null,null,null,null,"",null,{"$f":"IFERROR(IF(OR(LOWER(Tabla3[[#This Row],[SEXO]])=\"masculino\", LOWER(Tabla3[[#This Row],[SEXO]])=\"m\", LOWER(Tabla3[[#This Row],[SEXO]])=\"1\"), \"MASCULINO\",\n  IF(OR(LOWER(Tabla3[[#This Row],[SEXO]])=\"femenino\", LOWER(Tabla3[[#This Row],[SEXO]])=\"f\", LOWER(Tabla3[[#This Row],[SEXO]])=\"2\"), \"FEMENINO\",\n  \"\")), \"\")","v":""},0,null,null,null,0]
[{"$f":"IF(Tabla3[[#This Row],[APELLIDOS Y NOMBRES]]>0,ROW()-14,\"\")","v":""},{"$f":"IFERROR(IF(Tabla3[[#This Row],[APELLIDOS Y NOMBRES]]>0,VLOOKUP($H$7,DATA!$A$79:$B$160,2,FALSE),\"\"),\"\")","v":""},null,null,null,null,null,{"$f":"((NOW()-Tabla3[[#This Row],[FECHA DE NACIMIENTO]])/365)-0.5","v":124.79767625317098},null,null,null,null,null,null,null,null,null,null,null,null,null,null,null,null,null,null,null,null,null,null,null,null,null,null,null,null,null,null,null,null,null,null,null,null,null,"",null,{"$f":"IFERROR(IF(OR(LOWER(Tabla3[[#This Row],[SEXO]])=\"masculino\", LOWER(Tabla3[[#This Row],[SEXO]])=\"m\", LOWER(Tabla3[[#This Row],[SEXO]])=\"1\"), \"MASCULINO\",\n  IF(OR(LOWER(Tabla3[[#This Row],[SEXO]])=\"femenino\", LOWER(Tabla3[[#This Row],[SEXO]])=\"f\", LOWER(Tabla3[[#This Row],[SEXO]])=\"2\"), \"FEMENINO\",\n  \"\")), \"\")","v":""},0,null,null,null,0]
[{"$f":"IF(Tabla3[[#This Row],[APELLIDOS Y NOMBRES]]>0,ROW()-14,\"\")","v":""},{"$f":"IFERROR(IF(Tabla3[[#This Row],[APELLIDOS Y NOMBRES]]>0,VLOOKUP($H$7,DATA!$A$79:$B$160,2,FALSE),\"\"),\"\")","v":""},null,null,null,null,null,{"$f":"((NOW()-Tabla3[[#This Row],[FECHA DE NACIMIENTO]])/365)-0.5","v":124.79767625317098},null,null,null,null,null,null,null,null,null,null,null,null,null,null,null,null,null,null,null,null,null,null,null,null,null,null,null,null,null,null,null,null,null,null,null,null,null,"",null,{"$f":"IFERROR(IF(OR(LOWER(Tabla3[[#This Row],[SEXO]])=\"masculino\", LOWER(Tabla3[[#This Row],[SEXO]])=\"m\", LOWER(Tabla3[[#This Row],[SEXO]])=\"1\"), \"MASCULINO\",\n  IF(OR(LOWER(Tabla3[[#This Row],[SEXO]])=\"femenino\", LOWER(Tabla3[[#This Row],[SEXO]])=\"f\", LOWER(Tabla3[[#This Row],[SEXO]])=\"2\"), \"FEMENINO\",\n  \"\")), \"\")","v":""},0,null,null,null,0]
[{"$f":"IF(Tabla3[[#This Row],[APELLIDOS Y NOMBRES]]>0,ROW()-14,\"\")","v":""},{"$f":"IFERROR(IF(Tabla3[[#This Row],[APELLIDOS Y NOMBRES]]>0,VLOOKUP($H$7,DATA!$A$79:$B$160,2,FALSE),\"\"),\"\")","v":""},null,null,null,null,null,{"$f":"((NOW()-Tabla3[[#This Row],[FECHA DE NACIMIENTO]])/365)-0.5","v":124.79767625317098},null,null,null,null,null,null,null,null,null,null,null,null,null,null,null,null,null,null,null,null,null,null,null,null,null,null,null,null,null,null,null,null,null,null,null,null,null,"",null,{"$f":"IFERROR(IF(OR(LOWER(Tabla3[[#This Row],[SEXO]])=\"masculino\", LOWER(Tabla3[[#This Row],[SEXO]])=\"m\", LOWER(Tabla3[[#This Row],[SEXO]])=\"1\"), \"MASCULINO\",\n  IF(OR(LOWER(Tabla3[[#This Row],[SEXO]])=\"femenino\", LOWER(Tabla3[[#This Row],[SEXO]])=\"f\", LOWER(Tabla3[[#This Row],[SEXO]])=\"2\"), \"FEMENINO\",\n  \"\")), \"\")","v":""},0,null,null,null,0]
[{"$f":"IF(Tabla3[[#This Row],[APELLIDOS Y NOMBRES]]>0,ROW()-14,\"\")","v":""},{"$f":"IFERROR(IF(Tabla3[[#This Row],[APELLIDOS Y NOMBRES]]>0,VLOOKUP($H$7,DATA!$A$79:$B$160,2,FALSE),\"\"),\"\")","v":""},null,null,null,null,null,{"$f":"((NOW()-Tabla3[[#This Row],[FECHA DE NACIMIENTO]])/365)-0.5","v":124.79767625317098},null,null,null,null,null,null,null,null,null,null,null,null,null,null,null,null,null,null,null,null,null,null,null,null,null,null,null,null,null,null,null,null,null,null,null,null,null,"",null,{"$f":"IFERROR(IF(OR(LOWER(Tabla3[[#This Row],[SEXO]])=\"masculino\", LOWER(Tabla3[[#This Row],[SEXO]])=\"m\", LOWER(Tabla3[[#This Row],[SEXO]])=\"1\"), \"MASCULINO\",\n  IF(OR(LOWER(Tabla3[[#This Row],[SEXO]])=\"femenino\", LOWER(Tabla3[[#This Row],[SEXO]])=\"f\", LOWER(Tabla3[[#This Row],[SEXO]])=\"2\"), \"FEMENINO\",\n  \"\")), \"\")","v":""},0,null,null,null,0]
[{"$f":"IF(Tabla3[[#This Row],[APELLIDOS Y NOMBRES]]>0,ROW()-14,\"\")","v":""},{"$f":"IFERROR(IF(Tabla3[[#This Row],[APELLIDOS Y NOMBRES]]>0,VLOOKUP($H$7,DATA!$A$79:$B$160,2,FALSE),\"\"),\"\")","v":""},null,null,null,null,null,{"$f":"((NOW()-Tabla3[[#This Row],[FECHA DE NACIMIENTO]])/365)-0.5","v":124.79767625317098},null,null,null,null,null,null,null,null,null,null,null,null,null,null,null,null,null,null,null,null,null,null,null,null,null,null,null,null,null,null,null,null,null,null,null,null,null,"",null,{"$f":"IFERROR(IF(OR(LOWER(Tabla3[[#This Row],[SEXO]])=\"masculino\", LOWER(Tabla3[[#This Row],[SEXO]])=\"m\", LOWER(Tabla3[[#This Row],[SEXO]])=\"1\"), \"MASCULINO\",\n  IF(OR(LOWER(Tabla3[[#This Row],[SEXO]])=\"femenino\", LOWER(Tabla3[[#This Row],[SEXO]])=\"f\", LOWER(Tabla3[[#This Row],[SEXO]])=\"2\"), \"FEMENINO\",\n  \"\")), \"\")","v":""},0,null,null,null,0]
[{"$f":"IF(Tabla3[[#This Row],[APELLIDOS Y NOMBRES]]>0,ROW()-14,\"\")","v":""},{"$f":"IFERROR(IF(Tabla3[[#This Row],[APELLIDOS Y NOMBRES]]>0,VLOOKUP($H$7,DATA!$A$79:$B$160,2,FALSE),\"\"),\"\")","v":""},null,null,null,null,null,{"$f":"((NOW()-Tabla3[[#This Row],[FECHA DE NACIMIENTO]])/365)-0.5","v":124.79767625317098},null,null,null,null,null,null,null,null,null,null,null,null,null,null,null,null,null,null,null,null,null,null,null,null,null,null,null,null,null,null,null,null,null,null,null,null,null,"",null,{"$f":"IFERROR(IF(OR(LOWER(Tabla3[[#This Row],[SEXO]])=\"masculino\", LOWER(Tabla3[[#This Row],[SEXO]])=\"m\", LOWER(Tabla3[[#This Row],[SEXO]])=\"1\"), \"MASCULINO\",\n  IF(OR(LOWER(Tabla3[[#This Row],[SEXO]])=\"femenino\", LOWER(Tabla3[[#This Row],[SEXO]])=\"f\", LOWER(Tabla3[[#This Row],[SEXO]])=\"2\"), \"FEMENINO\",\n  \"\")), \"\")","v":""},0,null,null,null,0]
[{"$f":"IF(Tabla3[[#This Row],[APELLIDOS Y NOMBRES]]>0,ROW()-14,\"\")","v":""},{"$f":"IFERROR(IF(Tabla3[[#This Row],[APELLIDOS Y NOMBRES]]>0,VLOOKUP($H$7,DATA!$A$79:$B$160,2,FALSE),\"\"),\"\")","v":""},null,null,null,null,null,{"$f":"((NOW()-Tabla3[[#This Row],[FECHA DE NACIMIENTO]])/365)-0.5","v":124.79767625317098},null,null,null,null,null,null,null,null,null,null,null,null,null,null,null,null,null,null,null,null,null,null,null,null,null,null,null,null,null,null,null,null,null,null,null,null,null,"",null,{"$f":"IFERROR(IF(OR(LOWER(Tabla3[[#This Row],[SEXO]])=\"masculino\", LOWER(Tabla3[[#This Row],[SEXO]])=\"m\", LOWER(Tabla3[[#This Row],[SEXO]])=\"1\"), \"MASCULINO\",\n  IF(OR(LOWER(Tabla3[[#This Row],[SEXO]])=\"femenino\", LOWER(Tabla3[[#This Row],[SEXO]])=\"f\", LOWER(Tabla3[[#This Row],[SEXO]])=\"2\"), \"FEMENINO\",\n  \"\")), \"\")","v":""},0,null,null,null,0]
[{"$f":"IF(Tabla3[[#This Row],[APELLIDOS Y NOMBRES]]>0,ROW()-14,\"\")","v":""},{"$f":"IFERROR(IF(Tabla3[[#This Row],[APELLIDOS Y NOMBRES]]>0,VLOOKUP($H$7,DATA!$A$79:$B$160,2,FALSE),\"\"),\"\")","v":""},null,null,null,null,null,{"$f":"((NOW()-Tabla3[[#This Row],[FECHA DE NACIMIENTO]])/365)-0.5","v":124.79767625317098},null,null,null,null,null,null,null,null,null,null,null,null,null,null,null,null,null,null,null,null,null,null,null,null,null,null,null,null,null,null,null,null,null,null,null,null,null,"",null,{"$f":"IFERROR(IF(OR(LOWER(Tabla3[[#This Row],[SEXO]])=\"masculino\", LOWER(Tabla3[[#This Row],[SEXO]])=\"m\", LOWER(Tabla3[[#This Row],[SEXO]])=\"1\"), \"MASCULINO\",\n  IF(OR(LOWER(Tabla3[[#This Row],[SEXO]])=\"femenino\", LOWER(Tabla3[[#This Row],[SEXO]])=\"f\", LOWER(Tabla3[[#This Row],[SEXO]])=\"2\"), \"FEMENINO\",\n  \"\")), \"\")","v":""},0,null,null,null,0]
[{"$f":"IF(Tabla3[[#This Row],[APELLIDOS Y NOMBRES]]>0,ROW()-14,\"\")","v":""},{"$f":"IFERROR(IF(Tabla3[[#This Row],[APELLIDOS Y NOMBRES]]>0,VLOOKUP($H$7,DATA!$A$79:$B$160,2,FALSE),\"\"),\"\")","v":""},null,null,null,null,null,{"$f":"((NOW()-Tabla3[[#This Row],[FECHA DE NACIMIENTO]])/365)-0.5","v":124.79767625317098},null,null,null,null,null,null,null,null,null,null,null,null,null,null,null,null,null,null,null,null,null,null,null,null,null,null,null,null,null,null,null,null,null,null,null,null,null,"",null,{"$f":"IFERROR(IF(OR(LOWER(Tabla3[[#This Row],[SEXO]])=\"masculino\", LOWER(Tabla3[[#This Row],[SEXO]])=\"m\", LOWER(Tabla3[[#This Row],[SEXO]])=\"1\"), \"MASCULINO\",\n  IF(OR(LOWER(Tabla3[[#This Row],[SEXO]])=\"femenino\", LOWER(Tabla3[[#This Row],[SEXO]])=\"f\", LOWER(Tabla3[[#This Row],[SEXO]])=\"2\"), \"FEMENINO\",\n  \"\")), \"\")","v":""},0,null,null,null,0]
[{"$f":"IF(Tabla3[[#This Row],[APELLIDOS Y NOMBRES]]>0,ROW()-14,\"\")","v":""},{"$f":"IFERROR(IF(Tabla3[[#This Row],[APELLIDOS Y NOMBRES]]>0,VLOOKUP($H$7,DATA!$A$79:$B$160,2,FALSE),\"\"),\"\")","v":""},null,null,null,null,null,{"$f":"((NOW()-Tabla3[[#This Row],[FECHA DE NACIMIENTO]])/365)-0.5","v":124.79767625317098},null,null,null,null,null,null,null,null,null,null,null,null,null,null,null,null,null,null,null,null,null,null,null,null,null,null,null,null,null,null,null,null,null,null,null,null,null,"",null,{"$f":"IFERROR(IF(OR(LOWER(Tabla3[[#This Row],[SEXO]])=\"masculino\", LOWER(Tabla3[[#This Row],[SEXO]])=\"m\", LOWER(Tabla3[[#This Row],[SEXO]])=\"1\"), \"MASCULINO\",\n  IF(OR(LOWER(Tabla3[[#This Row],[SEXO]])=\"femenino\", LOWER(Tabla3[[#This Row],[SEXO]])=\"f\", LOWER(Tabla3[[#This Row],[SEXO]])=\"2\"), \"FEMENINO\",\n  \"\")), \"\")","v":""},0,null,null,null,0]
[{"$f":"IF(Tabla3[[#This Row],[APELLIDOS Y NOMBRES]]>0,ROW()-14,\"\")","v":""},{"$f":"IFERROR(IF(Tabla3[[#This Row],[APELLIDOS Y NOMBRES]]>0,VLOOKUP($H$7,DATA!$A$79:$B$160,2,FALSE),\"\"),\"\")","v":""},null,null,null,null,null,{"$f":"((NOW()-Tabla3[[#This Row],[FECHA DE NACIMIENTO]])/365)-0.5","v":124.79767625317098},null,null,null,null,null,null,null,null,null,null,null,null,null,null,null,null,null,null,null,null,null,null,null,null,null,null,null,null,null,null,null,null,null,null,null,null,null,"",null,{"$f":"IFERROR(IF(OR(LOWER(Tabla3[[#This Row],[SEXO]])=\"masculino\", LOWER(Tabla3[[#This Row],[SEXO]])=\"m\", LOWER(Tabla3[[#This Row],[SEXO]])=\"1\"), \"MASCULINO\",\n  IF(OR(LOWER(Tabla3[[#This Row],[SEXO]])=\"femenino\", LOWER(Tabla3[[#This Row],[SEXO]])=\"f\", LOWER(Tabla3[[#This Row],[SEXO]])=\"2\"), \"FEMENINO\",\n  \"\")), \"\")","v":""},0,null,null,null,0]
[{"$f":"IF(Tabla3[[#This Row],[APELLIDOS Y NOMBRES]]>0,ROW()-14,\"\")","v":""},{"$f":"IFERROR(IF(Tabla3[[#This Row],[APELLIDOS Y NOMBRES]]>0,VLOOKUP($H$7,DATA!$A$79:$B$160,2,FALSE),\"\"),\"\")","v":""},null,null,null,null,null,{"$f":"((NOW()-Tabla3[[#This Row],[FECHA DE NACIMIENTO]])/365)-0.5","v":124.79767625317098},null,null,null,null,null,null,null,null,null,null,null,null,null,null,null,null,null,null,null,null,null,null,null,null,null,null,null,null,null,null,null,null,null,null,null,null,null,"",null,{"$f":"IFERROR(IF(OR(LOWER(Tabla3[[#This Row],[SEXO]])=\"masculino\", LOWER(Tabla3[[#This Row],[SEXO]])=\"m\", LOWER(Tabla3[[#This Row],[SEXO]])=\"1\"), \"MASCULINO\",\n  IF(OR(LOWER(Tabla3[[#This Row],[SEXO]])=\"femenino\", LOWER(Tabla3[[#This Row],[SEXO]])=\"f\", LOWER(Tabla3[[#This Row],[SEXO]])=\"2\"), \"FEMENINO\",\n  \"\")), \"\")","v":""},0,null,null,null,0]
[{"$f":"IF(Tabla3[[#This Row],[APELLIDOS Y NOMBRES]]>0,ROW()-14,\"\")","v":""},{"$f":"IFERROR(IF(Tabla3[[#This Row],[APELLIDOS Y NOMBRES]]>0,VLOOKUP($H$7,DATA!$A$79:$B$160,2,FALSE),\"\"),\"\")","v":""},null,null,null,null,null,{"$f":"((NOW()-Tabla3[[#This Row],[FECHA DE NACIMIENTO]])/365)-0.5","v":124.79767625317098},null,null,null,null,null,null,null,null,null,null,null,null,null,null,null,null,null,null,null,null,null,null,null,null,null,null,null,null,null,null,null,null,null,null,null,null,null,"",null,{"$f":"IFERROR(IF(OR(LOWER(Tabla3[[#This Row],[SEXO]])=\"masculino\", LOWER(Tabla3[[#This Row],[SEXO]])=\"m\", LOWER(Tabla3[[#This Row],[SEXO]])=\"1\"), \"MASCULINO\",\n  IF(OR(LOWER(Tabla3[[#This Row],[SEXO]])=\"femenino\", LOWER(Tabla3[[#This Row],[SEXO]])=\"f\", LOWER(Tabla3[[#This Row],[SEXO]])=\"2\"), \"FEMENINO\",\n  \"\")), \"\")","v":""},0,null,null,null,0]
[{"$f":"IF(Tabla3[[#This Row],[APELLIDOS Y NOMBRES]]>0,ROW()-14,\"\")","v":""},{"$f":"IFERROR(IF(Tabla3[[#This Row],[APELLIDOS Y NOMBRES]]>0,VLOOKUP($H$7,DATA!$A$79:$B$160,2,FALSE),\"\"),\"\")","v":""},null,null,null,null,null,{"$f":"((NOW()-Tabla3[[#This Row],[FECHA DE NACIMIENTO]])/365)-0.5","v":124.79767625317098},null,null,null,null,null,null,null,null,null,null,null,null,null,null,null,null,null,null,null,null,null,null,null,null,null,null,null,null,null,null,null,null,null,null,null,null,null,"",null,{"$f":"IFERROR(IF(OR(LOWER(Tabla3[[#This Row],[SEXO]])=\"masculino\", LOWER(Tabla3[[#This Row],[SEXO]])=\"m\", LOWER(Tabla3[[#This Row],[SEXO]])=\"1\"), \"MASCULINO\",\n  IF(OR(LOWER(Tabla3[[#This Row],[SEXO]])=\"femenino\", LOWER(Tabla3[[#This Row],[SEXO]])=\"f\", LOWER(Tabla3[[#This Row],[SEXO]])=\"2\"), \"FEMENINO\",\n  \"\")), \"\")","v":""},0,null,null,null,0]
[{"$f":"IF(Tabla3[[#This Row],[APELLIDOS Y NOMBRES]]>0,ROW()-14,\"\")","v":""},{"$f":"IFERROR(IF(Tabla3[[#This Row],[APELLIDOS Y NOMBRES]]>0,VLOOKUP($H$7,DATA!$A$79:$B$160,2,FALSE),\"\"),\"\")","v":""},null,null,null,null,null,{"$f":"((NOW()-Tabla3[[#This Row],[FECHA DE NACIMIENTO]])/365)-0.5","v":124.79767625317098},null,null,null,null,null,null,null,null,null,null,null,null,null,null,null,null,null,null,null,null,null,null,null,null,null,null,null,null,null,null,null,null,null,null,null,null,null,"",null,{"$f":"IFERROR(IF(OR(LOWER(Tabla3[[#This Row],[SEXO]])=\"masculino\", LOWER(Tabla3[[#This Row],[SEXO]])=\"m\", LOWER(Tabla3[[#This Row],[SEXO]])=\"1\"), \"MASCULINO\",\n  IF(OR(LOWER(Tabla3[[#This Row],[SEXO]])=\"femenino\", LOWER(Tabla3[[#This Row],[SEXO]])=\"f\", LOWER(Tabla3[[#This Row],[SEXO]])=\"2\"), \"FEMENINO\",\n  \"\")), \"\")","v":""},0,null,null,null,0]
[{"$f":"IF(Tabla3[[#This Row],[APELLIDOS Y NOMBRES]]>0,ROW()-14,\"\")","v":""},{"$f":"IFERROR(IF(Tabla3[[#This Row],[APELLIDOS Y NOMBRES]]>0,VLOOKUP($H$7,DATA!$A$79:$B$160,2,FALSE),\"\"),\"\")","v":""},null,null,null,null,null,{"$f":"((NOW()-Tabla3[[#This Row],[FECHA DE NACIMIENTO]])/365)-0.5","v":124.79767625317098},null,null,null,null,null,null,null,null,null,null,null,null,null,null,null,null,null,null,null,null,null,null,null,null,null,null,null,null,null,null,null,null,null,null,null,null,null,"",null,{"$f":"IFERROR(IF(OR(LOWER(Tabla3[[#This Row],[SEXO]])=\"masculino\", LOWER(Tabla3[[#This Row],[SEXO]])=\"m\", LOWER(Tabla3[[#This Row],[SEXO]])=\"1\"), \"MASCULINO\",\n  IF(OR(LOWER(Tabla3[[#This Row],[SEXO]])=\"femenino\", LOWER(Tabla3[[#This Row],[SEXO]])=\"f\", LOWER(Tabla3[[#This Row],[SEXO]])=\"2\"), \"FEMENINO\",\n  \"\")), \"\")","v":""},0,null,null,null,0]
[{"$f":"IF(Tabla3[[#This Row],[APELLIDOS Y NOMBRES]]>0,ROW()-14,\"\")","v":""},{"$f":"IFERROR(IF(Tabla3[[#This Row],[APELLIDOS Y NOMBRES]]>0,VLOOKUP($H$7,DATA!$A$79:$B$160,2,FALSE),\"\"),\"\")","v":""},null,null,null,null,null,{"$f":"((NOW()-Tabla3[[#This Row],[FECHA DE NACIMIENTO]])/365)-0.5","v":124.79767625317098},null,null,null,null,null,null,null,null,null,null,null,null,null,null,null,null,null,null,null,null,null,null,null,null,null,null,null,null,null,null,null,null,null,null,null,null,null,"",null,{"$f":"IFERROR(IF(OR(LOWER(Tabla3[[#This Row],[SEXO]])=\"masculino\", LOWER(Tabla3[[#This Row],[SEXO]])=\"m\", LOWER(Tabla3[[#This Row],[SEXO]])=\"1\"), \"MASCULINO\",\n  IF(OR(LOWER(Tabla3[[#This Row],[SEXO]])=\"femenino\", LOWER(Tabla3[[#This Row],[SEXO]])=\"f\", LOWER(Tabla3[[#This Row],[SEXO]])=\"2\"), \"FEMENINO\",\n  \"\")), \"\")","v":""},0,null,null,null,0]
[{"$f":"IF(Tabla3[[#This Row],[APELLIDOS Y NOMBRES]]>0,ROW()-14,\"\")","v":""},{"$f":"IFERROR(IF(Tabla3[[#This Row],[APELLIDOS Y NOMBRES]]>0,VLOOKUP($H$7,DATA!$A$79:$B$160,2,FALSE),\"\"),\"\")","v":""},null,null,null,null,null,{"$f":"((NOW()-Tabla3[[#This Row],[FECHA DE NACIMIENTO]])/365)-0.5","v":124.79767625317098},null,null,null,null,null,null,null,null,null,null,null,null,null,null,null,null,null,null,null,null,null,null,null,null,null,null,null,null,null,null,null,null,null,null,null,null,null,"",null,{"$f":"IFERROR(IF(OR(LOWER(Tabla3[[#This Row],[SEXO]])=\"masculino\", LOWER(Tabla3[[#This Row],[SEXO]])=\"m\", LOWER(Tabla3[[#This Row],[SEXO]])=\"1\"), \"MASCULINO\",\n  IF(OR(LOWER(Tabla3[[#This Row],[SEXO]])=\"femenino\", LOWER(Tabla3[[#This Row],[SEXO]])=\"f\", LOWER(Tabla3[[#This Row],[SEXO]])=\"2\"), \"FEMENINO\",\n  \"\")), \"\")","v":""},0,null,null,null,0]
[{"$f":"IF(Tabla3[[#This Row],[APELLIDOS Y NOMBRES]]>0,ROW()-14,\"\")","v":""},{"$f":"IFERROR(IF(Tabla3[[#This Row],[APELLIDOS Y NOMBRES]]>0,VLOOKUP($H$7,DATA!$A$79:$B$160,2,FALSE),\"\"),\"\")","v":""},null,null,null,null,null,{"$f":"((NOW()-Tabla3[[#This Row],[FECHA DE NACIMIENTO]])/365)-0.5","v":124.79767625317098},null,null,null,null,null,null,null,null,null,null,null,null,null,null,null,null,null,null,null,null,null,null,null,null,null,null,null,null,null,null,null,null,null,null,null,null,null,"",null,{"$f":"IFERROR(IF(OR(LOWER(Tabla3[[#This Row],[SEXO]])=\"masculino\", LOWER(Tabla3[[#This Row],[SEXO]])=\"m\", LOWER(Tabla3[[#This Row],[SEXO]])=\"1\"), \"MASCULINO\",\n  IF(OR(LOWER(Tabla3[[#This Row],[SEXO]])=\"femenino\", LOWER(Tabla3[[#This Row],[SEXO]])=\"f\", LOWER(Tabla3[[#This Row],[SEXO]])=\"2\"), \"FEMENINO\",\n  \"\")), \"\")","v":""},0,null,null,null,0]

{"sheet":"DATA","index":1,"n_rows":193,"n_cols":33,"rows_kept":193,"cut":false,"hidden":true,"merged":[[58,13,58,14],[59,13,59,14],[60,13,60,14],[52,13,52,14],[53,13,53,14],[54,13,54,14],[55,13,55,14],[56,13,56,14],[57,13,57,14],[51,13,51,14],[40,13,40,14],[41,13,41,14],[42,13,42,14],[43,13,43,14],[44,13,44,14],[45,13,45,14],[46,13,46,14],[47,13,47,14],[48,13,48,14],[49,13,49,14],[50,13,50,14],[39,13,39,14],[34,13,34,14],[35,13,35,14],[36,13,36,14],[37,13,37,14],[38,13,38,14]]}
["SIJU",null,null,"CHICLAYO","LIMA","AREQUIPA","HUANCAYO","HUANUCO","CUSCO","SANMARTIN","PUNO",null,"ENERO",null,null,"PTI_P","PTI_P","PTI_S","PTI_S","POPE_ANTIGUA","POPE_ANTIGUA",null,null,"INDUCCION","INTERVENCIÓN_GRAL","DROGAS","OTROS","INDUCCION_ADAPTACION","INTERVENCIÓN_GENERAL","INTERVENCIÓN_ESPECIALIZADA","PROGRAMACIÓN","NO_DIFERENCIADA","ESPECIALIZADA"]
["PROCESADO",null,null," E.P. DE TUMBES"," E.P. DE HUARAZ "," E.P. DE AREQUIPA"," E.P. DE HUANCAYO  "," E.P. DE HUANUCO  "," E.P. DE ABANCAY  "," E.P. DE MOYOBAMBA"," E.P. DE PUNO",null,"FEBRERO",null,null,"INDUCCION_Y_ADAPTACION_AL_REGIMEN_PENITENCIARIO","INDUCCION","INDUCCION_Y_ADAPTACION_AL_REGIMEN_PENITENCIARIO","INDUCCION_ADAPTACION","INTERVENCION_ESPECIALIZADA","ESPECIALIZADA",null,null,"ADAPTACION AL REGIMEN PENITENCIARIO","INTERVENCIÓN PREVENTIVA","INTERVENCIÓN PARA CONSUMIDORES DE DROGAS",null,"ADAPTACIÓN AL REGIMEN PENITENCIARIO","INTERVENCIÓN PREVENTIVA","PROGRAMA PARA CONSUMO DE DROGAS",null,null,"PIM - C/L/S"]
["SENTENCIADO",null,null," E.P. PIURA "," E.P. DE CHIMBOTE"," E.P. MUJERES DE AREQUIPA"," E.P. MUJERES DE CONCEPCIÓN"," E.P. DE COCHAMARCA"," E.P. DE ANDAHUAYLAS  "," E.P. DE JUANJUI"," E.P. DE LAMPA",null,"MARZO",null,null,"INTERVENCIÓN_GENERAL","INTERVENCIÓN_GRAL","INTERVENCIÓN_GENERAL","INTERVENCIÓN_GENERAL","NO_DIFERENCIADA","NO_DIFERENCIADA",null,null,null,"DESARROLLO O FORTALECIMIENTO EN HABILIDADES PERSONALES",null,null,null,"DESARROLLO PERSONAL O FORTALECIMIENTO EN HABILIDADES SOCIALES","PIM - C/L/S",null,null,"PIM - C/ PATRIMONIO"]
[null,null,null," E.P. DE SULLANA"," E.P. DEL CALLAO"," E.P. CAMANA  "," E.P. DE CHANCHAMAYO"," E.P. DE CERRO PASCO "," E.P. DE CUSCO "," E.P. DE TARAPOTO"," E.P. JULIACA",null,"ABRIL",null,null,"CONSUMO_DE_DROGAS","DROGAS","INTERVENCIÓN_ESPECIALIZADA","INTERVENCIÓN_ESPECIALIZADA",null,null,null,null,null,"SOPORTE FAMILIAR",null,null,null,"SOPORTE FAMILIAR","PIM - C/ PATRIMONIO",null,null,"PIM - C/V/C/S"]
["GENERO",null,null," E.P. DE CHICLAYO"," E.P. MUJERES DE CHORRILLOS"," E.P. DE MOQUEGUA "," E.P. DE JAUJA"," E.P. DE PUCALLPA"," E.P. MUJERES DEL CUSCO"," E.P. DE SANANGUILLO"," E.P. DE CHALLAPALCA",null,"MAYO",null,null,"OTROS_RELEVANTES","OTROS","PROGRAMACIÓN_SOBRE_NECESIDADES_DE_INTERVENCIÓN_COMPLEMENTARIA","PROGRAMACIÓN",null,null,null,null,null,"TIEMPO LIBRE Y OCIO",null,null,null,"TIEMPO LIBRE Y OCIO","PIM - C/V/C/S",null,null,"PIM - C/MUJER E INTEGRANTES DEL GRUPO FAMILIAR"]
["Masculino",null,null," E.P. DE TRUJILLO"," E.P. ANEXO DE MUJERES CHORRILLOS "," E.P. DE TACNA"," E.P. DE RIO NEGRO",null," E.P. SICUANI"," E.P. DE IQUITOS",null,null,"JUNIO",null,null,null,null,null,null,null,null,null,null,null,null,null,null,null,null,"PIM - C/MUJER E INTEGRANTES DEL GRUPO FAMILIAR",null,null,"PIM - OTROS DELITOS"]
["Femenino",null,null," E.P. MUJERES DE TRUJILLO "," E.P. DE LURIGANCHO"," E.P. MUJERES DE TACNA"," E.P. DE TARMA  ",null," E.P. QUILLABAMBA"," E.P. MUJERES DE IQUITOS",null,null,"JULIO",null,null,null,null,null,null,null,null,null,null,null,null,null,null,null,null,"PIM - OTROS DELITOS"]
[null,null,null," E.P. DE PACASMAYO"," E.P. MIGUEL CASTRO CASTRO",null," E.P. DE LA OROYA",null," E.P. DE PTO. MALDONADO"," E.P. DE YURIMAGUAS",null,null,"AGOSTO"]
["ESTADO CIVIL",null,null," E.P. DE CAJAMARCA"," E.P. DE CHINCHA",null," E.P. DE HUANCAVELICA",null,null," E.P. DE CHACHAPOYAS",null,null,"SETIEMBRE"]
["CONVIVIENTE",null,null," E.P. DE CHOTA"," E.P. VIRGEN DE FATIMA",null," E.P. DE AYACUCHO",null,null," E.P. DE BAGUA GRANDE",null,null,"OCTUBRE"]
["CASADO",null,null," E.P. DE JAEN "," E.P. DE ANCON",null," E.P. DE HUANTA",null,null,null,null,null,"NOVIEMBRE",null,null,null,null,null,"PTI_ELAB","COD_PTI_ELAB",null,"COD_PTI_EP","COD_PTIS","COD_PTIP","COD_POPE"]
["VIUDO",null,null," E.P. DE SAN IGNACIO  "," E.P. DE BARBADILLO",null,null,null,null,null,null,null,"DICIEMBRE",null,null,null,null,null,"PTI_EN_PROCESO","COD_PTI_EP",null,103,102,101,104]
["DIVORCIADO",null,null,null," E.P. DE ANCON II ",null,null,null,null,null,null,null,null,null,null,null,null,null,"PTI_P","COD_PTIP",null,104,104,104,106]
["SEPARADO",null,null,null," E.P. VIRGEN DE LA MERCED",null,null,null,null,null,null,null,null,null,null,null,null,null,"PTI_S","COD_PTIS",null,106,105,105,107]
["SOLTERO",null,null,null," E.P. DE HUACHO           ",null,null,null,null,null,null,null,null,null,null,null,null,null,"POPE_ANTIGUA","COD_POPE",null,107,106,106,108]
["NO ESPECIFICA",null,null,null," E.P. DE CAÑETE",null,null,null,null,null,null,null,null,null,null,null,null,null,null,null,null,108,107,107,109]
[null,null,null,null," E.P. DE HUARAL",null,null,null,null,null,null,null,null,null,null,null,null,null,null,null,null,109,108,108,201]
[null,null,null,null," E.P. DE ICA ",null,null,null,null,null,null,null,null,null,null,null,null,null,null,null,null,201,109,109,202]
[null,null,null,null,null,null,null,null,null,null,null,null,null,null,null,null,null,null,null,null,null,202,201,201,203]
[null,null,null,null,null,null,null,null,null,null,null,null,null,null,null,null,null,null,null,null,null,203,202,202,204]
["ASISTENCIA EN ACTIVIDADES","SEXO","MASCULINO","FEMENINO","REGIMEN","Tipo de Atención","Atenciones","Atención_Grupal","INTERVENCIÓN_ESPECIALIZADA_PIM","RCE","RCO","PTI_ELAB","PTI_EN_PROCESO","PTI-P","PTI-S","POPE_ANTIGUA","PADRE",null,null,null,null,204,203,203,205]
["LIBERTAD","HOMBRE","ADULTO MAYOR","ADULTO MAYOR","RCE","SOLO INDIVIDUAL","ELABORACIÓN DEL PTI-P","SÓLO INTERNOS","C/V/C/S","A","MÍNIMA SEGURIDAD","PTI_EN_PROCESO",null,"INDUCCION_Y_ADAPTACION_AL_REGIMEN_PENITENCIARIO","INDUCCION_Y_ADAPTACION_AL_REGIMEN_PENITENCIARIO","INTERVENCION_ESPECIALIZADA","PADRE RECLUIDO",null,null,null,null,205,204,204,206]
["PRESENTE","MUJER","PERSONA CON DISCAPACIDAD","PERSONA CON DISCAPACIDAD","RCO","SOLO GRUPAL","ELABORACIÓN DEL PTI-S","FAMILIA E INTERNOS","C/PATRIMONIO","B","MEDIANA SEGURIDAD","PTI_P",null,"INTERVENCIÓN_GENERAL","INTERVENCIÓN_GENERAL","NO_DIFERENCIADA","PADRE FALLECIDO",null,null,null,null,206,205,205,207]
["RETIRADO",null,"COMUNIDAD INDIGENA","COMUNIDAD INDIGENA",null,"GRUPAL E INDIVIDUAL","FICHA PSICOSOCIAL","SÓLO FAMILIARES","C/L/S","C","MÁXIMA SEGURIDAD","PTI_S",null,"CONSUMO_DE_DROGAS","INTERVENCIÓN_ESPECIALIZADA",null,"PADRE QUE VISITA A SU HIJO/A",null,null,null,null,207,206,206,208]
["TRASLADADO",null,"COMUNIDAD CAMPESINA","COMUNIDAD CAMPESINA",null,null,"EVALUACIÓN INICIAL/ESTUDIO INTEGRAL","FALTÓ","MAYOR COMPROMISO CRIMINÓGENO",null,null,"POPE_ANTIGUA",null,"OTROS_RELEVANTES","PROGRAMACIÓN_SOBRE_NECESIDADES_DE_INTERVENCIÓN_COMPLEMENTARIA",null,"PADRE QUE ABANDONA A SU HIJO/A",null,null,null,null,208,207,207,209]
["FALTO",null,"COMUNIDAD NATIVA","COMUNIDAD NATIVA",null,null,"EVALUACIÓN ANUAL DEL PTI","RETIRADO","C/MUJER E INTEGRANTES DEL GRUPO FAMILIAR",null,null,null,null,null,null,null,null,null,null,null,null,209,208,208,210]
[null,null,"PSIQUIÁTRICO","PSIQUIÁTRICO",null,null,"INTERVENCIÓN SOCIAL CON EL INTERNO",null,"OTROS",null,null,null,null,null,null,null,null,null,null,null,null,210,209,209,211]
["ESTUDIOS",null,"ESN-PCT","GESTANTE",null,null,"INTERVENCIÓN SOCIAL CON LA FAMILIA DEL INTERNO",null,null,null,null,null,null,null,null,null,null,null,null,null,null,211,210,210,212]
["TRABAJADOR SOCIAL",null,"PERSONA LGTBIQ","MADRE CON HIJO/A MENOR",null,null,"VISITA FAMILIAR DOMICILIARIA",null,null,null,null,null,null,null,null,null,null,null,null,null,null,212,211,211,301]
["ESTUDIANTE",null,"EXTRANJERO","ESN-PCT",null,null,"VISITA HOSPITALARIA",null,null,null,null,null,null,null,null,null,null,null,null,null,null,301,212,212,302]
["OTRO",null,"PERSONA AFRODESCENDIENTE","PERSONA LGTBIQ",null,null,"INFORME DE SEMILIBERTAD",null,null,null,null,null,null,null,null,null,null,null,null,null,null,302,301,301,303]
[null,null,"NO EVIDENCIA","EXTRANJERO",null,null,"INFORME DE LIBERACIÓN CONDICIONAL",null,null,null,null,null,null,null,null,null,null,null,null,null,null,303,302,302,304]
[null,null,null,"PERSONA AFRODESCENDIENTE",null,null,"INFORME DE VISITA ÍNTIMA",null,null,null,null,null,null,null,null,null,null,null,null,null,null,304,303,303,305]
[null,null,null,"NO EVIDENCIA",null,null,"INFORME DE VISITA FAMILIAR",null,null,null,null,null,"COD_ATE",null,null,"hombre","mujer","total",null,null,null,305,304,304,306]
["CARGO",null,null,null,null,null,"INFORME DE AD HONOREM",null,null,null,null,null,101,"ELABORACIÓN DEL PTI-P",null,{"$f":"(COUNTIFS('BD-SOC'!$P$15:$P$30015,DATA!M35,'BD-SOC'!$E$15:$E$30015,\"masculino\")+\nCOUNTIFS('BD-SOC'!$P$15:$P$30015,DATA!M35,'BD-SOC'!$E$15:$E$30015,\"hombre\")+\nCOUNTIFS('BD-SOC'!$P$15:$P$30015,DATA!M35,'BD-SOC'!$E$15:$E$30015,\"m\")+\nCOUNTIFS('BD-SOC'!$P$15:$P$30015,DATA!M35,'BD-SOC'!$E$15:$E$30015,\"h\"))\n+\n(COUNTIFS('BD-SOC'!$R$15:$R$30015,DATA!M35,'BD-SOC'!$E$15:$E$30015,\"masculino\")+\nCOUNTIFS('BD-SOC'!$R$15:$R$30015,DATA!M35,'BD-SOC'!$E$15:$E$30015,\"hombre\")+\nCOUNTIFS('BD-SOC'!$R$15:$R$30015,DATA!M35,'BD-SOC'!$E$15:$E$30015,\"m\")+\nCOUNTIFS('BD-SOC'!$R$15:$R$30015,DATA!M35,'BD-SOC'!$E$15:$E$30015,\"h\"))\n+\n(COUNTIFS('BD-SOC'!$T$15:$T$30015,DATA!M35,'BD-SOC'!$E$15:$E$30015,\"masculino\")+\nCOUNTIFS('BD-SOC'!$T$15:$T$30015,DATA!M35,'BD-SOC'!$E$15:$E$30015,\"hombre\")+\nCOUNTIFS('BD-SOC'!$T$15:$T$30015,DATA!M35,'BD-SOC'!$E$15:$E$30015,\"m\")+\nCOUNTIFS('BD-SOC'!$T$15:$T$30015,DATA!M35,'BD-SOC'!$E$15:$E$30015,\"h\"))\n+\n(COUNTIFS('BD-SOC'!$V$15:$V$30015,DATA!M35,'BD-SOC'!$E$15:$E$30015,\"masculino\")+\nCOUNTIFS('BD-SOC'!$V$15:$V$30015,DATA!M35,'BD-SOC'!$E$15:$E$30015,\"hombre\")+\nCOUNTIFS('BD-SOC'!$V$15:$V$30015,DATA!M35,'BD-SOC'!$E$15:$E$30015,\"m\")+\nCOUNTIFS('BD-SOC'!$V$15:$V$30015,DATA!M35,'BD-SOC'!$E$15:$E$30015,\"h\"))\n+\n(COUNTIFS('BD-SOC'!$X$15:$X$30015,DATA!M35,'BD-SOC'!$E$15:$E$30015,\"masculino\")+\nCOUNTIFS('BD-SOC'!$X$15:$X$30015,DATA!M35,'BD-SOC'!$E$15:$E$30015,\"hombre\")+\nCOUNTIFS('BD-SOC'!$X$15:$X$30015,DATA!M35,'BD-SOC'!$E$15:$E$30015,\"m\")+\nCOUNTIFS('BD-SOC'!$X$15:$X$30015,DATA!M35,'BD-SOC'!$E$15:$E$30015,\"h\"))\n+\n(COUNTIFS('BD-SOC'!$Z$15:$Z$30015,DATA!M35,'BD-SOC'!$E$15:$E$30015,\"masculino\")+\nCOUNTIFS('BD-SOC'!$Z$15:$Z$30015,DATA!M35,'BD-SOC'!$E$15:$E$30015,\"hombre\")+\nCOUNTIFS('BD-SOC'!$Z$15:$Z$30015,DATA!M35,'BD-SOC'!$E$15:$E$30015,\"m\")+\nCOUNTIFS('BD-SOC'!$Z$15:$Z$30015,DATA!M35,'BD-SOC'!$E$15:$E$30015,\"h\"))\n+\n(COUNTIFS('BD-SOC'!$AB$15:$AB$30015,DATA!M35,'BD-SOC'!$E$15:$E$30015,\"masculino\")+\nCOUNTIFS('BD-SOC'!$AB$15:$AB$30015,DATA!M35,'BD-SOC'!$E$15:$E$30015,\"hombre\")+\nCOUNTIFS('BD-SOC'!$AB$15:$AB$30015,DATA!M35,'BD-SOC'!$E$15:$E$30015,\"m\")+\nCOUNTIFS('BD-SOC'!$AB$15:$AB$30015,DATA!M35,'BD-SOC'!$E$15:$E$30015,\"h\"))","v":0},{"$f":"(COUNTIFS('BD-SOC'!$P$15:$P$30015,DATA!M35,'BD-SOC'!$E$15:$E$30015,\"femenino\")+\nCOUNTIFS('BD-SOC'!$P$15:$P$30015,DATA!M35,'BD-SOC'!$E$15:$E$30015,\"mujer\")+\nCOUNTIFS('BD-SOC'!$P$15:$P$30015,DATA!M35,'BD-SOC'!$E$15:$E$30015,\"f\"))\n+\n(COUNTIFS('BD-SOC'!$R$15:$R$30015,DATA!M35,'BD-SOC'!$E$15:$E$30015,\"femenino\")+\nCOUNTIFS('BD-SOC'!$R$15:$R$30015,DATA!M35,'BD-SOC'!$E$15:$E$30015,\"mujer\")+\nCOUNTIFS('BD-SOC'!$R$15:$R$30015,DATA!M35,'BD-SOC'!$E$15:$E$30015,\"f\"))\n+\n(COUNTIFS('BD-SOC'!$T$15:$T$30015,DATA!M35,'BD-SOC'!$E$15:$E$30015,\"femenino\")+\nCOUNTIFS('BD-SOC'!$T$15:$T$30015,DATA!M35,'BD-SOC'!$E$15:$E$30015,\"mujer\")+\nCOUNTIFS('BD-SOC'!$T$15:$T$30015,DATA!M35,'BD-SOC'!$E$15:$E$30015,\"f\"))\n+\n(COUNTIFS('BD-SOC'!$V$15:$V$30015,DATA!M35,'BD-SOC'!$E$15:$E$30015,\"femenino\")+\nCOUNTIFS('BD-SOC'!$V$15:$V$30015,DATA!M35,'BD-SOC'!$E$15:$E$30015,\"mujer\")+\nCOUNTIFS('BD-SOC'!$V$15:$V$30015,DATA!M35,'BD-SOC'!$E$15:$E$30015,\"f\"))\n+\n(COUNTIFS('BD-SOC'!$X$15:$X$30015,DATA!M35,'BD-SOC'!$E$15:$E$30015,\"femenino\")+\nCOUNTIFS('BD-SOC'!$X$15:$X$30015,DATA!M35,'BD-SOC'!$E$15:$E$30015,\"mujer\")+\nCOUNTIFS('BD-SOC'!$X$15:$X$30015,DATA!M35,'BD-SOC'!$E$15:$E$30015,\"f\"))\n+\n(COUNTIFS('BD-SOC'!$Z$15:$Z$30015,DATA!M35,'BD-SOC'!$E$15:$E$30015,\"femenino\")+\nCOUNTIFS('BD-SOC'!$Z$15:$Z$30015,DATA!M35,'BD-SOC'!$E$15:$E$30015,\"mujer\")+\nCOUNTIFS('BD-SOC'!$Z$15:$Z$30015,DATA!M35,'BD-SOC'!$E$15:$E$30015,\"f\"))\n+\n(COUNTIFS('BD-SOC'!$AB$15:$AB$30015,DATA!M35,'BD-SOC'!$E$15:$E$30015,\"femenino\")+\nCOUNTIFS('BD-SOC'!$AB$15:$AB$30015,DATA!M35,'BD-SOC'!$E$15:$E$30015,\"mujer\")+\nCOUNTIFS('BD-SOC'!$AB$15:$AB$30015,DATA!M35,'BD-SOC'!$E$15:$E$30015,\"f\"))","v":0},null,null,null,null,306,305,305]
["COORDINADOR DE ÁREA",null,null,null,null,null,"INFORMES DE AMPLIACIÓN",null,null,null,null,null,102,"ELABORACIÓN DEL PTI-S",null,{"$f":"(COUNTIFS('BD-SOC'!$P$15:$P$30015,DATA!M36,'BD-SOC'!$E$15:$E$30015,\"masculino\")+\nCOUNTIFS('BD-SOC'!$P$15:$P$30015,DATA!M36,'BD-SOC'!$E$15:$E$30015,\"hombre\")+\nCOUNTIFS('BD-SOC'!$P$15:$P$30015,DATA!M36,'BD-SOC'!$E$15:$E$30015,\"m\")+\nCOUNTIFS('BD-SOC'!$P$15:$P$30015,DATA!M36,'BD-SOC'!$E$15:$E$30015,\"h\"))\n+\n(COUNTIFS('BD-SOC'!$R$15:$R$30015,DATA!M36,'BD-SOC'!$E$15:$E$30015,\"masculino\")+\nCOUNTIFS('BD-SOC'!$R$15:$R$30015,DATA!M36,'BD-SOC'!$E$15:$E$30015,\"hombre\")+\nCOUNTIFS('BD-SOC'!$R$15:$R$30015,DATA!M36,'BD-SOC'!$E$15:$E$30015,\"m\")+\nCOUNTIFS('BD-SOC'!$R$15:$R$30015,DATA!M36,'BD-SOC'!$E$15:$E$30015,\"h\"))\n+\n(COUNTIFS('BD-SOC'!$T$15:$T$30015,DATA!M36,'BD-SOC'!$E$15:$E$30015,\"masculino\")+\nCOUNTIFS('BD-SOC'!$T$15:$T$30015,DATA!M36,'BD-SOC'!$E$15:$E$30015,\"hombre\")+\nCOUNTIFS('BD-SOC'!$T$15:$T$30015,DATA!M36,'BD-SOC'!$E$15:$E$30015,\"m\")+\nCOUNTIFS('BD-SOC'!$T$15:$T$30015,DATA!M36,'BD-SOC'!$E$15:$E$30015,\"h\"))\n+\n(COUNTIFS('BD-SOC'!$V$15:$V$30015,DATA!M36,'BD-SOC'!$E$15:$E$30015,\"masculino\")+\nCOUNTIFS('BD-SOC'!$V$15:$V$30015,DATA!M36,'BD-SOC'!$E$15:$E$30015,\"hombre\")+\nCOUNTIFS('BD-SOC'!$V$15:$V$30015,DATA!M36,'BD-SOC'!$E$15:$E$30015,\"m\")+\nCOUNTIFS('BD-SOC'!$V$15:$V$30015,DATA!M36,'BD-SOC'!$E$15:$E$30015,\"h\"))\n+\n(COUNTIFS('BD-SOC'!$X$15:$X$30015,DATA!M36,'BD-SOC'!$E$15:$E$30015,\"masculino\")+\nCOUNTIFS('BD-SOC'!$X$15:$X$30015,DATA!M36,'BD-SOC'!$E$15:$E$30015,\"hombre\")+\nCOUNTIFS('BD-SOC'!$X$15:$X$30015,DATA!M36,'BD-SOC'!$E$15:$E$30015,\"m\")+\nCOUNTIFS('BD-SOC'!$X$15:$X$30015,DATA!M36,'BD-SOC'!$E$15:$E$30015,\"h\"))\n+\n(COUNTIFS('BD-SOC'!$Z$15:$Z$30015,DATA!M36,'BD-SOC'!$E$15:$E$30015,\"masculino\")+\nCOUNTIFS('BD-SOC'!$Z$15:$Z$30015,DATA!M36,'BD-SOC'!$E$15:$E$30015,\"hombre\")+\nCOUNTIFS('BD-SOC'!$Z$15:$Z$30015,DATA!M36,'BD-SOC'!$E$15:$E$30015,\"m\")+\nCOUNTIFS('BD-SOC'!$Z$15:$Z$30015,DATA!M36,'BD-SOC'!$E$15:$E$30015,\"h\"))\n+\n(COUNTIFS('BD-SOC'!$AB$15:$AB$30015,DATA!M36,'BD-SOC'!$E$15:$E$30015,\"masculino\")+\nCOUNTIFS('BD-SOC'!$AB$15:$AB$30015,DATA!M36,'BD-SOC'!$E$15:$E$30015,\"hombre\")+\nCOUNTIFS('BD-SOC'!$AB$15:$AB$30015,DATA!M36,'BD-SOC'!$E$15:$E$30015,\"m\")+\nCOUNTIFS('BD-SOC'!$AB$15:$AB$30015,DATA!M36,'BD-SOC'!$E$15:$E$30015,\"h\"))","v":0},{"$f":"(COUNTIFS('BD-SOC'!$P$15:$P$30015,DATA!M36,'BD-SOC'!$E$15:$E$30015,\"femenino\")+\nCOUNTIFS('BD-SOC'!$P$15:$P$30015,DATA!M36,'BD-SOC'!$E$15:$E$30015,\"mujer\")+\nCOUNTIFS('BD-SOC'!$P$15:$P$30015,DATA!M36,'BD-SOC'!$E$15:$E$30015,\"f\"))\n+\n(COUNTIFS('BD-SOC'!$R$15:$R$30015,DATA!M36,'BD-SOC'!$E$15:$E$30015,\"femenino\")+\nCOUNTIFS('BD-SOC'!$R$15:$R$30015,DATA!M36,'BD-SOC'!$E$15:$E$30015,\"mujer\")+\nCOUNTIFS('BD-SOC'!$R$15:$R$30015,DATA!M36,'BD-SOC'!$E$15:$E$30015,\"f\"))\n+\n(COUNTIFS('BD-SOC'!$T$15:$T$30015,DATA!M36,'BD-SOC'!$E$15:$E$30015,\"femenino\")+\nCOUNTIFS('BD-SOC'!$T$15:$T$30015,DATA!M36,'BD-SOC'!$E$15:$E$30015,\"mujer\")+\nCOUNTIFS('BD-SOC'!$T$15:$T$30015,DATA!M36,'BD-SOC'!$E$15:$E$30015,\"f\"))\n+\n(COUNTIFS('BD-SOC'!$V$15:$V$30015,DATA!M36,'BD-SOC'!$E$15:$E$30015,\"femenino\")+\nCOUNTIFS('BD-SOC'!$V$15:$V$30015,DATA!M36,'BD-SOC'!$E$15:$E$30015,\"mujer\")+\nCOUNTIFS('BD-SOC'!$V$15:$V$30015,DATA!M36,'BD-SOC'!$E$15:$E$30015,\"f\"))\n+\n(COUNTIFS('BD-SOC'!$X$15:$X$30015,DATA!M36,'BD-SOC'!$E$15:$E$30015,\"femenino\")+\nCOUNTIFS('BD-SOC'!$X$15:$X$30015,DATA!M36,'BD-SOC'!$E$15:$E$30015,\"mujer\")+\nCOUNTIFS('BD-SOC'!$X$15:$X$30015,DATA!M36,'BD-SOC'!$E$15:$E$30015,\"f\"))\n+\n(COUNTIFS('BD-SOC'!$Z$15:$Z$30015,DATA!M36,'BD-SOC'!$E$15:$E$30015,\"femenino\")+\nCOUNTIFS('BD-SOC'!$Z$15:$Z$30015,DATA!M36,'BD-SOC'!$E$15:$E$30015,\"mujer\")+\nCOUNTIFS('BD-SOC'!$Z$15:$Z$30015,DATA!M36,'BD-SOC'!$E$15:$E$30015,\"f\"))\n+\n(COUNTIFS('BD-SOC'!$AB$15:$AB$30015,DATA!M36,'BD-SOC'!$E$15:$E$30015,\"femenino\")+\nCOUNTIFS('BD-SOC'!$AB$15:$AB$30015,DATA!M36,'BD-SOC'!$E$15:$E$30015,\"mujer\")+\nCOUNTIFS('BD-SOC'!$AB$15:$AB$30015,DATA!M36,'BD-SOC'!$E$15:$E$30015,\"f\"))","v":0},null,null,null,null,null,306,306]
["TRAB. SOCIAL DE POPE",null,null,null,null,null,"INFORME PARA VIGILANCIA ELECTRÓNICA",null,null,null,null,null,103,"FICHA PSICOSOCIAL",null,{"$f":"(COUNTIFS('BD-SOC'!$P$15:$P$30015,DATA!M37,'BD-SOC'!$E$15:$E$30015,\"masculino\")+\nCOUNTIFS('BD-SOC'!$P$15:$P$30015,DATA!M37,'BD-SOC'!$E$15:$E$30015,\"hombre\")+\nCOUNTIFS('BD-SOC'!$P$15:$P$30015,DATA!M37,'BD-SOC'!$E$15:$E$30015,\"m\")+\nCOUNTIFS('BD-SOC'!$P$15:$P$30015,DATA!M37,'BD-SOC'!$E$15:$E$30015,\"h\"))\n+\n(COUNTIFS('BD-SOC'!$R$15:$R$30015,DATA!M37,'BD-SOC'!$E$15:$E$30015,\"masculino\")+\nCOUNTIFS('BD-SOC'!$R$15:$R$30015,DATA!M37,'BD-SOC'!$E$15:$E$30015,\"hombre\")+\nCOUNTIFS('BD-SOC'!$R$15:$R$30015,DATA!M37,'BD-SOC'!$E$15:$E$30015,\"m\")+\nCOUNTIFS('BD-SOC'!$R$15:$R$30015,DATA!M37,'BD-SOC'!$E$15:$E$30015,\"h\"))\n+\n(COUNTIFS('BD-SOC'!$T$15:$T$30015,DATA!M37,'BD-SOC'!$E$15:$E$30015,\"masculino\")+\nCOUNTIFS('BD-SOC'!$T$15:$T$30015,DATA!M37,'BD-SOC'!$E$15:$E$30015,\"hombre\")+\nCOUNTIFS('BD-SOC'!$T$15:$T$30015,DATA!M37,'BD-SOC'!$E$15:$E$30015,\"m\")+\nCOUNTIFS('BD-SOC'!$T$15:$T$30015,DATA!M37,'BD-SOC'!$E$15:$E$30015,\"h\"))\n+\n(COUNTIFS('BD-SOC'!$V$15:$V$30015,DATA!M37,'BD-SOC'!$E$15:$E$30015,\"masculino\")+\nCOUNTIFS('BD-SOC'!$V$15:$V$30015,DATA!M37,'BD-SOC'!$E$15:$E$30015,\"hombre\")+\nCOUNTIFS('BD-SOC'!$V$15:$V$30015,DATA!M37,'BD-SOC'!$E$15:$E$30015,\"m\")+\nCOUNTIFS('BD-SOC'!$V$15:$V$30015,DATA!M37,'BD-SOC'!$E$15:$E$30015,\"h\"))\n+\n(COUNTIFS('BD-SOC'!$X$15:$X$30015,DATA!M37,'BD-SOC'!$E$15:$E$30015,\"masculino\")+\nCOUNTIFS('BD-SOC'!$X$15:$X$30015,DATA!M37,'BD-SOC'!$E$15:$E$30015,\"hombre\")+\nCOUNTIFS('BD-SOC'!$X$15:$X$30015,DATA!M37,'BD-SOC'!$E$15:$E$30015,\"m\")+\nCOUNTIFS('BD-SOC'!$X$15:$X$30015,DATA!M37,'BD-SOC'!$E$15:$E$30015,\"h\"))\n+\n(COUNTIFS('BD-SOC'!$Z$15:$Z$30015,DATA!M37,'BD-SOC'!$E$15:$E$30015,\"masculino\")+\nCOUNTIFS('BD-SOC'!$Z$15:$Z$30015,DATA!M37,'BD-SOC'!$E$15:$E$30015,\"hombre\")+\nCOUNTIFS('BD-SOC'!$Z$15:$Z$30015,DATA!M37,'BD-SOC'!$E$15:$E$30015,\"m\")+\nCOUNTIFS('BD-SOC'!$Z$15:$Z$30015,DATA!M37,'BD-SOC'!$E$15:$E$30015,\"h\"))\n+\n(COUNTIFS('BD-SOC'!$AB$15:$AB$30015,DATA!M37,'BD-SOC'!$E$15:$E$30015,\"masculino\")+\nCOUNTIFS('BD-SOC'!$AB$15:$AB$30015,DATA!M37,'BD-SOC'!$E$15:$E$30015,\"hombre\")+\nCOUNTIFS('BD-SOC'!$AB$15:$AB$30015,DATA!M37,'BD-SOC'!$E$15:$E$30015,\"m\")+\nCOUNTIFS('BD-SOC'!$AB$15:$AB$30015,DATA!M37,'BD-SOC'!$E$15:$E$30015,\"h\"))","v":0},{"$f":"(COUNTIFS('BD-SOC'!$P$15:$P$30015,DATA!M37,'BD-SOC'!$E$15:$E$30015,\"femenino\")+\nCOUNTIFS('BD-SOC'!$P$15:$P$30015,DATA!M37,'BD-SOC'!$E$15:$E$30015,\"mujer\")+\nCOUNTIFS('BD-SOC'!$P$15:$P$30015,DATA!M37,'BD-SOC'!$E$15:$E$30015,\"f\"))\n+\n(COUNTIFS('BD-SOC'!$R$15:$R$30015,DATA!M37,'BD-SOC'!$E$15:$E$30015,\"femenino\")+\nCOUNTIFS('BD-SOC'!$R$15:$R$30015,DATA!M37,'BD-SOC'!$E$15:$E$30015,\"mujer\")+\nCOUNTIFS('BD-SOC'!$R$15:$R$30015,DATA!M37,'BD-SOC'!$E$15:$E$30015,\"f\"))\n+\n(COUNTIFS('BD-SOC'!$T$15:$T$30015,DATA!M37,'BD-SOC'!$E$15:$E$30015,\"femenino\")+\nCOUNTIFS('BD-SOC'!$T$15:$T$30015,DATA!M37,'BD-SOC'!$E$15:$E$30015,\"mujer\")+\nCOUNTIFS('BD-SOC'!$T$15:$T$30015,DATA!M37,'BD-SOC'!$E$15:$E$30015,\"f\"))\n+\n(COUNTIFS('BD-SOC'!$V$15:$V$30015,DATA!M37,'BD-SOC'!$E$15:$E$30015,\"femenino\")+\nCOUNTIFS('BD-SOC'!$V$15:$V$30015,DATA!M37,'BD-SOC'!$E$15:$E$30015,\"mujer\")+\nCOUNTIFS('BD-SOC'!$V$15:$V$30015,DATA!M37,'BD-SOC'!$E$15:$E$30015,\"f\"))\n+\n(COUNTIFS('BD-SOC'!$X$15:$X$30015,DATA!M37,'BD-SOC'!$E$15:$E$30015,\"femenino\")+\nCOUNTIFS('BD-SOC'!$X$15:$X$30015,DATA!M37,'BD-SOC'!$E$15:$E$30015,\"mujer\")+\nCOUNTIFS('BD-SOC'!$X$15:$X$30015,DATA!M37,'BD-SOC'!$E$15:$E$30015,\"f\"))\n+\n(COUNTIFS('BD-SOC'!$Z$15:$Z$30015,DATA!M37,'BD-SOC'!$E$15:$E$30015,\"femenino\")+\nCOUNTIFS('BD-SOC'!$Z$15:$Z$30015,DATA!M37,'BD-SOC'!$E$15:$E$30015,\"mujer\")+\nCOUNTIFS('BD-SOC'!$Z$15:$Z$30015,DATA!M37,'BD-SOC'!$E$15:$E$30015,\"f\"))\n+\n(COUNTIFS('BD-SOC'!$AB$15:$AB$30015,DATA!M37,'BD-SOC'!$E$15:$E$30015,\"femenino\")+\nCOUNTIFS('BD-SOC'!$AB$15:$AB$30015,DATA!M37,'BD-SOC'!$E$15:$E$30015,\"mujer\")+\nCOUNTIFS('BD-SOC'!$AB$15:$AB$30015,DATA!M37,'BD-SOC'!$E$15:$E$30015,\"f\"))","v":0}]
["APOYO ADMINISTRATIVO",null,null,null,null,null,"INFORME DE TRASLADO POR UNIDAD FAMILIAR",null,null,null,null,null,104,"APLICACIÓN DE INSTRUMENTO DE EVALUACIÓN",null,{"$f":"(COUNTIFS('BD-SOC'!$P$15:$P$30015,DATA!M38,'BD-SOC'!$E$15:$E$30015,\"masculino\")+\nCOUNTIFS('BD-SOC'!$P$15:$P$30015,DATA!M38,'BD-SOC'!$E$15:$E$30015,\"hombre\")+\nCOUNTIFS('BD-SOC'!$P$15:$P$30015,DATA!M38,'BD-SOC'!$E$15:$E$30015,\"m\")+\nCOUNTIFS('BD-SOC'!$P$15:$P$30015,DATA!M38,'BD-SOC'!$E$15:$E$30015,\"h\"))\n+\n(COUNTIFS('BD-SOC'!$R$15:$R$30015,DATA!M38,'BD-SOC'!$E$15:$E$30015,\"masculino\")+\nCOUNTIFS('BD-SOC'!$R$15:$R$30015,DATA!M38,'BD-SOC'!$E$15:$E$30015,\"hombre\")+\nCOUNTIFS('BD-SOC'!$R$15:$R$30015,DATA!M38,'BD-SOC'!$E$15:$E$30015,\"m\")+\nCOUNTIFS('BD-SOC'!$R$15:$R$30015,DATA!M38,'BD-SOC'!$E$15:$E$30015,\"h\"))\n+\n(COUNTIFS('BD-SOC'!$T$15:$T$30015,DATA!M38,'BD-SOC'!$E$15:$E$30015,\"masculino\")+\nCOUNTIFS('BD-SOC'!$T$15:$T$30015,DATA!M38,'BD-SOC'!$E$15:$E$30015,\"hombre\")+\nCOUNTIFS('BD-SOC'!$T$15:$T$30015,DATA!M38,'BD-SOC'!$E$15:$E$30015,\"m\")+\nCOUNTIFS('BD-SOC'!$T$15:$T$30015,DATA!M38,'BD-SOC'!$E$15:$E$30015,\"h\"))\n+\n(COUNTIFS('BD-SOC'!$V$15:$V$30015,DATA!M38,'BD-SOC'!$E$15:$E$30015,\"masculino\")+\nCOUNTIFS('BD-SOC'!$V$15:$V$30015,DATA!M38,'BD-SOC'!$E$15:$E$30015,\"hombre\")+\nCOUNTIFS('BD-SOC'!$V$15:$V$30015,DATA!M38,'BD-SOC'!$E$15:$E$30015,\"m\")+\nCOUNTIFS('BD-SOC'!$V$15:$V$30015,DATA!M38,'BD-SOC'!$E$15:$E$30015,\"h\"))\n+\n(COUNTIFS('BD-SOC'!$X$15:$X$30015,DATA!M38,'BD-SOC'!$E$15:$E$30015,\"masculino\")+\nCOUNTIFS('BD-SOC'!$X$15:$X$30015,DATA!M38,'BD-SOC'!$E$15:$E$30015,\"hombre\")+\nCOUNTIFS('BD-SOC'!$X$15:$X$30015,DATA!M38,'BD-SOC'!$E$15:$E$30015,\"m\")+\nCOUNTIFS('BD-SOC'!$X$15:$X$30015,DATA!M38,'BD-SOC'!$E$15:$E$30015,\"h\"))\n+\n(COUNTIFS('BD-SOC'!$Z$15:$Z$30015,DATA!M38,'BD-SOC'!$E$15:$E$30015,\"masculino\")+\nCOUNTIFS('BD-SOC'!$Z$15:$Z$30015,DATA!M38,'BD-SOC'!$E$15:$E$30015,\"hombre\")+\nCOUNTIFS('BD-SOC'!$Z$15:$Z$30015,DATA!M38,'BD-SOC'!$E$15:$E$30015,\"m\")+\nCOUNTIFS('BD-SOC'!$Z$15:$Z$30015,DATA!M38,'BD-SOC'!$E$15:$E$30015,\"h\"))\n+\n(COUNTIFS('BD-SOC'!$AB$15:$AB$30015,DATA!M38,'BD-SOC'!$E$15:$E$30015,\"masculino\")+\nCOUNTIFS('BD-SOC'!$AB$15:$AB$30015,DATA!M38,'BD-SOC'!$E$15:$E$30015,\"hombre\")+\nCOUNTIFS('BD-SOC'!$AB$15:$AB$30015,DATA!M38,'BD-SOC'!$E$15:$E$30015,\"m\")+\nCOUNTIFS('BD-SOC'!$AB$15:$AB$30015,DATA!M38,'BD-SOC'!$E$15:$E$30015,\"h\"))","v":0},{"$f":"(COUNTIFS('BD-SOC'!$P$15:$P$30015,DATA!M38,'BD-SOC'!$E$15:$E$30015,\"femenino\")+\nCOUNTIFS('BD-SOC'!$P$15:$P$30015,DATA!M38,'BD-SOC'!$E$15:$E$30015,\"mujer\")+\nCOUNTIFS('BD-SOC'!$P$15:$P$30015,DATA!M38,'BD-SOC'!$E$15:$E$30015,\"f\"))\n+\n(COUNTIFS('BD-SOC'!$R$15:$R$30015,DATA!M38,'BD-SOC'!$E$15:$E$30015,\"femenino\")+\nCOUNTIFS('BD-SOC'!$R$15:$R$30015,DATA!M38,'BD-SOC'!$E$15:$E$30015,\"mujer\")+\nCOUNTIFS('BD-SOC'!$R$15:$R$30015,DATA!M38,'BD-SOC'!$E$15:$E$30015,\"f\"))\n+\n(COUNTIFS('BD-SOC'!$T$15:$T$30015,DATA!M38,'BD-SOC'!$E$15:$E$30015,\"femenino\")+\nCOUNTIFS('BD-SOC'!$T$15:$T$30015,DATA!M38,'BD-SOC'!$E$15:$E$30015,\"mujer\")+\nCOUNTIFS('BD-SOC'!$T$15:$T$30015,DATA!M38,'BD-SOC'!$E$15:$E$30015,\"f\"))\n+\n(COUNTIFS('BD-SOC'!$V$15:$V$30015,DATA!M38,'BD-SOC'!$E$15:$E$30015,\"femenino\")+\nCOUNTIFS('BD-SOC'!$V$15:$V$30015,DATA!M38,'BD-SOC'!$E$15:$E$30015,\"mujer\")+\nCOUNTIFS('BD-SOC'!$V$15:$V$30015,DATA!M38,'BD-SOC'!$E$15:$E$30015,\"f\"))\n+\n(COUNTIFS('BD-SOC'!$X$15:$X$30015,DATA!M38,'BD-SOC'!$E$15:$E$30015,\"femenino\")+\nCOUNTIFS('BD-SOC'!$X$15:$X$30015,DATA!M38,'BD-SOC'!$E$15:$E$30015,\"mujer\")+\nCOUNTIFS('BD-SOC'!$X$15:$X$30015,DATA!M38,'BD-SOC'!$E$15:$E$30015,\"f\"))\n+\n(COUNTIFS('BD-SOC'!$Z$15:$Z$30015,DATA!M38,'BD-SOC'!$E$15:$E$30015,\"femenino\")+\nCOUNTIFS('BD-SOC'!$Z$15:$Z$30015,DATA!M38,'BD-SOC'!$E$15:$E$30015,\"mujer\")+\nCOUNTIFS('BD-SOC'!$Z$15:$Z$30015,DATA!M38,'BD-SOC'!$E$15:$E$30015,\"f\"))\n+\n(COUNTIFS('BD-SOC'!$AB$15:$AB$30015,DATA!M38,'BD-SOC'!$E$15:$E$30015,\"femenino\")+\nCOUNTIFS('BD-SOC'!$AB$15:$AB$30015,DATA!M38,'BD-SOC'!$E$15:$E$30015,\"mujer\")+\nCOUNTIFS('BD-SOC'!$AB$15:$AB$30015,DATA!M38,'BD-SOC'!$E$15:$E$30015,\"f\"))","v":0}]
["PRACTICANTE PRE-PROFESIONAL",null,null,null,null,null,"INFORME DE GRACIAS PRESIDENCIALES POR RAZONES HUMANITARIAS",null,null,null,null,null,105,"EVALUACIÓN ANUAL DEL PTI",null,{"$f":"(COUNTIFS('BD-SOC'!$P$15:$P$30015,DATA!M39,'BD-SOC'!$E$15:$E$30015,\"masculino\")+\nCOUNTIFS('BD-SOC'!$P$15:$P$30015,DATA!M39,'BD-SOC'!$E$15:$E$30015,\"hombre\")+\nCOUNTIFS('BD-SOC'!$P$15:$P$30015,DATA!M39,'BD-SOC'!$E$15:$E$30015,\"m\")+\nCOUNTIFS('BD-SOC'!$P$15:$P$30015,DATA!M39,'BD-SOC'!$E$15:$E$30015,\"h\"))\n+\n(COUNTIFS('BD-SOC'!$R$15:$R$30015,DATA!M39,'BD-SOC'!$E$15:$E$30015,\"masculino\")+\nCOUNTIFS('BD-SOC'!$R$15:$R$30015,DATA!M39,'BD-SOC'!$E$15:$E$30015,\"hombre\")+\nCOUNTIFS('BD-SOC'!$R$15:$R$30015,DATA!M39,'BD-SOC'!$E$15:$E$30015,\"m\")+\nCOUNTIFS('BD-SOC'!$R$15:$R$30015,DATA!M39,'BD-SOC'!$E$15:$E$30015,\"h\"))\n+\n(COUNTIFS('BD-SOC'!$T$15:$T$30015,DATA!M39,'BD-SOC'!$E$15:$E$30015,\"masculino\")+\nCOUNTIFS('BD-SOC'!$T$15:$T$30015,DATA!M39,'BD-SOC'!$E$15:$E$30015,\"hombre\")+\nCOUNTIFS('BD-SOC'!$T$15:$T$30015,DATA!M39,'BD-SOC'!$E$15:$E$30015,\"m\")+\nCOUNTIFS('BD-SOC'!$T$15:$T$30015,DATA!M39,'BD-SOC'!$E$15:$E$30015,\"h\"))\n+\n(COUNTIFS('BD-SOC'!$V$15:$V$30015,DATA!M39,'BD-SOC'!$E$15:$E$30015,\"masculino\")+\nCOUNTIFS('BD-SOC'!$V$15:$V$30015,DATA!M39,'BD-SOC'!$E$15:$E$30015,\"hombre\")+\nCOUNTIFS('BD-SOC'!$V$15:$V$30015,DATA!M39,'BD-SOC'!$E$15:$E$30015,\"m\")+\nCOUNTIFS('BD-SOC'!$V$15:$V$30015,DATA!M39,'BD-SOC'!$E$15:$E$30015,\"h\"))\n+\n(COUNTIFS('BD-SOC'!$X$15:$X$30015,DATA!M39,'BD-SOC'!$E$15:$E$30015,\"masculino\")+\nCOUNTIFS('BD-SOC'!$X$15:$X$30015,DATA!M39,'BD-SOC'!$E$15:$E$30015,\"hombre\")+\nCOUNTIFS('BD-SOC'!$X$15:$X$30015,DATA!M39,'BD-SOC'!$E$15:$E$30015,\"m\")+\nCOUNTIFS('BD-SOC'!$X$15:$X$30015,DATA!M39,'BD-SOC'!$E$15:$E$30015,\"h\"))\n+\n(COUNTIFS('BD-SOC'!$Z$15:$Z$30015,DATA!M39,'BD-SOC'!$E$15:$E$30015,\"masculino\")+\nCOUNTIFS('BD-SOC'!$Z$15:$Z$30015,DATA!M39,'BD-SOC'!$E$15:$E$30015,\"hombre\")+\nCOUNTIFS('BD-SOC'!$Z$15:$Z$30015,DATA!M39,'BD-SOC'!$E$15:$E$30015,\"m\")+\nCOUNTIFS('BD-SOC'!$Z$15:$Z$30015,DATA!M39,'BD-SOC'!$E$15:$E$30015,\"h\"))\n+\n(COUNTIFS('BD-SOC'!$AB$15:$AB$30015,DATA!M39,'BD-SOC'!$E$15:$E$30015,\"masculino\")+\nCOUNTIFS('BD-SOC'!$AB$15:$AB$30015,DATA!M39,'BD-SOC'!$E$15:$E$30015,\"hombre\")+\nCOUNTIFS('BD-SOC'!$AB$15:$AB$30015,DATA!M39,'BD-SOC'!$E$15:$E$30015,\"m\")+\nCOUNTIFS('BD-SOC'!$AB$15:$AB$30015,DATA!M39,'BD-SOC'!$E$15:$E$30015,\"h\"))","v":0},{"$f":"(COUNTIFS('BD-SOC'!$P$15:$P$30015,DATA!M39,'BD-SOC'!$E$15:$E$30015,\"femenino\")+\nCOUNTIFS('BD-SOC'!$P$15:$P$30015,DATA!M39,'BD-SOC'!$E$15:$E$30015,\"mujer\")+\nCOUNTIFS('BD-SOC'!$P$15:$P$30015,DATA!M39,'BD-SOC'!$E$15:$E$30015,\"f\"))\n+\n(COUNTIFS('BD-SOC'!$R$15:$R$30015,DATA!M39,'BD-SOC'!$E$15:$E$30015,\"femenino\")+\nCOUNTIFS('BD-SOC'!$R$15:$R$30015,DATA!M39,'BD-SOC'!$E$15:$E$30015,\"mujer\")+\nCOUNTIFS('BD-SOC'!$R$15:$R$30015,DATA!M39,'BD-SOC'!$E$15:$E$30015,\"f\"))\n+\n(COUNTIFS('BD-SOC'!$T$15:$T$30015,DATA!M39,'BD-SOC'!$E$15:$E$30015,\"femenino\")+\nCOUNTIFS('BD-SOC'!$T$15:$T$30015,DATA!M39,'BD-SOC'!$E$15:$E$30015,\"mujer\")+\nCOUNTIFS('BD-SOC'!$T$15:$T$30015,DATA!M39,'BD-SOC'!$E$15:$E$30015,\"f\"))\n+\n(COUNTIFS('BD-SOC'!$V$15:$V$30015,DATA!M39,'BD-SOC'!$E$15:$E$30015,\"femenino\")+\nCOUNTIFS('BD-SOC'!$V$15:$V$30015,DATA!M39,'BD-SOC'!$E$15:$E$30015,\"mujer\")+\nCOUNTIFS('BD-SOC'!$V$15:$V$30015,DATA!M39,'BD-SOC'!$E$15:$E$30015,\"f\"))\n+\n(COUNTIFS('BD-SOC'!$X$15:$X$30015,DATA!M39,'BD-SOC'!$E$15:$E$30015,\"femenino\")+\nCOUNTIFS('BD-SOC'!$X$15:$X$30015,DATA!M39,'BD-SOC'!$E$15:$E$30015,\"mujer\")+\nCOUNTIFS('BD-SOC'!$X$15:$X$30015,DATA!M39,'BD-SOC'!$E$15:$E$30015,\"f\"))\n+\n(COUNTIFS('BD-SOC'!$Z$15:$Z$30015,DATA!M39,'BD-SOC'!$E$15:$E$30015,\"femenino\")+\nCOUNTIFS('BD-SOC'!$Z$15:$Z$30015,DATA!M39,'BD-SOC'!$E$15:$E$30015,\"mujer\")+\nCOUNTIFS('BD-SOC'!$Z$15:$Z$30015,DATA!M39,'BD-SOC'!$E$15:$E$30015,\"f\"))\n+\n(COUNTIFS('BD-SOC'!$AB$15:$AB$30015,DATA!M39,'BD-SOC'!$E$15:$E$30015,\"femenino\")+\nCOUNTIFS('BD-SOC'!$AB$15:$AB$30015,DATA!M39,'BD-SOC'!$E$15:$E$30015,\"mujer\")+\nCOUNTIFS('BD-SOC'!$AB$15:$AB$30015,DATA!M39,'BD-SOC'!$E$15:$E$30015,\"f\"))","v":0}]
["PRACTICANTE PROFESIONAL",null,null,null,null,null,"INFORME SOCIO ECONÓMICO",null,null,null,null,null,106,"INTERVENCIÓN SOCIAL CON EL INTERNO",null,{"$f":"(COUNTIFS('BD-SOC'!$P$15:$P$30015,DATA!M40,'BD-SOC'!$E$15:$E$30015,\"masculino\")+\nCOUNTIFS('BD-SOC'!$P$15:$P$30015,DATA!M40,'BD-SOC'!$E$15:$E$30015,\"hombre\")+\nCOUNTIFS('BD-SOC'!$P$15:$P$30015,DATA!M40,'BD-SOC'!$E$15:$E$30015,\"m\")+\nCOUNTIFS('BD-SOC'!$P$15:$P$30015,DATA!M40,'BD-SOC'!$E$15:$E$30015,\"h\"))\n+\n(COUNTIFS('BD-SOC'!$R$15:$R$30015,DATA!M40,'BD-SOC'!$E$15:$E$30015,\"masculino\")+\nCOUNTIFS('BD-SOC'!$R$15:$R$30015,DATA!M40,'BD-SOC'!$E$15:$E$30015,\"hombre\")+\nCOUNTIFS('BD-SOC'!$R$15:$R$30015,DATA!M40,'BD-SOC'!$E$15:$E$30015,\"m\")+\nCOUNTIFS('BD-SOC'!$R$15:$R$30015,DATA!M40,'BD-SOC'!$E$15:$E$30015,\"h\"))\n+\n(COUNTIFS('BD-SOC'!$T$15:$T$30015,DATA!M40,'BD-SOC'!$E$15:$E$30015,\"masculino\")+\nCOUNTIFS('BD-SOC'!$T$15:$T$30015,DATA!M40,'BD-SOC'!$E$15:$E$30015,\"hombre\")+\nCOUNTIFS('BD-SOC'!$T$15:$T$30015,DATA!M40,'BD-SOC'!$E$15:$E$30015,\"m\")+\nCOUNTIFS('BD-SOC'!$T$15:$T$30015,DATA!M40,'BD-SOC'!$E$15:$E$30015,\"h\"))\n+\n(COUNTIFS('BD-SOC'!$V$15:$V$30015,DATA!M40,'BD-SOC'!$E$15:$E$30015,\"masculino\")+\nCOUNTIFS('BD-SOC'!$V$15:$V$30015,DATA!M40,'BD-SOC'!$E$15:$E$30015,\"hombre\")+\nCOUNTIFS('BD-SOC'!$V$15:$V$30015,DATA!M40,'BD-SOC'!$E$15:$E$30015,\"m\")+\nCOUNTIFS('BD-SOC'!$V$15:$V$30015,DATA!M40,'BD-SOC'!$E$15:$E$30015,\"h\"))\n+\n(COUNTIFS('BD-SOC'!$X$15:$X$30015,DATA!M40,'BD-SOC'!$E$15:$E$30015,\"masculino\")+\nCOUNTIFS('BD-SOC'!$X$15:$X$30015,DATA!M40,'BD-SOC'!$E$15:$E$30015,\"hombre\")+\nCOUNTIFS('BD-SOC'!$X$15:$X$30015,DATA!M40,'BD-SOC'!$E$15:$E$30015,\"m\")+\nCOUNTIFS('BD-SOC'!$X$15:$X$30015,DATA!M40,'BD-SOC'!$E$15:$E$30015,\"h\"))\n+\n(COUNTIFS('BD-SOC'!$Z$15:$Z$30015,DATA!M40,'BD-SOC'!$E$15:$E$30015,\"masculino\")+\nCOUNTIFS('BD-SOC'!$Z$15:$Z$30015,DATA!M40,'BD-SOC'!$E$15:$E$30015,\"hombre\")+\nCOUNTIFS('BD-SOC'!$Z$15:$Z$30015,DATA!M40,'BD-SOC'!$E$15:$E$30015,\"m\")+\nCOUNTIFS('BD-SOC'!$Z$15:$Z$30015,DATA!M40,'BD-SOC'!$E$15:$E$30015,\"h\"))\n+\n(COUNTIFS('BD-SOC'!$AB$15:$AB$30015,DATA!M40,'BD-SOC'!$E$15:$E$30015,\"masculino\")+\nCOUNTIFS('BD-SOC'!$AB$15:$AB$30015,DATA!M40,'BD-SOC'!$E$15:$E$30015,\"hombre\")+\nCOUNTIFS('BD-SOC'!$AB$15:$AB$30015,DATA!M40,'BD-SOC'!$E$15:$E$30015,\"m\")+\nCOUNTIFS('BD-SOC'!$AB$15:$AB$30015,DATA!M40,'BD-SOC'!$E$15:$E$30015,\"h\"))","v":0},{"$f":"(COUNTIFS('BD-SOC'!$P$15:$P$30015,DATA!M40,'BD-SOC'!$E$15:$E$30015,\"femenino\")+\nCOUNTIFS('BD-SOC'!$P$15:$P$30015,DATA!M40,'BD-SOC'!$E$15:$E$30015,\"mujer\")+\nCOUNTIFS('BD-SOC'!$P$15:$P$30015,DATA!M40,'BD-SOC'!$E$15:$E$30015,\"f\"))\n+\n(COUNTIFS('BD-SOC'!$R$15:$R$30015,DATA!M40,'BD-SOC'!$E$15:$E$30015,\"femenino\")+\nCOUNTIFS('BD-SOC'!$R$15:$R$30015,DATA!M40,'BD-SOC'!$E$15:$E$30015,\"mujer\")+\nCOUNTIFS('BD-SOC'!$R$15:$R$30015,DATA!M40,'BD-SOC'!$E$15:$E$30015,\"f\"))\n+\n(COUNTIFS('BD-SOC'!$T$15:$T$30015,DATA!M40,'BD-SOC'!$E$15:$E$30015,\"femenino\")+\nCOUNTIFS('BD-SOC'!$T$15:$T$30015,DATA!M40,'BD-SOC'!$E$15:$E$30015,\"mujer\")+\nCOUNTIFS('BD-SOC'!$T$15:$T$30015,DATA!M40,'BD-SOC'!$E$15:$E$30015,\"f\"))\n+\n(COUNTIFS('BD-SOC'!$V$15:$V$30015,DATA!M40,'BD-SOC'!$E$15:$E$30015,\"femenino\")+\nCOUNTIFS('BD-SOC'!$V$15:$V$30015,DATA!M40,'BD-SOC'!$E$15:$E$30015,\"mujer\")+\nCOUNTIFS('BD-SOC'!$V$15:$V$30015,DATA!M40,'BD-SOC'!$E$15:$E$30015,\"f\"))\n+\n(COUNTIFS('BD-SOC'!$X$15:$X$30015,DATA!M40,'BD-SOC'!$E$15:$E$30015,\"femenino\")+\nCOUNTIFS('BD-SOC'!$X$15:$X$30015,DATA!M40,'BD-SOC'!$E$15:$E$30015,\"mujer\")+\nCOUNTIFS('BD-SOC'!$X$15:$X$30015,DATA!M40,'BD-SOC'!$E$15:$E$30015,\"f\"))\n+\n(COUNTIFS('BD-SOC'!$Z$15:$Z$30015,DATA!M40,'BD-SOC'!$E$15:$E$30015,\"femenino\")+\nCOUNTIFS('BD-SOC'!$Z$15:$Z$30015,DATA!M40,'BD-SOC'!$E$15:$E$30015,\"mujer\")+\nCOUNTIFS('BD-SOC'!$Z$15:$Z$30015,DATA!M40,'BD-SOC'!$E$15:$E$30015,\"f\"))\n+\n(COUNTIFS('BD-SOC'!$AB$15:$AB$30015,DATA!M40,'BD-SOC'!$E$15:$E$30015,\"femenino\")+\nCOUNTIFS('BD-SOC'!$AB$15:$AB$30015,DATA!M40,'BD-SOC'!$E$15:$E$30015,\"mujer\")+\nCOUNTIFS('BD-SOC'!$AB$15:$AB$30015,DATA!M40,'BD-SOC'!$E$15:$E$30015,\"f\"))","v":0}]
[null,null,null,null,null,null,"AUDIENCIAS",null,null,null,null,null,107,"INTERVENCIÓN SOCIAL CON LA FAMILIA DEL INTERNO",null,{"$f":"(COUNTIFS('BD-SOC'!$P$15:$P$30015,DATA!M41,'BD-SOC'!$E$15:$E$30015,\"masculino\")+\nCOUNTIFS('BD-SOC'!$P$15:$P$30015,DATA!M41,'BD-SOC'!$E$15:$E$30015,\"hombre\")+\nCOUNTIFS('BD-SOC'!$P$15:$P$30015,DATA!M41,'BD-SOC'!$E$15:$E$30015,\"m\")+\nCOUNTIFS('BD-SOC'!$P$15:$P$30015,DATA!M41,'BD-SOC'!$E$15:$E$30015,\"h\"))\n+\n(COUNTIFS('BD-SOC'!$R$15:$R$30015,DATA!M41,'BD-SOC'!$E$15:$E$30015,\"masculino\")+\nCOUNTIFS('BD-SOC'!$R$15:$R$30015,DATA!M41,'BD-SOC'!$E$15:$E$30015,\"hombre\")+\nCOUNTIFS('BD-SOC'!$R$15:$R$30015,DATA!M41,'BD-SOC'!$E$15:$E$30015,\"m\")+\nCOUNTIFS('BD-SOC'!$R$15:$R$30015,DATA!M41,'BD-SOC'!$E$15:$E$30015,\"h\"))\n+\n(COUNTIFS('BD-SOC'!$T$15:$T$30015,DATA!M41,'BD-SOC'!$E$15:$E$30015,\"masculino\")+\nCOUNTIFS('BD-SOC'!$T$15:$T$30015,DATA!M41,'BD-SOC'!$E$15:$E$30015,\"hombre\")+\nCOUNTIFS('BD-SOC'!$T$15:$T$30015,DATA!M41,'BD-SOC'!$E$15:$E$30015,\"m\")+\nCOUNTIFS('BD-SOC'!$T$15:$T$30015,DATA!M41,'BD-SOC'!$E$15:$E$30015,\"h\"))\n+\n(COUNTIFS('BD-SOC'!$V$15:$V$30015,DATA!M41,'BD-SOC'!$E$15:$E$30015,\"masculino\")+\nCOUNTIFS('BD-SOC'!$V$15:$V$30015,DATA!M41,'BD-SOC'!$E$15:$E$30015,\"hombre\")+\nCOUNTIFS('BD-SOC'!$V$15:$V$30015,DATA!M41,'BD-SOC'!$E$15:$E$30015,\"m\")+\nCOUNTIFS('BD-SOC'!$V$15:$V$30015,DATA!M41,'BD-SOC'!$E$15:$E$30015,\"h\"))\n+\n(COUNTIFS('BD-SOC'!$X$15:$X$30015,DATA!M41,'BD-SOC'!$E$15:$E$30015,\"masculino\")+\nCOUNTIFS('BD-SOC'!$X$15:$X$30015,DATA!M41,'BD-SOC'!$E$15:$E$30015,\"hombre\")+\nCOUNTIFS('BD-SOC'!$X$15:$X$30015,DATA!M41,'BD-SOC'!$E$15:$E$30015,\"m\")+\nCOUNTIFS('BD-SOC'!$X$15:$X$30015,DATA!M41,'BD-SOC'!$E$15:$E$30015,\"h\"))\n+\n(COUNTIFS('BD-SOC'!$Z$15:$Z$30015,DATA!M41,'BD-SOC'!$E$15:$E$30015,\"masculino\")+\nCOUNTIFS('BD-SOC'!$Z$15:$Z$30015,DATA!M41,'BD-SOC'!$E$15:$E$30015,\"hombre\")+\nCOUNTIFS('BD-SOC'!$Z$15:$Z$30015,DATA!M41,'BD-SOC'!$E$15:$E$30015,\"m\")+\nCOUNTIFS('BD-SOC'!$Z$15:$Z$30015,DATA!M41,'BD-SOC'!$E$15:$E$30015,\"h\"))\n+\n(COUNTIFS('BD-SOC'!$AB$15:$AB$30015,DATA!M41,'BD-SOC'!$E$15:$E$30015,\"masculino\")+\nCOUNTIFS('BD-SOC'!$AB$15:$AB$30015,DATA!M41,'BD-SOC'!$E$15:$E$30015,\"hombre\")+\nCOUNTIFS('BD-SOC'!$AB$15:$AB$30015,DATA!M41,'BD-SOC'!$E$15:$E$30015,\"m\")+\nCOUNTIFS('BD-SOC'!$AB$15:$AB$30015,DATA!M41,'BD-SOC'!$E$15:$E$30015,\"h\"))","v":0},{"$f":"(COUNTIFS('BD-SOC'!$P$15:$P$30015,DATA!M41,'BD-SOC'!$E$15:$E$30015,\"femenino\")+\nCOUNTIFS('BD-SOC'!$P$15:$P$30015,DATA!M41,'BD-SOC'!$E$15:$E$30015,\"mujer\")+\nCOUNTIFS('BD-SOC'!$P$15:$P$30015,DATA!M41,'BD-SOC'!$E$15:$E$30015,\"f\"))\n+\n(COUNTIFS('BD-SOC'!$R$15:$R$30015,DATA!M41,'BD-SOC'!$E$15:$E$30015,\"femenino\")+\nCOUNTIFS('BD-SOC'!$R$15:$R$30015,DATA!M41,'BD-SOC'!$E$15:$E$30015,\"mujer\")+\nCOUNTIFS('BD-SOC'!$R$15:$R$30015,DATA!M41,'BD-SOC'!$E$15:$E$30015,\"f\"))\n+\n(COUNTIFS('BD-SOC'!$T$15:$T$30015,DATA!M41,'BD-SOC'!$E$15:$E$30015,\"femenino\")+\nCOUNTIFS('BD-SOC'!$T$15:$T$30015,DATA!M41,'BD-SOC'!$E$15:$E$30015,\"mujer\")+\nCOUNTIFS('BD-SOC'!$T$15:$T$30015,DATA!M41,'BD-SOC'!$E$15:$E$30015,\"f\"))\n+\n(COUNTIFS('BD-SOC'!$V$15:$V$30015,DATA!M41,'BD-SOC'!$E$15:$E$30015,\"femenino\")+\nCOUNTIFS('BD-SOC'!$V$15:$V$30015,DATA!M41,'BD-SOC'!$E$15:$E$30015,\"mujer\")+\nCOUNTIFS('BD-SOC'!$V$15:$V$30015,DATA!M41,'BD-SOC'!$E$15:$E$30015,\"f\"))\n+\n(COUNTIFS('BD-SOC'!$X$15:$X$30015,DATA!M41,'BD-SOC'!$E$15:$E$30015,\"femenino\")+\nCOUNTIFS('BD-SOC'!$X$15:$X$30015,DATA!M41,'BD-SOC'!$E$15:$E$30015,\"mujer\")+\nCOUNTIFS('BD-SOC'!$X$15:$X$30015,DATA!M41,'BD-SOC'!$E$15:$E$30015,\"f\"))\n+\n(COUNTIFS('BD-SOC'!$Z$15:$Z$30015,DATA!M41,'BD-SOC'!$E$15:$E$30015,\"femenino\")+\nCOUNTIFS('BD-SOC'!$Z$15:$Z$30015,DATA!M41,'BD-SOC'!$E$15:$E$30015,\"mujer\")+\nCOUNTIFS('BD-SOC'!$Z$15:$Z$30015,DATA!M41,'BD-SOC'!$E$15:$E$30015,\"f\"))\n+\n(COUNTIFS('BD-SOC'!$AB$15:$AB$30015,DATA!M41,'BD-SOC'!$E$15:$E$30015,\"femenino\")+\nCOUNTIFS('BD-SOC'!$AB$15:$AB$30015,DATA!M41,'BD-SOC'!$E$15:$E$30015,\"mujer\")+\nCOUNTIFS('BD-SOC'!$AB$15:$AB$30015,DATA!M41,'BD-SOC'!$E$15:$E$30015,\"f\"))","v":0}]
["ESTADO",null,null,null,null,null,"OTROS INFORMES",null,null,null,null,null,108,"VISITA FAMILIAR DOMICILIARIA",null,{"$f":"(COUNTIFS('BD-SOC'!$P$15:$P$30015,DATA!M42,'BD-SOC'!$E$15:$E$30015,\"masculino\")+\nCOUNTIFS('BD-SOC'!$P$15:$P$30015,DATA!M42,'BD-SOC'!$E$15:$E$30015,\"hombre\")+\nCOUNTIFS('BD-SOC'!$P$15:$P$30015,DATA!M42,'BD-SOC'!$E$15:$E$30015,\"m\")+\nCOUNTIFS('BD-SOC'!$P$15:$P$30015,DATA!M42,'BD-SOC'!$E$15:$E$30015,\"h\"))\n+\n(COUNTIFS('BD-SOC'!$R$15:$R$30015,DATA!M42,'BD-SOC'!$E$15:$E$30015,\"masculino\")+\nCOUNTIFS('BD-SOC'!$R$15:$R$30015,DATA!M42,'BD-SOC'!$E$15:$E$30015,\"hombre\")+\nCOUNTIFS('BD-SOC'!$R$15:$R$30015,DATA!M42,'BD-SOC'!$E$15:$E$30015,\"m\")+\nCOUNTIFS('BD-SOC'!$R$15:$R$30015,DATA!M42,'BD-SOC'!$E$15:$E$30015,\"h\"))\n+\n(COUNTIFS('BD-SOC'!$T$15:$T$30015,DATA!M42,'BD-SOC'!$E$15:$E$30015,\"masculino\")+\nCOUNTIFS('BD-SOC'!$T$15:$T$30015,DATA!M42,'BD-SOC'!$E$15:$E$30015,\"hombre\")+\nCOUNTIFS('BD-SOC'!$T$15:$T$30015,DATA!M42,'BD-SOC'!$E$15:$E$30015,\"m\")+\nCOUNTIFS('BD-SOC'!$T$15:$T$30015,DATA!M42,'BD-SOC'!$E$15:$E$30015,\"h\"))\n+\n(COUNTIFS('BD-SOC'!$V$15:$V$30015,DATA!M42,'BD-SOC'!$E$15:$E$30015,\"masculino\")+\nCOUNTIFS('BD-SOC'!$V$15:$V$30015,DATA!M42,'BD-SOC'!$E$15:$E$30015,\"hombre\")+\nCOUNTIFS('BD-SOC'!$V$15:$V$30015,DATA!M42,'BD-SOC'!$E$15:$E$30015,\"m\")+\nCOUNTIFS('BD-SOC'!$V$15:$V$30015,DATA!M42,'BD-SOC'!$E$15:$E$30015,\"h\"))\n+\n(COUNTIFS('BD-SOC'!$X$15:$X$30015,DATA!M42,'BD-SOC'!$E$15:$E$30015,\"masculino\")+\nCOUNTIFS('BD-SOC'!$X$15:$X$30015,DATA!M42,'BD-SOC'!$E$15:$E$30015,\"hombre\")+\nCOUNTIFS('BD-SOC'!$X$15:$X$30015,DATA!M42,'BD-SOC'!$E$15:$E$30015,\"m\")+\nCOUNTIFS('BD-SOC'!$X$15:$X$30015,DATA!M42,'BD-SOC'!$E$15:$E$30015,\"h\"))\n+\n(COUNTIFS('BD-SOC'!$Z$15:$Z$30015,DATA!M42,'BD-SOC'!$E$15:$E$30015,\"masculino\")+\nCOUNTIFS('BD-SOC'!$Z$15:$Z$30015,DATA!M42,'BD-SOC'!$E$15:$E$30015,\"hombre\")+\nCOUNTIFS('BD-SOC'!$Z$15:$Z$30015,DATA!M42,'BD-SOC'!$E$15:$E$30015,\"m\")+\nCOUNTIFS('BD-SOC'!$Z$15:$Z$30015,DATA!M42,'BD-SOC'!$E$15:$E$30015,\"h\"))\n+\n(COUNTIFS('BD-SOC'!$AB$15:$AB$30015,DATA!M42,'BD-SOC'!$E$15:$E$30015,\"masculino\")+\nCOUNTIFS('BD-SOC'!$AB$15:$AB$30015,DATA!M42,'BD-SOC'!$E$15:$E$30015,\"hombre\")+\nCOUNTIFS('BD-SOC'!$AB$15:$AB$30015,DATA!M42,'BD-SOC'!$E$15:$E$30015,\"m\")+\nCOUNTIFS('BD-SOC'!$AB$15:$AB$30015,DATA!M42,'BD-SOC'!$E$15:$E$30015,\"h\"))","v":0},{"$f":"(COUNTIFS('BD-SOC'!$P$15:$P$30015,DATA!M42,'BD-SOC'!$E$15:$E$30015,\"femenino\")+\nCOUNTIFS('BD-SOC'!$P$15:$P$30015,DATA!M42,'BD-SOC'!$E$15:$E$30015,\"mujer\")+\nCOUNTIFS('BD-SOC'!$P$15:$P$30015,DATA!M42,'BD-SOC'!$E$15:$E$30015,\"f\"))\n+\n(COUNTIFS('BD-SOC'!$R$15:$R$30015,DATA!M42,'BD-SOC'!$E$15:$E$30015,\"femenino\")+\nCOUNTIFS('BD-SOC'!$R$15:$R$30015,DATA!M42,'BD-SOC'!$E$15:$E$30015,\"mujer\")+\nCOUNTIFS('BD-SOC'!$R$15:$R$30015,DATA!M42,'BD-SOC'!$E$15:$E$30015,\"f\"))\n+\n(COUNTIFS('BD-SOC'!$T$15:$T$30015,DATA!M42,'BD-SOC'!$E$15:$E$30015,\"femenino\")+\nCOUNTIFS('BD-SOC'!$T$15:$T$30015,DATA!M42,'BD-SOC'!$E$15:$E$30015,\"mujer\")+\nCOUNTIFS('BD-SOC'!$T$15:$T$30015,DATA!M42,'BD-SOC'!$E$15:$E$30015,\"f\"))\n+\n(COUNTIFS('BD-SOC'!$V$15:$V$30015,DATA!M42,'BD-SOC'!$E$15:$E$30015,\"femenino\")+\nCOUNTIFS('BD-SOC'!$V$15:$V$30015,DATA!M42,'BD-SOC'!$E$15:$E$30015,\"mujer\")+\nCOUNTIFS('BD-SOC'!$V$15:$V$30015,DATA!M42,'BD-SOC'!$E$15:$E$30015,\"f\"))\n+\n(COUNTIFS('BD-SOC'!$X$15:$X$30015,DATA!M42,'BD-SOC'!$E$15:$E$30015,\"femenino\")+\nCOUNTIFS('BD-SOC'!$X$15:$X$30015,DATA!M42,'BD-SOC'!$E$15:$E$30015,\"mujer\")+\nCOUNTIFS('BD-SOC'!$X$15:$X$30015,DATA!M42,'BD-SOC'!$E$15:$E$30015,\"f\"))\n+\n(COUNTIFS('BD-SOC'!$Z$15:$Z$30015,DATA!M42,'BD-SOC'!$E$15:$E$30015,\"femenino\")+\nCOUNTIFS('BD-SOC'!$Z$15:$Z$30015,DATA!M42,'BD-SOC'!$E$15:$E$30015,\"mujer\")+\nCOUNTIFS('BD-SOC'!$Z$15:$Z$30015,DATA!M42,'BD-SOC'!$E$15:$E$30015,\"f\"))\n+\n(COUNTIFS('BD-SOC'!$AB$15:$AB$30015,DATA!M42,'BD-SOC'!$E$15:$E$30015,\"femenino\")+\nCOUNTIFS('BD-SOC'!$AB$15:$AB$30015,DATA!M42,'BD-SOC'!$E$15:$E$30015,\"mujer\")+\nCOUNTIFS('BD-SOC'!$AB$15:$AB$30015,DATA!M42,'BD-SOC'!$E$15:$E$30015,\"f\"))","v":0}]
["INPE",null,null,null,null,null,"INSCRIPCIÓN AL SIS",null,null,null,null,null,109,"VISITA HOSPITALARIA",null,{"$f":"(COUNTIFS('BD-SOC'!$P$15:$P$30015,DATA!M43,'BD-SOC'!$E$15:$E$30015,\"masculino\")+\nCOUNTIFS('BD-SOC'!$P$15:$P$30015,DATA!M43,'BD-SOC'!$E$15:$E$30015,\"hombre\")+\nCOUNTIFS('BD-SOC'!$P$15:$P$30015,DATA!M43,'BD-SOC'!$E$15:$E$30015,\"m\")+\nCOUNTIFS('BD-SOC'!$P$15:$P$30015,DATA!M43,'BD-SOC'!$E$15:$E$30015,\"h\"))\n+\n(COUNTIFS('BD-SOC'!$R$15:$R$30015,DATA!M43,'BD-SOC'!$E$15:$E$30015,\"masculino\")+\nCOUNTIFS('BD-SOC'!$R$15:$R$30015,DATA!M43,'BD-SOC'!$E$15:$E$30015,\"hombre\")+\nCOUNTIFS('BD-SOC'!$R$15:$R$30015,DATA!M43,'BD-SOC'!$E$15:$E$30015,\"m\")+\nCOUNTIFS('BD-SOC'!$R$15:$R$30015,DATA!M43,'BD-SOC'!$E$15:$E$30015,\"h\"))\n+\n(COUNTIFS('BD-SOC'!$T$15:$T$30015,DATA!M43,'BD-SOC'!$E$15:$E$30015,\"masculino\")+\nCOUNTIFS('BD-SOC'!$T$15:$T$30015,DATA!M43,'BD-SOC'!$E$15:$E$30015,\"hombre\")+\nCOUNTIFS('BD-SOC'!$T$15:$T$30015,DATA!M43,'BD-SOC'!$E$15:$E$30015,\"m\")+\nCOUNTIFS('BD-SOC'!$T$15:$T$30015,DATA!M43,'BD-SOC'!$E$15:$E$30015,\"h\"))\n+\n(COUNTIFS('BD-SOC'!$V$15:$V$30015,DATA!M43,'BD-SOC'!$E$15:$E$30015,\"masculino\")+\nCOUNTIFS('BD-SOC'!$V$15:$V$30015,DATA!M43,'BD-SOC'!$E$15:$E$30015,\"hombre\")+\nCOUNTIFS('BD-SOC'!$V$15:$V$30015,DATA!M43,'BD-SOC'!$E$15:$E$30015,\"m\")+\nCOUNTIFS('BD-SOC'!$V$15:$V$30015,DATA!M43,'BD-SOC'!$E$15:$E$30015,\"h\"))\n+\n(COUNTIFS('BD-SOC'!$X$15:$X$30015,DATA!M43,'BD-SOC'!$E$15:$E$30015,\"masculino\")+\nCOUNTIFS('BD-SOC'!$X$15:$X$30015,DATA!M43,'BD-SOC'!$E$15:$E$30015,\"hombre\")+\nCOUNTIFS('BD-SOC'!$X$15:$X$30015,DATA!M43,'BD-SOC'!$E$15:$E$30015,\"m\")+\nCOUNTIFS('BD-SOC'!$X$15:$X$30015,DATA!M43,'BD-SOC'!$E$15:$E$30015,\"h\"))\n+\n(COUNTIFS('BD-SOC'!$Z$15:$Z$30015,DATA!M43,'BD-SOC'!$E$15:$E$30015,\"masculino\")+\nCOUNTIFS('BD-SOC'!$Z$15:$Z$30015,DATA!M43,'BD-SOC'!$E$15:$E$30015,\"hombre\")+\nCOUNTIFS('BD-SOC'!$Z$15:$Z$30015,DATA!M43,'BD-SOC'!$E$15:$E$30015,\"m\")+\nCOUNTIFS('BD-SOC'!$Z$15:$Z$30015,DATA!M43,'BD-SOC'!$E$15:$E$30015,\"h\"))\n+\n(COUNTIFS('BD-SOC'!$AB$15:$AB$30015,DATA!M43,'BD-SOC'!$E$15:$E$30015,\"masculino\")+\nCOUNTIFS('BD-SOC'!$AB$15:$AB$30015,DATA!M43,'BD-SOC'!$E$15:$E$30015,\"hombre\")+\nCOUNTIFS('BD-SOC'!$AB$15:$AB$30015,DATA!M43,'BD-SOC'!$E$15:$E$30015,\"m\")+\nCOUNTIFS('BD-SOC'!$AB$15:$AB$30015,DATA!M43,'BD-SOC'!$E$15:$E$30015,\"h\"))","v":0},{"$f":"(COUNTIFS('BD-SOC'!$P$15:$P$30015,DATA!M43,'BD-SOC'!$E$15:$E$30015,\"femenino\")+\nCOUNTIFS('BD-SOC'!$P$15:$P$30015,DATA!M43,'BD-SOC'!$E$15:$E$30015,\"mujer\")+\nCOUNTIFS('BD-SOC'!$P$15:$P$30015,DATA!M43,'BD-SOC'!$E$15:$E$30015,\"f\"))\n+\n(COUNTIFS('BD-SOC'!$R$15:$R$30015,DATA!M43,'BD-SOC'!$E$15:$E$30015,\"femenino\")+\nCOUNTIFS('BD-SOC'!$R$15:$R$30015,DATA!M43,'BD-SOC'!$E$15:$E$30015,\"mujer\")+\nCOUNTIFS('BD-SOC'!$R$15:$R$30015,DATA!M43,'BD-SOC'!$E$15:$E$30015,\"f\"))\n+\n(COUNTIFS('BD-SOC'!$T$15:$T$30015,DATA!M43,'BD-SOC'!$E$15:$E$30015,\"femenino\")+\nCOUNTIFS('BD-SOC'!$T$15:$T$30015,DATA!M43,'BD-SOC'!$E$15:$E$30015,\"mujer\")+\nCOUNTIFS('BD-SOC'!$T$15:$T$30015,DATA!M43,'BD-SOC'!$E$15:$E$30015,\"f\"))\n+\n(COUNTIFS('BD-SOC'!$V$15:$V$30015,DATA!M43,'BD-SOC'!$E$15:$E$30015,\"femenino\")+\nCOUNTIFS('BD-SOC'!$V$15:$V$30015,DATA!M43,'BD-SOC'!$E$15:$E$30015,\"mujer\")+\nCOUNTIFS('BD-SOC'!$V$15:$V$30015,DATA!M43,'BD-SOC'!$E$15:$E$30015,\"f\"))\n+\n(COUNTIFS('BD-SOC'!$X$15:$X$30015,DATA!M43,'BD-SOC'!$E$15:$E$30015,\"femenino\")+\nCOUNTIFS('BD-SOC'!$X$15:$X$30015,DATA!M43,'BD-SOC'!$E$15:$E$30015,\"mujer\")+\nCOUNTIFS('BD-SOC'!$X$15:$X$30015,DATA!M43,'BD-SOC'!$E$15:$E$30015,\"f\"))\n+\n(COUNTIFS('BD-SOC'!$Z$15:$Z$30015,DATA!M43,'BD-SOC'!$E$15:$E$30015,\"femenino\")+\nCOUNTIFS('BD-SOC'!$Z$15:$Z$30015,DATA!M43,'BD-SOC'!$E$15:$E$30015,\"mujer\")+\nCOUNTIFS('BD-SOC'!$Z$15:$Z$30015,DATA!M43,'BD-SOC'!$E$15:$E$30015,\"f\"))\n+\n(COUNTIFS('BD-SOC'!$AB$15:$AB$30015,DATA!M43,'BD-SOC'!$E$15:$E$30015,\"femenino\")+\nCOUNTIFS('BD-SOC'!$AB$15:$AB$30015,DATA!M43,'BD-SOC'!$E$15:$E$30015,\"mujer\")+\nCOUNTIFS('BD-SOC'!$AB$15:$AB$30015,DATA!M43,'BD-SOC'!$E$15:$E$30015,\"f\"))","v":0}]
["GOBIERNO REGIONAL",null,null,null,null,null,"GESTIÓN HOSPITALARIA",null,null,null,null,null,201,"INFORME DE SEMILIBERTAD",null,{"$f":"(COUNTIFS('BD-SOC'!$P$15:$P$30015,DATA!M44,'BD-SOC'!$E$15:$E$30015,\"masculino\")+\nCOUNTIFS('BD-SOC'!$P$15:$P$30015,DATA!M44,'BD-SOC'!$E$15:$E$30015,\"hombre\")+\nCOUNTIFS('BD-SOC'!$P$15:$P$30015,DATA!M44,'BD-SOC'!$E$15:$E$30015,\"m\")+\nCOUNTIFS('BD-SOC'!$P$15:$P$30015,DATA!M44,'BD-SOC'!$E$15:$E$30015,\"h\"))\n+\n(COUNTIFS('BD-SOC'!$R$15:$R$30015,DATA!M44,'BD-SOC'!$E$15:$E$30015,\"masculino\")+\nCOUNTIFS('BD-SOC'!$R$15:$R$30015,DATA!M44,'BD-SOC'!$E$15:$E$30015,\"hombre\")+\nCOUNTIFS('BD-SOC'!$R$15:$R$30015,DATA!M44,'BD-SOC'!$E$15:$E$30015,\"m\")+\nCOUNTIFS('BD-SOC'!$R$15:$R$30015,DATA!M44,'BD-SOC'!$E$15:$E$30015,\"h\"))\n+\n(COUNTIFS('BD-SOC'!$T$15:$T$30015,DATA!M44,'BD-SOC'!$E$15:$E$30015,\"masculino\")+\nCOUNTIFS('BD-SOC'!$T$15:$T$30015,DATA!M44,'BD-SOC'!$E$15:$E$30015,\"hombre\")+\nCOUNTIFS('BD-SOC'!$T$15:$T$30015,DATA!M44,'BD-SOC'!$E$15:$E$30015,\"m\")+\nCOUNTIFS('BD-SOC'!$T$15:$T$30015,DATA!M44,'BD-SOC'!$E$15:$E$30015,\"h\"))\n+\n(COUNTIFS('BD-SOC'!$V$15:$V$30015,DATA!M44,'BD-SOC'!$E$15:$E$30015,\"masculino\")+\nCOUNTIFS('BD-SOC'!$V$15:$V$30015,DATA!M44,'BD-SOC'!$E$15:$E$30015,\"hombre\")+\nCOUNTIFS('BD-SOC'!$V$15:$V$30015,DATA!M44,'BD-SOC'!$E$15:$E$30015,\"m\")+\nCOUNTIFS('BD-SOC'!$V$15:$V$30015,DATA!M44,'BD-SOC'!$E$15:$E$30015,\"h\"))\n+\n(COUNTIFS('BD-SOC'!$X$15:$X$30015,DATA!M44,'BD-SOC'!$E$15:$E$30015,\"masculino\")+\nCOUNTIFS('BD-SOC'!$X$15:$X$30015,DATA!M44,'BD-SOC'!$E$15:$E$30015,\"hombre\")+\nCOUNTIFS('BD-SOC'!$X$15:$X$30015,DATA!M44,'BD-SOC'!$E$15:$E$30015,\"m\")+\nCOUNTIFS('BD-SOC'!$X$15:$X$30015,DATA!M44,'BD-SOC'!$E$15:$E$30015,\"h\"))\n+\n(COUNTIFS('BD-SOC'!$Z$15:$Z$30015,DATA!M44,'BD-SOC'!$E$15:$E$30015,\"masculino\")+\nCOUNTIFS('BD-SOC'!$Z$15:$Z$30015,DATA!M44,'BD-SOC'!$E$15:$E$30015,\"hombre\")+\nCOUNTIFS('BD-SOC'!$Z$15:$Z$30015,DATA!M44,'BD-SOC'!$E$15:$E$30015,\"m\")+\nCOUNTIFS('BD-SOC'!$Z$15:$Z$30015,DATA!M44,'BD-SOC'!$E$15:$E$30015,\"h\"))\n+\n(COUNTIFS('BD-SOC'!$AB$15:$AB$30015,DATA!M44,'BD-SOC'!$E$15:$E$30015,\"masculino\")+\nCOUNTIFS('BD-SOC'!$AB$15:$AB$30015,DATA!M44,'BD-SOC'!$E$15:$E$30015,\"hombre\")+\nCOUNTIFS('BD-SOC'!$AB$15:$AB$30015,DATA!M44,'BD-SOC'!$E$15:$E$30015,\"m\")+\nCOUNTIFS('BD-SOC'!$AB$15:$AB$30015,DATA!M44,'BD-SOC'!$E$15:$E$30015,\"h\"))","v":0},{"$f":"(COUNTIFS('BD-SOC'!$P$15:$P$30015,DATA!M44,'BD-SOC'!$E$15:$E$30015,\"femenino\")+\nCOUNTIFS('BD-SOC'!$P$15:$P$30015,DATA!M44,'BD-SOC'!$E$15:$E$30015,\"mujer\")+\nCOUNTIFS('BD-SOC'!$P$15:$P$30015,DATA!M44,'BD-SOC'!$E$15:$E$30015,\"f\"))\n+\n(COUNTIFS('BD-SOC'!$R$15:$R$30015,DATA!M44,'BD-SOC'!$E$15:$E$30015,\"femenino\")+\nCOUNTIFS('BD-SOC'!$R$15:$R$30015,DATA!M44,'BD-SOC'!$E$15:$E$30015,\"mujer\")+\nCOUNTIFS('BD-SOC'!$R$15:$R$30015,DATA!M44,'BD-SOC'!$E$15:$E$30015,\"f\"))\n+\n(COUNTIFS('BD-SOC'!$T$15:$T$30015,DATA!M44,'BD-SOC'!$E$15:$E$30015,\"femenino\")+\nCOUNTIFS('BD-SOC'!$T$15:$T$30015,DATA!M44,'BD-SOC'!$E$15:$E$30015,\"mujer\")+\nCOUNTIFS('BD-SOC'!$T$15:$T$30015,DATA!M44,'BD-SOC'!$E$15:$E$30015,\"f\"))\n+\n(COUNTIFS('BD-SOC'!$V$15:$V$30015,DATA!M44,'BD-SOC'!$E$15:$E$30015,\"femenino\")+\nCOUNTIFS('BD-SOC'!$V$15:$V$30015,DATA!M44,'BD-SOC'!$E$15:$E$30015,\"mujer\")+\nCOUNTIFS('BD-SOC'!$V$15:$V$30015,DATA!M44,'BD-SOC'!$E$15:$E$30015,\"f\"))\n+\n(COUNTIFS('BD-SOC'!$X$15:$X$30015,DATA!M44,'BD-SOC'!$E$15:$E$30015,\"femenino\")+\nCOUNTIFS('BD-SOC'!$X$15:$X$30015,DATA!M44,'BD-SOC'!$E$15:$E$30015,\"mujer\")+\nCOUNTIFS('BD-SOC'!$X$15:$X$30015,DATA!M44,'BD-SOC'!$E$15:$E$30015,\"f\"))\n+\n(COUNTIFS('BD-SOC'!$Z$15:$Z$30015,DATA!M44,'BD-SOC'!$E$15:$E$30015,\"femenino\")+\nCOUNTIFS('BD-SOC'!$Z$15:$Z$30015,DATA!M44,'BD-SOC'!$E$15:$E$30015,\"mujer\")+\nCOUNTIFS('BD-SOC'!$Z$15:$Z$30015,DATA!M44,'BD-SOC'!$E$15:$E$30015,\"f\"))\n+\n(COUNTIFS('BD-SOC'!$AB$15:$AB$30015,DATA!M44,'BD-SOC'!$E$15:$E$30015,\"femenino\")+\nCOUNTIFS('BD-SOC'!$AB$15:$AB$30015,DATA!M44,'BD-SOC'!$E$15:$E$30015,\"mujer\")+\nCOUNTIFS('BD-SOC'!$AB$15:$AB$30015,DATA!M44,'BD-SOC'!$E$15:$E$30015,\"f\"))","v":0}]
["OTRO",null,null,null,null,null,"GESTIÓN SOBRE FALLECIDOS",null,null,null,null,null,202,"INFORME DE LIBERACIÓN CONDICIONAL",null,{"$f":"(COUNTIFS('BD-SOC'!$P$15:$P$30015,DATA!M45,'BD-SOC'!$E$15:$E$30015,\"masculino\")+\nCOUNTIFS('BD-SOC'!$P$15:$P$30015,DATA!M45,'BD-SOC'!$E$15:$E$30015,\"hombre\")+\nCOUNTIFS('BD-SOC'!$P$15:$P$30015,DATA!M45,'BD-SOC'!$E$15:$E$30015,\"m\")+\nCOUNTIFS('BD-SOC'!$P$15:$P$30015,DATA!M45,'BD-SOC'!$E$15:$E$30015,\"h\"))\n+\n(COUNTIFS('BD-SOC'!$R$15:$R$30015,DATA!M45,'BD-SOC'!$E$15:$E$30015,\"masculino\")+\nCOUNTIFS('BD-SOC'!$R$15:$R$30015,DATA!M45,'BD-SOC'!$E$15:$E$30015,\"hombre\")+\nCOUNTIFS('BD-SOC'!$R$15:$R$30015,DATA!M45,'BD-SOC'!$E$15:$E$30015,\"m\")+\nCOUNTIFS('BD-SOC'!$R$15:$R$30015,DATA!M45,'BD-SOC'!$E$15:$E$30015,\"h\"))\n+\n(COUNTIFS('BD-SOC'!$T$15:$T$30015,DATA!M45,'BD-SOC'!$E$15:$E$30015,\"masculino\")+\nCOUNTIFS('BD-SOC'!$T$15:$T$30015,DATA!M45,'BD-SOC'!$E$15:$E$30015,\"hombre\")+\nCOUNTIFS('BD-SOC'!$T$15:$T$30015,DATA!M45,'BD-SOC'!$E$15:$E$30015,\"m\")+\nCOUNTIFS('BD-SOC'!$T$15:$T$30015,DATA!M45,'BD-SOC'!$E$15:$E$30015,\"h\"))\n+\n(COUNTIFS('BD-SOC'!$V$15:$V$30015,DATA!M45,'BD-SOC'!$E$15:$E$30015,\"masculino\")+\nCOUNTIFS('BD-SOC'!$V$15:$V$30015,DATA!M45,'BD-SOC'!$E$15:$E$30015,\"hombre\")+\nCOUNTIFS('BD-SOC'!$V$15:$V$30015,DATA!M45,'BD-SOC'!$E$15:$E$30015,\"m\")+\nCOUNTIFS('BD-SOC'!$V$15:$V$30015,DATA!M45,'BD-SOC'!$E$15:$E$30015,\"h\"))\n+\n(COUNTIFS('BD-SOC'!$X$15:$X$30015,DATA!M45,'BD-SOC'!$E$15:$E$30015,\"masculino\")+\nCOUNTIFS('BD-SOC'!$X$15:$X$30015,DATA!M45,'BD-SOC'!$E$15:$E$30015,\"hombre\")+\nCOUNTIFS('BD-SOC'!$X$15:$X$30015,DATA!M45,'BD-SOC'!$E$15:$E$30015,\"m\")+\nCOUNTIFS('BD-SOC'!$X$15:$X$30015,DATA!M45,'BD-SOC'!$E$15:$E$30015,\"h\"))\n+\n(COUNTIFS('BD-SOC'!$Z$15:$Z$30015,DATA!M45,'BD-SOC'!$E$15:$E$30015,\"masculino\")+\nCOUNTIFS('BD-SOC'!$Z$15:$Z$30015,DATA!M45,'BD-SOC'!$E$15:$E$30015,\"hombre\")+\nCOUNTIFS('BD-SOC'!$Z$15:$Z$30015,DATA!M45,'BD-SOC'!$E$15:$E$30015,\"m\")+\nCOUNTIFS('BD-SOC'!$Z$15:$Z$30015,DATA!M45,'BD-SOC'!$E$15:$E$30015,\"h\"))\n+\n(COUNTIFS('BD-SOC'!$AB$15:$AB$30015,DATA!M45,'BD-SOC'!$E$15:$E$30015,\"masculino\")+\nCOUNTIFS('BD-SOC'!$AB$15:$AB$30015,DATA!M45,'BD-SOC'!$E$15:$E$30015,\"hombre\")+\nCOUNTIFS('BD-SOC'!$AB$15:$AB$30015,DATA!M45,'BD-SOC'!$E$15:$E$30015,\"m\")+\nCOUNTIFS('BD-SOC'!$AB$15:$AB$30015,DATA!M45,'BD-SOC'!$E$15:$E$30015,\"h\"))","v":0},{"$f":"(COUNTIFS('BD-SOC'!$P$15:$P$30015,DATA!M45,'BD-SOC'!$E$15:$E$30015,\"femenino\")+\nCOUNTIFS('BD-SOC'!$P$15:$P$30015,DATA!M45,'BD-SOC'!$E$15:$E$30015,\"mujer\")+\nCOUNTIFS('BD-SOC'!$P$15:$P$30015,DATA!M45,'BD-SOC'!$E$15:$E$30015,\"f\"))\n+\n(COUNTIFS('BD-SOC'!$R$15:$R$30015,DATA!M45,'BD-SOC'!$E$15:$E$30015,\"femenino\")+\nCOUNTIFS('BD-SOC'!$R$15:$R$30015,DATA!M45,'BD-SOC'!$E$15:$E$30015,\"mujer\")+\nCOUNTIFS('BD-SOC'!$R$15:$R$30015,DATA!M45,'BD-SOC'!$E$15:$E$30015,\"f\"))\n+\n(COUNTIFS('BD-SOC'!$T$15:$T$30015,DATA!M45,'BD-SOC'!$E$15:$E$30015,\"femenino\")+\nCOUNTIFS('BD-SOC'!$T$15:$T$30015,DATA!M45,'BD-SOC'!$E$15:$E$30015,\"mujer\")+\nCOUNTIFS('BD-SOC'!$T$15:$T$30015,DATA!M45,'BD-SOC'!$E$15:$E$30015,\"f\"))\n+\n(COUNTIFS('BD-SOC'!$V$15:$V$30015,DATA!M45,'BD-SOC'!$E$15:$E$30015,\"femenino\")+\nCOUNTIFS('BD-SOC'!$V$15:$V$30015,DATA!M45,'BD-SOC'!$E$15:$E$30015,\"mujer\")+\nCOUNTIFS('BD-SOC'!$V$15:$V$30015,DATA!M45,'BD-SOC'!$E$15:$E$30015,\"f\"))\n+\n(COUNTIFS('BD-SOC'!$X$15:$X$30015,DATA!M45,'BD-SOC'!$E$15:$E$30015,\"femenino\")+\nCOUNTIFS('BD-SOC'!$X$15:$X$30015,DATA!M45,'BD-SOC'!$E$15:$E$30015,\"mujer\")+\nCOUNTIFS('BD-SOC'!$X$15:$X$30015,DATA!M45,'BD-SOC'!$E$15:$E$30015,\"f\"))\n+\n(COUNTIFS('BD-SOC'!$Z$15:$Z$30015,DATA!M45,'BD-SOC'!$E$15:$E$30015,\"femenino\")+\nCOUNTIFS('BD-SOC'!$Z$15:$Z$30015,DATA!M45,'BD-SOC'!$E$15:$E$30015,\"mujer\")+\nCOUNTIFS('BD-SOC'!$Z$15:$Z$30015,DATA!M45,'BD-SOC'!$E$15:$E$30015,\"f\"))\n+\n(COUNTIFS('BD-SOC'!$AB$15:$AB$30015,DATA!M45,'BD-SOC'!$E$15:$E$30015,\"femenino\")+\nCOUNTIFS('BD-SOC'!$AB$15:$AB$30015,DATA!M45,'BD-SOC'!$E$15:$E$30015,\"mujer\")+\nCOUNTIFS('BD-SOC'!$AB$15:$AB$30015,DATA!M45,'BD-SOC'!$E$15:$E$30015,\"f\"))","v":0}]
[null,null,null,null,null,null,"GESTIÓN RENIEC",null,null,null,null,null,203,"INFORME DE VISITA ÍNTIMA",null,{"$f":"(COUNTIFS('BD-SOC'!$P$15:$P$30015,DATA!M46,'BD-SOC'!$E$15:$E$30015,\"masculino\")+\nCOUNTIFS('BD-SOC'!$P$15:$P$30015,DATA!M46,'BD-SOC'!$E$15:$E$30015,\"hombre\")+\nCOUNTIFS('BD-SOC'!$P$15:$P$30015,DATA!M46,'BD-SOC'!$E$15:$E$30015,\"m\")+\nCOUNTIFS('BD-SOC'!$P$15:$P$30015,DATA!M46,'BD-SOC'!$E$15:$E$30015,\"h\"))\n+\n(COUNTIFS('BD-SOC'!$R$15:$R$30015,DATA!M46,'BD-SOC'!$E$15:$E$30015,\"masculino\")+\nCOUNTIFS('BD-SOC'!$R$15:$R$30015,DATA!M46,'BD-SOC'!$E$15:$E$30015,\"hombre\")+\nCOUNTIFS('BD-SOC'!$R$15:$R$30015,DATA!M46,'BD-SOC'!$E$15:$E$30015,\"m\")+\nCOUNTIFS('BD-SOC'!$R$15:$R$30015,DATA!M46,'BD-SOC'!$E$15:$E$30015,\"h\"))\n+\n(COUNTIFS('BD-SOC'!$T$15:$T$30015,DATA!M46,'BD-SOC'!$E$15:$E$30015,\"masculino\")+\nCOUNTIFS('BD-SOC'!$T$15:$T$30015,DATA!M46,'BD-SOC'!$E$15:$E$30015,\"hombre\")+\nCOUNTIFS('BD-SOC'!$T$15:$T$30015,DATA!M46,'BD-SOC'!$E$15:$E$30015,\"m\")+\nCOUNTIFS('BD-SOC'!$T$15:$T$30015,DATA!M46,'BD-SOC'!$E$15:$E$30015,\"h\"))\n+\n(COUNTIFS('BD-SOC'!$V$15:$V$30015,DATA!M46,'BD-SOC'!$E$15:$E$30015,\"masculino\")+\nCOUNTIFS('BD-SOC'!$V$15:$V$30015,DATA!M46,'BD-SOC'!$E$15:$E$30015,\"hombre\")+\nCOUNTIFS('BD-SOC'!$V$15:$V$30015,DATA!M46,'BD-SOC'!$E$15:$E$30015,\"m\")+\nCOUNTIFS('BD-SOC'!$V$15:$V$30015,DATA!M46,'BD-SOC'!$E$15:$E$30015,\"h\"))\n+\n(COUNTIFS('BD-SOC'!$X$15:$X$30015,DATA!M46,'BD-SOC'!$E$15:$E$30015,\"masculino\")+\nCOUNTIFS('BD-SOC'!$X$15:$X$30015,DATA!M46,'BD-SOC'!$E$15:$E$30015,\"hombre\")+\nCOUNTIFS('BD-SOC'!$X$15:$X$30015,DATA!M46,'BD-SOC'!$E$15:$E$30015,\"m\")+\nCOUNTIFS('BD-SOC'!$X$15:$X$30015,DATA!M46,'BD-SOC'!$E$15:$E$30015,\"h\"))\n+\n(COUNTIFS('BD-SOC'!$Z$15:$Z$30015,DATA!M46,'BD-SOC'!$E$15:$E$30015,\"masculino\")+\nCOUNTIFS('BD-SOC'!$Z$15:$Z$30015,DATA!M46,'BD-SOC'!$E$15:$E$30015,\"hombre\")+\nCOUNTIFS('BD-SOC'!$Z$15:$Z$30015,DATA!M46,'BD-SOC'!$E$15:$E$30015,\"m\")+\nCOUNTIFS('BD-SOC'!$Z$15:$Z$30015,DATA!M46,'BD-SOC'!$E$15:$E$30015,\"h\"))\n+\n(COUNTIFS('BD-SOC'!$AB$15:$AB$30015,DATA!M46,'BD-SOC'!$E$15:$E$30015,\"masculino\")+\nCOUNTIFS('BD-SOC'!$AB$15:$AB$30015,DATA!M46,'BD-SOC'!$E$15:$E$30015,\"hombre\")+\nCOUNTIFS('BD-SOC'!$AB$15:$AB$30015,DATA!M46,'BD-SOC'!$E$15:$E$30015,\"m\")+\nCOUNTIFS('BD-SOC'!$AB$15:$AB$30015,DATA!M46,'BD-SOC'!$E$15:$E$30015,\"h\"))","v":0},{"$f":"(COUNTIFS('BD-SOC'!$P$15:$P$30015,DATA!M46,'BD-SOC'!$E$15:$E$30015,\"femenino\")+\nCOUNTIFS('BD-SOC'!$P$15:$P$30015,DATA!M46,'BD-SOC'!$E$15:$E$30015,\"mujer\")+\nCOUNTIFS('BD-SOC'!$P$15:$P$30015,DATA!M46,'BD-SOC'!$E$15:$E$30015,\"f\"))\n+\n(COUNTIFS('BD-SOC'!$R$15:$R$30015,DATA!M46,'BD-SOC'!$E$15:$E$30015,\"femenino\")+\nCOUNTIFS('BD-SOC'!$R$15:$R$30015,DATA!M46,'BD-SOC'!$E$15:$E$30015,\"mujer\")+\nCOUNTIFS('BD-SOC'!$R$15:$R$30015,DATA!M46,'BD-SOC'!$E$15:$E$30015,\"f\"))\n+\n(COUNTIFS('BD-SOC'!$T$15:$T$30015,DATA!M46,'BD-SOC'!$E$15:$E$30015,\"femenino\")+\nCOUNTIFS('BD-SOC'!$T$15:$T$30015,DATA!M46,'BD-SOC'!$E$15:$E$30015,\"mujer\")+\nCOUNTIFS('BD-SOC'!$T$15:$T$30015,DATA!M46,'BD-SOC'!$E$15:$E$30015,\"f\"))\n+\n(COUNTIFS('BD-SOC'!$V$15:$V$30015,DATA!M46,'BD-SOC'!$E$15:$E$30015,\"femenino\")+\nCOUNTIFS('BD-SOC'!$V$15:$V$30015,DATA!M46,'BD-SOC'!$E$15:$E$30015,\"mujer\")+\nCOUNTIFS('BD-SOC'!$V$15:$V$30015,DATA!M46,'BD-SOC'!$E$15:$E$30015,\"f\"))\n+\n(COUNTIFS('BD-SOC'!$X$15:$X$30015,DATA!M46,'BD-SOC'!$E$15:$E$30015,\"femenino\")+\nCOUNTIFS('BD-SOC'!$X$15:$X$30015,DATA!M46,'BD-SOC'!$E$15:$E$30015,\"mujer\")+\nCOUNTIFS('BD-SOC'!$X$15:$X$30015,DATA!M46,'BD-SOC'!$E$15:$E$30015,\"f\"))\n+\n(COUNTIFS('BD-SOC'!$Z$15:$Z$30015,DATA!M46,'BD-SOC'!$E$15:$E$30015,\"femenino\")+\nCOUNTIFS('BD-SOC'!$Z$15:$Z$30015,DATA!M46,'BD-SOC'!$E$15:$E$30015,\"mujer\")+\nCOUNTIFS('BD-SOC'!$Z$15:$Z$30015,DATA!M46,'BD-SOC'!$E$15:$E$30015,\"f\"))\n+\n(COUNTIFS('BD-SOC'!$AB$15:$AB$30015,DATA!M46,'BD-SOC'!$E$15:$E$30015,\"femenino\")+\nCOUNTIFS('BD-SOC'!$AB$15:$AB$30015,DATA!M46,'BD-SOC'!$E$15:$E$30015,\"mujer\")+\nCOUNTIFS('BD-SOC'!$AB$15:$AB$30015,DATA!M46,'BD-SOC'!$E$15:$E$30015,\"f\"))","v":0}]
["CONDICION",null,null,null,null,null,"GESTIÓN RELACIONADA A NIÑOS/AS",null,null,null,null,null,204,"INFORME DE VISITA FAMILIAR",null,{"$f":"(COUNTIFS('BD-SOC'!$P$15:$P$30015,DATA!M47,'BD-SOC'!$E$15:$E$30015,\"masculino\")+\nCOUNTIFS('BD-SOC'!$P$15:$P$30015,DATA!M47,'BD-SOC'!$E$15:$E$30015,\"hombre\")+\nCOUNTIFS('BD-SOC'!$P$15:$P$30015,DATA!M47,'BD-SOC'!$E$15:$E$30015,\"m\")+\nCOUNTIFS('BD-SOC'!$P$15:$P$30015,DATA!M47,'BD-SOC'!$E$15:$E$30015,\"h\"))\n+\n(COUNTIFS('BD-SOC'!$R$15:$R$30015,DATA!M47,'BD-SOC'!$E$15:$E$30015,\"masculino\")+\nCOUNTIFS('BD-SOC'!$R$15:$R$30015,DATA!M47,'BD-SOC'!$E$15:$E$30015,\"hombre\")+\nCOUNTIFS('BD-SOC'!$R$15:$R$30015,DATA!M47,'BD-SOC'!$E$15:$E$30015,\"m\")+\nCOUNTIFS('BD-SOC'!$R$15:$R$30015,DATA!M47,'BD-SOC'!$E$15:$E$30015,\"h\"))\n+\n(COUNTIFS('BD-SOC'!$T$15:$T$30015,DATA!M47,'BD-SOC'!$E$15:$E$30015,\"masculino\")+\nCOUNTIFS('BD-SOC'!$T$15:$T$30015,DATA!M47,'BD-SOC'!$E$15:$E$30015,\"hombre\")+\nCOUNTIFS('BD-SOC'!$T$15:$T$30015,DATA!M47,'BD-SOC'!$E$15:$E$30015,\"m\")+\nCOUNTIFS('BD-SOC'!$T$15:$T$30015,DATA!M47,'BD-SOC'!$E$15:$E$30015,\"h\"))\n+\n(COUNTIFS('BD-SOC'!$V$15:$V$30015,DATA!M47,'BD-SOC'!$E$15:$E$30015,\"masculino\")+\nCOUNTIFS('BD-SOC'!$V$15:$V$30015,DATA!M47,'BD-SOC'!$E$15:$E$30015,\"hombre\")+\nCOUNTIFS('BD-SOC'!$V$15:$V$30015,DATA!M47,'BD-SOC'!$E$15:$E$30015,\"m\")+\nCOUNTIFS('BD-SOC'!$V$15:$V$30015,DATA!M47,'BD-SOC'!$E$15:$E$30015,\"h\"))\n+\n(COUNTIFS('BD-SOC'!$X$15:$X$30015,DATA!M47,'BD-SOC'!$E$15:$E$30015,\"masculino\")+\nCOUNTIFS('BD-SOC'!$X$15:$X$30015,DATA!M47,'BD-SOC'!$E$15:$E$30015,\"hombre\")+\nCOUNTIFS('BD-SOC'!$X$15:$X$30015,DATA!M47,'BD-SOC'!$E$15:$E$30015,\"m\")+\nCOUNTIFS('BD-SOC'!$X$15:$X$30015,DATA!M47,'BD-SOC'!$E$15:$E$30015,\"h\"))\n+\n(COUNTIFS('BD-SOC'!$Z$15:$Z$30015,DATA!M47,'BD-SOC'!$E$15:$E$30015,\"masculino\")+\nCOUNTIFS('BD-SOC'!$Z$15:$Z$30015,DATA!M47,'BD-SOC'!$E$15:$E$30015,\"hombre\")+\nCOUNTIFS('BD-SOC'!$Z$15:$Z$30015,DATA!M47,'BD-SOC'!$E$15:$E$30015,\"m\")+\nCOUNTIFS('BD-SOC'!$Z$15:$Z$30015,DATA!M47,'BD-SOC'!$E$15:$E$30015,\"h\"))\n+\n(COUNTIFS('BD-SOC'!$AB$15:$AB$30015,DATA!M47,'BD-SOC'!$E$15:$E$30015,\"masculino\")+\nCOUNTIFS('BD-SOC'!$AB$15:$AB$30015,DATA!M47,'BD-SOC'!$E$15:$E$30015,\"hombre\")+\nCOUNTIFS('BD-SOC'!$AB$15:$AB$30015,DATA!M47,'BD-SOC'!$E$15:$E$30015,\"m\")+\nCOUNTIFS('BD-SOC'!$AB$15:$AB$30015,DATA!M47,'BD-SOC'!$E$15:$E$30015,\"h\"))","v":0},{"$f":"(COUNTIFS('BD-SOC'!$P$15:$P$30015,DATA!M47,'BD-SOC'!$E$15:$E$30015,\"femenino\")+\nCOUNTIFS('BD-SOC'!$P$15:$P$30015,DATA!M47,'BD-SOC'!$E$15:$E$30015,\"mujer\")+\nCOUNTIFS('BD-SOC'!$P$15:$P$30015,DATA!M47,'BD-SOC'!$E$15:$E$30015,\"f\"))\n+\n(COUNTIFS('BD-SOC'!$R$15:$R$30015,DATA!M47,'BD-SOC'!$E$15:$E$30015,\"femenino\")+\nCOUNTIFS('BD-SOC'!$R$15:$R$30015,DATA!M47,'BD-SOC'!$E$15:$E$30015,\"mujer\")+\nCOUNTIFS('BD-SOC'!$R$15:$R$30015,DATA!M47,'BD-SOC'!$E$15:$E$30015,\"f\"))\n+\n(COUNTIFS('BD-SOC'!$T$15:$T$30015,DATA!M47,'BD-SOC'!$E$15:$E$30015,\"femenino\")+\nCOUNTIFS('BD-SOC'!$T$15:$T$30015,DATA!M47,'BD-SOC'!$E$15:$E$30015,\"mujer\")+\nCOUNTIFS('BD-SOC'!$T$15:$T$30015,DATA!M47,'BD-SOC'!$E$15:$E$30015,\"f\"))\n+\n(COUNTIFS('BD-SOC'!$V$15:$V$30015,DATA!M47,'BD-SOC'!$E$15:$E$30015,\"femenino\")+\nCOUNTIFS('BD-SOC'!$V$15:$V$30015,DATA!M47,'BD-SOC'!$E$15:$E$30015,\"mujer\")+\nCOUNTIFS('BD-SOC'!$V$15:$V$30015,DATA!M47,'BD-SOC'!$E$15:$E$30015,\"f\"))\n+\n(COUNTIFS('BD-SOC'!$X$15:$X$30015,DATA!M47,'BD-SOC'!$E$15:$E$30015,\"femenino\")+\nCOUNTIFS('BD-SOC'!$X$15:$X$30015,DATA!M47,'BD-SOC'!$E$15:$E$30015,\"mujer\")+\nCOUNTIFS('BD-SOC'!$X$15:$X$30015,DATA!M47,'BD-SOC'!$E$15:$E$30015,\"f\"))\n+\n(COUNTIFS('BD-SOC'!$Z$15:$Z$30015,DATA!M47,'BD-SOC'!$E$15:$E$30015,\"femenino\")+\nCOUNTIFS('BD-SOC'!$Z$15:$Z$30015,DATA!M47,'BD-SOC'!$E$15:$E$30015,\"mujer\")+\nCOUNTIFS('BD-SOC'!$Z$15:$Z$30015,DATA!M47,'BD-SOC'!$E$15:$E$30015,\"f\"))\n+\n(COUNTIFS('BD-SOC'!$AB$15:$AB$30015,DATA!M47,'BD-SOC'!$E$15:$E$30015,\"femenino\")+\nCOUNTIFS('BD-SOC'!$AB$15:$AB$30015,DATA!M47,'BD-SOC'!$E$15:$E$30015,\"mujer\")+\nCOUNTIFS('BD-SOC'!$AB$15:$AB$30015,DATA!M47,'BD-SOC'!$E$15:$E$30015,\"f\"))","v":0}]
["EN ACTIVIDAD",null,null,null,null,null,"GESTIÓN RELACIONADA A INTERNOS EXTRANJEROS",null,null,null,null,null,205,"INFORME DE AD HONOREM",null,{"$f":"(COUNTIFS('BD-SOC'!$P$15:$P$30015,DATA!M48,'BD-SOC'!$E$15:$E$30015,\"masculino\")+\nCOUNTIFS('BD-SOC'!$P$15:$P$30015,DATA!M48,'BD-SOC'!$E$15:$E$30015,\"hombre\")+\nCOUNTIFS('BD-SOC'!$P$15:$P$30015,DATA!M48,'BD-SOC'!$E$15:$E$30015,\"m\")+\nCOUNTIFS('BD-SOC'!$P$15:$P$30015,DATA!M48,'BD-SOC'!$E$15:$E$30015,\"h\"))\n+\n(COUNTIFS('BD-SOC'!$R$15:$R$30015,DATA!M48,'BD-SOC'!$E$15:$E$30015,\"masculino\")+\nCOUNTIFS('BD-SOC'!$R$15:$R$30015,DATA!M48,'BD-SOC'!$E$15:$E$30015,\"hombre\")+\nCOUNTIFS('BD-SOC'!$R$15:$R$30015,DATA!M48,'BD-SOC'!$E$15:$E$30015,\"m\")+\nCOUNTIFS('BD-SOC'!$R$15:$R$30015,DATA!M48,'BD-SOC'!$E$15:$E$30015,\"h\"))\n+\n(COUNTIFS('BD-SOC'!$T$15:$T$30015,DATA!M48,'BD-SOC'!$E$15:$E$30015,\"masculino\")+\nCOUNTIFS('BD-SOC'!$T$15:$T$30015,DATA!M48,'BD-SOC'!$E$15:$E$30015,\"hombre\")+\nCOUNTIFS('BD-SOC'!$T$15:$T$30015,DATA!M48,'BD-SOC'!$E$15:$E$30015,\"m\")+\nCOUNTIFS('BD-SOC'!$T$15:$T$30015,DATA!M48,'BD-SOC'!$E$15:$E$30015,\"h\"))\n+\n(COUNTIFS('BD-SOC'!$V$15:$V$30015,DATA!M48,'BD-SOC'!$E$15:$E$30015,\"masculino\")+\nCOUNTIFS('BD-SOC'!$V$15:$V$30015,DATA!M48,'BD-SOC'!$E$15:$E$30015,\"hombre\")+\nCOUNTIFS('BD-SOC'!$V$15:$V$30015,DATA!M48,'BD-SOC'!$E$15:$E$30015,\"m\")+\nCOUNTIFS('BD-SOC'!$V$15:$V$30015,DATA!M48,'BD-SOC'!$E$15:$E$30015,\"h\"))\n+\n(COUNTIFS('BD-SOC'!$X$15:$X$30015,DATA!M48,'BD-SOC'!$E$15:$E$30015,\"masculino\")+\nCOUNTIFS('BD-SOC'!$X$15:$X$30015,DATA!M48,'BD-SOC'!$E$15:$E$30015,\"hombre\")+\nCOUNTIFS('BD-SOC'!$X$15:$X$30015,DATA!M48,'BD-SOC'!$E$15:$E$30015,\"m\")+\nCOUNTIFS('BD-SOC'!$X$15:$X$30015,DATA!M48,'BD-SOC'!$E$15:$E$30015,\"h\"))\n+\n(COUNTIFS('BD-SOC'!$Z$15:$Z$30015,DATA!M48,'BD-SOC'!$E$15:$E$30015,\"masculino\")+\nCOUNTIFS('BD-SOC'!$Z$15:$Z$30015,DATA!M48,'BD-SOC'!$E$15:$E$30015,\"hombre\")+\nCOUNTIFS('BD-SOC'!$Z$15:$Z$30015,DATA!M48,'BD-SOC'!$E$15:$E$30015,\"m\")+\nCOUNTIFS('BD-SOC'!$Z$15:$Z$30015,DATA!M48,'BD-SOC'!$E$15:$E$30015,\"h\"))\n+\n(COUNTIFS('BD-SOC'!$AB$15:$AB$30015,DATA!M48,'BD-SOC'!$E$15:$E$30015,\"masculino\")+\nCOUNTIFS('BD-SOC'!$AB$15:$AB$30015,DATA!M48,'BD-SOC'!$E$15:$E$30015,\"hombre\")+\nCOUNTIFS('BD-SOC'!$AB$15:$AB$30015,DATA!M48,'BD-SOC'!$E$15:$E$30015,\"m\")+\nCOUNTIFS('BD-SOC'!$AB$15:$AB$30015,DATA!M48,'BD-SOC'!$E$15:$E$30015,\"h\"))","v":0},{"$f":"(COUNTIFS('BD-SOC'!$P$15:$P$30015,DATA!M48,'BD-SOC'!$E$15:$E$30015,\"femenino\")+\nCOUNTIFS('BD-SOC'!$P$15:$P$30015,DATA!M48,'BD-SOC'!$E$15:$E$30015,\"mujer\")+\nCOUNTIFS('BD-SOC'!$P$15:$P$30015,DATA!M48,'BD-SOC'!$E$15:$E$30015,\"f\"))\n+\n(COUNTIFS('BD-SOC'!$R$15:$R$30015,DATA!M48,'BD-SOC'!$E$15:$E$30015,\"femenino\")+\nCOUNTIFS('BD-SOC'!$R$15:$R$30015,DATA!M48,'BD-SOC'!$E$15:$E$30015,\"mujer\")+\nCOUNTIFS('BD-SOC'!$R$15:$R$30015,DATA!M48,'BD-SOC'!$E$15:$E$30015,\"f\"))\n+\n(COUNTIFS('BD-SOC'!$T$15:$T$30015,DATA!M48,'BD-SOC'!$E$15:$E$30015,\"femenino\")+\nCOUNTIFS('BD-SOC'!$T$15:$T$30015,DATA!M48,'BD-SOC'!$E$15:$E$30015,\"mujer\")+\nCOUNTIFS('BD-SOC'!$T$15:$T$30015,DATA!M48,'BD-SOC'!$E$15:$E$30015,\"f\"))\n+\n(COUNTIFS('BD-SOC'!$V$15:$V$30015,DATA!M48,'BD-SOC'!$E$15:$E$30015,\"femenino\")+\nCOUNTIFS('BD-SOC'!$V$15:$V$30015,DATA!M48,'BD-SOC'!$E$15:$E$30015,\"mujer\")+\nCOUNTIFS('BD-SOC'!$V$15:$V$30015,DATA!M48,'BD-SOC'!$E$15:$E$30015,\"f\"))\n+\n(COUNTIFS('BD-SOC'!$X$15:$X$30015,DATA!M48,'BD-SOC'!$E$15:$E$30015,\"femenino\")+\nCOUNTIFS('BD-SOC'!$X$15:$X$30015,DATA!M48,'BD-SOC'!$E$15:$E$30015,\"mujer\")+\nCOUNTIFS('BD-SOC'!$X$15:$X$30015,DATA!M48,'BD-SOC'!$E$15:$E$30015,\"f\"))\n+\n(COUNTIFS('BD-SOC'!$Z$15:$Z$30015,DATA!M48,'BD-SOC'!$E$15:$E$30015,\"femenino\")+\nCOUNTIFS('BD-SOC'!$Z$15:$Z$30015,DATA!M48,'BD-SOC'!$E$15:$E$30015,\"mujer\")+\nCOUNTIFS('BD-SOC'!$Z$15:$Z$30015,DATA!M48,'BD-SOC'!$E$15:$E$30015,\"f\"))\n+\n(COUNTIFS('BD-SOC'!$AB$15:$AB$30015,DATA!M48,'BD-SOC'!$E$15:$E$30015,\"femenino\")+\nCOUNTIFS('BD-SOC'!$AB$15:$AB$30015,DATA!M48,'BD-SOC'!$E$15:$E$30015,\"mujer\")+\nCOUNTIFS('BD-SOC'!$AB$15:$AB$30015,DATA!M48,'BD-SOC'!$E$15:$E$30015,\"f\"))","v":0}]
["LICENCIA",null,null,null,null,null,null,null,null,null,null,null,206,"INFORMES DE AMPLIACIÓN",null,{"$f":"(COUNTIFS('BD-SOC'!$P$15:$P$30015,DATA!M49,'BD-SOC'!$E$15:$E$30015,\"masculino\")+\nCOUNTIFS('BD-SOC'!$P$15:$P$30015,DATA!M49,'BD-SOC'!$E$15:$E$30015,\"hombre\")+\nCOUNTIFS('BD-SOC'!$P$15:$P$30015,DATA!M49,'BD-SOC'!$E$15:$E$30015,\"m\")+\nCOUNTIFS('BD-SOC'!$P$15:$P$30015,DATA!M49,'BD-SOC'!$E$15:$E$30015,\"h\"))\n+\n(COUNTIFS('BD-SOC'!$R$15:$R$30015,DATA!M49,'BD-SOC'!$E$15:$E$30015,\"masculino\")+\nCOUNTIFS('BD-SOC'!$R$15:$R$30015,DATA!M49,'BD-SOC'!$E$15:$E$30015,\"hombre\")+\nCOUNTIFS('BD-SOC'!$R$15:$R$30015,DATA!M49,'BD-SOC'!$E$15:$E$30015,\"m\")+\nCOUNTIFS('BD-SOC'!$R$15:$R$30015,DATA!M49,'BD-SOC'!$E$15:$E$30015,\"h\"))\n+\n(COUNTIFS('BD-SOC'!$T$15:$T$30015,DATA!M49,'BD-SOC'!$E$15:$E$30015,\"masculino\")+\nCOUNTIFS('BD-SOC'!$T$15:$T$30015,DATA!M49,'BD-SOC'!$E$15:$E$30015,\"hombre\")+\nCOUNTIFS('BD-SOC'!$T$15:$T$30015,DATA!M49,'BD-SOC'!$E$15:$E$30015,\"m\")+\nCOUNTIFS('BD-SOC'!$T$15:$T$30015,DATA!M49,'BD-SOC'!$E$15:$E$30015,\"h\"))\n+\n(COUNTIFS('BD-SOC'!$V$15:$V$30015,DATA!M49,'BD-SOC'!$E$15:$E$30015,\"masculino\")+\nCOUNTIFS('BD-SOC'!$V$15:$V$30015,DATA!M49,'BD-SOC'!$E$15:$E$30015,\"hombre\")+\nCOUNTIFS('BD-SOC'!$V$15:$V$30015,DATA!M49,'BD-SOC'!$E$15:$E$30015,\"m\")+\nCOUNTIFS('BD-SOC'!$V$15:$V$30015,DATA!M49,'BD-SOC'!$E$15:$E$30015,\"h\"))\n+\n(COUNTIFS('BD-SOC'!$X$15:$X$30015,DATA!M49,'BD-SOC'!$E$15:$E$30015,\"masculino\")+\nCOUNTIFS('BD-SOC'!$X$15:$X$30015,DATA!M49,'BD-SOC'!$E$15:$E$30015,\"hombre\")+\nCOUNTIFS('BD-SOC'!$X$15:$X$30015,DATA!M49,'BD-SOC'!$E$15:$E$30015,\"m\")+\nCOUNTIFS('BD-SOC'!$X$15:$X$30015,DATA!M49,'BD-SOC'!$E$15:$E$30015,\"h\"))\n+\n(COUNTIFS('BD-SOC'!$Z$15:$Z$30015,DATA!M49,'BD-SOC'!$E$15:$E$30015,\"masculino\")+\nCOUNTIFS('BD-SOC'!$Z$15:$Z$30015,DATA!M49,'BD-SOC'!$E$15:$E$30015,\"hombre\")+\nCOUNTIFS('BD-SOC'!$Z$15:$Z$30015,DATA!M49,'BD-SOC'!$E$15:$E$30015,\"m\")+\nCOUNTIFS('BD-SOC'!$Z$15:$Z$30015,DATA!M49,'BD-SOC'!$E$15:$E$30015,\"h\"))\n+\n(COUNTIFS('BD-SOC'!$AB$15:$AB$30015,DATA!M49,'BD-SOC'!$E$15:$E$30015,\"masculino\")+\nCOUNTIFS('BD-SOC'!$AB$15:$AB$30015,DATA!M49,'BD-SOC'!$E$15:$E$30015,\"hombre\")+\nCOUNTIFS('BD-SOC'!$AB$15:$AB$30015,DATA!M49,'BD-SOC'!$E$15:$E$30015,\"m\")+\nCOUNTIFS('BD-SOC'!$AB$15:$AB$30015,DATA!M49,'BD-SOC'!$E$15:$E$30015,\"h\"))","v":0},{"$f":"(COUNTIFS('BD-SOC'!$P$15:$P$30015,DATA!M49,'BD-SOC'!$E$15:$E$30015,\"femenino\")+\nCOUNTIFS('BD-SOC'!$P$15:$P$30015,DATA!M49,'BD-SOC'!$E$15:$E$30015,\"mujer\")+\nCOUNTIFS('BD-SOC'!$P$15:$P$30015,DATA!M49,'BD-SOC'!$E$15:$E$30015,\"f\"))\n+\n(COUNTIFS('BD-SOC'!$R$15:$R$30015,DATA!M49,'BD-SOC'!$E$15:$E$30015,\"femenino\")+\nCOUNTIFS('BD-SOC'!$R$15:$R$30015,DATA!M49,'BD-SOC'!$E$15:$E$30015,\"mujer\")+\nCOUNTIFS('BD-SOC'!$R$15:$R$30015,DATA!M49,'BD-SOC'!$E$15:$E$30015,\"f\"))\n+\n(COUNTIFS('BD-SOC'!$T$15:$T$30015,DATA!M49,'BD-SOC'!$E$15:$E$30015,\"femenino\")+\nCOUNTIFS('BD-SOC'!$T$15:$T$30015,DATA!M49,'BD-SOC'!$E$15:$E$30015,\"mujer\")+\nCOUNTIFS('BD-SOC'!$T$15:$T$30015,DATA!M49,'BD-SOC'!$E$15:$E$30015,\"f\"))\n+\n(COUNTIFS('BD-SOC'!$V$15:$V$30015,DATA!M49,'BD-SOC'!$E$15:$E$30015,\"femenino\")+\nCOUNTIFS('BD-SOC'!$V$15:$V$30015,DATA!M49,'BD-SOC'!$E$15:$E$30015,\"mujer\")+\nCOUNTIFS('BD-SOC'!$V$15:$V$30015,DATA!M49,'BD-SOC'!$E$15:$E$30015,\"f\"))\n+\n(COUNTIFS('BD-SOC'!$X$15:$X$30015,DATA!M49,'BD-SOC'!$E$15:$E$30015,\"femenino\")+\nCOUNTIFS('BD-SOC'!$X$15:$X$30015,DATA!M49,'BD-SOC'!$E$15:$E$30015,\"mujer\")+\nCOUNTIFS('BD-SOC'!$X$15:$X$30015,DATA!M49,'BD-SOC'!$E$15:$E$30015,\"f\"))\n+\n(COUNTIFS('BD-SOC'!$Z$15:$Z$30015,DATA!M49,'BD-SOC'!$E$15:$E$30015,\"femenino\")+\nCOUNTIFS('BD-SOC'!$Z$15:$Z$30015,DATA!M49,'BD-SOC'!$E$15:$E$30015,\"mujer\")+\nCOUNTIFS('BD-SOC'!$Z$15:$Z$30015,DATA!M49,'BD-SOC'!$E$15:$E$30015,\"f\"))\n+\n(COUNTIFS('BD-SOC'!$AB$15:$AB$30015,DATA!M49,'BD-SOC'!$E$15:$E$30015,\"femenino\")+\nCOUNTIFS('BD-SOC'!$AB$15:$AB$30015,DATA!M49,'BD-SOC'!$E$15:$E$30015,\"mujer\")+\nCOUNTIFS('BD-SOC'!$AB$15:$AB$30015,DATA!M49,'BD-SOC'!$E$15:$E$30015,\"f\"))","v":0}]
["VACACIONES",null,null,null,null,null,null,null,null,null,null,null,207,"INFORME PARA VIGILANCIA ELECTRÓNICA",null,{"$f":"(COUNTIFS('BD-SOC'!$P$15:$P$30015,DATA!M50,'BD-SOC'!$E$15:$E$30015,\"masculino\")+\nCOUNTIFS('BD-SOC'!$P$15:$P$30015,DATA!M50,'BD-SOC'!$E$15:$E$30015,\"hombre\")+\nCOUNTIFS('BD-SOC'!$P$15:$P$30015,DATA!M50,'BD-SOC'!$E$15:$E$30015,\"m\")+\nCOUNTIFS('BD-SOC'!$P$15:$P$30015,DATA!M50,'BD-SOC'!$E$15:$E$30015,\"h\"))\n+\n(COUNTIFS('BD-SOC'!$R$15:$R$30015,DATA!M50,'BD-SOC'!$E$15:$E$30015,\"masculino\")+\nCOUNTIFS('BD-SOC'!$R$15:$R$30015,DATA!M50,'BD-SOC'!$E$15:$E$30015,\"hombre\")+\nCOUNTIFS('BD-SOC'!$R$15:$R$30015,DATA!M50,'BD-SOC'!$E$15:$E$30015,\"m\")+\nCOUNTIFS('BD-SOC'!$R$15:$R$30015,DATA!M50,'BD-SOC'!$E$15:$E$30015,\"h\"))\n+\n(COUNTIFS('BD-SOC'!$T$15:$T$30015,DATA!M50,'BD-SOC'!$E$15:$E$30015,\"masculino\")+\nCOUNTIFS('BD-SOC'!$T$15:$T$30015,DATA!M50,'BD-SOC'!$E$15:$E$30015,\"hombre\")+\nCOUNTIFS('BD-SOC'!$T$15:$T$30015,DATA!M50,'BD-SOC'!$E$15:$E$30015,\"m\")+\nCOUNTIFS('BD-SOC'!$T$15:$T$30015,DATA!M50,'BD-SOC'!$E$15:$E$30015,\"h\"))\n+\n(COUNTIFS('BD-SOC'!$V$15:$V$30015,DATA!M50,'BD-SOC'!$E$15:$E$30015,\"masculino\")+\nCOUNTIFS('BD-SOC'!$V$15:$V$30015,DATA!M50,'BD-SOC'!$E$15:$E$30015,\"hombre\")+\nCOUNTIFS('BD-SOC'!$V$15:$V$30015,DATA!M50,'BD-SOC'!$E$15:$E$30015,\"m\")+\nCOUNTIFS('BD-SOC'!$V$15:$V$30015,DATA!M50,'BD-SOC'!$E$15:$E$30015,\"h\"))\n+\n(COUNTIFS('BD-SOC'!$X$15:$X$30015,DATA!M50,'BD-SOC'!$E$15:$E$30015,\"masculino\")+\nCOUNTIFS('BD-SOC'!$X$15:$X$30015,DATA!M50,'BD-SOC'!$E$15:$E$30015,\"hombre\")+\nCOUNTIFS('BD-SOC'!$X$15:$X$30015,DATA!M50,'BD-SOC'!$E$15:$E$30015,\"m\")+\nCOUNTIFS('BD-SOC'!$X$15:$X$30015,DATA!M50,'BD-SOC'!$E$15:$E$30015,\"h\"))\n+\n(COUNTIFS('BD-SOC'!$Z$15:$Z$30015,DATA!M50,'BD-SOC'!$E$15:$E$30015,\"masculino\")+\nCOUNTIFS('BD-SOC'!$Z$15:$Z$30015,DATA!M50,'BD-SOC'!$E$15:$E$30015,\"hombre\")+\nCOUNTIFS('BD-SOC'!$Z$15:$Z$30015,DATA!M50,'BD-SOC'!$E$15:$E$30015,\"m\")+\nCOUNTIFS('BD-SOC'!$Z$15:$Z$30015,DATA!M50,'BD-SOC'!$E$15:$E$30015,\"h\"))\n+\n(COUNTIFS('BD-SOC'!$AB$15:$AB$30015,DATA!M50,'BD-SOC'!$E$15:$E$30015,\"masculino\")+\nCOUNTIFS('BD-SOC'!$AB$15:$AB$30015,DATA!M50,'BD-SOC'!$E$15:$E$30015,\"hombre\")+\nCOUNTIFS('BD-SOC'!$AB$15:$AB$30015,DATA!M50,'BD-SOC'!$E$15:$E$30015,\"m\")+\nCOUNTIFS('BD-SOC'!$AB$15:$AB$30015,DATA!M50,'BD-SOC'!$E$15:$E$30015,\"h\"))","v":0},{"$f":"(COUNTIFS('BD-SOC'!$P$15:$P$30015,DATA!M50,'BD-SOC'!$E$15:$E$30015,\"femenino\")+\nCOUNTIFS('BD-SOC'!$P$15:$P$30015,DATA!M50,'BD-SOC'!$E$15:$E$30015,\"mujer\")+\nCOUNTIFS('BD-SOC'!$P$15:$P$30015,DATA!M50,'BD-SOC'!$E$15:$E$30015,\"f\"))\n+\n(COUNTIFS('BD-SOC'!$R$15:$R$30015,DATA!M50,'BD-SOC'!$E$15:$E$30015,\"femenino\")+\nCOUNTIFS('BD-SOC'!$R$15:$R$30015,DATA!M50,'BD-SOC'!$E$15:$E$30015,\"mujer\")+\nCOUNTIFS('BD-SOC'!$R$15:$R$30015,DATA!M50,'BD-SOC'!$E$15:$E$30015,\"f\"))\n+\n(COUNTIFS('BD-SOC'!$T$15:$T$30015,DATA!M50,'BD-SOC'!$E$15:$E$30015,\"femenino\")+\nCOUNTIFS('BD-SOC'!$T$15:$T$30015,DATA!M50,'BD-SOC'!$E$15:$E$30015,\"mujer\")+\nCOUNTIFS('BD-SOC'!$T$15:$T$30015,DATA!M50,'BD-SOC'!$E$15:$E$30015,\"f\"))\n+\n(COUNTIFS('BD-SOC'!$V$15:$V$30015,DATA!M50,'BD-SOC'!$E$15:$E$30015,\"femenino\")+\nCOUNTIFS('BD-SOC'!$V$15:$V$30015,DATA!M50,'BD-SOC'!$E$15:$E$30015,\"mujer\")+\nCOUNTIFS('BD-SOC'!$V$15:$V$30015,DATA!M50,'BD-SOC'!$E$15:$E$30015,\"f\"))\n+\n(COUNTIFS('BD-SOC'!$X$15:$X$30015,DATA!M50,'BD-SOC'!$E$15:$E$30015,\"femenino\")+\nCOUNTIFS('BD-SOC'!$X$15:$X$30015,DATA!M50,'BD-SOC'!$E$15:$E$30015,\"mujer\")+\nCOUNTIFS('BD-SOC'!$X$15:$X$30015,DATA!M50,'BD-SOC'!$E$15:$E$30015,\"f\"))\n+\n(COUNTIFS('BD-SOC'!$Z$15:$Z$30015,DATA!M50,'BD-SOC'!$E$15:$E$30015,\"femenino\")+\nCOUNTIFS('BD-SOC'!$Z$15:$Z$30015,DATA!M50,'BD-SOC'!$E$15:$E$30015,\"mujer\")+\nCOUNTIFS('BD-SOC'!$Z$15:$Z$30015,DATA!M50,'BD-SOC'!$E$15:$E$30015,\"f\"))\n+\n(COUNTIFS('BD-SOC'!$AB$15:$AB$30015,DATA!M50,'BD-SOC'!$E$15:$E$30015,\"femenino\")+\nCOUNTIFS('BD-SOC'!$AB$15:$AB$30015,DATA!M50,'BD-SOC'!$E$15:$E$30015,\"mujer\")+\nCOUNTIFS('BD-SOC'!$AB$15:$AB$30015,DATA!M50,'BD-SOC'!$E$15:$E$30015,\"f\"))","v":0}]
["SANCIONADO-SUSPENSIÓN",null,null,null,null,null,null,null,null,null,null,null,208,"INFORME DE TRASLADO POR UNIDAD FAMILIAR",null,{"$f":"(COUNTIFS('BD-SOC'!$P$15:$P$30015,DATA!M51,'BD-SOC'!$E$15:$E$30015,\"masculino\")+\nCOUNTIFS('BD-SOC'!$P$15:$P$30015,DATA!M51,'BD-SOC'!$E$15:$E$30015,\"hombre\")+\nCOUNTIFS('BD-SOC'!$P$15:$P$30015,DATA!M51,'BD-SOC'!$E$15:$E$30015,\"m\")+\nCOUNTIFS('BD-SOC'!$P$15:$P$30015,DATA!M51,'BD-SOC'!$E$15:$E$30015,\"h\"))\n+\n(COUNTIFS('BD-SOC'!$R$15:$R$30015,DATA!M51,'BD-SOC'!$E$15:$E$30015,\"masculino\")+\nCOUNTIFS('BD-SOC'!$R$15:$R$30015,DATA!M51,'BD-SOC'!$E$15:$E$30015,\"hombre\")+\nCOUNTIFS('BD-SOC'!$R$15:$R$30015,DATA!M51,'BD-SOC'!$E$15:$E$30015,\"m\")+\nCOUNTIFS('BD-SOC'!$R$15:$R$30015,DATA!M51,'BD-SOC'!$E$15:$E$30015,\"h\"))\n+\n(COUNTIFS('BD-SOC'!$T$15:$T$30015,DATA!M51,'BD-SOC'!$E$15:$E$30015,\"masculino\")+\nCOUNTIFS('BD-SOC'!$T$15:$T$30015,DATA!M51,'BD-SOC'!$E$15:$E$30015,\"hombre\")+\nCOUNTIFS('BD-SOC'!$T$15:$T$30015,DATA!M51,'BD-SOC'!$E$15:$E$30015,\"m\")+\nCOUNTIFS('BD-SOC'!$T$15:$T$30015,DATA!M51,'BD-SOC'!$E$15:$E$30015,\"h\"))\n+\n(COUNTIFS('BD-SOC'!$V$15:$V$30015,DATA!M51,'BD-SOC'!$E$15:$E$30015,\"masculino\")+\nCOUNTIFS('BD-SOC'!$V$15:$V$30015,DATA!M51,'BD-SOC'!$E$15:$E$30015,\"hombre\")+\nCOUNTIFS('BD-SOC'!$V$15:$V$30015,DATA!M51,'BD-SOC'!$E$15:$E$30015,\"m\")+\nCOUNTIFS('BD-SOC'!$V$15:$V$30015,DATA!M51,'BD-SOC'!$E$15:$E$30015,\"h\"))\n+\n(COUNTIFS('BD-SOC'!$X$15:$X$30015,DATA!M51,'BD-SOC'!$E$15:$E$30015,\"masculino\")+\nCOUNTIFS('BD-SOC'!$X$15:$X$30015,DATA!M51,'BD-SOC'!$E$15:$E$30015,\"hombre\")+\nCOUNTIFS('BD-SOC'!$X$15:$X$30015,DATA!M51,'BD-SOC'!$E$15:$E$30015,\"m\")+\nCOUNTIFS('BD-SOC'!$X$15:$X$30015,DATA!M51,'BD-SOC'!$E$15:$E$30015,\"h\"))\n+\n(COUNTIFS('BD-SOC'!$Z$15:$Z$30015,DATA!M51,'BD-SOC'!$E$15:$E$30015,\"masculino\")+\nCOUNTIFS('BD-SOC'!$Z$15:$Z$30015,DATA!M51,'BD-SOC'!$E$15:$E$30015,\"hombre\")+\nCOUNTIFS('BD-SOC'!$Z$15:$Z$30015,DATA!M51,'BD-SOC'!$E$15:$E$30015,\"m\")+\nCOUNTIFS('BD-SOC'!$Z$15:$Z$30015,DATA!M51,'BD-SOC'!$E$15:$E$30015,\"h\"))\n+\n(COUNTIFS('BD-SOC'!$AB$15:$AB$30015,DATA!M51,'BD-SOC'!$E$15:$E$30015,\"masculino\")+\nCOUNTIFS('BD-SOC'!$AB$15:$AB$30015,DATA!M51,'BD-SOC'!$E$15:$E$30015,\"hombre\")+\nCOUNTIFS('BD-SOC'!$AB$15:$AB$30015,DATA!M51,'BD-SOC'!$E$15:$E$30015,\"m\")+\nCOUNTIFS('BD-SOC'!$AB$15:$AB$30015,DATA!M51,'BD-SOC'!$E$15:$E$30015,\"h\"))","v":0},{"$f":"(COUNTIFS('BD-SOC'!$P$15:$P$30015,DATA!M51,'BD-SOC'!$E$15:$E$30015,\"femenino\")+\nCOUNTIFS('BD-SOC'!$P$15:$P$30015,DATA!M51,'BD-SOC'!$E$15:$E$30015,\"mujer\")+\nCOUNTIFS('BD-SOC'!$P$15:$P$30015,DATA!M51,'BD-SOC'!$E$15:$E$30015,\"f\"))\n+\n(COUNTIFS('BD-SOC'!$R$15:$R$30015,DATA!M51,'BD-SOC'!$E$15:$E$30015,\"femenino\")+\nCOUNTIFS('BD-SOC'!$R$15:$R$30015,DATA!M51,'BD-SOC'!$E$15:$E$30015,\"mujer\")+\nCOUNTIFS('BD-SOC'!$R$15:$R$30015,DATA!M51,'BD-SOC'!$E$15:$E$30015,\"f\"))\n+\n(COUNTIFS('BD-SOC'!$T$15:$T$30015,DATA!M51,'BD-SOC'!$E$15:$E$30015,\"femenino\")+\nCOUNTIFS('BD-SOC'!$T$15:$T$30015,DATA!M51,'BD-SOC'!$E$15:$E$30015,\"mujer\")+\nCOUNTIFS('BD-SOC'!$T$15:$T$30015,DATA!M51,'BD-SOC'!$E$15:$E$30015,\"f\"))\n+\n(COUNTIFS('BD-SOC'!$V$15:$V$30015,DATA!M51,'BD-SOC'!$E$15:$E$30015,\"femenino\")+\nCOUNTIFS('BD-SOC'!$V$15:$V$30015,DATA!M51,'BD-SOC'!$E$15:$E$30015,\"mujer\")+\nCOUNTIFS('BD-SOC'!$V$15:$V$30015,DATA!M51,'BD-SOC'!$E$15:$E$30015,\"f\"))\n+\n(COUNTIFS('BD-SOC'!$X$15:$X$30015,DATA!M51,'BD-SOC'!$E$15:$E$30015,\"femenino\")+\nCOUNTIFS('BD-SOC'!$X$15:$X$30015,DATA!M51,'BD-SOC'!$E$15:$E$30015,\"mujer\")+\nCOUNTIFS('BD-SOC'!$X$15:$X$30015,DATA!M51,'BD-SOC'!$E$15:$E$30015,\"f\"))\n+\n(COUNTIFS('BD-SOC'!$Z$15:$Z$30015,DATA!M51,'BD-SOC'!$E$15:$E$30015,\"femenino\")+\nCOUNTIFS('BD-SOC'!$Z$15:$Z$30015,DATA!M51,'BD-SOC'!$E$15:$E$30015,\"mujer\")+\nCOUNTIFS('BD-SOC'!$Z$15:$Z$30015,DATA!M51,'BD-SOC'!$E$15:$E$30015,\"f\"))\n+\n(COUNTIFS('BD-SOC'!$AB$15:$AB$30015,DATA!M51,'BD-SOC'!$E$15:$E$30015,\"femenino\")+\nCOUNTIFS('BD-SOC'!$AB$15:$AB$30015,DATA!M51,'BD-SOC'!$E$15:$E$30015,\"mujer\")+\nCOUNTIFS('BD-SOC'!$AB$15:$AB$30015,DATA!M51,'BD-SOC'!$E$15:$E$30015,\"f\"))","v":0}]
[null,null,null,null,null,null,null,null,null,null,null,null,209,"INFORME DE GRACIAS PRESIDENCIALES POR RAZONES HUMANITARIAS",null,{"$f":"(COUNTIFS('BD-SOC'!$P$15:$P$30015,DATA!M52,'BD-SOC'!$E$15:$E$30015,\"masculino\")+\nCOUNTIFS('BD-SOC'!$P$15:$P$30015,DATA!M52,'BD-SOC'!$E$15:$E$30015,\"hombre\")+\nCOUNTIFS('BD-SOC'!$P$15:$P$30015,DATA!M52,'BD-SOC'!$E$15:$E$30015,\"m\")+\nCOUNTIFS('BD-SOC'!$P$15:$P$30015,DATA!M52,'BD-SOC'!$E$15:$E$30015,\"h\"))\n+\n(COUNTIFS('BD-SOC'!$R$15:$R$30015,DATA!M52,'BD-SOC'!$E$15:$E$30015,\"masculino\")+\nCOUNTIFS('BD-SOC'!$R$15:$R$30015,DATA!M52,'BD-SOC'!$E$15:$E$30015,\"hombre\")+\nCOUNTIFS('BD-SOC'!$R$15:$R$30015,DATA!M52,'BD-SOC'!$E$15:$E$30015,\"m\")+\nCOUNTIFS('BD-SOC'!$R$15:$R$30015,DATA!M52,'BD-SOC'!$E$15:$E$30015,\"h\"))\n+\n(COUNTIFS('BD-SOC'!$T$15:$T$30015,DATA!M52,'BD-SOC'!$E$15:$E$30015,\"masculino\")+\nCOUNTIFS('BD-SOC'!$T$15:$T$30015,DATA!M52,'BD-SOC'!$E$15:$E$30015,\"hombre\")+\nCOUNTIFS('BD-SOC'!$T$15:$T$30015,DATA!M52,'BD-SOC'!$E$15:$E$30015,\"m\")+\nCOUNTIFS('BD-SOC'!$T$15:$T$30015,DATA!M52,'BD-SOC'!$E$15:$E$30015,\"h\"))\n+\n(COUNTIFS('BD-SOC'!$V$15:$V$30015,DATA!M52,'BD-SOC'!$E$15:$E$30015,\"masculino\")+\nCOUNTIFS('BD-SOC'!$V$15:$V$30015,DATA!M52,'BD-SOC'!$E$15:$E$30015,\"hombre\")+\nCOUNTIFS('BD-SOC'!$V$15:$V$30015,DATA!M52,'BD-SOC'!$E$15:$E$30015,\"m\")+\nCOUNTIFS('BD-SOC'!$V$15:$V$30015,DATA!M52,'BD-SOC'!$E$15:$E$30015,\"h\"))\n+\n(COUNTIFS('BD-SOC'!$X$15:$X$30015,DATA!M52,'BD-SOC'!$E$15:$E$30015,\"masculino\")+\nCOUNTIFS('BD-SOC'!$X$15:$X$30015,DATA!M52,'BD-SOC'!$E$15:$E$30015,\"hombre\")+\nCOUNTIFS('BD-SOC'!$X$15:$X$30015,DATA!M52,'BD-SOC'!$E$15:$E$30015,\"m\")+\nCOUNTIFS('BD-SOC'!$X$15:$X$30015,DATA!M52,'BD-SOC'!$E$15:$E$30015,\"h\"))\n+\n(COUNTIFS('BD-SOC'!$Z$15:$Z$30015,DATA!M52,'BD-SOC'!$E$15:$E$30015,\"masculino\")+\nCOUNTIFS('BD-SOC'!$Z$15:$Z$30015,DATA!M52,'BD-SOC'!$E$15:$E$30015,\"hombre\")+\nCOUNTIFS('BD-SOC'!$Z$15:$Z$30015,DATA!M52,'BD-SOC'!$E$15:$E$30015,\"m\")+\nCOUNTIFS('BD-SOC'!$Z$15:$Z$30015,DATA!M52,'BD-SOC'!$E$15:$E$30015,\"h\"))\n+\n(COUNTIFS('BD-SOC'!$AB$15:$AB$30015,DATA!M52,'BD-SOC'!$E$15:$E$30015,\"masculino\")+\nCOUNTIFS('BD-SOC'!$AB$15:$AB$30015,DATA!M52,'BD-SOC'!$E$15:$E$30015,\"hombre\")+\nCOUNTIFS('BD-SOC'!$AB$15:$AB$30015,DATA!M52,'BD-SOC'!$E$15:$E$30015,\"m\")+\nCOUNTIFS('BD-SOC'!$AB$15:$AB$30015,DATA!M52,'BD-SOC'!$E$15:$E$30015,\"h\"))","v":0},{"$f":"(COUNTIFS('BD-SOC'!$P$15:$P$30015,DATA!M52,'BD-SOC'!$E$15:$E$30015,\"femenino\")+\nCOUNTIFS('BD-SOC'!$P$15:$P$30015,DATA!M52,'BD-SOC'!$E$15:$E$30015,\"mujer\")+\nCOUNTIFS('BD-SOC'!$P$15:$P$30015,DATA!M52,'BD-SOC'!$E$15:$E$30015,\"f\"))\n+\n(COUNTIFS('BD-SOC'!$R$15:$R$30015,DATA!M52,'BD-SOC'!$E$15:$E$30015,\"femenino\")+\nCOUNTIFS('BD-SOC'!$R$15:$R$30015,DATA!M52,'BD-SOC'!$E$15:$E$30015,\"mujer\")+\nCOUNTIFS('BD-SOC'!$R$15:$R$30015,DATA!M52,'BD-SOC'!$E$15:$E$30015,\"f\"))\n+\n(COUNTIFS('BD-SOC'!$T$15:$T$30015,DATA!M52,'BD-SOC'!$E$15:$E$30015,\"femenino\")+\nCOUNTIFS('BD-SOC'!$T$15:$T$30015,DATA!M52,'BD-SOC'!$E$15:$E$30015,\"mujer\")+\nCOUNTIFS('BD-SOC'!$T$15:$T$30015,DATA!M52,'BD-SOC'!$E$15:$E$30015,\"f\"))\n+\n(COUNTIFS('BD-SOC'!$V$15:$V$30015,DATA!M52,'BD-SOC'!$E$15:$E$30015,\"femenino\")+\nCOUNTIFS('BD-SOC'!$V$15:$V$30015,DATA!M52,'BD-SOC'!$E$15:$E$30015,\"mujer\")+\nCOUNTIFS('BD-SOC'!$V$15:$V$30015,DATA!M52,'BD-SOC'!$E$15:$E$30015,\"f\"))\n+\n(COUNTIFS('BD-SOC'!$X$15:$X$30015,DATA!M52,'BD-SOC'!$E$15:$E$30015,\"femenino\")+\nCOUNTIFS('BD-SOC'!$X$15:$X$30015,DATA!M52,'BD-SOC'!$E$15:$E$30015,\"mujer\")+\nCOUNTIFS('BD-SOC'!$X$15:$X$30015,DATA!M52,'BD-SOC'!$E$15:$E$30015,\"f\"))\n+\n(COUNTIFS('BD-SOC'!$Z$15:$Z$30015,DATA!M52,'BD-SOC'!$E$15:$E$30015,\"femenino\")+\nCOUNTIFS('BD-SOC'!$Z$15:$Z$30015,DATA!M52,'BD-SOC'!$E$15:$E$30015,\"mujer\")+\nCOUNTIFS('BD-SOC'!$Z$15:$Z$30015,DATA!M52,'BD-SOC'!$E$15:$E$30015,\"f\"))\n+\n(COUNTIFS('BD-SOC'!$AB$15:$AB$30015,DATA!M52,'BD-SOC'!$E$15:$E$30015,\"femenino\")+\nCOUNTIFS('BD-SOC'!$AB$15:$AB$30015,DATA!M52,'BD-SOC'!$E$15:$E$30015,\"mujer\")+\nCOUNTIFS('BD-SOC'!$AB$15:$AB$30015,DATA!M52,'BD-SOC'!$E$15:$E$30015,\"f\"))","v":0}]
["si/no",null,null,null,null,null,null,null,null,null,null,null,210,"INFORME SOCIO ECONÓMICO",null,{"$f":"(COUNTIFS('BD-SOC'!$P$15:$P$30015,DATA!M53,'BD-SOC'!$E$15:$E$30015,\"masculino\")+\nCOUNTIFS('BD-SOC'!$P$15:$P$30015,DATA!M53,'BD-SOC'!$E$15:$E$30015,\"hombre\")+\nCOUNTIFS('BD-SOC'!$P$15:$P$30015,DATA!M53,'BD-SOC'!$E$15:$E$30015,\"m\")+\nCOUNTIFS('BD-SOC'!$P$15:$P$30015,DATA!M53,'BD-SOC'!$E$15:$E$30015,\"h\"))\n+\n(COUNTIFS('BD-SOC'!$R$15:$R$30015,DATA!M53,'BD-SOC'!$E$15:$E$30015,\"masculino\")+\nCOUNTIFS('BD-SOC'!$R$15:$R$30015,DATA!M53,'BD-SOC'!$E$15:$E$30015,\"hombre\")+\nCOUNTIFS('BD-SOC'!$R$15:$R$30015,DATA!M53,'BD-SOC'!$E$15:$E$30015,\"m\")+\nCOUNTIFS('BD-SOC'!$R$15:$R$30015,DATA!M53,'BD-SOC'!$E$15:$E$30015,\"h\"))\n+\n(COUNTIFS('BD-SOC'!$T$15:$T$30015,DATA!M53,'BD-SOC'!$E$15:$E$30015,\"masculino\")+\nCOUNTIFS('BD-SOC'!$T$15:$T$30015,DATA!M53,'BD-SOC'!$E$15:$E$30015,\"hombre\")+\nCOUNTIFS('BD-SOC'!$T$15:$T$30015,DATA!M53,'BD-SOC'!$E$15:$E$30015,\"m\")+\nCOUNTIFS('BD-SOC'!$T$15:$T$30015,DATA!M53,'BD-SOC'!$E$15:$E$30015,\"h\"))\n+\n(COUNTIFS('BD-SOC'!$V$15:$V$30015,DATA!M53,'BD-SOC'!$E$15:$E$30015,\"masculino\")+\nCOUNTIFS('BD-SOC'!$V$15:$V$30015,DATA!M53,'BD-SOC'!$E$15:$E$30015,\"hombre\")+\nCOUNTIFS('BD-SOC'!$V$15:$V$30015,DATA!M53,'BD-SOC'!$E$15:$E$30015,\"m\")+\nCOUNTIFS('BD-SOC'!$V$15:$V$30015,DATA!M53,'BD-SOC'!$E$15:$E$30015,\"h\"))\n+\n(COUNTIFS('BD-SOC'!$X$15:$X$30015,DATA!M53,'BD-SOC'!$E$15:$E$30015,\"masculino\")+\nCOUNTIFS('BD-SOC'!$X$15:$X$30015,DATA!M53,'BD-SOC'!$E$15:$E$30015,\"hombre\")+\nCOUNTIFS('BD-SOC'!$X$15:$X$30015,DATA!M53,'BD-SOC'!$E$15:$E$30015,\"m\")+\nCOUNTIFS('BD-SOC'!$X$15:$X$30015,DATA!M53,'BD-SOC'!$E$15:$E$30015,\"h\"))\n+\n(COUNTIFS('BD-SOC'!$Z$15:$Z$30015,DATA!M53,'BD-SOC'!$E$15:$E$30015,\"masculino\")+\nCOUNTIFS('BD-SOC'!$Z$15:$Z$30015,DATA!M53,'BD-SOC'!$E$15:$E$30015,\"hombre\")+\nCOUNTIFS('BD-SOC'!$Z$15:$Z$30015,DATA!M53,'BD-SOC'!$E$15:$E$30015,\"m\")+\nCOUNTIFS('BD-SOC'!$Z$15:$Z$30015,DATA!M53,'BD-SOC'!$E$15:$E$30015,\"h\"))\n+\n(COUNTIFS('BD-SOC'!$AB$15:$AB$30015,DATA!M53,'BD-SOC'!$E$15:$E$30015,\"masculino\")+\nCOUNTIFS('BD-SOC'!$AB$15:$AB$30015,DATA!M53,'BD-SOC'!$E$15:$E$30015,\"hombre\")+\nCOUNTIFS('BD-SOC'!$AB$15:$AB$30015,DATA!M53,'BD-SOC'!$E$15:$E$30015,\"m\")+\nCOUNTIFS('BD-SOC'!$AB$15:$AB$30015,DATA!M53,'BD-SOC'!$E$15:$E$30015,\"h\"))","v":0},{"$f":"(COUNTIFS('BD-SOC'!$P$15:$P$30015,DATA!M53,'BD-SOC'!$E$15:$E$30015,\"femenino\")+\nCOUNTIFS('BD-SOC'!$P$15:$P$30015,DATA!M53,'BD-SOC'!$E$15:$E$30015,\"mujer\")+\nCOUNTIFS('BD-SOC'!$P$15:$P$30015,DATA!M53,'BD-SOC'!$E$15:$E$30015,\"f\"))\n+\n(COUNTIFS('BD-SOC'!$R$15:$R$30015,DATA!M53,'BD-SOC'!$E$15:$E$30015,\"femenino\")+\nCOUNTIFS('BD-SOC'!$R$15:$R$30015,DATA!M53,'BD-SOC'!$E$15:$E$30015,\"mujer\")+\nCOUNTIFS('BD-SOC'!$R$15:$R$30015,DATA!M53,'BD-SOC'!$E$15:$E$30015,\"f\"))\n+\n(COUNTIFS('BD-SOC'!$T$15:$T$30015,DATA!M53,'BD-SOC'!$E$15:$E$30015,\"femenino\")+\nCOUNTIFS('BD-SOC'!$T$15:$T$30015,DATA!M53,'BD-SOC'!$E$15:$E$30015,\"mujer\")+\nCOUNTIFS('BD-SOC'!$T$15:$T$30015,DATA!M53,'BD-SOC'!$E$15:$E$30015,\"f\"))\n+\n(COUNTIFS('BD-SOC'!$V$15:$V$30015,DATA!M53,'BD-SOC'!$E$15:$E$30015,\"femenino\")+\nCOUNTIFS('BD-SOC'!$V$15:$V$30015,DATA!M53,'BD-SOC'!$E$15:$E$30015,\"mujer\")+\nCOUNTIFS('BD-SOC'!$V$15:$V$30015,DATA!M53,'BD-SOC'!$E$15:$E$30015,\"f\"))\n+\n(COUNTIFS('BD-SOC'!$X$15:$X$30015,DATA!M53,'BD-SOC'!$E$15:$E$30015,\"femenino\")+\nCOUNTIFS('BD-SOC'!$X$15:$X$30015,DATA!M53,'BD-SOC'!$E$15:$E$30015,\"mujer\")+\nCOUNTIFS('BD-SOC'!$X$15:$X$30015,DATA!M53,'BD-SOC'!$E$15:$E$30015,\"f\"))\n+\n(COUNTIFS('BD-SOC'!$Z$15:$Z$30015,DATA!M53,'BD-SOC'!$E$15:$E$30015,\"femenino\")+\nCOUNTIFS('BD-SOC'!$Z$15:$Z$30015,DATA!M53,'BD-SOC'!$E$15:$E$30015,\"mujer\")+\nCOUNTIFS('BD-SOC'!$Z$15:$Z$30015,DATA!M53,'BD-SOC'!$E$15:$E$30015,\"f\"))\n+\n(COUNTIFS('BD-SOC'!$AB$15:$AB$30015,DATA!M53,'BD-SOC'!$E$15:$E$30015,\"femenino\")+\nCOUNTIFS('BD-SOC'!$AB$15:$AB$30015,DATA!M53,'BD-SOC'!$E$15:$E$30015,\"mujer\")+\nCOUNTIFS('BD-SOC'!$AB$15:$AB$30015,DATA!M53,'BD-SOC'!$E$15:$E$30015,\"f\"))","v":0}]
["SI",null,null,null,null,null,null,null,null,null,null,null,211,"AUDIENCIAS",null,{"$f":"(COUNTIFS('BD-SOC'!$P$15:$P$30015,DATA!M54,'BD-SOC'!$E$15:$E$30015,\"masculino\")+\nCOUNTIFS('BD-SOC'!$P$15:$P$30015,DATA!M54,'BD-SOC'!$E$15:$E$30015,\"hombre\")+\nCOUNTIFS('BD-SOC'!$P$15:$P$30015,DATA!M54,'BD-SOC'!$E$15:$E$30015,\"m\")+\nCOUNTIFS('BD-SOC'!$P$15:$P$30015,DATA!M54,'BD-SOC'!$E$15:$E$30015,\"h\"))\n+\n(COUNTIFS('BD-SOC'!$R$15:$R$30015,DATA!M54,'BD-SOC'!$E$15:$E$30015,\"masculino\")+\nCOUNTIFS('BD-SOC'!$R$15:$R$30015,DATA!M54,'BD-SOC'!$E$15:$E$30015,\"hombre\")+\nCOUNTIFS('BD-SOC'!$R$15:$R$30015,DATA!M54,'BD-SOC'!$E$15:$E$30015,\"m\")+\nCOUNTIFS('BD-SOC'!$R$15:$R$30015,DATA!M54,'BD-SOC'!$E$15:$E$30015,\"h\"))\n+\n(COUNTIFS('BD-SOC'!$T$15:$T$30015,DATA!M54,'BD-SOC'!$E$15:$E$30015,\"masculino\")+\nCOUNTIFS('BD-SOC'!$T$15:$T$30015,DATA!M54,'BD-SOC'!$E$15:$E$30015,\"hombre\")+\nCOUNTIFS('BD-SOC'!$T$15:$T$30015,DATA!M54,'BD-SOC'!$E$15:$E$30015,\"m\")+\nCOUNTIFS('BD-SOC'!$T$15:$T$30015,DATA!M54,'BD-SOC'!$E$15:$E$30015,\"h\"))\n+\n(COUNTIFS('BD-SOC'!$V$15:$V$30015,DATA!M54,'BD-SOC'!$E$15:$E$30015,\"masculino\")+\nCOUNTIFS('BD-SOC'!$V$15:$V$30015,DATA!M54,'BD-SOC'!$E$15:$E$30015,\"hombre\")+\nCOUNTIFS('BD-SOC'!$V$15:$V$30015,DATA!M54,'BD-SOC'!$E$15:$E$30015,\"m\")+\nCOUNTIFS('BD-SOC'!$V$15:$V$30015,DATA!M54,'BD-SOC'!$E$15:$E$30015,\"h\"))\n+\n(COUNTIFS('BD-SOC'!$X$15:$X$30015,DATA!M54,'BD-SOC'!$E$15:$E$30015,\"masculino\")+\nCOUNTIFS('BD-SOC'!$X$15:$X$30015,DATA!M54,'BD-SOC'!$E$15:$E$30015,\"hombre\")+\nCOUNTIFS('BD-SOC'!$X$15:$X$30015,DATA!M54,'BD-SOC'!$E$15:$E$30015,\"m\")+\nCOUNTIFS('BD-SOC'!$X$15:$X$30015,DATA!M54,'BD-SOC'!$E$15:$E$30015,\"h\"))\n+\n(COUNTIFS('BD-SOC'!$Z$15:$Z$30015,DATA!M54,'BD-SOC'!$E$15:$E$30015,\"masculino\")+\nCOUNTIFS('BD-SOC'!$Z$15:$Z$30015,DATA!M54,'BD-SOC'!$E$15:$E$30015,\"hombre\")+\nCOUNTIFS('BD-SOC'!$Z$15:$Z$30015,DATA!M54,'BD-SOC'!$E$15:$E$30015,\"m\")+\nCOUNTIFS('BD-SOC'!$Z$15:$Z$30015,DATA!M54,'BD-SOC'!$E$15:$E$30015,\"h\"))\n+\n(COUNTIFS('BD-SOC'!$AB$15:$AB$30015,DATA!M54,'BD-SOC'!$E$15:$E$30015,\"masculino\")+\nCOUNTIFS('BD-SOC'!$AB$15:$AB$30015,DATA!M54,'BD-SOC'!$E$15:$E$30015,\"hombre\")+\nCOUNTIFS('BD-SOC'!$AB$15:$AB$30015,DATA!M54,'BD-SOC'!$E$15:$E$30015,\"m\")+\nCOUNTIFS('BD-SOC'!$AB$15:$AB$30015,DATA!M54,'BD-SOC'!$E$15:$E$30015,\"h\"))","v":0},{"$f":"(COUNTIFS('BD-SOC'!$P$15:$P$30015,DATA!M54,'BD-SOC'!$E$15:$E$30015,\"femenino\")+\nCOUNTIFS('BD-SOC'!$P$15:$P$30015,DATA!M54,'BD-SOC'!$E$15:$E$30015,\"mujer\")+\nCOUNTIFS('BD-SOC'!$P$15:$P$30015,DATA!M54,'BD-SOC'!$E$15:$E$30015,\"f\"))\n+\n(COUNTIFS('BD-SOC'!$R$15:$R$30015,DATA!M54,'BD-SOC'!$E$15:$E$30015,\"femenino\")+\nCOUNTIFS('BD-SOC'!$R$15:$R$30015,DATA!M54,'BD-SOC'!$E$15:$E$30015,\"mujer\")+\nCOUNTIFS('BD-SOC'!$R$15:$R$30015,DATA!M54,'BD-SOC'!$E$15:$E$30015,\"f\"))\n+\n(COUNTIFS('BD-SOC'!$T$15:$T$30015,DATA!M54,'BD-SOC'!$E$15:$E$30015,\"femenino\")+\nCOUNTIFS('BD-SOC'!$T$15:$T$30015,DATA!M54,'BD-SOC'!$E$15:$E$30015,\"mujer\")+\nCOUNTIFS('BD-SOC'!$T$15:$T$30015,DATA!M54,'BD-SOC'!$E$15:$E$30015,\"f\"))\n+\n(COUNTIFS('BD-SOC'!$V$15:$V$30015,DATA!M54,'BD-SOC'!$E$15:$E$30015,\"femenino\")+\nCOUNTIFS('BD-SOC'!$V$15:$V$30015,DATA!M54,'BD-SOC'!$E$15:$E$30015,\"mujer\")+\nCOUNTIFS('BD-SOC'!$V$15:$V$30015,DATA!M54,'BD-SOC'!$E$15:$E$30015,\"f\"))\n+\n(COUNTIFS('BD-SOC'!$X$15:$X$30015,DATA!M54,'BD-SOC'!$E$15:$E$30015,\"femenino\")+\nCOUNTIFS('BD-SOC'!$X$15:$X$30015,DATA!M54,'BD-SOC'!$E$15:$E$30015,\"mujer\")+\nCOUNTIFS('BD-SOC'!$X$15:$X$30015,DATA!M54,'BD-SOC'!$E$15:$E$30015,\"f\"))\n+\n(COUNTIFS('BD-SOC'!$Z$15:$Z$30015,DATA!M54,'BD-SOC'!$E$15:$E$30015,\"femenino\")+\nCOUNTIFS('BD-SOC'!$Z$15:$Z$30015,DATA!M54,'BD-SOC'!$E$15:$E$30015,\"mujer\")+\nCOUNTIFS('BD-SOC'!$Z$15:$Z$30015,DATA!M54,'BD-SOC'!$E$15:$E$30015,\"f\"))\n+\n(COUNTIFS('BD-SOC'!$AB$15:$AB$30015,DATA!M54,'BD-SOC'!$E$15:$E$30015,\"femenino\")+\nCOUNTIFS('BD-SOC'!$AB$15:$AB$30015,DATA!M54,'BD-SOC'!$E$15:$E$30015,\"mujer\")+\nCOUNTIFS('BD-SOC'!$AB$15:$AB$30015,DATA!M54,'BD-SOC'!$E$15:$E$30015,\"f\"))","v":0}]
["NO",null,null,null,null,null,null,null,null,null,null,null,212,"OTROS INFORMES",null,{"$f":"(COUNTIFS('BD-SOC'!$P$15:$P$30015,DATA!M55,'BD-SOC'!$E$15:$E$30015,\"masculino\")+\nCOUNTIFS('BD-SOC'!$P$15:$P$30015,DATA!M55,'BD-SOC'!$E$15:$E$30015,\"hombre\")+\nCOUNTIFS('BD-SOC'!$P$15:$P$30015,DATA!M55,'BD-SOC'!$E$15:$E$30015,\"m\")+\nCOUNTIFS('BD-SOC'!$P$15:$P$30015,DATA!M55,'BD-SOC'!$E$15:$E$30015,\"h\"))\n+\n(COUNTIFS('BD-SOC'!$R$15:$R$30015,DATA!M55,'BD-SOC'!$E$15:$E$30015,\"masculino\")+\nCOUNTIFS('BD-SOC'!$R$15:$R$30015,DATA!M55,'BD-SOC'!$E$15:$E$30015,\"hombre\")+\nCOUNTIFS('BD-SOC'!$R$15:$R$30015,DATA!M55,'BD-SOC'!$E$15:$E$30015,\"m\")+\nCOUNTIFS('BD-SOC'!$R$15:$R$30015,DATA!M55,'BD-SOC'!$E$15:$E$30015,\"h\"))\n+\n(COUNTIFS('BD-SOC'!$T$15:$T$30015,DATA!M55,'BD-SOC'!$E$15:$E$30015,\"masculino\")+\nCOUNTIFS('BD-SOC'!$T$15:$T$30015,DATA!M55,'BD-SOC'!$E$15:$E$30015,\"hombre\")+\nCOUNTIFS('BD-SOC'!$T$15:$T$30015,DATA!M55,'BD-SOC'!$E$15:$E$30015,\"m\")+\nCOUNTIFS('BD-SOC'!$T$15:$T$30015,DATA!M55,'BD-SOC'!$E$15:$E$30015,\"h\"))\n+\n(COUNTIFS('BD-SOC'!$V$15:$V$30015,DATA!M55,'BD-SOC'!$E$15:$E$30015,\"masculino\")+\nCOUNTIFS('BD-SOC'!$V$15:$V$30015,DATA!M55,'BD-SOC'!$E$15:$E$30015,\"hombre\")+\nCOUNTIFS('BD-SOC'!$V$15:$V$30015,DATA!M55,'BD-SOC'!$E$15:$E$30015,\"m\")+\nCOUNTIFS('BD-SOC'!$V$15:$V$30015,DATA!M55,'BD-SOC'!$E$15:$E$30015,\"h\"))\n+\n(COUNTIFS('BD-SOC'!$X$15:$X$30015,DATA!M55,'BD-SOC'!$E$15:$E$30015,\"masculino\")+\nCOUNTIFS('BD-SOC'!$X$15:$X$30015,DATA!M55,'BD-SOC'!$E$15:$E$30015,\"hombre\")+\nCOUNTIFS('BD-SOC'!$X$15:$X$30015,DATA!M55,'BD-SOC'!$E$15:$E$30015,\"m\")+\nCOUNTIFS('BD-SOC'!$X$15:$X$30015,DATA!M55,'BD-SOC'!$E$15:$E$30015,\"h\"))\n+\n(COUNTIFS('BD-SOC'!$Z$15:$Z$30015,DATA!M55,'BD-SOC'!$E$15:$E$30015,\"masculino\")+\nCOUNTIFS('BD-SOC'!$Z$15:$Z$30015,DATA!M55,'BD-SOC'!$E$15:$E$30015,\"hombre\")+\nCOUNTIFS('BD-SOC'!$Z$15:$Z$30015,DATA!M55,'BD-SOC'!$E$15:$E$30015,\"m\")+\nCOUNTIFS('BD-SOC'!$Z$15:$Z$30015,DATA!M55,'BD-SOC'!$E$15:$E$30015,\"h\"))\n+\n(COUNTIFS('BD-SOC'!$AB$15:$AB$30015,DATA!M55,'BD-SOC'!$E$15:$E$30015,\"masculino\")+\nCOUNTIFS('BD-SOC'!$AB$15:$AB$30015,DATA!M55,'BD-SOC'!$E$15:$E$30015,\"hombre\")+\nCOUNTIFS('BD-SOC'!$AB$15:$AB$30015,DATA!M55,'BD-SOC'!$E$15:$E$30015,\"m\")+\nCOUNTIFS('BD-SOC'!$AB$15:$AB$30015,DATA!M55,'BD-SOC'!$E$15:$E$30015,\"h\"))","v":0},{"$f":"(COUNTIFS('BD-SOC'!$P$15:$P$30015,DATA!M55,'BD-SOC'!$E$15:$E$30015,\"femenino\")+\nCOUNTIFS('BD-SOC'!$P$15:$P$30015,DATA!M55,'BD-SOC'!$E$15:$E$30015,\"mujer\")+\nCOUNTIFS('BD-SOC'!$P$15:$P$30015,DATA!M55,'BD-SOC'!$E$15:$E$30015,\"f\"))\n+\n(COUNTIFS('BD-SOC'!$R$15:$R$30015,DATA!M55,'BD-SOC'!$E$15:$E$30015,\"femenino\")+\nCOUNTIFS('BD-SOC'!$R$15:$R$30015,DATA!M55,'BD-SOC'!$E$15:$E$30015,\"mujer\")+\nCOUNTIFS('BD-SOC'!$R$15:$R$30015,DATA!M55,'BD-SOC'!$E$15:$E$30015,\"f\"))\n+\n(COUNTIFS('BD-SOC'!$T$15:$T$30015,DATA!M55,'BD-SOC'!$E$15:$E$30015,\"femenino\")+\nCOUNTIFS('BD-SOC'!$T$15:$T$30015,DATA!M55,'BD-SOC'!$E$15:$E$30015,\"mujer\")+\nCOUNTIFS('BD-SOC'!$T$15:$T$30015,DATA!M55,'BD-SOC'!$E$15:$E$30015,\"f\"))\n+\n(COUNTIFS('BD-SOC'!$V$15:$V$30015,DATA!M55,'BD-SOC'!$E$15:$E$30015,\"femenino\")+\nCOUNTIFS('BD-SOC'!$V$15:$V$30015,DATA!M55,'BD-SOC'!$E$15:$E$30015,\"mujer\")+\nCOUNTIFS('BD-SOC'!$V$15:$V$30015,DATA!M55,'BD-SOC'!$E$15:$E$30015,\"f\"))\n+\n(COUNTIFS('BD-SOC'!$X$15:$X$30015,DATA!M55,'BD-SOC'!$E$15:$E$30015,\"femenino\")+\nCOUNTIFS('BD-SOC'!$X$15:$X$30015,DATA!M55,'BD-SOC'!$E$15:$E$30015,\"mujer\")+\nCOUNTIFS('BD-SOC'!$X$15:$X$30015,DATA!M55,'BD-SOC'!$E$15:$E$30015,\"f\"))\n+\n(COUNTIFS('BD-SOC'!$Z$15:$Z$30015,DATA!M55,'BD-SOC'!$E$15:$E$30015,\"femenino\")+\nCOUNTIFS('BD-SOC'!$Z$15:$Z$30015,DATA!M55,'BD-SOC'!$E$15:$E$30015,\"mujer\")+\nCOUNTIFS('BD-SOC'!$Z$15:$Z$30015,DATA!M55,'BD-SOC'!$E$15:$E$30015,\"f\"))\n+\n(COUNTIFS('BD-SOC'!$AB$15:$AB$30015,DATA!M55,'BD-SOC'!$E$15:$E$30015,\"femenino\")+\nCOUNTIFS('BD-SOC'!$AB$15:$AB$30015,DATA!M55,'BD-SOC'!$E$15:$E$30015,\"mujer\")+\nCOUNTIFS('BD-SOC'!$AB$15:$AB$30015,DATA!M55,'BD-SOC'!$E$15:$E$30015,\"f\"))","v":0}]
[null,null,null,null,null,null,null,null,null,null,null,null,301,"INSCRIPCIÓN AL SIS",null,{"$f":"(COUNTIFS('BD-SOC'!$P$15:$P$30015,DATA!M56,'BD-SOC'!$E$15:$E$30015,\"masculino\")+\nCOUNTIFS('BD-SOC'!$P$15:$P$30015,DATA!M56,'BD-SOC'!$E$15:$E$30015,\"hombre\")+\nCOUNTIFS('BD-SOC'!$P$15:$P$30015,DATA!M56,'BD-SOC'!$E$15:$E$30015,\"m\")+\nCOUNTIFS('BD-SOC'!$P$15:$P$30015,DATA!M56,'BD-SOC'!$E$15:$E$30015,\"h\"))\n+\n(COUNTIFS('BD-SOC'!$R$15:$R$30015,DATA!M56,'BD-SOC'!$E$15:$E$30015,\"masculino\")+\nCOUNTIFS('BD-SOC'!$R$15:$R$30015,DATA!M56,'BD-SOC'!$E$15:$E$30015,\"hombre\")+\nCOUNTIFS('BD-SOC'!$R$15:$R$30015,DATA!M56,'BD-SOC'!$E$15:$E$30015,\"m\")+\nCOUNTIFS('BD-SOC'!$R$15:$R$30015,DATA!M56,'BD-SOC'!$E$15:$E$30015,\"h\"))\n+\n(COUNTIFS('BD-SOC'!$T$15:$T$30015,DATA!M56,'BD-SOC'!$E$15:$E$30015,\"masculino\")+\nCOUNTIFS('BD-SOC'!$T$15:$T$30015,DATA!M56,'BD-SOC'!$E$15:$E$30015,\"hombre\")+\nCOUNTIFS('BD-SOC'!$T$15:$T$30015,DATA!M56,'BD-SOC'!$E$15:$E$30015,\"m\")+\nCOUNTIFS('BD-SOC'!$T$15:$T$30015,DATA!M56,'BD-SOC'!$E$15:$E$30015,\"h\"))\n+\n(COUNTIFS('BD-SOC'!$V$15:$V$30015,DATA!M56,'BD-SOC'!$E$15:$E$30015,\"masculino\")+\nCOUNTIFS('BD-SOC'!$V$15:$V$30015,DATA!M56,'BD-SOC'!$E$15:$E$30015,\"hombre\")+\nCOUNTIFS('BD-SOC'!$V$15:$V$30015,DATA!M56,'BD-SOC'!$E$15:$E$30015,\"m\")+\nCOUNTIFS('BD-SOC'!$V$15:$V$30015,DATA!M56,'BD-SOC'!$E$15:$E$30015,\"h\"))\n+\n(COUNTIFS('BD-SOC'!$X$15:$X$30015,DATA!M56,'BD-SOC'!$E$15:$E$30015,\"masculino\")+\nCOUNTIFS('BD-SOC'!$X$15:$X$30015,DATA!M56,'BD-SOC'!$E$15:$E$30015,\"hombre\")+\nCOUNTIFS('BD-SOC'!$X$15:$X$30015,DATA!M56,'BD-SOC'!$E$15:$E$30015,\"m\")+\nCOUNTIFS('BD-SOC'!$X$15:$X$30015,DATA!M56,'BD-SOC'!$E$15:$E$30015,\"h\"))\n+\n(COUNTIFS('BD-SOC'!$Z$15:$Z$30015,DATA!M56,'BD-SOC'!$E$15:$E$30015,\"masculino\")+\nCOUNTIFS('BD-SOC'!$Z$15:$Z$30015,DATA!M56,'BD-SOC'!$E$15:$E$30015,\"hombre\")+\nCOUNTIFS('BD-SOC'!$Z$15:$Z$30015,DATA!M56,'BD-SOC'!$E$15:$E$30015,\"m\")+\nCOUNTIFS('BD-SOC'!$Z$15:$Z$30015,DATA!M56,'BD-SOC'!$E$15:$E$30015,\"h\"))\n+\n(COUNTIFS('BD-SOC'!$AB$15:$AB$30015,DATA!M56,'BD-SOC'!$E$15:$E$30015,\"masculino\")+\nCOUNTIFS('BD-SOC'!$AB$15:$AB$30015,DATA!M56,'BD-SOC'!$E$15:$E$30015,\"hombre\")+\nCOUNTIFS('BD-SOC'!$AB$15:$AB$30015,DATA!M56,'BD-SOC'!$E$15:$E$30015,\"m\")+\nCOUNTIFS('BD-SOC'!$AB$15:$AB$30015,DATA!M56,'BD-SOC'!$E$15:$E$30015,\"h\"))","v":0},{"$f":"(COUNTIFS('BD-SOC'!$P$15:$P$30015,DATA!M56,'BD-SOC'!$E$15:$E$30015,\"femenino\")+\nCOUNTIFS('BD-SOC'!$P$15:$P$30015,DATA!M56,'BD-SOC'!$E$15:$E$30015,\"mujer\")+\nCOUNTIFS('BD-SOC'!$P$15:$P$30015,DATA!M56,'BD-SOC'!$E$15:$E$30015,\"f\"))\n+\n(COUNTIFS('BD-SOC'!$R$15:$R$30015,DATA!M56,'BD-SOC'!$E$15:$E$30015,\"femenino\")+\nCOUNTIFS('BD-SOC'!$R$15:$R$30015,DATA!M56,'BD-SOC'!$E$15:$E$30015,\"mujer\")+\nCOUNTIFS('BD-SOC'!$R$15:$R$30015,DATA!M56,'BD-SOC'!$E$15:$E$30015,\"f\"))\n+\n(COUNTIFS('BD-SOC'!$T$15:$T$30015,DATA!M56,'BD-SOC'!$E$15:$E$30015,\"femenino\")+\nCOUNTIFS('BD-SOC'!$T$15:$T$30015,DATA!M56,'BD-SOC'!$E$15:$E$30015,\"mujer\")+\nCOUNTIFS('BD-SOC'!$T$15:$T$30015,DATA!M56,'BD-SOC'!$E$15:$E$30015,\"f\"))\n+\n(COUNTIFS('BD-SOC'!$V$15:$V$30015,DATA!M56,'BD-SOC'!$E$15:$E$30015,\"femenino\")+\nCOUNTIFS('BD-SOC'!$V$15:$V$30015,DATA!M56,'BD-SOC'!$E$15:$E$30015,\"mujer\")+\nCOUNTIFS('BD-SOC'!$V$15:$V$30015,DATA!M56,'BD-SOC'!$E$15:$E$30015,\"f\"))\n+\n(COUNTIFS('BD-SOC'!$X$15:$X$30015,DATA!M56,'BD-SOC'!$E$15:$E$30015,\"femenino\")+\nCOUNTIFS('BD-SOC'!$X$15:$X$30015,DATA!M56,'BD-SOC'!$E$15:$E$30015,\"mujer\")+\nCOUNTIFS('BD-SOC'!$X$15:$X$30015,DATA!M56,'BD-SOC'!$E$15:$E$30015,\"f\"))\n+\n(COUNTIFS('BD-SOC'!$Z$15:$Z$30015,DATA!M56,'BD-SOC'!$E$15:$E$30015,\"femenino\")+\nCOUNTIFS('BD-SOC'!$Z$15:$Z$30015,DATA!M56,'BD-SOC'!$E$15:$E$30015,\"mujer\")+\nCOUNTIFS('BD-SOC'!$Z$15:$Z$30015,DATA!M56,'BD-SOC'!$E$15:$E$30015,\"f\"))\n+\n(COUNTIFS('BD-SOC'!$AB$15:$AB$30015,DATA!M56,'BD-SOC'!$E$15:$E$30015,\"femenino\")+\nCOUNTIFS('BD-SOC'!$AB$15:$AB$30015,DATA!M56,'BD-SOC'!$E$15:$E$30015,\"mujer\")+\nCOUNTIFS('BD-SOC'!$AB$15:$AB$30015,DATA!M56,'BD-SOC'!$E$15:$E$30015,\"f\"))","v":0}]
["TIPO DE SER. EDUC",null,null,null,null,null,null,null,null,null,null,null,302,"GESTIÓN HOSPITALARIA",null,{"$f":"(COUNTIFS('BD-SOC'!$P$15:$P$30015,DATA!M57,'BD-SOC'!$E$15:$E$30015,\"masculino\")+\nCOUNTIFS('BD-SOC'!$P$15:$P$30015,DATA!M57,'BD-SOC'!$E$15:$E$30015,\"hombre\")+\nCOUNTIFS('BD-SOC'!$P$15:$P$30015,DATA!M57,'BD-SOC'!$E$15:$E$30015,\"m\")+\nCOUNTIFS('BD-SOC'!$P$15:$P$30015,DATA!M57,'BD-SOC'!$E$15:$E$30015,\"h\"))\n+\n(COUNTIFS('BD-SOC'!$R$15:$R$30015,DATA!M57,'BD-SOC'!$E$15:$E$30015,\"masculino\")+\nCOUNTIFS('BD-SOC'!$R$15:$R$30015,DATA!M57,'BD-SOC'!$E$15:$E$30015,\"hombre\")+\nCOUNTIFS('BD-SOC'!$R$15:$R$30015,DATA!M57,'BD-SOC'!$E$15:$E$30015,\"m\")+\nCOUNTIFS('BD-SOC'!$R$15:$R$30015,DATA!M57,'BD-SOC'!$E$15:$E$30015,\"h\"))\n+\n(COUNTIFS('BD-SOC'!$T$15:$T$30015,DATA!M57,'BD-SOC'!$E$15:$E$30015,\"masculino\")+\nCOUNTIFS('BD-SOC'!$T$15:$T$30015,DATA!M57,'BD-SOC'!$E$15:$E$30015,\"hombre\")+\nCOUNTIFS('BD-SOC'!$T$15:$T$30015,DATA!M57,'BD-SOC'!$E$15:$E$30015,\"m\")+\nCOUNTIFS('BD-SOC'!$T$15:$T$30015,DATA!M57,'BD-SOC'!$E$15:$E$30015,\"h\"))\n+\n(COUNTIFS('BD-SOC'!$V$15:$V$30015,DATA!M57,'BD-SOC'!$E$15:$E$30015,\"masculino\")+\nCOUNTIFS('BD-SOC'!$V$15:$V$30015,DATA!M57,'BD-SOC'!$E$15:$E$30015,\"hombre\")+\nCOUNTIFS('BD-SOC'!$V$15:$V$30015,DATA!M57,'BD-SOC'!$E$15:$E$30015,\"m\")+\nCOUNTIFS('BD-SOC'!$V$15:$V$30015,DATA!M57,'BD-SOC'!$E$15:$E$30015,\"h\"))\n+\n(COUNTIFS('BD-SOC'!$X$15:$X$30015,DATA!M57,'BD-SOC'!$E$15:$E$30015,\"masculino\")+\nCOUNTIFS('BD-SOC'!$X$15:$X$30015,DATA!M57,'BD-SOC'!$E$15:$E$30015,\"hombre\")+\nCOUNTIFS('BD-SOC'!$X$15:$X$30015,DATA!M57,'BD-SOC'!$E$15:$E$30015,\"m\")+\nCOUNTIFS('BD-SOC'!$X$15:$X$30015,DATA!M57,'BD-SOC'!$E$15:$E$30015,\"h\"))\n+\n(COUNTIFS('BD-SOC'!$Z$15:$Z$30015,DATA!M57,'BD-SOC'!$E$15:$E$30015,\"masculino\")+\nCOUNTIFS('BD-SOC'!$Z$15:$Z$30015,DATA!M57,'BD-SOC'!$E$15:$E$30015,\"hombre\")+\nCOUNTIFS('BD-SOC'!$Z$15:$Z$30015,DATA!M57,'BD-SOC'!$E$15:$E$30015,\"m\")+\nCOUNTIFS('BD-SOC'!$Z$15:$Z$30015,DATA!M57,'BD-SOC'!$E$15:$E$30015,\"h\"))\n+\n(COUNTIFS('BD-SOC'!$AB$15:$AB$30015,DATA!M57,'BD-SOC'!$E$15:$E$30015,\"masculino\")+\nCOUNTIFS('BD-SOC'!$AB$15:$AB$30015,DATA!M57,'BD-SOC'!$E$15:$E$30015,\"hombre\")+\nCOUNTIFS('BD-SOC'!$AB$15:$AB$30015,DATA!M57,'BD-SOC'!$E$15:$E$30015,\"m\")+\nCOUNTIFS('BD-SOC'!$AB$15:$AB$30015,DATA!M57,'BD-SOC'!$E$15:$E$30015,\"h\"))","v":0},{"$f":"(COUNTIFS('BD-SOC'!$P$15:$P$30015,DATA!M57,'BD-SOC'!$E$15:$E$30015,\"femenino\")+\nCOUNTIFS('BD-SOC'!$P$15:$P$30015,DATA!M57,'BD-SOC'!$E$15:$E$30015,\"mujer\")+\nCOUNTIFS('BD-SOC'!$P$15:$P$30015,DATA!M57,'BD-SOC'!$E$15:$E$30015,\"f\"))\n+\n(COUNTIFS('BD-SOC'!$R$15:$R$30015,DATA!M57,'BD-SOC'!$E$15:$E$30015,\"femenino\")+\nCOUNTIFS('BD-SOC'!$R$15:$R$30015,DATA!M57,'BD-SOC'!$E$15:$E$30015,\"mujer\")+\nCOUNTIFS('BD-SOC'!$R$15:$R$30015,DATA!M57,'BD-SOC'!$E$15:$E$30015,\"f\"))\n+\n(COUNTIFS('BD-SOC'!$T$15:$T$30015,DATA!M57,'BD-SOC'!$E$15:$E$30015,\"femenino\")+\nCOUNTIFS('BD-SOC'!$T$15:$T$30015,DATA!M57,'BD-SOC'!$E$15:$E$30015,\"mujer\")+\nCOUNTIFS('BD-SOC'!$T$15:$T$30015,DATA!M57,'BD-SOC'!$E$15:$E$30015,\"f\"))\n+\n(COUNTIFS('BD-SOC'!$V$15:$V$30015,DATA!M57,'BD-SOC'!$E$15:$E$30015,\"femenino\")+\nCOUNTIFS('BD-SOC'!$V$15:$V$30015,DATA!M57,'BD-SOC'!$E$15:$E$30015,\"mujer\")+\nCOUNTIFS('BD-SOC'!$V$15:$V$30015,DATA!M57,'BD-SOC'!$E$15:$E$30015,\"f\"))\n+\n(COUNTIFS('BD-SOC'!$X$15:$X$30015,DATA!M57,'BD-SOC'!$E$15:$E$30015,\"femenino\")+\nCOUNTIFS('BD-SOC'!$X$15:$X$30015,DATA!M57,'BD-SOC'!$E$15:$E$30015,\"mujer\")+\nCOUNTIFS('BD-SOC'!$X$15:$X$30015,DATA!M57,'BD-SOC'!$E$15:$E$30015,\"f\"))\n+\n(COUNTIFS('BD-SOC'!$Z$15:$Z$30015,DATA!M57,'BD-SOC'!$E$15:$E$30015,\"femenino\")+\nCOUNTIFS('BD-SOC'!$Z$15:$Z$30015,DATA!M57,'BD-SOC'!$E$15:$E$30015,\"mujer\")+\nCOUNTIFS('BD-SOC'!$Z$15:$Z$30015,DATA!M57,'BD-SOC'!$E$15:$E$30015,\"f\"))\n+\n(COUNTIFS('BD-SOC'!$AB$15:$AB$30015,DATA!M57,'BD-SOC'!$E$15:$E$30015,\"femenino\")+\nCOUNTIFS('BD-SOC'!$AB$15:$AB$30015,DATA!M57,'BD-SOC'!$E$15:$E$30015,\"mujer\")+\nCOUNTIFS('BD-SOC'!$AB$15:$AB$30015,DATA!M57,'BD-SOC'!$E$15:$E$30015,\"f\"))","v":0}]
["CUNA",null,null,null,null,null,null,null,null,null,null,null,303,"GESTIÓN SOBRE FALLECIDOS",null,{"$f":"(COUNTIFS('BD-SOC'!$P$15:$P$30015,DATA!M58,'BD-SOC'!$E$15:$E$30015,\"masculino\")+\nCOUNTIFS('BD-SOC'!$P$15:$P$30015,DATA!M58,'BD-SOC'!$E$15:$E$30015,\"hombre\")+\nCOUNTIFS('BD-SOC'!$P$15:$P$30015,DATA!M58,'BD-SOC'!$E$15:$E$30015,\"m\")+\nCOUNTIFS('BD-SOC'!$P$15:$P$30015,DATA!M58,'BD-SOC'!$E$15:$E$30015,\"h\"))\n+\n(COUNTIFS('BD-SOC'!$R$15:$R$30015,DATA!M58,'BD-SOC'!$E$15:$E$30015,\"masculino\")+\nCOUNTIFS('BD-SOC'!$R$15:$R$30015,DATA!M58,'BD-SOC'!$E$15:$E$30015,\"hombre\")+\nCOUNTIFS('BD-SOC'!$R$15:$R$30015,DATA!M58,'BD-SOC'!$E$15:$E$30015,\"m\")+\nCOUNTIFS('BD-SOC'!$R$15:$R$30015,DATA!M58,'BD-SOC'!$E$15:$E$30015,\"h\"))\n+\n(COUNTIFS('BD-SOC'!$T$15:$T$30015,DATA!M58,'BD-SOC'!$E$15:$E$30015,\"masculino\")+\nCOUNTIFS('BD-SOC'!$T$15:$T$30015,DATA!M58,'BD-SOC'!$E$15:$E$30015,\"hombre\")+\nCOUNTIFS('BD-SOC'!$T$15:$T$30015,DATA!M58,'BD-SOC'!$E$15:$E$30015,\"m\")+\nCOUNTIFS('BD-SOC'!$T$15:$T$30015,DATA!M58,'BD-SOC'!$E$15:$E$30015,\"h\"))\n+\n(COUNTIFS('BD-SOC'!$V$15:$V$30015,DATA!M58,'BD-SOC'!$E$15:$E$30015,\"masculino\")+\nCOUNTIFS('BD-SOC'!$V$15:$V$30015,DATA!M58,'BD-SOC'!$E$15:$E$30015,\"hombre\")+\nCOUNTIFS('BD-SOC'!$V$15:$V$30015,DATA!M58,'BD-SOC'!$E$15:$E$30015,\"m\")+\nCOUNTIFS('BD-SOC'!$V$15:$V$30015,DATA!M58,'BD-SOC'!$E$15:$E$30015,\"h\"))\n+\n(COUNTIFS('BD-SOC'!$X$15:$X$30015,DATA!M58,'BD-SOC'!$E$15:$E$30015,\"masculino\")+\nCOUNTIFS('BD-SOC'!$X$15:$X$30015,DATA!M58,'BD-SOC'!$E$15:$E$30015,\"hombre\")+\nCOUNTIFS('BD-SOC'!$X$15:$X$30015,DATA!M58,'BD-SOC'!$E$15:$E$30015,\"m\")+\nCOUNTIFS('BD-SOC'!$X$15:$X$30015,DATA!M58,'BD-SOC'!$E$15:$E$30015,\"h\"))\n+\n(COUNTIFS('BD-SOC'!$Z$15:$Z$30015,DATA!M58,'BD-SOC'!$E$15:$E$30015,\"masculino\")+\nCOUNTIFS('BD-SOC'!$Z$15:$Z$30015,DATA!M58,'BD-SOC'!$E$15:$E$30015,\"hombre\")+\nCOUNTIFS('BD-SOC'!$Z$15:$Z$30015,DATA!M58,'BD-SOC'!$E$15:$E$30015,\"m\")+\nCOUNTIFS('BD-SOC'!$Z$15:$Z$30015,DATA!M58,'BD-SOC'!$E$15:$E$30015,\"h\"))\n+\n(COUNTIFS('BD-SOC'!$AB$15:$AB$30015,DATA!M58,'BD-SOC'!$E$15:$E$30015,\"masculino\")+\nCOUNTIFS('BD-SOC'!$AB$15:$AB$30015,DATA!M58,'BD-SOC'!$E$15:$E$30015,\"hombre\")+\nCOUNTIFS('BD-SOC'!$AB$15:$AB$30015,DATA!M58,'BD-SOC'!$E$15:$E$30015,\"m\")+\nCOUNTIFS('BD-SOC'!$AB$15:$AB$30015,DATA!M58,'BD-SOC'!$E$15:$E$30015,\"h\"))","v":0},{"$f":"(COUNTIFS('BD-SOC'!$P$15:$P$30015,DATA!M58,'BD-SOC'!$E$15:$E$30015,\"femenino\")+\nCOUNTIFS('BD-SOC'!$P$15:$P$30015,DATA!M58,'BD-SOC'!$E$15:$E$30015,\"mujer\")+\nCOUNTIFS('BD-SOC'!$P$15:$P$30015,DATA!M58,'BD-SOC'!$E$15:$E$30015,\"f\"))\n+\n(COUNTIFS('BD-SOC'!$R$15:$R$30015,DATA!M58,'BD-SOC'!$E$15:$E$30015,\"femenino\")+\nCOUNTIFS('BD-SOC'!$R$15:$R$30015,DATA!M58,'BD-SOC'!$E$15:$E$30015,\"mujer\")+\nCOUNTIFS('BD-SOC'!$R$15:$R$30015,DATA!M58,'BD-SOC'!$E$15:$E$30015,\"f\"))\n+\n(COUNTIFS('BD-SOC'!$T$15:$T$30015,DATA!M58,'BD-SOC'!$E$15:$E$30015,\"femenino\")+\nCOUNTIFS('BD-SOC'!$T$15:$T$30015,DATA!M58,'BD-SOC'!$E$15:$E$30015,\"mujer\")+\nCOUNTIFS('BD-SOC'!$T$15:$T$30015,DATA!M58,'BD-SOC'!$E$15:$E$30015,\"f\"))\n+\n(COUNTIFS('BD-SOC'!$V$15:$V$30015,DATA!M58,'BD-SOC'!$E$15:$E$30015,\"femenino\")+\nCOUNTIFS('BD-SOC'!$V$15:$V$30015,DATA!M58,'BD-SOC'!$E$15:$E$30015,\"mujer\")+\nCOUNTIFS('BD-SOC'!$V$15:$V$30015,DATA!M58,'BD-SOC'!$E$15:$E$30015,\"f\"))\n+\n(COUNTIFS('BD-SOC'!$X$15:$X$30015,DATA!M58,'BD-SOC'!$E$15:$E$30015,\"femenino\")+\nCOUNTIFS('BD-SOC'!$X$15:$X$30015,DATA!M58,'BD-SOC'!$E$15:$E$30015,\"mujer\")+\nCOUNTIFS('BD-SOC'!$X$15:$X$30015,DATA!M58,'BD-SOC'!$E$15:$E$30015,\"f\"))\n+\n(COUNTIFS('BD-SOC'!$Z$15:$Z$30015,DATA!M58,'BD-SOC'!$E$15:$E$30015,\"femenino\")+\nCOUNTIFS('BD-SOC'!$Z$15:$Z$30015,DATA!M58,'BD-SOC'!$E$15:$E$30015,\"mujer\")+\nCOUNTIFS('BD-SOC'!$Z$15:$Z$30015,DATA!M58,'BD-SOC'!$E$15:$E$30015,\"f\"))\n+\n(COUNTIFS('BD-SOC'!$AB$15:$AB$30015,DATA!M58,'BD-SOC'!$E$15:$E$30015,\"femenino\")+\nCOUNTIFS('BD-SOC'!$AB$15:$AB$30015,DATA!M58,'BD-SOC'!$E$15:$E$30015,\"mujer\")+\nCOUNTIFS('BD-SOC'!$AB$15:$AB$30015,DATA!M58,'BD-SOC'!$E$15:$E$30015,\"f\"))","v":0}]
["NINGUNO",null,null,null,null,null,null,null,null,null,null,null,304,"GESTIÓN RENIEC",null,{"$f":"(COUNTIFS('BD-SOC'!$P$15:$P$30015,DATA!M59,'BD-SOC'!$E$15:$E$30015,\"masculino\")+\nCOUNTIFS('BD-SOC'!$P$15:$P$30015,DATA!M59,'BD-SOC'!$E$15:$E$30015,\"hombre\")+\nCOUNTIFS('BD-SOC'!$P$15:$P$30015,DATA!M59,'BD-SOC'!$E$15:$E$30015,\"m\")+\nCOUNTIFS('BD-SOC'!$P$15:$P$30015,DATA!M59,'BD-SOC'!$E$15:$E$30015,\"h\"))\n+\n(COUNTIFS('BD-SOC'!$R$15:$R$30015,DATA!M59,'BD-SOC'!$E$15:$E$30015,\"masculino\")+\nCOUNTIFS('BD-SOC'!$R$15:$R$30015,DATA!M59,'BD-SOC'!$E$15:$E$30015,\"hombre\")+\nCOUNTIFS('BD-SOC'!$R$15:$R$30015,DATA!M59,'BD-SOC'!$E$15:$E$30015,\"m\")+\nCOUNTIFS('BD-SOC'!$R$15:$R$30015,DATA!M59,'BD-SOC'!$E$15:$E$30015,\"h\"))\n+\n(COUNTIFS('BD-SOC'!$T$15:$T$30015,DATA!M59,'BD-SOC'!$E$15:$E$30015,\"masculino\")+\nCOUNTIFS('BD-SOC'!$T$15:$T$30015,DATA!M59,'BD-SOC'!$E$15:$E$30015,\"hombre\")+\nCOUNTIFS('BD-SOC'!$T$15:$T$30015,DATA!M59,'BD-SOC'!$E$15:$E$30015,\"m\")+\nCOUNTIFS('BD-SOC'!$T$15:$T$30015,DATA!M59,'BD-SOC'!$E$15:$E$30015,\"h\"))\n+\n(COUNTIFS('BD-SOC'!$V$15:$V$30015,DATA!M59,'BD-SOC'!$E$15:$E$30015,\"masculino\")+\nCOUNTIFS('BD-SOC'!$V$15:$V$30015,DATA!M59,'BD-SOC'!$E$15:$E$30015,\"hombre\")+\nCOUNTIFS('BD-SOC'!$V$15:$V$30015,DATA!M59,'BD-SOC'!$E$15:$E$30015,\"m\")+\nCOUNTIFS('BD-SOC'!$V$15:$V$30015,DATA!M59,'BD-SOC'!$E$15:$E$30015,\"h\"))\n+\n(COUNTIFS('BD-SOC'!$X$15:$X$30015,DATA!M59,'BD-SOC'!$E$15:$E$30015,\"masculino\")+\nCOUNTIFS('BD-SOC'!$X$15:$X$30015,DATA!M59,'BD-SOC'!$E$15:$E$30015,\"hombre\")+\nCOUNTIFS('BD-SOC'!$X$15:$X$30015,DATA!M59,'BD-SOC'!$E$15:$E$30015,\"m\")+\nCOUNTIFS('BD-SOC'!$X$15:$X$30015,DATA!M59,'BD-SOC'!$E$15:$E$30015,\"h\"))\n+\n(COUNTIFS('BD-SOC'!$Z$15:$Z$30015,DATA!M59,'BD-SOC'!$E$15:$E$30015,\"masculino\")+\nCOUNTIFS('BD-SOC'!$Z$15:$Z$30015,DATA!M59,'BD-SOC'!$E$15:$E$30015,\"hombre\")+\nCOUNTIFS('BD-SOC'!$Z$15:$Z$30015,DATA!M59,'BD-SOC'!$E$15:$E$30015,\"m\")+\nCOUNTIFS('BD-SOC'!$Z$15:$Z$30015,DATA!M59,'BD-SOC'!$E$15:$E$30015,\"h\"))\n+\n(COUNTIFS('BD-SOC'!$AB$15:$AB$30015,DATA!M59,'BD-SOC'!$E$15:$E$30015,\"masculino\")+\nCOUNTIFS('BD-SOC'!$AB$15:$AB$30015,DATA!M59,'BD-SOC'!$E$15:$E$30015,\"hombre\")+\nCOUNTIFS('BD-SOC'!$AB$15:$AB$30015,DATA!M59,'BD-SOC'!$E$15:$E$30015,\"m\")+\nCOUNTIFS('BD-SOC'!$AB$15:$AB$30015,DATA!M59,'BD-SOC'!$E$15:$E$30015,\"h\"))","v":0},{"$f":"(COUNTIFS('BD-SOC'!$P$15:$P$30015,DATA!M59,'BD-SOC'!$E$15:$E$30015,\"femenino\")+\nCOUNTIFS('BD-SOC'!$P$15:$P$30015,DATA!M59,'BD-SOC'!$E$15:$E$30015,\"mujer\")+\nCOUNTIFS('BD-SOC'!$P$15:$P$30015,DATA!M59,'BD-SOC'!$E$15:$E$30015,\"f\"))\n+\n(COUNTIFS('BD-SOC'!$R$15:$R$30015,DATA!M59,'BD-SOC'!$E$15:$E$30015,\"femenino\")+\nCOUNTIFS('BD-SOC'!$R$15:$R$30015,DATA!M59,'BD-SOC'!$E$15:$E$30015,\"mujer\")+\nCOUNTIFS('BD-SOC'!$R$15:$R$30015,DATA!M59,'BD-SOC'!$E$15:$E$30015,\"f\"))\n+\n(COUNTIFS('BD-SOC'!$T$15:$T$30015,DATA!M59,'BD-SOC'!$E$15:$E$30015,\"femenino\")+\nCOUNTIFS('BD-SOC'!$T$15:$T$30015,DATA!M59,'BD-SOC'!$E$15:$E$30015,\"mujer\")+\nCOUNTIFS('BD-SOC'!$T$15:$T$30015,DATA!M59,'BD-SOC'!$E$15:$E$30015,\"f\"))\n+\n(COUNTIFS('BD-SOC'!$V$15:$V$30015,DATA!M59,'BD-SOC'!$E$15:$E$30015,\"femenino\")+\nCOUNTIFS('BD-SOC'!$V$15:$V$30015,DATA!M59,'BD-SOC'!$E$15:$E$30015,\"mujer\")+\nCOUNTIFS('BD-SOC'!$V$15:$V$30015,DATA!M59,'BD-SOC'!$E$15:$E$30015,\"f\"))\n+\n(COUNTIFS('BD-SOC'!$X$15:$X$30015,DATA!M59,'BD-SOC'!$E$15:$E$30015,\"femenino\")+\nCOUNTIFS('BD-SOC'!$X$15:$X$30015,DATA!M59,'BD-SOC'!$E$15:$E$30015,\"mujer\")+\nCOUNTIFS('BD-SOC'!$X$15:$X$30015,DATA!M59,'BD-SOC'!$E$15:$E$30015,\"f\"))\n+\n(COUNTIFS('BD-SOC'!$Z$15:$Z$30015,DATA!M59,'BD-SOC'!$E$15:$E$30015,\"femenino\")+\nCOUNTIFS('BD-SOC'!$Z$15:$Z$30015,DATA!M59,'BD-SOC'!$E$15:$E$30015,\"mujer\")+\nCOUNTIFS('BD-SOC'!$Z$15:$Z$30015,DATA!M59,'BD-SOC'!$E$15:$E$30015,\"f\"))\n+\n(COUNTIFS('BD-SOC'!$AB$15:$AB$30015,DATA!M59,'BD-SOC'!$E$15:$E$30015,\"femenino\")+\nCOUNTIFS('BD-SOC'!$AB$15:$AB$30015,DATA!M59,'BD-SOC'!$E$15:$E$30015,\"mujer\")+\nCOUNTIFS('BD-SOC'!$AB$15:$AB$30015,DATA!M59,'BD-SOC'!$E$15:$E$30015,\"f\"))","v":0}]
[null,null,null,null,null,null,null,null,null,null,null,null,305,"GESTIÓN RELACIONADA A NIÑOS/AS",null,{"$f":"(COUNTIFS('BD-SOC'!$P$15:$P$30015,DATA!M60,'BD-SOC'!$E$15:$E$30015,\"masculino\")+\nCOUNTIFS('BD-SOC'!$P$15:$P$30015,DATA!M60,'BD-SOC'!$E$15:$E$30015,\"hombre\")+\nCOUNTIFS('BD-SOC'!$P$15:$P$30015,DATA!M60,'BD-SOC'!$E$15:$E$30015,\"m\")+\nCOUNTIFS('BD-SOC'!$P$15:$P$30015,DATA!M60,'BD-SOC'!$E$15:$E$30015,\"h\"))\n+\n(COUNTIFS('BD-SOC'!$R$15:$R$30015,DATA!M60,'BD-SOC'!$E$15:$E$30015,\"masculino\")+\nCOUNTIFS('BD-SOC'!$R$15:$R$30015,DATA!M60,'BD-SOC'!$E$15:$E$30015,\"hombre\")+\nCOUNTIFS('BD-SOC'!$R$15:$R$30015,DATA!M60,'BD-SOC'!$E$15:$E$30015,\"m\")+\nCOUNTIFS('BD-SOC'!$R$15:$R$30015,DATA!M60,'BD-SOC'!$E$15:$E$30015,\"h\"))\n+\n(COUNTIFS('BD-SOC'!$T$15:$T$30015,DATA!M60,'BD-SOC'!$E$15:$E$30015,\"masculino\")+\nCOUNTIFS('BD-SOC'!$T$15:$T$30015,DATA!M60,'BD-SOC'!$E$15:$E$30015,\"hombre\")+\nCOUNTIFS('BD-SOC'!$T$15:$T$30015,DATA!M60,'BD-SOC'!$E$15:$E$30015,\"m\")+\nCOUNTIFS('BD-SOC'!$T$15:$T$30015,DATA!M60,'BD-SOC'!$E$15:$E$30015,\"h\"))\n+\n(COUNTIFS('BD-SOC'!$V$15:$V$30015,DATA!M60,'BD-SOC'!$E$15:$E$30015,\"masculino\")+\nCOUNTIFS('BD-SOC'!$V$15:$V$30015,DATA!M60,'BD-SOC'!$E$15:$E$30015,\"hombre\")+\nCOUNTIFS('BD-SOC'!$V$15:$V$30015,DATA!M60,'BD-SOC'!$E$15:$E$30015,\"m\")+\nCOUNTIFS('BD-SOC'!$V$15:$V$30015,DATA!M60,'BD-SOC'!$E$15:$E$30015,\"h\"))\n+\n(COUNTIFS('BD-SOC'!$X$15:$X$30015,DATA!M60,'BD-SOC'!$E$15:$E$30015,\"masculino\")+\nCOUNTIFS('BD-SOC'!$X$15:$X$30015,DATA!M60,'BD-SOC'!$E$15:$E$30015,\"hombre\")+\nCOUNTIFS('BD-SOC'!$X$15:$X$30015,DATA!M60,'BD-SOC'!$E$15:$E$30015,\"m\")+\nCOUNTIFS('BD-SOC'!$X$15:$X$30015,DATA!M60,'BD-SOC'!$E$15:$E$30015,\"h\"))\n+\n(COUNTIFS('BD-SOC'!$Z$15:$Z$30015,DATA!M60,'BD-SOC'!$E$15:$E$30015,\"masculino\")+\nCOUNTIFS('BD-SOC'!$Z$15:$Z$30015,DATA!M60,'BD-SOC'!$E$15:$E$30015,\"hombre\")+\nCOUNTIFS('BD-SOC'!$Z$15:$Z$30015,DATA!M60,'BD-SOC'!$E$15:$E$30015,\"m\")+\nCOUNTIFS('BD-SOC'!$Z$15:$Z$30015,DATA!M60,'BD-SOC'!$E$15:$E$30015,\"h\"))\n+\n(COUNTIFS('BD-SOC'!$AB$15:$AB$30015,DATA!M60,'BD-SOC'!$E$15:$E$30015,\"masculino\")+\nCOUNTIFS('BD-SOC'!$AB$15:$AB$30015,DATA!M60,'BD-SOC'!$E$15:$E$30015,\"hombre\")+\nCOUNTIFS('BD-SOC'!$AB$15:$AB$30015,DATA!M60,'BD-SOC'!$E$15:$E$30015,\"m\")+\nCOUNTIFS('BD-SOC'!$AB$15:$AB$30015,DATA!M60,'BD-SOC'!$E$15:$E$30015,\"h\"))","v":0},{"$f":"(COUNTIFS('BD-SOC'!$P$15:$P$30015,DATA!M60,'BD-SOC'!$E$15:$E$30015,\"femenino\")+\nCOUNTIFS('BD-SOC'!$P$15:$P$30015,DATA!M60,'BD-SOC'!$E$15:$E$30015,\"mujer\")+\nCOUNTIFS('BD-SOC'!$P$15:$P$30015,DATA!M60,'BD-SOC'!$E$15:$E$30015,\"f\"))\n+\n(COUNTIFS('BD-SOC'!$R$15:$R$30015,DATA!M60,'BD-SOC'!$E$15:$E$30015,\"femenino\")+\nCOUNTIFS('BD-SOC'!$R$15:$R$30015,DATA!M60,'BD-SOC'!$E$15:$E$30015,\"mujer\")+\nCOUNTIFS('BD-SOC'!$R$15:$R$30015,DATA!M60,'BD-SOC'!$E$15:$E$30015,\"f\"))\n+\n(COUNTIFS('BD-SOC'!$T$15:$T$30015,DATA!M60,'BD-SOC'!$E$15:$E$30015,\"femenino\")+\nCOUNTIFS('BD-SOC'!$T$15:$T$30015,DATA!M60,'BD-SOC'!$E$15:$E$30015,\"mujer\")+\nCOUNTIFS('BD-SOC'!$T$15:$T$30015,DATA!M60,'BD-SOC'!$E$15:$E$30015,\"f\"))\n+\n(COUNTIFS('BD-SOC'!$V$15:$V$30015,DATA!M60,'BD-SOC'!$E$15:$E$30015,\"femenino\")+\nCOUNTIFS('BD-SOC'!$V$15:$V$30015,DATA!M60,'BD-SOC'!$E$15:$E$30015,\"mujer\")+\nCOUNTIFS('BD-SOC'!$V$15:$V$30015,DATA!M60,'BD-SOC'!$E$15:$E$30015,\"f\"))\n+\n(COUNTIFS('BD-SOC'!$X$15:$X$30015,DATA!M60,'BD-SOC'!$E$15:$E$30015,\"femenino\")+\nCOUNTIFS('BD-SOC'!$X$15:$X$30015,DATA!M60,'BD-SOC'!$E$15:$E$30015,\"mujer\")+\nCOUNTIFS('BD-SOC'!$X$15:$X$30015,DATA!M60,'BD-SOC'!$E$15:$E$30015,\"f\"))\n+\n(COUNTIFS('BD-SOC'!$Z$15:$Z$30015,DATA!M60,'BD-SOC'!$E$15:$E$30015,\"femenino\")+\nCOUNTIFS('BD-SOC'!$Z$15:$Z$30015,DATA!M60,'BD-SOC'!$E$15:$E$30015,\"mujer\")+\nCOUNTIFS('BD-SOC'!$Z$15:$Z$30015,DATA!M60,'BD-SOC'!$E$15:$E$30015,\"f\"))\n+\n(COUNTIFS('BD-SOC'!$AB$15:$AB$30015,DATA!M60,'BD-SOC'!$E$15:$E$30015,\"femenino\")+\nCOUNTIFS('BD-SOC'!$AB$15:$AB$30015,DATA!M60,'BD-SOC'!$E$15:$E$30015,\"mujer\")+\nCOUNTIFS('BD-SOC'!$AB$15:$AB$30015,DATA!M60,'BD-SOC'!$E$15:$E$30015,\"f\"))","v":0}]
["PARENTESCO",null,null,null,null,null,null,null,null,null,null,null,306,"GESTIÓN RELACIONADA A INTERNOS EXTRANJEROS",null,{"$f":"(COUNTIFS('BD-SOC'!$P$15:$P$30015,DATA!M61,'BD-SOC'!$E$15:$E$30015,\"masculino\")+\nCOUNTIFS('BD-SOC'!$P$15:$P$30015,DATA!M61,'BD-SOC'!$E$15:$E$30015,\"hombre\")+\nCOUNTIFS('BD-SOC'!$P$15:$P$30015,DATA!M61,'BD-SOC'!$E$15:$E$30015,\"m\")+\nCOUNTIFS('BD-SOC'!$P$15:$P$30015,DATA!M61,'BD-SOC'!$E$15:$E$30015,\"h\"))\n+\n(COUNTIFS('BD-SOC'!$R$15:$R$30015,DATA!M61,'BD-SOC'!$E$15:$E$30015,\"masculino\")+\nCOUNTIFS('BD-SOC'!$R$15:$R$30015,DATA!M61,'BD-SOC'!$E$15:$E$30015,\"hombre\")+\nCOUNTIFS('BD-SOC'!$R$15:$R$30015,DATA!M61,'BD-SOC'!$E$15:$E$30015,\"m\")+\nCOUNTIFS('BD-SOC'!$R$15:$R$30015,DATA!M61,'BD-SOC'!$E$15:$E$30015,\"h\"))\n+\n(COUNTIFS('BD-SOC'!$T$15:$T$30015,DATA!M61,'BD-SOC'!$E$15:$E$30015,\"masculino\")+\nCOUNTIFS('BD-SOC'!$T$15:$T$30015,DATA!M61,'BD-SOC'!$E$15:$E$30015,\"hombre\")+\nCOUNTIFS('BD-SOC'!$T$15:$T$30015,DATA!M61,'BD-SOC'!$E$15:$E$30015,\"m\")+\nCOUNTIFS('BD-SOC'!$T$15:$T$30015,DATA!M61,'BD-SOC'!$E$15:$E$30015,\"h\"))\n+\n(COUNTIFS('BD-SOC'!$V$15:$V$30015,DATA!M61,'BD-SOC'!$E$15:$E$30015,\"masculino\")+\nCOUNTIFS('BD-SOC'!$V$15:$V$30015,DATA!M61,'BD-SOC'!$E$15:$E$30015,\"hombre\")+\nCOUNTIFS('BD-SOC'!$V$15:$V$30015,DATA!M61,'BD-SOC'!$E$15:$E$30015,\"m\")+\nCOUNTIFS('BD-SOC'!$V$15:$V$30015,DATA!M61,'BD-SOC'!$E$15:$E$30015,\"h\"))\n+\n(COUNTIFS('BD-SOC'!$X$15:$X$30015,DATA!M61,'BD-SOC'!$E$15:$E$30015,\"masculino\")+\nCOUNTIFS('BD-SOC'!$X$15:$X$30015,DATA!M61,'BD-SOC'!$E$15:$E$30015,\"hombre\")+\nCOUNTIFS('BD-SOC'!$X$15:$X$30015,DATA!M61,'BD-SOC'!$E$15:$E$30015,\"m\")+\nCOUNTIFS('BD-SOC'!$X$15:$X$30015,DATA!M61,'BD-SOC'!$E$15:$E$30015,\"h\"))\n+\n(COUNTIFS('BD-SOC'!$Z$15:$Z$30015,DATA!M61,'BD-SOC'!$E$15:$E$30015,\"masculino\")+\nCOUNTIFS('BD-SOC'!$Z$15:$Z$30015,DATA!M61,'BD-SOC'!$E$15:$E$30015,\"hombre\")+\nCOUNTIFS('BD-SOC'!$Z$15:$Z$30015,DATA!M61,'BD-SOC'!$E$15:$E$30015,\"m\")+\nCOUNTIFS('BD-SOC'!$Z$15:$Z$30015,DATA!M61,'BD-SOC'!$E$15:$E$30015,\"h\"))\n+\n(COUNTIFS('BD-SOC'!$AB$15:$AB$30015,DATA!M61,'BD-SOC'!$E$15:$E$30015,\"masculino\")+\nCOUNTIFS('BD-SOC'!$AB$15:$AB$30015,DATA!M61,'BD-SOC'!$E$15:$E$30015,\"hombre\")+\nCOUNTIFS('BD-SOC'!$AB$15:$AB$30015,DATA!M61,'BD-SOC'!$E$15:$E$30015,\"m\")+\nCOUNTIFS('BD-SOC'!$AB$15:$AB$30015,DATA!M61,'BD-SOC'!$E$15:$E$30015,\"h\"))","v":0},{"$f":"(COUNTIFS('BD-SOC'!$P$15:$P$30015,DATA!M61,'BD-SOC'!$E$15:$E$30015,\"femenino\")+\nCOUNTIFS('BD-SOC'!$P$15:$P$30015,DATA!M61,'BD-SOC'!$E$15:$E$30015,\"mujer\")+\nCOUNTIFS('BD-SOC'!$P$15:$P$30015,DATA!M61,'BD-SOC'!$E$15:$E$30015,\"f\"))\n+\n(COUNTIFS('BD-SOC'!$R$15:$R$30015,DATA!M61,'BD-SOC'!$E$15:$E$30015,\"femenino\")+\nCOUNTIFS('BD-SOC'!$R$15:$R$30015,DATA!M61,'BD-SOC'!$E$15:$E$30015,\"mujer\")+\nCOUNTIFS('BD-SOC'!$R$15:$R$30015,DATA!M61,'BD-SOC'!$E$15:$E$30015,\"f\"))\n+\n(COUNTIFS('BD-SOC'!$T$15:$T$30015,DATA!M61,'BD-SOC'!$E$15:$E$30015,\"femenino\")+\nCOUNTIFS('BD-SOC'!$T$15:$T$30015,DATA!M61,'BD-SOC'!$E$15:$E$30015,\"mujer\")+\nCOUNTIFS('BD-SOC'!$T$15:$T$30015,DATA!M61,'BD-SOC'!$E$15:$E$30015,\"f\"))\n+\n(COUNTIFS('BD-SOC'!$V$15:$V$30015,DATA!M61,'BD-SOC'!$E$15:$E$30015,\"femenino\")+\nCOUNTIFS('BD-SOC'!$V$15:$V$30015,DATA!M61,'BD-SOC'!$E$15:$E$30015,\"mujer\")+\nCOUNTIFS('BD-SOC'!$V$15:$V$30015,DATA!M61,'BD-SOC'!$E$15:$E$30015,\"f\"))\n+\n(COUNTIFS('BD-SOC'!$X$15:$X$30015,DATA!M61,'BD-SOC'!$E$15:$E$30015,\"femenino\")+\nCOUNTIFS('BD-SOC'!$X$15:$X$30015,DATA!M61,'BD-SOC'!$E$15:$E$30015,\"mujer\")+\nCOUNTIFS('BD-SOC'!$X$15:$X$30015,DATA!M61,'BD-SOC'!$E$15:$E$30015,\"f\"))\n+\n(COUNTIFS('BD-SOC'!$Z$15:$Z$30015,DATA!M61,'BD-SOC'!$E$15:$E$30015,\"femenino\")+\nCOUNTIFS('BD-SOC'!$Z$15:$Z$30015,DATA!M61,'BD-SOC'!$E$15:$E$30015,\"mujer\")+\nCOUNTIFS('BD-SOC'!$Z$15:$Z$30015,DATA!M61,'BD-SOC'!$E$15:$E$30015,\"f\"))\n+\n(COUNTIFS('BD-SOC'!$AB$15:$AB$30015,DATA!M61,'BD-SOC'!$E$15:$E$30015,\"femenino\")+\nCOUNTIFS('BD-SOC'!$AB$15:$AB$30015,DATA!M61,'BD-SOC'!$E$15:$E$30015,\"mujer\")+\nCOUNTIFS('BD-SOC'!$AB$15:$AB$30015,DATA!M61,'BD-SOC'!$E$15:$E$30015,\"f\"))","v":0}]
["PADRE",null,null,null,{"$f":"UPPER(D62)","v":""},null,null,null,null,null,null,null,null,null,null,{"$f":"SUM(P35:P61)","v":0},{"$f":"SUM(Q35:Q61)","v":0}]
["MADRE",null,null,null,""]
["ABUELA",null,null,null,""]
["ABUELO",null,null,null,""]
["OTRO",null,null,null,""]
[null,null,null,null,""]
["DOCUMENTO",null,null,null,""]
["ACTA DE EGRESO DEFINITIVO",null,null,null,""]
[null,null,null,null,""]
["MODALIDAD",null,null,null,""]
["LEY 276",null,null,null,""]
["LEY 29709",null,null,null,""]
["LEY DE LA SALUD",null,null,null,""]
["CAS",null,null,null,""]
["SERVICIO DE TERCEROS",null,null,null,""]
["LEY PRAC. PRE-PROFESIONAL",null,null,null,""]
[null,null,null,null,""]
["OFICINA REGIONAL NORTE CHICLAYO",100,"OFICINA REGIONAL NORTE CHICLAYO","CHICLAYO",null,"OFICINA REGIONAL NORTE CHICLAYO",100]
[" E.P. DE TUMBES",102,"OFICINA REGIONAL LIMA","LIMA",null,"MEDIO LIBRE TUMBES",1021]
[" E.P. PIURA ",111,"OFICINA REGIONAL SUR AREQUIPA","AREQUIPA",null,"MEDIO LIBRE PIURA",1120]
[" E.P. DE HUANCABAMBA  ",114,"OFICINA REGIONAL CENTRO HUANCAYO","HUANCAYO",null,"MEDIO LIBRE DE AYABACA",1130]
[" E.P. DE SULLANA",117,"OFICINA REGIONAL ORIENTE HUANUCO","HUANUCO",null,"MEDIO LIBRE DE HUANCABAMBA",1140]
[" E.P. DE CHICLAYO",125,"OFICINA REGIONAL SUR ORIENTE CUSCO","CUSCO",null,"MEDIO LIBRE DE SULLANA",1170]
[" E.P. DE TRUJILLO",131,"OFICINA REGIONAL NOR ORIENTE SAN MARTIN","SANMARTIN",null,"MEDIO LIBRE DE LAMBAYEQUE",1260]
[" E.P. MUJERES DE TRUJILLO ",132,"OFICINA REGIONAL ALTIPLANO PUNO","PUNO",null,"MEDIO LIBRE DE TRUJILLO",1311]
[" E.P. DE PACASMAYO",136,null,null,null,"MEDIO LIBRE ANEXO TRUJILLO",1312]
[" E.P. DE CAJAMARCA",141,null,null,null,"MEDIO LIBRE DE CAJAMARCA",1411]
[" E.P. DE CHOTA",144,null,null,null,"MEDIO LIBRE DE CAJABAMBA",1420]
[" E.P. DE JAEN ",148,null,null,null,"MEDIO LIBRE DE CELENDIN",1430]
[" E.P. DE SAN IGNACIO  ",149,null,null,null,"MEDIO LIBRE CHOTA",1440]
["OFICINA REGIONAL LIMA",200,null,null,null,"MEDIO LIBRE DE BAMBAMARCA",1470]
[" E.P. DE HUARAZ ",201,null,null,null,"MEDIO LIBRE DE JAEN",1480]
[" E.P. DE CHIMBOTE",212,null,null,null,"MEDIO LIBRE DE SAN IGNACIO",1490]
[" E.P. DEL CALLAO",221,null,null,null,"MEDIO LIBRE DE SANTA CRUZ",1500]
[" E.P. MUJERES DE CHORRILLOS",231,null,null,null,"OFICINA REGIONAL LIMA",200]
[" E.P. ANEXO DE MUJERES CHORRILLOS ",232,null,null,null,"MEDIO LIBRE DE CARAZ",2060]
[" E.P. DE LURIGANCHO",233,null,null,null,"MEDIO LIBRE CHIMBOTE",2110]
[" E.P. MIGUEL CASTRO CASTRO",234,null,null,null,"MEDIO LIBRE DE CALLAO",2211]
[" E.P. DE LIMA",235,null,null,null,"MEDIO LIBRE DE CALLAO - BERTELLO",2212]
[" E.P. VIRGEN DE FATIMA",236,null,null,null,"MEDIO LIBRE DE ALFONSO UGARTE",2371]
[" E.P. DE ANCON",238,null,null,null,"MEDIO LIBRE DE CONO NORTE",2421]
[" E.P. DE BARBADILLO",239,null,null,null,"MEDIO LIBRE DE LA VICTORIA",2430]
[" E.P. DE ANCON II ",244,null,null,null,"MEDIO LIBRE DE ZARATE",2440]
[" E.P. VIRGEN DE LA MERCED",246,null,null,null,"MEDIO LIBRE DE SAN JUAN DE LURIGANCHO",2441]
[" E.P. DE HUACHO           ",254,null,null,null,"MEDIO LIBRE DE SAN JUAN DE MIRAFLORES",2450]
[" E.P. DE CAÑETE",256,null,null,null,"MEDIO LIBRE DE SURQUILLO",2460]
[" E.P. DE HUARAL",257,null,null,null,"MEDIO LIBRE HUACHO",2530]
[" E.P. DE ICA ",261,null,null,null,"MEDIO LIBRE DE CAÑETE",2561]
[" E.P. DE CHINCHA",262,null,null,null,"MEDIO LIBRE DE ICA",2611]
["OFICINA REGIONAL SUR AREQUIPA",300,null,null,null,"MEDIO LIBRE DE CHINCHA",2621]
[" E.P. DE AREQUIPA",301,null,null,null,"OFICINA REGIONAL SUR AREQUIPA",300]
[" E.P. MUJERES DE AREQUIPA",303,null,null,null,"MEDIO LIBRE DE YANAHUARA",3020]
[" E.P. CAMANA  ",306,null,null,null,"MEDIO LIBRE DE CAMANA",3050]
[" E.P. DE MOQUEGUA ",321,null,null,null,"MEDIO LIBRE DE CARAVELI",3070]
[" E.P. DE TACNA",331,null,null,null,"MEDIO LIBRE DE MOLLENDO",3100]
[" E.P. MUJERES DE TACNA",332,null,null,null,"MEDIO LIBRE DE SAMEGUA",3210]
["OFICINA REGIONAL CENTRO HUANCAYO",400,null,null,null,"MEDIO LIBRE DE TACNA",3310]
[" E.P. DE HUANCAYO  ",411,null,null,null,"OFICINA REGIONAL CENTRO HUANCAYO",400]
[" E.P. MUJERES DE CONCEPCIÓN",412,null,null,null,"MEDIO LIBRE DE CONCEPCION",4110]
[" E.P. DE CHANCHAMAYO",413,null,null,null,"MEDIO LIBRE DE CHANCHAMAYO",4130]
[" E.P. DE JAUJA",414,null,null,null,"MEDIO LIBRE DE JAUJA",4140]
[" E.P. DE TARMA  ",416,null,null,null,"MEDIO LIBRE DE SATIPO",4150]
[" E.P. DE LA OROYA",417,null,null,null,"MEDIO LIBRE DE TARMA",4160]
[" E.P. DE RIO NEGRO",421,null,null,null,"MEDIO LIBRE DE LA OROYA",4170]
[" E.P. DE HUANCAVELICA",431,null,null,null,"MEDIO LIBRE DE HUACAVELICA",4310]
[" E.P. DE AYACUCHO",442,null,null,null,"MEDIO LIBRE DE AYACUCHO",4420]
[" E.P. DE HUANTA",444,null,null,null,"MEDIO LIBRE DE HUANTA",4440]
["OFICINA REGIONAL ORIENTE HUANUCO",500,null,null,null,"OFICINA REGIONAL ORIENTE HUANUCO",500]
[" E.P. DE HUANUCO  ",501,null,null,null,"MEDIO LIBRE DE HUANUCO",5010]
[" E.P. DE LA UNION",502,null,null,null,"MEDIO LIBRE DE UNION",5020]
[" E.P. DE CERRO PASCO ",511,null,null,null,"MEDIO LIBRE DE PASCO",5110]
[" E.P. DE COCHAMARCA",512,null,null,null,"MEDIO LIBRE DE UCAYALI",5431]
[" E.P. DE PUCALLPA",543,null,null,null,"OFICINA REGIONAL SUR ORIENTE CUSCO",600]
["OFICINA REGIONAL SUR ORIENTE CUSCO",600,null,null,null,"MEDIO LIBRE DE ABANCAY",6010]
[" E.P. DE ABANCAY  ",601,null,null,null,"MEDIO LIBRE DE ANDAHUAYLAS",6020]
[" E.P. DE ANDAHUAYLAS  ",610,null,null,null,"MEDIO LIBRE DE COTABAMBAS",6050]
[" E.P. DE CUSCO ",621,null,null,null,"MEDIO LIBRE DE CUSCO",6211]
[" E.P. MUJERES DEL CUSCO",622,null,null,null,"MEDIO LIBRE DE ANEXO CUSCO",6212]
[" E.P. SICUANI",627,null,null,null,"MEDIO LIBRE DE SICUANI",6270]
[" E.P. QUILLABAMBA",631,null,null,null,"MEDIO LIBRE DE CHUMBIVILCAS",6280]
[" E.P. DE PTO. MALDONADO",641,null,null,null,"MEDIO LIBRE DE YAURI",6290]
["OFICINA REGIONAL NOR ORIENTE SAN MARTÍN",700,null,null,null,"MEDIO LIBRE DE QUILLABAMBA",6310]
[" E.P. DE MOYOBAMBA",701,null,null,null,"MEDIO LIBRE DE TAMBOPATA",6410]
[" E.P. DE JUANJUI",704,null,null,null,"OFICINA REGIONAL NOR ORIENTE SAN MARTÍN",700]
[" E.P. DE TARAPOTO",705,null,null,null,"MEDIO LIBRE DE MOYOBAMBA",7010]
[" E.P. DE SANANGUILLO",706,null,null,null,"MEDIO LIBRE DE JUAJUI",7040]
[" E.P. DE IQUITOS",721,null,null,null,"MEDIO LIBRE DE TARAPOTO",7050]
[" E.P. MUJERES DE IQUITOS",722,null,null,null,"MEDIO LIBRE DE MAYNAS",7210]
[" E.P. DE YURIMAGUAS",724,null,null,null,"MEDIO LIBRE DE ANEXO IQUITOS",7220]
[" E.P. DE CHACHAPOYAS",733,null,null,null,"MEDIO LIBRE DE YURIMAGUAS",7240]
[" E.P. DE BAGUA GRANDE",734,null,null,null,"MEDIO LIBRE DE CHACHAPOYAS",7320]
["OFICINA REGIONAL ALTIPLANO PUNO",800,null,null,null,"MEDIO LIBRE DE BAGUA GRANDE",7340]
[" E.P. DE PUNO",803,null,null,null,"OFICINA REGIONAL ALTIPLANO PUNO",800]
[" E.P. DE LAMPA",808,null,null,null,"MEDIO LIBRE DE CHUCUITO",8060]
[" E.P. JULIACA",811]
[" E.P. DE CHALLAPALCA",821]
[]
[]
[]
[]
[]
[]
[]
[]
[]
[]
[]
[]
["MASCULINO","FEMENINO","N_RIESGO_DE_VIOLENCIA","ETAPAS_DE_EJECUCION","SOCIAL_PTI_2024","SESIONES"]
["Discapacidad","Discapacidad","Bajo riesgo","Etapa 01: Inducción y adaptación",101,"Asistió"]
["Comunidad nativa o campesina","Comunidad nativa o campesina","Medio riesgo","Etapa 02: Obtención de dinero fácil y/o involucramiento a situaciones de riesgo",102,"No asistió"]
["Personas extranjeras","Personas extranjeras","Alto riesgo y muy alto riesgo","Etapa 02: Comportamiento sexual",103,"Familia e internos"]
["LGTBIQ+","Gestante",null,"Etapa 02: Comportamiento violento",104,"Retirado"]
[null,"Madre con hijo(a)"," ","Etapa 02: Mayor compromiso criminológico",105]
[null,"LGTBIQ+",null,null,106]
[null,null,null,null,107]
[null,null,null,null,108]
[null,null,null,null,109]
[null,null,null,null,110]
[null,null,null,null,111]
[null,null,null,null,112]
[null,null,null,null,201]
[null,null,null,null,202]
[null,null,null,null,203]
[null,null,null,null,204]
[null,null,null,null,205]
[null,null,null,null,206]
[null,null,null,null,301]
[null,null,null,null,302]
[null,null,null,null,303]
[null,null,null,null,304]
[null,null,null,null,305]

{"sheet":"RRHH","index":2,"n_rows":508,"n_cols":13,"rows_kept":508,"cut":false,"hidden":false,"merged":[[1,0,1,9],[2,0,2,9],[4,0,4,1],[4,2,4,3],[4,5,4,8]]}
[]
["RECURSOS HUMANOS DEL SERVICIO SOCIAL"]
["FORMATO PARA USO DE JEFATURA DE TRABAJO SOCIAL"]
[null,null,null,null,null,232]
["OFICINA REGIONAL:",null,{"$f":"REPT('BD-SOC'!C7,1)","v":""},null,"ESTABLECIMIENTO:",{"$f":"REPT('BD-SOC'!H7,1)","v":""}]
[]
[]
["N°","E.P.","APELLIDOS Y NOMBRES","NIVEL ACADEMICO","ESPECIFIQUE ESPECIALIDAD","FUNCIÓN","PROCEDENCIA","ESPECIFIQUE OTRA PROCEDENCIA","MODALIDAD LABORAL","CONDICION LABORAL","OBSERVACIONES","NIVEL","PROCEDENCIA2"]
[{"$f":"IF(C9>0,ROW()-8,\"\")","v":""},{"$f":"IFERROR(IF(C9>0,VLOOKUP($F$5,DATA!$A$79:$B$160,2,FALSE),\"\"),\"\")","v":""},null,null,null,null,null,null,null,null,null,{"$f":"IF(Tabla2[[#This Row],[NIVEL ACADEMICO]]=\"OTRO\",1,IF(Tabla2[[#This Row],[NIVEL ACADEMICO]]=\"ESTUDIANTE\",1,IF(Tabla2[[#This Row],[NIVEL ACADEMICO]]=\"BACHILLER\",1,\"\")))","v":""},{"$f":"IF(Tabla2[[#This Row],[PROCEDENCIA]]=\"OTRO\",1,\"\")","v":""}]
[{"$f":"IF(C10>0,ROW()-8,\"\")","v":""},{"$f":"IFERROR(IF(C10>0,VLOOKUP($F$5,DATA!$A$79:$B$160,2,FALSE),\"\"),\"\")","v":""},null,null,null,null,null,null,null,null,null,{"$f":"IF(Tabla2[[#This Row],[NIVEL ACADEMICO]]=\"OTRO\",1,IF(Tabla2[[#This Row],[NIVEL ACADEMICO]]=\"ESTUDIANTE\",1,IF(Tabla2[[#This Row],[NIVEL ACADEMICO]]=\"BACHILLER\",1,\"\")))","v":""},{"$f":"IF(Tabla2[[#This Row],[PROCEDENCIA]]=\"OTRO\",1,\"\")","v":""}]
["",{"$f":"IFERROR(IF(C11>0,VLOOKUP($F$5,DATA!$A$79:$B$160,2,FALSE),\"\"),\"\")","v":""},null,null,null,null,null,null,null,null,null,{"$f":"IF(Tabla2[[#This Row],[NIVEL ACADEMICO]]=\"OTRO\",1,IF(Tabla2[[#This Row],[NIVEL ACADEMICO]]=\"ESTUDIANTE\",1,IF(Tabla2[[#This Row],[NIVEL ACADEMICO]]=\"BACHILLER\",1,\"\")))","v":""},{"$f":"IF(Tabla2[[#This Row],[PROCEDENCIA]]=\"OTRO\",1,\"\")","v":""}]
["",{"$f":"IFERROR(IF(C12>0,VLOOKUP($F$5,DATA!$A$79:$B$160,2,FALSE),\"\"),\"\")","v":""},null,null,null,null,null,null,null,null,null,{"$f":"IF(Tabla2[[#This Row],[NIVEL ACADEMICO]]=\"OTRO\",1,IF(Tabla2[[#This Row],[NIVEL ACADEMICO]]=\"ESTUDIANTE\",1,IF(Tabla2[[#This Row],[NIVEL ACADEMICO]]=\"BACHILLER\",1,\"\")))","v":""},{"$f":"IF(Tabla2[[#This Row],[PROCEDENCIA]]=\"OTRO\",1,\"\")","v":""}]
["",{"$f":"IFERROR(IF(C13>0,VLOOKUP($F$5,DATA!$A$79:$B$160,2,FALSE),\"\"),\"\")","v":""},null,null,null,null,null,null,null,null,null,{"$f":"IF(Tabla2[[#This Row],[NIVEL ACADEMICO]]=\"OTRO\",1,IF(Tabla2[[#This Row],[NIVEL ACADEMICO]]=\"ESTUDIANTE\",1,IF(Tabla2[[#This Row],[NIVEL ACADEMICO]]=\"BACHILLER\",1,\"\")))","v":""},{"$f":"IF(Tabla2[[#This Row],[PROCEDENCIA]]=\"OTRO\",1,\"\")","v":""}]
["",{"$f":"IFERROR(IF(C14>0,VLOOKUP($F$5,DATA!$A$79:$B$160,2,FALSE),\"\"),\"\")","v":""},null,null,null,null,null,null,null,null,null,{"$f":"IF(Tabla2[[#This Row],[NIVEL ACADEMICO]]=\"OTRO\",1,IF(Tabla2[[#This Row],[NIVEL ACADEMICO]]=\"ESTUDIANTE\",1,IF(Tabla2[[#This Row],[NIVEL ACADEMICO]]=\"BACHILLER\",1,\"\")))","v":""},{"$f":"IF(Tabla2[[#This Row],[PROCEDENCIA]]=\"OTRO\",1,\"\")","v":""}]
["",{"$f":"IFERROR(IF(C15>0,VLOOKUP($F$5,DATA!$A$79:$B$160,2,FALSE),\"\"),\"\")","v":""},null,null,null,null,null,null,null,null,null,{"$f":"IF(Tabla2[[#This Row],[NIVEL ACADEMICO]]=\"OTRO\",1,IF(Tabla2[[#This Row],[NIVEL ACADEMICO]]=\"ESTUDIANTE\",1,IF(Tabla2[[#This Row],[NIVEL ACADEMICO]]=\"BACHILLER\",1,\"\")))","v":""},{"$f":"IF(Tabla2[[#This Row],[PROCEDENCIA]]=\"OTRO\",1,\"\")","v":""}]
["",{"$f":"IFERROR(IF(C16>0,VLOOKUP($F$5,DATA!$A$79:$B$160,2,FALSE),\"\"),\"\")","v":""},null,null,null,null,null,null,null,null,null,{"$f":"IF(Tabla2[[#This Row],[NIVEL ACADEMICO]]=\"OTRO\",1,IF(Tabla2[[#This Row],[NIVEL ACADEMICO]]=\"ESTUDIANTE\",1,IF(Tabla2[[#This Row],[NIVEL ACADEMICO]]=\"BACHILLER\",1,\"\")))","v":""},{"$f":"IF(Tabla2[[#This Row],[PROCEDENCIA]]=\"OTRO\",1,\"\")","v":""}]
["",{"$f":"IFERROR(IF(C17>0,VLOOKUP($F$5,DATA!$A$79:$B$160,2,FALSE),\"\"),\"\")","v":""},null,null,null,null,null,null,null,null,null,{"$f":"IF(Tabla2[[#This Row],[NIVEL ACADEMICO]]=\"OTRO\",1,IF(Tabla2[[#This Row],[NIVEL ACADEMICO]]=\"ESTUDIANTE\",1,IF(Tabla2[[#This Row],[NIVEL ACADEMICO]]=\"BACHILLER\",1,\"\")))","v":""},{"$f":"IF(Tabla2[[#This Row],[PROCEDENCIA]]=\"OTRO\",1,\"\")","v":""}]
["",{"$f":"IFERROR(IF(C18>0,VLOOKUP($F$5,DATA!$A$79:$B$160,2,FALSE),\"\"),\"\")","v":""},null,null,null,null,null,null,null,null,null,{"$f":"IF(Tabla2[[#This Row],[NIVEL ACADEMICO]]=\"OTRO\",1,IF(Tabla2[[#This Row],[NIVEL ACADEMICO]]=\"ESTUDIANTE\",1,IF(Tabla2[[#This Row],[NIVEL ACADEMICO]]=\"BACHILLER\",1,\"\")))","v":""},{"$f":"IF(Tabla2[[#This Row],[PROCEDENCIA]]=\"OTRO\",1,\"\")","v":""}]
["",{"$f":"IFERROR(IF(C19>0,VLOOKUP($F$5,DATA!$A$79:$B$160,2,FALSE),\"\"),\"\")","v":""},null,null,null,null,null,null,null,null,null,{"$f":"IF(Tabla2[[#This Row],[NIVEL ACADEMICO]]=\"OTRO\",1,IF(Tabla2[[#This Row],[NIVEL ACADEMICO]]=\"ESTUDIANTE\",1,IF(Tabla2[[#This Row],[NIVEL ACADEMICO]]=\"BACHILLER\",1,\"\")))","v":""},{"$f":"IF(Tabla2[[#This Row],[PROCEDENCIA]]=\"OTRO\",1,\"\")","v":""}]
["",{"$f":"IFERROR(IF(C20>0,VLOOKUP($F$5,DATA!$A$79:$B$160,2,FALSE),\"\"),\"\")","v":""},null,null,null,null,null,null,null,null,null,{"$f":"IF(Tabla2[[#This Row],[NIVEL ACADEMICO]]=\"OTRO\",1,IF(Tabla2[[#This Row],[NIVEL ACADEMICO]]=\"ESTUDIANTE\",1,IF(Tabla2[[#This Row],[NIVEL ACADEMICO]]=\"BACHILLER\",1,\"\")))","v":""},{"$f":"IF(Tabla2[[#This Row],[PROCEDENCIA]]=\"OTRO\",1,\"\")","v":""}]
["",{"$f":"IFERROR(IF(C21>0,VLOOKUP($F$5,DATA!$A$79:$B$160,2,FALSE),\"\"),\"\")","v":""},null,null,null,null,null,null,null,null,null,{"$f":"IF(Tabla2[[#This Row],[NIVEL ACADEMICO]]=\"OTRO\",1,IF(Tabla2[[#This Row],[NIVEL ACADEMICO]]=\"ESTUDIANTE\",1,IF(Tabla2[[#This Row],[NIVEL ACADEMICO]]=\"BACHILLER\",1,\"\")))","v":""},{"$f":"IF(Tabla2[[#This Row],[PROCEDENCIA]]=\"OTRO\",1,\"\")","v":""}]
["",{"$f":"IFERROR(IF(C22>0,VLOOKUP($F$5,DATA!$A$79:$B$160,2,FALSE),\"\"),\"\")","v":""},null,null,null,null,null,null,null,null,null,{"$f":"IF(Tabla2[[#This Row],[NIVEL ACADEMICO]]=\"OTRO\",1,IF(Tabla2[[#This Row],[NIVEL ACADEMICO]]=\"ESTUDIANTE\",1,IF(Tabla2[[#This Row],[NIVEL ACADEMICO]]=\"BACHILLER\",1,\"\")))","v":""},{"$f":"IF(Tabla2[[#This Row],[PROCEDENCIA]]=\"OTRO\",1,\"\")","v":""}]
["",{"$f":"IFERROR(IF(C23>0,VLOOKUP($F$5,DATA!$A$79:$B$160,2,FALSE),\"\"),\"\")","v":""},null,null,null,null,null,null,null,null,null,{"$f":"IF(Tabla2[[#This Row],[NIVEL ACADEMICO]]=\"OTRO\",1,IF(Tabla2[[#This Row],[NIVEL ACADEMICO]]=\"ESTUDIANTE\",1,IF(Tabla2[[#This Row],[NIVEL ACADEMICO]]=\"BACHILLER\",1,\"\")))","v":""},{"$f":"IF(Tabla2[[#This Row],[PROCEDENCIA]]=\"OTRO\",1,\"\")","v":""}]
["",{"$f":"IFERROR(IF(C24>0,VLOOKUP($F$5,DATA!$A$79:$B$160,2,FALSE),\"\"),\"\")","v":""},null,null,null,null,null,null,null,null,null,{"$f":"IF(Tabla2[[#This Row],[NIVEL ACADEMICO]]=\"OTRO\",1,IF(Tabla2[[#This Row],[NIVEL ACADEMICO]]=\"ESTUDIANTE\",1,IF(Tabla2[[#This Row],[NIVEL ACADEMICO]]=\"BACHILLER\",1,\"\")))","v":""},{"$f":"IF(Tabla2[[#This Row],[PROCEDENCIA]]=\"OTRO\",1,\"\")","v":""}]
["",{"$f":"IFERROR(IF(C25>0,VLOOKUP($F$5,DATA!$A$79:$B$160,2,FALSE),\"\"),\"\")","v":""},null,null,null,null,null,null,null,null,null,{"$f":"IF(Tabla2[[#This Row],[NIVEL ACADEMICO]]=\"OTRO\",1,IF(Tabla2[[#This Row],[NIVEL ACADEMICO]]=\"ESTUDIANTE\",1,IF(Tabla2[[#This Row],[NIVEL ACADEMICO]]=\"BACHILLER\",1,\"\")))","v":""},{"$f":"IF(Tabla2[[#This Row],[PROCEDENCIA]]=\"OTRO\",1,\"\")","v":""}]
["",{"$f":"IFERROR(IF(C26>0,VLOOKUP($F$5,DATA!$A$79:$B$160,2,FALSE),\"\"),\"\")","v":""},null,null,null,null,null,null,null,null,null,{"$f":"IF(Tabla2[[#This Row],[NIVEL ACADEMICO]]=\"OTRO\",1,IF(Tabla2[[#This Row],[NIVEL ACADEMICO]]=\"ESTUDIANTE\",1,IF(Tabla2[[#This Row],[NIVEL ACADEMICO]]=\"BACHILLER\",1,\"\")))","v":""},{"$f":"IF(Tabla2[[#This Row],[PROCEDENCIA]]=\"OTRO\",1,\"\")","v":""}]
["",{"$f":"IFERROR(IF(C27>0,VLOOKUP($F$5,DATA!$A$79:$B$160,2,FALSE),\"\"),\"\")","v":""},null,null,null,null,null,null,null,null,null,{"$f":"IF(Tabla2[[#This Row],[NIVEL ACADEMICO]]=\"OTRO\",1,IF(Tabla2[[#This Row],[NIVEL ACADEMICO]]=\"ESTUDIANTE\",1,IF(Tabla2[[#This Row],[NIVEL ACADEMICO]]=\"BACHILLER\",1,\"\")))","v":""},{"$f":"IF(Tabla2[[#This Row],[PROCEDENCIA]]=\"OTRO\",1,\"\")","v":""}]
["",{"$f":"IFERROR(IF(C28>0,VLOOKUP($F$5,DATA!$A$79:$B$160,2,FALSE),\"\"),\"\")","v":""},null,null,null,null,null,null,null,null,null,{"$f":"IF(Tabla2[[#This Row],[NIVEL ACADEMICO]]=\"OTRO\",1,IF(Tabla2[[#This Row],[NIVEL ACADEMICO]]=\"ESTUDIANTE\",1,IF(Tabla2[[#This Row],[NIVEL ACADEMICO]]=\"BACHILLER\",1,\"\")))","v":""},{"$f":"IF(Tabla2[[#This Row],[PROCEDENCIA]]=\"OTRO\",1,\"\")","v":""}]
["",{"$f":"IFERROR(IF(C29>0,VLOOKUP($F$5,DATA!$A$79:$B$160,2,FALSE),\"\"),\"\")","v":""},null,null,null,null,null,null,null,null,null,{"$f":"IF(Tabla2[[#This Row],[NIVEL ACADEMICO]]=\"OTRO\",1,IF(Tabla2[[#This Row],[NIVEL ACADEMICO]]=\"ESTUDIANTE\",1,IF(Tabla2[[#This Row],[NIVEL ACADEMICO]]=\"BACHILLER\",1,\"\")))","v":""},{"$f":"IF(Tabla2[[#This Row],[PROCEDENCIA]]=\"OTRO\",1,\"\")","v":""}]
["",{"$f":"IFERROR(IF(C30>0,VLOOKUP($F$5,DATA!$A$79:$B$160,2,FALSE),\"\"),\"\")","v":""},null,null,null,null,null,null,null,null,null,{"$f":"IF(Tabla2[[#This Row],[NIVEL ACADEMICO]]=\"OTRO\",1,IF(Tabla2[[#This Row],[NIVEL ACADEMICO]]=\"ESTUDIANTE\",1,IF(Tabla2[[#This Row],[NIVEL ACADEMICO]]=\"BACHILLER\",1,\"\")))","v":""},{"$f":"IF(Tabla2[[#This Row],[PROCEDENCIA]]=\"OTRO\",1,\"\")","v":""}]
["",{"$f":"IFERROR(IF(C31>0,VLOOKUP($F$5,DATA!$A$79:$B$160,2,FALSE),\"\"),\"\")","v":""},null,null,null,null,null,null,null,null,null,{"$f":"IF(Tabla2[[#This Row],[NIVEL ACADEMICO]]=\"OTRO\",1,IF(Tabla2[[#This Row],[NIVEL ACADEMICO]]=\"ESTUDIANTE\",1,IF(Tabla2[[#This Row],[NIVEL ACADEMICO]]=\"BACHILLER\",1,\"\")))","v":""},{"$f":"IF(Tabla2[[#This Row],[PROCEDENCIA]]=\"OTRO\",1,\"\")","v":""}]
["",{"$f":"IFERROR(IF(C32>0,VLOOKUP($F$5,DATA!$A$79:$B$160,2,FALSE),\"\"),\"\")","v":""},null,null,null,null,null,null,null,null,null,{"$f":"IF(Tabla2[[#This Row],[NIVEL ACADEMICO]]=\"OTRO\",1,IF(Tabla2[[#This Row],[NIVEL ACADEMICO]]=\"ESTUDIANTE\",1,IF(Tabla2[[#This Row],[NIVEL ACADEMICO]]=\"BACHILLER\",1,\"\")))","v":""},{"$f":"IF(Tabla2[[#This Row],[PROCEDENCIA]]=\"OTRO\",1,\"\")","v":""}]
["",{"$f":"IFERROR(IF(C33>0,VLOOKUP($F$5,DATA!$A$79:$B$160,2,FALSE),\"\"),\"\")","v":""},null,null,null,null,null,null,null,null,null,{"$f":"IF(Tabla2[[#This Row],[NIVEL ACADEMICO]]=\"OTRO\",1,IF(Tabla2[[#This Row],[NIVEL ACADEMICO]]=\"ESTUDIANTE\",1,IF(Tabla2[[#This Row],[NIVEL ACADEMICO]]=\"BACHILLER\",1,\"\")))","v":""},{"$f":"IF(Tabla2[[#This Row],[PROCEDENCIA]]=\"OTRO\",1,\"\")","v":""}]
["",{"$f":"IFERROR(IF(C34>0,VLOOKUP($F$5,DATA!$A$79:$B$160,2,FALSE),\"\"),\"\")","v":""},null,null,null,null,null,null,null,null,null,{"$f":"IF(Tabla2[[#This Row],[NIVEL ACADEMICO]]=\"OTRO\",1,IF(Tabla2[[#This Row],[NIVEL ACADEMICO]]=\"ESTUDIANTE\",1,IF(Tabla2[[#This Row],[NIVEL ACADEMICO]]=\"BACHILLER\",1,\"\")))","v":""},{"$f":"IF(Tabla2[[#This Row],[PROCEDENCIA]]=\"OTRO\",1,\"\")","v":""}]
["",{"$f":"IFERROR(IF(C35>0,VLOOKUP($F$5,DATA!$A$79:$B$160,2,FALSE),\"\"),\"\")","v":""},null,null,null,null,null,null,null,null,null,{"$f":"IF(Tabla2[[#This Row],[NIVEL ACADEMICO]]=\"OTRO\",1,IF(Tabla2[[#This Row],[NIVEL ACADEMICO]]=\"ESTUDIANTE\",1,IF(Tabla2[[#This Row],[NIVEL ACADEMICO]]=\"BACHILLER\",1,\"\")))","v":""},{"$f":"IF(Tabla2[[#This Row],[PROCEDENCIA]]=\"OTRO\",1,\"\")","v":""}]
["",{"$f":"IFERROR(IF(C36>0,VLOOKUP($F$5,DATA!$A$79:$B$160,2,FALSE),\"\"),\"\")","v":""},null,null,null,null,null,null,null,null,null,{"$f":"IF(Tabla2[[#This Row],[NIVEL ACADEMICO]]=\"OTRO\",1,IF(Tabla2[[#This Row],[NIVEL ACADEMICO]]=\"ESTUDIANTE\",1,IF(Tabla2[[#This Row],[NIVEL ACADEMICO]]=\"BACHILLER\",1,\"\")))","v":""},{"$f":"IF(Tabla2[[#This Row],[PROCEDENCIA]]=\"OTRO\",1,\"\")","v":""}]
["",{"$f":"IFERROR(IF(C37>0,VLOOKUP($F$5,DATA!$A$79:$B$160,2,FALSE),\"\"),\"\")","v":""},null,null,null,null,null,null,null,null,null,{"$f":"IF(Tabla2[[#This Row],[NIVEL ACADEMICO]]=\"OTRO\",1,IF(Tabla2[[#This Row],[NIVEL ACADEMICO]]=\"ESTUDIANTE\",1,IF(Tabla2[[#This Row],[NIVEL ACADEMICO]]=\"BACHILLER\",1,\"\")))","v":""},{"$f":"IF(Tabla2[[#This Row],[PROCEDENCIA]]=\"OTRO\",1,\"\")","v":""}]
["",{"$f":"IFERROR(IF(C38>0,VLOOKUP($F$5,DATA!$A$79:$B$160,2,FALSE),\"\"),\"\")","v":""},null,null,null,null,null,null,null,null,null,{"$f":"IF(Tabla2[[#This Row],[NIVEL ACADEMICO]]=\"OTRO\",1,IF(Tabla2[[#This Row],[NIVEL ACADEMICO]]=\"ESTUDIANTE\",1,IF(Tabla2[[#This Row],[NIVEL ACADEMICO]]=\"BACHILLER\",1,\"\")))","v":""},{"$f":"IF(Tabla2[[#This Row],[PROCEDENCIA]]=\"OTRO\",1,\"\")","v":""}]
["",{"$f":"IFERROR(IF(C39>0,VLOOKUP($F$5,DATA!$A$79:$B$160,2,FALSE),\"\"),\"\")","v":""},null,null,null,null,null,null,null,null,null,{"$f":"IF(Tabla2[[#This Row],[NIVEL ACADEMICO]]=\"OTRO\",1,IF(Tabla2[[#This Row],[NIVEL ACADEMICO]]=\"ESTUDIANTE\",1,IF(Tabla2[[#This Row],[NIVEL ACADEMICO]]=\"BACHILLER\",1,\"\")))","v":""},{"$f":"IF(Tabla2[[#This Row],[PROCEDENCIA]]=\"OTRO\",1,\"\")","v":""}]
["",{"$f":"IFERROR(IF(C40>0,VLOOKUP($F$5,DATA!$A$79:$B$160,2,FALSE),\"\"),\"\")","v":""},null,null,null,null,null,null,null,null,null,{"$f":"IF(Tabla2[[#This Row],[NIVEL ACADEMICO]]=\"OTRO\",1,IF(Tabla2[[#This Row],[NIVEL ACADEMICO]]=\"ESTUDIANTE\",1,IF(Tabla2[[#This Row],[NIVEL ACADEMICO]]=\"BACHILLER\",1,\"\")))","v":""},{"$f":"IF(Tabla2[[#This Row],[PROCEDENCIA]]=\"OTRO\",1,\"\")","v":""}]
["",{"$f":"IFERROR(IF(C41>0,VLOOKUP($F$5,DATA!$A$79:$B$160,2,FALSE),\"\"),\"\")","v":""},null,null,null,null,null,null,null,null,null,{"$f":"IF(Tabla2[[#This Row],[NIVEL ACADEMICO]]=\"OTRO\",1,IF(Tabla2[[#This Row],[NIVEL ACADEMICO]]=\"ESTUDIANTE\",1,IF(Tabla2[[#This Row],[NIVEL ACADEMICO]]=\"BACHILLER\",1,\"\")))","v":""},{"$f":"IF(Tabla2[[#This Row],[PROCEDENCIA]]=\"OTRO\",1,\"\")","v":""}]
[{"$f":"IF(C42>0,ROW()-8,\"\")","v":""},{"$f":"IFERROR(IF(C42>0,VLOOKUP($F$5,DATA!$A$79:$B$160,2,FALSE),\"\"),\"\")","v":""},null,null,null,null,null,null,null,null,null,{"$f":"IF(Tabla2[[#This Row],[NIVEL ACADEMICO]]=\"OTRO\",1,IF(Tabla2[[#This Row],[NIVEL ACADEMICO]]=\"ESTUDIANTE\",1,IF(Tabla2[[#This Row],[NIVEL ACADEMICO]]=\"BACHILLER\",1,\"\")))","v":""},{"$f":"IF(Tabla2[[#This Row],[PROCEDENCIA]]=\"OTRO\",1,\"\")","v":""}]
["",{"$f":"IFERROR(IF(C43>0,VLOOKUP($F$5,DATA!$A$79:$B$160,2,FALSE),\"\"),\"\")","v":""},null,null,null,null,null,null,null,null,null,{"$f":"IF(Tabla2[[#This Row],[NIVEL ACADEMICO]]=\"OTRO\",1,IF(Tabla2[[#This Row],[NIVEL ACADEMICO]]=\"ESTUDIANTE\",1,IF(Tabla2[[#This Row],[NIVEL ACADEMICO]]=\"BACHILLER\",1,\"\")))","v":""},{"$f":"IF(Tabla2[[#This Row],[PROCEDENCIA]]=\"OTRO\",1,\"\")","v":""}]
["",{"$f":"IFERROR(IF(C44>0,VLOOKUP($F$5,DATA!$A$79:$B$160,2,FALSE),\"\"),\"\")","v":""},null,null,null,null,null,null,null,null,null,{"$f":"IF(Tabla2[[#This Row],[NIVEL ACADEMICO]]=\"OTRO\",1,IF(Tabla2[[#This Row],[NIVEL ACADEMICO]]=\"ESTUDIANTE\",1,IF(Tabla2[[#This Row],[NIVEL ACADEMICO]]=\"BACHILLER\",1,\"\")))","v":""},{"$f":"IF(Tabla2[[#This Row],[PROCEDENCIA]]=\"OTRO\",1,\"\")","v":""}]
["",{"$f":"IFERROR(IF(C45>0,VLOOKUP($F$5,DATA!$A$79:$B$160,2,FALSE),\"\"),\"\")","v":""},null,null,null,null,null,null,null,null,null,{"$f":"IF(Tabla2[[#This Row],[NIVEL ACADEMICO]]=\"OTRO\",1,IF(Tabla2[[#This Row],[NIVEL ACADEMICO]]=\"ESTUDIANTE\",1,IF(Tabla2[[#This Row],[NIVEL ACADEMICO]]=\"BACHILLER\",1,\"\")))","v":""},{"$f":"IF(Tabla2[[#This Row],[PROCEDENCIA]]=\"OTRO\",1,\"\")","v":""}]
["",{"$f":"IFERROR(IF(C46>0,VLOOKUP($F$5,DATA!$A$79:$B$160,2,FALSE),\"\"),\"\")","v":""},null,null,null,null,null,null,null,null,null,{"$f":"IF(Tabla2[[#This Row],[NIVEL ACADEMICO]]=\"OTRO\",1,IF(Tabla2[[#This Row],[NIVEL ACADEMICO]]=\"ESTUDIANTE\",1,IF(Tabla2[[#This Row],[NIVEL ACADEMICO]]=\"BACHILLER\",1,\"\")))","v":""},{"$f":"IF(Tabla2[[#This Row],[PROCEDENCIA]]=\"OTRO\",1,\"\")","v":""}]
["",{"$f":"IFERROR(IF(C47>0,VLOOKUP($F$5,DATA!$A$79:$B$160,2,FALSE),\"\"),\"\")","v":""},null,null,null,null,null,null,null,null,null,{"$f":"IF(Tabla2[[#This Row],[NIVEL ACADEMICO]]=\"OTRO\",1,IF(Tabla2[[#This Row],[NIVEL ACADEMICO]]=\"ESTUDIANTE\",1,IF(Tabla2[[#This Row],[NIVEL ACADEMICO]]=\"BACHILLER\",1,\"\")))","v":""},{"$f":"IF(Tabla2[[#This Row],[PROCEDENCIA]]=\"OTRO\",1,\"\")","v":""}]
["",{"$f":"IFERROR(IF(C48>0,VLOOKUP($F$5,DATA!$A$79:$B$160,2,FALSE),\"\"),\"\")","v":""},null,null,null,null,null,null,null,null,null,{"$f":"IF(Tabla2[[#This Row],[NIVEL ACADEMICO]]=\"OTRO\",1,IF(Tabla2[[#This Row],[NIVEL ACADEMICO]]=\"ESTUDIANTE\",1,IF(Tabla2[[#This Row],[NIVEL ACADEMICO]]=\"BACHILLER\",1,\"\")))","v":""},{"$f":"IF(Tabla2[[#This Row],[PROCEDENCIA]]=\"OTRO\",1,\"\")","v":""}]
["",{"$f":"IFERROR(IF(C49>0,VLOOKUP($F$5,DATA!$A$79:$B$160,2,FALSE),\"\"),\"\")","v":""},null,null,null,null,null,null,null,null,null,{"$f":"IF(Tabla2[[#This Row],[NIVEL ACADEMICO]]=\"OTRO\",1,IF(Tabla2[[#This Row],[NIVEL ACADEMICO]]=\"ESTUDIANTE\",1,IF(Tabla2[[#This Row],[NIVEL ACADEMICO]]=\"BACHILLER\",1,\"\")))","v":""},{"$f":"IF(Tabla2[[#This Row],[PROCEDENCIA]]=\"OTRO\",1,\"\")","v":""}]
["",{"$f":"IFERROR(IF(C50>0,VLOOKUP($F$5,DATA!$A$79:$B$160,2,FALSE),\"\"),\"\")","v":""},null,null,null,null,null,null,null,null,null,{"$f":"IF(Tabla2[[#This Row],[NIVEL ACADEMICO]]=\"OTRO\",1,IF(Tabla2[[#This Row],[NIVEL ACADEMICO]]=\"ESTUDIANTE\",1,IF(Tabla2[[#This Row],[NIVEL ACADEMICO]]=\"BACHILLER\",1,\"\")))","v":""},{"$f":"IF(Tabla2[[#This Row],[PROCEDENCIA]]=\"OTRO\",1,\"\")","v":""}]
["",{"$f":"IFERROR(IF(C51>0,VLOOKUP($F$5,DATA!$A$79:$B$160,2,FALSE),\"\"),\"\")","v":""},null,null,null,null,null,null,null,null,null,{"$f":"IF(Tabla2[[#This Row],[NIVEL ACADEMICO]]=\"OTRO\",1,IF(Tabla2[[#This Row],[NIVEL ACADEMICO]]=\"ESTUDIANTE\",1,IF(Tabla2[[#This Row],[NIVEL ACADEMICO]]=\"BACHILLER\",1,\"\")))","v":""},{"$f":"IF(Tabla2[[#This Row],[PROCEDENCIA]]=\"OTRO\",1,\"\")","v":""}]
["",{"$f":"IFERROR(IF(C52>0,VLOOKUP($F$5,DATA!$A$79:$B$160,2,FALSE),\"\"),\"\")","v":""},null,null,null,null,null,null,null,null,null,{"$f":"IF(Tabla2[[#This Row],[NIVEL ACADEMICO]]=\"OTRO\",1,IF(Tabla2[[#This Row],[NIVEL ACADEMICO]]=\"ESTUDIANTE\",1,IF(Tabla2[[#This Row],[NIVEL ACADEMICO]]=\"BACHILLER\",1,\"\")))","v":""},{"$f":"IF(Tabla2[[#This Row],[PROCEDENCIA]]=\"OTRO\",1,\"\")","v":""}]
["",{"$f":"IFERROR(IF(C53>0,VLOOKUP($F$5,DATA!$A$79:$B$160,2,FALSE),\"\"),\"\")","v":""},null,null,null,null,null,null,null,null,null,{"$f":"IF(Tabla2[[#This Row],[NIVEL ACADEMICO]]=\"OTRO\",1,IF(Tabla2[[#This Row],[NIVEL ACADEMICO]]=\"ESTUDIANTE\",1,IF(Tabla2[[#This Row],[NIVEL ACADEMICO]]=\"BACHILLER\",1,\"\")))","v":""},{"$f":"IF(Tabla2[[#This Row],[PROCEDENCIA]]=\"OTRO\",1,\"\")","v":""}]
["",{"$f":"IFERROR(IF(C54>0,VLOOKUP($F$5,DATA!$A$79:$B$160,2,FALSE),\"\"),\"\")","v":""},null,null,null,null,null,null,null,null,null,{"$f":"IF(Tabla2[[#This Row],[NIVEL ACADEMICO]]=\"OTRO\",1,IF(Tabla2[[#This Row],[NIVEL ACADEMICO]]=\"ESTUDIANTE\",1,IF(Tabla2[[#This Row],[NIVEL ACADEMICO]]=\"BACHILLER\",1,\"\")))","v":""},{"$f":"IF(Tabla2[[#This Row],[PROCEDENCIA]]=\"OTRO\",1,\"\")","v":""}]
["",{"$f":"IFERROR(IF(C55>0,VLOOKUP($F$5,DATA!$A$79:$B$160,2,FALSE),\"\"),\"\")","v":""},null,null,null,null,null,null,null,null,null,{"$f":"IF(Tabla2[[#This Row],[NIVEL ACADEMICO]]=\"OTRO\",1,IF(Tabla2[[#This Row],[NIVEL ACADEMICO]]=\"ESTUDIANTE\",1,IF(Tabla2[[#This Row],[NIVEL ACADEMICO]]=\"BACHILLER\",1,\"\")))","v":""},{"$f":"IF(Tabla2[[#This Row],[PROCEDENCIA]]=\"OTRO\",1,\"\")","v":""}]
["",{"$f":"IFERROR(IF(C56>0,VLOOKUP($F$5,DATA!$A$79:$B$160,2,FALSE),\"\"),\"\")","v":""},null,null,null,null,null,null,null,null,null,{"$f":"IF(Tabla2[[#This Row],[NIVEL ACADEMICO]]=\"OTRO\",1,IF(Tabla2[[#This Row],[NIVEL ACADEMICO]]=\"ESTUDIANTE\",1,IF(Tabla2[[#This Row],[NIVEL ACADEMICO]]=\"BACHILLER\",1,\"\")))","v":""},{"$f":"IF(Tabla2[[#This Row],[PROCEDENCIA]]=\"OTRO\",1,\"\")","v":""}]
["",{"$f":"IFERROR(IF(C57>0,VLOOKUP($F$5,DATA!$A$79:$B$160,2,FALSE),\"\"),\"\")","v":""},null,null,null,null,null,null,null,null,null,{"$f":"IF(Tabla2[[#This Row],[NIVEL ACADEMICO]]=\"OTRO\",1,IF(Tabla2[[#This Row],[NIVEL ACADEMICO]]=\"ESTUDIANTE\",1,IF(Tabla2[[#This Row],[NIVEL ACADEMICO]]=\"BACHILLER\",1,\"\")))","v":""},{"$f":"IF(Tabla2[[#This Row],[PROCEDENCIA]]=\"OTRO\",1,\"\")","v":""}]
["",{"$f":"IFERROR(IF(C58>0,VLOOKUP($F$5,DATA!$A$79:$B$160,2,FALSE),\"\"),\"\")","v":""},null,null,null,null,null,null,null,null,null,{"$f":"IF(Tabla2[[#This Row],[NIVEL ACADEMICO]]=\"OTRO\",1,IF(Tabla2[[#This Row],[NIVEL ACADEMICO]]=\"ESTUDIANTE\",1,IF(Tabla2[[#This Row],[NIVEL ACADEMICO]]=\"BACHILLER\",1,\"\")))","v":""},{"$f":"IF(Tabla2[[#This Row],[PROCEDENCIA]]=\"OTRO\",1,\"\")","v":""}]
["",{"$f":"IFERROR(IF(C59>0,VLOOKUP($F$5,DATA!$A$79:$B$160,2,FALSE),\"\"),\"\")","v":""},null,null,null,null,null,null,null,null,null,{"$f":"IF(Tabla2[[#This Row],[NIVEL ACADEMICO]]=\"OTRO\",1,IF(Tabla2[[#This Row],[NIVEL ACADEMICO]]=\"ESTUDIANTE\",1,IF(Tabla2[[#This Row],[NIVEL ACADEMICO]]=\"BACHILLER\",1,\"\")))","v":""},{"$f":"IF(Tabla2[[#This Row],[PROCEDENCIA]]=\"OTRO\",1,\"\")","v":""}]
["",{"$f":"IFERROR(IF(C60>0,VLOOKUP($F$5,DATA!$A$79:$B$160,2,FALSE),\"\"),\"\")","v":""},null,null,null,null,null,null,null,null,null,{"$f":"IF(Tabla2[[#This Row],[NIVEL ACADEMICO]]=\"OTRO\",1,IF(Tabla2[[#This Row],[NIVEL ACADEMICO]]=\"ESTUDIANTE\",1,IF(Tabla2[[#This Row],[NIVEL ACADEMICO]]=\"BACHILLER\",1,\"\")))","v":""},{"$f":"IF(Tabla2[[#This Row],[PROCEDENCIA]]=\"OTRO\",1,\"\")","v":""}]
["",{"$f":"IFERROR(IF(C61>0,VLOOKUP($F$5,DATA!$A$79:$B$160,2,FALSE),\"\"),\"\")","v":""},null,null,null,null,null,null,null,null,null,{"$f":"IF(Tabla2[[#This Row],[NIVEL ACADEMICO]]=\"OTRO\",1,IF(Tabla2[[#This Row],[NIVEL ACADEMICO]]=\"ESTUDIANTE\",1,IF(Tabla2[[#This Row],[NIVEL ACADEMICO]]=\"BACHILLER\",1,\"\")))","v":""},{"$f":"IF(Tabla2[[#This Row],[PROCEDENCIA]]=\"OTRO\",1,\"\")","v":""}]
["",{"$f":"IFERROR(IF(C62>0,VLOOKUP($F$5,DATA!$A$79:$B$160,2,FALSE),\"\"),\"\")","v":""},null,null,null,null,null,null,null,null,null,{"$f":"IF(Tabla2[[#This Row],[NIVEL ACADEMICO]]=\"OTRO\",1,IF(Tabla2[[#This Row],[NIVEL ACADEMICO]]=\"ESTUDIANTE\",1,IF(Tabla2[[#This Row],[NIVEL ACADEMICO]]=\"BACHILLER\",1,\"\")))","v":""},{"$f":"IF(Tabla2[[#This Row],[PROCEDENCIA]]=\"OTRO\",1,\"\")","v":""}]
["",{"$f":"IFERROR(IF(C63>0,VLOOKUP($F$5,DATA!$A$79:$B$160,2,FALSE),\"\"),\"\")","v":""},null,null,null,null,null,null,null,null,null,{"$f":"IF(Tabla2[[#This Row],[NIVEL ACADEMICO]]=\"OTRO\",1,IF(Tabla2[[#This Row],[NIVEL ACADEMICO]]=\"ESTUDIANTE\",1,IF(Tabla2[[#This Row],[NIVEL ACADEMICO]]=\"BACHILLER\",1,\"\")))","v":""},{"$f":"IF(Tabla2[[#This Row],[PROCEDENCIA]]=\"OTRO\",1,\"\")","v":""}]
["",{"$f":"IFERROR(IF(C64>0,VLOOKUP($F$5,DATA!$A$79:$B$160,2,FALSE),\"\"),\"\")","v":""},null,null,null,null,null,null,null,null,null,{"$f":"IF(Tabla2[[#This Row],[NIVEL ACADEMICO]]=\"OTRO\",1,IF(Tabla2[[#This Row],[NIVEL ACADEMICO]]=\"ESTUDIANTE\",1,IF(Tabla2[[#This Row],[NIVEL ACADEMICO]]=\"BACHILLER\",1,\"\")))","v":""},{"$f":"IF(Tabla2[[#This Row],[PROCEDENCIA]]=\"OTRO\",1,\"\")","v":""}]
["",{"$f":"IFERROR(IF(C65>0,VLOOKUP($F$5,DATA!$A$79:$B$160,2,FALSE),\"\"),\"\")","v":""},null,null,null,null,null,null,null,null,null,{"$f":"IF(Tabla2[[#This Row],[NIVEL ACADEMICO]]=\"OTRO\",1,IF(Tabla2[[#This Row],[NIVEL ACADEMICO]]=\"ESTUDIANTE\",1,IF(Tabla2[[#This Row],[NIVEL ACADEMICO]]=\"BACHILLER\",1,\"\")))","v":""},{"$f":"IF(Tabla2[[#This Row],[PROCEDENCIA]]=\"OTRO\",1,\"\")","v":""}]
["",{"$f":"IFERROR(IF(C66>0,VLOOKUP($F$5,DATA!$A$79:$B$160,2,FALSE),\"\"),\"\")","v":""},null,null,null,null,null,null,null,null,null,{"$f":"IF(Tabla2[[#This Row],[NIVEL ACADEMICO]]=\"OTRO\",1,IF(Tabla2[[#This Row],[NIVEL ACADEMICO]]=\"ESTUDIANTE\",1,IF(Tabla2[[#This Row],[NIVEL ACADEMICO]]=\"BACHILLER\",1,\"\")))","v":""},{"$f":"IF(Tabla2[[#This Row],[PROCEDENCIA]]=\"OTRO\",1,\"\")","v":""}]
["",{"$f":"IFERROR(IF(C67>0,VLOOKUP($F$5,DATA!$A$79:$B$160,2,FALSE),\"\"),\"\")","v":""},null,null,null,null,null,null,null,null,null,{"$f":"IF(Tabla2[[#This Row],[NIVEL ACADEMICO]]=\"OTRO\",1,IF(Tabla2[[#This Row],[NIVEL ACADEMICO]]=\"ESTUDIANTE\",1,IF(Tabla2[[#This Row],[NIVEL ACADEMICO]]=\"BACHILLER\",1,\"\")))","v":""},{"$f":"IF(Tabla2[[#This Row],[PROCEDENCIA]]=\"OTRO\",1,\"\")","v":""}]
["",{"$f":"IFERROR(IF(C68>0,VLOOKUP($F$5,DATA!$A$79:$B$160,2,FALSE),\"\"),\"\")","v":""},null,null,null,null,null,null,null,null,null,{"$f":"IF(Tabla2[[#This Row],[NIVEL ACADEMICO]]=\"OTRO\",1,IF(Tabla2[[#This Row],[NIVEL ACADEMICO]]=\"ESTUDIANTE\",1,IF(Tabla2[[#This Row],[NIVEL ACADEMICO]]=\"BACHILLER\",1,\"\")))","v":""},{"$f":"IF(Tabla2[[#This Row],[PROCEDENCIA]]=\"OTRO\",1,\"\")","v":""}]
["",{"$f":"IFERROR(IF(C69>0,VLOOKUP($F$5,DATA!$A$79:$B$160,2,FALSE),\"\"),\"\")","v":""},null,null,null,null,null,null,null,null,null,{"$f":"IF(Tabla2[[#This Row],[NIVEL ACADEMICO]]=\"OTRO\",1,IF(Tabla2[[#This Row],[NIVEL ACADEMICO]]=\"ESTUDIANTE\",1,IF(Tabla2[[#This Row],[NIVEL ACADEMICO]]=\"BACHILLER\",1,\"\")))","v":""},{"$f":"IF(Tabla2[[#This Row],[PROCEDENCIA]]=\"OTRO\",1,\"\")","v":""}]
["",{"$f":"IFERROR(IF(C70>0,VLOOKUP($F$5,DATA!$A$79:$B$160,2,FALSE),\"\"),\"\")","v":""},null,null,null,null,null,null,null,null,null,{"$f":"IF(Tabla2[[#This Row],[NIVEL ACADEMICO]]=\"OTRO\",1,IF(Tabla2[[#This Row],[NIVEL ACADEMICO]]=\"ESTUDIANTE\",1,IF(Tabla2[[#This Row],[NIVEL ACADEMICO]]=\"BACHILLER\",1,\"\")))","v":""},{"$f":"IF(Tabla2[[#This Row],[PROCEDENCIA]]=\"OTRO\",1,\"\")","v":""}]
["",{"$f":"IFERROR(IF(C71>0,VLOOKUP($F$5,DATA!$A$79:$B$160,2,FALSE),\"\"),\"\")","v":""},null,null,null,null,null,null,null,null,null,{"$f":"IF(Tabla2[[#This Row],[NIVEL ACADEMICO]]=\"OTRO\",1,IF(Tabla2[[#This Row],[NIVEL ACADEMICO]]=\"ESTUDIANTE\",1,IF(Tabla2[[#This Row],[NIVEL ACADEMICO]]=\"BACHILLER\",1,\"\")))","v":""},{"$f":"IF(Tabla2[[#This Row],[PROCEDENCIA]]=\"OTRO\",1,\"\")","v":""}]
["",{"$f":"IFERROR(IF(C72>0,VLOOKUP($F$5,DATA!$A$79:$B$160,2,FALSE),\"\"),\"\")","v":""},null,null,null,null,null,null,null,null,null,{"$f":"IF(Tabla2[[#This Row],[NIVEL ACADEMICO]]=\"OTRO\",1,IF(Tabla2[[#This Row],[NIVEL ACADEMICO]]=\"ESTUDIANTE\",1,IF(Tabla2[[#This Row],[NIVEL ACADEMICO]]=\"BACHILLER\",1,\"\")))","v":""},{"$f":"IF(Tabla2[[#This Row],[PROCEDENCIA]]=\"OTRO\",1,\"\")","v":""}]
["",{"$f":"IFERROR(IF(C73>0,VLOOKUP($F$5,DATA!$A$79:$B$160,2,FALSE),\"\"),\"\")","v":""},null,null,null,null,null,null,null,null,null,{"$f":"IF(Tabla2[[#This Row],[NIVEL ACADEMICO]]=\"OTRO\",1,IF(Tabla2[[#This Row],[NIVEL ACADEMICO]]=\"ESTUDIANTE\",1,IF(Tabla2[[#This Row],[NIVEL ACADEMICO]]=\"BACHILLER\",1,\"\")))","v":""},{"$f":"IF(Tabla2[[#This Row],[PROCEDENCIA]]=\"OTRO\",1,\"\")","v":""}]
[{"$f":"IF(C74>0,ROW()-8,\"\")","v":""},{"$f":"IFERROR(IF(C74>0,VLOOKUP($F$5,DATA!$A$79:$B$160,2,FALSE),\"\"),\"\")","v":""},null,null,null,null,null,null,null,null,null,{"$f":"IF(Tabla2[[#This Row],[NIVEL ACADEMICO]]=\"OTRO\",1,IF(Tabla2[[#This Row],[NIVEL ACADEMICO]]=\"ESTUDIANTE\",1,IF(Tabla2[[#This Row],[NIVEL ACADEMICO]]=\"BACHILLER\",1,\"\")))","v":""},{"$f":"IF(Tabla2[[#This Row],[PROCEDENCIA]]=\"OTRO\",1,\"\")","v":""}]
["",{"$f":"IFERROR(IF(C75>0,VLOOKUP($F$5,DATA!$A$79:$B$160,2,FALSE),\"\"),\"\")","v":""},null,null,null,null,null,null,null,null,null,{"$f":"IF(Tabla2[[#This Row],[NIVEL ACADEMICO]]=\"OTRO\",1,IF(Tabla2[[#This Row],[NIVEL ACADEMICO]]=\"ESTUDIANTE\",1,IF(Tabla2[[#This Row],[NIVEL ACADEMICO]]=\"BACHILLER\",1,\"\")))","v":""},{"$f":"IF(Tabla2[[#This Row],[PROCEDENCIA]]=\"OTRO\",1,\"\")","v":""}]
["",{"$f":"IFERROR(IF(C76>0,VLOOKUP($F$5,DATA!$A$79:$B$160,2,FALSE),\"\"),\"\")","v":""},null,null,null,null,null,null,null,null,null,{"$f":"IF(Tabla2[[#This Row],[NIVEL ACADEMICO]]=\"OTRO\",1,IF(Tabla2[[#This Row],[NIVEL ACADEMICO]]=\"ESTUDIANTE\",1,IF(Tabla2[[#This Row],[NIVEL ACADEMICO]]=\"BACHILLER\",1,\"\")))","v":""},{"$f":"IF(Tabla2[[#This Row],[PROCEDENCIA]]=\"OTRO\",1,\"\")","v":""}]
["",{"$f":"IFERROR(IF(C77>0,VLOOKUP($F$5,DATA!$A$79:$B$160,2,FALSE),\"\"),\"\")","v":""},null,null,null,null,null,null,null,null,null,{"$f":"IF(Tabla2[[#This Row],[NIVEL ACADEMICO]]=\"OTRO\",1,IF(Tabla2[[#This Row],[NIVEL ACADEMICO]]=\"ESTUDIANTE\",1,IF(Tabla2[[#This Row],[NIVEL ACADEMICO]]=\"BACHILLER\",1,\"\")))","v":""},{"$f":"IF(Tabla2[[#This Row],[PROCEDENCIA]]=\"OTRO\",1,\"\")","v":""}]
["",{"$f":"IFERROR(IF(C78>0,VLOOKUP($F$5,DATA!$A$79:$B$160,2,FALSE),\"\"),\"\")","v":""},null,null,null,null,null,null,null,null,null,{"$f":"IF(Tabla2[[#This Row],[NIVEL ACADEMICO]]=\"OTRO\",1,IF(Tabla2[[#This Row],[NIVEL ACADEMICO]]=\"ESTUDIANTE\",1,IF(Tabla2[[#This Row],[NIVEL ACADEMICO]]=\"BACHILLER\",1,\"\")))","v":""},{"$f":"IF(Tabla2[[#This Row],[PROCEDENCIA]]=\"OTRO\",1,\"\")","v":""}]
["",{"$f":"IFERROR(IF(C79>0,VLOOKUP($F$5,DATA!$A$79:$B$160,2,FALSE),\"\"),\"\")","v":""},null,null,null,null,null,null,null,null,null,{"$f":"IF(Tabla2[[#This Row],[NIVEL ACADEMICO]]=\"OTRO\",1,IF(Tabla2[[#This Row],[NIVEL ACADEMICO]]=\"ESTUDIANTE\",1,IF(Tabla2[[#This Row],[NIVEL ACADEMICO]]=\"BACHILLER\",1,\"\")))","v":""},{"$f":"IF(Tabla2[[#This Row],[PROCEDENCIA]]=\"OTRO\",1,\"\")","v":""}]
["",{"$f":"IFERROR(IF(C80>0,VLOOKUP($F$5,DATA!$A$79:$B$160,2,FALSE),\"\"),\"\")","v":""},null,null,null,null,null,null,null,null,null,{"$f":"IF(Tabla2[[#This Row],[NIVEL ACADEMICO]]=\"OTRO\",1,IF(Tabla2[[#This Row],[NIVEL ACADEMICO]]=\"ESTUDIANTE\",1,IF(Tabla2[[#This Row],[NIVEL ACADEMICO]]=\"BACHILLER\",1,\"\")))","v":""},{"$f":"IF(Tabla2[[#This Row],[PROCEDENCIA]]=\"OTRO\",1,\"\")","v":""}]
["",{"$f":"IFERROR(IF(C81>0,VLOOKUP($F$5,DATA!$A$79:$B$160,2,FALSE),\"\"),\"\")","v":""},null,null,null,null,null,null,null,null,null,{"$f":"IF(Tabla2[[#This Row],[NIVEL ACADEMICO]]=\"OTRO\",1,IF(Tabla2[[#This Row],[NIVEL ACADEMICO]]=\"ESTUDIANTE\",1,IF(Tabla2[[#This Row],[NIVEL ACADEMICO]]=\"BACHILLER\",1,\"\")))","v":""},{"$f":"IF(Tabla2[[#This Row],[PROCEDENCIA]]=\"OTRO\",1,\"\")","v":""}]
["",{"$f":"IFERROR(IF(C82>0,VLOOKUP($F$5,DATA!$A$79:$B$160,2,FALSE),\"\"),\"\")","v":""},null,null,null,null,null,null,null,null,null,{"$f":"IF(Tabla2[[#This Row],[NIVEL ACADEMICO]]=\"OTRO\",1,IF(Tabla2[[#This Row],[NIVEL ACADEMICO]]=\"ESTUDIANTE\",1,IF(Tabla2[[#This Row],[NIVEL ACADEMICO]]=\"BACHILLER\",1,\"\")))","v":""},{"$f":"IF(Tabla2[[#This Row],[PROCEDENCIA]]=\"OTRO\",1,\"\")","v":""}]
["",{"$f":"IFERROR(IF(C83>0,VLOOKUP($F$5,DATA!$A$79:$B$160,2,FALSE),\"\"),\"\")","v":""},null,null,null,null,null,null,null,null,null,{"$f":"IF(Tabla2[[#This Row],[NIVEL ACADEMICO]]=\"OTRO\",1,IF(Tabla2[[#This Row],[NIVEL ACADEMICO]]=\"ESTUDIANTE\",1,IF(Tabla2[[#This Row],[NIVEL ACADEMICO]]=\"BACHILLER\",1,\"\")))","v":""},{"$f":"IF(Tabla2[[#This Row],[PROCEDENCIA]]=\"OTRO\",1,\"\")","v":""}]
["",{"$f":"IFERROR(IF(C84>0,VLOOKUP($F$5,DATA!$A$79:$B$160,2,FALSE),\"\"),\"\")","v":""},null,null,null,null,null,null,null,null,null,{"$f":"IF(Tabla2[[#This Row],[NIVEL ACADEMICO]]=\"OTRO\",1,IF(Tabla2[[#This Row],[NIVEL ACADEMICO]]=\"ESTUDIANTE\",1,IF(Tabla2[[#This Row],[NIVEL ACADEMICO]]=\"BACHILLER\",1,\"\")))","v":""},{"$f":"IF(Tabla2[[#This Row],[PROCEDENCIA]]=\"OTRO\",1,\"\")","v":""}]
["",{"$f":"IFERROR(IF(C85>0,VLOOKUP($F$5,DATA!$A$79:$B$160,2,FALSE),\"\"),\"\")","v":""},null,null,null,null,null,null,null,null,null,{"$f":"IF(Tabla2[[#This Row],[NIVEL ACADEMICO]]=\"OTRO\",1,IF(Tabla2[[#This Row],[NIVEL ACADEMICO]]=\"ESTUDIANTE\",1,IF(Tabla2[[#This Row],[NIVEL ACADEMICO]]=\"BACHILLER\",1,\"\")))","v":""},{"$f":"IF(Tabla2[[#This Row],[PROCEDENCIA]]=\"OTRO\",1,\"\")","v":""}]
["",{"$f":"IFERROR(IF(C86>0,VLOOKUP($F$5,DATA!$A$79:$B$160,2,FALSE),\"\"),\"\")","v":""},null,null,null,null,null,null,null,null,null,{"$f":"IF(Tabla2[[#This Row],[NIVEL ACADEMICO]]=\"OTRO\",1,IF(Tabla2[[#This Row],[NIVEL ACADEMICO]]=\"ESTUDIANTE\",1,IF(Tabla2[[#This Row],[NIVEL ACADEMICO]]=\"BACHILLER\",1,\"\")))","v":""},{"$f":"IF(Tabla2[[#This Row],[PROCEDENCIA]]=\"OTRO\",1,\"\")","v":""}]
["",{"$f":"IFERROR(IF(C87>0,VLOOKUP($F$5,DATA!$A$79:$B$160,2,FALSE),\"\"),\"\")","v":""},null,null,null,null,null,null,null,null,null,{"$f":"IF(Tabla2[[#This Row],[NIVEL ACADEMICO]]=\"OTRO\",1,IF(Tabla2[[#This Row],[NIVEL ACADEMICO]]=\"ESTUDIANTE\",1,IF(Tabla2[[#This Row],[NIVEL ACADEMICO]]=\"BACHILLER\",1,\"\")))","v":""},{"$f":"IF(Tabla2[[#This Row],[PROCEDENCIA]]=\"OTRO\",1,\"\")","v":""}]
["",{"$f":"IFERROR(IF(C88>0,VLOOKUP($F$5,DATA!$A$79:$B$160,2,FALSE),\"\"),\"\")","v":""},null,null,null,null,null,null,null,null,null,{"$f":"IF(Tabla2[[#This Row],[NIVEL ACADEMICO]]=\"OTRO\",1,IF(Tabla2[[#This Row],[NIVEL ACADEMICO]]=\"ESTUDIANTE\",1,IF(Tabla2[[#This Row],[NIVEL ACADEMICO]]=\"BACHILLER\",1,\"\")))","v":""},{"$f":"IF(Tabla2[[#This Row],[PROCEDENCIA]]=\"OTRO\",1,\"\")","v":""}]
["",{"$f":"IFERROR(IF(C89>0,VLOOKUP($F$5,DATA!$A$79:$B$160,2,FALSE),\"\"),\"\")","v":""},null,null,null,null,null,null,null,null,null,{"$f":"IF(Tabla2[[#This Row],[NIVEL ACADEMICO]]=\"OTRO\",1,IF(Tabla2[[#This Row],[NIVEL ACADEMICO]]=\"ESTUDIANTE\",1,IF(Tabla2[[#This Row],[NIVEL ACADEMICO]]=\"BACHILLER\",1,\"\")))","v":""},{"$f":"IF(Tabla2[[#This Row],[PROCEDENCIA]]=\"OTRO\",1,\"\")","v":""}]
["",{"$f":"IFERROR(IF(C90>0,VLOOKUP($F$5,DATA!$A$79:$B$160,2,FALSE),\"\"),\"\")","v":""},null,null,null,null,null,null,null,null,null,{"$f":"IF(Tabla2[[#This Row],[NIVEL ACADEMICO]]=\"OTRO\",1,IF(Tabla2[[#This Row],[NIVEL ACADEMICO]]=\"ESTUDIANTE\",1,IF(Tabla2[[#This Row],[NIVEL ACADEMICO]]=\"BACHILLER\",1,\"\")))","v":""},{"$f":"IF(Tabla2[[#This Row],[PROCEDENCIA]]=\"OTRO\",1,\"\")","v":""}]
["",{"$f":"IFERROR(IF(C91>0,VLOOKUP($F$5,DATA!$A$79:$B$160,2,FALSE),\"\"),\"\")","v":""},null,null,null,null,null,null,null,null,null,{"$f":"IF(Tabla2[[#This Row],[NIVEL ACADEMICO]]=\"OTRO\",1,IF(Tabla2[[#This Row],[NIVEL ACADEMICO]]=\"ESTUDIANTE\",1,IF(Tabla2[[#This Row],[NIVEL ACADEMICO]]=\"BACHILLER\",1,\"\")))","v":""},{"$f":"IF(Tabla2[[#This Row],[PROCEDENCIA]]=\"OTRO\",1,\"\")","v":""}]
["",{"$f":"IFERROR(IF(C92>0,VLOOKUP($F$5,DATA!$A$79:$B$160,2,FALSE),\"\"),\"\")","v":""},null,null,null,null,null,null,null,null,null,{"$f":"IF(Tabla2[[#This Row],[NIVEL ACADEMICO]]=\"OTRO\",1,IF(Tabla2[[#This Row],[NIVEL ACADEMICO]]=\"ESTUDIANTE\",1,IF(Tabla2[[#This Row],[NIVEL ACADEMICO]]=\"BACHILLER\",1,\"\")))","v":""},{"$f":"IF(Tabla2[[#This Row],[PROCEDENCIA]]=\"OTRO\",1,\"\")","v":""}]
["",{"$f":"IFERROR(IF(C93>0,VLOOKUP($F$5,DATA!$A$79:$B$160,2,FALSE),\"\"),\"\")","v":""},null,null,null,null,null,null,null,null,null,{"$f":"IF(Tabla2[[#This Row],[NIVEL ACADEMICO]]=\"OTRO\",1,IF(Tabla2[[#This Row],[NIVEL ACADEMICO]]=\"ESTUDIANTE\",1,IF(Tabla2[[#This Row],[NIVEL ACADEMICO]]=\"BACHILLER\",1,\"\")))","v":""},{"$f":"IF(Tabla2[[#This Row],[PROCEDENCIA]]=\"OTRO\",1,\"\")","v":""}]
["",{"$f":"IFERROR(IF(C94>0,VLOOKUP($F$5,DATA!$A$79:$B$160,2,FALSE),\"\"),\"\")","v":""},null,null,null,null,null,null,null,null,null,{"$f":"IF(Tabla2[[#This Row],[NIVEL ACADEMICO]]=\"OTRO\",1,IF(Tabla2[[#This Row],[NIVEL ACADEMICO]]=\"ESTUDIANTE\",1,IF(Tabla2[[#This Row],[NIVEL ACADEMICO]]=\"BACHILLER\",1,\"\")))","v":""},{"$f":"IF(Tabla2[[#This Row],[PROCEDENCIA]]=\"OTRO\",1,\"\")","v":""}]
["",{"$f":"IFERROR(IF(C95>0,VLOOKUP($F$5,DATA!$A$79:$B$160,2,FALSE),\"\"),\"\")","v":""},null,null,null,null,null,null,null,null,null,{"$f":"IF(Tabla2[[#This Row],[NIVEL ACADEMICO]]=\"OTRO\",1,IF(Tabla2[[#This Row],[NIVEL ACADEMICO]]=\"ESTUDIANTE\",1,IF(Tabla2[[#This Row],[NIVEL ACADEMICO]]=\"BACHILLER\",1,\"\")))","v":""},{"$f":"IF(Tabla2[[#This Row],[PROCEDENCIA]]=\"OTRO\",1,\"\")","v":""}]
["",{"$f":"IFERROR(IF(C96>0,VLOOKUP($F$5,DATA!$A$79:$B$160,2,FALSE),\"\"),\"\")","v":""},null,null,null,null,null,null,null,null,null,{"$f":"IF(Tabla2[[#This Row],[NIVEL ACADEMICO]]=\"OTRO\",1,IF(Tabla2[[#This Row],[NIVEL ACADEMICO]]=\"ESTUDIANTE\",1,IF(Tabla2[[#This Row],[NIVEL ACADEMICO]]=\"BACHILLER\",1,\"\")))","v":""},{"$f":"IF(Tabla2[[#This Row],[PROCEDENCIA]]=\"OTRO\",1,\"\")","v":""}]
["",{"$f":"IFERROR(IF(C97>0,VLOOKUP($F$5,DATA!$A$79:$B$160,2,FALSE),\"\"),\"\")","v":""},null,null,null,null,null,null,null,null,null,{"$f":"IF(Tabla2[[#This Row],[NIVEL ACADEMICO]]=\"OTRO\",1,IF(Tabla2[[#This Row],[NIVEL ACADEMICO]]=\"ESTUDIANTE\",1,IF(Tabla2[[#This Row],[NIVEL ACADEMICO]]=\"BACHILLER\",1,\"\")))","v":""},{"$f":"IF(Tabla2[[#This Row],[PROCEDENCIA]]=\"OTRO\",1,\"\")","v":""}]
["",{"$f":"IFERROR(IF(C98>0,VLOOKUP($F$5,DATA!$A$79:$B$160,2,FALSE),\"\"),\"\")","v":""},null,null,null,null,null,null,null,null,null,{"$f":"IF(Tabla2[[#This Row],[NIVEL ACADEMICO]]=\"OTRO\",1,IF(Tabla2[[#This Row],[NIVEL ACADEMICO]]=\"ESTUDIANTE\",1,IF(Tabla2[[#This Row],[NIVEL ACADEMICO]]=\"BACHILLER\",1,\"\")))","v":""},{"$f":"IF(Tabla2[[#This Row],[PROCEDENCIA]]=\"OTRO\",1,\"\")","v":""}]
["",{"$f":"IFERROR(IF(C99>0,VLOOKUP($F$5,DATA!$A$79:$B$160,2,FALSE),\"\"),\"\")","v":""},null,null,null,null,null,null,null,null,null,{"$f":"IF(Tabla2[[#This Row],[NIVEL ACADEMICO]]=\"OTRO\",1,IF(Tabla2[[#This Row],[NIVEL ACADEMICO]]=\"ESTUDIANTE\",1,IF(Tabla2[[#This Row],[NIVEL ACADEMICO]]=\"BACHILLER\",1,\"\")))","v":""},{"$f":"IF(Tabla2[[#This Row],[PROCEDENCIA]]=\"OTRO\",1,\"\")","v":""}]
["",{"$f":"IFERROR(IF(C100>0,VLOOKUP($F$5,DATA!$A$79:$B$160,2,FALSE),\"\"),\"\")","v":""},null,null,null,null,null,null,null,null,null,{"$f":"IF(Tabla2[[#This Row],[NIVEL ACADEMICO]]=\"OTRO\",1,IF(Tabla2[[#This Row],[NIVEL ACADEMICO]]=\"ESTUDIANTE\",1,IF(Tabla2[[#This Row],[NIVEL ACADEMICO]]=\"BACHILLER\",1,\"\")))","v":""},{"$f":"IF(Tabla2[[#This Row],[PROCEDENCIA]]=\"OTRO\",1,\"\")","v":""}]
["",{"$f":"IFERROR(IF(C101>0,VLOOKUP($F$5,DATA!$A$79:$B$160,2,FALSE),\"\"),\"\")","v":""},null,null,null,null,null,null,null,null,null,{"$f":"IF(Tabla2[[#This Row],[NIVEL ACADEMICO]]=\"OTRO\",1,IF(Tabla2[[#This Row],[NIVEL ACADEMICO]]=\"ESTUDIANTE\",1,IF(Tabla2[[#This Row],[NIVEL ACADEMICO]]=\"BACHILLER\",1,\"\")))","v":""},{"$f":"IF(Tabla2[[#This Row],[PROCEDENCIA]]=\"OTRO\",1,\"\")","v":""}]
["",{"$f":"IFERROR(IF(C102>0,VLOOKUP($F$5,DATA!$A$79:$B$160,2,FALSE),\"\"),\"\")","v":""},null,null,null,null,null,null,null,null,null,{"$f":"IF(Tabla2[[#This Row],[NIVEL ACADEMICO]]=\"OTRO\",1,IF(Tabla2[[#This Row],[NIVEL ACADEMICO]]=\"ESTUDIANTE\",1,IF(Tabla2[[#This Row],[NIVEL ACADEMICO]]=\"BACHILLER\",1,\"\")))","v":""},{"$f":"IF(Tabla2[[#This Row],[PROCEDENCIA]]=\"OTRO\",1,\"\")","v":""}]
["",{"$f":"IFERROR(IF(C103>0,VLOOKUP($F$5,DATA!$A$79:$B$160,2,FALSE),\"\"),\"\")","v":""},null,null,null,null,null,null,null,null,null,{"$f":"IF(Tabla2[[#This Row],[NIVEL ACADEMICO]]=\"OTRO\",1,IF(Tabla2[[#This Row],[NIVEL ACADEMICO]]=\"ESTUDIANTE\",1,IF(Tabla2[[#This Row],[NIVEL ACADEMICO]]=\"BACHILLER\",1,\"\")))","v":""},{"$f":"IF(Tabla2[[#This Row],[PROCEDENCIA]]=\"OTRO\",1,\"\")","v":""}]
["",{"$f":"IFERROR(IF(C104>0,VLOOKUP($F$5,DATA!$A$79:$B$160,2,FALSE),\"\"),\"\")","v":""},null,null,null,null,null,null,null,null,null,{"$f":"IF(Tabla2[[#This Row],[NIVEL ACADEMICO]]=\"OTRO\",1,IF(Tabla2[[#This Row],[NIVEL ACADEMICO]]=\"ESTUDIANTE\",1,IF(Tabla2[[#This Row],[NIVEL ACADEMICO]]=\"BACHILLER\",1,\"\")))","v":""},{"$f":"IF(Tabla2[[#This Row],[PROCEDENCIA]]=\"OTRO\",1,\"\")","v":""}]
["",{"$f":"IFERROR(IF(C105>0,VLOOKUP($F$5,DATA!$A$79:$B$160,2,FALSE),\"\"),\"\")","v":""},null,null,null,null,null,null,null,null,null,{"$f":"IF(Tabla2[[#This Row],[NIVEL ACADEMICO]]=\"OTRO\",1,IF(Tabla2[[#This Row],[NIVEL ACADEMICO]]=\"ESTUDIANTE\",1,IF(Tabla2[[#This Row],[NIVEL ACADEMICO]]=\"BACHILLER\",1,\"\")))","v":""},{"$f":"IF(Tabla2[[#This Row],[PROCEDENCIA]]=\"OTRO\",1,\"\")","v":""}]
[{"$f":"IF(C106>0,ROW()-8,\"\")","v":""},{"$f":"IFERROR(IF(C106>0,VLOOKUP($F$5,DATA!$A$79:$B$160,2,FALSE),\"\"),\"\")","v":""},null,null,null,null,null,null,null,null,null,{"$f":"IF(Tabla2[[#This Row],[NIVEL ACADEMICO]]=\"OTRO\",1,IF(Tabla2[[#This Row],[NIVEL ACADEMICO]]=\"ESTUDIANTE\",1,IF(Tabla2[[#This Row],[NIVEL ACADEMICO]]=\"BACHILLER\",1,\"\")))","v":""},{"$f":"IF(Tabla2[[#This Row],[PROCEDENCIA]]=\"OTRO\",1,\"\")","v":""}]
["",{"$f":"IFERROR(IF(C107>0,VLOOKUP($F$5,DATA!$A$79:$B$160,2,FALSE),\"\"),\"\")","v":""},null,null,null,null,null,null,null,null,null,{"$f":"IF(Tabla2[[#This Row],[NIVEL ACADEMICO]]=\"OTRO\",1,IF(Tabla2[[#This Row],[NIVEL ACADEMICO]]=\"ESTUDIANTE\",1,IF(Tabla2[[#This Row],[NIVEL ACADEMICO]]=\"BACHILLER\",1,\"\")))","v":""},{"$f":"IF(Tabla2[[#This Row],[PROCEDENCIA]]=\"OTRO\",1,\"\")","v":""}]
["",{"$f":"IFERROR(IF(C108>0,VLOOKUP($F$5,DATA!$A$79:$B$160,2,FALSE),\"\"),\"\")","v":""},null,null,null,null,null,null,null,null,null,{"$f":"IF(Tabla2[[#This Row],[NIVEL ACADEMICO]]=\"OTRO\",1,IF(Tabla2[[#This Row],[NIVEL ACADEMICO]]=\"ESTUDIANTE\",1,IF(Tabla2[[#This Row],[NIVEL ACADEMICO]]=\"BACHILLER\",1,\"\")))","v":""},{"$f":"IF(Tabla2[[#This Row],[PROCEDENCIA]]=\"OTRO\",1,\"\")","v":""}]
["",{"$f":"IFERROR(IF(C109>0,VLOOKUP($F$5,DATA!$A$79:$B$160,2,FALSE),\"\"),\"\")","v":""},null,null,null,null,null,null,null,null,null,{"$f":"IF(Tabla2[[#This Row],[NIVEL ACADEMICO]]=\"OTRO\",1,IF(Tabla2[[#This Row],[NIVEL ACADEMICO]]=\"ESTUDIANTE\",1,IF(Tabla2[[#This Row],[NIVEL ACADEMICO]]=\"BACHILLER\",1,\"\")))","v":""},{"$f":"IF(Tabla2[[#This Row],[PROCEDENCIA]]=\"OTRO\",1,\"\")","v":""}]
["",{"$f":"IFERROR(IF(C110>0,VLOOKUP($F$5,DATA!$A$79:$B$160,2,FALSE),\"\"),\"\")","v":""},null,null,null,null,null,null,null,null,null,{"$f":"IF(Tabla2[[#This Row],[NIVEL ACADEMICO]]=\"OTRO\",1,IF(Tabla2[[#This Row],[NIVEL ACADEMICO]]=\"ESTUDIANTE\",1,IF(Tabla2[[#This Row],[NIVEL ACADEMICO]]=\"BACHILLER\",1,\"\")))","v":""},{"$f":"IF(Tabla2[[#This Row],[PROCEDENCIA]]=\"OTRO\",1,\"\")","v":""}]
["",{"$f":"IFERROR(IF(C111>0,VLOOKUP($F$5,DATA!$A$79:$B$160,2,FALSE),\"\"),\"\")","v":""},null,null,null,null,null,null,null,null,null,{"$f":"IF(Tabla2[[#This Row],[NIVEL ACADEMICO]]=\"OTRO\",1,IF(Tabla2[[#This Row],[NIVEL ACADEMICO]]=\"ESTUDIANTE\",1,IF(Tabla2[[#This Row],[NIVEL ACADEMICO]]=\"BACHILLER\",1,\"\")))","v":""},{"$f":"IF(Tabla2[[#This Row],[PROCEDENCIA]]=\"OTRO\",1,\"\")","v":""}]
["",{"$f":"IFERROR(IF(C112>0,VLOOKUP($F$5,DATA!$A$79:$B$160,2,FALSE),\"\"),\"\")","v":""},null,null,null,null,null,null,null,null,null,{"$f":"IF(Tabla2[[#This Row],[NIVEL ACADEMICO]]=\"OTRO\",1,IF(Tabla2[[#This Row],[NIVEL ACADEMICO]]=\"ESTUDIANTE\",1,IF(Tabla2[[#This Row],[NIVEL ACADEMICO]]=\"BACHILLER\",1,\"\")))","v":""},{"$f":"IF(Tabla2[[#This Row],[PROCEDENCIA]]=\"OTRO\",1,\"\")","v":""}]
["",{"$f":"IFERROR(IF(C113>0,VLOOKUP($F$5,DATA!$A$79:$B$160,2,FALSE),\"\"),\"\")","v":""},null,null,null,null,null,null,null,null,null,{"$f":"IF(Tabla2[[#This Row],[NIVEL ACADEMICO]]=\"OTRO\",1,IF(Tabla2[[#This Row],[NIVEL ACADEMICO]]=\"ESTUDIANTE\",1,IF(Tabla2[[#This Row],[NIVEL ACADEMICO]]=\"BACHILLER\",1,\"\")))","v":""},{"$f":"IF(Tabla2[[#This Row],[PROCEDENCIA]]=\"OTRO\",1,\"\")","v":""}]
["",{"$f":"IFERROR(IF(C114>0,VLOOKUP($F$5,DATA!$A$79:$B$160,2,FALSE),\"\"),\"\")","v":""},null,null,null,null,null,null,null,null,null,{"$f":"IF(Tabla2[[#This Row],[NIVEL ACADEMICO]]=\"OTRO\",1,IF(Tabla2[[#This Row],[NIVEL ACADEMICO]]=\"ESTUDIANTE\",1,IF(Tabla2[[#This Row],[NIVEL ACADEMICO]]=\"BACHILLER\",1,\"\")))","v":""},{"$f":"IF(Tabla2[[#This Row],[PROCEDENCIA]]=\"OTRO\",1,\"\")","v":""}]
["",{"$f":"IFERROR(IF(C115>0,VLOOKUP($F$5,DATA!$A$79:$B$160,2,FALSE),\"\"),\"\")","v":""},null,null,null,null,null,null,null,null,null,{"$f":"IF(Tabla2[[#This Row],[NIVEL ACADEMICO]]=\"OTRO\",1,IF(Tabla2[[#This Row],[NIVEL ACADEMICO]]=\"ESTUDIANTE\",1,IF(Tabla2[[#This Row],[NIVEL ACADEMICO]]=\"BACHILLER\",1,\"\")))","v":""},{"$f":"IF(Tabla2[[#This Row],[PROCEDENCIA]]=\"OTRO\",1,\"\")","v":""}]
["",{"$f":"IFERROR(IF(C116>0,VLOOKUP($F$5,DATA!$A$79:$B$160,2,FALSE),\"\"),\"\")","v":""},null,null,null,null,null,null,null,null,null,{"$f":"IF(Tabla2[[#This Row],[NIVEL ACADEMICO]]=\"OTRO\",1,IF(Tabla2[[#This Row],[NIVEL ACADEMICO]]=\"ESTUDIANTE\",1,IF(Tabla2[[#This Row],[NIVEL ACADEMICO]]=\"BACHILLER\",1,\"\")))","v":""},{"$f":"IF(Tabla2[[#This Row],[PROCEDENCIA]]=\"OTRO\",1,\"\")","v":""}]
["",{"$f":"IFERROR(IF(C117>0,VLOOKUP($F$5,DATA!$A$79:$B$160,2,FALSE),\"\"),\"\")","v":""},null,null,null,null,null,null,null,null,null,{"$f":"IF(Tabla2[[#This Row],[NIVEL ACADEMICO]]=\"OTRO\",1,IF(Tabla2[[#This Row],[NIVEL ACADEMICO]]=\"ESTUDIANTE\",1,IF(Tabla2[[#This Row],[NIVEL ACADEMICO]]=\"BACHILLER\",1,\"\")))","v":""},{"$f":"IF(Tabla2[[#This Row],[PROCEDENCIA]]=\"OTRO\",1,\"\")","v":""}]
["",{"$f":"IFERROR(IF(C118>0,VLOOKUP($F$5,DATA!$A$79:$B$160,2,FALSE),\"\"),\"\")","v":""},null,null,null,null,null,null,null,null,null,{"$f":"IF(Tabla2[[#This Row],[NIVEL ACADEMICO]]=\"OTRO\",1,IF(Tabla2[[#This Row],[NIVEL ACADEMICO]]=\"ESTUDIANTE\",1,IF(Tabla2[[#This Row],[NIVEL ACADEMICO]]=\"BACHILLER\",1,\"\")))","v":""},{"$f":"IF(Tabla2[[#This Row],[PROCEDENCIA]]=\"OTRO\",1,\"\")","v":""}]
["",{"$f":"IFERROR(IF(C119>0,VLOOKUP($F$5,DATA!$A$79:$B$160,2,FALSE),\"\"),\"\")","v":""},null,null,null,null,null,null,null,null,null,{"$f":"IF(Tabla2[[#This Row],[NIVEL ACADEMICO]]=\"OTRO\",1,IF(Tabla2[[#This Row],[NIVEL ACADEMICO]]=\"ESTUDIANTE\",1,IF(Tabla2[[#This Row],[NIVEL ACADEMICO]]=\"BACHILLER\",1,\"\")))","v":""},{"$f":"IF(Tabla2[[#This Row],[PROCEDENCIA]]=\"OTRO\",1,\"\")","v":""}]
["",{"$f":"IFERROR(IF(C120>0,VLOOKUP($F$5,DATA!$A$79:$B$160,2,FALSE),\"\"),\"\")","v":""},null,null,null,null,null,null,null,null,null,{"$f":"IF(Tabla2[[#This Row],[NIVEL ACADEMICO]]=\"OTRO\",1,IF(Tabla2[[#This Row],[NIVEL ACADEMICO]]=\"ESTUDIANTE\",1,IF(Tabla2[[#This Row],[NIVEL ACADEMICO]]=\"BACHILLER\",1,\"\")))","v":""},{"$f":"IF(Tabla2[[#This Row],[PROCEDENCIA]]=\"OTRO\",1,\"\")","v":""}]
["",{"$f":"IFERROR(IF(C121>0,VLOOKUP($F$5,DATA!$A$79:$B$160,2,FALSE),\"\"),\"\")","v":""},null,null,null,null,null,null,null,null,null,{"$f":"IF(Tabla2[[#This Row],[NIVEL ACADEMICO]]=\"OTRO\",1,IF(Tabla2[[#This Row],[NIVEL ACADEMICO]]=\"ESTUDIANTE\",1,IF(Tabla2[[#This Row],[NIVEL ACADEMICO]]=\"BACHILLER\",1,\"\")))","v":""},{"$f":"IF(Tabla2[[#This Row],[PROCEDENCIA]]=\"OTRO\",1,\"\")","v":""}]
["",{"$f":"IFERROR(IF(C122>0,VLOOKUP($F$5,DATA!$A$79:$B$160,2,FALSE),\"\"),\"\")","v":""},null,null,null,null,null,null,null,null,null,{"$f":"IF(Tabla2[[#This Row],[NIVEL ACADEMICO]]=\"OTRO\",1,IF(Tabla2[[#This Row],[NIVEL ACADEMICO]]=\"ESTUDIANTE\",1,IF(Tabla2[[#This Row],[NIVEL ACADEMICO]]=\"BACHILLER\",1,\"\")))","v":""},{"$f":"IF(Tabla2[[#This Row],[PROCEDENCIA]]=\"OTRO\",1,\"\")","v":""}]
["",{"$f":"IFERROR(IF(C123>0,VLOOKUP($F$5,DATA!$A$79:$B$160,2,FALSE),\"\"),\"\")","v":""},null,null,null,null,null,null,null,null,null,{"$f":"IF(Tabla2[[#This Row],[NIVEL ACADEMICO]]=\"OTRO\",1,IF(Tabla2[[#This Row],[NIVEL ACADEMICO]]=\"ESTUDIANTE\",1,IF(Tabla2[[#This Row],[NIVEL ACADEMICO]]=\"BACHILLER\",1,\"\")))","v":""},{"$f":"IF(Tabla2[[#This Row],[PROCEDENCIA]]=\"OTRO\",1,\"\")","v":""}]
["",{"$f":"IFERROR(IF(C124>0,VLOOKUP($F$5,DATA!$A$79:$B$160,2,FALSE),\"\"),\"\")","v":""},null,null,null,null,null,null,null,null,null,{"$f":"IF(Tabla2[[#This Row],[NIVEL ACADEMICO]]=\"OTRO\",1,IF(Tabla2[[#This Row],[NIVEL ACADEMICO]]=\"ESTUDIANTE\",1,IF(Tabla2[[#This Row],[NIVEL ACADEMICO]]=\"BACHILLER\",1,\"\")))","v":""},{"$f":"IF(Tabla2[[#This Row],[PROCEDENCIA]]=\"OTRO\",1,\"\")","v":""}]
["",{"$f":"IFERROR(IF(C125>0,VLOOKUP($F$5,DATA!$A$79:$B$160,2,FALSE),\"\"),\"\")","v":""},null,null,null,null,null,null,null,null,null,{"$f":"IF(Tabla2[[#This Row],[NIVEL ACADEMICO]]=\"OTRO\",1,IF(Tabla2[[#This Row],[NIVEL ACADEMICO]]=\"ESTUDIANTE\",1,IF(Tabla2[[#This Row],[NIVEL ACADEMICO]]=\"BACHILLER\",1,\"\")))","v":""},{"$f":"IF(Tabla2[[#This Row],[PROCEDENCIA]]=\"OTRO\",1,\"\")","v":""}]
["",{"$f":"IFERROR(IF(C126>0,VLOOKUP($F$5,DATA!$A$79:$B$160,2,FALSE),\"\"),\"\")","v":""},null,null,null,null,null,null,null,null,null,{"$f":"IF(Tabla2[[#This Row],[NIVEL ACADEMICO]]=\"OTRO\",1,IF(Tabla2[[#This Row],[NIVEL ACADEMICO]]=\"ESTUDIANTE\",1,IF(Tabla2[[#This Row],[NIVEL ACADEMICO]]=\"BACHILLER\",1,\"\")))","v":""},{"$f":"IF(Tabla2[[#This Row],[PROCEDENCIA]]=\"OTRO\",1,\"\")","v":""}]
["",{"$f":"IFERROR(IF(C127>0,VLOOKUP($F$5,DATA!$A$79:$B$160,2,FALSE),\"\"),\"\")","v":""},null,null,null,null,null,null,null,null,null,{"$f":"IF(Tabla2[[#This Row],[NIVEL ACADEMICO]]=\"OTRO\",1,IF(Tabla2[[#This Row],[NIVEL ACADEMICO]]=\"ESTUDIANTE\",1,IF(Tabla2[[#This Row],[NIVEL ACADEMICO]]=\"BACHILLER\",1,\"\")))","v":""},{"$f":"IF(Tabla2[[#This Row],[PROCEDENCIA]]=\"OTRO\",1,\"\")","v":""}]
["",{"$f":"IFERROR(IF(C128>0,VLOOKUP($F$5,DATA!$A$79:$B$160,2,FALSE),\"\"),\"\")","v":""},null,null,null,null,null,null,null,null,null,{"$f":"IF(Tabla2[[#This Row],[NIVEL ACADEMICO]]=\"OTRO\",1,IF(Tabla2[[#This Row],[NIVEL ACADEMICO]]=\"ESTUDIANTE\",1,IF(Tabla2[[#This Row],[NIVEL ACADEMICO]]=\"BACHILLER\",1,\"\")))","v":""},{"$f":"IF(Tabla2[[#This Row],[PROCEDENCIA]]=\"OTRO\",1,\"\")","v":""}]
["",{"$f":"IFERROR(IF(C129>0,VLOOKUP($F$5,DATA!$A$79:$B$160,2,FALSE),\"\"),\"\")","v":""},null,null,null,null,null,null,null,null,null,{"$f":"IF(Tabla2[[#This Row],[NIVEL ACADEMICO]]=\"OTRO\",1,IF(Tabla2[[#This Row],[NIVEL ACADEMICO]]=\"ESTUDIANTE\",1,IF(Tabla2[[#This Row],[NIVEL ACADEMICO]]=\"BACHILLER\",1,\"\")))","v":""},{"$f":"IF(Tabla2[[#This Row],[PROCEDENCIA]]=\"OTRO\",1,\"\")","v":""}]
["",{"$f":"IFERROR(IF(C130>0,VLOOKUP($F$5,DATA!$A$79:$B$160,2,FALSE),\"\"),\"\")","v":""},null,null,null,null,null,null,null,null,null,{"$f":"IF(Tabla2[[#This Row],[NIVEL ACADEMICO]]=\"OTRO\",1,IF(Tabla2[[#This Row],[NIVEL ACADEMICO]]=\"ESTUDIANTE\",1,IF(Tabla2[[#This Row],[NIVEL ACADEMICO]]=\"BACHILLER\",1,\"\")))","v":""},{"$f":"IF(Tabla2[[#This Row],[PROCEDENCIA]]=\"OTRO\",1,\"\")","v":""}]
["",{"$f":"IFERROR(IF(C131>0,VLOOKUP($F$5,DATA!$A$79:$B$160,2,FALSE),\"\"),\"\")","v":""},null,null,null,null,null,null,null,null,null,{"$f":"IF(Tabla2[[#This Row],[NIVEL ACADEMICO]]=\"OTRO\",1,IF(Tabla2[[#This Row],[NIVEL ACADEMICO]]=\"ESTUDIANTE\",1,IF(Tabla2[[#This Row],[NIVEL ACADEMICO]]=\"BACHILLER\",1,\"\")))","v":""},{"$f":"IF(Tabla2[[#This Row],[PROCEDENCIA]]=\"OTRO\",1,\"\")","v":""}]
["",{"$f":"IFERROR(IF(C132>0,VLOOKUP($F$5,DATA!$A$79:$B$160,2,FALSE),\"\"),\"\")","v":""},null,null,null,null,null,null,null,null,null,{"$f":"IF(Tabla2[[#This Row],[NIVEL ACADEMICO]]=\"OTRO\",1,IF(Tabla2[[#This Row],[NIVEL ACADEMICO]]=\"ESTUDIANTE\",1,IF(Tabla2[[#This Row],[NIVEL ACADEMICO]]=\"BACHILLER\",1,\"\")))","v":""},{"$f":"IF(Tabla2[[#This Row],[PROCEDENCIA]]=\"OTRO\",1,\"\")","v":""}]
["",{"$f":"IFERROR(IF(C133>0,VLOOKUP($F$5,DATA!$A$79:$B$160,2,FALSE),\"\"),\"\")","v":""},null,null,null,null,null,null,null,null,null,{"$f":"IF(Tabla2[[#This Row],[NIVEL ACADEMICO]]=\"OTRO\",1,IF(Tabla2[[#This Row],[NIVEL ACADEMICO]]=\"ESTUDIANTE\",1,IF(Tabla2[[#This Row],[NIVEL ACADEMICO]]=\"BACHILLER\",1,\"\")))","v":""},{"$f":"IF(Tabla2[[#This Row],[PROCEDENCIA]]=\"OTRO\",1,\"\")","v":""}]
["",{"$f":"IFERROR(IF(C134>0,VLOOKUP($F$5,DATA!$A$79:$B$160,2,FALSE),\"\"),\"\")","v":""},null,null,null,null,null,null,null,null,null,{"$f":"IF(Tabla2[[#This Row],[NIVEL ACADEMICO]]=\"OTRO\",1,IF(Tabla2[[#This Row],[NIVEL ACADEMICO]]=\"ESTUDIANTE\",1,IF(Tabla2[[#This Row],[NIVEL ACADEMICO]]=\"BACHILLER\",1,\"\")))","v":""},{"$f":"IF(Tabla2[[#This Row],[PROCEDENCIA]]=\"OTRO\",1,\"\")","v":""}]
["",{"$f":"IFERROR(IF(C135>0,VLOOKUP($F$5,DATA!$A$79:$B$160,2,FALSE),\"\"),\"\")","v":""},null,null,null,null,null,null,null,null,null,{"$f":"IF(Tabla2[[#This Row],[NIVEL ACADEMICO]]=\"OTRO\",1,IF(Tabla2[[#This Row],[NIVEL ACADEMICO]]=\"ESTUDIANTE\",1,IF(Tabla2[[#This Row],[NIVEL ACADEMICO]]=\"BACHILLER\",1,\"\")))","v":""},{"$f":"IF(Tabla2[[#This Row],[PROCEDENCIA]]=\"OTRO\",1,\"\")","v":""}]
["",{"$f":"IFERROR(IF(C136>0,VLOOKUP($F$5,DATA!$A$79:$B$160,2,FALSE),\"\"),\"\")","v":""},null,null,null,null,null,null,null,null,null,{"$f":"IF(Tabla2[[#This Row],[NIVEL ACADEMICO]]=\"OTRO\",1,IF(Tabla2[[#This Row],[NIVEL ACADEMICO]]=\"ESTUDIANTE\",1,IF(Tabla2[[#This Row],[NIVEL ACADEMICO]]=\"BACHILLER\",1,\"\")))","v":""},{"$f":"IF(Tabla2[[#This Row],[PROCEDENCIA]]=\"OTRO\",1,\"\")","v":""}]
["",{"$f":"IFERROR(IF(C137>0,VLOOKUP($F$5,DATA!$A$79:$B$160,2,FALSE),\"\"),\"\")","v":""},null,null,null,null,null,null,null,null,null,{"$f":"IF(Tabla2[[#This Row],[NIVEL ACADEMICO]]=\"OTRO\",1,IF(Tabla2[[#This Row],[NIVEL ACADEMICO]]=\"ESTUDIANTE\",1,IF(Tabla2[[#This Row],[NIVEL ACADEMICO]]=\"BACHILLER\",1,\"\")))","v":""},{"$f":"IF(Tabla2[[#This Row],[PROCEDENCIA]]=\"OTRO\",1,\"\")","v":""}]
[{"$f":"IF(C138>0,ROW()-8,\"\")","v":""},{"$f":"IFERROR(IF(C138>0,VLOOKUP($F$5,DATA!$A$79:$B$160,2,FALSE),\"\"),\"\")","v":""},null,null,null,null,null,null,null,null,null,{"$f":"IF(Tabla2[[#This Row],[NIVEL ACADEMICO]]=\"OTRO\",1,IF(Tabla2[[#This Row],[NIVEL ACADEMICO]]=\"ESTUDIANTE\",1,IF(Tabla2[[#This Row],[NIVEL ACADEMICO]]=\"BACHILLER\",1,\"\")))","v":""},{"$f":"IF(Tabla2[[#This Row],[PROCEDENCIA]]=\"OTRO\",1,\"\")","v":""}]
["",{"$f":"IFERROR(IF(C139>0,VLOOKUP($F$5,DATA!$A$79:$B$160,2,FALSE),\"\"),\"\")","v":""},null,null,null,null,null,null,null,null,null,{"$f":"IF(Tabla2[[#This Row],[NIVEL ACADEMICO]]=\"OTRO\",1,IF(Tabla2[[#This Row],[NIVEL ACADEMICO]]=\"ESTUDIANTE\",1,IF(Tabla2[[#This Row],[NIVEL ACADEMICO]]=\"BACHILLER\",1,\"\")))","v":""},{"$f":"IF(Tabla2[[#This Row],[PROCEDENCIA]]=\"OTRO\",1,\"\")","v":""}]
["",{"$f":"IFERROR(IF(C140>0,VLOOKUP($F$5,DATA!$A$79:$B$160,2,FALSE),\"\"),\"\")","v":""},null,null,null,null,null,null,null,null,null,{"$f":"IF(Tabla2[[#This Row],[NIVEL ACADEMICO]]=\"OTRO\",1,IF(Tabla2[[#This Row],[NIVEL ACADEMICO]]=\"ESTUDIANTE\",1,IF(Tabla2[[#This Row],[NIVEL ACADEMICO]]=\"BACHILLER\",1,\"\")))","v":""},{"$f":"IF(Tabla2[[#This Row],[PROCEDENCIA]]=\"OTRO\",1,\"\")","v":""}]
["",{"$f":"IFERROR(IF(C141>0,VLOOKUP($F$5,DATA!$A$79:$B$160,2,FALSE),\"\"),\"\")","v":""},null,null,null,null,null,null,null,null,null,{"$f":"IF(Tabla2[[#This Row],[NIVEL ACADEMICO]]=\"OTRO\",1,IF(Tabla2[[#This Row],[NIVEL ACADEMICO]]=\"ESTUDIANTE\",1,IF(Tabla2[[#This Row],[NIVEL ACADEMICO]]=\"BACHILLER\",1,\"\")))","v":""},{"$f":"IF(Tabla2[[#This Row],[PROCEDENCIA]]=\"OTRO\",1,\"\")","v":""}]
["",{"$f":"IFERROR(IF(C142>0,VLOOKUP($F$5,DATA!$A$79:$B$160,2,FALSE),\"\"),\"\")","v":""},null,null,null,null,null,null,null,null,null,{"$f":"IF(Tabla2[[#This Row],[NIVEL ACADEMICO]]=\"OTRO\",1,IF(Tabla2[[#This Row],[NIVEL ACADEMICO]]=\"ESTUDIANTE\",1,IF(Tabla2[[#This Row],[NIVEL ACADEMICO]]=\"BACHILLER\",1,\"\")))","v":""},{"$f":"IF(Tabla2[[#This Row],[PROCEDENCIA]]=\"OTRO\",1,\"\")","v":""}]
["",{"$f":"IFERROR(IF(C143>0,VLOOKUP($F$5,DATA!$A$79:$B$160,2,FALSE),\"\"),\"\")","v":""},null,null,null,null,null,null,null,null,null,{"$f":"IF(Tabla2[[#This Row],[NIVEL ACADEMICO]]=\"OTRO\",1,IF(Tabla2[[#This Row],[NIVEL ACADEMICO]]=\"ESTUDIANTE\",1,IF(Tabla2[[#This Row],[NIVEL ACADEMICO]]=\"BACHILLER\",1,\"\")))","v":""},{"$f":"IF(Tabla2[[#This Row],[PROCEDENCIA]]=\"OTRO\",1,\"\")","v":""}]
["",{"$f":"IFERROR(IF(C144>0,VLOOKUP($F$5,DATA!$A$79:$B$160,2,FALSE),\"\"),\"\")","v":""},null,null,null,null,null,null,null,null,null,{"$f":"IF(Tabla2[[#This Row],[NIVEL ACADEMICO]]=\"OTRO\",1,IF(Tabla2[[#This Row],[NIVEL ACADEMICO]]=\"ESTUDIANTE\",1,IF(Tabla2[[#This Row],[NIVEL ACADEMICO]]=\"BACHILLER\",1,\"\")))","v":""},{"$f":"IF(Tabla2[[#This Row],[PROCEDENCIA]]=\"OTRO\",1,\"\")","v":""}]
["",{"$f":"IFERROR(IF(C145>0,VLOOKUP($F$5,DATA!$A$79:$B$160,2,FALSE),\"\"),\"\")","v":""},null,null,null,null,null,null,null,null,null,{"$f":"IF(Tabla2[[#This Row],[NIVEL ACADEMICO]]=\"OTRO\",1,IF(Tabla2[[#This Row],[NIVEL ACADEMICO]]=\"ESTUDIANTE\",1,IF(Tabla2[[#This Row],[NIVEL ACADEMICO]]=\"BACHILLER\",1,\"\")))","v":""},{"$f":"IF(Tabla2[[#This Row],[PROCEDENCIA]]=\"OTRO\",1,\"\")","v":""}]
["",{"$f":"IFERROR(IF(C146>0,VLOOKUP($F$5,DATA!$A$79:$B$160,2,FALSE),\"\"),\"\")","v":""},null,null,null,null,null,null,null,null,null,{"$f":"IF(Tabla2[[#This Row],[NIVEL ACADEMICO]]=\"OTRO\",1,IF(Tabla2[[#This Row],[NIVEL ACADEMICO]]=\"ESTUDIANTE\",1,IF(Tabla2[[#This Row],[NIVEL ACADEMICO]]=\"BACHILLER\",1,\"\")))","v":""},{"$f":"IF(Tabla2[[#This Row],[PROCEDENCIA]]=\"OTRO\",1,\"\")","v":""}]
["",{"$f":"IFERROR(IF(C147>0,VLOOKUP($F$5,DATA!$A$79:$B$160,2,FALSE),\"\"),\"\")","v":""},null,null,null,null,null,null,null,null,null,{"$f":"IF(Tabla2[[#This Row],[NIVEL ACADEMICO]]=\"OTRO\",1,IF(Tabla2[[#This Row],[NIVEL ACADEMICO]]=\"ESTUDIANTE\",1,IF(Tabla2[[#This Row],[NIVEL ACADEMICO]]=\"BACHILLER\",1,\"\")))","v":""},{"$f":"IF(Tabla2[[#This Row],[PROCEDENCIA]]=\"OTRO\",1,\"\")","v":""}]
["",{"$f":"IFERROR(IF(C148>0,VLOOKUP($F$5,DATA!$A$79:$B$160,2,FALSE),\"\"),\"\")","v":""},null,null,null,null,null,null,null,null,null,{"$f":"IF(Tabla2[[#This Row],[NIVEL ACADEMICO]]=\"OTRO\",1,IF(Tabla2[[#This Row],[NIVEL ACADEMICO]]=\"ESTUDIANTE\",1,IF(Tabla2[[#This Row],[NIVEL ACADEMICO]]=\"BACHILLER\",1,\"\")))","v":""},{"$f":"IF(Tabla2[[#This Row],[PROCEDENCIA]]=\"OTRO\",1,\"\")","v":""}]
["",{"$f":"IFERROR(IF(C149>0,VLOOKUP($F$5,DATA!$A$79:$B$160,2,FALSE),\"\"),\"\")","v":""},null,null,null,null,null,null,null,null,null,{"$f":"IF(Tabla2[[#This Row],[NIVEL ACADEMICO]]=\"OTRO\",1,IF(Tabla2[[#This Row],[NIVEL ACADEMICO]]=\"ESTUDIANTE\",1,IF(Tabla2[[#This Row],[NIVEL ACADEMICO]]=\"BACHILLER\",1,\"\")))","v":""},{"$f":"IF(Tabla2[[#This Row],[PROCEDENCIA]]=\"OTRO\",1,\"\")","v":""}]
["",{"$f":"IFERROR(IF(C150>0,VLOOKUP($F$5,DATA!$A$79:$B$160,2,FALSE),\"\"),\"\")","v":""},null,null,null,null,null,null,null,null,null,{"$f":"IF(Tabla2[[#This Row],[NIVEL ACADEMICO]]=\"OTRO\",1,IF(Tabla2[[#This Row],[NIVEL ACADEMICO]]=\"ESTUDIANTE\",1,IF(Tabla2[[#This Row],[NIVEL ACADEMICO]]=\"BACHILLER\",1,\"\")))","v":""},{"$f":"IF(Tabla2[[#This Row],[PROCEDENCIA]]=\"OTRO\",1,\"\")","v":""}]
["",{"$f":"IFERROR(IF(C151>0,VLOOKUP($F$5,DATA!$A$79:$B$160,2,FALSE),\"\"),\"\")","v":""},null,null,null,null,null,null,null,null,null,{"$f":"IF(Tabla2[[#This Row],[NIVEL ACADEMICO]]=\"OTRO\",1,IF(Tabla2[[#This Row],[NIVEL ACADEMICO]]=\"ESTUDIANTE\",1,IF(Tabla2[[#This Row],[NIVEL ACADEMICO]]=\"BACHILLER\",1,\"\")))","v":""},{"$f":"IF(Tabla2[[#This Row],[PROCEDENCIA]]=\"OTRO\",1,\"\")","v":""}]
["",{"$f":"IFERROR(IF(C152>0,VLOOKUP($F$5,DATA!$A$79:$B$160,2,FALSE),\"\"),\"\")","v":""},null,null,null,null,null,null,null,null,null,{"$f":"IF(Tabla2[[#This Row],[NIVEL ACADEMICO]]=\"OTRO\",1,IF(Tabla2[[#This Row],[NIVEL ACADEMICO]]=\"ESTUDIANTE\",1,IF(Tabla2[[#This Row],[NIVEL ACADEMICO]]=\"BACHILLER\",1,\"\")))","v":""},{"$f":"IF(Tabla2[[#This Row],[PROCEDENCIA]]=\"OTRO\",1,\"\")","v":""}]
["",{"$f":"IFERROR(IF(C153>0,VLOOKUP($F$5,DATA!$A$79:$B$160,2,FALSE),\"\"),\"\")","v":""},null,null,null,null,null,null,null,null,null,{"$f":"IF(Tabla2[[#This Row],[NIVEL ACADEMICO]]=\"OTRO\",1,IF(Tabla2[[#This Row],[NIVEL ACADEMICO]]=\"ESTUDIANTE\",1,IF(Tabla2[[#This Row],[NIVEL ACADEMICO]]=\"BACHILLER\",1,\"\")))","v":""},{"$f":"IF(Tabla2[[#This Row],[PROCEDENCIA]]=\"OTRO\",1,\"\")","v":""}]
["",{"$f":"IFERROR(IF(C154>0,VLOOKUP($F$5,DATA!$A$79:$B$160,2,FALSE),\"\"),\"\")","v":""},null,null,null,null,null,null,null,null,null,{"$f":"IF(Tabla2[[#This Row],[NIVEL ACADEMICO]]=\"OTRO\",1,IF(Tabla2[[#This Row],[NIVEL ACADEMICO]]=\"ESTUDIANTE\",1,IF(Tabla2[[#This Row],[NIVEL ACADEMICO]]=\"BACHILLER\",1,\"\")))","v":""},{"$f":"IF(Tabla2[[#This Row],[PROCEDENCIA]]=\"OTRO\",1,\"\")","v":""}]
["",{"$f":"IFERROR(IF(C155>0,VLOOKUP($F$5,DATA!$A$79:$B$160,2,FALSE),\"\"),\"\")","v":""},null,null,null,null,null,null,null,null,null,{"$f":"IF(Tabla2[[#This Row],[NIVEL ACADEMICO]]=\"OTRO\",1,IF(Tabla2[[#This Row],[NIVEL ACADEMICO]]=\"ESTUDIANTE\",1,IF(Tabla2[[#This Row],[NIVEL ACADEMICO]]=\"BACHILLER\",1,\"\")))","v":""},{"$f":"IF(Tabla2[[#This Row],[PROCEDENCIA]]=\"OTRO\",1,\"\")","v":""}]
["",{"$f":"IFERROR(IF(C156>0,VLOOKUP($F$5,DATA!$A$79:$B$160,2,FALSE),\"\"),\"\")","v":""},null,null,null,null,null,null,null,null,null,{"$f":"IF(Tabla2[[#This Row],[NIVEL ACADEMICO]]=\"OTRO\",1,IF(Tabla2[[#This Row],[NIVEL ACADEMICO]]=\"ESTUDIANTE\",1,IF(Tabla2[[#This Row],[NIVEL ACADEMICO]]=\"BACHILLER\",1,\"\")))","v":""},{"$f":"IF(Tabla2[[#This Row],[PROCEDENCIA]]=\"OTRO\",1,\"\")","v":""}]
["",{"$f":"IFERROR(IF(C157>0,VLOOKUP($F$5,DATA!$A$79:$B$160,2,FALSE),\"\"),\"\")","v":""},null,null,null,null,null,null,null,null,null,{"$f":"IF(Tabla2[[#This Row],[NIVEL ACADEMICO]]=\"OTRO\",1,IF(Tabla2[[#This Row],[NIVEL ACADEMICO]]=\"ESTUDIANTE\",1,IF(Tabla2[[#This Row],[NIVEL ACADEMICO]]=\"BACHILLER\",1,\"\")))","v":""},{"$f":"IF(Tabla2[[#This Row],[PROCEDENCIA]]=\"OTRO\",1,\"\")","v":""}]
["",{"$f":"IFERROR(IF(C158>0,VLOOKUP($F$5,DATA!$A$79:$B$160,2,FALSE),\"\"),\"\")","v":""},null,null,null,null,null,null,null,null,null,{"$f":"IF(Tabla2[[#This Row],[NIVEL ACADEMICO]]=\"OTRO\",1,IF(Tabla2[[#This Row],[NIVEL ACADEMICO]]=\"ESTUDIANTE\",1,IF(Tabla2[[#This Row],[NIVEL ACADEMICO]]=\"BACHILLER\",1,\"\")))","v":""},{"$f":"IF(Tabla2[[#This Row],[PROCEDENCIA]]=\"OTRO\",1,\"\")","v":""}]
["",{"$f":"IFERROR(IF(C159>0,VLOOKUP($F$5,DATA!$A$79:$B$160,2,FALSE),\"\"),\"\")","v":""},null,null,null,null,null,null,null,null,null,{"$f":"IF(Tabla2[[#This Row],[NIVEL ACADEMICO]]=\"OTRO\",1,IF(Tabla2[[#This Row],[NIVEL ACADEMICO]]=\"ESTUDIANTE\",1,IF(Tabla2[[#This Row],[NIVEL ACADEMICO]]=\"BACHILLER\",1,\"\")))","v":""},{"$f":"IF(Tabla2[[#This Row],[PROCEDENCIA]]=\"OTRO\",1,\"\")","v":""}]
["",{"$f":"IFERROR(IF(C160>0,VLOOKUP($F$5,DATA!$A$79:$B$160,2,FALSE),\"\"),\"\")","v":""},null,null,null,null,null,null,null,null,null,{"$f":"IF(Tabla2[[#This Row],[NIVEL ACADEMICO]]=\"OTRO\",1,IF(Tabla2[[#This Row],[NIVEL ACADEMICO]]=\"ESTUDIANTE\",1,IF(Tabla2[[#This Row],[NIVEL ACADEMICO]]=\"BACHILLER\",1,\"\")))","v":""},{"$f":"IF(Tabla2[[#This Row],[PROCEDENCIA]]=\"OTRO\",1,\"\")","v":""}]
["",{"$f":"IFERROR(IF(C161>0,VLOOKUP($F$5,DATA!$A$79:$B$160,2,FALSE),\"\"),\"\")","v":""},null,null,null,null,null,null,null,null,null,{"$f":"IF(Tabla2[[#This Row],[NIVEL ACADEMICO]]=\"OTRO\",1,IF(Tabla2[[#This Row],[NIVEL ACADEMICO]]=\"ESTUDIANTE\",1,IF(Tabla2[[#This Row],[NIVEL ACADEMICO]]=\"BACHILLER\",1,\"\")))","v":""},{"$f":"IF(Tabla2[[#This Row],[PROCEDENCIA]]=\"OTRO\",1,\"\")","v":""}]
["",{"$f":"IFERROR(IF(C162>0,VLOOKUP($F$5,DATA!$A$79:$B$160,2,FALSE),\"\"),\"\")","v":""},null,null,null,null,null,null,null,null,null,{"$f":"IF(Tabla2[[#This Row],[NIVEL ACADEMICO]]=\"OTRO\",1,IF(Tabla2[[#This Row],[NIVEL ACADEMICO]]=\"ESTUDIANTE\",1,IF(Tabla2[[#This Row],[NIVEL ACADEMICO]]=\"BACHILLER\",1,\"\")))","v":""},{"$f":"IF(Tabla2[[#This Row],[PROCEDENCIA]]=\"OTRO\",1,\"\")","v":""}]
["",{"$f":"IFERROR(IF(C163>0,VLOOKUP($F$5,DATA!$A$79:$B$160,2,FALSE),\"\"),\"\")","v":""},null,null,null,null,null,null,null,null,null,{"$f":"IF(Tabla2[[#This Row],[NIVEL ACADEMICO]]=\"OTRO\",1,IF(Tabla2[[#This Row],[NIVEL ACADEMICO]]=\"ESTUDIANTE\",1,IF(Tabla2[[#This Row],[NIVEL ACADEMICO]]=\"BACHILLER\",1,\"\")))","v":""},{"$f":"IF(Tabla2[[#This Row],[PROCEDENCIA]]=\"OTRO\",1,\"\")","v":""}]
["",{"$f":"IFERROR(IF(C164>0,VLOOKUP($F$5,DATA!$A$79:$B$160,2,FALSE),\"\"),\"\")","v":""},null,null,null,null,null,null,null,null,null,{"$f":"IF(Tabla2[[#This Row],[NIVEL ACADEMICO]]=\"OTRO\",1,IF(Tabla2[[#This Row],[NIVEL ACADEMICO]]=\"ESTUDIANTE\",1,IF(Tabla2[[#This Row],[NIVEL ACADEMICO]]=\"BACHILLER\",1,\"\")))","v":""},{"$f":"IF(Tabla2[[#This Row],[PROCEDENCIA]]=\"OTRO\",1,\"\")","v":""}]
["",{"$f":"IFERROR(IF(C165>0,VLOOKUP($F$5,DATA!$A$79:$B$160,2,FALSE),\"\"),\"\")","v":""},null,null,null,null,null,null,null,null,null,{"$f":"IF(Tabla2[[#This Row],[NIVEL ACADEMICO]]=\"OTRO\",1,IF(Tabla2[[#This Row],[NIVEL ACADEMICO]]=\"ESTUDIANTE\",1,IF(Tabla2[[#This Row],[NIVEL ACADEMICO]]=\"BACHILLER\",1,\"\")))","v":""},{"$f":"IF(Tabla2[[#This Row],[PROCEDENCIA]]=\"OTRO\",1,\"\")","v":""}]
["",{"$f":"IFERROR(IF(C166>0,VLOOKUP($F$5,DATA!$A$79:$B$160,2,FALSE),\"\"),\"\")","v":""},null,null,null,null,null,null,null,null,null,{"$f":"IF(Tabla2[[#This Row],[NIVEL ACADEMICO]]=\"OTRO\",1,IF(Tabla2[[#This Row],[NIVEL ACADEMICO]]=\"ESTUDIANTE\",1,IF(Tabla2[[#This Row],[NIVEL ACADEMICO]]=\"BACHILLER\",1,\"\")))","v":""},{"$f":"IF(Tabla2[[#This Row],[PROCEDENCIA]]=\"OTRO\",1,\"\")","v":""}]
["",{"$f":"IFERROR(IF(C167>0,VLOOKUP($F$5,DATA!$A$79:$B$160,2,FALSE),\"\"),\"\")","v":""},null,null,null,null,null,null,null,null,null,{"$f":"IF(Tabla2[[#This Row],[NIVEL ACADEMICO]]=\"OTRO\",1,IF(Tabla2[[#This Row],[NIVEL ACADEMICO]]=\"ESTUDIANTE\",1,IF(Tabla2[[#This Row],[NIVEL ACADEMICO]]=\"BACHILLER\",1,\"\")))","v":""},{"$f":"IF(Tabla2[[#This Row],[PROCEDENCIA]]=\"OTRO\",1,\"\")","v":""}]
["",{"$f":"IFERROR(IF(C168>0,VLOOKUP($F$5,DATA!$A$79:$B$160,2,FALSE),\"\"),\"\")","v":""},null,null,null,null,null,null,null,null,null,{"$f":"IF(Tabla2[[#This Row],[NIVEL ACADEMICO]]=\"OTRO\",1,IF(Tabla2[[#This Row],[NIVEL ACADEMICO]]=\"ESTUDIANTE\",1,IF(Tabla2[[#This Row],[NIVEL ACADEMICO]]=\"BACHILLER\",1,\"\")))","v":""},{"$f":"IF(Tabla2[[#This Row],[PROCEDENCIA]]=\"OTRO\",1,\"\")","v":""}]
["",{"$f":"IFERROR(IF(C169>0,VLOOKUP($F$5,DATA!$A$79:$B$160,2,FALSE),\"\"),\"\")","v":""},null,null,null,null,null,null,null,null,null,{"$f":"IF(Tabla2[[#This Row],[NIVEL ACADEMICO]]=\"OTRO\",1,IF(Tabla2[[#This Row],[NIVEL ACADEMICO]]=\"ESTUDIANTE\",1,IF(Tabla2[[#This Row],[NIVEL ACADEMICO]]=\"BACHILLER\",1,\"\")))","v":""},{"$f":"IF(Tabla2[[#This Row],[PROCEDENCIA]]=\"OTRO\",1,\"\")","v":""}]
[{"$f":"IF(C170>0,ROW()-8,\"\")","v":""},{"$f":"IFERROR(IF(C170>0,VLOOKUP($F$5,DATA!$A$79:$B$160,2,FALSE),\"\"),\"\")","v":""},null,null,null,null,null,null,null,null,null,{"$f":"IF(Tabla2[[#This Row],[NIVEL ACADEMICO]]=\"OTRO\",1,IF(Tabla2[[#This Row],[NIVEL ACADEMICO]]=\"ESTUDIANTE\",1,IF(Tabla2[[#This Row],[NIVEL ACADEMICO]]=\"BACHILLER\",1,\"\")))","v":""},{"$f":"IF(Tabla2[[#This Row],[PROCEDENCIA]]=\"OTRO\",1,\"\")","v":""}]
["",{"$f":"IFERROR(IF(C171>0,VLOOKUP($F$5,DATA!$A$79:$B$160,2,FALSE),\"\"),\"\")","v":""},null,null,null,null,null,null,null,null,null,{"$f":"IF(Tabla2[[#This Row],[NIVEL ACADEMICO]]=\"OTRO\",1,IF(Tabla2[[#This Row],[NIVEL ACADEMICO]]=\"ESTUDIANTE\",1,IF(Tabla2[[#This Row],[NIVEL ACADEMICO]]=\"BACHILLER\",1,\"\")))","v":""},{"$f":"IF(Tabla2[[#This Row],[PROCEDENCIA]]=\"OTRO\",1,\"\")","v":""}]
["",{"$f":"IFERROR(IF(C172>0,VLOOKUP($F$5,DATA!$A$79:$B$160,2,FALSE),\"\"),\"\")","v":""},null,null,null,null,null,null,null,null,null,{"$f":"IF(Tabla2[[#This Row],[NIVEL ACADEMICO]]=\"OTRO\",1,IF(Tabla2[[#This Row],[NIVEL ACADEMICO]]=\"ESTUDIANTE\",1,IF(Tabla2[[#This Row],[NIVEL ACADEMICO]]=\"BACHILLER\",1,\"\")))","v":""},{"$f":"IF(Tabla2[[#This Row],[PROCEDENCIA]]=\"OTRO\",1,\"\")","v":""}]
["",{"$f":"IFERROR(IF(C173>0,VLOOKUP($F$5,DATA!$A$79:$B$160,2,FALSE),\"\"),\"\")","v":""},null,null,null,null,null,null,null,null,null,{"$f":"IF(Tabla2[[#This Row],[NIVEL ACADEMICO]]=\"OTRO\",1,IF(Tabla2[[#This Row],[NIVEL ACADEMICO]]=\"ESTUDIANTE\",1,IF(Tabla2[[#This Row],[NIVEL ACADEMICO]]=\"BACHILLER\",1,\"\")))","v":""},{"$f":"IF(Tabla2[[#This Row],[PROCEDENCIA]]=\"OTRO\",1,\"\")","v":""}]
["",{"$f":"IFERROR(IF(C174>0,VLOOKUP($F$5,DATA!$A$79:$B$160,2,FALSE),\"\"),\"\")","v":""},null,null,null,null,null,null,null,null,null,{"$f":"IF(Tabla2[[#This Row],[NIVEL ACADEMICO]]=\"OTRO\",1,IF(Tabla2[[#This Row],[NIVEL ACADEMICO]]=\"ESTUDIANTE\",1,IF(Tabla2[[#This Row],[NIVEL ACADEMICO]]=\"BACHILLER\",1,\"\")))","v":""},{"$f":"IF(Tabla2[[#This Row],[PROCEDENCIA]]=\"OTRO\",1,\"\")","v":""}]
["",{"$f":"IFERROR(IF(C175>0,VLOOKUP($F$5,DATA!$A$79:$B$160,2,FALSE),\"\"),\"\")","v":""},null,null,null,null,null,null,null,null,null,{"$f":"IF(Tabla2[[#This Row],[NIVEL ACADEMICO]]=\"OTRO\",1,IF(Tabla2[[#This Row],[NIVEL ACADEMICO]]=\"ESTUDIANTE\",1,IF(Tabla2[[#This Row],[NIVEL ACADEMICO]]=\"BACHILLER\",1,\"\")))","v":""},{"$f":"IF(Tabla2[[#This Row],[PROCEDENCIA]]=\"OTRO\",1,\"\")","v":""}]
["",{"$f":"IFERROR(IF(C176>0,VLOOKUP($F$5,DATA!$A$79:$B$160,2,FALSE),\"\"),\"\")","v":""},null,null,null,null,null,null,null,null,null,{"$f":"IF(Tabla2[[#This Row],[NIVEL ACADEMICO]]=\"OTRO\",1,IF(Tabla2[[#This Row],[NIVEL ACADEMICO]]=\"ESTUDIANTE\",1,IF(Tabla2[[#This Row],[NIVEL ACADEMICO]]=\"BACHILLER\",1,\"\")))","v":""},{"$f":"IF(Tabla2[[#This Row],[PROCEDENCIA]]=\"OTRO\",1,\"\")","v":""}]
["",{"$f":"IFERROR(IF(C177>0,VLOOKUP($F$5,DATA!$A$79:$B$160,2,FALSE),\"\"),\"\")","v":""},null,null,null,null,null,null,null,null,null,{"$f":"IF(Tabla2[[#This Row],[NIVEL ACADEMICO]]=\"OTRO\",1,IF(Tabla2[[#This Row],[NIVEL ACADEMICO]]=\"ESTUDIANTE\",1,IF(Tabla2[[#This Row],[NIVEL ACADEMICO]]=\"BACHILLER\",1,\"\")))","v":""},{"$f":"IF(Tabla2[[#This Row],[PROCEDENCIA]]=\"OTRO\",1,\"\")","v":""}]
["",{"$f":"IFERROR(IF(C178>0,VLOOKUP($F$5,DATA!$A$79:$B$160,2,FALSE),\"\"),\"\")","v":""},null,null,null,null,null,null,null,null,null,{"$f":"IF(Tabla2[[#This Row],[NIVEL ACADEMICO]]=\"OTRO\",1,IF(Tabla2[[#This Row],[NIVEL ACADEMICO]]=\"ESTUDIANTE\",1,IF(Tabla2[[#This Row],[NIVEL ACADEMICO]]=\"BACHILLER\",1,\"\")))","v":""},{"$f":"IF(Tabla2[[#This Row],[PROCEDENCIA]]=\"OTRO\",1,\"\")","v":""}]
["",{"$f":"IFERROR(IF(C179>0,VLOOKUP($F$5,DATA!$A$79:$B$160,2,FALSE),\"\"),\"\")","v":""},null,null,null,null,null,null,null,null,null,{"$f":"IF(Tabla2[[#This Row],[NIVEL ACADEMICO]]=\"OTRO\",1,IF(Tabla2[[#This Row],[NIVEL ACADEMICO]]=\"ESTUDIANTE\",1,IF(Tabla2[[#This Row],[NIVEL ACADEMICO]]=\"BACHILLER\",1,\"\")))","v":""},{"$f":"IF(Tabla2[[#This Row],[PROCEDENCIA]]=\"OTRO\",1,\"\")","v":""}]
["",{"$f":"IFERROR(IF(C180>0,VLOOKUP($F$5,DATA!$A$79:$B$160,2,FALSE),\"\"),\"\")","v":""},null,null,null,null,null,null,null,null,null,{"$f":"IF(Tabla2[[#This Row],[NIVEL ACADEMICO]]=\"OTRO\",1,IF(Tabla2[[#This Row],[NIVEL ACADEMICO]]=\"ESTUDIANTE\",1,IF(Tabla2[[#This Row],[NIVEL ACADEMICO]]=\"BACHILLER\",1,\"\")))","v":""},{"$f":"IF(Tabla2[[#This Row],[PROCEDENCIA]]=\"OTRO\",1,\"\")","v":""}]
["",{"$f":"IFERROR(IF(C181>0,VLOOKUP($F$5,DATA!$A$79:$B$160,2,FALSE),\"\"),\"\")","v":""},null,null,null,null,null,null,null,null,null,{"$f":"IF(Tabla2[[#This Row],[NIVEL ACADEMICO]]=\"OTRO\",1,IF(Tabla2[[#This Row],[NIVEL ACADEMICO]]=\"ESTUDIANTE\",1,IF(Tabla2[[#This Row],[NIVEL ACADEMICO]]=\"BACHILLER\",1,\"\")))","v":""},{"$f":"IF(Tabla2[[#This Row],[PROCEDENCIA]]=\"OTRO\",1,\"\")","v":""}]
["",{"$f":"IFERROR(IF(C182>0,VLOOKUP($F$5,DATA!$A$79:$B$160,2,FALSE),\"\"),\"\")","v":""},null,null,null,null,null,null,null,null,null,{"$f":"IF(Tabla2[[#This Row],[NIVEL ACADEMICO]]=\"OTRO\",1,IF(Tabla2[[#This Row],[NIVEL ACADEMICO]]=\"ESTUDIANTE\",1,IF(Tabla2[[#This Row],[NIVEL ACADEMICO]]=\"BACHILLER\",1,\"\")))","v":""},{"$f":"IF(Tabla2[[#This Row],[PROCEDENCIA]]=\"OTRO\",1,\"\")","v":""}]
["",{"$f":"IFERROR(IF(C183>0,VLOOKUP($F$5,DATA!$A$79:$B$160,2,FALSE),\"\"),\"\")","v":""},null,null,null,null,null,null,null,null,null,{"$f":"IF(Tabla2[[#This Row],[NIVEL ACADEMICO]]=\"OTRO\",1,IF(Tabla2[[#This Row],[NIVEL ACADEMICO]]=\"ESTUDIANTE\",1,IF(Tabla2[[#This Row],[NIVEL ACADEMICO]]=\"BACHILLER\",1,\"\")))","v":""},{"$f":"IF(Tabla2[[#This Row],[PROCEDENCIA]]=\"OTRO\",1,\"\")","v":""}]
["",{"$f":"IFERROR(IF(C184>0,VLOOKUP($F$5,DATA!$A$79:$B$160,2,FALSE),\"\"),\"\")","v":""},null,null,null,null,null,null,null,null,null,{"$f":"IF(Tabla2[[#This Row],[NIVEL ACADEMICO]]=\"OTRO\",1,IF(Tabla2[[#This Row],[NIVEL ACADEMICO]]=\"ESTUDIANTE\",1,IF(Tabla2[[#This Row],[NIVEL ACADEMICO]]=\"BACHILLER\",1,\"\")))","v":""},{"$f":"IF(Tabla2[[#This Row],[PROCEDENCIA]]=\"OTRO\",1,\"\")","v":""}]
["",{"$f":"IFERROR(IF(C185>0,VLOOKUP($F$5,DATA!$A$79:$B$160,2,FALSE),\"\"),\"\")","v":""},null,null,null,null,null,null,null,null,null,{"$f":"IF(Tabla2[[#This Row],[NIVEL ACADEMICO]]=\"OTRO\",1,IF(Tabla2[[#This Row],[NIVEL ACADEMICO]]=\"ESTUDIANTE\",1,IF(Tabla2[[#This Row],[NIVEL ACADEMICO]]=\"BACHILLER\",1,\"\")))","v":""},{"$f":"IF(Tabla2[[#This Row],[PROCEDENCIA]]=\"OTRO\",1,\"\")","v":""}]
["",{"$f":"IFERROR(IF(C186>0,VLOOKUP($F$5,DATA!$A$79:$B$160,2,FALSE),\"\"),\"\")","v":""},null,null,null,null,null,null,null,null,null,{"$f":"IF(Tabla2[[#This Row],[NIVEL ACADEMICO]]=\"OTRO\",1,IF(Tabla2[[#This Row],[NIVEL ACADEMICO]]=\"ESTUDIANTE\",1,IF(Tabla2[[#This Row],[NIVEL ACADEMICO]]=\"BACHILLER\",1,\"\")))","v":""},{"$f":"IF(Tabla2[[#This Row],[PROCEDENCIA]]=\"OTRO\",1,\"\")","v":""}]
["",{"$f":"IFERROR(IF(C187>0,VLOOKUP($F$5,DATA!$A$79:$B$160,2,FALSE),\"\"),\"\")","v":""},null,null,null,null,null,null,null,null,null,{"$f":"IF(Tabla2[[#This Row],[NIVEL ACADEMICO]]=\"OTRO\",1,IF(Tabla2[[#This Row],[NIVEL ACADEMICO]]=\"ESTUDIANTE\",1,IF(Tabla2[[#This Row],[NIVEL ACADEMICO]]=\"BACHILLER\",1,\"\")))","v":""},{"$f":"IF(Tabla2[[#This Row],[PROCEDENCIA]]=\"OTRO\",1,\"\")","v":""}]
["",{"$f":"IFERROR(IF(C188>0,VLOOKUP($F$5,DATA!$A$79:$B$160,2,FALSE),\"\"),\"\")","v":""},null,null,null,null,null,null,null,null,null,{"$f":"IF(Tabla2[[#This Row],[NIVEL ACADEMICO]]=\"OTRO\",1,IF(Tabla2[[#This Row],[NIVEL ACADEMICO]]=\"ESTUDIANTE\",1,IF(Tabla2[[#This Row],[NIVEL ACADEMICO]]=\"BACHILLER\",1,\"\")))","v":""},{"$f":"IF(Tabla2[[#This Row],[PROCEDENCIA]]=\"OTRO\",1,\"\")","v":""}]
["",{"$f":"IFERROR(IF(C189>0,VLOOKUP($F$5,DATA!$A$79:$B$160,2,FALSE),\"\"),\"\")","v":""},null,null,null,null,null,null,null,null,null,{"$f":"IF(Tabla2[[#This Row],[NIVEL ACADEMICO]]=\"OTRO\",1,IF(Tabla2[[#This Row],[NIVEL ACADEMICO]]=\"ESTUDIANTE\",1,IF(Tabla2[[#This Row],[NIVEL ACADEMICO]]=\"BACHILLER\",1,\"\")))","v":""},{"$f":"IF(Tabla2[[#This Row],[PROCEDENCIA]]=\"OTRO\",1,\"\")","v":""}]
["",{"$f":"IFERROR(IF(C190>0,VLOOKUP($F$5,DATA!$A$79:$B$160,2,FALSE),\"\"),\"\")","v":""},null,null,null,null,null,null,null,null,null,{"$f":"IF(Tabla2[[#This Row],[NIVEL ACADEMICO]]=\"OTRO\",1,IF(Tabla2[[#This Row],[NIVEL ACADEMICO]]=\"ESTUDIANTE\",1,IF(Tabla2[[#This Row],[NIVEL ACADEMICO]]=\"BACHILLER\",1,\"\")))","v":""},{"$f":"IF(Tabla2[[#This Row],[PROCEDENCIA]]=\"OTRO\",1,\"\")","v":""}]
["",{"$f":"IFERROR(IF(C191>0,VLOOKUP($F$5,DATA!$A$79:$B$160,2,FALSE),\"\"),\"\")","v":""},null,null,null,null,null,null,null,null,null,{"$f":"IF(Tabla2[[#This Row],[NIVEL ACADEMICO]]=\"OTRO\",1,IF(Tabla2[[#This Row],[NIVEL ACADEMICO]]=\"ESTUDIANTE\",1,IF(Tabla2[[#This Row],[NIVEL ACADEMICO]]=\"BACHILLER\",1,\"\")))","v":""},{"$f":"IF(Tabla2[[#This Row],[PROCEDENCIA]]=\"OTRO\",1,\"\")","v":""}]
["",{"$f":"IFERROR(IF(C192>0,VLOOKUP($F$5,DATA!$A$79:$B$160,2,FALSE),\"\"),\"\")","v":""},null,null,null,null,null,null,null,null,null,{"$f":"IF(Tabla2[[#This Row],[NIVEL ACADEMICO]]=\"OTRO\",1,IF(Tabla2[[#This Row],[NIVEL ACADEMICO]]=\"ESTUDIANTE\",1,IF(Tabla2[[#This Row],[NIVEL ACADEMICO]]=\"BACHILLER\",1,\"\")))","v":""},{"$f":"IF(Tabla2[[#This Row],[PROCEDENCIA]]=\"OTRO\",1,\"\")","v":""}]
["",{"$f":"IFERROR(IF(C193>0,VLOOKUP($F$5,DATA!$A$79:$B$160,2,FALSE),\"\"),\"\")","v":""},null,null,null,null,null,null,null,null,null,{"$f":"IF(Tabla2[[#This Row],[NIVEL ACADEMICO]]=\"OTRO\",1,IF(Tabla2[[#This Row],[NIVEL ACADEMICO]]=\"ESTUDIANTE\",1,IF(Tabla2[[#This Row],[NIVEL ACADEMICO]]=\"BACHILLER\",1,\"\")))","v":""},{"$f":"IF(Tabla2[[#This Row],[PROCEDENCIA]]=\"OTRO\",1,\"\")","v":""}]
["",{"$f":"IFERROR(IF(C194>0,VLOOKUP($F$5,DATA!$A$79:$B$160,2,FALSE),\"\"),\"\")","v":""},null,null,null,null,null,null,null,null,null,{"$f":"IF(Tabla2[[#This Row],[NIVEL ACADEMICO]]=\"OTRO\",1,IF(Tabla2[[#This Row],[NIVEL ACADEMICO]]=\"ESTUDIANTE\",1,IF(Tabla2[[#This Row],[NIVEL ACADEMICO]]=\"BACHILLER\",1,\"\")))","v":""},{"$f":"IF(Tabla2[[#This Row],[PROCEDENCIA]]=\"OTRO\",1,\"\")","v":""}]
["",{"$f":"IFERROR(IF(C195>0,VLOOKUP($F$5,DATA!$A$79:$B$160,2,FALSE),\"\"),\"\")","v":""},null,null,null,null,null,null,null,null,null,{"$f":"IF(Tabla2[[#This Row],[NIVEL ACADEMICO]]=\"OTRO\",1,IF(Tabla2[[#This Row],[NIVEL ACADEMICO]]=\"ESTUDIANTE\",1,IF(Tabla2[[#This Row],[NIVEL ACADEMICO]]=\"BACHILLER\",1,\"\")))","v":""},{"$f":"IF(Tabla2[[#This Row],[PROCEDENCIA]]=\"OTRO\",1,\"\")","v":""}]
["",{"$f":"IFERROR(IF(C196>0,VLOOKUP($F$5,DATA!$A$79:$B$160,2,FALSE),\"\"),\"\")","v":""},null,null,null,null,null,null,null,null,null,{"$f":"IF(Tabla2[[#This Row],[NIVEL ACADEMICO]]=\"OTRO\",1,IF(Tabla2[[#This Row],[NIVEL ACADEMICO]]=\"ESTUDIANTE\",1,IF(Tabla2[[#This Row],[NIVEL ACADEMICO]]=\"BACHILLER\",1,\"\")))","v":""},{"$f":"IF(Tabla2[[#This Row],[PROCEDENCIA]]=\"OTRO\",1,\"\")","v":""}]
["",{"$f":"IFERROR(IF(C197>0,VLOOKUP($F$5,DATA!$A$79:$B$160,2,FALSE),\"\"),\"\")","v":""},null,null,null,null,null,null,null,null,null,{"$f":"IF(Tabla2[[#This Row],[NIVEL ACADEMICO]]=\"OTRO\",1,IF(Tabla2[[#This Row],[NIVEL ACADEMICO]]=\"ESTUDIANTE\",1,IF(Tabla2[[#This Row],[NIVEL ACADEMICO]]=\"BACHILLER\",1,\"\")))","v":""},{"$f":"IF(Tabla2[[#This Row],[PROCEDENCIA]]=\"OTRO\",1,\"\")","v":""}]
["",{"$f":"IFERROR(IF(C198>0,VLOOKUP($F$5,DATA!$A$79:$B$160,2,FALSE),\"\"),\"\")","v":""},null,null,null,null,null,null,null,null,null,{"$f":"IF(Tabla2[[#This Row],[NIVEL ACADEMICO]]=\"OTRO\",1,IF(Tabla2[[#This Row],[NIVEL ACADEMICO]]=\"ESTUDIANTE\",1,IF(Tabla2[[#This Row],[NIVEL ACADEMICO]]=\"BACHILLER\",1,\"\")))","v":""},{"$f":"IF(Tabla2[[#This Row],[PROCEDENCIA]]=\"OTRO\",1,\"\")","v":""}]
["",{"$f":"IFERROR(IF(C199>0,VLOOKUP($F$5,DATA!$A$79:$B$160,2,FALSE),\"\"),\"\")","v":""},null,null,null,null,null,null,null,null,null,{"$f":"IF(Tabla2[[#This Row],[NIVEL ACADEMICO]]=\"OTRO\",1,IF(Tabla2[[#This Row],[NIVEL ACADEMICO]]=\"ESTUDIANTE\",1,IF(Tabla2[[#This Row],[NIVEL ACADEMICO]]=\"BACHILLER\",1,\"\")))","v":""},{"$f":"IF(Tabla2[[#This Row],[PROCEDENCIA]]=\"OTRO\",1,\"\")","v":""}]
["",{"$f":"IFERROR(IF(C200>0,VLOOKUP($F$5,DATA!$A$79:$B$160,2,FALSE),\"\"),\"\")","v":""},null,null,null,null,null,null,null,null,null,{"$f":"IF(Tabla2[[#This Row],[NIVEL ACADEMICO]]=\"OTRO\",1,IF(Tabla2[[#This Row],[NIVEL ACADEMICO]]=\"ESTUDIANTE\",1,IF(Tabla2[[#This Row],[NIVEL ACADEMICO]]=\"BACHILLER\",1,\"\")))","v":""},{"$f":"IF(Tabla2[[#This Row],[PROCEDENCIA]]=\"OTRO\",1,\"\")","v":""}]
["",{"$f":"IFERROR(IF(C201>0,VLOOKUP($F$5,DATA!$A$79:$B$160,2,FALSE),\"\"),\"\")","v":""},null,null,null,null,null,null,null,null,null,{"$f":"IF(Tabla2[[#This Row],[NIVEL ACADEMICO]]=\"OTRO\",1,IF(Tabla2[[#This Row],[NIVEL ACADEMICO]]=\"ESTUDIANTE\",1,IF(Tabla2[[#This Row],[NIVEL ACADEMICO]]=\"BACHILLER\",1,\"\")))","v":""},{"$f":"IF(Tabla2[[#This Row],[PROCEDENCIA]]=\"OTRO\",1,\"\")","v":""}]
["",{"$f":"IFERROR(IF(C202>0,VLOOKUP($F$5,DATA!$A$79:$B$160,2,FALSE),\"\"),\"\")","v":""},null,null,null,null,null,null,null,null,null,{"$f":"IF(Tabla2[[#This Row],[NIVEL ACADEMICO]]=\"OTRO\",1,IF(Tabla2[[#This Row],[NIVEL ACADEMICO]]=\"ESTUDIANTE\",1,IF(Tabla2[[#This Row],[NIVEL ACADEMICO]]=\"BACHILLER\",1,\"\")))","v":""},{"$f":"IF(Tabla2[[#This Row],[PROCEDENCIA]]=\"OTRO\",1,\"\")","v":""}]
["",{"$f":"IFERROR(IF(C203>0,VLOOKUP($F$5,DATA!$A$79:$B$160,2,FALSE),\"\"),\"\")","v":""},null,null,null,null,null,null,null,null,null,{"$f":"IF(Tabla2[[#This Row],[NIVEL ACADEMICO]]=\"OTRO\",1,IF(Tabla2[[#This Row],[NIVEL ACADEMICO]]=\"ESTUDIANTE\",1,IF(Tabla2[[#This Row],[NIVEL ACADEMICO]]=\"BACHILLER\",1,\"\")))","v":""},{"$f":"IF(Tabla2[[#This Row],[PROCEDENCIA]]=\"OTRO\",1,\"\")","v":""}]
["",{"$f":"IFERROR(IF(C204>0,VLOOKUP($F$5,DATA!$A$79:$B$160,2,FALSE),\"\"),\"\")","v":""},null,null,null,null,null,null,null,null,null,{"$f":"IF(Tabla2[[#This Row],[NIVEL ACADEMICO]]=\"OTRO\",1,IF(Tabla2[[#This Row],[NIVEL ACADEMICO]]=\"ESTUDIANTE\",1,IF(Tabla2[[#This Row],[NIVEL ACADEMICO]]=\"BACHILLER\",1,\"\")))","v":""},{"$f":"IF(Tabla2[[#This Row],[PROCEDENCIA]]=\"OTRO\",1,\"\")","v":""}]
[{"$f":"IF(C205>0,ROW()-8,\"\")","v":""},{"$f":"IFERROR(IF(C205>0,VLOOKUP($F$5,DATA!$A$79:$B$160,2,FALSE),\"\"),\"\")","v":""},null,null,null,null,null,null,null,null,null,{"$f":"IF(Tabla2[[#This Row],[NIVEL ACADEMICO]]=\"OTRO\",1,IF(Tabla2[[#This Row],[NIVEL ACADEMICO]]=\"ESTUDIANTE\",1,IF(Tabla2[[#This Row],[NIVEL ACADEMICO]]=\"BACHILLER\",1,\"\")))","v":""},{"$f":"IF(Tabla2[[#This Row],[PROCEDENCIA]]=\"OTRO\",1,\"\")","v":""}]
["",{"$f":"IFERROR(IF(C206>0,VLOOKUP($F$5,DATA!$A$79:$B$160,2,FALSE),\"\"),\"\")","v":""},null,null,null,null,null,null,null,null,null,{"$f":"IF(Tabla2[[#This Row],[NIVEL ACADEMICO]]=\"OTRO\",1,IF(Tabla2[[#This Row],[NIVEL ACADEMICO]]=\"ESTUDIANTE\",1,IF(Tabla2[[#This Row],[NIVEL ACADEMICO]]=\"BACHILLER\",1,\"\")))","v":""},{"$f":"IF(Tabla2[[#This Row],[PROCEDENCIA]]=\"OTRO\",1,\"\")","v":""}]
["",{"$f":"IFERROR(IF(C207>0,VLOOKUP($F$5,DATA!$A$79:$B$160,2,FALSE),\"\"),\"\")","v":""},null,null,null,null,null,null,null,null,null,{"$f":"IF(Tabla2[[#This Row],[NIVEL ACADEMICO]]=\"OTRO\",1,IF(Tabla2[[#This Row],[NIVEL ACADEMICO]]=\"ESTUDIANTE\",1,IF(Tabla2[[#This Row],[NIVEL ACADEMICO]]=\"BACHILLER\",1,\"\")))","v":""},{"$f":"IF(Tabla2[[#This Row],[PROCEDENCIA]]=\"OTRO\",1,\"\")","v":""}]
["",{"$f":"IFERROR(IF(C208>0,VLOOKUP($F$5,DATA!$A$79:$B$160,2,FALSE),\"\"),\"\")","v":""},null,null,null,null,null,null,null,null,null,{"$f":"IF(Tabla2[[#This Row],[NIVEL ACADEMICO]]=\"OTRO\",1,IF(Tabla2[[#This Row],[NIVEL ACADEMICO]]=\"ESTUDIANTE\",1,IF(Tabla2[[#This Row],[NIVEL ACADEMICO]]=\"BACHILLER\",1,\"\")))","v":""},{"$f":"IF(Tabla2[[#This Row],[PROCEDENCIA]]=\"OTRO\",1,\"\")","v":""}]
["",{"$f":"IFERROR(IF(C209>0,VLOOKUP($F$5,DATA!$A$79:$B$160,2,FALSE),\"\"),\"\")","v":""},null,null,null,null,null,null,null,null,null,{"$f":"IF(Tabla2[[#This Row],[NIVEL ACADEMICO]]=\"OTRO\",1,IF(Tabla2[[#This Row],[NIVEL ACADEMICO]]=\"ESTUDIANTE\",1,IF(Tabla2[[#This Row],[NIVEL ACADEMICO]]=\"BACHILLER\",1,\"\")))","v":""},{"$f":"IF(Tabla2[[#This Row],[PROCEDENCIA]]=\"OTRO\",1,\"\")","v":""}]
["",{"$f":"IFERROR(IF(C210>0,VLOOKUP($F$5,DATA!$A$79:$B$160,2,FALSE),\"\"),\"\")","v":""},null,null,null,null,null,null,null,null,null,{"$f":"IF(Tabla2[[#This Row],[NIVEL ACADEMICO]]=\"OTRO\",1,IF(Tabla2[[#This Row],[NIVEL ACADEMICO]]=\"ESTUDIANTE\",1,IF(Tabla2[[#This Row],[NIVEL ACADEMICO]]=\"BACHILLER\",1,\"\")))","v":""},{"$f":"IF(Tabla2[[#This Row],[PROCEDENCIA]]=\"OTRO\",1,\"\")","v":""}]
["",{"$f":"IFERROR(IF(C211>0,VLOOKUP($F$5,DATA!$A$79:$B$160,2,FALSE),\"\"),\"\")","v":""},null,null,null,null,null,null,null,null,null,{"$f":"IF(Tabla2[[#This Row],[NIVEL ACADEMICO]]=\"OTRO\",1,IF(Tabla2[[#This Row],[NIVEL ACADEMICO]]=\"ESTUDIANTE\",1,IF(Tabla2[[#This Row],[NIVEL ACADEMICO]]=\"BACHILLER\",1,\"\")))","v":""},{"$f":"IF(Tabla2[[#This Row],[PROCEDENCIA]]=\"OTRO\",1,\"\")","v":""}]
["",{"$f":"IFERROR(IF(C212>0,VLOOKUP($F$5,DATA!$A$79:$B$160,2,FALSE),\"\"),\"\")","v":""},null,null,null,null,null,null,null,null,null,{"$f":"IF(Tabla2[[#This Row],[NIVEL ACADEMICO]]=\"OTRO\",1,IF(Tabla2[[#This Row],[NIVEL ACADEMICO]]=\"ESTUDIANTE\",1,IF(Tabla2[[#This Row],[NIVEL ACADEMICO]]=\"BACHILLER\",1,\"\")))","v":""},{"$f":"IF(Tabla2[[#This Row],[PROCEDENCIA]]=\"OTRO\",1,\"\")","v":""}]
["",{"$f":"IFERROR(IF(C213>0,VLOOKUP($F$5,DATA!$A$79:$B$160,2,FALSE),\"\"),\"\")","v":""},null,null,null,null,null,null,null,null,null,{"$f":"IF(Tabla2[[#This Row],[NIVEL ACADEMICO]]=\"OTRO\",1,IF(Tabla2[[#This Row],[NIVEL ACADEMICO]]=\"ESTUDIANTE\",1,IF(Tabla2[[#This Row],[NIVEL ACADEMICO]]=\"BACHILLER\",1,\"\")))","v":""},{"$f":"IF(Tabla2[[#This Row],[PROCEDENCIA]]=\"OTRO\",1,\"\")","v":""}]
["",{"$f":"IFERROR(IF(C214>0,VLOOKUP($F$5,DATA!$A$79:$B$160,2,FALSE),\"\"),\"\")","v":""},null,null,null,null,null,null,null,null,null,{"$f":"IF(Tabla2[[#This Row],[NIVEL ACADEMICO]]=\"OTRO\",1,IF(Tabla2[[#This Row],[NIVEL ACADEMICO]]=\"ESTUDIANTE\",1,IF(Tabla2[[#This Row],[NIVEL ACADEMICO]]=\"BACHILLER\",1,\"\")))","v":""},{"$f":"IF(Tabla2[[#This Row],[PROCEDENCIA]]=\"OTRO\",1,\"\")","v":""}]
["",{"$f":"IFERROR(IF(C215>0,VLOOKUP($F$5,DATA!$A$79:$B$160,2,FALSE),\"\"),\"\")","v":""},null,null,null,null,null,null,null,null,null,{"$f":"IF(Tabla2[[#This Row],[NIVEL ACADEMICO]]=\"OTRO\",1,IF(Tabla2[[#This Row],[NIVEL ACADEMICO]]=\"ESTUDIANTE\",1,IF(Tabla2[[#This Row],[NIVEL ACADEMICO]]=\"BACHILLER\",1,\"\")))","v":""},{"$f":"IF(Tabla2[[#This Row],[PROCEDENCIA]]=\"OTRO\",1,\"\")","v":""}]
["",{"$f":"IFERROR(IF(C216>0,VLOOKUP($F$5,DATA!$A$79:$B$160,2,FALSE),\"\"),\"\")","v":""},null,null,null,null,null,null,null,null,null,{"$f":"IF(Tabla2[[#This Row],[NIVEL ACADEMICO]]=\"OTRO\",1,IF(Tabla2[[#This Row],[NIVEL ACADEMICO]]=\"ESTUDIANTE\",1,IF(Tabla2[[#This Row],[NIVEL ACADEMICO]]=\"BACHILLER\",1,\"\")))","v":""},{"$f":"IF(Tabla2[[#This Row],[PROCEDENCIA]]=\"OTRO\",1,\"\")","v":""}]
["",{"$f":"IFERROR(IF(C217>0,VLOOKUP($F$5,DATA!$A$79:$B$160,2,FALSE),\"\"),\"\")","v":""},null,null,null,null,null,null,null,null,null,{"$f":"IF(Tabla2[[#This Row],[NIVEL ACADEMICO]]=\"OTRO\",1,IF(Tabla2[[#This Row],[NIVEL ACADEMICO]]=\"ESTUDIANTE\",1,IF(Tabla2[[#This Row],[NIVEL ACADEMICO]]=\"BACHILLER\",1,\"\")))","v":""},{"$f":"IF(Tabla2[[#This Row],[PROCEDENCIA]]=\"OTRO\",1,\"\")","v":""}]
["",{"$f":"IFERROR(IF(C218>0,VLOOKUP($F$5,DATA!$A$79:$B$160,2,FALSE),\"\"),\"\")","v":""},null,null,null,null,null,null,null,null,null,{"$f":"IF(Tabla2[[#This Row],[NIVEL ACADEMICO]]=\"OTRO\",1,IF(Tabla2[[#This Row],[NIVEL ACADEMICO]]=\"ESTUDIANTE\",1,IF(Tabla2[[#This Row],[NIVEL ACADEMICO]]=\"BACHILLER\",1,\"\")))","v":""},{"$f":"IF(Tabla2[[#This Row],[PROCEDENCIA]]=\"OTRO\",1,\"\")","v":""}]
["",{"$f":"IFERROR(IF(C219>0,VLOOKUP($F$5,DATA!$A$79:$B$160,2,FALSE),\"\"),\"\")","v":""},null,null,null,null,null,null,null,null,null,{"$f":"IF(Tabla2[[#This Row],[NIVEL ACADEMICO]]=\"OTRO\",1,IF(Tabla2[[#This Row],[NIVEL ACADEMICO]]=\"ESTUDIANTE\",1,IF(Tabla2[[#This Row],[NIVEL ACADEMICO]]=\"BACHILLER\",1,\"\")))","v":""},{"$f":"IF(Tabla2[[#This Row],[PROCEDENCIA]]=\"OTRO\",1,\"\")","v":""}]
["",{"$f":"IFERROR(IF(C220>0,VLOOKUP($F$5,DATA!$A$79:$B$160,2,FALSE),\"\"),\"\")","v":""},null,null,null,null,null,null,null,null,null,{"$f":"IF(Tabla2[[#This Row],[NIVEL ACADEMICO]]=\"OTRO\",1,IF(Tabla2[[#This Row],[NIVEL ACADEMICO]]=\"ESTUDIANTE\",1,IF(Tabla2[[#This Row],[NIVEL ACADEMICO]]=\"BACHILLER\",1,\"\")))","v":""},{"$f":"IF(Tabla2[[#This Row],[PROCEDENCIA]]=\"OTRO\",1,\"\")","v":""}]
["",{"$f":"IFERROR(IF(C221>0,VLOOKUP($F$5,DATA!$A$79:$B$160,2,FALSE),\"\"),\"\")","v":""},null,null,null,null,null,null,null,null,null,{"$f":"IF(Tabla2[[#This Row],[NIVEL ACADEMICO]]=\"OTRO\",1,IF(Tabla2[[#This Row],[NIVEL ACADEMICO]]=\"ESTUDIANTE\",1,IF(Tabla2[[#This Row],[NIVEL ACADEMICO]]=\"BACHILLER\",1,\"\")))","v":""},{"$f":"IF(Tabla2[[#This Row],[PROCEDENCIA]]=\"OTRO\",1,\"\")","v":""}]
["",{"$f":"IFERROR(IF(C222>0,VLOOKUP($F$5,DATA!$A$79:$B$160,2,FALSE),\"\"),\"\")","v":""},null,null,null,null,null,null,null,null,null,{"$f":"IF(Tabla2[[#This Row],[NIVEL ACADEMICO]]=\"OTRO\",1,IF(Tabla2[[#This Row],[NIVEL ACADEMICO]]=\"ESTUDIANTE\",1,IF(Tabla2[[#This Row],[NIVEL ACADEMICO]]=\"BACHILLER\",1,\"\")))","v":""},{"$f":"IF(Tabla2[[#This Row],[PROCEDENCIA]]=\"OTRO\",1,\"\")","v":""}]
["",{"$f":"IFERROR(IF(C223>0,VLOOKUP($F$5,DATA!$A$79:$B$160,2,FALSE),\"\"),\"\")","v":""},null,null,null,null,null,null,null,null,null,{"$f":"IF(Tabla2[[#This Row],[NIVEL ACADEMICO]]=\"OTRO\",1,IF(Tabla2[[#This Row],[NIVEL ACADEMICO]]=\"ESTUDIANTE\",1,IF(Tabla2[[#This Row],[NIVEL ACADEMICO]]=\"BACHILLER\",1,\"\")))","v":""},{"$f":"IF(Tabla2[[#This Row],[PROCEDENCIA]]=\"OTRO\",1,\"\")","v":""}]
["",{"$f":"IFERROR(IF(C224>0,VLOOKUP($F$5,DATA!$A$79:$B$160,2,FALSE),\"\"),\"\")","v":""},null,null,null,null,null,null,null,null,null,{"$f":"IF(Tabla2[[#This Row],[NIVEL ACADEMICO]]=\"OTRO\",1,IF(Tabla2[[#This Row],[NIVEL ACADEMICO]]=\"ESTUDIANTE\",1,IF(Tabla2[[#This Row],[NIVEL ACADEMICO]]=\"BACHILLER\",1,\"\")))","v":""},{"$f":"IF(Tabla2[[#This Row],[PROCEDENCIA]]=\"OTRO\",1,\"\")","v":""}]
["",{"$f":"IFERROR(IF(C225>0,VLOOKUP($F$5,DATA!$A$79:$B$160,2,FALSE),\"\"),\"\")","v":""},null,null,null,null,null,null,null,null,null,{"$f":"IF(Tabla2[[#This Row],[NIVEL ACADEMICO]]=\"OTRO\",1,IF(Tabla2[[#This Row],[NIVEL ACADEMICO]]=\"ESTUDIANTE\",1,IF(Tabla2[[#This Row],[NIVEL ACADEMICO]]=\"BACHILLER\",1,\"\")))","v":""},{"$f":"IF(Tabla2[[#This Row],[PROCEDENCIA]]=\"OTRO\",1,\"\")","v":""}]
["",{"$f":"IFERROR(IF(C226>0,VLOOKUP($F$5,DATA!$A$79:$B$160,2,FALSE),\"\"),\"\")","v":""},null,null,null,null,null,null,null,null,null,{"$f":"IF(Tabla2[[#This Row],[NIVEL ACADEMICO]]=\"OTRO\",1,IF(Tabla2[[#This Row],[NIVEL ACADEMICO]]=\"ESTUDIANTE\",1,IF(Tabla2[[#This Row],[NIVEL ACADEMICO]]=\"BACHILLER\",1,\"\")))","v":""},{"$f":"IF(Tabla2[[#This Row],[PROCEDENCIA]]=\"OTRO\",1,\"\")","v":""}]
["",{"$f":"IFERROR(IF(C227>0,VLOOKUP($F$5,DATA!$A$79:$B$160,2,FALSE),\"\"),\"\")","v":""},null,null,null,null,null,null,null,null,null,{"$f":"IF(Tabla2[[#This Row],[NIVEL ACADEMICO]]=\"OTRO\",1,IF(Tabla2[[#This Row],[NIVEL ACADEMICO]]=\"ESTUDIANTE\",1,IF(Tabla2[[#This Row],[NIVEL ACADEMICO]]=\"BACHILLER\",1,\"\")))","v":""},{"$f":"IF(Tabla2[[#This Row],[PROCEDENCIA]]=\"OTRO\",1,\"\")","v":""}]
["",{"$f":"IFERROR(IF(C228>0,VLOOKUP($F$5,DATA!$A$79:$B$160,2,FALSE),\"\"),\"\")","v":""},null,null,null,null,null,null,null,null,null,{"$f":"IF(Tabla2[[#This Row],[NIVEL ACADEMICO]]=\"OTRO\",1,IF(Tabla2[[#This Row],[NIVEL ACADEMICO]]=\"ESTUDIANTE\",1,IF(Tabla2[[#This Row],[NIVEL ACADEMICO]]=\"BACHILLER\",1,\"\")))","v":""},{"$f":"IF(Tabla2[[#This Row],[PROCEDENCIA]]=\"OTRO\",1,\"\")","v":""}]
["",{"$f":"IFERROR(IF(C229>0,VLOOKUP($F$5,DATA!$A$79:$B$160,2,FALSE),\"\"),\"\")","v":""},null,null,null,null,null,null,null,null,null,{"$f":"IF(Tabla2[[#This Row],[NIVEL ACADEMICO]]=\"OTRO\",1,IF(Tabla2[[#This Row],[NIVEL ACADEMICO]]=\"ESTUDIANTE\",1,IF(Tabla2[[#This Row],[NIVEL ACADEMICO]]=\"BACHILLER\",1,\"\")))","v":""},{"$f":"IF(Tabla2[[#This Row],[PROCEDENCIA]]=\"OTRO\",1,\"\")","v":""}]
["",{"$f":"IFERROR(IF(C230>0,VLOOKUP($F$5,DATA!$A$79:$B$160,2,FALSE),\"\"),\"\")","v":""},null,null,null,null,null,null,null,null,null,{"$f":"IF(Tabla2[[#This Row],[NIVEL ACADEMICO]]=\"OTRO\",1,IF(Tabla2[[#This Row],[NIVEL ACADEMICO]]=\"ESTUDIANTE\",1,IF(Tabla2[[#This Row],[NIVEL ACADEMICO]]=\"BACHILLER\",1,\"\")))","v":""},{"$f":"IF(Tabla2[[#This Row],[PROCEDENCIA]]=\"OTRO\",1,\"\")","v":""}]
["",{"$f":"IFERROR(IF(C231>0,VLOOKUP($F$5,DATA!$A$79:$B$160,2,FALSE),\"\"),\"\")","v":""},null,null,null,null,null,null,null,null,null,{"$f":"IF(Tabla2[[#This Row],[NIVEL ACADEMICO]]=\"OTRO\",1,IF(Tabla2[[#This Row],[NIVEL ACADEMICO]]=\"ESTUDIANTE\",1,IF(Tabla2[[#This Row],[NIVEL ACADEMICO]]=\"BACHILLER\",1,\"\")))","v":""},{"$f":"IF(Tabla2[[#This Row],[PROCEDENCIA]]=\"OTRO\",1,\"\")","v":""}]
["",{"$f":"IFERROR(IF(C232>0,VLOOKUP($F$5,DATA!$A$79:$B$160,2,FALSE),\"\"),\"\")","v":""},null,null,null,null,null,null,null,null,null,{"$f":"IF(Tabla2[[#This Row],[NIVEL ACADEMICO]]=\"OTRO\",1,IF(Tabla2[[#This Row],[NIVEL ACADEMICO]]=\"ESTUDIANTE\",1,IF(Tabla2[[#This Row],[NIVEL ACADEMICO]]=\"BACHILLER\",1,\"\")))","v":""},{"$f":"IF(Tabla2[[#This Row],[PROCEDENCIA]]=\"OTRO\",1,\"\")","v":""}]
["",{"$f":"IFERROR(IF(C233>0,VLOOKUP($F$5,DATA!$A$79:$B$160,2,FALSE),\"\"),\"\")","v":""},null,null,null,null,null,null,null,null,null,{"$f":"IF(Tabla2[[#This Row],[NIVEL ACADEMICO]]=\"OTRO\",1,IF(Tabla2[[#This Row],[NIVEL ACADEMICO]]=\"ESTUDIANTE\",1,IF(Tabla2[[#This Row],[NIVEL ACADEMICO]]=\"BACHILLER\",1,\"\")))","v":""},{"$f":"IF(Tabla2[[#This Row],[PROCEDENCIA]]=\"OTRO\",1,\"\")","v":""}]
["",{"$f":"IFERROR(IF(C234>0,VLOOKUP($F$5,DATA!$A$79:$B$160,2,FALSE),\"\"),\"\")","v":""},null,null,null,null,null,null,null,null,null,{"$f":"IF(Tabla2[[#This Row],[NIVEL ACADEMICO]]=\"OTRO\",1,IF(Tabla2[[#This Row],[NIVEL ACADEMICO]]=\"ESTUDIANTE\",1,IF(Tabla2[[#This Row],[NIVEL ACADEMICO]]=\"BACHILLER\",1,\"\")))","v":""},{"$f":"IF(Tabla2[[#This Row],[PROCEDENCIA]]=\"OTRO\",1,\"\")","v":""}]
["",{"$f":"IFERROR(IF(C235>0,VLOOKUP($F$5,DATA!$A$79:$B$160,2,FALSE),\"\"),\"\")","v":""},null,null,null,null,null,null,null,null,null,{"$f":"IF(Tabla2[[#This Row],[NIVEL ACADEMICO]]=\"OTRO\",1,IF(Tabla2[[#This Row],[NIVEL ACADEMICO]]=\"ESTUDIANTE\",1,IF(Tabla2[[#This Row],[NIVEL ACADEMICO]]=\"BACHILLER\",1,\"\")))","v":""},{"$f":"IF(Tabla2[[#This Row],[PROCEDENCIA]]=\"OTRO\",1,\"\")","v":""}]
["",{"$f":"IFERROR(IF(C236>0,VLOOKUP($F$5,DATA!$A$79:$B$160,2,FALSE),\"\"),\"\")","v":""},null,null,null,null,null,null,null,null,null,{"$f":"IF(Tabla2[[#This Row],[NIVEL ACADEMICO]]=\"OTRO\",1,IF(Tabla2[[#This Row],[NIVEL ACADEMICO]]=\"ESTUDIANTE\",1,IF(Tabla2[[#This Row],[NIVEL ACADEMICO]]=\"BACHILLER\",1,\"\")))","v":""},{"$f":"IF(Tabla2[[#This Row],[PROCEDENCIA]]=\"OTRO\",1,\"\")","v":""}]
[{"$f":"IF(C237>0,ROW()-8,\"\")","v":""},{"$f":"IFERROR(IF(C237>0,VLOOKUP($F$5,DATA!$A$79:$B$160,2,FALSE),\"\"),\"\")","v":""},null,null,null,null,null,null,null,null,null,{"$f":"IF(Tabla2[[#This Row],[NIVEL ACADEMICO]]=\"OTRO\",1,IF(Tabla2[[#This Row],[NIVEL ACADEMICO]]=\"ESTUDIANTE\",1,IF(Tabla2[[#This Row],[NIVEL ACADEMICO]]=\"BACHILLER\",1,\"\")))","v":""},{"$f":"IF(Tabla2[[#This Row],[PROCEDENCIA]]=\"OTRO\",1,\"\")","v":""}]
["",{"$f":"IFERROR(IF(C238>0,VLOOKUP($F$5,DATA!$A$79:$B$160,2,FALSE),\"\"),\"\")","v":""},null,null,null,null,null,null,null,null,null,{"$f":"IF(Tabla2[[#This Row],[NIVEL ACADEMICO]]=\"OTRO\",1,IF(Tabla2[[#This Row],[NIVEL ACADEMICO]]=\"ESTUDIANTE\",1,IF(Tabla2[[#This Row],[NIVEL ACADEMICO]]=\"BACHILLER\",1,\"\")))","v":""},{"$f":"IF(Tabla2[[#This Row],[PROCEDENCIA]]=\"OTRO\",1,\"\")","v":""}]
["",{"$f":"IFERROR(IF(C239>0,VLOOKUP($F$5,DATA!$A$79:$B$160,2,FALSE),\"\"),\"\")","v":""},null,null,null,null,null,null,null,null,null,{"$f":"IF(Tabla2[[#This Row],[NIVEL ACADEMICO]]=\"OTRO\",1,IF(Tabla2[[#This Row],[NIVEL ACADEMICO]]=\"ESTUDIANTE\",1,IF(Tabla2[[#This Row],[NIVEL ACADEMICO]]=\"BACHILLER\",1,\"\")))","v":""},{"$f":"IF(Tabla2[[#This Row],[PROCEDENCIA]]=\"OTRO\",1,\"\")","v":""}]
["",{"$f":"IFERROR(IF(C240>0,VLOOKUP($F$5,DATA!$A$79:$B$160,2,FALSE),\"\"),\"\")","v":""},null,null,null,null,null,null,null,null,null,{"$f":"IF(Tabla2[[#This Row],[NIVEL ACADEMICO]]=\"OTRO\",1,IF(Tabla2[[#This Row],[NIVEL ACADEMICO]]=\"ESTUDIANTE\",1,IF(Tabla2[[#This Row],[NIVEL ACADEMICO]]=\"BACHILLER\",1,\"\")))","v":""},{"$f":"IF(Tabla2[[#This Row],[PROCEDENCIA]]=\"OTRO\",1,\"\")","v":""}]
["",{"$f":"IFERROR(IF(C241>0,VLOOKUP($F$5,DATA!$A$79:$B$160,2,FALSE),\"\"),\"\")","v":""},null,null,null,null,null,null,null,null,null,{"$f":"IF(Tabla2[[#This Row],[NIVEL ACADEMICO]]=\"OTRO\",1,IF(Tabla2[[#This Row],[NIVEL ACADEMICO]]=\"ESTUDIANTE\",1,IF(Tabla2[[#This Row],[NIVEL ACADEMICO]]=\"BACHILLER\",1,\"\")))","v":""},{"$f":"IF(Tabla2[[#This Row],[PROCEDENCIA]]=\"OTRO\",1,\"\")","v":""}]
["",{"$f":"IFERROR(IF(C242>0,VLOOKUP($F$5,DATA!$A$79:$B$160,2,FALSE),\"\"),\"\")","v":""},null,null,null,null,null,null,null,null,null,{"$f":"IF(Tabla2[[#This Row],[NIVEL ACADEMICO]]=\"OTRO\",1,IF(Tabla2[[#This Row],[NIVEL ACADEMICO]]=\"ESTUDIANTE\",1,IF(Tabla2[[#This Row],[NIVEL ACADEMICO]]=\"BACHILLER\",1,\"\")))","v":""},{"$f":"IF(Tabla2[[#This Row],[PROCEDENCIA]]=\"OTRO\",1,\"\")","v":""}]
["",{"$f":"IFERROR(IF(C243>0,VLOOKUP($F$5,DATA!$A$79:$B$160,2,FALSE),\"\"),\"\")","v":""},null,null,null,null,null,null,null,null,null,{"$f":"IF(Tabla2[[#This Row],[NIVEL ACADEMICO]]=\"OTRO\",1,IF(Tabla2[[#This Row],[NIVEL ACADEMICO]]=\"ESTUDIANTE\",1,IF(Tabla2[[#This Row],[NIVEL ACADEMICO]]=\"BACHILLER\",1,\"\")))","v":""},{"$f":"IF(Tabla2[[#This Row],[PROCEDENCIA]]=\"OTRO\",1,\"\")","v":""}]
["",{"$f":"IFERROR(IF(C244>0,VLOOKUP($F$5,DATA!$A$79:$B$160,2,FALSE),\"\"),\"\")","v":""},null,null,null,null,null,null,null,null,null,{"$f":"IF(Tabla2[[#This Row],[NIVEL ACADEMICO]]=\"OTRO\",1,IF(Tabla2[[#This Row],[NIVEL ACADEMICO]]=\"ESTUDIANTE\",1,IF(Tabla2[[#This Row],[NIVEL ACADEMICO]]=\"BACHILLER\",1,\"\")))","v":""},{"$f":"IF(Tabla2[[#This Row],[PROCEDENCIA]]=\"OTRO\",1,\"\")","v":""}]
["",{"$f":"IFERROR(IF(C245>0,VLOOKUP($F$5,DATA!$A$79:$B$160,2,FALSE),\"\"),\"\")","v":""},null,null,null,null,null,null,null,null,null,{"$f":"IF(Tabla2[[#This Row],[NIVEL ACADEMICO]]=\"OTRO\",1,IF(Tabla2[[#This Row],[NIVEL ACADEMICO]]=\"ESTUDIANTE\",1,IF(Tabla2[[#This Row],[NIVEL ACADEMICO]]=\"BACHILLER\",1,\"\")))","v":""},{"$f":"IF(Tabla2[[#This Row],[PROCEDENCIA]]=\"OTRO\",1,\"\")","v":""}]
["",{"$f":"IFERROR(IF(C246>0,VLOOKUP($F$5,DATA!$A$79:$B$160,2,FALSE),\"\"),\"\")","v":""},null,null,null,null,null,null,null,null,null,{"$f":"IF(Tabla2[[#This Row],[NIVEL ACADEMICO]]=\"OTRO\",1,IF(Tabla2[[#This Row],[NIVEL ACADEMICO]]=\"ESTUDIANTE\",1,IF(Tabla2[[#This Row],[NIVEL ACADEMICO]]=\"BACHILLER\",1,\"\")))","v":""},{"$f":"IF(Tabla2[[#This Row],[PROCEDENCIA]]=\"OTRO\",1,\"\")","v":""}]
["",{"$f":"IFERROR(IF(C247>0,VLOOKUP($F$5,DATA!$A$79:$B$160,2,FALSE),\"\"),\"\")","v":""},null,null,null,null,null,null,null,null,null,{"$f":"IF(Tabla2[[#This Row],[NIVEL ACADEMICO]]=\"OTRO\",1,IF(Tabla2[[#This Row],[NIVEL ACADEMICO]]=\"ESTUDIANTE\",1,IF(Tabla2[[#This Row],[NIVEL ACADEMICO]]=\"BACHILLER\",1,\"\")))","v":""},{"$f":"IF(Tabla2[[#This Row],[PROCEDENCIA]]=\"OTRO\",1,\"\")","v":""}]
["",{"$f":"IFERROR(IF(C248>0,VLOOKUP($F$5,DATA!$A$79:$B$160,2,FALSE),\"\"),\"\")","v":""},null,null,null,null,null,null,null,null,null,{"$f":"IF(Tabla2[[#This Row],[NIVEL ACADEMICO]]=\"OTRO\",1,IF(Tabla2[[#This Row],[NIVEL ACADEMICO]]=\"ESTUDIANTE\",1,IF(Tabla2[[#This Row],[NIVEL ACADEMICO]]=\"BACHILLER\",1,\"\")))","v":""},{"$f":"IF(Tabla2[[#This Row],[PROCEDENCIA]]=\"OTRO\",1,\"\")","v":""}]
["",{"$f":"IFERROR(IF(C249>0,VLOOKUP($F$5,DATA!$A$79:$B$160,2,FALSE),\"\"),\"\")","v":""},null,null,null,null,null,null,null,null,null,{"$f":"IF(Tabla2[[#This Row],[NIVEL ACADEMICO]]=\"OTRO\",1,IF(Tabla2[[#This Row],[NIVEL ACADEMICO]]=\"ESTUDIANTE\",1,IF(Tabla2[[#This Row],[NIVEL ACADEMICO]]=\"BACHILLER\",1,\"\")))","v":""},{"$f":"IF(Tabla2[[#This Row],[PROCEDENCIA]]=\"OTRO\",1,\"\")","v":""}]
["",{"$f":"IFERROR(IF(C250>0,VLOOKUP($F$5,DATA!$A$79:$B$160,2,FALSE),\"\"),\"\")","v":""},null,null,null,null,null,null,null,null,null,{"$f":"IF(Tabla2[[#This Row],[NIVEL ACADEMICO]]=\"OTRO\",1,IF(Tabla2[[#This Row],[NIVEL ACADEMICO]]=\"ESTUDIANTE\",1,IF(Tabla2[[#This Row],[NIVEL ACADEMICO]]=\"BACHILLER\",1,\"\")))","v":""},{"$f":"IF(Tabla2[[#This Row],[PROCEDENCIA]]=\"OTRO\",1,\"\")","v":""}]
["",{"$f":"IFERROR(IF(C251>0,VLOOKUP($F$5,DATA!$A$79:$B$160,2,FALSE),\"\"),\"\")","v":""},null,null,null,null,null,null,null,null,null,{"$f":"IF(Tabla2[[#This Row],[NIVEL ACADEMICO]]=\"OTRO\",1,IF(Tabla2[[#This Row],[NIVEL ACADEMICO]]=\"ESTUDIANTE\",1,IF(Tabla2[[#This Row],[NIVEL ACADEMICO]]=\"BACHILLER\",1,\"\")))","v":""},{"$f":"IF(Tabla2[[#This Row],[PROCEDENCIA]]=\"OTRO\",1,\"\")","v":""}]
["",{"$f":"IFERROR(IF(C252>0,VLOOKUP($F$5,DATA!$A$79:$B$160,2,FALSE),\"\"),\"\")","v":""},null,null,null,null,null,null,null,null,null,{"$f":"IF(Tabla2[[#This Row],[NIVEL ACADEMICO]]=\"OTRO\",1,IF(Tabla2[[#This Row],[NIVEL ACADEMICO]]=\"ESTUDIANTE\",1,IF(Tabla2[[#This Row],[NIVEL ACADEMICO]]=\"BACHILLER\",1,\"\")))","v":""},{"$f":"IF(Tabla2[[#This Row],[PROCEDENCIA]]=\"OTRO\",1,\"\")","v":""}]
["",{"$f":"IFERROR(IF(C253>0,VLOOKUP($F$5,DATA!$A$79:$B$160,2,FALSE),\"\"),\"\")","v":""},null,null,null,null,null,null,null,null,null,{"$f":"IF(Tabla2[[#This Row],[NIVEL ACADEMICO]]=\"OTRO\",1,IF(Tabla2[[#This Row],[NIVEL ACADEMICO]]=\"ESTUDIANTE\",1,IF(Tabla2[[#This Row],[NIVEL ACADEMICO]]=\"BACHILLER\",1,\"\")))","v":""},{"$f":"IF(Tabla2[[#This Row],[PROCEDENCIA]]=\"OTRO\",1,\"\")","v":""}]
["",{"$f":"IFERROR(IF(C254>0,VLOOKUP($F$5,DATA!$A$79:$B$160,2,FALSE),\"\"),\"\")","v":""},null,null,null,null,null,null,null,null,null,{"$f":"IF(Tabla2[[#This Row],[NIVEL ACADEMICO]]=\"OTRO\",1,IF(Tabla2[[#This Row],[NIVEL ACADEMICO]]=\"ESTUDIANTE\",1,IF(Tabla2[[#This Row],[NIVEL ACADEMICO]]=\"BACHILLER\",1,\"\")))","v":""},{"$f":"IF(Tabla2[[#This Row],[PROCEDENCIA]]=\"OTRO\",1,\"\")","v":""}]
["",{"$f":"IFERROR(IF(C255>0,VLOOKUP($F$5,DATA!$A$79:$B$160,2,FALSE),\"\"),\"\")","v":""},null,null,null,null,null,null,null,null,null,{"$f":"IF(Tabla2[[#This Row],[NIVEL ACADEMICO]]=\"OTRO\",1,IF(Tabla2[[#This Row],[NIVEL ACADEMICO]]=\"ESTUDIANTE\",1,IF(Tabla2[[#This Row],[NIVEL ACADEMICO]]=\"BACHILLER\",1,\"\")))","v":""},{"$f":"IF(Tabla2[[#This Row],[PROCEDENCIA]]=\"OTRO\",1,\"\")","v":""}]
["",{"$f":"IFERROR(IF(C256>0,VLOOKUP($F$5,DATA!$A$79:$B$160,2,FALSE),\"\"),\"\")","v":""},null,null,null,null,null,null,null,null,null,{"$f":"IF(Tabla2[[#This Row],[NIVEL ACADEMICO]]=\"OTRO\",1,IF(Tabla2[[#This Row],[NIVEL ACADEMICO]]=\"ESTUDIANTE\",1,IF(Tabla2[[#This Row],[NIVEL ACADEMICO]]=\"BACHILLER\",1,\"\")))","v":""},{"$f":"IF(Tabla2[[#This Row],[PROCEDENCIA]]=\"OTRO\",1,\"\")","v":""}]
["",{"$f":"IFERROR(IF(C257>0,VLOOKUP($F$5,DATA!$A$79:$B$160,2,FALSE),\"\"),\"\")","v":""},null,null,null,null,null,null,null,null,null,{"$f":"IF(Tabla2[[#This Row],[NIVEL ACADEMICO]]=\"OTRO\",1,IF(Tabla2[[#This Row],[NIVEL ACADEMICO]]=\"ESTUDIANTE\",1,IF(Tabla2[[#This Row],[NIVEL ACADEMICO]]=\"BACHILLER\",1,\"\")))","v":""},{"$f":"IF(Tabla2[[#This Row],[PROCEDENCIA]]=\"OTRO\",1,\"\")","v":""}]
["",{"$f":"IFERROR(IF(C258>0,VLOOKUP($F$5,DATA!$A$79:$B$160,2,FALSE),\"\"),\"\")","v":""},null,null,null,null,null,null,null,null,null,{"$f":"IF(Tabla2[[#This Row],[NIVEL ACADEMICO]]=\"OTRO\",1,IF(Tabla2[[#This Row],[NIVEL ACADEMICO]]=\"ESTUDIANTE\",1,IF(Tabla2[[#This Row],[NIVEL ACADEMICO]]=\"BACHILLER\",1,\"\")))","v":""},{"$f":"IF(Tabla2[[#This Row],[PROCEDENCIA]]=\"OTRO\",1,\"\")","v":""}]
["",{"$f":"IFERROR(IF(C259>0,VLOOKUP($F$5,DATA!$A$79:$B$160,2,FALSE),\"\"),\"\")","v":""},null,null,null,null,null,null,null,null,null,{"$f":"IF(Tabla2[[#This Row],[NIVEL ACADEMICO]]=\"OTRO\",1,IF(Tabla2[[#This Row],[NIVEL ACADEMICO]]=\"ESTUDIANTE\",1,IF(Tabla2[[#This Row],[NIVEL ACADEMICO]]=\"BACHILLER\",1,\"\")))","v":""},{"$f":"IF(Tabla2[[#This Row],[PROCEDENCIA]]=\"OTRO\",1,\"\")","v":""}]
["",{"$f":"IFERROR(IF(C260>0,VLOOKUP($F$5,DATA!$A$79:$B$160,2,FALSE),\"\"),\"\")","v":""},null,null,null,null,null,null,null,null,null,{"$f":"IF(Tabla2[[#This Row],[NIVEL ACADEMICO]]=\"OTRO\",1,IF(Tabla2[[#This Row],[NIVEL ACADEMICO]]=\"ESTUDIANTE\",1,IF(Tabla2[[#This Row],[NIVEL ACADEMICO]]=\"BACHILLER\",1,\"\")))","v":""},{"$f":"IF(Tabla2[[#This Row],[PROCEDENCIA]]=\"OTRO\",1,\"\")","v":""}]
["",{"$f":"IFERROR(IF(C261>0,VLOOKUP($F$5,DATA!$A$79:$B$160,2,FALSE),\"\"),\"\")","v":""},null,null,null,null,null,null,null,null,null,{"$f":"IF(Tabla2[[#This Row],[NIVEL ACADEMICO]]=\"OTRO\",1,IF(Tabla2[[#This Row],[NIVEL ACADEMICO]]=\"ESTUDIANTE\",1,IF(Tabla2[[#This Row],[NIVEL ACADEMICO]]=\"BACHILLER\",1,\"\")))","v":""},{"$f":"IF(Tabla2[[#This Row],[PROCEDENCIA]]=\"OTRO\",1,\"\")","v":""}]
["",{"$f":"IFERROR(IF(C262>0,VLOOKUP($F$5,DATA!$A$79:$B$160,2,FALSE),\"\"),\"\")","v":""},null,null,null,null,null,null,null,null,null,{"$f":"IF(Tabla2[[#This Row],[NIVEL ACADEMICO]]=\"OTRO\",1,IF(Tabla2[[#This Row],[NIVEL ACADEMICO]]=\"ESTUDIANTE\",1,IF(Tabla2[[#This Row],[NIVEL ACADEMICO]]=\"BACHILLER\",1,\"\")))","v":""},{"$f":"IF(Tabla2[[#This Row],[PROCEDENCIA]]=\"OTRO\",1,\"\")","v":""}]
["",{"$f":"IFERROR(IF(C263>0,VLOOKUP($F$5,DATA!$A$79:$B$160,2,FALSE),\"\"),\"\")","v":""},null,null,null,null,null,null,null,null,null,{"$f":"IF(Tabla2[[#This Row],[NIVEL ACADEMICO]]=\"OTRO\",1,IF(Tabla2[[#This Row],[NIVEL ACADEMICO]]=\"ESTUDIANTE\",1,IF(Tabla2[[#This Row],[NIVEL ACADEMICO]]=\"BACHILLER\",1,\"\")))","v":""},{"$f":"IF(Tabla2[[#This Row],[PROCEDENCIA]]=\"OTRO\",1,\"\")","v":""}]
["",{"$f":"IFERROR(IF(C264>0,VLOOKUP($F$5,DATA!$A$79:$B$160,2,FALSE),\"\"),\"\")","v":""},null,null,null,null,null,null,null,null,null,{"$f":"IF(Tabla2[[#This Row],[NIVEL ACADEMICO]]=\"OTRO\",1,IF(Tabla2[[#This Row],[NIVEL ACADEMICO]]=\"ESTUDIANTE\",1,IF(Tabla2[[#This Row],[NIVEL ACADEMICO]]=\"BACHILLER\",1,\"\")))","v":""},{"$f":"IF(Tabla2[[#This Row],[PROCEDENCIA]]=\"OTRO\",1,\"\")","v":""}]
["",{"$f":"IFERROR(IF(C265>0,VLOOKUP($F$5,DATA!$A$79:$B$160,2,FALSE),\"\"),\"\")","v":""},null,null,null,null,null,null,null,null,null,{"$f":"IF(Tabla2[[#This Row],[NIVEL ACADEMICO]]=\"OTRO\",1,IF(Tabla2[[#This Row],[NIVEL ACADEMICO]]=\"ESTUDIANTE\",1,IF(Tabla2[[#This Row],[NIVEL ACADEMICO]]=\"BACHILLER\",1,\"\")))","v":""},{"$f":"IF(Tabla2[[#This Row],[PROCEDENCIA]]=\"OTRO\",1,\"\")","v":""}]
["",{"$f":"IFERROR(IF(C266>0,VLOOKUP($F$5,DATA!$A$79:$B$160,2,FALSE),\"\"),\"\")","v":""},null,null,null,null,null,null,null,null,null,{"$f":"IF(Tabla2[[#This Row],[NIVEL ACADEMICO]]=\"OTRO\",1,IF(Tabla2[[#This Row],[NIVEL ACADEMICO]]=\"ESTUDIANTE\",1,IF(Tabla2[[#This Row],[NIVEL ACADEMICO]]=\"BACHILLER\",1,\"\")))","v":""},{"$f":"IF(Tabla2[[#This Row],[PROCEDENCIA]]=\"OTRO\",1,\"\")","v":""}]
["",{"$f":"IFERROR(IF(C267>0,VLOOKUP($F$5,DATA!$A$79:$B$160,2,FALSE),\"\"),\"\")","v":""},null,null,null,null,null,null,null,null,null,{"$f":"IF(Tabla2[[#This Row],[NIVEL ACADEMICO]]=\"OTRO\",1,IF(Tabla2[[#This Row],[NIVEL ACADEMICO]]=\"ESTUDIANTE\",1,IF(Tabla2[[#This Row],[NIVEL ACADEMICO]]=\"BACHILLER\",1,\"\")))","v":""},{"$f":"IF(Tabla2[[#This Row],[PROCEDENCIA]]=\"OTRO\",1,\"\")","v":""}]
["",{"$f":"IFERROR(IF(C268>0,VLOOKUP($F$5,DATA!$A$79:$B$160,2,FALSE),\"\"),\"\")","v":""},null,null,null,null,null,null,null,null,null,{"$f":"IF(Tabla2[[#This Row],[NIVEL ACADEMICO]]=\"OTRO\",1,IF(Tabla2[[#This Row],[NIVEL ACADEMICO]]=\"ESTUDIANTE\",1,IF(Tabla2[[#This Row],[NIVEL ACADEMICO]]=\"BACHILLER\",1,\"\")))","v":""},{"$f":"IF(Tabla2[[#This Row],[PROCEDENCIA]]=\"OTRO\",1,\"\")","v":""}]
[{"$f":"IF(C269>0,ROW()-8,\"\")","v":""},{"$f":"IFERROR(IF(C269>0,VLOOKUP($F$5,DATA!$A$79:$B$160,2,FALSE),\"\"),\"\")","v":""},null,null,null,null,null,null,null,null,null,{"$f":"IF(Tabla2[[#This Row],[NIVEL ACADEMICO]]=\"OTRO\",1,IF(Tabla2[[#This Row],[NIVEL ACADEMICO]]=\"ESTUDIANTE\",1,IF(Tabla2[[#This Row],[NIVEL ACADEMICO]]=\"BACHILLER\",1,\"\")))","v":""},{"$f":"IF(Tabla2[[#This Row],[PROCEDENCIA]]=\"OTRO\",1,\"\")","v":""}]
["",{"$f":"IFERROR(IF(C270>0,VLOOKUP($F$5,DATA!$A$79:$B$160,2,FALSE),\"\"),\"\")","v":""},null,null,null,null,null,null,null,null,null,{"$f":"IF(Tabla2[[#This Row],[NIVEL ACADEMICO]]=\"OTRO\",1,IF(Tabla2[[#This Row],[NIVEL ACADEMICO]]=\"ESTUDIANTE\",1,IF(Tabla2[[#This Row],[NIVEL ACADEMICO]]=\"BACHILLER\",1,\"\")))","v":""},{"$f":"IF(Tabla2[[#This Row],[PROCEDENCIA]]=\"OTRO\",1,\"\")","v":""}]
["",{"$f":"IFERROR(IF(C271>0,VLOOKUP($F$5,DATA!$A$79:$B$160,2,FALSE),\"\"),\"\")","v":""},null,null,null,null,null,null,null,null,null,{"$f":"IF(Tabla2[[#This Row],[NIVEL ACADEMICO]]=\"OTRO\",1,IF(Tabla2[[#This Row],[NIVEL ACADEMICO]]=\"ESTUDIANTE\",1,IF(Tabla2[[#This Row],[NIVEL ACADEMICO]]=\"BACHILLER\",1,\"\")))","v":""},{"$f":"IF(Tabla2[[#This Row],[PROCEDENCIA]]=\"OTRO\",1,\"\")","v":""}]
["",{"$f":"IFERROR(IF(C272>0,VLOOKUP($F$5,DATA!$A$79:$B$160,2,FALSE),\"\"),\"\")","v":""},null,null,null,null,null,null,null,null,null,{"$f":"IF(Tabla2[[#This Row],[NIVEL ACADEMICO]]=\"OTRO\",1,IF(Tabla2[[#This Row],[NIVEL ACADEMICO]]=\"ESTUDIANTE\",1,IF(Tabla2[[#This Row],[NIVEL ACADEMICO]]=\"BACHILLER\",1,\"\")))","v":""},{"$f":"IF(Tabla2[[#This Row],[PROCEDENCIA]]=\"OTRO\",1,\"\")","v":""}]
["",{"$f":"IFERROR(IF(C273>0,VLOOKUP($F$5,DATA!$A$79:$B$160,2,FALSE),\"\"),\"\")","v":""},null,null,null,null,null,null,null,null,null,{"$f":"IF(Tabla2[[#This Row],[NIVEL ACADEMICO]]=\"OTRO\",1,IF(Tabla2[[#This Row],[NIVEL ACADEMICO]]=\"ESTUDIANTE\",1,IF(Tabla2[[#This Row],[NIVEL ACADEMICO]]=\"BACHILLER\",1,\"\")))","v":""},{"$f":"IF(Tabla2[[#This Row],[PROCEDENCIA]]=\"OTRO\",1,\"\")","v":""}]
["",{"$f":"IFERROR(IF(C274>0,VLOOKUP($F$5,DATA!$A$79:$B$160,2,FALSE),\"\"),\"\")","v":""},null,null,null,null,null,null,null,null,null,{"$f":"IF(Tabla2[[#This Row],[NIVEL ACADEMICO]]=\"OTRO\",1,IF(Tabla2[[#This Row],[NIVEL ACADEMICO]]=\"ESTUDIANTE\",1,IF(Tabla2[[#This Row],[NIVEL ACADEMICO]]=\"BACHILLER\",1,\"\")))","v":""},{"$f":"IF(Tabla2[[#This Row],[PROCEDENCIA]]=\"OTRO\",1,\"\")","v":""}]
["",{"$f":"IFERROR(IF(C275>0,VLOOKUP($F$5,DATA!$A$79:$B$160,2,FALSE),\"\"),\"\")","v":""},null,null,null,null,null,null,null,null,null,{"$f":"IF(Tabla2[[#This Row],[NIVEL ACADEMICO]]=\"OTRO\",1,IF(Tabla2[[#This Row],[NIVEL ACADEMICO]]=\"ESTUDIANTE\",1,IF(Tabla2[[#This Row],[NIVEL ACADEMICO]]=\"BACHILLER\",1,\"\")))","v":""},{"$f":"IF(Tabla2[[#This Row],[PROCEDENCIA]]=\"OTRO\",1,\"\")","v":""}]
["",{"$f":"IFERROR(IF(C276>0,VLOOKUP($F$5,DATA!$A$79:$B$160,2,FALSE),\"\"),\"\")","v":""},null,null,null,null,null,null,null,null,null,{"$f":"IF(Tabla2[[#This Row],[NIVEL ACADEMICO]]=\"OTRO\",1,IF(Tabla2[[#This Row],[NIVEL ACADEMICO]]=\"ESTUDIANTE\",1,IF(Tabla2[[#This Row],[NIVEL ACADEMICO]]=\"BACHILLER\",1,\"\")))","v":""},{"$f":"IF(Tabla2[[#This Row],[PROCEDENCIA]]=\"OTRO\",1,\"\")","v":""}]
["",{"$f":"IFERROR(IF(C277>0,VLOOKUP($F$5,DATA!$A$79:$B$160,2,FALSE),\"\"),\"\")","v":""},null,null,null,null,null,null,null,null,null,{"$f":"IF(Tabla2[[#This Row],[NIVEL ACADEMICO]]=\"OTRO\",1,IF(Tabla2[[#This Row],[NIVEL ACADEMICO]]=\"ESTUDIANTE\",1,IF(Tabla2[[#This Row],[NIVEL ACADEMICO]]=\"BACHILLER\",1,\"\")))","v":""},{"$f":"IF(Tabla2[[#This Row],[PROCEDENCIA]]=\"OTRO\",1,\"\")","v":""}]
["",{"$f":"IFERROR(IF(C278>0,VLOOKUP($F$5,DATA!$A$79:$B$160,2,FALSE),\"\"),\"\")","v":""},null,null,null,null,null,null,null,null,null,{"$f":"IF(Tabla2[[#This Row],[NIVEL ACADEMICO]]=\"OTRO\",1,IF(Tabla2[[#This Row],[NIVEL ACADEMICO]]=\"ESTUDIANTE\",1,IF(Tabla2[[#This Row],[NIVEL ACADEMICO]]=\"BACHILLER\",1,\"\")))","v":""},{"$f":"IF(Tabla2[[#This Row],[PROCEDENCIA]]=\"OTRO\",1,\"\")","v":""}]
["",{"$f":"IFERROR(IF(C279>0,VLOOKUP($F$5,DATA!$A$79:$B$160,2,FALSE),\"\"),\"\")","v":""},null,null,null,null,null,null,null,null,null,{"$f":"IF(Tabla2[[#This Row],[NIVEL ACADEMICO]]=\"OTRO\",1,IF(Tabla2[[#This Row],[NIVEL ACADEMICO]]=\"ESTUDIANTE\",1,IF(Tabla2[[#This Row],[NIVEL ACADEMICO]]=\"BACHILLER\",1,\"\")))","v":""},{"$f":"IF(Tabla2[[#This Row],[PROCEDENCIA]]=\"OTRO\",1,\"\")","v":""}]
["",{"$f":"IFERROR(IF(C280>0,VLOOKUP($F$5,DATA!$A$79:$B$160,2,FALSE),\"\"),\"\")","v":""},null,null,null,null,null,null,null,null,null,{"$f":"IF(Tabla2[[#This Row],[NIVEL ACADEMICO]]=\"OTRO\",1,IF(Tabla2[[#This Row],[NIVEL ACADEMICO]]=\"ESTUDIANTE\",1,IF(Tabla2[[#This Row],[NIVEL ACADEMICO]]=\"BACHILLER\",1,\"\")))","v":""},{"$f":"IF(Tabla2[[#This Row],[PROCEDENCIA]]=\"OTRO\",1,\"\")","v":""}]
["",{"$f":"IFERROR(IF(C281>0,VLOOKUP($F$5,DATA!$A$79:$B$160,2,FALSE),\"\"),\"\")","v":""},null,null,null,null,null,null,null,null,null,{"$f":"IF(Tabla2[[#This Row],[NIVEL ACADEMICO]]=\"OTRO\",1,IF(Tabla2[[#This Row],[NIVEL ACADEMICO]]=\"ESTUDIANTE\",1,IF(Tabla2[[#This Row],[NIVEL ACADEMICO]]=\"BACHILLER\",1,\"\")))","v":""},{"$f":"IF(Tabla2[[#This Row],[PROCEDENCIA]]=\"OTRO\",1,\"\")","v":""}]
["",{"$f":"IFERROR(IF(C282>0,VLOOKUP($F$5,DATA!$A$79:$B$160,2,FALSE),\"\"),\"\")","v":""},null,null,null,null,null,null,null,null,null,{"$f":"IF(Tabla2[[#This Row],[NIVEL ACADEMICO]]=\"OTRO\",1,IF(Tabla2[[#This Row],[NIVEL ACADEMICO]]=\"ESTUDIANTE\",1,IF(Tabla2[[#This Row],[NIVEL ACADEMICO]]=\"BACHILLER\",1,\"\")))","v":""},{"$f":"IF(Tabla2[[#This Row],[PROCEDENCIA]]=\"OTRO\",1,\"\")","v":""}]
["",{"$f":"IFERROR(IF(C283>0,VLOOKUP($F$5,DATA!$A$79:$B$160,2,FALSE),\"\"),\"\")","v":""},null,null,null,null,null,null,null,null,null,{"$f":"IF(Tabla2[[#This Row],[NIVEL ACADEMICO]]=\"OTRO\",1,IF(Tabla2[[#This Row],[NIVEL ACADEMICO]]=\"ESTUDIANTE\",1,IF(Tabla2[[#This Row],[NIVEL ACADEMICO]]=\"BACHILLER\",1,\"\")))","v":""},{"$f":"IF(Tabla2[[#This Row],[PROCEDENCIA]]=\"OTRO\",1,\"\")","v":""}]
["",{"$f":"IFERROR(IF(C284>0,VLOOKUP($F$5,DATA!$A$79:$B$160,2,FALSE),\"\"),\"\")","v":""},null,null,null,null,null,null,null,null,null,{"$f":"IF(Tabla2[[#This Row],[NIVEL ACADEMICO]]=\"OTRO\",1,IF(Tabla2[[#This Row],[NIVEL ACADEMICO]]=\"ESTUDIANTE\",1,IF(Tabla2[[#This Row],[NIVEL ACADEMICO]]=\"BACHILLER\",1,\"\")))","v":""},{"$f":"IF(Tabla2[[#This Row],[PROCEDENCIA]]=\"OTRO\",1,\"\")","v":""}]
["",{"$f":"IFERROR(IF(C285>0,VLOOKUP($F$5,DATA!$A$79:$B$160,2,FALSE),\"\"),\"\")","v":""},null,null,null,null,null,null,null,null,null,{"$f":"IF(Tabla2[[#This Row],[NIVEL ACADEMICO]]=\"OTRO\",1,IF(Tabla2[[#This Row],[NIVEL ACADEMICO]]=\"ESTUDIANTE\",1,IF(Tabla2[[#This Row],[NIVEL ACADEMICO]]=\"BACHILLER\",1,\"\")))","v":""},{"$f":"IF(Tabla2[[#This Row],[PROCEDENCIA]]=\"OTRO\",1,\"\")","v":""}]
["",{"$f":"IFERROR(IF(C286>0,VLOOKUP($F$5,DATA!$A$79:$B$160,2,FALSE),\"\"),\"\")","v":""},null,null,null,null,null,null,null,null,null,{"$f":"IF(Tabla2[[#This Row],[NIVEL ACADEMICO]]=\"OTRO\",1,IF(Tabla2[[#This Row],[NIVEL ACADEMICO]]=\"ESTUDIANTE\",1,IF(Tabla2[[#This Row],[NIVEL ACADEMICO]]=\"BACHILLER\",1,\"\")))","v":""},{"$f":"IF(Tabla2[[#This Row],[PROCEDENCIA]]=\"OTRO\",1,\"\")","v":""}]
["",{"$f":"IFERROR(IF(C287>0,VLOOKUP($F$5,DATA!$A$79:$B$160,2,FALSE),\"\"),\"\")","v":""},null,null,null,null,null,null,null,null,null,{"$f":"IF(Tabla2[[#This Row],[NIVEL ACADEMICO]]=\"OTRO\",1,IF(Tabla2[[#This Row],[NIVEL ACADEMICO]]=\"ESTUDIANTE\",1,IF(Tabla2[[#This Row],[NIVEL ACADEMICO]]=\"BACHILLER\",1,\"\")))","v":""},{"$f":"IF(Tabla2[[#This Row],[PROCEDENCIA]]=\"OTRO\",1,\"\")","v":""}]
["",{"$f":"IFERROR(IF(C288>0,VLOOKUP($F$5,DATA!$A$79:$B$160,2,FALSE),\"\"),\"\")","v":""},null,null,null,null,null,null,null,null,null,{"$f":"IF(Tabla2[[#This Row],[NIVEL ACADEMICO]]=\"OTRO\",1,IF(Tabla2[[#This Row],[NIVEL ACADEMICO]]=\"ESTUDIANTE\",1,IF(Tabla2[[#This Row],[NIVEL ACADEMICO]]=\"BACHILLER\",1,\"\")))","v":""},{"$f":"IF(Tabla2[[#This Row],[PROCEDENCIA]]=\"OTRO\",1,\"\")","v":""}]
["",{"$f":"IFERROR(IF(C289>0,VLOOKUP($F$5,DATA!$A$79:$B$160,2,FALSE),\"\"),\"\")","v":""},null,null,null,null,null,null,null,null,null,{"$f":"IF(Tabla2[[#This Row],[NIVEL ACADEMICO]]=\"OTRO\",1,IF(Tabla2[[#This Row],[NIVEL ACADEMICO]]=\"ESTUDIANTE\",1,IF(Tabla2[[#This Row],[NIVEL ACADEMICO]]=\"BACHILLER\",1,\"\")))","v":""},{"$f":"IF(Tabla2[[#This Row],[PROCEDENCIA]]=\"OTRO\",1,\"\")","v":""}]
["",{"$f":"IFERROR(IF(C290>0,VLOOKUP($F$5,DATA!$A$79:$B$160,2,FALSE),\"\"),\"\")","v":""},null,null,null,null,null,null,null,null,null,{"$f":"IF(Tabla2[[#This Row],[NIVEL ACADEMICO]]=\"OTRO\",1,IF(Tabla2[[#This Row],[NIVEL ACADEMICO]]=\"ESTUDIANTE\",1,IF(Tabla2[[#This Row],[NIVEL ACADEMICO]]=\"BACHILLER\",1,\"\")))","v":""},{"$f":"IF(Tabla2[[#This Row],[PROCEDENCIA]]=\"OTRO\",1,\"\")","v":""}]
["",{"$f":"IFERROR(IF(C291>0,VLOOKUP($F$5,DATA!$A$79:$B$160,2,FALSE),\"\"),\"\")","v":""},null,null,null,null,null,null,null,null,null,{"$f":"IF(Tabla2[[#This Row],[NIVEL ACADEMICO]]=\"OTRO\",1,IF(Tabla2[[#This Row],[NIVEL ACADEMICO]]=\"ESTUDIANTE\",1,IF(Tabla2[[#This Row],[NIVEL ACADEMICO]]=\"BACHILLER\",1,\"\")))","v":""},{"$f":"IF(Tabla2[[#This Row],[PROCEDENCIA]]=\"OTRO\",1,\"\")","v":""}]
["",{"$f":"IFERROR(IF(C292>0,VLOOKUP($F$5,DATA!$A$79:$B$160,2,FALSE),\"\"),\"\")","v":""},null,null,null,null,null,null,null,null,null,{"$f":"IF(Tabla2[[#This Row],[NIVEL ACADEMICO]]=\"OTRO\",1,IF(Tabla2[[#This Row],[NIVEL ACADEMICO]]=\"ESTUDIANTE\",1,IF(Tabla2[[#This Row],[NIVEL ACADEMICO]]=\"BACHILLER\",1,\"\")))","v":""},{"$f":"IF(Tabla2[[#This Row],[PROCEDENCIA]]=\"OTRO\",1,\"\")","v":""}]
["",{"$f":"IFERROR(IF(C293>0,VLOOKUP($F$5,DATA!$A$79:$B$160,2,FALSE),\"\"),\"\")","v":""},null,null,null,null,null,null,null,null,null,{"$f":"IF(Tabla2[[#This Row],[NIVEL ACADEMICO]]=\"OTRO\",1,IF(Tabla2[[#This Row],[NIVEL ACADEMICO]]=\"ESTUDIANTE\",1,IF(Tabla2[[#This Row],[NIVEL ACADEMICO]]=\"BACHILLER\",1,\"\")))","v":""},{"$f":"IF(Tabla2[[#This Row],[PROCEDENCIA]]=\"OTRO\",1,\"\")","v":""}]
["",{"$f":"IFERROR(IF(C294>0,VLOOKUP($F$5,DATA!$A$79:$B$160,2,FALSE),\"\"),\"\")","v":""},null,null,null,null,null,null,null,null,null,{"$f":"IF(Tabla2[[#This Row],[NIVEL ACADEMICO]]=\"OTRO\",1,IF(Tabla2[[#This Row],[NIVEL ACADEMICO]]=\"ESTUDIANTE\",1,IF(Tabla2[[#This Row],[NIVEL ACADEMICO]]=\"BACHILLER\",1,\"\")))","v":""},{"$f":"IF(Tabla2[[#This Row],[PROCEDENCIA]]=\"OTRO\",1,\"\")","v":""}]
["",{"$f":"IFERROR(IF(C295>0,VLOOKUP($F$5,DATA!$A$79:$B$160,2,FALSE),\"\"),\"\")","v":""},null,null,null,null,null,null,null,null,null,{"$f":"IF(Tabla2[[#This Row],[NIVEL ACADEMICO]]=\"OTRO\",1,IF(Tabla2[[#This Row],[NIVEL ACADEMICO]]=\"ESTUDIANTE\",1,IF(Tabla2[[#This Row],[NIVEL ACADEMICO]]=\"BACHILLER\",1,\"\")))","v":""},{"$f":"IF(Tabla2[[#This Row],[PROCEDENCIA]]=\"OTRO\",1,\"\")","v":""}]
["",{"$f":"IFERROR(IF(C296>0,VLOOKUP($F$5,DATA!$A$79:$B$160,2,FALSE),\"\"),\"\")","v":""},null,null,null,null,null,null,null,null,null,{"$f":"IF(Tabla2[[#This Row],[NIVEL ACADEMICO]]=\"OTRO\",1,IF(Tabla2[[#This Row],[NIVEL ACADEMICO]]=\"ESTUDIANTE\",1,IF(Tabla2[[#This Row],[NIVEL ACADEMICO]]=\"BACHILLER\",1,\"\")))","v":""},{"$f":"IF(Tabla2[[#This Row],[PROCEDENCIA]]=\"OTRO\",1,\"\")","v":""}]
["",{"$f":"IFERROR(IF(C297>0,VLOOKUP($F$5,DATA!$A$79:$B$160,2,FALSE),\"\"),\"\")","v":""},null,null,null,null,null,null,null,null,null,{"$f":"IF(Tabla2[[#This Row],[NIVEL ACADEMICO]]=\"OTRO\",1,IF(Tabla2[[#This Row],[NIVEL ACADEMICO]]=\"ESTUDIANTE\",1,IF(Tabla2[[#This Row],[NIVEL ACADEMICO]]=\"BACHILLER\",1,\"\")))","v":""},{"$f":"IF(Tabla2[[#This Row],[PROCEDENCIA]]=\"OTRO\",1,\"\")","v":""}]
["",{"$f":"IFERROR(IF(C298>0,VLOOKUP($F$5,DATA!$A$79:$B$160,2,FALSE),\"\"),\"\")","v":""},null,null,null,null,null,null,null,null,null,{"$f":"IF(Tabla2[[#This Row],[NIVEL ACADEMICO]]=\"OTRO\",1,IF(Tabla2[[#This Row],[NIVEL ACADEMICO]]=\"ESTUDIANTE\",1,IF(Tabla2[[#This Row],[NIVEL ACADEMICO]]=\"BACHILLER\",1,\"\")))","v":""},{"$f":"IF(Tabla2[[#This Row],[PROCEDENCIA]]=\"OTRO\",1,\"\")","v":""}]
["",{"$f":"IFERROR(IF(C299>0,VLOOKUP($F$5,DATA!$A$79:$B$160,2,FALSE),\"\"),\"\")","v":""},null,null,null,null,null,null,null,null,null,{"$f":"IF(Tabla2[[#This Row],[NIVEL ACADEMICO]]=\"OTRO\",1,IF(Tabla2[[#This Row],[NIVEL ACADEMICO]]=\"ESTUDIANTE\",1,IF(Tabla2[[#This Row],[NIVEL ACADEMICO]]=\"BACHILLER\",1,\"\")))","v":""},{"$f":"IF(Tabla2[[#This Row],[PROCEDENCIA]]=\"OTRO\",1,\"\")","v":""}]
["",{"$f":"IFERROR(IF(C300>0,VLOOKUP($F$5,DATA!$A$79:$B$160,2,FALSE),\"\"),\"\")","v":""},null,null,null,null,null,null,null,null,null,{"$f":"IF(Tabla2[[#This Row],[NIVEL ACADEMICO]]=\"OTRO\",1,IF(Tabla2[[#This Row],[NIVEL ACADEMICO]]=\"ESTUDIANTE\",1,IF(Tabla2[[#This Row],[NIVEL ACADEMICO]]=\"BACHILLER\",1,\"\")))","v":""},{"$f":"IF(Tabla2[[#This Row],[PROCEDENCIA]]=\"OTRO\",1,\"\")","v":""}]
[{"$f":"IF(C301>0,ROW()-8,\"\")","v":""},{"$f":"IFERROR(IF(C301>0,VLOOKUP($F$5,DATA!$A$79:$B$160,2,FALSE),\"\"),\"\")","v":""},null,null,null,null,null,null,null,null,null,{"$f":"IF(Tabla2[[#This Row],[NIVEL ACADEMICO]]=\"OTRO\",1,IF(Tabla2[[#This Row],[NIVEL ACADEMICO]]=\"ESTUDIANTE\",1,IF(Tabla2[[#This Row],[NIVEL ACADEMICO]]=\"BACHILLER\",1,\"\")))","v":""},{"$f":"IF(Tabla2[[#This Row],[PROCEDENCIA]]=\"OTRO\",1,\"\")","v":""}]
["",{"$f":"IFERROR(IF(C302>0,VLOOKUP($F$5,DATA!$A$79:$B$160,2,FALSE),\"\"),\"\")","v":""},null,null,null,null,null,null,null,null,null,{"$f":"IF(Tabla2[[#This Row],[NIVEL ACADEMICO]]=\"OTRO\",1,IF(Tabla2[[#This Row],[NIVEL ACADEMICO]]=\"ESTUDIANTE\",1,IF(Tabla2[[#This Row],[NIVEL ACADEMICO]]=\"BACHILLER\",1,\"\")))","v":""},{"$f":"IF(Tabla2[[#This Row],[PROCEDENCIA]]=\"OTRO\",1,\"\")","v":""}]
["",{"$f":"IFERROR(IF(C303>0,VLOOKUP($F$5,DATA!$A$79:$B$160,2,FALSE),\"\"),\"\")","v":""},null,null,null,null,null,null,null,null,null,{"$f":"IF(Tabla2[[#This Row],[NIVEL ACADEMICO]]=\"OTRO\",1,IF(Tabla2[[#This Row],[NIVEL ACADEMICO]]=\"ESTUDIANTE\",1,IF(Tabla2[[#This Row],[NIVEL ACADEMICO]]=\"BACHILLER\",1,\"\")))","v":""},{"$f":"IF(Tabla2[[#This Row],[PROCEDENCIA]]=\"OTRO\",1,\"\")","v":""}]
["",{"$f":"IFERROR(IF(C304>0,VLOOKUP($F$5,DATA!$A$79:$B$160,2,FALSE),\"\"),\"\")","v":""},null,null,null,null,null,null,null,null,null,{"$f":"IF(Tabla2[[#This Row],[NIVEL ACADEMICO]]=\"OTRO\",1,IF(Tabla2[[#This Row],[NIVEL ACADEMICO]]=\"ESTUDIANTE\",1,IF(Tabla2[[#This Row],[NIVEL ACADEMICO]]=\"BACHILLER\",1,\"\")))","v":""},{"$f":"IF(Tabla2[[#This Row],[PROCEDENCIA]]=\"OTRO\",1,\"\")","v":""}]
["",{"$f":"IFERROR(IF(C305>0,VLOOKUP($F$5,DATA!$A$79:$B$160,2,FALSE),\"\"),\"\")","v":""},null,null,null,null,null,null,null,null,null,{"$f":"IF(Tabla2[[#This Row],[NIVEL ACADEMICO]]=\"OTRO\",1,IF(Tabla2[[#This Row],[NIVEL ACADEMICO]]=\"ESTUDIANTE\",1,IF(Tabla2[[#This Row],[NIVEL ACADEMICO]]=\"BACHILLER\",1,\"\")))","v":""},{"$f":"IF(Tabla2[[#This Row],[PROCEDENCIA]]=\"OTRO\",1,\"\")","v":""}]
["",{"$f":"IFERROR(IF(C306>0,VLOOKUP($F$5,DATA!$A$79:$B$160,2,FALSE),\"\"),\"\")","v":""},null,null,null,null,null,null,null,null,null,{"$f":"IF(Tabla2[[#This Row],[NIVEL ACADEMICO]]=\"OTRO\",1,IF(Tabla2[[#This Row],[NIVEL ACADEMICO]]=\"ESTUDIANTE\",1,IF(Tabla2[[#This Row],[NIVEL ACADEMICO]]=\"BACHILLER\",1,\"\")))","v":""},{"$f":"IF(Tabla2[[#This Row],[PROCEDENCIA]]=\"OTRO\",1,\"\")","v":""}]
["",{"$f":"IFERROR(IF(C307>0,VLOOKUP($F$5,DATA!$A$79:$B$160,2,FALSE),\"\"),\"\")","v":""},null,null,null,null,null,null,null,null,null,{"$f":"IF(Tabla2[[#This Row],[NIVEL ACADEMICO]]=\"OTRO\",1,IF(Tabla2[[#This Row],[NIVEL ACADEMICO]]=\"ESTUDIANTE\",1,IF(Tabla2[[#This Row],[NIVEL ACADEMICO]]=\"BACHILLER\",1,\"\")))","v":""},{"$f":"IF(Tabla2[[#This Row],[PROCEDENCIA]]=\"OTRO\",1,\"\")","v":""}]
["",{"$f":"IFERROR(IF(C308>0,VLOOKUP($F$5,DATA!$A$79:$B$160,2,FALSE),\"\"),\"\")","v":""},null,null,null,null,null,null,null,null,null,{"$f":"IF(Tabla2[[#This Row],[NIVEL ACADEMICO]]=\"OTRO\",1,IF(Tabla2[[#This Row],[NIVEL ACADEMICO]]=\"ESTUDIANTE\",1,IF(Tabla2[[#This Row],[NIVEL ACADEMICO]]=\"BACHILLER\",1,\"\")))","v":""},{"$f":"IF(Tabla2[[#This Row],[PROCEDENCIA]]=\"OTRO\",1,\"\")","v":""}]
["",{"$f":"IFERROR(IF(C309>0,VLOOKUP($F$5,DATA!$A$79:$B$160,2,FALSE),\"\"),\"\")","v":""},null,null,null,null,null,null,null,null,null,{"$f":"IF(Tabla2[[#This Row],[NIVEL ACADEMICO]]=\"OTRO\",1,IF(Tabla2[[#This Row],[NIVEL ACADEMICO]]=\"ESTUDIANTE\",1,IF(Tabla2[[#This Row],[NIVEL ACADEMICO]]=\"BACHILLER\",1,\"\")))","v":""},{"$f":"IF(Tabla2[[#This Row],[PROCEDENCIA]]=\"OTRO\",1,\"\")","v":""}]
["",{"$f":"IFERROR(IF(C310>0,VLOOKUP($F$5,DATA!$A$79:$B$160,2,FALSE),\"\"),\"\")","v":""},null,null,null,null,null,null,null,null,null,{"$f":"IF(Tabla2[[#This Row],[NIVEL ACADEMICO]]=\"OTRO\",1,IF(Tabla2[[#This Row],[NIVEL ACADEMICO]]=\"ESTUDIANTE\",1,IF(Tabla2[[#This Row],[NIVEL ACADEMICO]]=\"BACHILLER\",1,\"\")))","v":""},{"$f":"IF(Tabla2[[#This Row],[PROCEDENCIA]]=\"OTRO\",1,\"\")","v":""}]
["",{"$f":"IFERROR(IF(C311>0,VLOOKUP($F$5,DATA!$A$79:$B$160,2,FALSE),\"\"),\"\")","v":""},null,null,null,null,null,null,null,null,null,{"$f":"IF(Tabla2[[#This Row],[NIVEL ACADEMICO]]=\"OTRO\",1,IF(Tabla2[[#This Row],[NIVEL ACADEMICO]]=\"ESTUDIANTE\",1,IF(Tabla2[[#This Row],[NIVEL ACADEMICO]]=\"BACHILLER\",1,\"\")))","v":""},{"$f":"IF(Tabla2[[#This Row],[PROCEDENCIA]]=\"OTRO\",1,\"\")","v":""}]
["",{"$f":"IFERROR(IF(C312>0,VLOOKUP($F$5,DATA!$A$79:$B$160,2,FALSE),\"\"),\"\")","v":""},null,null,null,null,null,null,null,null,null,{"$f":"IF(Tabla2[[#This Row],[NIVEL ACADEMICO]]=\"OTRO\",1,IF(Tabla2[[#This Row],[NIVEL ACADEMICO]]=\"ESTUDIANTE\",1,IF(Tabla2[[#This Row],[NIVEL ACADEMICO]]=\"BACHILLER\",1,\"\")))","v":""},{"$f":"IF(Tabla2[[#This Row],[PROCEDENCIA]]=\"OTRO\",1,\"\")","v":""}]
["",{"$f":"IFERROR(IF(C313>0,VLOOKUP($F$5,DATA!$A$79:$B$160,2,FALSE),\"\"),\"\")","v":""},null,null,null,null,null,null,null,null,null,{"$f":"IF(Tabla2[[#This Row],[NIVEL ACADEMICO]]=\"OTRO\",1,IF(Tabla2[[#This Row],[NIVEL ACADEMICO]]=\"ESTUDIANTE\",1,IF(Tabla2[[#This Row],[NIVEL ACADEMICO]]=\"BACHILLER\",1,\"\")))","v":""},{"$f":"IF(Tabla2[[#This Row],[PROCEDENCIA]]=\"OTRO\",1,\"\")","v":""}]
["",{"$f":"IFERROR(IF(C314>0,VLOOKUP($F$5,DATA!$A$79:$B$160,2,FALSE),\"\"),\"\")","v":""},null,null,null,null,null,null,null,null,null,{"$f":"IF(Tabla2[[#This Row],[NIVEL ACADEMICO]]=\"OTRO\",1,IF(Tabla2[[#This Row],[NIVEL ACADEMICO]]=\"ESTUDIANTE\",1,IF(Tabla2[[#This Row],[NIVEL ACADEMICO]]=\"BACHILLER\",1,\"\")))","v":""},{"$f":"IF(Tabla2[[#This Row],[PROCEDENCIA]]=\"OTRO\",1,\"\")","v":""}]
["",{"$f":"IFERROR(IF(C315>0,VLOOKUP($F$5,DATA!$A$79:$B$160,2,FALSE),\"\"),\"\")","v":""},null,null,null,null,null,null,null,null,null,{"$f":"IF(Tabla2[[#This Row],[NIVEL ACADEMICO]]=\"OTRO\",1,IF(Tabla2[[#This Row],[NIVEL ACADEMICO]]=\"ESTUDIANTE\",1,IF(Tabla2[[#This Row],[NIVEL ACADEMICO]]=\"BACHILLER\",1,\"\")))","v":""},{"$f":"IF(Tabla2[[#This Row],[PROCEDENCIA]]=\"OTRO\",1,\"\")","v":""}]
["",{"$f":"IFERROR(IF(C316>0,VLOOKUP($F$5,DATA!$A$79:$B$160,2,FALSE),\"\"),\"\")","v":""},null,null,null,null,null,null,null,null,null,{"$f":"IF(Tabla2[[#This Row],[NIVEL ACADEMICO]]=\"OTRO\",1,IF(Tabla2[[#This Row],[NIVEL ACADEMICO]]=\"ESTUDIANTE\",1,IF(Tabla2[[#This Row],[NIVEL ACADEMICO]]=\"BACHILLER\",1,\"\")))","v":""},{"$f":"IF(Tabla2[[#This Row],[PROCEDENCIA]]=\"OTRO\",1,\"\")","v":""}]
["",{"$f":"IFERROR(IF(C317>0,VLOOKUP($F$5,DATA!$A$79:$B$160,2,FALSE),\"\"),\"\")","v":""},null,null,null,null,null,null,null,null,null,{"$f":"IF(Tabla2[[#This Row],[NIVEL ACADEMICO]]=\"OTRO\",1,IF(Tabla2[[#This Row],[NIVEL ACADEMICO]]=\"ESTUDIANTE\",1,IF(Tabla2[[#This Row],[NIVEL ACADEMICO]]=\"BACHILLER\",1,\"\")))","v":""},{"$f":"IF(Tabla2[[#This Row],[PROCEDENCIA]]=\"OTRO\",1,\"\")","v":""}]
["",{"$f":"IFERROR(IF(C318>0,VLOOKUP($F$5,DATA!$A$79:$B$160,2,FALSE),\"\"),\"\")","v":""},null,null,null,null,null,null,null,null,null,{"$f":"IF(Tabla2[[#This Row],[NIVEL ACADEMICO]]=\"OTRO\",1,IF(Tabla2[[#This Row],[NIVEL ACADEMICO]]=\"ESTUDIANTE\",1,IF(Tabla2[[#This Row],[NIVEL ACADEMICO]]=\"BACHILLER\",1,\"\")))","v":""},{"$f":"IF(Tabla2[[#This Row],[PROCEDENCIA]]=\"OTRO\",1,\"\")","v":""}]
["",{"$f":"IFERROR(IF(C319>0,VLOOKUP($F$5,DATA!$A$79:$B$160,2,FALSE),\"\"),\"\")","v":""},null,null,null,null,null,null,null,null,null,{"$f":"IF(Tabla2[[#This Row],[NIVEL ACADEMICO]]=\"OTRO\",1,IF(Tabla2[[#This Row],[NIVEL ACADEMICO]]=\"ESTUDIANTE\",1,IF(Tabla2[[#This Row],[NIVEL ACADEMICO]]=\"BACHILLER\",1,\"\")))","v":""},{"$f":"IF(Tabla2[[#This Row],[PROCEDENCIA]]=\"OTRO\",1,\"\")","v":""}]
["",{"$f":"IFERROR(IF(C320>0,VLOOKUP($F$5,DATA!$A$79:$B$160,2,FALSE),\"\"),\"\")","v":""},null,null,null,null,null,null,null,null,null,{"$f":"IF(Tabla2[[#This Row],[NIVEL ACADEMICO]]=\"OTRO\",1,IF(Tabla2[[#This Row],[NIVEL ACADEMICO]]=\"ESTUDIANTE\",1,IF(Tabla2[[#This Row],[NIVEL ACADEMICO]]=\"BACHILLER\",1,\"\")))","v":""},{"$f":"IF(Tabla2[[#This Row],[PROCEDENCIA]]=\"OTRO\",1,\"\")","v":""}]
["",{"$f":"IFERROR(IF(C321>0,VLOOKUP($F$5,DATA!$A$79:$B$160,2,FALSE),\"\"),\"\")","v":""},null,null,null,null,null,null,null,null,null,{"$f":"IF(Tabla2[[#This Row],[NIVEL ACADEMICO]]=\"OTRO\",1,IF(Tabla2[[#This Row],[NIVEL ACADEMICO]]=\"ESTUDIANTE\",1,IF(Tabla2[[#This Row],[NIVEL ACADEMICO]]=\"BACHILLER\",1,\"\")))","v":""},{"$f":"IF(Tabla2[[#This Row],[PROCEDENCIA]]=\"OTRO\",1,\"\")","v":""}]
["",{"$f":"IFERROR(IF(C322>0,VLOOKUP($F$5,DATA!$A$79:$B$160,2,FALSE),\"\"),\"\")","v":""},null,null,null,null,null,null,null,null,null,{"$f":"IF(Tabla2[[#This Row],[NIVEL ACADEMICO]]=\"OTRO\",1,IF(Tabla2[[#This Row],[NIVEL ACADEMICO]]=\"ESTUDIANTE\",1,IF(Tabla2[[#This Row],[NIVEL ACADEMICO]]=\"BACHILLER\",1,\"\")))","v":""},{"$f":"IF(Tabla2[[#This Row],[PROCEDENCIA]]=\"OTRO\",1,\"\")","v":""}]
["",{"$f":"IFERROR(IF(C323>0,VLOOKUP($F$5,DATA!$A$79:$B$160,2,FALSE),\"\"),\"\")","v":""},null,null,null,null,null,null,null,null,null,{"$f":"IF(Tabla2[[#This Row],[NIVEL ACADEMICO]]=\"OTRO\",1,IF(Tabla2[[#This Row],[NIVEL ACADEMICO]]=\"ESTUDIANTE\",1,IF(Tabla2[[#This Row],[NIVEL ACADEMICO]]=\"BACHILLER\",1,\"\")))","v":""},{"$f":"IF(Tabla2[[#This Row],[PROCEDENCIA]]=\"OTRO\",1,\"\")","v":""}]
["",{"$f":"IFERROR(IF(C324>0,VLOOKUP($F$5,DATA!$A$79:$B$160,2,FALSE),\"\"),\"\")","v":""},null,null,null,null,null,null,null,null,null,{"$f":"IF(Tabla2[[#This Row],[NIVEL ACADEMICO]]=\"OTRO\",1,IF(Tabla2[[#This Row],[NIVEL ACADEMICO]]=\"ESTUDIANTE\",1,IF(Tabla2[[#This Row],[NIVEL ACADEMICO]]=\"BACHILLER\",1,\"\")))","v":""},{"$f":"IF(Tabla2[[#This Row],[PROCEDENCIA]]=\"OTRO\",1,\"\")","v":""}]
["",{"$f":"IFERROR(IF(C325>0,VLOOKUP($F$5,DATA!$A$79:$B$160,2,FALSE),\"\"),\"\")","v":""},null,null,null,null,null,null,null,null,null,{"$f":"IF(Tabla2[[#This Row],[NIVEL ACADEMICO]]=\"OTRO\",1,IF(Tabla2[[#This Row],[NIVEL ACADEMICO]]=\"ESTUDIANTE\",1,IF(Tabla2[[#This Row],[NIVEL ACADEMICO]]=\"BACHILLER\",1,\"\")))","v":""},{"$f":"IF(Tabla2[[#This Row],[PROCEDENCIA]]=\"OTRO\",1,\"\")","v":""}]
["",{"$f":"IFERROR(IF(C326>0,VLOOKUP($F$5,DATA!$A$79:$B$160,2,FALSE),\"\"),\"\")","v":""},null,null,null,null,null,null,null,null,null,{"$f":"IF(Tabla2[[#This Row],[NIVEL ACADEMICO]]=\"OTRO\",1,IF(Tabla2[[#This Row],[NIVEL ACADEMICO]]=\"ESTUDIANTE\",1,IF(Tabla2[[#This Row],[NIVEL ACADEMICO]]=\"BACHILLER\",1,\"\")))","v":""},{"$f":"IF(Tabla2[[#This Row],[PROCEDENCIA]]=\"OTRO\",1,\"\")","v":""}]
["",{"$f":"IFERROR(IF(C327>0,VLOOKUP($F$5,DATA!$A$79:$B$160,2,FALSE),\"\"),\"\")","v":""},null,null,null,null,null,null,null,null,null,{"$f":"IF(Tabla2[[#This Row],[NIVEL ACADEMICO]]=\"OTRO\",1,IF(Tabla2[[#This Row],[NIVEL ACADEMICO]]=\"ESTUDIANTE\",1,IF(Tabla2[[#This Row],[NIVEL ACADEMICO]]=\"BACHILLER\",1,\"\")))","v":""},{"$f":"IF(Tabla2[[#This Row],[PROCEDENCIA]]=\"OTRO\",1,\"\")","v":""}]
["",{"$f":"IFERROR(IF(C328>0,VLOOKUP($F$5,DATA!$A$79:$B$160,2,FALSE),\"\"),\"\")","v":""},null,null,null,null,null,null,null,null,null,{"$f":"IF(Tabla2[[#This Row],[NIVEL ACADEMICO]]=\"OTRO\",1,IF(Tabla2[[#This Row],[NIVEL ACADEMICO]]=\"ESTUDIANTE\",1,IF(Tabla2[[#This Row],[NIVEL ACADEMICO]]=\"BACHILLER\",1,\"\")))","v":""},{"$f":"IF(Tabla2[[#This Row],[PROCEDENCIA]]=\"OTRO\",1,\"\")","v":""}]
["",{"$f":"IFERROR(IF(C329>0,VLOOKUP($F$5,DATA!$A$79:$B$160,2,FALSE),\"\"),\"\")","v":""},null,null,null,null,null,null,null,null,null,{"$f":"IF(Tabla2[[#This Row],[NIVEL ACADEMICO]]=\"OTRO\",1,IF(Tabla2[[#This Row],[NIVEL ACADEMICO]]=\"ESTUDIANTE\",1,IF(Tabla2[[#This Row],[NIVEL ACADEMICO]]=\"BACHILLER\",1,\"\")))","v":""},{"$f":"IF(Tabla2[[#This Row],[PROCEDENCIA]]=\"OTRO\",1,\"\")","v":""}]
["",{"$f":"IFERROR(IF(C330>0,VLOOKUP($F$5,DATA!$A$79:$B$160,2,FALSE),\"\"),\"\")","v":""},null,null,null,null,null,null,null,null,null,{"$f":"IF(Tabla2[[#This Row],[NIVEL ACADEMICO]]=\"OTRO\",1,IF(Tabla2[[#This Row],[NIVEL ACADEMICO]]=\"ESTUDIANTE\",1,IF(Tabla2[[#This Row],[NIVEL ACADEMICO]]=\"BACHILLER\",1,\"\")))","v":""},{"$f":"IF(Tabla2[[#This Row],[PROCEDENCIA]]=\"OTRO\",1,\"\")","v":""}]
["",{"$f":"IFERROR(IF(C331>0,VLOOKUP($F$5,DATA!$A$79:$B$160,2,FALSE),\"\"),\"\")","v":""},null,null,null,null,null,null,null,null,null,{"$f":"IF(Tabla2[[#This Row],[NIVEL ACADEMICO]]=\"OTRO\",1,IF(Tabla2[[#This Row],[NIVEL ACADEMICO]]=\"ESTUDIANTE\",1,IF(Tabla2[[#This Row],[NIVEL ACADEMICO]]=\"BACHILLER\",1,\"\")))","v":""},{"$f":"IF(Tabla2[[#This Row],[PROCEDENCIA]]=\"OTRO\",1,\"\")","v":""}]
["",{"$f":"IFERROR(IF(C332>0,VLOOKUP($F$5,DATA!$A$79:$B$160,2,FALSE),\"\"),\"\")","v":""},null,null,null,null,null,null,null,null,null,{"$f":"IF(Tabla2[[#This Row],[NIVEL ACADEMICO]]=\"OTRO\",1,IF(Tabla2[[#This Row],[NIVEL ACADEMICO]]=\"ESTUDIANTE\",1,IF(Tabla2[[#This Row],[NIVEL ACADEMICO]]=\"BACHILLER\",1,\"\")))","v":""},{"$f":"IF(Tabla2[[#This Row],[PROCEDENCIA]]=\"OTRO\",1,\"\")","v":""}]
[{"$f":"IF(C333>0,ROW()-8,\"\")","v":""},{"$f":"IFERROR(IF(C333>0,VLOOKUP($F$5,DATA!$A$79:$B$160,2,FALSE),\"\"),\"\")","v":""},null,null,null,null,null,null,null,null,null,{"$f":"IF(Tabla2[[#This Row],[NIVEL ACADEMICO]]=\"OTRO\",1,IF(Tabla2[[#This Row],[NIVEL ACADEMICO]]=\"ESTUDIANTE\",1,IF(Tabla2[[#This Row],[NIVEL ACADEMICO]]=\"BACHILLER\",1,\"\")))","v":""},{"$f":"IF(Tabla2[[#This Row],[PROCEDENCIA]]=\"OTRO\",1,\"\")","v":""}]
["",{"$f":"IFERROR(IF(C334>0,VLOOKUP($F$5,DATA!$A$79:$B$160,2,FALSE),\"\"),\"\")","v":""},null,null,null,null,null,null,null,null,null,{"$f":"IF(Tabla2[[#This Row],[NIVEL ACADEMICO]]=\"OTRO\",1,IF(Tabla2[[#This Row],[NIVEL ACADEMICO]]=\"ESTUDIANTE\",1,IF(Tabla2[[#This Row],[NIVEL ACADEMICO]]=\"BACHILLER\",1,\"\")))","v":""},{"$f":"IF(Tabla2[[#This Row],[PROCEDENCIA]]=\"OTRO\",1,\"\")","v":""}]
["",{"$f":"IFERROR(IF(C335>0,VLOOKUP($F$5,DATA!$A$79:$B$160,2,FALSE),\"\"),\"\")","v":""},null,null,null,null,null,null,null,null,null,{"$f":"IF(Tabla2[[#This Row],[NIVEL ACADEMICO]]=\"OTRO\",1,IF(Tabla2[[#This Row],[NIVEL ACADEMICO]]=\"ESTUDIANTE\",1,IF(Tabla2[[#This Row],[NIVEL ACADEMICO]]=\"BACHILLER\",1,\"\")))","v":""},{"$f":"IF(Tabla2[[#This Row],[PROCEDENCIA]]=\"OTRO\",1,\"\")","v":""}]
["",{"$f":"IFERROR(IF(C336>0,VLOOKUP($F$5,DATA!$A$79:$B$160,2,FALSE),\"\"),\"\")","v":""},null,null,null,null,null,null,null,null,null,{"$f":"IF(Tabla2[[#This Row],[NIVEL ACADEMICO]]=\"OTRO\",1,IF(Tabla2[[#This Row],[NIVEL ACADEMICO]]=\"ESTUDIANTE\",1,IF(Tabla2[[#This Row],[NIVEL ACADEMICO]]=\"BACHILLER\",1,\"\")))","v":""},{"$f":"IF(Tabla2[[#This Row],[PROCEDENCIA]]=\"OTRO\",1,\"\")","v":""}]
["",{"$f":"IFERROR(IF(C337>0,VLOOKUP($F$5,DATA!$A$79:$B$160,2,FALSE),\"\"),\"\")","v":""},null,null,null,null,null,null,null,null,null,{"$f":"IF(Tabla2[[#This Row],[NIVEL ACADEMICO]]=\"OTRO\",1,IF(Tabla2[[#This Row],[NIVEL ACADEMICO]]=\"ESTUDIANTE\",1,IF(Tabla2[[#This Row],[NIVEL ACADEMICO]]=\"BACHILLER\",1,\"\")))","v":""},{"$f":"IF(Tabla2[[#This Row],[PROCEDENCIA]]=\"OTRO\",1,\"\")","v":""}]
["",{"$f":"IFERROR(IF(C338>0,VLOOKUP($F$5,DATA!$A$79:$B$160,2,FALSE),\"\"),\"\")","v":""},null,null,null,null,null,null,null,null,null,{"$f":"IF(Tabla2[[#This Row],[NIVEL ACADEMICO]]=\"OTRO\",1,IF(Tabla2[[#This Row],[NIVEL ACADEMICO]]=\"ESTUDIANTE\",1,IF(Tabla2[[#This Row],[NIVEL ACADEMICO]]=\"BACHILLER\",1,\"\")))","v":""},{"$f":"IF(Tabla2[[#This Row],[PROCEDENCIA]]=\"OTRO\",1,\"\")","v":""}]
["",{"$f":"IFERROR(IF(C339>0,VLOOKUP($F$5,DATA!$A$79:$B$160,2,FALSE),\"\"),\"\")","v":""},null,null,null,null,null,null,null,null,null,{"$f":"IF(Tabla2[[#This Row],[NIVEL ACADEMICO]]=\"OTRO\",1,IF(Tabla2[[#This Row],[NIVEL ACADEMICO]]=\"ESTUDIANTE\",1,IF(Tabla2[[#This Row],[NIVEL ACADEMICO]]=\"BACHILLER\",1,\"\")))","v":""},{"$f":"IF(Tabla2[[#This Row],[PROCEDENCIA]]=\"OTRO\",1,\"\")","v":""}]
["",{"$f":"IFERROR(IF(C340>0,VLOOKUP($F$5,DATA!$A$79:$B$160,2,FALSE),\"\"),\"\")","v":""},null,null,null,null,null,null,null,null,null,{"$f":"IF(Tabla2[[#This Row],[NIVEL ACADEMICO]]=\"OTRO\",1,IF(Tabla2[[#This Row],[NIVEL ACADEMICO]]=\"ESTUDIANTE\",1,IF(Tabla2[[#This Row],[NIVEL ACADEMICO]]=\"BACHILLER\",1,\"\")))","v":""},{"$f":"IF(Tabla2[[#This Row],[PROCEDENCIA]]=\"OTRO\",1,\"\")","v":""}]
["",{"$f":"IFERROR(IF(C341>0,VLOOKUP($F$5,DATA!$A$79:$B$160,2,FALSE),\"\"),\"\")","v":""},null,null,null,null,null,null,null,null,null,{"$f":"IF(Tabla2[[#This Row],[NIVEL ACADEMICO]]=\"OTRO\",1,IF(Tabla2[[#This Row],[NIVEL ACADEMICO]]=\"ESTUDIANTE\",1,IF(Tabla2[[#This Row],[NIVEL ACADEMICO]]=\"BACHILLER\",1,\"\")))","v":""},{"$f":"IF(Tabla2[[#This Row],[PROCEDENCIA]]=\"OTRO\",1,\"\")","v":""}]
["",{"$f":"IFERROR(IF(C342>0,VLOOKUP($F$5,DATA!$A$79:$B$160,2,FALSE),\"\"),\"\")","v":""},null,null,null,null,null,null,null,null,null,{"$f":"IF(Tabla2[[#This Row],[NIVEL ACADEMICO]]=\"OTRO\",1,IF(Tabla2[[#This Row],[NIVEL ACADEMICO]]=\"ESTUDIANTE\",1,IF(Tabla2[[#This Row],[NIVEL ACADEMICO]]=\"BACHILLER\",1,\"\")))","v":""},{"$f":"IF(Tabla2[[#This Row],[PROCEDENCIA]]=\"OTRO\",1,\"\")","v":""}]
["",{"$f":"IFERROR(IF(C343>0,VLOOKUP($F$5,DATA!$A$79:$B$160,2,FALSE),\"\"),\"\")","v":""},null,null,null,null,null,null,null,null,null,{"$f":"IF(Tabla2[[#This Row],[NIVEL ACADEMICO]]=\"OTRO\",1,IF(Tabla2[[#This Row],[NIVEL ACADEMICO]]=\"ESTUDIANTE\",1,IF(Tabla2[[#This Row],[NIVEL ACADEMICO]]=\"BACHILLER\",1,\"\")))","v":""},{"$f":"IF(Tabla2[[#This Row],[PROCEDENCIA]]=\"OTRO\",1,\"\")","v":""}]
["",{"$f":"IFERROR(IF(C344>0,VLOOKUP($F$5,DATA!$A$79:$B$160,2,FALSE),\"\"),\"\")","v":""},null,null,null,null,null,null,null,null,null,{"$f":"IF(Tabla2[[#This Row],[NIVEL ACADEMICO]]=\"OTRO\",1,IF(Tabla2[[#This Row],[NIVEL ACADEMICO]]=\"ESTUDIANTE\",1,IF(Tabla2[[#This Row],[NIVEL ACADEMICO]]=\"BACHILLER\",1,\"\")))","v":""},{"$f":"IF(Tabla2[[#This Row],[PROCEDENCIA]]=\"OTRO\",1,\"\")","v":""}]
["",{"$f":"IFERROR(IF(C345>0,VLOOKUP($F$5,DATA!$A$79:$B$160,2,FALSE),\"\"),\"\")","v":""},null,null,null,null,null,null,null,null,null,{"$f":"IF(Tabla2[[#This Row],[NIVEL ACADEMICO]]=\"OTRO\",1,IF(Tabla2[[#This Row],[NIVEL ACADEMICO]]=\"ESTUDIANTE\",1,IF(Tabla2[[#This Row],[NIVEL ACADEMICO]]=\"BACHILLER\",1,\"\")))","v":""},{"$f":"IF(Tabla2[[#This Row],[PROCEDENCIA]]=\"OTRO\",1,\"\")","v":""}]
["",{"$f":"IFERROR(IF(C346>0,VLOOKUP($F$5,DATA!$A$79:$B$160,2,FALSE),\"\"),\"\")","v":""},null,null,null,null,null,null,null,null,null,{"$f":"IF(Tabla2[[#This Row],[NIVEL ACADEMICO]]=\"OTRO\",1,IF(Tabla2[[#This Row],[NIVEL ACADEMICO]]=\"ESTUDIANTE\",1,IF(Tabla2[[#This Row],[NIVEL ACADEMICO]]=\"BACHILLER\",1,\"\")))","v":""},{"$f":"IF(Tabla2[[#This Row],[PROCEDENCIA]]=\"OTRO\",1,\"\")","v":""}]
["",{"$f":"IFERROR(IF(C347>0,VLOOKUP($F$5,DATA!$A$79:$B$160,2,FALSE),\"\"),\"\")","v":""},null,null,null,null,null,null,null,null,null,{"$f":"IF(Tabla2[[#This Row],[NIVEL ACADEMICO]]=\"OTRO\",1,IF(Tabla2[[#This Row],[NIVEL ACADEMICO]]=\"ESTUDIANTE\",1,IF(Tabla2[[#This Row],[NIVEL ACADEMICO]]=\"BACHILLER\",1,\"\")))","v":""},{"$f":"IF(Tabla2[[#This Row],[PROCEDENCIA]]=\"OTRO\",1,\"\")","v":""}]
["",{"$f":"IFERROR(IF(C348>0,VLOOKUP($F$5,DATA!$A$79:$B$160,2,FALSE),\"\"),\"\")","v":""},null,null,null,null,null,null,null,null,null,{"$f":"IF(Tabla2[[#This Row],[NIVEL ACADEMICO]]=\"OTRO\",1,IF(Tabla2[[#This Row],[NIVEL ACADEMICO]]=\"ESTUDIANTE\",1,IF(Tabla2[[#This Row],[NIVEL ACADEMICO]]=\"BACHILLER\",1,\"\")))","v":""},{"$f":"IF(Tabla2[[#This Row],[PROCEDENCIA]]=\"OTRO\",1,\"\")","v":""}]
["",{"$f":"IFERROR(IF(C349>0,VLOOKUP($F$5,DATA!$A$79:$B$160,2,FALSE),\"\"),\"\")","v":""},null,null,null,null,null,null,null,null,null,{"$f":"IF(Tabla2[[#This Row],[NIVEL ACADEMICO]]=\"OTRO\",1,IF(Tabla2[[#This Row],[NIVEL ACADEMICO]]=\"ESTUDIANTE\",1,IF(Tabla2[[#This Row],[NIVEL ACADEMICO]]=\"BACHILLER\",1,\"\")))","v":""},{"$f":"IF(Tabla2[[#This Row],[PROCEDENCIA]]=\"OTRO\",1,\"\")","v":""}]
["",{"$f":"IFERROR(IF(C350>0,VLOOKUP($F$5,DATA!$A$79:$B$160,2,FALSE),\"\"),\"\")","v":""},null,null,null,null,null,null,null,null,null,{"$f":"IF(Tabla2[[#This Row],[NIVEL ACADEMICO]]=\"OTRO\",1,IF(Tabla2[[#This Row],[NIVEL ACADEMICO]]=\"ESTUDIANTE\",1,IF(Tabla2[[#This Row],[NIVEL ACADEMICO]]=\"BACHILLER\",1,\"\")))","v":""},{"$f":"IF(Tabla2[[#This Row],[PROCEDENCIA]]=\"OTRO\",1,\"\")","v":""}]
["",{"$f":"IFERROR(IF(C351>0,VLOOKUP($F$5,DATA!$A$79:$B$160,2,FALSE),\"\"),\"\")","v":""},null,null,null,null,null,null,null,null,null,{"$f":"IF(Tabla2[[#This Row],[NIVEL ACADEMICO]]=\"OTRO\",1,IF(Tabla2[[#This Row],[NIVEL ACADEMICO]]=\"ESTUDIANTE\",1,IF(Tabla2[[#This Row],[NIVEL ACADEMICO]]=\"BACHILLER\",1,\"\")))","v":""},{"$f":"IF(Tabla2[[#This Row],[PROCEDENCIA]]=\"OTRO\",1,\"\")","v":""}]
["",{"$f":"IFERROR(IF(C352>0,VLOOKUP($F$5,DATA!$A$79:$B$160,2,FALSE),\"\"),\"\")","v":""},null,null,null,null,null,null,null,null,null,{"$f":"IF(Tabla2[[#This Row],[NIVEL ACADEMICO]]=\"OTRO\",1,IF(Tabla2[[#This Row],[NIVEL ACADEMICO]]=\"ESTUDIANTE\",1,IF(Tabla2[[#This Row],[NIVEL ACADEMICO]]=\"BACHILLER\",1,\"\")))","v":""},{"$f":"IF(Tabla2[[#This Row],[PROCEDENCIA]]=\"OTRO\",1,\"\")","v":""}]
["",{"$f":"IFERROR(IF(C353>0,VLOOKUP($F$5,DATA!$A$79:$B$160,2,FALSE),\"\"),\"\")","v":""},null,null,null,null,null,null,null,null,null,{"$f":"IF(Tabla2[[#This Row],[NIVEL ACADEMICO]]=\"OTRO\",1,IF(Tabla2[[#This Row],[NIVEL ACADEMICO]]=\"ESTUDIANTE\",1,IF(Tabla2[[#This Row],[NIVEL ACADEMICO]]=\"BACHILLER\",1,\"\")))","v":""},{"$f":"IF(Tabla2[[#This Row],[PROCEDENCIA]]=\"OTRO\",1,\"\")","v":""}]
["",{"$f":"IFERROR(IF(C354>0,VLOOKUP($F$5,DATA!$A$79:$B$160,2,FALSE),\"\"),\"\")","v":""},null,null,null,null,null,null,null,null,null,{"$f":"IF(Tabla2[[#This Row],[NIVEL ACADEMICO]]=\"OTRO\",1,IF(Tabla2[[#This Row],[NIVEL ACADEMICO]]=\"ESTUDIANTE\",1,IF(Tabla2[[#This Row],[NIVEL ACADEMICO]]=\"BACHILLER\",1,\"\")))","v":""},{"$f":"IF(Tabla2[[#This Row],[PROCEDENCIA]]=\"OTRO\",1,\"\")","v":""}]
["",{"$f":"IFERROR(IF(C355>0,VLOOKUP($F$5,DATA!$A$79:$B$160,2,FALSE),\"\"),\"\")","v":""},null,null,null,null,null,null,null,null,null,{"$f":"IF(Tabla2[[#This Row],[NIVEL ACADEMICO]]=\"OTRO\",1,IF(Tabla2[[#This Row],[NIVEL ACADEMICO]]=\"ESTUDIANTE\",1,IF(Tabla2[[#This Row],[NIVEL ACADEMICO]]=\"BACHILLER\",1,\"\")))","v":""},{"$f":"IF(Tabla2[[#This Row],[PROCEDENCIA]]=\"OTRO\",1,\"\")","v":""}]
["",{"$f":"IFERROR(IF(C356>0,VLOOKUP($F$5,DATA!$A$79:$B$160,2,FALSE),\"\"),\"\")","v":""},null,null,null,null,null,null,null,null,null,{"$f":"IF(Tabla2[[#This Row],[NIVEL ACADEMICO]]=\"OTRO\",1,IF(Tabla2[[#This Row],[NIVEL ACADEMICO]]=\"ESTUDIANTE\",1,IF(Tabla2[[#This Row],[NIVEL ACADEMICO]]=\"BACHILLER\",1,\"\")))","v":""},{"$f":"IF(Tabla2[[#This Row],[PROCEDENCIA]]=\"OTRO\",1,\"\")","v":""}]
["",{"$f":"IFERROR(IF(C357>0,VLOOKUP($F$5,DATA!$A$79:$B$160,2,FALSE),\"\"),\"\")","v":""},null,null,null,null,null,null,null,null,null,{"$f":"IF(Tabla2[[#This Row],[NIVEL ACADEMICO]]=\"OTRO\",1,IF(Tabla2[[#This Row],[NIVEL ACADEMICO]]=\"ESTUDIANTE\",1,IF(Tabla2[[#This Row],[NIVEL ACADEMICO]]=\"BACHILLER\",1,\"\")))","v":""},{"$f":"IF(Tabla2[[#This Row],[PROCEDENCIA]]=\"OTRO\",1,\"\")","v":""}]
["",{"$f":"IFERROR(IF(C358>0,VLOOKUP($F$5,DATA!$A$79:$B$160,2,FALSE),\"\"),\"\")","v":""},null,null,null,null,null,null,null,null,null,{"$f":"IF(Tabla2[[#This Row],[NIVEL ACADEMICO]]=\"OTRO\",1,IF(Tabla2[[#This Row],[NIVEL ACADEMICO]]=\"ESTUDIANTE\",1,IF(Tabla2[[#This Row],[NIVEL ACADEMICO]]=\"BACHILLER\",1,\"\")))","v":""},{"$f":"IF(Tabla2[[#This Row],[PROCEDENCIA]]=\"OTRO\",1,\"\")","v":""}]
["",{"$f":"IFERROR(IF(C359>0,VLOOKUP($F$5,DATA!$A$79:$B$160,2,FALSE),\"\"),\"\")","v":""},null,null,null,null,null,null,null,null,null,{"$f":"IF(Tabla2[[#This Row],[NIVEL ACADEMICO]]=\"OTRO\",1,IF(Tabla2[[#This Row],[NIVEL ACADEMICO]]=\"ESTUDIANTE\",1,IF(Tabla2[[#This Row],[NIVEL ACADEMICO]]=\"BACHILLER\",1,\"\")))","v":""},{"$f":"IF(Tabla2[[#This Row],[PROCEDENCIA]]=\"OTRO\",1,\"\")","v":""}]
["",{"$f":"IFERROR(IF(C360>0,VLOOKUP($F$5,DATA!$A$79:$B$160,2,FALSE),\"\"),\"\")","v":""},null,null,null,null,null,null,null,null,null,{"$f":"IF(Tabla2[[#This Row],[NIVEL ACADEMICO]]=\"OTRO\",1,IF(Tabla2[[#This Row],[NIVEL ACADEMICO]]=\"ESTUDIANTE\",1,IF(Tabla2[[#This Row],[NIVEL ACADEMICO]]=\"BACHILLER\",1,\"\")))","v":""},{"$f":"IF(Tabla2[[#This Row],[PROCEDENCIA]]=\"OTRO\",1,\"\")","v":""}]
["",{"$f":"IFERROR(IF(C361>0,VLOOKUP($F$5,DATA!$A$79:$B$160,2,FALSE),\"\"),\"\")","v":""},null,null,null,null,null,null,null,null,null,{"$f":"IF(Tabla2[[#This Row],[NIVEL ACADEMICO]]=\"OTRO\",1,IF(Tabla2[[#This Row],[NIVEL ACADEMICO]]=\"ESTUDIANTE\",1,IF(Tabla2[[#This Row],[NIVEL ACADEMICO]]=\"BACHILLER\",1,\"\")))","v":""},{"$f":"IF(Tabla2[[#This Row],[PROCEDENCIA]]=\"OTRO\",1,\"\")","v":""}]
["",{"$f":"IFERROR(IF(C362>0,VLOOKUP($F$5,DATA!$A$79:$B$160,2,FALSE),\"\"),\"\")","v":""},null,null,null,null,null,null,null,null,null,{"$f":"IF(Tabla2[[#This Row],[NIVEL ACADEMICO]]=\"OTRO\",1,IF(Tabla2[[#This Row],[NIVEL ACADEMICO]]=\"ESTUDIANTE\",1,IF(Tabla2[[#This Row],[NIVEL ACADEMICO]]=\"BACHILLER\",1,\"\")))","v":""},{"$f":"IF(Tabla2[[#This Row],[PROCEDENCIA]]=\"OTRO\",1,\"\")","v":""}]
["",{"$f":"IFERROR(IF(C363>0,VLOOKUP($F$5,DATA!$A$79:$B$160,2,FALSE),\"\"),\"\")","v":""},null,null,null,null,null,null,null,null,null,{"$f":"IF(Tabla2[[#This Row],[NIVEL ACADEMICO]]=\"OTRO\",1,IF(Tabla2[[#This Row],[NIVEL ACADEMICO]]=\"ESTUDIANTE\",1,IF(Tabla2[[#This Row],[NIVEL ACADEMICO]]=\"BACHILLER\",1,\"\")))","v":""},{"$f":"IF(Tabla2[[#This Row],[PROCEDENCIA]]=\"OTRO\",1,\"\")","v":""}]
["",{"$f":"IFERROR(IF(C364>0,VLOOKUP($F$5,DATA!$A$79:$B$160,2,FALSE),\"\"),\"\")","v":""},null,null,null,null,null,null,null,null,null,{"$f":"IF(Tabla2[[#This Row],[NIVEL ACADEMICO]]=\"OTRO\",1,IF(Tabla2[[#This Row],[NIVEL ACADEMICO]]=\"ESTUDIANTE\",1,IF(Tabla2[[#This Row],[NIVEL ACADEMICO]]=\"BACHILLER\",1,\"\")))","v":""},{"$f":"IF(Tabla2[[#This Row],[PROCEDENCIA]]=\"OTRO\",1,\"\")","v":""}]
[{"$f":"IF(C365>0,ROW()-8,\"\")","v":""},{"$f":"IFERROR(IF(C365>0,VLOOKUP($F$5,DATA!$A$79:$B$160,2,FALSE),\"\"),\"\")","v":""},null,null,null,null,null,null,null,null,null,{"$f":"IF(Tabla2[[#This Row],[NIVEL ACADEMICO]]=\"OTRO\",1,IF(Tabla2[[#This Row],[NIVEL ACADEMICO]]=\"ESTUDIANTE\",1,IF(Tabla2[[#This Row],[NIVEL ACADEMICO]]=\"BACHILLER\",1,\"\")))","v":""},{"$f":"IF(Tabla2[[#This Row],[PROCEDENCIA]]=\"OTRO\",1,\"\")","v":""}]
["",{"$f":"IFERROR(IF(C366>0,VLOOKUP($F$5,DATA!$A$79:$B$160,2,FALSE),\"\"),\"\")","v":""},null,null,null,null,null,null,null,null,null,{"$f":"IF(Tabla2[[#This Row],[NIVEL ACADEMICO]]=\"OTRO\",1,IF(Tabla2[[#This Row],[NIVEL ACADEMICO]]=\"ESTUDIANTE\",1,IF(Tabla2[[#This Row],[NIVEL ACADEMICO]]=\"BACHILLER\",1,\"\")))","v":""},{"$f":"IF(Tabla2[[#This Row],[PROCEDENCIA]]=\"OTRO\",1,\"\")","v":""}]
["",{"$f":"IFERROR(IF(C367>0,VLOOKUP($F$5,DATA!$A$79:$B$160,2,FALSE),\"\"),\"\")","v":""},null,null,null,null,null,null,null,null,null,{"$f":"IF(Tabla2[[#This Row],[NIVEL ACADEMICO]]=\"OTRO\",1,IF(Tabla2[[#This Row],[NIVEL ACADEMICO]]=\"ESTUDIANTE\",1,IF(Tabla2[[#This Row],[NIVEL ACADEMICO]]=\"BACHILLER\",1,\"\")))","v":""},{"$f":"IF(Tabla2[[#This Row],[PROCEDENCIA]]=\"OTRO\",1,\"\")","v":""}]
["",{"$f":"IFERROR(IF(C368>0,VLOOKUP($F$5,DATA!$A$79:$B$160,2,FALSE),\"\"),\"\")","v":""},null,null,null,null,null,null,null,null,null,{"$f":"IF(Tabla2[[#This Row],[NIVEL ACADEMICO]]=\"OTRO\",1,IF(Tabla2[[#This Row],[NIVEL ACADEMICO]]=\"ESTUDIANTE\",1,IF(Tabla2[[#This Row],[NIVEL ACADEMICO]]=\"BACHILLER\",1,\"\")))","v":""},{"$f":"IF(Tabla2[[#This Row],[PROCEDENCIA]]=\"OTRO\",1,\"\")","v":""}]
["",{"$f":"IFERROR(IF(C369>0,VLOOKUP($F$5,DATA!$A$79:$B$160,2,FALSE),\"\"),\"\")","v":""},null,null,null,null,null,null,null,null,null,{"$f":"IF(Tabla2[[#This Row],[NIVEL ACADEMICO]]=\"OTRO\",1,IF(Tabla2[[#This Row],[NIVEL ACADEMICO]]=\"ESTUDIANTE\",1,IF(Tabla2[[#This Row],[NIVEL ACADEMICO]]=\"BACHILLER\",1,\"\")))","v":""},{"$f":"IF(Tabla2[[#This Row],[PROCEDENCIA]]=\"OTRO\",1,\"\")","v":""}]
["",{"$f":"IFERROR(IF(C370>0,VLOOKUP($F$5,DATA!$A$79:$B$160,2,FALSE),\"\"),\"\")","v":""},null,null,null,null,null,null,null,null,null,{"$f":"IF(Tabla2[[#This Row],[NIVEL ACADEMICO]]=\"OTRO\",1,IF(Tabla2[[#This Row],[NIVEL ACADEMICO]]=\"ESTUDIANTE\",1,IF(Tabla2[[#This Row],[NIVEL ACADEMICO]]=\"BACHILLER\",1,\"\")))","v":""},{"$f":"IF(Tabla2[[#This Row],[PROCEDENCIA]]=\"OTRO\",1,\"\")","v":""}]
["",{"$f":"IFERROR(IF(C371>0,VLOOKUP($F$5,DATA!$A$79:$B$160,2,FALSE),\"\"),\"\")","v":""},null,null,null,null,null,null,null,null,null,{"$f":"IF(Tabla2[[#This Row],[NIVEL ACADEMICO]]=\"OTRO\",1,IF(Tabla2[[#This Row],[NIVEL ACADEMICO]]=\"ESTUDIANTE\",1,IF(Tabla2[[#This Row],[NIVEL ACADEMICO]]=\"BACHILLER\",1,\"\")))","v":""},{"$f":"IF(Tabla2[[#This Row],[PROCEDENCIA]]=\"OTRO\",1,\"\")","v":""}]
["",{"$f":"IFERROR(IF(C372>0,VLOOKUP($F$5,DATA!$A$79:$B$160,2,FALSE),\"\"),\"\")","v":""},null,null,null,null,null,null,null,null,null,{"$f":"IF(Tabla2[[#This Row],[NIVEL ACADEMICO]]=\"OTRO\",1,IF(Tabla2[[#This Row],[NIVEL ACADEMICO]]=\"ESTUDIANTE\",1,IF(Tabla2[[#This Row],[NIVEL ACADEMICO]]=\"BACHILLER\",1,\"\")))","v":""},{"$f":"IF(Tabla2[[#This Row],[PROCEDENCIA]]=\"OTRO\",1,\"\")","v":""}]
["",{"$f":"IFERROR(IF(C373>0,VLOOKUP($F$5,DATA!$A$79:$B$160,2,FALSE),\"\"),\"\")","v":""},null,null,null,null,null,null,null,null,null,{"$f":"IF(Tabla2[[#This Row],[NIVEL ACADEMICO]]=\"OTRO\",1,IF(Tabla2[[#This Row],[NIVEL ACADEMICO]]=\"ESTUDIANTE\",1,IF(Tabla2[[#This Row],[NIVEL ACADEMICO]]=\"BACHILLER\",1,\"\")))","v":""},{"$f":"IF(Tabla2[[#This Row],[PROCEDENCIA]]=\"OTRO\",1,\"\")","v":""}]
["",{"$f":"IFERROR(IF(C374>0,VLOOKUP($F$5,DATA!$A$79:$B$160,2,FALSE),\"\"),\"\")","v":""},null,null,null,null,null,null,null,null,null,{"$f":"IF(Tabla2[[#This Row],[NIVEL ACADEMICO]]=\"OTRO\",1,IF(Tabla2[[#This Row],[NIVEL ACADEMICO]]=\"ESTUDIANTE\",1,IF(Tabla2[[#This Row],[NIVEL ACADEMICO]]=\"BACHILLER\",1,\"\")))","v":""},{"$f":"IF(Tabla2[[#This Row],[PROCEDENCIA]]=\"OTRO\",1,\"\")","v":""}]
["",{"$f":"IFERROR(IF(C375>0,VLOOKUP($F$5,DATA!$A$79:$B$160,2,FALSE),\"\"),\"\")","v":""},null,null,null,null,null,null,null,null,null,{"$f":"IF(Tabla2[[#This Row],[NIVEL ACADEMICO]]=\"OTRO\",1,IF(Tabla2[[#This Row],[NIVEL ACADEMICO]]=\"ESTUDIANTE\",1,IF(Tabla2[[#This Row],[NIVEL ACADEMICO]]=\"BACHILLER\",1,\"\")))","v":""},{"$f":"IF(Tabla2[[#This Row],[PROCEDENCIA]]=\"OTRO\",1,\"\")","v":""}]
["",{"$f":"IFERROR(IF(C376>0,VLOOKUP($F$5,DATA!$A$79:$B$160,2,FALSE),\"\"),\"\")","v":""},null,null,null,null,null,null,null,null,null,{"$f":"IF(Tabla2[[#This Row],[NIVEL ACADEMICO]]=\"OTRO\",1,IF(Tabla2[[#This Row],[NIVEL ACADEMICO]]=\"ESTUDIANTE\",1,IF(Tabla2[[#This Row],[NIVEL ACADEMICO]]=\"BACHILLER\",1,\"\")))","v":""},{"$f":"IF(Tabla2[[#This Row],[PROCEDENCIA]]=\"OTRO\",1,\"\")","v":""}]
["",{"$f":"IFERROR(IF(C377>0,VLOOKUP($F$5,DATA!$A$79:$B$160,2,FALSE),\"\"),\"\")","v":""},null,null,null,null,null,null,null,null,null,{"$f":"IF(Tabla2[[#This Row],[NIVEL ACADEMICO]]=\"OTRO\",1,IF(Tabla2[[#This Row],[NIVEL ACADEMICO]]=\"ESTUDIANTE\",1,IF(Tabla2[[#This Row],[NIVEL ACADEMICO]]=\"BACHILLER\",1,\"\")))","v":""},{"$f":"IF(Tabla2[[#This Row],[PROCEDENCIA]]=\"OTRO\",1,\"\")","v":""}]
["",{"$f":"IFERROR(IF(C378>0,VLOOKUP($F$5,DATA!$A$79:$B$160,2,FALSE),\"\"),\"\")","v":""},null,null,null,null,null,null,null,null,null,{"$f":"IF(Tabla2[[#This Row],[NIVEL ACADEMICO]]=\"OTRO\",1,IF(Tabla2[[#This Row],[NIVEL ACADEMICO]]=\"ESTUDIANTE\",1,IF(Tabla2[[#This Row],[NIVEL ACADEMICO]]=\"BACHILLER\",1,\"\")))","v":""},{"$f":"IF(Tabla2[[#This Row],[PROCEDENCIA]]=\"OTRO\",1,\"\")","v":""}]
["",{"$f":"IFERROR(IF(C379>0,VLOOKUP($F$5,DATA!$A$79:$B$160,2,FALSE),\"\"),\"\")","v":""},null,null,null,null,null,null,null,null,null,{"$f":"IF(Tabla2[[#This Row],[NIVEL ACADEMICO]]=\"OTRO\",1,IF(Tabla2[[#This Row],[NIVEL ACADEMICO]]=\"ESTUDIANTE\",1,IF(Tabla2[[#This Row],[NIVEL ACADEMICO]]=\"BACHILLER\",1,\"\")))","v":""},{"$f":"IF(Tabla2[[#This Row],[PROCEDENCIA]]=\"OTRO\",1,\"\")","v":""}]
["",{"$f":"IFERROR(IF(C380>0,VLOOKUP($F$5,DATA!$A$79:$B$160,2,FALSE),\"\"),\"\")","v":""},null,null,null,null,null,null,null,null,null,{"$f":"IF(Tabla2[[#This Row],[NIVEL ACADEMICO]]=\"OTRO\",1,IF(Tabla2[[#This Row],[NIVEL ACADEMICO]]=\"ESTUDIANTE\",1,IF(Tabla2[[#This Row],[NIVEL ACADEMICO]]=\"BACHILLER\",1,\"\")))","v":""},{"$f":"IF(Tabla2[[#This Row],[PROCEDENCIA]]=\"OTRO\",1,\"\")","v":""}]
["",{"$f":"IFERROR(IF(C381>0,VLOOKUP($F$5,DATA!$A$79:$B$160,2,FALSE),\"\"),\"\")","v":""},null,null,null,null,null,null,null,null,null,{"$f":"IF(Tabla2[[#This Row],[NIVEL ACADEMICO]]=\"OTRO\",1,IF(Tabla2[[#This Row],[NIVEL ACADEMICO]]=\"ESTUDIANTE\",1,IF(Tabla2[[#This Row],[NIVEL ACADEMICO]]=\"BACHILLER\",1,\"\")))","v":""},{"$f":"IF(Tabla2[[#This Row],[PROCEDENCIA]]=\"OTRO\",1,\"\")","v":""}]
["",{"$f":"IFERROR(IF(C382>0,VLOOKUP($F$5,DATA!$A$79:$B$160,2,FALSE),\"\"),\"\")","v":""},null,null,null,null,null,null,null,null,null,{"$f":"IF(Tabla2[[#This Row],[NIVEL ACADEMICO]]=\"OTRO\",1,IF(Tabla2[[#This Row],[NIVEL ACADEMICO]]=\"ESTUDIANTE\",1,IF(Tabla2[[#This Row],[NIVEL ACADEMICO]]=\"BACHILLER\",1,\"\")))","v":""},{"$f":"IF(Tabla2[[#This Row],[PROCEDENCIA]]=\"OTRO\",1,\"\")","v":""}]
["",{"$f":"IFERROR(IF(C383>0,VLOOKUP($F$5,DATA!$A$79:$B$160,2,FALSE),\"\"),\"\")","v":""},null,null,null,null,null,null,null,null,null,{"$f":"IF(Tabla2[[#This Row],[NIVEL ACADEMICO]]=\"OTRO\",1,IF(Tabla2[[#This Row],[NIVEL ACADEMICO]]=\"ESTUDIANTE\",1,IF(Tabla2[[#This Row],[NIVEL ACADEMICO]]=\"BACHILLER\",1,\"\")))","v":""},{"$f":"IF(Tabla2[[#This Row],[PROCEDENCIA]]=\"OTRO\",1,\"\")","v":""}]
["",{"$f":"IFERROR(IF(C384>0,VLOOKUP($F$5,DATA!$A$79:$B$160,2,FALSE),\"\"),\"\")","v":""},null,null,null,null,null,null,null,null,null,{"$f":"IF(Tabla2[[#This Row],[NIVEL ACADEMICO]]=\"OTRO\",1,IF(Tabla2[[#This Row],[NIVEL ACADEMICO]]=\"ESTUDIANTE\",1,IF(Tabla2[[#This Row],[NIVEL ACADEMICO]]=\"BACHILLER\",1,\"\")))","v":""},{"$f":"IF(Tabla2[[#This Row],[PROCEDENCIA]]=\"OTRO\",1,\"\")","v":""}]
["",{"$f":"IFERROR(IF(C385>0,VLOOKUP($F$5,DATA!$A$79:$B$160,2,FALSE),\"\"),\"\")","v":""},null,null,null,null,null,null,null,null,null,{"$f":"IF(Tabla2[[#This Row],[NIVEL ACADEMICO]]=\"OTRO\",1,IF(Tabla2[[#This Row],[NIVEL ACADEMICO]]=\"ESTUDIANTE\",1,IF(Tabla2[[#This Row],[NIVEL ACADEMICO]]=\"BACHILLER\",1,\"\")))","v":""},{"$f":"IF(Tabla2[[#This Row],[PROCEDENCIA]]=\"OTRO\",1,\"\")","v":""}]
["",{"$f":"IFERROR(IF(C386>0,VLOOKUP($F$5,DATA!$A$79:$B$160,2,FALSE),\"\"),\"\")","v":""},null,null,null,null,null,null,null,null,null,{"$f":"IF(Tabla2[[#This Row],[NIVEL ACADEMICO]]=\"OTRO\",1,IF(Tabla2[[#This Row],[NIVEL ACADEMICO]]=\"ESTUDIANTE\",1,IF(Tabla2[[#This Row],[NIVEL ACADEMICO]]=\"BACHILLER\",1,\"\")))","v":""},{"$f":"IF(Tabla2[[#This Row],[PROCEDENCIA]]=\"OTRO\",1,\"\")","v":""}]
["",{"$f":"IFERROR(IF(C387>0,VLOOKUP($F$5,DATA!$A$79:$B$160,2,FALSE),\"\"),\"\")","v":""},null,null,null,null,null,null,null,null,null,{"$f":"IF(Tabla2[[#This Row],[NIVEL ACADEMICO]]=\"OTRO\",1,IF(Tabla2[[#This Row],[NIVEL ACADEMICO]]=\"ESTUDIANTE\",1,IF(Tabla2[[#This Row],[NIVEL ACADEMICO]]=\"BACHILLER\",1,\"\")))","v":""},{"$f":"IF(Tabla2[[#This Row],[PROCEDENCIA]]=\"OTRO\",1,\"\")","v":""}]
["",{"$f":"IFERROR(IF(C388>0,VLOOKUP($F$5,DATA!$A$79:$B$160,2,FALSE),\"\"),\"\")","v":""},null,null,null,null,null,null,null,null,null,{"$f":"IF(Tabla2[[#This Row],[NIVEL ACADEMICO]]=\"OTRO\",1,IF(Tabla2[[#This Row],[NIVEL ACADEMICO]]=\"ESTUDIANTE\",1,IF(Tabla2[[#This Row],[NIVEL ACADEMICO]]=\"BACHILLER\",1,\"\")))","v":""},{"$f":"IF(Tabla2[[#This Row],[PROCEDENCIA]]=\"OTRO\",1,\"\")","v":""}]
["",{"$f":"IFERROR(IF(C389>0,VLOOKUP($F$5,DATA!$A$79:$B$160,2,FALSE),\"\"),\"\")","v":""},null,null,null,null,null,null,null,null,null,{"$f":"IF(Tabla2[[#This Row],[NIVEL ACADEMICO]]=\"OTRO\",1,IF(Tabla2[[#This Row],[NIVEL ACADEMICO]]=\"ESTUDIANTE\",1,IF(Tabla2[[#This Row],[NIVEL ACADEMICO]]=\"BACHILLER\",1,\"\")))","v":""},{"$f":"IF(Tabla2[[#This Row],[PROCEDENCIA]]=\"OTRO\",1,\"\")","v":""}]
["",{"$f":"IFERROR(IF(C390>0,VLOOKUP($F$5,DATA!$A$79:$B$160,2,FALSE),\"\"),\"\")","v":""},null,null,null,null,null,null,null,null,null,{"$f":"IF(Tabla2[[#This Row],[NIVEL ACADEMICO]]=\"OTRO\",1,IF(Tabla2[[#This Row],[NIVEL ACADEMICO]]=\"ESTUDIANTE\",1,IF(Tabla2[[#This Row],[NIVEL ACADEMICO]]=\"BACHILLER\",1,\"\")))","v":""},{"$f":"IF(Tabla2[[#This Row],[PROCEDENCIA]]=\"OTRO\",1,\"\")","v":""}]
["",{"$f":"IFERROR(IF(C391>0,VLOOKUP($F$5,DATA!$A$79:$B$160,2,FALSE),\"\"),\"\")","v":""},null,null,null,null,null,null,null,null,null,{"$f":"IF(Tabla2[[#This Row],[NIVEL ACADEMICO]]=\"OTRO\",1,IF(Tabla2[[#This Row],[NIVEL ACADEMICO]]=\"ESTUDIANTE\",1,IF(Tabla2[[#This Row],[NIVEL ACADEMICO]]=\"BACHILLER\",1,\"\")))","v":""},{"$f":"IF(Tabla2[[#This Row],[PROCEDENCIA]]=\"OTRO\",1,\"\")","v":""}]
["",{"$f":"IFERROR(IF(C392>0,VLOOKUP($F$5,DATA!$A$79:$B$160,2,FALSE),\"\"),\"\")","v":""},null,null,null,null,null,null,null,null,null,{"$f":"IF(Tabla2[[#This Row],[NIVEL ACADEMICO]]=\"OTRO\",1,IF(Tabla2[[#This Row],[NIVEL ACADEMICO]]=\"ESTUDIANTE\",1,IF(Tabla2[[#This Row],[NIVEL ACADEMICO]]=\"BACHILLER\",1,\"\")))","v":""},{"$f":"IF(Tabla2[[#This Row],[PROCEDENCIA]]=\"OTRO\",1,\"\")","v":""}]
["",{"$f":"IFERROR(IF(C393>0,VLOOKUP($F$5,DATA!$A$79:$B$160,2,FALSE),\"\"),\"\")","v":""},null,null,null,null,null,null,null,null,null,{"$f":"IF(Tabla2[[#This Row],[NIVEL ACADEMICO]]=\"OTRO\",1,IF(Tabla2[[#This Row],[NIVEL ACADEMICO]]=\"ESTUDIANTE\",1,IF(Tabla2[[#This Row],[NIVEL ACADEMICO]]=\"BACHILLER\",1,\"\")))","v":""},{"$f":"IF(Tabla2[[#This Row],[PROCEDENCIA]]=\"OTRO\",1,\"\")","v":""}]
["",{"$f":"IFERROR(IF(C394>0,VLOOKUP($F$5,DATA!$A$79:$B$160,2,FALSE),\"\"),\"\")","v":""},null,null,null,null,null,null,null,null,null,{"$f":"IF(Tabla2[[#This Row],[NIVEL ACADEMICO]]=\"OTRO\",1,IF(Tabla2[[#This Row],[NIVEL ACADEMICO]]=\"ESTUDIANTE\",1,IF(Tabla2[[#This Row],[NIVEL ACADEMICO]]=\"BACHILLER\",1,\"\")))","v":""},{"$f":"IF(Tabla2[[#This Row],[PROCEDENCIA]]=\"OTRO\",1,\"\")","v":""}]
["",{"$f":"IFERROR(IF(C395>0,VLOOKUP($F$5,DATA!$A$79:$B$160,2,FALSE),\"\"),\"\")","v":""},null,null,null,null,null,null,null,null,null,{"$f":"IF(Tabla2[[#This Row],[NIVEL ACADEMICO]]=\"OTRO\",1,IF(Tabla2[[#This Row],[NIVEL ACADEMICO]]=\"ESTUDIANTE\",1,IF(Tabla2[[#This Row],[NIVEL ACADEMICO]]=\"BACHILLER\",1,\"\")))","v":""},{"$f":"IF(Tabla2[[#This Row],[PROCEDENCIA]]=\"OTRO\",1,\"\")","v":""}]
["",{"$f":"IFERROR(IF(C396>0,VLOOKUP($F$5,DATA!$A$79:$B$160,2,FALSE),\"\"),\"\")","v":""},null,null,null,null,null,null,null,null,null,{"$f":"IF(Tabla2[[#This Row],[NIVEL ACADEMICO]]=\"OTRO\",1,IF(Tabla2[[#This Row],[NIVEL ACADEMICO]]=\"ESTUDIANTE\",1,IF(Tabla2[[#This Row],[NIVEL ACADEMICO]]=\"BACHILLER\",1,\"\")))","v":""},{"$f":"IF(Tabla2[[#This Row],[PROCEDENCIA]]=\"OTRO\",1,\"\")","v":""}]
["",{"$f":"IFERROR(IF(C397>0,VLOOKUP($F$5,DATA!$A$79:$B$160,2,FALSE),\"\"),\"\")","v":""},null,null,null,null,null,null,null,null,null,{"$f":"IF(Tabla2[[#This Row],[NIVEL ACADEMICO]]=\"OTRO\",1,IF(Tabla2[[#This Row],[NIVEL ACADEMICO]]=\"ESTUDIANTE\",1,IF(Tabla2[[#This Row],[NIVEL ACADEMICO]]=\"BACHILLER\",1,\"\")))","v":""},{"$f":"IF(Tabla2[[#This Row],[PROCEDENCIA]]=\"OTRO\",1,\"\")","v":""}]
["",{"$f":"IFERROR(IF(C398>0,VLOOKUP($F$5,DATA!$A$79:$B$160,2,FALSE),\"\"),\"\")","v":""},null,null,null,null,null,null,null,null,null,{"$f":"IF(Tabla2[[#This Row],[NIVEL ACADEMICO]]=\"OTRO\",1,IF(Tabla2[[#This Row],[NIVEL ACADEMICO]]=\"ESTUDIANTE\",1,IF(Tabla2[[#This Row],[NIVEL ACADEMICO]]=\"BACHILLER\",1,\"\")))","v":""},{"$f":"IF(Tabla2[[#This Row],[PROCEDENCIA]]=\"OTRO\",1,\"\")","v":""}]
["",{"$f":"IFERROR(IF(C399>0,VLOOKUP($F$5,DATA!$A$79:$B$160,2,FALSE),\"\"),\"\")","v":""},null,null,null,null,null,null,null,null,null,{"$f":"IF(Tabla2[[#This Row],[NIVEL ACADEMICO]]=\"OTRO\",1,IF(Tabla2[[#This Row],[NIVEL ACADEMICO]]=\"ESTUDIANTE\",1,IF(Tabla2[[#This Row],[NIVEL ACADEMICO]]=\"BACHILLER\",1,\"\")))","v":""},{"$f":"IF(Tabla2[[#This Row],[PROCEDENCIA]]=\"OTRO\",1,\"\")","v":""}]
[{"$f":"IF(C400>0,ROW()-8,\"\")","v":""},{"$f":"IFERROR(IF(C400>0,VLOOKUP($F$5,DATA!$A$79:$B$160,2,FALSE),\"\"),\"\")","v":""},null,null,null,null,null,null,null,null,null,{"$f":"IF(Tabla2[[#This Row],[NIVEL ACADEMICO]]=\"OTRO\",1,IF(Tabla2[[#This Row],[NIVEL ACADEMICO]]=\"ESTUDIANTE\",1,IF(Tabla2[[#This Row],[NIVEL ACADEMICO]]=\"BACHILLER\",1,\"\")))","v":""},{"$f":"IF(Tabla2[[#This Row],[PROCEDENCIA]]=\"OTRO\",1,\"\")","v":""}]
["",{"$f":"IFERROR(IF(C401>0,VLOOKUP($F$5,DATA!$A$79:$B$160,2,FALSE),\"\"),\"\")","v":""},null,null,null,null,null,null,null,null,null,{"$f":"IF(Tabla2[[#This Row],[NIVEL ACADEMICO]]=\"OTRO\",1,IF(Tabla2[[#This Row],[NIVEL ACADEMICO]]=\"ESTUDIANTE\",1,IF(Tabla2[[#This Row],[NIVEL ACADEMICO]]=\"BACHILLER\",1,\"\")))","v":""},{"$f":"IF(Tabla2[[#This Row],[PROCEDENCIA]]=\"OTRO\",1,\"\")","v":""}]
["",{"$f":"IFERROR(IF(C402>0,VLOOKUP($F$5,DATA!$A$79:$B$160,2,FALSE),\"\"),\"\")","v":""},null,null,null,null,null,null,null,null,null,{"$f":"IF(Tabla2[[#This Row],[NIVEL ACADEMICO]]=\"OTRO\",1,IF(Tabla2[[#This Row],[NIVEL ACADEMICO]]=\"ESTUDIANTE\",1,IF(Tabla2[[#This Row],[NIVEL ACADEMICO]]=\"BACHILLER\",1,\"\")))","v":""},{"$f":"IF(Tabla2[[#This Row],[PROCEDENCIA]]=\"OTRO\",1,\"\")","v":""}]
["",{"$f":"IFERROR(IF(C403>0,VLOOKUP($F$5,DATA!$A$79:$B$160,2,FALSE),\"\"),\"\")","v":""},null,null,null,null,null,null,null,null,null,{"$f":"IF(Tabla2[[#This Row],[NIVEL ACADEMICO]]=\"OTRO\",1,IF(Tabla2[[#This Row],[NIVEL ACADEMICO]]=\"ESTUDIANTE\",1,IF(Tabla2[[#This Row],[NIVEL ACADEMICO]]=\"BACHILLER\",1,\"\")))","v":""},{"$f":"IF(Tabla2[[#This Row],[PROCEDENCIA]]=\"OTRO\",1,\"\")","v":""}]
["",{"$f":"IFERROR(IF(C404>0,VLOOKUP($F$5,DATA!$A$79:$B$160,2,FALSE),\"\"),\"\")","v":""},null,null,null,null,null,null,null,null,null,{"$f":"IF(Tabla2[[#This Row],[NIVEL ACADEMICO]]=\"OTRO\",1,IF(Tabla2[[#This Row],[NIVEL ACADEMICO]]=\"ESTUDIANTE\",1,IF(Tabla2[[#This Row],[NIVEL ACADEMICO]]=\"BACHILLER\",1,\"\")))","v":""},{"$f":"IF(Tabla2[[#This Row],[PROCEDENCIA]]=\"OTRO\",1,\"\")","v":""}]
["",{"$f":"IFERROR(IF(C405>0,VLOOKUP($F$5,DATA!$A$79:$B$160,2,FALSE),\"\"),\"\")","v":""},null,null,null,null,null,null,null,null,null,{"$f":"IF(Tabla2[[#This Row],[NIVEL ACADEMICO]]=\"OTRO\",1,IF(Tabla2[[#This Row],[NIVEL ACADEMICO]]=\"ESTUDIANTE\",1,IF(Tabla2[[#This Row],[NIVEL ACADEMICO]]=\"BACHILLER\",1,\"\")))","v":""},{"$f":"IF(Tabla2[[#This Row],[PROCEDENCIA]]=\"OTRO\",1,\"\")","v":""}]
["",{"$f":"IFERROR(IF(C406>0,VLOOKUP($F$5,DATA!$A$79:$B$160,2,FALSE),\"\"),\"\")","v":""},null,null,null,null,null,null,null,null,null,{"$f":"IF(Tabla2[[#This Row],[NIVEL ACADEMICO]]=\"OTRO\",1,IF(Tabla2[[#This Row],[NIVEL ACADEMICO]]=\"ESTUDIANTE\",1,IF(Tabla2[[#This Row],[NIVEL ACADEMICO]]=\"BACHILLER\",1,\"\")))","v":""},{"$f":"IF(Tabla2[[#This Row],[PROCEDENCIA]]=\"OTRO\",1,\"\")","v":""}]
["",{"$f":"IFERROR(IF(C407>0,VLOOKUP($F$5,DATA!$A$79:$B$160,2,FALSE),\"\"),\"\")","v":""},null,null,null,null,null,null,null,null,null,{"$f":"IF(Tabla2[[#This Row],[NIVEL ACADEMICO]]=\"OTRO\",1,IF(Tabla2[[#This Row],[NIVEL ACADEMICO]]=\"ESTUDIANTE\",1,IF(Tabla2[[#This Row],[NIVEL ACADEMICO]]=\"BACHILLER\",1,\"\")))","v":""},{"$f":"IF(Tabla2[[#This Row],[PROCEDENCIA]]=\"OTRO\",1,\"\")","v":""}]
["",{"$f":"IFERROR(IF(C408>0,VLOOKUP($F$5,DATA!$A$79:$B$160,2,FALSE),\"\"),\"\")","v":""},null,null,null,null,null,null,null,null,null,{"$f":"IF(Tabla2[[#This Row],[NIVEL ACADEMICO]]=\"OTRO\",1,IF(Tabla2[[#This Row],[NIVEL ACADEMICO]]=\"ESTUDIANTE\",1,IF(Tabla2[[#This Row],[NIVEL ACADEMICO]]=\"BACHILLER\",1,\"\")))","v":""},{"$f":"IF(Tabla2[[#This Row],[PROCEDENCIA]]=\"OTRO\",1,\"\")","v":""}]
["",{"$f":"IFERROR(IF(C409>0,VLOOKUP($F$5,DATA!$A$79:$B$160,2,FALSE),\"\"),\"\")","v":""},null,null,null,null,null,null,null,null,null,{"$f":"IF(Tabla2[[#This Row],[NIVEL ACADEMICO]]=\"OTRO\",1,IF(Tabla2[[#This Row],[NIVEL ACADEMICO]]=\"ESTUDIANTE\",1,IF(Tabla2[[#This Row],[NIVEL ACADEMICO]]=\"BACHILLER\",1,\"\")))","v":""},{"$f":"IF(Tabla2[[#This Row],[PROCEDENCIA]]=\"OTRO\",1,\"\")","v":""}]
["",{"$f":"IFERROR(IF(C410>0,VLOOKUP($F$5,DATA!$A$79:$B$160,2,FALSE),\"\"),\"\")","v":""},null,null,null,null,null,null,null,null,null,{"$f":"IF(Tabla2[[#This Row],[NIVEL ACADEMICO]]=\"OTRO\",1,IF(Tabla2[[#This Row],[NIVEL ACADEMICO]]=\"ESTUDIANTE\",1,IF(Tabla2[[#This Row],[NIVEL ACADEMICO]]=\"BACHILLER\",1,\"\")))","v":""},{"$f":"IF(Tabla2[[#This Row],[PROCEDENCIA]]=\"OTRO\",1,\"\")","v":""}]
["",{"$f":"IFERROR(IF(C411>0,VLOOKUP($F$5,DATA!$A$79:$B$160,2,FALSE),\"\"),\"\")","v":""},null,null,null,null,null,null,null,null,null,{"$f":"IF(Tabla2[[#This Row],[NIVEL ACADEMICO]]=\"OTRO\",1,IF(Tabla2[[#This Row],[NIVEL ACADEMICO]]=\"ESTUDIANTE\",1,IF(Tabla2[[#This Row],[NIVEL ACADEMICO]]=\"BACHILLER\",1,\"\")))","v":""},{"$f":"IF(Tabla2[[#This Row],[PROCEDENCIA]]=\"OTRO\",1,\"\")","v":""}]
["",{"$f":"IFERROR(IF(C412>0,VLOOKUP($F$5,DATA!$A$79:$B$160,2,FALSE),\"\"),\"\")","v":""},null,null,null,null,null,null,null,null,null,{"$f":"IF(Tabla2[[#This Row],[NIVEL ACADEMICO]]=\"OTRO\",1,IF(Tabla2[[#This Row],[NIVEL ACADEMICO]]=\"ESTUDIANTE\",1,IF(Tabla2[[#This Row],[NIVEL ACADEMICO]]=\"BACHILLER\",1,\"\")))","v":""},{"$f":"IF(Tabla2[[#This Row],[PROCEDENCIA]]=\"OTRO\",1,\"\")","v":""}]
["",{"$f":"IFERROR(IF(C413>0,VLOOKUP($F$5,DATA!$A$79:$B$160,2,FALSE),\"\"),\"\")","v":""},null,null,null,null,null,null,null,null,null,{"$f":"IF(Tabla2[[#This Row],[NIVEL ACADEMICO]]=\"OTRO\",1,IF(Tabla2[[#This Row],[NIVEL ACADEMICO]]=\"ESTUDIANTE\",1,IF(Tabla2[[#This Row],[NIVEL ACADEMICO]]=\"BACHILLER\",1,\"\")))","v":""},{"$f":"IF(Tabla2[[#This Row],[PROCEDENCIA]]=\"OTRO\",1,\"\")","v":""}]
["",{"$f":"IFERROR(IF(C414>0,VLOOKUP($F$5,DATA!$A$79:$B$160,2,FALSE),\"\"),\"\")","v":""},null,null,null,null,null,null,null,null,null,{"$f":"IF(Tabla2[[#This Row],[NIVEL ACADEMICO]]=\"OTRO\",1,IF(Tabla2[[#This Row],[NIVEL ACADEMICO]]=\"ESTUDIANTE\",1,IF(Tabla2[[#This Row],[NIVEL ACADEMICO]]=\"BACHILLER\",1,\"\")))","v":""},{"$f":"IF(Tabla2[[#This Row],[PROCEDENCIA]]=\"OTRO\",1,\"\")","v":""}]
["",{"$f":"IFERROR(IF(C415>0,VLOOKUP($F$5,DATA!$A$79:$B$160,2,FALSE),\"\"),\"\")","v":""},null,null,null,null,null,null,null,null,null,{"$f":"IF(Tabla2[[#This Row],[NIVEL ACADEMICO]]=\"OTRO\",1,IF(Tabla2[[#This Row],[NIVEL ACADEMICO]]=\"ESTUDIANTE\",1,IF(Tabla2[[#This Row],[NIVEL ACADEMICO]]=\"BACHILLER\",1,\"\")))","v":""},{"$f":"IF(Tabla2[[#This Row],[PROCEDENCIA]]=\"OTRO\",1,\"\")","v":""}]
["",{"$f":"IFERROR(IF(C416>0,VLOOKUP($F$5,DATA!$A$79:$B$160,2,FALSE),\"\"),\"\")","v":""},null,null,null,null,null,null,null,null,null,{"$f":"IF(Tabla2[[#This Row],[NIVEL ACADEMICO]]=\"OTRO\",1,IF(Tabla2[[#This Row],[NIVEL ACADEMICO]]=\"ESTUDIANTE\",1,IF(Tabla2[[#This Row],[NIVEL ACADEMICO]]=\"BACHILLER\",1,\"\")))","v":""},{"$f":"IF(Tabla2[[#This Row],[PROCEDENCIA]]=\"OTRO\",1,\"\")","v":""}]
["",{"$f":"IFERROR(IF(C417>0,VLOOKUP($F$5,DATA!$A$79:$B$160,2,FALSE),\"\"),\"\")","v":""},null,null,null,null,null,null,null,null,null,{"$f":"IF(Tabla2[[#This Row],[NIVEL ACADEMICO]]=\"OTRO\",1,IF(Tabla2[[#This Row],[NIVEL ACADEMICO]]=\"ESTUDIANTE\",1,IF(Tabla2[[#This Row],[NIVEL ACADEMICO]]=\"BACHILLER\",1,\"\")))","v":""},{"$f":"IF(Tabla2[[#This Row],[PROCEDENCIA]]=\"OTRO\",1,\"\")","v":""}]
["",{"$f":"IFERROR(IF(C418>0,VLOOKUP($F$5,DATA!$A$79:$B$160,2,FALSE),\"\"),\"\")","v":""},null,null,null,null,null,null,null,null,null,{"$f":"IF(Tabla2[[#This Row],[NIVEL ACADEMICO]]=\"OTRO\",1,IF(Tabla2[[#This Row],[NIVEL ACADEMICO]]=\"ESTUDIANTE\",1,IF(Tabla2[[#This Row],[NIVEL ACADEMICO]]=\"BACHILLER\",1,\"\")))","v":""},{"$f":"IF(Tabla2[[#This Row],[PROCEDENCIA]]=\"OTRO\",1,\"\")","v":""}]
["",{"$f":"IFERROR(IF(C419>0,VLOOKUP($F$5,DATA!$A$79:$B$160,2,FALSE),\"\"),\"\")","v":""},null,null,null,null,null,null,null,null,null,{"$f":"IF(Tabla2[[#This Row],[NIVEL ACADEMICO]]=\"OTRO\",1,IF(Tabla2[[#This Row],[NIVEL ACADEMICO]]=\"ESTUDIANTE\",1,IF(Tabla2[[#This Row],[NIVEL ACADEMICO]]=\"BACHILLER\",1,\"\")))","v":""},{"$f":"IF(Tabla2[[#This Row],[PROCEDENCIA]]=\"OTRO\",1,\"\")","v":""}]
["",{"$f":"IFERROR(IF(C420>0,VLOOKUP($F$5,DATA!$A$79:$B$160,2,FALSE),\"\"),\"\")","v":""},null,null,null,null,null,null,null,null,null,{"$f":"IF(Tabla2[[#This Row],[NIVEL ACADEMICO]]=\"OTRO\",1,IF(Tabla2[[#This Row],[NIVEL ACADEMICO]]=\"ESTUDIANTE\",1,IF(Tabla2[[#This Row],[NIVEL ACADEMICO]]=\"BACHILLER\",1,\"\")))","v":""},{"$f":"IF(Tabla2[[#This Row],[PROCEDENCIA]]=\"OTRO\",1,\"\")","v":""}]
["",{"$f":"IFERROR(IF(C421>0,VLOOKUP($F$5,DATA!$A$79:$B$160,2,FALSE),\"\"),\"\")","v":""},null,null,null,null,null,null,null,null,null,{"$f":"IF(Tabla2[[#This Row],[NIVEL ACADEMICO]]=\"OTRO\",1,IF(Tabla2[[#This Row],[NIVEL ACADEMICO]]=\"ESTUDIANTE\",1,IF(Tabla2[[#This Row],[NIVEL ACADEMICO]]=\"BACHILLER\",1,\"\")))","v":""},{"$f":"IF(Tabla2[[#This Row],[PROCEDENCIA]]=\"OTRO\",1,\"\")","v":""}]
["",{"$f":"IFERROR(IF(C422>0,VLOOKUP($F$5,DATA!$A$79:$B$160,2,FALSE),\"\"),\"\")","v":""},null,null,null,null,null,null,null,null,null,{"$f":"IF(Tabla2[[#This Row],[NIVEL ACADEMICO]]=\"OTRO\",1,IF(Tabla2[[#This Row],[NIVEL ACADEMICO]]=\"ESTUDIANTE\",1,IF(Tabla2[[#This Row],[NIVEL ACADEMICO]]=\"BACHILLER\",1,\"\")))","v":""},{"$f":"IF(Tabla2[[#This Row],[PROCEDENCIA]]=\"OTRO\",1,\"\")","v":""}]
["",{"$f":"IFERROR(IF(C423>0,VLOOKUP($F$5,DATA!$A$79:$B$160,2,FALSE),\"\"),\"\")","v":""},null,null,null,null,null,null,null,null,null,{"$f":"IF(Tabla2[[#This Row],[NIVEL ACADEMICO]]=\"OTRO\",1,IF(Tabla2[[#This Row],[NIVEL ACADEMICO]]=\"ESTUDIANTE\",1,IF(Tabla2[[#This Row],[NIVEL ACADEMICO]]=\"BACHILLER\",1,\"\")))","v":""},{"$f":"IF(Tabla2[[#This Row],[PROCEDENCIA]]=\"OTRO\",1,\"\")","v":""}]
["",{"$f":"IFERROR(IF(C424>0,VLOOKUP($F$5,DATA!$A$79:$B$160,2,FALSE),\"\"),\"\")","v":""},null,null,null,null,null,null,null,null,null,{"$f":"IF(Tabla2[[#This Row],[NIVEL ACADEMICO]]=\"OTRO\",1,IF(Tabla2[[#This Row],[NIVEL ACADEMICO]]=\"ESTUDIANTE\",1,IF(Tabla2[[#This Row],[NIVEL ACADEMICO]]=\"BACHILLER\",1,\"\")))","v":""},{"$f":"IF(Tabla2[[#This Row],[PROCEDENCIA]]=\"OTRO\",1,\"\")","v":""}]
["",{"$f":"IFERROR(IF(C425>0,VLOOKUP($F$5,DATA!$A$79:$B$160,2,FALSE),\"\"),\"\")","v":""},null,null,null,null,null,null,null,null,null,{"$f":"IF(Tabla2[[#This Row],[NIVEL ACADEMICO]]=\"OTRO\",1,IF(Tabla2[[#This Row],[NIVEL ACADEMICO]]=\"ESTUDIANTE\",1,IF(Tabla2[[#This Row],[NIVEL ACADEMICO]]=\"BACHILLER\",1,\"\")))","v":""},{"$f":"IF(Tabla2[[#This Row],[PROCEDENCIA]]=\"OTRO\",1,\"\")","v":""}]
["",{"$f":"IFERROR(IF(C426>0,VLOOKUP($F$5,DATA!$A$79:$B$160,2,FALSE),\"\"),\"\")","v":""},null,null,null,null,null,null,null,null,null,{"$f":"IF(Tabla2[[#This Row],[NIVEL ACADEMICO]]=\"OTRO\",1,IF(Tabla2[[#This Row],[NIVEL ACADEMICO]]=\"ESTUDIANTE\",1,IF(Tabla2[[#This Row],[NIVEL ACADEMICO]]=\"BACHILLER\",1,\"\")))","v":""},{"$f":"IF(Tabla2[[#This Row],[PROCEDENCIA]]=\"OTRO\",1,\"\")","v":""}]
["",{"$f":"IFERROR(IF(C427>0,VLOOKUP($F$5,DATA!$A$79:$B$160,2,FALSE),\"\"),\"\")","v":""},null,null,null,null,null,null,null,null,null,{"$f":"IF(Tabla2[[#This Row],[NIVEL ACADEMICO]]=\"OTRO\",1,IF(Tabla2[[#This Row],[NIVEL ACADEMICO]]=\"ESTUDIANTE\",1,IF(Tabla2[[#This Row],[NIVEL ACADEMICO]]=\"BACHILLER\",1,\"\")))","v":""},{"$f":"IF(Tabla2[[#This Row],[PROCEDENCIA]]=\"OTRO\",1,\"\")","v":""}]
["",{"$f":"IFERROR(IF(C428>0,VLOOKUP($F$5,DATA!$A$79:$B$160,2,FALSE),\"\"),\"\")","v":""},null,null,null,null,null,null,null,null,null,{"$f":"IF(Tabla2[[#This Row],[NIVEL ACADEMICO]]=\"OTRO\",1,IF(Tabla2[[#This Row],[NIVEL ACADEMICO]]=\"ESTUDIANTE\",1,IF(Tabla2[[#This Row],[NIVEL ACADEMICO]]=\"BACHILLER\",1,\"\")))","v":""},{"$f":"IF(Tabla2[[#This Row],[PROCEDENCIA]]=\"OTRO\",1,\"\")","v":""}]
["",{"$f":"IFERROR(IF(C429>0,VLOOKUP($F$5,DATA!$A$79:$B$160,2,FALSE),\"\"),\"\")","v":""},null,null,null,null,null,null,null,null,null,{"$f":"IF(Tabla2[[#This Row],[NIVEL ACADEMICO]]=\"OTRO\",1,IF(Tabla2[[#This Row],[NIVEL ACADEMICO]]=\"ESTUDIANTE\",1,IF(Tabla2[[#This Row],[NIVEL ACADEMICO]]=\"BACHILLER\",1,\"\")))","v":""},{"$f":"IF(Tabla2[[#This Row],[PROCEDENCIA]]=\"OTRO\",1,\"\")","v":""}]
["",{"$f":"IFERROR(IF(C430>0,VLOOKUP($F$5,DATA!$A$79:$B$160,2,FALSE),\"\"),\"\")","v":""},null,null,null,null,null,null,null,null,null,{"$f":"IF(Tabla2[[#This Row],[NIVEL ACADEMICO]]=\"OTRO\",1,IF(Tabla2[[#This Row],[NIVEL ACADEMICO]]=\"ESTUDIANTE\",1,IF(Tabla2[[#This Row],[NIVEL ACADEMICO]]=\"BACHILLER\",1,\"\")))","v":""},{"$f":"IF(Tabla2[[#This Row],[PROCEDENCIA]]=\"OTRO\",1,\"\")","v":""}]
["",{"$f":"IFERROR(IF(C431>0,VLOOKUP($F$5,DATA!$A$79:$B$160,2,FALSE),\"\"),\"\")","v":""},null,null,null,null,null,null,null,null,null,{"$f":"IF(Tabla2[[#This Row],[NIVEL ACADEMICO]]=\"OTRO\",1,IF(Tabla2[[#This Row],[NIVEL ACADEMICO]]=\"ESTUDIANTE\",1,IF(Tabla2[[#This Row],[NIVEL ACADEMICO]]=\"BACHILLER\",1,\"\")))","v":""},{"$f":"IF(Tabla2[[#This Row],[PROCEDENCIA]]=\"OTRO\",1,\"\")","v":""}]
[{"$f":"IF(C432>0,ROW()-8,\"\")","v":""},{"$f":"IFERROR(IF(C432>0,VLOOKUP($F$5,DATA!$A$79:$B$160,2,FALSE),\"\"),\"\")","v":""},null,null,null,null,null,null,null,null,null,{"$f":"IF(Tabla2[[#This Row],[NIVEL ACADEMICO]]=\"OTRO\",1,IF(Tabla2[[#This Row],[NIVEL ACADEMICO]]=\"ESTUDIANTE\",1,IF(Tabla2[[#This Row],[NIVEL ACADEMICO]]=\"BACHILLER\",1,\"\")))","v":""},{"$f":"IF(Tabla2[[#This Row],[PROCEDENCIA]]=\"OTRO\",1,\"\")","v":""}]
["",{"$f":"IFERROR(IF(C433>0,VLOOKUP($F$5,DATA!$A$79:$B$160,2,FALSE),\"\"),\"\")","v":""},null,null,null,null,null,null,null,null,null,{"$f":"IF(Tabla2[[#This Row],[NIVEL ACADEMICO]]=\"OTRO\",1,IF(Tabla2[[#This Row],[NIVEL ACADEMICO]]=\"ESTUDIANTE\",1,IF(Tabla2[[#This Row],[NIVEL ACADEMICO]]=\"BACHILLER\",1,\"\")))","v":""},{"$f":"IF(Tabla2[[#This Row],[PROCEDENCIA]]=\"OTRO\",1,\"\")","v":""}]
["",{"$f":"IFERROR(IF(C434>0,VLOOKUP($F$5,DATA!$A$79:$B$160,2,FALSE),\"\"),\"\")","v":""},null,null,null,null,null,null,null,null,null,{"$f":"IF(Tabla2[[#This Row],[NIVEL ACADEMICO]]=\"OTRO\",1,IF(Tabla2[[#This Row],[NIVEL ACADEMICO]]=\"ESTUDIANTE\",1,IF(Tabla2[[#This Row],[NIVEL ACADEMICO]]=\"BACHILLER\",1,\"\")))","v":""},{"$f":"IF(Tabla2[[#This Row],[PROCEDENCIA]]=\"OTRO\",1,\"\")","v":""}]
["",{"$f":"IFERROR(IF(C435>0,VLOOKUP($F$5,DATA!$A$79:$B$160,2,FALSE),\"\"),\"\")","v":""},null,null,null,null,null,null,null,null,null,{"$f":"IF(Tabla2[[#This Row],[NIVEL ACADEMICO]]=\"OTRO\",1,IF(Tabla2[[#This Row],[NIVEL ACADEMICO]]=\"ESTUDIANTE\",1,IF(Tabla2[[#This Row],[NIVEL ACADEMICO]]=\"BACHILLER\",1,\"\")))","v":""},{"$f":"IF(Tabla2[[#This Row],[PROCEDENCIA]]=\"OTRO\",1,\"\")","v":""}]
["",{"$f":"IFERROR(IF(C436>0,VLOOKUP($F$5,DATA!$A$79:$B$160,2,FALSE),\"\"),\"\")","v":""},null,null,null,null,null,null,null,null,null,{"$f":"IF(Tabla2[[#This Row],[NIVEL ACADEMICO]]=\"OTRO\",1,IF(Tabla2[[#This Row],[NIVEL ACADEMICO]]=\"ESTUDIANTE\",1,IF(Tabla2[[#This Row],[NIVEL ACADEMICO]]=\"BACHILLER\",1,\"\")))","v":""},{"$f":"IF(Tabla2[[#This Row],[PROCEDENCIA]]=\"OTRO\",1,\"\")","v":""}]
["",{"$f":"IFERROR(IF(C437>0,VLOOKUP($F$5,DATA!$A$79:$B$160,2,FALSE),\"\"),\"\")","v":""},null,null,null,null,null,null,null,null,null,{"$f":"IF(Tabla2[[#This Row],[NIVEL ACADEMICO]]=\"OTRO\",1,IF(Tabla2[[#This Row],[NIVEL ACADEMICO]]=\"ESTUDIANTE\",1,IF(Tabla2[[#This Row],[NIVEL ACADEMICO]]=\"BACHILLER\",1,\"\")))","v":""},{"$f":"IF(Tabla2[[#This Row],[PROCEDENCIA]]=\"OTRO\",1,\"\")","v":""}]
["",{"$f":"IFERROR(IF(C438>0,VLOOKUP($F$5,DATA!$A$79:$B$160,2,FALSE),\"\"),\"\")","v":""},null,null,null,null,null,null,null,null,null,{"$f":"IF(Tabla2[[#This Row],[NIVEL ACADEMICO]]=\"OTRO\",1,IF(Tabla2[[#This Row],[NIVEL ACADEMICO]]=\"ESTUDIANTE\",1,IF(Tabla2[[#This Row],[NIVEL ACADEMICO]]=\"BACHILLER\",1,\"\")))","v":""},{"$f":"IF(Tabla2[[#This Row],[PROCEDENCIA]]=\"OTRO\",1,\"\")","v":""}]
["",{"$f":"IFERROR(IF(C439>0,VLOOKUP($F$5,DATA!$A$79:$B$160,2,FALSE),\"\"),\"\")","v":""},null,null,null,null,null,null,null,null,null,{"$f":"IF(Tabla2[[#This Row],[NIVEL ACADEMICO]]=\"OTRO\",1,IF(Tabla2[[#This Row],[NIVEL ACADEMICO]]=\"ESTUDIANTE\",1,IF(Tabla2[[#This Row],[NIVEL ACADEMICO]]=\"BACHILLER\",1,\"\")))","v":""},{"$f":"IF(Tabla2[[#This Row],[PROCEDENCIA]]=\"OTRO\",1,\"\")","v":""}]
["",{"$f":"IFERROR(IF(C440>0,VLOOKUP($F$5,DATA!$A$79:$B$160,2,FALSE),\"\"),\"\")","v":""},null,null,null,null,null,null,null,null,null,{"$f":"IF(Tabla2[[#This Row],[NIVEL ACADEMICO]]=\"OTRO\",1,IF(Tabla2[[#This Row],[NIVEL ACADEMICO]]=\"ESTUDIANTE\",1,IF(Tabla2[[#This Row],[NIVEL ACADEMICO]]=\"BACHILLER\",1,\"\")))","v":""},{"$f":"IF(Tabla2[[#This Row],[PROCEDENCIA]]=\"OTRO\",1,\"\")","v":""}]
["",{"$f":"IFERROR(IF(C441>0,VLOOKUP($F$5,DATA!$A$79:$B$160,2,FALSE),\"\"),\"\")","v":""},null,null,null,null,null,null,null,null,null,{"$f":"IF(Tabla2[[#This Row],[NIVEL ACADEMICO]]=\"OTRO\",1,IF(Tabla2[[#This Row],[NIVEL ACADEMICO]]=\"ESTUDIANTE\",1,IF(Tabla2[[#This Row],[NIVEL ACADEMICO]]=\"BACHILLER\",1,\"\")))","v":""},{"$f":"IF(Tabla2[[#This Row],[PROCEDENCIA]]=\"OTRO\",1,\"\")","v":""}]
["",{"$f":"IFERROR(IF(C442>0,VLOOKUP($F$5,DATA!$A$79:$B$160,2,FALSE),\"\"),\"\")","v":""},null,null,null,null,null,null,null,null,null,{"$f":"IF(Tabla2[[#This Row],[NIVEL ACADEMICO]]=\"OTRO\",1,IF(Tabla2[[#This Row],[NIVEL ACADEMICO]]=\"ESTUDIANTE\",1,IF(Tabla2[[#This Row],[NIVEL ACADEMICO]]=\"BACHILLER\",1,\"\")))","v":""},{"$f":"IF(Tabla2[[#This Row],[PROCEDENCIA]]=\"OTRO\",1,\"\")","v":""}]
["",{"$f":"IFERROR(IF(C443>0,VLOOKUP($F$5,DATA!$A$79:$B$160,2,FALSE),\"\"),\"\")","v":""},null,null,null,null,null,null,null,null,null,{"$f":"IF(Tabla2[[#This Row],[NIVEL ACADEMICO]]=\"OTRO\",1,IF(Tabla2[[#This Row],[NIVEL ACADEMICO]]=\"ESTUDIANTE\",1,IF(Tabla2[[#This Row],[NIVEL ACADEMICO]]=\"BACHILLER\",1,\"\")))","v":""},{"$f":"IF(Tabla2[[#This Row],[PROCEDENCIA]]=\"OTRO\",1,\"\")","v":""}]
["",{"$f":"IFERROR(IF(C444>0,VLOOKUP($F$5,DATA!$A$79:$B$160,2,FALSE),\"\"),\"\")","v":""},null,null,null,null,null,null,null,null,null,{"$f":"IF(Tabla2[[#This Row],[NIVEL ACADEMICO]]=\"OTRO\",1,IF(Tabla2[[#This Row],[NIVEL ACADEMICO]]=\"ESTUDIANTE\",1,IF(Tabla2[[#This Row],[NIVEL ACADEMICO]]=\"BACHILLER\",1,\"\")))","v":""},{"$f":"IF(Tabla2[[#This Row],[PROCEDENCIA]]=\"OTRO\",1,\"\")","v":""}]
["",{"$f":"IFERROR(IF(C445>0,VLOOKUP($F$5,DATA!$A$79:$B$160,2,FALSE),\"\"),\"\")","v":""},null,null,null,null,null,null,null,null,null,{"$f":"IF(Tabla2[[#This Row],[NIVEL ACADEMICO]]=\"OTRO\",1,IF(Tabla2[[#This Row],[NIVEL ACADEMICO]]=\"ESTUDIANTE\",1,IF(Tabla2[[#This Row],[NIVEL ACADEMICO]]=\"BACHILLER\",1,\"\")))","v":""},{"$f":"IF(Tabla2[[#This Row],[PROCEDENCIA]]=\"OTRO\",1,\"\")","v":""}]
["",{"$f":"IFERROR(IF(C446>0,VLOOKUP($F$5,DATA!$A$79:$B$160,2,FALSE),\"\"),\"\")","v":""},null,null,null,null,null,null,null,null,null,{"$f":"IF(Tabla2[[#This Row],[NIVEL ACADEMICO]]=\"OTRO\",1,IF(Tabla2[[#This Row],[NIVEL ACADEMICO]]=\"ESTUDIANTE\",1,IF(Tabla2[[#This Row],[NIVEL ACADEMICO]]=\"BACHILLER\",1,\"\")))","v":""},{"$f":"IF(Tabla2[[#This Row],[PROCEDENCIA]]=\"OTRO\",1,\"\")","v":""}]
["",{"$f":"IFERROR(IF(C447>0,VLOOKUP($F$5,DATA!$A$79:$B$160,2,FALSE),\"\"),\"\")","v":""},null,null,null,null,null,null,null,null,null,{"$f":"IF(Tabla2[[#This Row],[NIVEL ACADEMICO]]=\"OTRO\",1,IF(Tabla2[[#This Row],[NIVEL ACADEMICO]]=\"ESTUDIANTE\",1,IF(Tabla2[[#This Row],[NIVEL ACADEMICO]]=\"BACHILLER\",1,\"\")))","v":""},{"$f":"IF(Tabla2[[#This Row],[PROCEDENCIA]]=\"OTRO\",1,\"\")","v":""}]
["",{"$f":"IFERROR(IF(C448>0,VLOOKUP($F$5,DATA!$A$79:$B$160,2,FALSE),\"\"),\"\")","v":""},null,null,null,null,null,null,null,null,null,{"$f":"IF(Tabla2[[#This Row],[NIVEL ACADEMICO]]=\"OTRO\",1,IF(Tabla2[[#This Row],[NIVEL ACADEMICO]]=\"ESTUDIANTE\",1,IF(Tabla2[[#This Row],[NIVEL ACADEMICO]]=\"BACHILLER\",1,\"\")))","v":""},{"$f":"IF(Tabla2[[#This Row],[PROCEDENCIA]]=\"OTRO\",1,\"\")","v":""}]
["",{"$f":"IFERROR(IF(C449>0,VLOOKUP($F$5,DATA!$A$79:$B$160,2,FALSE),\"\"),\"\")","v":""},null,null,null,null,null,null,null,null,null,{"$f":"IF(Tabla2[[#This Row],[NIVEL ACADEMICO]]=\"OTRO\",1,IF(Tabla2[[#This Row],[NIVEL ACADEMICO]]=\"ESTUDIANTE\",1,IF(Tabla2[[#This Row],[NIVEL ACADEMICO]]=\"BACHILLER\",1,\"\")))","v":""},{"$f":"IF(Tabla2[[#This Row],[PROCEDENCIA]]=\"OTRO\",1,\"\")","v":""}]
["",{"$f":"IFERROR(IF(C450>0,VLOOKUP($F$5,DATA!$A$79:$B$160,2,FALSE),\"\"),\"\")","v":""},null,null,null,null,null,null,null,null,null,{"$f":"IF(Tabla2[[#This Row],[NIVEL ACADEMICO]]=\"OTRO\",1,IF(Tabla2[[#This Row],[NIVEL ACADEMICO]]=\"ESTUDIANTE\",1,IF(Tabla2[[#This Row],[NIVEL ACADEMICO]]=\"BACHILLER\",1,\"\")))","v":""},{"$f":"IF(Tabla2[[#This Row],[PROCEDENCIA]]=\"OTRO\",1,\"\")","v":""}]
["",{"$f":"IFERROR(IF(C451>0,VLOOKUP($F$5,DATA!$A$79:$B$160,2,FALSE),\"\"),\"\")","v":""},null,null,null,null,null,null,null,null,null,{"$f":"IF(Tabla2[[#This Row],[NIVEL ACADEMICO]]=\"OTRO\",1,IF(Tabla2[[#This Row],[NIVEL ACADEMICO]]=\"ESTUDIANTE\",1,IF(Tabla2[[#This Row],[NIVEL ACADEMICO]]=\"BACHILLER\",1,\"\")))","v":""},{"$f":"IF(Tabla2[[#This Row],[PROCEDENCIA]]=\"OTRO\",1,\"\")","v":""}]
["",{"$f":"IFERROR(IF(C452>0,VLOOKUP($F$5,DATA!$A$79:$B$160,2,FALSE),\"\"),\"\")","v":""},null,null,null,null,null,null,null,null,null,{"$f":"IF(Tabla2[[#This Row],[NIVEL ACADEMICO]]=\"OTRO\",1,IF(Tabla2[[#This Row],[NIVEL ACADEMICO]]=\"ESTUDIANTE\",1,IF(Tabla2[[#This Row],[NIVEL ACADEMICO]]=\"BACHILLER\",1,\"\")))","v":""},{"$f":"IF(Tabla2[[#This Row],[PROCEDENCIA]]=\"OTRO\",1,\"\")","v":""}]
["",{"$f":"IFERROR(IF(C453>0,VLOOKUP($F$5,DATA!$A$79:$B$160,2,FALSE),\"\"),\"\")","v":""},null,null,null,null,null,null,null,null,null,{"$f":"IF(Tabla2[[#This Row],[NIVEL ACADEMICO]]=\"OTRO\",1,IF(Tabla2[[#This Row],[NIVEL ACADEMICO]]=\"ESTUDIANTE\",1,IF(Tabla2[[#This Row],[NIVEL ACADEMICO]]=\"BACHILLER\",1,\"\")))","v":""},{"$f":"IF(Tabla2[[#This Row],[PROCEDENCIA]]=\"OTRO\",1,\"\")","v":""}]
["",{"$f":"IFERROR(IF(C454>0,VLOOKUP($F$5,DATA!$A$79:$B$160,2,FALSE),\"\"),\"\")","v":""},null,null,null,null,null,null,null,null,null,{"$f":"IF(Tabla2[[#This Row],[NIVEL ACADEMICO]]=\"OTRO\",1,IF(Tabla2[[#This Row],[NIVEL ACADEMICO]]=\"ESTUDIANTE\",1,IF(Tabla2[[#This Row],[NIVEL ACADEMICO]]=\"BACHILLER\",1,\"\")))","v":""},{"$f":"IF(Tabla2[[#This Row],[PROCEDENCIA]]=\"OTRO\",1,\"\")","v":""}]
["",{"$f":"IFERROR(IF(C455>0,VLOOKUP($F$5,DATA!$A$79:$B$160,2,FALSE),\"\"),\"\")","v":""},null,null,null,null,null,null,null,null,null,{"$f":"IF(Tabla2[[#This Row],[NIVEL ACADEMICO]]=\"OTRO\",1,IF(Tabla2[[#This Row],[NIVEL ACADEMICO]]=\"ESTUDIANTE\",1,IF(Tabla2[[#This Row],[NIVEL ACADEMICO]]=\"BACHILLER\",1,\"\")))","v":""},{"$f":"IF(Tabla2[[#This Row],[PROCEDENCIA]]=\"OTRO\",1,\"\")","v":""}]
["",{"$f":"IFERROR(IF(C456>0,VLOOKUP($F$5,DATA!$A$79:$B$160,2,FALSE),\"\"),\"\")","v":""},null,null,null,null,null,null,null,null,null,{"$f":"IF(Tabla2[[#This Row],[NIVEL ACADEMICO]]=\"OTRO\",1,IF(Tabla2[[#This Row],[NIVEL ACADEMICO]]=\"ESTUDIANTE\",1,IF(Tabla2[[#This Row],[NIVEL ACADEMICO]]=\"BACHILLER\",1,\"\")))","v":""},{"$f":"IF(Tabla2[[#This Row],[PROCEDENCIA]]=\"OTRO\",1,\"\")","v":""}]
["",{"$f":"IFERROR(IF(C457>0,VLOOKUP($F$5,DATA!$A$79:$B$160,2,FALSE),\"\"),\"\")","v":""},null,null,null,null,null,null,null,null,null,{"$f":"IF(Tabla2[[#This Row],[NIVEL ACADEMICO]]=\"OTRO\",1,IF(Tabla2[[#This Row],[NIVEL ACADEMICO]]=\"ESTUDIANTE\",1,IF(Tabla2[[#This Row],[NIVEL ACADEMICO]]=\"BACHILLER\",1,\"\")))","v":""},{"$f":"IF(Tabla2[[#This Row],[PROCEDENCIA]]=\"OTRO\",1,\"\")","v":""}]
["",{"$f":"IFERROR(IF(C458>0,VLOOKUP($F$5,DATA!$A$79:$B$160,2,FALSE),\"\"),\"\")","v":""},null,null,null,null,null,null,null,null,null,{"$f":"IF(Tabla2[[#This Row],[NIVEL ACADEMICO]]=\"OTRO\",1,IF(Tabla2[[#This Row],[NIVEL ACADEMICO]]=\"ESTUDIANTE\",1,IF(Tabla2[[#This Row],[NIVEL ACADEMICO]]=\"BACHILLER\",1,\"\")))","v":""},{"$f":"IF(Tabla2[[#This Row],[PROCEDENCIA]]=\"OTRO\",1,\"\")","v":""}]
["",{"$f":"IFERROR(IF(C459>0,VLOOKUP($F$5,DATA!$A$79:$B$160,2,FALSE),\"\"),\"\")","v":""},null,null,null,null,null,null,null,null,null,{"$f":"IF(Tabla2[[#This Row],[NIVEL ACADEMICO]]=\"OTRO\",1,IF(Tabla2[[#This Row],[NIVEL ACADEMICO]]=\"ESTUDIANTE\",1,IF(Tabla2[[#This Row],[NIVEL ACADEMICO]]=\"BACHILLER\",1,\"\")))","v":""},{"$f":"IF(Tabla2[[#This Row],[PROCEDENCIA]]=\"OTRO\",1,\"\")","v":""}]
["",{"$f":"IFERROR(IF(C460>0,VLOOKUP($F$5,DATA!$A$79:$B$160,2,FALSE),\"\"),\"\")","v":""},null,null,null,null,null,null,null,null,null,{"$f":"IF(Tabla2[[#This Row],[NIVEL ACADEMICO]]=\"OTRO\",1,IF(Tabla2[[#This Row],[NIVEL ACADEMICO]]=\"ESTUDIANTE\",1,IF(Tabla2[[#This Row],[NIVEL ACADEMICO]]=\"BACHILLER\",1,\"\")))","v":""},{"$f":"IF(Tabla2[[#This Row],[PROCEDENCIA]]=\"OTRO\",1,\"\")","v":""}]
["",{"$f":"IFERROR(IF(C461>0,VLOOKUP($F$5,DATA!$A$79:$B$160,2,FALSE),\"\"),\"\")","v":""},null,null,null,null,null,null,null,null,null,{"$f":"IF(Tabla2[[#This Row],[NIVEL ACADEMICO]]=\"OTRO\",1,IF(Tabla2[[#This Row],[NIVEL ACADEMICO]]=\"ESTUDIANTE\",1,IF(Tabla2[[#This Row],[NIVEL ACADEMICO]]=\"BACHILLER\",1,\"\")))","v":""},{"$f":"IF(Tabla2[[#This Row],[PROCEDENCIA]]=\"OTRO\",1,\"\")","v":""}]
["",{"$f":"IFERROR(IF(C462>0,VLOOKUP($F$5,DATA!$A$79:$B$160,2,FALSE),\"\"),\"\")","v":""},null,null,null,null,null,null,null,null,null,{"$f":"IF(Tabla2[[#This Row],[NIVEL ACADEMICO]]=\"OTRO\",1,IF(Tabla2[[#This Row],[NIVEL ACADEMICO]]=\"ESTUDIANTE\",1,IF(Tabla2[[#This Row],[NIVEL ACADEMICO]]=\"BACHILLER\",1,\"\")))","v":""},{"$f":"IF(Tabla2[[#This Row],[PROCEDENCIA]]=\"OTRO\",1,\"\")","v":""}]
["",{"$f":"IFERROR(IF(C463>0,VLOOKUP($F$5,DATA!$A$79:$B$160,2,FALSE),\"\"),\"\")","v":""},null,null,null,null,null,null,null,null,null,{"$f":"IF(Tabla2[[#This Row],[NIVEL ACADEMICO]]=\"OTRO\",1,IF(Tabla2[[#This Row],[NIVEL ACADEMICO]]=\"ESTUDIANTE\",1,IF(Tabla2[[#This Row],[NIVEL ACADEMICO]]=\"BACHILLER\",1,\"\")))","v":""},{"$f":"IF(Tabla2[[#This Row],[PROCEDENCIA]]=\"OTRO\",1,\"\")","v":""}]
[{"$f":"IF(C464>0,ROW()-8,\"\")","v":""},{"$f":"IFERROR(IF(C464>0,VLOOKUP($F$5,DATA!$A$79:$B$160,2,FALSE),\"\"),\"\")","v":""},null,null,null,null,null,null,null,null,null,{"$f":"IF(Tabla2[[#This Row],[NIVEL ACADEMICO]]=\"OTRO\",1,IF(Tabla2[[#This Row],[NIVEL ACADEMICO]]=\"ESTUDIANTE\",1,IF(Tabla2[[#This Row],[NIVEL ACADEMICO]]=\"BACHILLER\",1,\"\")))","v":""},{"$f":"IF(Tabla2[[#This Row],[PROCEDENCIA]]=\"OTRO\",1,\"\")","v":""}]
["",{"$f":"IFERROR(IF(C465>0,VLOOKUP($F$5,DATA!$A$79:$B$160,2,FALSE),\"\"),\"\")","v":""},null,null,null,null,null,null,null,null,null,{"$f":"IF(Tabla2[[#This Row],[NIVEL ACADEMICO]]=\"OTRO\",1,IF(Tabla2[[#This Row],[NIVEL ACADEMICO]]=\"ESTUDIANTE\",1,IF(Tabla2[[#This Row],[NIVEL ACADEMICO]]=\"BACHILLER\",1,\"\")))","v":""},{"$f":"IF(Tabla2[[#This Row],[PROCEDENCIA]]=\"OTRO\",1,\"\")","v":""}]
["",{"$f":"IFERROR(IF(C466>0,VLOOKUP($F$5,DATA!$A$79:$B$160,2,FALSE),\"\"),\"\")","v":""},null,null,null,null,null,null,null,null,null,{"$f":"IF(Tabla2[[#This Row],[NIVEL ACADEMICO]]=\"OTRO\",1,IF(Tabla2[[#This Row],[NIVEL ACADEMICO]]=\"ESTUDIANTE\",1,IF(Tabla2[[#This Row],[NIVEL ACADEMICO]]=\"BACHILLER\",1,\"\")))","v":""},{"$f":"IF(Tabla2[[#This Row],[PROCEDENCIA]]=\"OTRO\",1,\"\")","v":""}]
["",{"$f":"IFERROR(IF(C467>0,VLOOKUP($F$5,DATA!$A$79:$B$160,2,FALSE),\"\"),\"\")","v":""},null,null,null,null,null,null,null,null,null,{"$f":"IF(Tabla2[[#This Row],[NIVEL ACADEMICO]]=\"OTRO\",1,IF(Tabla2[[#This Row],[NIVEL ACADEMICO]]=\"ESTUDIANTE\",1,IF(Tabla2[[#This Row],[NIVEL ACADEMICO]]=\"BACHILLER\",1,\"\")))","v":""},{"$f":"IF(Tabla2[[#This Row],[PROCEDENCIA]]=\"OTRO\",1,\"\")","v":""}]
["",{"$f":"IFERROR(IF(C468>0,VLOOKUP($F$5,DATA!$A$79:$B$160,2,FALSE),\"\"),\"\")","v":""},null,null,null,null,null,null,null,null,null,{"$f":"IF(Tabla2[[#This Row],[NIVEL ACADEMICO]]=\"OTRO\",1,IF(Tabla2[[#This Row],[NIVEL ACADEMICO]]=\"ESTUDIANTE\",1,IF(Tabla2[[#This Row],[NIVEL ACADEMICO]]=\"BACHILLER\",1,\"\")))","v":""},{"$f":"IF(Tabla2[[#This Row],[PROCEDENCIA]]=\"OTRO\",1,\"\")","v":""}]
["",{"$f":"IFERROR(IF(C469>0,VLOOKUP($F$5,DATA!$A$79:$B$160,2,FALSE),\"\"),\"\")","v":""},null,null,null,null,null,null,null,null,null,{"$f":"IF(Tabla2[[#This Row],[NIVEL ACADEMICO]]=\"OTRO\",1,IF(Tabla2[[#This Row],[NIVEL ACADEMICO]]=\"ESTUDIANTE\",1,IF(Tabla2[[#This Row],[NIVEL ACADEMICO]]=\"BACHILLER\",1,\"\")))","v":""},{"$f":"IF(Tabla2[[#This Row],[PROCEDENCIA]]=\"OTRO\",1,\"\")","v":""}]
["",{"$f":"IFERROR(IF(C470>0,VLOOKUP($F$5,DATA!$A$79:$B$160,2,FALSE),\"\"),\"\")","v":""},null,null,null,null,null,null,null,null,null,{"$f":"IF(Tabla2[[#This Row],[NIVEL ACADEMICO]]=\"OTRO\",1,IF(Tabla2[[#This Row],[NIVEL ACADEMICO]]=\"ESTUDIANTE\",1,IF(Tabla2[[#This Row],[NIVEL ACADEMICO]]=\"BACHILLER\",1,\"\")))","v":""},{"$f":"IF(Tabla2[[#This Row],[PROCEDENCIA]]=\"OTRO\",1,\"\")","v":""}]
["",{"$f":"IFERROR(IF(C471>0,VLOOKUP($F$5,DATA!$A$79:$B$160,2,FALSE),\"\"),\"\")","v":""},null,null,null,null,null,null,null,null,null,{"$f":"IF(Tabla2[[#This Row],[NIVEL ACADEMICO]]=\"OTRO\",1,IF(Tabla2[[#This Row],[NIVEL ACADEMICO]]=\"ESTUDIANTE\",1,IF(Tabla2[[#This Row],[NIVEL ACADEMICO]]=\"BACHILLER\",1,\"\")))","v":""},{"$f":"IF(Tabla2[[#This Row],[PROCEDENCIA]]=\"OTRO\",1,\"\")","v":""}]
["",{"$f":"IFERROR(IF(C472>0,VLOOKUP($F$5,DATA!$A$79:$B$160,2,FALSE),\"\"),\"\")","v":""},null,null,null,null,null,null,null,null,null,{"$f":"IF(Tabla2[[#This Row],[NIVEL ACADEMICO]]=\"OTRO\",1,IF(Tabla2[[#This Row],[NIVEL ACADEMICO]]=\"ESTUDIANTE\",1,IF(Tabla2[[#This Row],[NIVEL ACADEMICO]]=\"BACHILLER\",1,\"\")))","v":""},{"$f":"IF(Tabla2[[#This Row],[PROCEDENCIA]]=\"OTRO\",1,\"\")","v":""}]
["",{"$f":"IFERROR(IF(C473>0,VLOOKUP($F$5,DATA!$A$79:$B$160,2,FALSE),\"\"),\"\")","v":""},null,null,null,null,null,null,null,null,null,{"$f":"IF(Tabla2[[#This Row],[NIVEL ACADEMICO]]=\"OTRO\",1,IF(Tabla2[[#This Row],[NIVEL ACADEMICO]]=\"ESTUDIANTE\",1,IF(Tabla2[[#This Row],[NIVEL ACADEMICO]]=\"BACHILLER\",1,\"\")))","v":""},{"$f":"IF(Tabla2[[#This Row],[PROCEDENCIA]]=\"OTRO\",1,\"\")","v":""}]
["",{"$f":"IFERROR(IF(C474>0,VLOOKUP($F$5,DATA!$A$79:$B$160,2,FALSE),\"\"),\"\")","v":""},null,null,null,null,null,null,null,null,null,{"$f":"IF(Tabla2[[#This Row],[NIVEL ACADEMICO]]=\"OTRO\",1,IF(Tabla2[[#This Row],[NIVEL ACADEMICO]]=\"ESTUDIANTE\",1,IF(Tabla2[[#This Row],[NIVEL ACADEMICO]]=\"BACHILLER\",1,\"\")))","v":""},{"$f":"IF(Tabla2[[#This Row],[PROCEDENCIA]]=\"OTRO\",1,\"\")","v":""}]
["",{"$f":"IFERROR(IF(C475>0,VLOOKUP($F$5,DATA!$A$79:$B$160,2,FALSE),\"\"),\"\")","v":""},null,null,null,null,null,null,null,null,null,{"$f":"IF(Tabla2[[#This Row],[NIVEL ACADEMICO]]=\"OTRO\",1,IF(Tabla2[[#This Row],[NIVEL ACADEMICO]]=\"ESTUDIANTE\",1,IF(Tabla2[[#This Row],[NIVEL ACADEMICO]]=\"BACHILLER\",1,\"\")))","v":""},{"$f":"IF(Tabla2[[#This Row],[PROCEDENCIA]]=\"OTRO\",1,\"\")","v":""}]
["",{"$f":"IFERROR(IF(C476>0,VLOOKUP($F$5,DATA!$A$79:$B$160,2,FALSE),\"\"),\"\")","v":""},null,null,null,null,null,null,null,null,null,{"$f":"IF(Tabla2[[#This Row],[NIVEL ACADEMICO]]=\"OTRO\",1,IF(Tabla2[[#This Row],[NIVEL ACADEMICO]]=\"ESTUDIANTE\",1,IF(Tabla2[[#This Row],[NIVEL ACADEMICO]]=\"BACHILLER\",1,\"\")))","v":""},{"$f":"IF(Tabla2[[#This Row],[PROCEDENCIA]]=\"OTRO\",1,\"\")","v":""}]
["",{"$f":"IFERROR(IF(C477>0,VLOOKUP($F$5,DATA!$A$79:$B$160,2,FALSE),\"\"),\"\")","v":""},null,null,null,null,null,null,null,null,null,{"$f":"IF(Tabla2[[#This Row],[NIVEL ACADEMICO]]=\"OTRO\",1,IF(Tabla2[[#This Row],[NIVEL ACADEMICO]]=\"ESTUDIANTE\",1,IF(Tabla2[[#This Row],[NIVEL ACADEMICO]]=\"BACHILLER\",1,\"\")))","v":""},{"$f":"IF(Tabla2[[#This Row],[PROCEDENCIA]]=\"OTRO\",1,\"\")","v":""}]
["",{"$f":"IFERROR(IF(C478>0,VLOOKUP($F$5,DATA!$A$79:$B$160,2,FALSE),\"\"),\"\")","v":""},null,null,null,null,null,null,null,null,null,{"$f":"IF(Tabla2[[#This Row],[NIVEL ACADEMICO]]=\"OTRO\",1,IF(Tabla2[[#This Row],[NIVEL ACADEMICO]]=\"ESTUDIANTE\",1,IF(Tabla2[[#This Row],[NIVEL ACADEMICO]]=\"BACHILLER\",1,\"\")))","v":""},{"$f":"IF(Tabla2[[#This Row],[PROCEDENCIA]]=\"OTRO\",1,\"\")","v":""}]
["",{"$f":"IFERROR(IF(C479>0,VLOOKUP($F$5,DATA!$A$79:$B$160,2,FALSE),\"\"),\"\")","v":""},null,null,null,null,null,null,null,null,null,{"$f":"IF(Tabla2[[#This Row],[NIVEL ACADEMICO]]=\"OTRO\",1,IF(Tabla2[[#This Row],[NIVEL ACADEMICO]]=\"ESTUDIANTE\",1,IF(Tabla2[[#This Row],[NIVEL ACADEMICO]]=\"BACHILLER\",1,\"\")))","v":""},{"$f":"IF(Tabla2[[#This Row],[PROCEDENCIA]]=\"OTRO\",1,\"\")","v":""}]
["",{"$f":"IFERROR(IF(C480>0,VLOOKUP($F$5,DATA!$A$79:$B$160,2,FALSE),\"\"),\"\")","v":""},null,null,null,null,null,null,null,null,null,{"$f":"IF(Tabla2[[#This Row],[NIVEL ACADEMICO]]=\"OTRO\",1,IF(Tabla2[[#This Row],[NIVEL ACADEMICO]]=\"ESTUDIANTE\",1,IF(Tabla2[[#This Row],[NIVEL ACADEMICO]]=\"BACHILLER\",1,\"\")))","v":""},{"$f":"IF(Tabla2[[#This Row],[PROCEDENCIA]]=\"OTRO\",1,\"\")","v":""}]
["",{"$f":"IFERROR(IF(C481>0,VLOOKUP($F$5,DATA!$A$79:$B$160,2,FALSE),\"\"),\"\")","v":""},null,null,null,null,null,null,null,null,null,{"$f":"IF(Tabla2[[#This Row],[NIVEL ACADEMICO]]=\"OTRO\",1,IF(Tabla2[[#This Row],[NIVEL ACADEMICO]]=\"ESTUDIANTE\",1,IF(Tabla2[[#This Row],[NIVEL ACADEMICO]]=\"BACHILLER\",1,\"\")))","v":""},{"$f":"IF(Tabla2[[#This Row],[PROCEDENCIA]]=\"OTRO\",1,\"\")","v":""}]
["",{"$f":"IFERROR(IF(C482>0,VLOOKUP($F$5,DATA!$A$79:$B$160,2,FALSE),\"\"),\"\")","v":""},null,null,null,null,null,null,null,null,null,{"$f":"IF(Tabla2[[#This Row],[NIVEL ACADEMICO]]=\"OTRO\",1,IF(Tabla2[[#This Row],[NIVEL ACADEMICO]]=\"ESTUDIANTE\",1,IF(Tabla2[[#This Row],[NIVEL ACADEMICO]]=\"BACHILLER\",1,\"\")))","v":""},{"$f":"IF(Tabla2[[#This Row],[PROCEDENCIA]]=\"OTRO\",1,\"\")","v":""}]
["",{"$f":"IFERROR(IF(C483>0,VLOOKUP($F$5,DATA!$A$79:$B$160,2,FALSE),\"\"),\"\")","v":""},null,null,null,null,null,null,null,null,null,{"$f":"IF(Tabla2[[#This Row],[NIVEL ACADEMICO]]=\"OTRO\",1,IF(Tabla2[[#This Row],[NIVEL ACADEMICO]]=\"ESTUDIANTE\",1,IF(Tabla2[[#This Row],[NIVEL ACADEMICO]]=\"BACHILLER\",1,\"\")))","v":""},{"$f":"IF(Tabla2[[#This Row],[PROCEDENCIA]]=\"OTRO\",1,\"\")","v":""}]
["",{"$f":"IFERROR(IF(C484>0,VLOOKUP($F$5,DATA!$A$79:$B$160,2,FALSE),\"\"),\"\")","v":""},null,null,null,null,null,null,null,null,null,{"$f":"IF(Tabla2[[#This Row],[NIVEL ACADEMICO]]=\"OTRO\",1,IF(Tabla2[[#This Row],[NIVEL ACADEMICO]]=\"ESTUDIANTE\",1,IF(Tabla2[[#This Row],[NIVEL ACADEMICO]]=\"BACHILLER\",1,\"\")))","v":""},{"$f":"IF(Tabla2[[#This Row],[PROCEDENCIA]]=\"OTRO\",1,\"\")","v":""}]
["",{"$f":"IFERROR(IF(C485>0,VLOOKUP($F$5,DATA!$A$79:$B$160,2,FALSE),\"\"),\"\")","v":""},null,null,null,null,null,null,null,null,null,{"$f":"IF(Tabla2[[#This Row],[NIVEL ACADEMICO]]=\"OTRO\",1,IF(Tabla2[[#This Row],[NIVEL ACADEMICO]]=\"ESTUDIANTE\",1,IF(Tabla2[[#This Row],[NIVEL ACADEMICO]]=\"BACHILLER\",1,\"\")))","v":""},{"$f":"IF(Tabla2[[#This Row],[PROCEDENCIA]]=\"OTRO\",1,\"\")","v":""}]
["",{"$f":"IFERROR(IF(C486>0,VLOOKUP($F$5,DATA!$A$79:$B$160,2,FALSE),\"\"),\"\")","v":""},null,null,null,null,null,null,null,null,null,{"$f":"IF(Tabla2[[#This Row],[NIVEL ACADEMICO]]=\"OTRO\",1,IF(Tabla2[[#This Row],[NIVEL ACADEMICO]]=\"ESTUDIANTE\",1,IF(Tabla2[[#This Row],[NIVEL ACADEMICO]]=\"BACHILLER\",1,\"\")))","v":""},{"$f":"IF(Tabla2[[#This Row],[PROCEDENCIA]]=\"OTRO\",1,\"\")","v":""}]
["",{"$f":"IFERROR(IF(C487>0,VLOOKUP($F$5,DATA!$A$79:$B$160,2,FALSE),\"\"),\"\")","v":""},null,null,null,null,null,null,null,null,null,{"$f":"IF(Tabla2[[#This Row],[NIVEL ACADEMICO]]=\"OTRO\",1,IF(Tabla2[[#This Row],[NIVEL ACADEMICO]]=\"ESTUDIANTE\",1,IF(Tabla2[[#This Row],[NIVEL ACADEMICO]]=\"BACHILLER\",1,\"\")))","v":""},{"$f":"IF(Tabla2[[#This Row],[PROCEDENCIA]]=\"OTRO\",1,\"\")","v":""}]
["",{"$f":"IFERROR(IF(C488>0,VLOOKUP($F$5,DATA!$A$79:$B$160,2,FALSE),\"\"),\"\")","v":""},null,null,null,null,null,null,null,null,null,{"$f":"IF(Tabla2[[#This Row],[NIVEL ACADEMICO]]=\"OTRO\",1,IF(Tabla2[[#This Row],[NIVEL ACADEMICO]]=\"ESTUDIANTE\",1,IF(Tabla2[[#This Row],[NIVEL ACADEMICO]]=\"BACHILLER\",1,\"\")))","v":""},{"$f":"IF(Tabla2[[#This Row],[PROCEDENCIA]]=\"OTRO\",1,\"\")","v":""}]
["",{"$f":"IFERROR(IF(C489>0,VLOOKUP($F$5,DATA!$A$79:$B$160,2,FALSE),\"\"),\"\")","v":""},null,null,null,null,null,null,null,null,null,{"$f":"IF(Tabla2[[#This Row],[NIVEL ACADEMICO]]=\"OTRO\",1,IF(Tabla2[[#This Row],[NIVEL ACADEMICO]]=\"ESTUDIANTE\",1,IF(Tabla2[[#This Row],[NIVEL ACADEMICO]]=\"BACHILLER\",1,\"\")))","v":""},{"$f":"IF(Tabla2[[#This Row],[PROCEDENCIA]]=\"OTRO\",1,\"\")","v":""}]
["",{"$f":"IFERROR(IF(C490>0,VLOOKUP($F$5,DATA!$A$79:$B$160,2,FALSE),\"\"),\"\")","v":""},null,null,null,null,null,null,null,null,null,{"$f":"IF(Tabla2[[#This Row],[NIVEL ACADEMICO]]=\"OTRO\",1,IF(Tabla2[[#This Row],[NIVEL ACADEMICO]]=\"ESTUDIANTE\",1,IF(Tabla2[[#This Row],[NIVEL ACADEMICO]]=\"BACHILLER\",1,\"\")))","v":""},{"$f":"IF(Tabla2[[#This Row],[PROCEDENCIA]]=\"OTRO\",1,\"\")","v":""}]
["",null,null,null,null,null,null,null,null,null,null,{"$f":"IF(Tabla2[[#This Row],[NIVEL ACADEMICO]]=\"OTRO\",1,IF(Tabla2[[#This Row],[NIVEL ACADEMICO]]=\"ESTUDIANTE\",1,IF(Tabla2[[#This Row],[NIVEL ACADEMICO]]=\"BACHILLER\",1,\"\")))","v":""},{"$f":"IF(Tabla2[[#This Row],[PROCEDENCIA]]=\"OTRO\",1,\"\")","v":""}]
["",{"$f":"IFERROR(IF(C492>0,VLOOKUP($F$5,DATA!$A$79:$B$160,2,FALSE),\"\"),\"\")","v":""},null,null,null,null,null,null,null,null,null,{"$f":"IF(Tabla2[[#This Row],[NIVEL ACADEMICO]]=\"OTRO\",1,IF(Tabla2[[#This Row],[NIVEL ACADEMICO]]=\"ESTUDIANTE\",1,IF(Tabla2[[#This Row],[NIVEL ACADEMICO]]=\"BACHILLER\",1,\"\")))","v":""},{"$f":"IF(Tabla2[[#This Row],[PROCEDENCIA]]=\"OTRO\",1,\"\")","v":""}]
["",{"$f":"IFERROR(IF(C493>0,VLOOKUP($F$5,DATA!$A$79:$B$160,2,FALSE),\"\"),\"\")","v":""},null,null,null,null,null,null,null,null,null,{"$f":"IF(Tabla2[[#This Row],[NIVEL ACADEMICO]]=\"OTRO\",1,IF(Tabla2[[#This Row],[NIVEL ACADEMICO]]=\"ESTUDIANTE\",1,IF(Tabla2[[#This Row],[NIVEL ACADEMICO]]=\"BACHILLER\",1,\"\")))","v":""},{"$f":"IF(Tabla2[[#This Row],[PROCEDENCIA]]=\"OTRO\",1,\"\")","v":""}]
["",{"$f":"IFERROR(IF(C494>0,VLOOKUP($F$5,DATA!$A$79:$B$160,2,FALSE),\"\"),\"\")","v":""},null,null,null,null,null,null,null,null,null,{"$f":"IF(Tabla2[[#This Row],[NIVEL ACADEMICO]]=\"OTRO\",1,IF(Tabla2[[#This Row],[NIVEL ACADEMICO]]=\"ESTUDIANTE\",1,IF(Tabla2[[#This Row],[NIVEL ACADEMICO]]=\"BACHILLER\",1,\"\")))","v":""},{"$f":"IF(Tabla2[[#This Row],[PROCEDENCIA]]=\"OTRO\",1,\"\")","v":""}]
["",{"$f":"IFERROR(IF(C495>0,VLOOKUP($F$5,DATA!$A$79:$B$160,2,FALSE),\"\"),\"\")","v":""},null,null,null,null,null,null,null,null,null,{"$f":"IF(Tabla2[[#This Row],[NIVEL ACADEMICO]]=\"OTRO\",1,IF(Tabla2[[#This Row],[NIVEL ACADEMICO]]=\"ESTUDIANTE\",1,IF(Tabla2[[#This Row],[NIVEL ACADEMICO]]=\"BACHILLER\",1,\"\")))","v":""},{"$f":"IF(Tabla2[[#This Row],[PROCEDENCIA]]=\"OTRO\",1,\"\")","v":""}]
[{"$f":"IF(C496>0,ROW()-8,\"\")","v":""},{"$f":"IFERROR(IF(C496>0,VLOOKUP($F$5,DATA!$A$79:$B$160,2,FALSE),\"\"),\"\")","v":""},null,null,null,null,null,null,null,null,null,{"$f":"IF(Tabla2[[#This Row],[NIVEL ACADEMICO]]=\"OTRO\",1,IF(Tabla2[[#This Row],[NIVEL ACADEMICO]]=\"ESTUDIANTE\",1,IF(Tabla2[[#This Row],[NIVEL ACADEMICO]]=\"BACHILLER\",1,\"\")))","v":""},{"$f":"IF(Tabla2[[#This Row],[PROCEDENCIA]]=\"OTRO\",1,\"\")","v":""}]
["",{"$f":"IFERROR(IF(C497>0,VLOOKUP($F$5,DATA!$A$79:$B$160,2,FALSE),\"\"),\"\")","v":""},null,null,null,null,null,null,null,null,null,{"$f":"IF(Tabla2[[#This Row],[NIVEL ACADEMICO]]=\"OTRO\",1,IF(Tabla2[[#This Row],[NIVEL ACADEMICO]]=\"ESTUDIANTE\",1,IF(Tabla2[[#This Row],[NIVEL ACADEMICO]]=\"BACHILLER\",1,\"\")))","v":""},{"$f":"IF(Tabla2[[#This Row],[PROCEDENCIA]]=\"OTRO\",1,\"\")","v":""}]
["",{"$f":"IFERROR(IF(C498>0,VLOOKUP($F$5,DATA!$A$79:$B$160,2,FALSE),\"\"),\"\")","v":""},null,null,null,null,null,null,null,null,null,{"$f":"IF(Tabla2[[#This Row],[NIVEL ACADEMICO]]=\"OTRO\",1,IF(Tabla2[[#This Row],[NIVEL ACADEMICO]]=\"ESTUDIANTE\",1,IF(Tabla2[[#This Row],[NIVEL ACADEMICO]]=\"BACHILLER\",1,\"\")))","v":""},{"$f":"IF(Tabla2[[#This Row],[PROCEDENCIA]]=\"OTRO\",1,\"\")","v":""}]
["",{"$f":"IFERROR(IF(C499>0,VLOOKUP($F$5,DATA!$A$79:$B$160,2,FALSE),\"\"),\"\")","v":""},null,null,null,null,null,null,null,null,null,{"$f":"IF(Tabla2[[#This Row],[NIVEL ACADEMICO]]=\"OTRO\",1,IF(Tabla2[[#This Row],[NIVEL ACADEMICO]]=\"ESTUDIANTE\",1,IF(Tabla2[[#This Row],[NIVEL ACADEMICO]]=\"BACHILLER\",1,\"\")))","v":""},{"$f":"IF(Tabla2[[#This Row],[PROCEDENCIA]]=\"OTRO\",1,\"\")","v":""}]
["",{"$f":"IFERROR(IF(C500>0,VLOOKUP($F$5,DATA!$A$79:$B$160,2,FALSE),\"\"),\"\")","v":""},null,null,null,null,null,null,null,null,null,{"$f":"IF(Tabla2[[#This Row],[NIVEL ACADEMICO]]=\"OTRO\",1,IF(Tabla2[[#This Row],[NIVEL ACADEMICO]]=\"ESTUDIANTE\",1,IF(Tabla2[[#This Row],[NIVEL ACADEMICO]]=\"BACHILLER\",1,\"\")))","v":""},{"$f":"IF(Tabla2[[#This Row],[PROCEDENCIA]]=\"OTRO\",1,\"\")","v":""}]
["",{"$f":"IFERROR(IF(C501>0,VLOOKUP($F$5,DATA!$A$79:$B$160,2,FALSE),\"\"),\"\")","v":""},null,null,null,null,null,null,null,null,null,{"$f":"IF(Tabla2[[#This Row],[NIVEL ACADEMICO]]=\"OTRO\",1,IF(Tabla2[[#This Row],[NIVEL ACADEMICO]]=\"ESTUDIANTE\",1,IF(Tabla2[[#This Row],[NIVEL ACADEMICO]]=\"BACHILLER\",1,\"\")))","v":""},{"$f":"IF(Tabla2[[#This Row],[PROCEDENCIA]]=\"OTRO\",1,\"\")","v":""}]
["",{"$f":"IFERROR(IF(C502>0,VLOOKUP($F$5,DATA!$A$79:$B$160,2,FALSE),\"\"),\"\")","v":""},null,null,null,null,null,null,null,null,null,{"$f":"IF(Tabla2[[#This Row],[NIVEL ACADEMICO]]=\"OTRO\",1,IF(Tabla2[[#This Row],[NIVEL ACADEMICO]]=\"ESTUDIANTE\",1,IF(Tabla2[[#This Row],[NIVEL ACADEMICO]]=\"BACHILLER\",1,\"\")))","v":""},{"$f":"IF(Tabla2[[#This Row],[PROCEDENCIA]]=\"OTRO\",1,\"\")","v":""}]
["",{"$f":"IFERROR(IF(C503>0,VLOOKUP($F$5,DATA!$A$79:$B$160,2,FALSE),\"\"),\"\")","v":""},null,null,null,null,null,null,null,null,null,{"$f":"IF(Tabla2[[#This Row],[NIVEL ACADEMICO]]=\"OTRO\",1,IF(Tabla2[[#This Row],[NIVEL ACADEMICO]]=\"ESTUDIANTE\",1,IF(Tabla2[[#This Row],[NIVEL ACADEMICO]]=\"BACHILLER\",1,\"\")))","v":""},{"$f":"IF(Tabla2[[#This Row],[PROCEDENCIA]]=\"OTRO\",1,\"\")","v":""}]
["",{"$f":"IFERROR(IF(C504>0,VLOOKUP($F$5,DATA!$A$79:$B$160,2,FALSE),\"\"),\"\")","v":""},null,null,null,null,null,null,null,null,null,{"$f":"IF(Tabla2[[#This Row],[NIVEL ACADEMICO]]=\"OTRO\",1,IF(Tabla2[[#This Row],[NIVEL ACADEMICO]]=\"ESTUDIANTE\",1,IF(Tabla2[[#This Row],[NIVEL ACADEMICO]]=\"BACHILLER\",1,\"\")))","v":""},{"$f":"IF(Tabla2[[#This Row],[PROCEDENCIA]]=\"OTRO\",1,\"\")","v":""}]
["",{"$f":"IFERROR(IF(C505>0,VLOOKUP($F$5,DATA!$A$79:$B$160,2,FALSE),\"\"),\"\")","v":""},null,null,null,null,null,null,null,null,null,{"$f":"IF(Tabla2[[#This Row],[NIVEL ACADEMICO]]=\"OTRO\",1,IF(Tabla2[[#This Row],[NIVEL ACADEMICO]]=\"ESTUDIANTE\",1,IF(Tabla2[[#This Row],[NIVEL ACADEMICO]]=\"BACHILLER\",1,\"\")))","v":""},{"$f":"IF(Tabla2[[#This Row],[PROCEDENCIA]]=\"OTRO\",1,\"\")","v":""}]
["",{"$f":"IFERROR(IF(C506>0,VLOOKUP($F$5,DATA!$A$79:$B$160,2,FALSE),\"\"),\"\")","v":""},null,null,null,null,null,null,null,null,null,{"$f":"IF(Tabla2[[#This Row],[NIVEL ACADEMICO]]=\"OTRO\",1,IF(Tabla2[[#This Row],[NIVEL ACADEMICO]]=\"ESTUDIANTE\",1,IF(Tabla2[[#This Row],[NIVEL ACADEMICO]]=\"BACHILLER\",1,\"\")))","v":""},{"$f":"IF(Tabla2[[#This Row],[PROCEDENCIA]]=\"OTRO\",1,\"\")","v":""}]
["",{"$f":"IFERROR(IF(C507>0,VLOOKUP($F$5,DATA!$A$79:$B$160,2,FALSE),\"\"),\"\")","v":""},null,null,null,null,null,null,null,null,null,{"$f":"IF(Tabla2[[#This Row],[NIVEL ACADEMICO]]=\"OTRO\",1,IF(Tabla2[[#This Row],[NIVEL ACADEMICO]]=\"ESTUDIANTE\",1,IF(Tabla2[[#This Row],[NIVEL ACADEMICO]]=\"BACHILLER\",1,\"\")))","v":""},{"$f":"IF(Tabla2[[#This Row],[PROCEDENCIA]]=\"OTRO\",1,\"\")","v":""}]
["",{"$f":"IFERROR(IF(C508>0,VLOOKUP($F$5,DATA!$A$79:$B$160,2,FALSE),\"\"),\"\")","v":""},null,null,null,null,null,null,null,null,null,{"$f":"IF(Tabla2[[#This Row],[NIVEL ACADEMICO]]=\"OTRO\",1,IF(Tabla2[[#This Row],[NIVEL ACADEMICO]]=\"ESTUDIANTE\",1,IF(Tabla2[[#This Row],[NIVEL ACADEMICO]]=\"BACHILLER\",1,\"\")))","v":""},{"$f":"IF(Tabla2[[#This Row],[PROCEDENCIA]]=\"OTRO\",1,\"\")","v":""}]

{"sheet":"FORMATO N° 5_XX","index":3,"n_rows":111,"n_cols":31,"rows_kept":111,"cut":false,"hidden":true,"merged":[[30,1,30,4],[30,5,30,6],[30,7,30,8],[30,9,30,10],[0,0,0,28],[2,0,2,27],[5,4,5,13],[5,17,5,27],[8,4,8,13],[8,25,8,27],[8,17,8,22],[15,5,15,6],[16,5,16,6],[15,0,15,4],[15,7,15,8],[15,9,15,10],[16,0,16,4],[16,7,16,8],[16,9,16,10],[23,27,23,28],[24,0,24,4],[24,5,24,6],[24,7,24,8],[24,9,24,10],[24,11,24,12],[24,23,24,24],[24,16,24,20],[24,21,24,22],[24,25,24,26],[16,34,16,39],[17,0,17,4],[17,7,17,8],[17,9,17,10],[23,5,23,6],[23,7,23,8],[23,9,23,10],[23,11,23,12],[23,21,23,22],[17,5,17,6],[23,0,23,4],[23,16,23,20],[23,23,23,24],[23,25,23,26],[24,27,24,28],[25,7,25,8],[25,9,25,10],[25,11,25,12],[31,1,31,4],[31,5,31,6],[31,7,31,8],[29,16,29,20],[29,21,29,22],[29,23,29,24],[29,1,29,4],[29,5,29,6],[29,7,29,8],[29,9,29,10],[29,11,29,12],[30,16,30,20],[30,21,30,22],[30,23,30,24],[30,11,30,12],[27,16,27,20],[28,21,28,22],[28,23,28,24],[25,23,25,24],[31,9,31,10],[31,11,31,12],[28,5,28,6],[28,7,28,8],[28,9,28,10],[28,11,28,12],[33,1,33,4],[32,21,32,22],[32,23,32,24],[25,0,25,4],[27,5,27,6],[27,7,27,8],[27,9,27,10],[27,11,27,12],[27,0,27,4],[27,23,27,24],[26,16,26,20],[25,16,25,20],[25,21,25,22],[27,21,27,22],[26,0,26,4],[26,5,26,6],[26,7,26,8],[26,9,26,10],[26,11,26,12],[25,5,25,6],[32,25,32,26],[32,27,32,28],[31,16,31,20],[31,21,31,22],[31,23,31,24],[31,25,31,26],[25,27,25,28],[26,21,26,22],[26,23,26,24],[26,25,26,26],[26,27,26,28],[31,27,31,28],[30,27,30,28],[28,27,28,28],[27,25,27,26],[27,27,27,28],[29,25,29,26],[29,27,29,28],[30,25,30,26],[28,25,28,26],[25,25,25,26],[28,16,28,20],[42,28,44,28],[42,29,44,29],[33,27,33,28],[34,16,34,20],[34,21,34,22],[34,23,34,24],[34,25,34,26],[34,27,34,28],[33,16,33,20],[33,21,33,22],[33,23,33,24],[33,25,33,26],[41,21,41,29],[42,25,44,25],[42,26,44,26],[42,27,44,27],[43,16,44,16],[43,17,44,17],[32,1,32,4],[32,5,32,6],[32,7,32,8],[41,8,44,8],[42,12,42,17],[33,7,33,8],[33,9,33,10],[33,11,33,12],[41,0,44,7],[32,16,32,20],[42,19,44,19],[34,0,34,4],[35,0,35,4],[33,5,33,6],[32,9,32,10],[32,11,32,12],[34,5,34,6],[34,7,34,8],[42,18,44,18],[41,20,44,20],[28,0,33,0],[28,1,28,4],[34,9,34,10],[34,11,34,12],[41,30,44,30],[45,0,45,7],[46,0,54,0],[46,2,46,7],[47,2,47,7],[48,2,48,7],[49,2,49,7],[50,2,50,7],[51,2,51,7],[52,2,52,7],[53,2,53,7],[54,2,54,7],[41,9,41,19],[42,9,44,9],[42,10,44,10],[42,11,44,11],[42,21,44,21],[42,22,44,22],[42,23,44,23],[42,24,44,24],[43,12,44,12],[43,13,44,13],[43,14,44,14],[43,15,44,15],[55,0,66,0],[55,2,55,7],[56,2,56,7],[57,2,57,7],[58,2,58,7],[59,2,59,7],[60,2,60,7],[61,2,61,7],[62,2,62,7],[63,2,63,7],[64,2,64,7],[65,2,65,7],[66,2,66,7],[67,0,72,0],[67,2,67,7],[68,2,68,7],[69,2,69,7],[70,2,70,7],[71,2,71,7],[72,2,72,7],[79,6,79,17],[79,23,79,26],[79,1,80,3],[79,4,80,5],[79,21,80,22],[80,6,80,7],[80,8,80,9],[80,10,80,11],[80,12,80,13],[80,14,80,15],[80,16,80,17],[80,23,80,24],[80,25,80,26],[80,27,80,28],[81,1,81,3],[81,6,81,7],[81,8,81,9],[81,10,81,11],[81,12,81,13],[81,14,81,15],[81,27,81,28],[82,1,82,3],[82,6,82,7],[82,8,82,9],[82,10,82,11],[82,12,82,13],[82,14,82,15],[82,16,82,17],[82,4,82,5],[82,21,82,22],[81,16,81,17],[81,4,81,5],[81,21,81,22],[81,23,81,24],[81,25,81,26],[82,27,82,28],[82,23,82,24],[83,1,83,3],[83,6,83,7],[83,8,83,9],[83,10,83,11],[83,12,83,13],[83,14,83,15],[83,16,83,17],[83,4,83,5],[83,21,83,22],[85,8,85,9],[85,10,85,11],[85,12,85,13],[85,14,85,15],[85,16,85,17],[85,4,85,5],[85,21,85,22],[82,25,82,26],[83,23,83,24],[83,25,83,26],[35,5,35,6],[35,7,35,8],[35,9,35,10],[35,11,35,12],[110,20,110,27],[84,23,84,24],[84,25,84,26],[84,27,84,28],[85,23,85,24],[85,25,85,26],[85,27,85,28],[89,1,99,28],[84,1,84,3],[84,6,84,7],[84,8,84,9],[84,10,84,11],[83,27,83,28],[84,12,84,13],[84,14,84,15],[84,16,84,17],[84,4,84,5],[84,21,84,22],[85,1,85,3],[85,6,85,7]]}
["FORMATO N° 05"]
[]
["ESTADÍSTICA DE LAS ACTIVIDADES DE ASISTENCIA SOCIAL"]
[]
[]
[null,null,null,"OFICINA REGIONAL: ",{"$f":"REPT('BD-SOC'!C7,1)","v":""},null,null,null,null,null,null,null,null,null,null,null,"E.P.: ",{"$f":"REPT('BD-SOC'!H7,1)","v":""}]
[]
[]
[null,null,null,"RESPONSABLE: ",{"$f":"REPT('BD-SOC'!C5,1)","v":""},null,null,null,null,null,null,null,null,null,null,null,"MES:  ",{"$f":"REPT('BD-SOC'!C9,1)","v":""},null,null,null,null,null,null,"AÑO:  ",{"$f":"REPT('BD-SOC'!C11,1)","v":""}]
[]
[]
[]
["CUADRO 1. NÚMERO DE INTERNOS ATENDIDOS Y ACTIVIDADES INDIVIDUALES"]
[]
[]
["N° ATENDIDOS/ACT. INDIVIDUALES",null,null,null,null,"TOTAL",null,"HOMBRES",null,"MUJERES"]
["ATENDIDOS",null,null,null,null,{"$f":"SUM(H17:K17)","v":0},null,{"$f":"COUNTIFS('BD-SOC'!$E$15:$E$30000,\"masculino\")+\nCOUNTIFS('BD-SOC'!$E$15:$E$30000,\"m\")+\nCOUNTIFS('BD-SOC'!$E$15:$E$30000,\"hombre\")+\nCOUNTIFS('BD-SOC'!$E$15:$E$30000,\"h\")","v":0},null,{"$f":"COUNTIFS('BD-SOC'!$E$15:$E$30000,\"femenino\")+\nCOUNTIFS('BD-SOC'!$E$15:$E$30000,\"f\")+\nCOUNTIFS('BD-SOC'!$E$15:$E$30000,\"mujer\")","v":0}]
["ACTIVIDADES INDIVIDUALES \n(ATENCIÓN/INFORME/GESTIÓN)",null,null,null,null,{"$f":"SUM(H18:K18)","v":0},null,{"$f":"DATA!P62","v":0},null,{"$f":"DATA!Q62","v":0}]
[]
[]
["CUADRO 2. NÚMERO DE ATENDIDOS POR TIPO DE INTERVENCIÓN ESPECÍFICO Y CONDICIÓN DE VULNERABILIDAD"]
[]
[]
["TIPO DE INTERVENCIÓN ESPECÍFICO",null,null,null,null,"TOTAL (ATENDIDOS)",null,"OTRO TIPO DE INTERVENCIÓN",null,"CON PTI-S",null,"CON PTI-P",null,null,null,null,"CONDICIÓN DE VULNERABILIDAD",null,null,null,null,"TOTAL (ATENDIDOS)",null,"OTRO TIPO DE INTERVENCIÓN",null,"CON PTI-S",null,"CON PTI-P"]
["TOTAL",null,null,null,null,{"$f":"SUM(F26:G36)","v":{"$error":"#REF!"}},null,{"$f":"SUM(H26:I36)","v":{"$error":"#REF!"}},null,{"$f":"SUM(J26:K36)","v":{"$error":"#REF!"}},null,{"$f":"SUM(L26:M36)","v":{"$error":"#REF!"}},null,null,null,null,"TOTAL",null,null,null,null,{"$f":"SUM(V26:W35)","v":0},null,{"$f":"SUM(X26:Y35)","v":0},null,{"$f":"SUM(Z26:AA35)","v":0},null,{"$f":"SUM(AB26:AC35)","v":0}]
["INDUCCIÓN_Y_ADAPTACIÓN_AL_RÉGIMEN",null,null,null,null,{"$f":"SUM(H26:M26)","v":{"$error":"#REF!"}},null,{"$f":"COUNTIFS('BD-SOC'!#REF!,'FORMATO N° 5_XX'!A26,'BD-SOC'!$K$15:$K$30000,'FORMATO N° 5_XX'!$H$24)","v":{"$error":"#REF!"}},null,{"$f":"COUNTIFS('BD-SOC'!#REF!,'FORMATO N° 5_XX'!A26,'BD-SOC'!$K$15:$K$30000,'FORMATO N° 5_XX'!$J$24)","v":{"$error":"#REF!"}},null,{"$f":"COUNTIFS('BD-SOC'!#REF!,'FORMATO N° 5_XX'!A26,'BD-SOC'!$K$15:$K$30000,'FORMATO N° 5_XX'!$L$24)","v":{"$error":"#REF!"}},null,null,null,null,"ADULTO MAYOR",null,null,null,null,{"$f":"SUM(X26:AC26)","v":0},null,{"$f":"COUNTIFS('BD-SOC'!$I$15:$I$30000,'FORMATO N° 5_XX'!Q26,'BD-SOC'!$K$15:$K$30000,'FORMATO N° 5_XX'!$X$24)","v":0},null,{"$f":"COUNTIFS('BD-SOC'!$I$15:$I$30000,'FORMATO N° 5_XX'!Q26,'BD-SOC'!$K$15:$K$30000,'FORMATO N° 5_XX'!$Z$24)","v":0},null,{"$f":"COUNTIFS('BD-SOC'!$I$15:$I$30000,'FORMATO N° 5_XX'!Q26,'BD-SOC'!$K$15:$K$30000,'FORMATO N° 5_XX'!$AB$24)","v":0}]
["INTERVENCIÓN_GENERAL",null,null,null,null,{"$error":"#REF!"},null,{"$f":"COUNTIFS('BD-SOC'!#REF!,'FORMATO N° 5_XX'!A27,'BD-SOC'!$K$15:$K$30000,'FORMATO N° 5_XX'!$H$24)","v":{"$error":"#REF!"}},null,{"$f":"COUNTIFS('BD-SOC'!#REF!,'FORMATO N° 5_XX'!A27,'BD-SOC'!$K$15:$K$30000,'FORMATO N° 5_XX'!$J$24)","v":{"$error":"#REF!"}},null,{"$f":"COUNTIFS('BD-SOC'!#REF!,'FORMATO N° 5_XX'!A27,'BD-SOC'!$K$15:$K$30000,'FORMATO N° 5_XX'!$L$24)","v":{"$error":"#REF!"}},null,null,null,null,"PERSONA CON DISCAPACIDAD",null,null,null,null,{"$f":"SUM(X27:AC27)","v":0},null,{"$f":"COUNTIFS('BD-SOC'!$I$15:$I$30000,'FORMATO N° 5_XX'!Q27,'BD-SOC'!$K$15:$K$30000,'FORMATO N° 5_XX'!$X$24)","v":0},null,{"$f":"COUNTIFS('BD-SOC'!$I$15:$I$30000,'FORMATO N° 5_XX'!Q27,'BD-SOC'!$K$15:$K$30000,'FORMATO N° 5_XX'!$Z$24)","v":0},null,{"$f":"COUNTIFS('BD-SOC'!$I$15:$I$30000,'FORMATO N° 5_XX'!Q27,'BD-SOC'!$K$15:$K$30000,'FORMATO N° 5_XX'!$AB$24)","v":0}]
["INTERVENCIÓN_EN_DROGAS",null,null,null,null,{"$error":"#REF!"},null,{"$f":"COUNTIFS('BD-SOC'!#REF!,'FORMATO N° 5_XX'!A28,'BD-SOC'!$K$15:$K$30000,'FORMATO N° 5_XX'!$H$24)","v":{"$error":"#REF!"}},null,{"$f":"COUNTIFS('BD-SOC'!#REF!,'FORMATO N° 5_XX'!A28,'BD-SOC'!$K$15:$K$30000,'FORMATO N° 5_XX'!$J$24)","v":{"$error":"#REF!"}},null,{"$f":"COUNTIFS('BD-SOC'!#REF!,'FORMATO N° 5_XX'!A28,'BD-SOC'!$K$15:$K$30000,'FORMATO N° 5_XX'!$L$24)","v":{"$error":"#REF!"}},null,null,null,null,"COMUNIDAD INDÍGENA O CAMPESINA",null,null,null,null,0,null,{"$f":"COUNTIFS('BD-SOC'!$I$15:$I$30000,'FORMATO N° 5_XX'!Q28,'BD-SOC'!$K$15:$K$30000,'FORMATO N° 5_XX'!$X$24)","v":0},null,{"$f":"COUNTIFS('BD-SOC'!$I$15:$I$30000,'FORMATO N° 5_XX'!Q28,'BD-SOC'!$K$15:$K$30000,'FORMATO N° 5_XX'!$Z$24)","v":0},null,{"$f":"COUNTIFS('BD-SOC'!$I$15:$I$30000,'FORMATO N° 5_XX'!Q28,'BD-SOC'!$K$15:$K$30000,'FORMATO N° 5_XX'!$AB$24)","v":0}]
["GRUPO ESPECÍFICO / TEMA DEL TIPO DE INTERVENCIÓN","C/V/C/S",null,null,null,{"$error":"#REF!"},null,{"$f":"COUNTIFS('BD-SOC'!#REF!,'FORMATO N° 5_XX'!B29,'BD-SOC'!$K$15:$K$30000,'FORMATO N° 5_XX'!$H$24)","v":{"$error":"#REF!"}},null,{"$f":"COUNTIFS('BD-SOC'!#REF!,'FORMATO N° 5_XX'!B29,'BD-SOC'!$K$15:$K$30000,'FORMATO N° 5_XX'!$J$24)","v":{"$error":"#REF!"}},null,{"$f":"COUNTIFS('BD-SOC'!#REF!,'FORMATO N° 5_XX'!B29,'BD-SOC'!$K$15:$K$30000,'FORMATO N° 5_XX'!$L$24)","v":{"$error":"#REF!"}},null,null,null,null,"PSIQUIÁTRICO",null,null,null,null,0,null,{"$f":"COUNTIFS('BD-SOC'!$I$15:$I$30000,'FORMATO N° 5_XX'!Q29,'BD-SOC'!$K$15:$K$30000,'FORMATO N° 5_XX'!$X$24)","v":0},null,{"$f":"COUNTIFS('BD-SOC'!$I$15:$I$30000,'FORMATO N° 5_XX'!Q29,'BD-SOC'!$K$15:$K$30000,'FORMATO N° 5_XX'!$Z$24)","v":0},null,{"$f":"COUNTIFS('BD-SOC'!$I$15:$I$30000,'FORMATO N° 5_XX'!Q29,'BD-SOC'!$K$15:$K$30000,'FORMATO N° 5_XX'!$AB$24)","v":0}]
[null,"C/PATRIMONIO",null,null,null,{"$error":"#REF!"},null,{"$f":"COUNTIFS('BD-SOC'!#REF!,'FORMATO N° 5_XX'!B30,'BD-SOC'!$K$15:$K$30000,'FORMATO N° 5_XX'!$H$24)","v":{"$error":"#REF!"}},null,{"$f":"COUNTIFS('BD-SOC'!#REF!,'FORMATO N° 5_XX'!B30,'BD-SOC'!$K$15:$K$30000,'FORMATO N° 5_XX'!$J$24)","v":{"$error":"#REF!"}},null,{"$f":"COUNTIFS('BD-SOC'!#REF!,'FORMATO N° 5_XX'!B30,'BD-SOC'!$K$15:$K$30000,'FORMATO N° 5_XX'!$L$24)","v":{"$error":"#REF!"}},null,null,null,null,"GESTANTE",null,null,null,null,0,null,{"$f":"COUNTIFS('BD-SOC'!$I$15:$I$30000,'FORMATO N° 5_XX'!Q30,'BD-SOC'!$K$15:$K$30000,'FORMATO N° 5_XX'!$X$24)","v":0},null,{"$f":"COUNTIFS('BD-SOC'!$I$15:$I$30000,'FORMATO N° 5_XX'!Q30,'BD-SOC'!$K$15:$K$30000,'FORMATO N° 5_XX'!$Z$24)","v":0},null,{"$f":"COUNTIFS('BD-SOC'!$I$15:$I$30000,'FORMATO N° 5_XX'!Q30,'BD-SOC'!$K$15:$K$30000,'FORMATO N° 5_XX'!$AB$24)","v":0}]
[null,"C/L/S",null,null,null,{"$error":"#REF!"},null,{"$f":"COUNTIFS('BD-SOC'!#REF!,'FORMATO N° 5_XX'!B31,'BD-SOC'!$K$15:$K$30000,'FORMATO N° 5_XX'!$H$24)","v":{"$error":"#REF!"}},null,{"$f":"COUNTIFS('BD-SOC'!#REF!,'FORMATO N° 5_XX'!B31,'BD-SOC'!$K$15:$K$30000,'FORMATO N° 5_XX'!$J$24)","v":{"$error":"#REF!"}},null,{"$f":"COUNTIFS('BD-SOC'!#REF!,'FORMATO N° 5_XX'!B31,'BD-SOC'!$K$15:$K$30000,'FORMATO N° 5_XX'!$L$24)","v":{"$error":"#REF!"}},null,null,null,null,"MADRE CON HIJO/A MENOR",null,null,null,null,0,null,{"$f":"COUNTIFS('BD-SOC'!$I$15:$I$30000,'FORMATO N° 5_XX'!Q31,'BD-SOC'!$K$15:$K$30000,'FORMATO N° 5_XX'!$X$24)","v":0},null,{"$f":"COUNTIFS('BD-SOC'!$I$15:$I$30000,'FORMATO N° 5_XX'!Q31,'BD-SOC'!$K$15:$K$30000,'FORMATO N° 5_XX'!$Z$24)","v":0},null,{"$f":"COUNTIFS('BD-SOC'!$I$15:$I$30000,'FORMATO N° 5_XX'!Q31,'BD-SOC'!$K$15:$K$30000,'FORMATO N° 5_XX'!$AB$24)","v":0}]
[null,"MAYOR COMPROMISO CRIMINÓGENO",null,null,null,{"$error":"#REF!"},null,{"$f":"COUNTIFS('BD-SOC'!#REF!,'FORMATO N° 5_XX'!B32,'BD-SOC'!$K$15:$K$30000,'FORMATO N° 5_XX'!$H$24)","v":{"$error":"#REF!"}},null,{"$f":"COUNTIFS('BD-SOC'!#REF!,'FORMATO N° 5_XX'!B32,'BD-SOC'!$K$15:$K$30000,'FORMATO N° 5_XX'!$J$24)","v":{"$error":"#REF!"}},null,{"$f":"COUNTIFS('BD-SOC'!#REF!,'FORMATO N° 5_XX'!B32,'BD-SOC'!$K$15:$K$30000,'FORMATO N° 5_XX'!$L$24)","v":{"$error":"#REF!"}},null,null,null,null,"ESN-PCT",null,null,null,null,0,null,{"$f":"COUNTIFS('BD-SOC'!$I$15:$I$30000,'FORMATO N° 5_XX'!Q32,'BD-SOC'!$K$15:$K$30000,'FORMATO N° 5_XX'!$X$24)","v":0},null,{"$f":"COUNTIFS('BD-SOC'!$I$15:$I$30000,'FORMATO N° 5_XX'!Q32,'BD-SOC'!$K$15:$K$30000,'FORMATO N° 5_XX'!$Z$24)","v":0},null,{"$f":"COUNTIFS('BD-SOC'!$I$15:$I$30000,'FORMATO N° 5_XX'!Q32,'BD-SOC'!$K$15:$K$30000,'FORMATO N° 5_XX'!$AB$24)","v":0}]
[null,"C/MUJER E INTEGRANTES DEL GRUPO FAMILIAR",null,null,null,{"$error":"#REF!"},null,{"$f":"COUNTIFS('BD-SOC'!#REF!,'FORMATO N° 5_XX'!B33,'BD-SOC'!$K$15:$K$30000,'FORMATO N° 5_XX'!$H$24)","v":{"$error":"#REF!"}},null,{"$f":"COUNTIFS('BD-SOC'!#REF!,'FORMATO N° 5_XX'!B33,'BD-SOC'!$K$15:$K$30000,'FORMATO N° 5_XX'!$J$24)","v":{"$error":"#REF!"}},null,{"$f":"COUNTIFS('BD-SOC'!#REF!,'FORMATO N° 5_XX'!B33,'BD-SOC'!$K$15:$K$30000,'FORMATO N° 5_XX'!$L$24)","v":{"$error":"#REF!"}},null,null,null,null,"PERSONA LGTBI",null,null,null,null,0,null,{"$f":"COUNTIFS('BD-SOC'!$I$15:$I$30000,'FORMATO N° 5_XX'!Q33,'BD-SOC'!$K$15:$K$30000,'FORMATO N° 5_XX'!$X$24)","v":0},null,{"$f":"COUNTIFS('BD-SOC'!$I$15:$I$30000,'FORMATO N° 5_XX'!Q33,'BD-SOC'!$K$15:$K$30000,'FORMATO N° 5_XX'!$Z$24)","v":0},null,{"$f":"COUNTIFS('BD-SOC'!$I$15:$I$30000,'FORMATO N° 5_XX'!Q33,'BD-SOC'!$K$15:$K$30000,'FORMATO N° 5_XX'!$AB$24)","v":0}]
[null,"OTROS",null,null,null,{"$error":"#REF!"},null,{"$f":"COUNTIFS('BD-SOC'!#REF!,'FORMATO N° 5_XX'!B34,'BD-SOC'!$K$15:$K$30000,'FORMATO N° 5_XX'!$H$24)","v":{"$error":"#REF!"}},null,{"$f":"COUNTIFS('BD-SOC'!#REF!,'FORMATO N° 5_XX'!B34,'BD-SOC'!$K$15:$K$30000,'FORMATO N° 5_XX'!$J$24)","v":{"$error":"#REF!"}},null,{"$f":"COUNTIFS('BD-SOC'!#REF!,'FORMATO N° 5_XX'!B34,'BD-SOC'!$K$15:$K$30000,'FORMATO N° 5_XX'!$L$24)","v":{"$error":"#REF!"}},null,null,null,null,"EXTRANJERO",null,null,null,null,0,null,{"$f":"COUNTIFS('BD-SOC'!$I$15:$I$30000,'FORMATO N° 5_XX'!Q34,'BD-SOC'!$K$15:$K$30000,'FORMATO N° 5_XX'!$X$24)","v":0},null,{"$f":"COUNTIFS('BD-SOC'!$I$15:$I$30000,'FORMATO N° 5_XX'!Q34,'BD-SOC'!$K$15:$K$30000,'FORMATO N° 5_XX'!$Z$24)","v":0},null,{"$f":"COUNTIFS('BD-SOC'!$I$15:$I$30000,'FORMATO N° 5_XX'!Q34,'BD-SOC'!$K$15:$K$30000,'FORMATO N° 5_XX'!$AB$24)","v":0}]
["NO_AGRUPADO",null,null,null,null,{"$error":"#REF!"},null,{"$f":"COUNTIFS('BD-SOC'!#REF!,'FORMATO N° 5_XX'!A35,'BD-SOC'!$K$15:$K$30000,'FORMATO N° 5_XX'!$H$24)","v":{"$error":"#REF!"}},null,{"$f":"COUNTIFS('BD-SOC'!#REF!,'FORMATO N° 5_XX'!A35,'BD-SOC'!$K$15:$K$30000,'FORMATO N° 5_XX'!$J$24)","v":{"$error":"#REF!"}},null,{"$f":"COUNTIFS('BD-SOC'!#REF!,'FORMATO N° 5_XX'!A35,'BD-SOC'!$K$15:$K$30000,'FORMATO N° 5_XX'!$L$24)","v":{"$error":"#REF!"}},null,null,null,"NO EVIDENCIA","NO EVIDENCIA VULNERABILIDAD",null,null,null,null,0,null,{"$f":"COUNTIFS('BD-SOC'!$I$15:$I$30000,'FORMATO N° 5_XX'!P35,'BD-SOC'!$K$15:$K$30000,'FORMATO N° 5_XX'!$X$24)","v":0},null,{"$f":"COUNTIFS('BD-SOC'!$I$15:$I$30000,'FORMATO N° 5_XX'!P35,'BD-SOC'!$K$15:$K$30000,'FORMATO N° 5_XX'!$Z$24)","v":0},null,{"$f":"COUNTIFS('BD-SOC'!$I$15:$I$30000,'FORMATO N° 5_XX'!P35,'BD-SOC'!$K$15:$K$30000,'FORMATO N° 5_XX'!$AB$24)","v":0}]
["OTRO_TIPO_INTERVENCIÓN",null,null,null,null,{"$error":"#REF!"},null,{"$f":"COUNTIFS('BD-SOC'!#REF!,'FORMATO N° 5_XX'!A36,'BD-SOC'!$K$15:$K$30000,'FORMATO N° 5_XX'!$H$24)","v":{"$error":"#REF!"}},null,{"$f":"COUNTIFS('BD-SOC'!#REF!,'FORMATO N° 5_XX'!A36,'BD-SOC'!$K$15:$K$30000,'FORMATO N° 5_XX'!$J$24)","v":{"$error":"#REF!"}},null,{"$f":"COUNTIFS('BD-SOC'!#REF!,'FORMATO N° 5_XX'!A36,'BD-SOC'!$K$15:$K$30000,'FORMATO N° 5_XX'!$L$24)","v":{"$error":"#REF!"}}]
[]
[]
["CUADRO 3. ATENCIONES POR TIPO DE INTERVENCIÓN ESPECÍFICO Y CONDICION DE VULNERABILIDAD SEGÚN TIPO DE DOCUMENTO"]
[]
[]
["N° ATENCIONES POR TIPO DE INTERVENCIÓN ESPECÍFICA Y CONDICION DE VULNERABILIDAD SEGÚN TIPO DE DOCUMENTO",null,null,null,null,null,null,null,"TOTAL GENERAL POR TIPODE INTERVENCIÓN","TIPO DE INTERVENCIÓN ESPECÍFICO",null,null,null,null,null,null,null,null,null,null,"TOTAL GENERAL POR CONDICIÓN DE VULNERABILIDAD","CONDICIÓN DE VULNERABILIDAD",null,null,null,null,null,null,null,null,"NO EVIDENCIA"]
[null,null,null,null,null,null,null,null,null,"INDUCCIÓN_Y_ADAPTACIÓN_AL_RÉGIMEN","INTERVENCIÓN_GENERAL","INTERVENCIÓN_EN_DROGAS","GRUPO ESPECÍFICO / TEMA DEL TIPO DE INTERVENCIÓN",null,null,null,null,null,"NO_AGRUPADO","OTRO_TIPO_INTERVENCIÓN",null,"ADULTO MAYOR","PERSONA CON DISCAPACIDAD","COMUNIDAD INDÍGENA O CAMPESINA","PSIQUIÁTRICO","ESN-PCT","PERSONA LGTBI","EXTRANJERO","GESTANTE","MADRE CON HIJO/A MENOR","NO EVIDENCIA"]
[null,null,null,null,null,null,null,null,null,null,null,null,"C/V/C/S","C/PATRIMONIO","C/L/S","MAYOR COMPROMISO CRIMINÓGENO","C/MUJER E INTEGRANTES DEL GRUPO FAMILIAR","OTROS"]
[]
["TOTAL GENERAL",null,null,null,null,null,null,null,{"$f":"SUM(I47:I73)","v":{"$error":"#REF!"}},{"$error":"#REF!"},{"$error":"#REF!"},{"$error":"#REF!"},{"$error":"#REF!"},{"$error":"#REF!"},{"$error":"#REF!"},{"$error":"#REF!"},{"$error":"#REF!"},{"$error":"#REF!"},{"$error":"#REF!"},{"$error":"#REF!"},0,0,0,0,0,0,0,0,0,0,0]
["ATENCIONES",101,"ELABORACIÓN DEL PTI-P",null,null,null,null,null,{"$f":"SUM(J47:T47)","v":{"$error":"#REF!"}},{"$f":"COUNTIFS('BD-SOC'!$P$15:$P$30000,'FORMATO N° 5_XX'!B47,'BD-SOC'!#REF!,'FORMATO N° 5_XX'!$J$43)+\nCOUNTIFS('BD-SOC'!$R$15:$R$30000,'FORMATO N° 5_XX'!B47,'BD-SOC'!#REF!,'FORMATO N° 5_XX'!$J$43)+\nCOUNTIFS('BD-SOC'!$T$15:$T$30000,'FORMATO N° 5_XX'!B47,'BD-SOC'!#REF!,'FORMATO N° 5_XX'!$J$43)+\nCOUNTIFS('BD-SOC'!$V$15:$V$30000,'FORMATO N° 5_XX'!B47,'BD-SOC'!#REF!,'FORMATO N° 5_XX'!$J$43)+\nCOUNTIFS('BD-SOC'!$X$15:$X$30000,'FORMATO N° 5_XX'!B47,'BD-SOC'!#REF!,'FORMATO N° 5_XX'!$J$43)+\nCOUNTIFS('BD-SOC'!$Z$15:$Z$30000,'FORMATO N° 5_XX'!B47,'BD-SOC'!#REF!,'FORMATO N° 5_XX'!$J$43)+\nCOUNTIFS('BD-SOC'!$AB$15:$AB$30000,'FORMATO N° 5_XX'!B47,'BD-SOC'!#REF!,'FORMATO N° 5_XX'!$J$43)","v":{"$error":"#REF!"}},{"$f":"COUNTIFS('BD-SOC'!$P$15:$P$30000,'FORMATO N° 5_XX'!B47,'BD-SOC'!#REF!,'FORMATO N° 5_XX'!$K$43)+\nCOUNTIFS('BD-SOC'!$R$15:$R$30000,'FORMATO N° 5_XX'!B47,'BD-SOC'!#REF!,'FORMATO N° 5_XX'!$K$43)+\nCOUNTIFS('BD-SOC'!$T$15:$T$30000,'FORMATO N° 5_XX'!B47,'BD-SOC'!#REF!,'FORMATO N° 5_XX'!$K$43)+\nCOUNTIFS('BD-SOC'!$V$15:$V$30000,'FORMATO N° 5_XX'!B47,'BD-SOC'!#REF!,'FORMATO N° 5_XX'!$K$43)+\nCOUNTIFS('BD-SOC'!$X$15:$X$30000,'FORMATO N° 5_XX'!B47,'BD-SOC'!#REF!,'FORMATO N° 5_XX'!$K$43)+\nCOUNTIFS('BD-SOC'!$Z$15:$Z$30000,'FORMATO N° 5_XX'!B47,'BD-SOC'!#REF!,'FORMATO N° 5_XX'!$K$43)+\nCOUNTIFS('BD-SOC'!$AB$15:$AB$30000,'FORMATO N° 5_XX'!B47,'BD-SOC'!#REF!,'FORMATO N° 5_XX'!$K$43)","v":{"$error":"#REF!"}},{"$f":"COUNTIFS('BD-SOC'!$P$15:$P$30000,'FORMATO N° 5_XX'!B47,'BD-SOC'!#REF!,'FORMATO N° 5_XX'!$L$43)+\nCOUNTIFS('BD-SOC'!$R$15:$R$30000,'FORMATO N° 5_XX'!B47,'BD-SOC'!#REF!,'FORMATO N° 5_XX'!$L$43)+\nCOUNTIFS('BD-SOC'!$T$15:$T$30000,'FORMATO N° 5_XX'!B47,'BD-SOC'!#REF!,'FORMATO N° 5_XX'!$L$43)+\nCOUNTIFS('BD-SOC'!$V$15:$V$30000,'FORMATO N° 5_XX'!B47,'BD-SOC'!#REF!,'FORMATO N° 5_XX'!$L$43)+\nCOUNTIFS('BD-SOC'!$X$15:$X$30000,'FORMATO N° 5_XX'!B47,'BD-SOC'!#REF!,'FORMATO N° 5_XX'!$L$43)+\nCOUNTIFS('BD-SOC'!$Z$15:$Z$30000,'FORMATO N° 5_XX'!B47,'BD-SOC'!#REF!,'FORMATO N° 5_XX'!$L$43)+\nCOUNTIFS('BD-SOC'!$AB$15:$AB$30000,'FORMATO N° 5_XX'!B47,'BD-SOC'!#REF!,'FORMATO N° 5_XX'!$L$43)","v":{"$error":"#REF!"}},{"$f":"COUNTIFS('BD-SOC'!$P$15:$P$30000,'FORMATO N° 5_XX'!B47,'BD-SOC'!#REF!,'FORMATO N° 5_XX'!$M$44)+\nCOUNTIFS('BD-SOC'!$R$15:$R$30000,'FORMATO N° 5_XX'!B47,'BD-SOC'!#REF!,'FORMATO N° 5_XX'!$M$44)+\nCOUNTIFS('BD-SOC'!$T$15:$T$30000,'FORMATO N° 5_XX'!B47,'BD-SOC'!#REF!,'FORMATO N° 5_XX'!$M$44)+\nCOUNTIFS('BD-SOC'!$V$15:$V$30000,'FORMATO N° 5_XX'!B47,'BD-SOC'!#REF!,'FORMATO N° 5_XX'!$M$44)+\nCOUNTIFS('BD-SOC'!$X$15:$X$30000,'FORMATO N° 5_XX'!B47,'BD-SOC'!#REF!,'FORMATO N° 5_XX'!$M$44)+\nCOUNTIFS('BD-SOC'!$Z$15:$Z$30000,'FORMATO N° 5_XX'!B47,'BD-SOC'!#REF!,'FORMATO N° 5_XX'!$M$44)+\nCOUNTIFS('BD-SOC'!$AB$15:$AB$30000,'FORMATO N° 5_XX'!B47,'BD-SOC'!#REF!,'FORMATO N° 5_XX'!$M$44)","v":{"$error":"#REF!"}},{"$f":"COUNTIFS('BD-SOC'!$P$15:$P$30000,'FORMATO N° 5_XX'!B47,'BD-SOC'!#REF!,'FORMATO N° 5_XX'!$N$44)+\nCOUNTIFS('BD-SOC'!$R$15:$R$30000,'FORMATO N° 5_XX'!B47,'BD-SOC'!#REF!,'FORMATO N° 5_XX'!$N$44)+\nCOUNTIFS('BD-SOC'!$T$15:$T$30000,'FORMATO N° 5_XX'!B47,'BD-SOC'!#REF!,'FORMATO N° 5_XX'!$N$44)+\nCOUNTIFS('BD-SOC'!$V$15:$V$30000,'FORMATO N° 5_XX'!B47,'BD-SOC'!#REF!,'FORMATO N° 5_XX'!$N$44)+\nCOUNTIFS('BD-SOC'!$X$15:$X$30000,'FORMATO N° 5_XX'!B47,'BD-SOC'!#REF!,'FORMATO N° 5_XX'!$N$44)+\nCOUNTIFS('BD-SOC'!$Z$15:$Z$30000,'FORMATO N° 5_XX'!B47,'BD-SOC'!#REF!,'FORMATO N° 5_XX'!$N$44)+\nCOUNTIFS('BD-SOC'!$AB$15:$AB$30000,'FORMATO N° 5_XX'!B47,'BD-SOC'!#REF!,'FORMATO N° 5_XX'!$N$44)","v":{"$error":"#REF!"}},{"$f":"COUNTIFS('BD-SOC'!$P$15:$P$30000,'FORMATO N° 5_XX'!B47,'BD-SOC'!#REF!,'FORMATO N° 5_XX'!$O$44)+\nCOUNTIFS('BD-SOC'!$R$15:$R$30000,'FORMATO N° 5_XX'!B47,'BD-SOC'!#REF!,'FORMATO N° 5_XX'!$O$44)+\nCOUNTIFS('BD-SOC'!$T$15:$T$30000,'FORMATO N° 5_XX'!B47,'BD-SOC'!#REF!,'FORMATO N° 5_XX'!$O$44)+\nCOUNTIFS('BD-SOC'!$V$15:$V$30000,'FORMATO N° 5_XX'!B47,'BD-SOC'!#REF!,'FORMATO N° 5_XX'!$O$44)+\nCOUNTIFS('BD-SOC'!$X$15:$X$30000,'FORMATO N° 5_XX'!B47,'BD-SOC'!#REF!,'FORMATO N° 5_XX'!$O$44)+\nCOUNTIFS('BD-SOC'!$Z$15:$Z$30000,'FORMATO N° 5_XX'!B47,'BD-SOC'!#REF!,'FORMATO N° 5_XX'!$O$44)+\nCOUNTIFS('BD-SOC'!$AB$15:$AB$30000,'FORMATO N° 5_XX'!B47,'BD-SOC'!#REF!,'FORMATO N° 5_XX'!$O$44)","v":{"$error":"#REF!"}},{"$f":"COUNTIFS('BD-SOC'!$P$15:$P$30000,'FORMATO N° 5_XX'!B47,'BD-SOC'!#REF!,'FORMATO N° 5_XX'!$P$44)+\nCOUNTIFS('BD-SOC'!$R$15:$R$30000,'FORMATO N° 5_XX'!B47,'BD-SOC'!#REF!,'FORMATO N° 5_XX'!$P$44)+\nCOUNTIFS('BD-SOC'!$T$15:$T$30000,'FORMATO N° 5_XX'!B47,'BD-SOC'!#REF!,'FORMATO N° 5_XX'!$P$44)+\nCOUNTIFS('BD-SOC'!$V$15:$V$30000,'FORMATO N° 5_XX'!B47,'BD-SOC'!#REF!,'FORMATO N° 5_XX'!$P$44)+\nCOUNTIFS('BD-SOC'!$X$15:$X$30000,'FORMATO N° 5_XX'!B47,'BD-SOC'!#REF!,'FORMATO N° 5_XX'!$P$44)+\nCOUNTIFS('BD-SOC'!$Z$15:$Z$30000,'FORMATO N° 5_XX'!B47,'BD-SOC'!#REF!,'FORMATO N° 5_XX'!$P$44)+\nCOUNTIFS('BD-SOC'!$AB$15:$AB$30000,'FORMATO N° 5_XX'!B47,'BD-SOC'!#REF!,'FORMATO N° 5_XX'!$P$44)","v":{"$error":"#REF!"}},{"$f":"COUNTIFS('BD-SOC'!$P$15:$P$30000,'FORMATO N° 5_XX'!B47,'BD-SOC'!#REF!,'FORMATO N° 5_XX'!$Q$44)+\nCOUNTIFS('BD-SOC'!$R$15:$R$30000,'FORMATO N° 5_XX'!B47,'BD-SOC'!#REF!,'FORMATO N° 5_XX'!$Q$44)+\nCOUNTIFS('BD-SOC'!$T$15:$T$30000,'FORMATO N° 5_XX'!B47,'BD-SOC'!#REF!,'FORMATO N° 5_XX'!$Q$44)+\nCOUNTIFS('BD-SOC'!$V$15:$V$30000,'FORMATO N° 5_XX'!B47,'BD-SOC'!#REF!,'FORMATO N° 5_XX'!$Q$44)+\nCOUNTIFS('BD-SOC'!$X$15:$X$30000,'FORMATO N° 5_XX'!B47,'BD-SOC'!#REF!,'FORMATO N° 5_XX'!$Q$44)+\nCOUNTIFS('BD-SOC'!$Z$15:$Z$30000,'FORMATO N° 5_XX'!B47,'BD-SOC'!#REF!,'FORMATO N° 5_XX'!$Q$44)+\nCOUNTIFS('BD-SOC'!$AB$15:$AB$30000,'FORMATO N° 5_XX'!B47,'BD-SOC'!#REF!,'FORMATO N° 5_XX'!$Q$44)","v":{"$error":"#REF!"}},{"$f":"COUNTIFS('BD-SOC'!$P$15:$P$30000,'FORMATO N° 5_XX'!B47,'BD-SOC'!#REF!,'FORMATO N° 5_XX'!$R$44)+\nCOUNTIFS('BD-SOC'!$R$15:$R$30000,'FORMATO N° 5_XX'!B47,'BD-SOC'!#REF!,'FORMATO N° 5_XX'!$R$44)+\nCOUNTIFS('BD-SOC'!$T$15:$T$30000,'FORMATO N° 5_XX'!B47,'BD-SOC'!#REF!,'FORMATO N° 5_XX'!$R$44)+\nCOUNTIFS('BD-SOC'!$V$15:$V$30000,'FORMATO N° 5_XX'!B47,'BD-SOC'!#REF!,'FORMATO N° 5_XX'!$R$44)+\nCOUNTIFS('BD-SOC'!$X$15:$X$30000,'FORMATO N° 5_XX'!B47,'BD-SOC'!#REF!,'FORMATO N° 5_XX'!$R$44)+\nCOUNTIFS('BD-SOC'!$Z$15:$Z$30000,'FORMATO N° 5_XX'!B47,'BD-SOC'!#REF!,'FORMATO N° 5_XX'!$R$44)+\nCOUNTIFS('BD-SOC'!$AB$15:$AB$30000,'FORMATO N° 5_XX'!B47,'BD-SOC'!#REF!,'FORMATO N° 5_XX'!$R$44)","v":{"$error":"#REF!"}},{"$f":"COUNTIFS('BD-SOC'!$P$15:$P$30000,'FORMATO N° 5_XX'!B47,'BD-SOC'!#REF!,'FORMATO N° 5_XX'!$S$43)+\nCOUNTIFS('BD-SOC'!$R$15:$R$30000,'FORMATO N° 5_XX'!B47,'BD-SOC'!#REF!,'FORMATO N° 5_XX'!$S$43)+\nCOUNTIFS('BD-SOC'!$T$15:$T$30000,'FORMATO N° 5_XX'!B47,'BD-SOC'!#REF!,'FORMATO N° 5_XX'!$S$43)+\nCOUNTIFS('BD-SOC'!$V$15:$V$30000,'FORMATO N° 5_XX'!B47,'BD-SOC'!#REF!,'FORMATO N° 5_XX'!$S$43)+\nCOUNTIFS('BD-SOC'!$X$15:$X$30000,'FORMATO N° 5_XX'!B47,'BD-SOC'!#REF!,'FORMATO N° 5_XX'!$S$43)+\nCOUNTIFS('BD-SOC'!$Z$15:$Z$30000,'FORMATO N° 5_XX'!B47,'BD-SOC'!#REF!,'FORMATO N° 5_XX'!$S$43)+\nCOUNTIFS('BD-SOC'!$AB$15:$AB$30000,'FORMATO N° 5_XX'!B47,'BD-SOC'!#REF!,'FORMATO N° 5_XX'!$S$43)","v":{"$error":"#REF!"}},{"$f":"COUNTIFS('BD-SOC'!$P$15:$P$30000,'FORMATO N° 5_XX'!B47,'BD-SOC'!#REF!,'FORMATO N° 5_XX'!$T$43)+\nCOUNTIFS('BD-SOC'!$R$15:$R$30000,'FORMATO N° 5_XX'!B47,'BD-SOC'!#REF!,'FORMATO N° 5_XX'!$T$43)+\nCOUNTIFS('BD-SOC'!$T$15:$T$30000,'FORMATO N° 5_XX'!B47,'BD-SOC'!#REF!,'FORMATO N° 5_XX'!$T$43)+\nCOUNTIFS('BD-SOC'!$V$15:$V$30000,'FORMATO N° 5_XX'!B47,'BD-SOC'!#REF!,'FORMATO N° 5_XX'!$T$43)+\nCOUNTIFS('BD-SOC'!$X$15:$X$30000,'FORMATO N° 5_XX'!B47,'BD-SOC'!#REF!,'FORMATO N° 5_XX'!$T$43)+\nCOUNTIFS('BD-SOC'!$Z$15:$Z$30000,'FORMATO N° 5_XX'!B47,'BD-SOC'!#REF!,'FORMATO N° 5_XX'!$T$43)+\nCOUNTIFS('BD-SOC'!$AB$15:$AB$30000,'FORMATO N° 5_XX'!B47,'BD-SOC'!#REF!,'FORMATO N° 5_XX'!$T$43)","v":{"$error":"#REF!"}},{"$f":"SUM(V47:AE47)","v":0},{"$f":"COUNTIFS('BD-SOC'!$P$15:$P$30000,'FORMATO N° 5_XX'!B47,'BD-SOC'!$I$15:$I$30000,'FORMATO N° 5_XX'!$V$43)+\nCOUNTIFS('BD-SOC'!$R$15:$R$30000,'FORMATO N° 5_XX'!B47,'BD-SOC'!$I$15:$I$30000,'FORMATO N° 5_XX'!$V$43)+\nCOUNTIFS('BD-SOC'!$T$15:$T$30000,'FORMATO N° 5_XX'!B47,'BD-SOC'!$I$15:$I$30000,'FORMATO N° 5_XX'!$V$43)+\nCOUNTIFS('BD-SOC'!$V$15:$V$30000,'FORMATO N° 5_XX'!B47,'BD-SOC'!$I$15:$I$30000,'FORMATO N° 5_XX'!$V$43)+\nCOUNTIFS('BD-SOC'!$X$15:$X$30000,'FORMATO N° 5_XX'!B47,'BD-SOC'!$I$15:$I$30000,'FORMATO N° 5_XX'!$V$43)+\nCOUNTIFS('BD-SOC'!$Z$15:$Z$30000,'FORMATO N° 5_XX'!B47,'BD-SOC'!$I$15:$I$30000,'FORMATO N° 5_XX'!$V$43)+\nCOUNTIFS('BD-SOC'!$AB$15:$AB$30000,'FORMATO N° 5_XX'!B47,'BD-SOC'!$I$15:$I$30000,'FORMATO N° 5_XX'!$V$43)","v":0},{"$f":"COUNTIFS('BD-SOC'!$P$15:$P$30000,'FORMATO N° 5_XX'!B47,'BD-SOC'!$I$15:$I$30000,'FORMATO N° 5_XX'!$W$43)+\nCOUNTIFS('BD-SOC'!$R$15:$R$30000,'FORMATO N° 5_XX'!B47,'BD-SOC'!$I$15:$I$30000,'FORMATO N° 5_XX'!$W$43)+\nCOUNTIFS('BD-SOC'!$T$15:$T$30000,'FORMATO N° 5_XX'!B47,'BD-SOC'!$I$15:$I$30000,'FORMATO N° 5_XX'!$W$43)+\nCOUNTIFS('BD-SOC'!$V$15:$V$30000,'FORMATO N° 5_XX'!B47,'BD-SOC'!$I$15:$I$30000,'FORMATO N° 5_XX'!$W$43)+\nCOUNTIFS('BD-SOC'!$X$15:$X$30000,'FORMATO N° 5_XX'!B47,'BD-SOC'!$I$15:$I$30000,'FORMATO N° 5_XX'!$W$43)+\nCOUNTIFS('BD-SOC'!$Z$15:$Z$30000,'FORMATO N° 5_XX'!B47,'BD-SOC'!$I$15:$I$30000,'FORMATO N° 5_XX'!$W$43)+\nCOUNTIFS('BD-SOC'!$AB$15:$AB$30000,'FORMATO N° 5_XX'!B47,'BD-SOC'!$I$15:$I$30000,'FORMATO N° 5_XX'!$W$43)","v":0},{"$f":"COUNTIFS('BD-SOC'!$P$15:$P$30000,'FORMATO N° 5_XX'!B47,'BD-SOC'!$I$15:$I$30000,'FORMATO N° 5_XX'!$X$43)+\nCOUNTIFS('BD-SOC'!$R$15:$R$30000,'FORMATO N° 5_XX'!B47,'BD-SOC'!$I$15:$I$30000,'FORMATO N° 5_XX'!$X$43)+\nCOUNTIFS('BD-SOC'!$T$15:$T$30000,'FORMATO N° 5_XX'!B47,'BD-SOC'!$I$15:$I$30000,'FORMATO N° 5_XX'!$X$43)+\nCOUNTIFS('BD-SOC'!$V$15:$V$30000,'FORMATO N° 5_XX'!B47,'BD-SOC'!$I$15:$I$30000,'FORMATO N° 5_XX'!$X$43)+\nCOUNTIFS('BD-SOC'!$X$15:$X$30000,'FORMATO N° 5_XX'!B47,'BD-SOC'!$I$15:$I$30000,'FORMATO N° 5_XX'!$X$43)+\nCOUNTIFS('BD-SOC'!$Z$15:$Z$30000,'FORMATO N° 5_XX'!B47,'BD-SOC'!$I$15:$I$30000,'FORMATO N° 5_XX'!$X$43)+\nCOUNTIFS('BD-SOC'!$AB$15:$AB$30000,'FORMATO N° 5_XX'!B47,'BD-SOC'!$I$15:$I$30000,'FORMATO N° 5_XX'!$X$43)","v":0},{"$f":"COUNTIFS('BD-SOC'!$P$15:$P$30000,'FORMATO N° 5_XX'!B47,'BD-SOC'!$I$15:$I$30000,'FORMATO N° 5_XX'!$Y$43)+\nCOUNTIFS('BD-SOC'!$R$15:$R$30000,'FORMATO N° 5_XX'!B47,'BD-SOC'!$I$15:$I$30000,'FORMATO N° 5_XX'!$Y$43)+\nCOUNTIFS('BD-SOC'!$T$15:$T$30000,'FORMATO N° 5_XX'!B47,'BD-SOC'!$I$15:$I$30000,'FORMATO N° 5_XX'!$Y$43)+\nCOUNTIFS('BD-SOC'!$V$15:$V$30000,'FORMATO N° 5_XX'!B47,'BD-SOC'!$I$15:$I$30000,'FORMATO N° 5_XX'!$Y$43)+\nCOUNTIFS('BD-SOC'!$X$15:$X$30000,'FORMATO N° 5_XX'!B47,'BD-SOC'!$I$15:$I$30000,'FORMATO N° 5_XX'!$Y$43)+\nCOUNTIFS('BD-SOC'!$Z$15:$Z$30000,'FORMATO N° 5_XX'!B47,'BD-SOC'!$I$15:$I$30000,'FORMATO N° 5_XX'!$Y$43)+\nCOUNTIFS('BD-SOC'!$AB$15:$AB$30000,'FORMATO N° 5_XX'!B47,'BD-SOC'!$I$15:$I$30000,'FORMATO N° 5_XX'!$Y$43)","v":0},{"$f":"COUNTIFS('BD-SOC'!$P$15:$P$30000,'FORMATO N° 5_XX'!B47,'BD-SOC'!$I$15:$I$30000,'FORMATO N° 5_XX'!$Z$43)+\nCOUNTIFS('BD-SOC'!$R$15:$R$30000,'FORMATO N° 5_XX'!B47,'BD-SOC'!$I$15:$I$30000,'FORMATO N° 5_XX'!$Z$43)+\nCOUNTIFS('BD-SOC'!$T$15:$T$30000,'FORMATO N° 5_XX'!B47,'BD-SOC'!$I$15:$I$30000,'FORMATO N° 5_XX'!$Z$43)+\nCOUNTIFS('BD-SOC'!$V$15:$V$30000,'FORMATO N° 5_XX'!B47,'BD-SOC'!$I$15:$I$30000,'FORMATO N° 5_XX'!$Z$43)+\nCOUNTIFS('BD-SOC'!$X$15:$X$30000,'FORMATO N° 5_XX'!B47,'BD-SOC'!$I$15:$I$30000,'FORMATO N° 5_XX'!$Z$43)+\nCOUNTIFS('BD-SOC'!$Z$15:$Z$30000,'FORMATO N° 5_XX'!B47,'BD-SOC'!$I$15:$I$30000,'FORMATO N° 5_XX'!$Z$43)+\nCOUNTIFS('BD-SOC'!$AB$15:$AB$30000,'FORMATO N° 5_XX'!B47,'BD-SOC'!$I$15:$I$30000,'FORMATO N° 5_XX'!$Z$43)","v":0},{"$f":"COUNTIFS('BD-SOC'!$P$15:$P$30000,'FORMATO N° 5_XX'!B47,'BD-SOC'!$I$15:$I$30000,'FORMATO N° 5_XX'!$AA$43)+\nCOUNTIFS('BD-SOC'!$R$15:$R$30000,'FORMATO N° 5_XX'!B47,'BD-SOC'!$I$15:$I$30000,'FORMATO N° 5_XX'!$AA$43)+\nCOUNTIFS('BD-SOC'!$T$15:$T$30000,'FORMATO N° 5_XX'!B47,'BD-SOC'!$I$15:$I$30000,'FORMATO N° 5_XX'!$AA$43)+\nCOUNTIFS('BD-SOC'!$V$15:$V$30000,'FORMATO N° 5_XX'!B47,'BD-SOC'!$I$15:$I$30000,'FORMATO N° 5_XX'!$AA$43)+\nCOUNTIFS('BD-SOC'!$X$15:$X$30000,'FORMATO N° 5_XX'!B47,'BD-SOC'!$I$15:$I$30000,'FORMATO N° 5_XX'!$AA$43)+\nCOUNTIFS('BD-SOC'!$Z$15:$Z$30000,'FORMATO N° 5_XX'!B47,'BD-SOC'!$I$15:$I$30000,'FORMATO N° 5_XX'!$AA$43)+\nCOUNTIFS('BD-SOC'!$AB$15:$AB$30000,'FORMATO N° 5_XX'!B47,'BD-SOC'!$I$15:$I$30000,'FORMATO N° 5_XX'!$AA$43)","v":0},{"$f":"COUNTIFS('BD-SOC'!$P$15:$P$30000,'FORMATO N° 5_XX'!B47,'BD-SOC'!$I$15:$I$30000,'FORMATO N° 5_XX'!$AB$43)+\nCOUNTIFS('BD-SOC'!$R$15:$R$30000,'FORMATO N° 5_XX'!B47,'BD-SOC'!$I$15:$I$30000,'FORMATO N° 5_XX'!$AB$43)+\nCOUNTIFS('BD-SOC'!$T$15:$T$30000,'FORMATO N° 5_XX'!B47,'BD-SOC'!$I$15:$I$30000,'FORMATO N° 5_XX'!$AB$43)+\nCOUNTIFS('BD-SOC'!$V$15:$V$30000,'FORMATO N° 5_XX'!B47,'BD-SOC'!$I$15:$I$30000,'FORMATO N° 5_XX'!$AB$43)+\nCOUNTIFS('BD-SOC'!$X$15:$X$30000,'FORMATO N° 5_XX'!B47,'BD-SOC'!$I$15:$I$30000,'FORMATO N° 5_XX'!$AB$43)+\nCOUNTIFS('BD-SOC'!$Z$15:$Z$30000,'FORMATO N° 5_XX'!B47,'BD-SOC'!$I$15:$I$30000,'FORMATO N° 5_XX'!$AB$43)+\nCOUNTIFS('BD-SOC'!$AB$15:$AB$30000,'FORMATO N° 5_XX'!B47,'BD-SOC'!$I$15:$I$30000,'FORMATO N° 5_XX'!$AB$43)","v":0},{"$f":"COUNTIFS('BD-SOC'!$P$15:$P$30000,'FORMATO N° 5_XX'!B47,'BD-SOC'!$I$15:$I$30000,'FORMATO N° 5_XX'!$AC$43)+\nCOUNTIFS('BD-SOC'!$R$15:$R$30000,'FORMATO N° 5_XX'!B47,'BD-SOC'!$I$15:$I$30000,'FORMATO N° 5_XX'!$AC$43)+\nCOUNTIFS('BD-SOC'!$T$15:$T$30000,'FORMATO N° 5_XX'!B47,'BD-SOC'!$I$15:$I$30000,'FORMATO N° 5_XX'!$AC$43)+\nCOUNTIFS('BD-SOC'!$V$15:$V$30000,'FORMATO N° 5_XX'!B47,'BD-SOC'!$I$15:$I$30000,'FORMATO N° 5_XX'!$AC$43)+\nCOUNTIFS('BD-SOC'!$X$15:$X$30000,'FORMATO N° 5_XX'!B47,'BD-SOC'!$I$15:$I$30000,'FORMATO N° 5_XX'!$AC$43)+\nCOUNTIFS('BD-SOC'!$Z$15:$Z$30000,'FORMATO N° 5_XX'!B47,'BD-SOC'!$I$15:$I$30000,'FORMATO N° 5_XX'!$AC$43)+\nCOUNTIFS('BD-SOC'!$AB$15:$AB$30000,'FORMATO N° 5_XX'!B47,'BD-SOC'!$I$15:$I$30000,'FORMATO N° 5_XX'!$AC$43)","v":0},{"$f":"COUNTIFS('BD-SOC'!$P$15:$P$30000,'FORMATO N° 5_XX'!B47,'BD-SOC'!$I$15:$I$30000,'FORMATO N° 5_XX'!$AD$43)+\nCOUNTIFS('BD-SOC'!$R$15:$R$30000,'FORMATO N° 5_XX'!B47,'BD-SOC'!$I$15:$I$30000,'FORMATO N° 5_XX'!$AD$43)+\nCOUNTIFS('BD-SOC'!$T$15:$T$30000,'FORMATO N° 5_XX'!B47,'BD-SOC'!$I$15:$I$30000,'FORMATO N° 5_XX'!$AD$43)+\nCOUNTIFS('BD-SOC'!$V$15:$V$30000,'FORMATO N° 5_XX'!B47,'BD-SOC'!$I$15:$I$30000,'FORMATO N° 5_XX'!$AD$43)+\nCOUNTIFS('BD-SOC'!$X$15:$X$30000,'FORMATO N° 5_XX'!B47,'BD-SOC'!$I$15:$I$30000,'FORMATO N° 5_XX'!$AD$43)+\nCOUNTIFS('BD-SOC'!$Z$15:$Z$30000,'FORMATO N° 5_XX'!B47,'BD-SOC'!$I$15:$I$30000,'FORMATO N° 5_XX'!$AD$43)+\nCOUNTIFS('BD-SOC'!$AB$15:$AB$30000,'FORMATO N° 5_XX'!B47,'BD-SOC'!$I$15:$I$30000,'FORMATO N° 5_XX'!$AD$43)","v":0},{"$f":"COUNTIFS('BD-SOC'!$P$15:$P$30000,'FORMATO N° 5_XX'!B47,'BD-SOC'!$I$15:$I$30000,'FORMATO N° 5_XX'!$AE$43)+\nCOUNTIFS('BD-SOC'!$R$15:$R$30000,'FORMATO N° 5_XX'!B47,'BD-SOC'!$I$15:$I$30000,'FORMATO N° 5_XX'!$AE$43)+\nCOUNTIFS('BD-SOC'!$T$15:$T$30000,'FORMATO N° 5_XX'!B47,'BD-SOC'!$I$15:$I$30000,'FORMATO N° 5_XX'!$AE$43)+\nCOUNTIFS('BD-SOC'!$V$15:$V$30000,'FORMATO N° 5_XX'!B47,'BD-SOC'!$I$15:$I$30000,'FORMATO N° 5_XX'!$AE$43)+\nCOUNTIFS('BD-SOC'!$X$15:$X$30000,'FORMATO N° 5_XX'!B47,'BD-SOC'!$I$15:$I$30000,'FORMATO N° 5_XX'!$AE$43)+\nCOUNTIFS('BD-SOC'!$Z$15:$Z$30000,'FORMATO N° 5_XX'!B47,'BD-SOC'!$I$15:$I$30000,'FORMATO N° 5_XX'!$AE$43)+\nCOUNTIFS('BD-SOC'!$AB$15:$AB$30000,'FORMATO N° 5_XX'!B47,'BD-SOC'!$I$15:$I$30000,'FORMATO N° 5_XX'!$AE$43)","v":0}]
[null,102,"ELABORACIÓN DEL PTI-S",null,null,null,null,null,{"$error":"#REF!"},{"$f":"COUNTIFS('BD-SOC'!$P$15:$P$30000,'FORMATO N° 5_XX'!B48,'BD-SOC'!#REF!,'FORMATO N° 5_XX'!$J$43)+\nCOUNTIFS('BD-SOC'!$R$15:$R$30000,'FORMATO N° 5_XX'!B48,'BD-SOC'!#REF!,'FORMATO N° 5_XX'!$J$43)+\nCOUNTIFS('BD-SOC'!$T$15:$T$30000,'FORMATO N° 5_XX'!B48,'BD-SOC'!#REF!,'FORMATO N° 5_XX'!$J$43)+\nCOUNTIFS('BD-SOC'!$V$15:$V$30000,'FORMATO N° 5_XX'!B48,'BD-SOC'!#REF!,'FORMATO N° 5_XX'!$J$43)+\nCOUNTIFS('BD-SOC'!$X$15:$X$30000,'FORMATO N° 5_XX'!B48,'BD-SOC'!#REF!,'FORMATO N° 5_XX'!$J$43)+\nCOUNTIFS('BD-SOC'!$Z$15:$Z$30000,'FORMATO N° 5_XX'!B48,'BD-SOC'!#REF!,'FORMATO N° 5_XX'!$J$43)+\nCOUNTIFS('BD-SOC'!$AB$15:$AB$30000,'FORMATO N° 5_XX'!B48,'BD-SOC'!#REF!,'FORMATO N° 5_XX'!$J$43)","v":{"$error":"#REF!"}},{"$f":"COUNTIFS('BD-SOC'!$P$15:$P$30000,'FORMATO N° 5_XX'!B48,'BD-SOC'!#REF!,'FORMATO N° 5_XX'!$K$43)+\nCOUNTIFS('BD-SOC'!$R$15:$R$30000,'FORMATO N° 5_XX'!B48,'BD-SOC'!#REF!,'FORMATO N° 5_XX'!$K$43)+\nCOUNTIFS('BD-SOC'!$T$15:$T$30000,'FORMATO N° 5_XX'!B48,'BD-SOC'!#REF!,'FORMATO N° 5_XX'!$K$43)+\nCOUNTIFS('BD-SOC'!$V$15:$V$30000,'FORMATO N° 5_XX'!B48,'BD-SOC'!#REF!,'FORMATO N° 5_XX'!$K$43)+\nCOUNTIFS('BD-SOC'!$X$15:$X$30000,'FORMATO N° 5_XX'!B48,'BD-SOC'!#REF!,'FORMATO N° 5_XX'!$K$43)+\nCOUNTIFS('BD-SOC'!$Z$15:$Z$30000,'FORMATO N° 5_XX'!B48,'BD-SOC'!#REF!,'FORMATO N° 5_XX'!$K$43)+\nCOUNTIFS('BD-SOC'!$AB$15:$AB$30000,'FORMATO N° 5_XX'!B48,'BD-SOC'!#REF!,'FORMATO N° 5_XX'!$K$43)","v":{"$error":"#REF!"}},{"$f":"COUNTIFS('BD-SOC'!$P$15:$P$30000,'FORMATO N° 5_XX'!B48,'BD-SOC'!#REF!,'FORMATO N° 5_XX'!$L$43)+\nCOUNTIFS('BD-SOC'!$R$15:$R$30000,'FORMATO N° 5_XX'!B48,'BD-SOC'!#REF!,'FORMATO N° 5_XX'!$L$43)+\nCOUNTIFS('BD-SOC'!$T$15:$T$30000,'FORMATO N° 5_XX'!B48,'BD-SOC'!#REF!,'FORMATO N° 5_XX'!$L$43)+\nCOUNTIFS('BD-SOC'!$V$15:$V$30000,'FORMATO N° 5_XX'!B48,'BD-SOC'!#REF!,'FORMATO N° 5_XX'!$L$43)+\nCOUNTIFS('BD-SOC'!$X$15:$X$30000,'FORMATO N° 5_XX'!B48,'BD-SOC'!#REF!,'FORMATO N° 5_XX'!$L$43)+\nCOUNTIFS('BD-SOC'!$Z$15:$Z$30000,'FORMATO N° 5_XX'!B48,'BD-SOC'!#REF!,'FORMATO N° 5_XX'!$L$43)+\nCOUNTIFS('BD-SOC'!$AB$15:$AB$30000,'FORMATO N° 5_XX'!B48,'BD-SOC'!#REF!,'FORMATO N° 5_XX'!$L$43)","v":{"$error":"#REF!"}},{"$f":"COUNTIFS('BD-SOC'!$P$15:$P$30000,'FORMATO N° 5_XX'!B48,'BD-SOC'!#REF!,'FORMATO N° 5_XX'!$M$44)+\nCOUNTIFS('BD-SOC'!$R$15:$R$30000,'FORMATO N° 5_XX'!B48,'BD-SOC'!#REF!,'FORMATO N° 5_XX'!$M$44)+\nCOUNTIFS('BD-SOC'!$T$15:$T$30000,'FORMATO N° 5_XX'!B48,'BD-SOC'!#REF!,'FORMATO N° 5_XX'!$M$44)+\nCOUNTIFS('BD-SOC'!$V$15:$V$30000,'FORMATO N° 5_XX'!B48,'BD-SOC'!#REF!,'FORMATO N° 5_XX'!$M$44)+\nCOUNTIFS('BD-SOC'!$X$15:$X$30000,'FORMATO N° 5_XX'!B48,'BD-SOC'!#REF!,'FORMATO N° 5_XX'!$M$44)+\nCOUNTIFS('BD-SOC'!$Z$15:$Z$30000,'FORMATO N° 5_XX'!B48,'BD-SOC'!#REF!,'FORMATO N° 5_XX'!$M$44)+\nCOUNTIFS('BD-SOC'!$AB$15:$AB$30000,'FORMATO N° 5_XX'!B48,'BD-SOC'!#REF!,'FORMATO N° 5_XX'!$M$44)","v":{"$error":"#REF!"}},{"$f":"COUNTIFS('BD-SOC'!$P$15:$P$30000,'FORMATO N° 5_XX'!B48,'BD-SOC'!#REF!,'FORMATO N° 5_XX'!$N$44)+\nCOUNTIFS('BD-SOC'!$R$15:$R$30000,'FORMATO N° 5_XX'!B48,'BD-SOC'!#REF!,'FORMATO N° 5_XX'!$N$44)+\nCOUNTIFS('BD-SOC'!$T$15:$T$30000,'FORMATO N° 5_XX'!B48,'BD-SOC'!#REF!,'FORMATO N° 5_XX'!$N$44)+\nCOUNTIFS('BD-SOC'!$V$15:$V$30000,'FORMATO N° 5_XX'!B48,'BD-SOC'!#REF!,'FORMATO N° 5_XX'!$N$44)+\nCOUNTIFS('BD-SOC'!$X$15:$X$30000,'FORMATO N° 5_XX'!B48,'BD-SOC'!#REF!,'FORMATO N° 5_XX'!$N$44)+\nCOUNTIFS('BD-SOC'!$Z$15:$Z$30000,'FORMATO N° 5_XX'!B48,'BD-SOC'!#REF!,'FORMATO N° 5_XX'!$N$44)+\nCOUNTIFS('BD-SOC'!$AB$15:$AB$30000,'FORMATO N° 5_XX'!B48,'BD-SOC'!#REF!,'FORMATO N° 5_XX'!$N$44)","v":{"$error":"#REF!"}},{"$f":"COUNTIFS('BD-SOC'!$P$15:$P$30000,'FORMATO N° 5_XX'!B48,'BD-SOC'!#REF!,'FORMATO N° 5_XX'!$O$44)+\nCOUNTIFS('BD-SOC'!$R$15:$R$30000,'FORMATO N° 5_XX'!B48,'BD-SOC'!#REF!,'FORMATO N° 5_XX'!$O$44)+\nCOUNTIFS('BD-SOC'!$T$15:$T$30000,'FORMATO N° 5_XX'!B48,'BD-SOC'!#REF!,'FORMATO N° 5_XX'!$O$44)+\nCOUNTIFS('BD-SOC'!$V$15:$V$30000,'FORMATO N° 5_XX'!B48,'BD-SOC'!#REF!,'FORMATO N° 5_XX'!$O$44)+\nCOUNTIFS('BD-SOC'!$X$15:$X$30000,'FORMATO N° 5_XX'!B48,'BD-SOC'!#REF!,'FORMATO N° 5_XX'!$O$44)+\nCOUNTIFS('BD-SOC'!$Z$15:$Z$30000,'FORMATO N° 5_XX'!B48,'BD-SOC'!#REF!,'FORMATO N° 5_XX'!$O$44)+\nCOUNTIFS('BD-SOC'!$AB$15:$AB$30000,'FORMATO N° 5_XX'!B48,'BD-SOC'!#REF!,'FORMATO N° 5_XX'!$O$44)","v":{"$error":"#REF!"}},{"$f":"COUNTIFS('BD-SOC'!$P$15:$P$30000,'FORMATO N° 5_XX'!B48,'BD-SOC'!#REF!,'FORMATO N° 5_XX'!$P$44)+\nCOUNTIFS('BD-SOC'!$R$15:$R$30000,'FORMATO N° 5_XX'!B48,'BD-SOC'!#REF!,'FORMATO N° 5_XX'!$P$44)+\nCOUNTIFS('BD-SOC'!$T$15:$T$30000,'FORMATO N° 5_XX'!B48,'BD-SOC'!#REF!,'FORMATO N° 5_XX'!$P$44)+\nCOUNTIFS('BD-SOC'!$V$15:$V$30000,'FORMATO N° 5_XX'!B48,'BD-SOC'!#REF!,'FORMATO N° 5_XX'!$P$44)+\nCOUNTIFS('BD-SOC'!$X$15:$X$30000,'FORMATO N° 5_XX'!B48,'BD-SOC'!#REF!,'FORMATO N° 5_XX'!$P$44)+\nCOUNTIFS('BD-SOC'!$Z$15:$Z$30000,'FORMATO N° 5_XX'!B48,'BD-SOC'!#REF!,'FORMATO N° 5_XX'!$P$44)+\nCOUNTIFS('BD-SOC'!$AB$15:$AB$30000,'FORMATO N° 5_XX'!B48,'BD-SOC'!#REF!,'FORMATO N° 5_XX'!$P$44)","v":{"$error":"#REF!"}},{"$f":"COUNTIFS('BD-SOC'!$P$15:$P$30000,'FORMATO N° 5_XX'!B48,'BD-SOC'!#REF!,'FORMATO N° 5_XX'!$Q$44)+\nCOUNTIFS('BD-SOC'!$R$15:$R$30000,'FORMATO N° 5_XX'!B48,'BD-SOC'!#REF!,'FORMATO N° 5_XX'!$Q$44)+\nCOUNTIFS('BD-SOC'!$T$15:$T$30000,'FORMATO N° 5_XX'!B48,'BD-SOC'!#REF!,'FORMATO N° 5_XX'!$Q$44)+\nCOUNTIFS('BD-SOC'!$V$15:$V$30000,'FORMATO N° 5_XX'!B48,'BD-SOC'!#REF!,'FORMATO N° 5_XX'!$Q$44)+\nCOUNTIFS('BD-SOC'!$X$15:$X$30000,'FORMATO N° 5_XX'!B48,'BD-SOC'!#REF!,'FORMATO N° 5_XX'!$Q$44)+\nCOUNTIFS('BD-SOC'!$Z$15:$Z$30000,'FORMATO N° 5_XX'!B48,'BD-SOC'!#REF!,'FORMATO N° 5_XX'!$Q$44)+\nCOUNTIFS('BD-SOC'!$AB$15:$AB$30000,'FORMATO N° 5_XX'!B48,'BD-SOC'!#REF!,'FORMATO N° 5_XX'!$Q$44)","v":{"$error":"#REF!"}},{"$f":"COUNTIFS('BD-SOC'!$P$15:$P$30000,'FORMATO N° 5_XX'!B48,'BD-SOC'!#REF!,'FORMATO N° 5_XX'!$R$44)+\nCOUNTIFS('BD-SOC'!$R$15:$R$30000,'FORMATO N° 5_XX'!B48,'BD-SOC'!#REF!,'FORMATO N° 5_XX'!$R$44)+\nCOUNTIFS('BD-SOC'!$T$15:$T$30000,'FORMATO N° 5_XX'!B48,'BD-SOC'!#REF!,'FORMATO N° 5_XX'!$R$44)+\nCOUNTIFS('BD-SOC'!$V$15:$V$30000,'FORMATO N° 5_XX'!B48,'BD-SOC'!#REF!,'FORMATO N° 5_XX'!$R$44)+\nCOUNTIFS('BD-SOC'!$X$15:$X$30000,'FORMATO N° 5_XX'!B48,'BD-SOC'!#REF!,'FORMATO N° 5_XX'!$R$44)+\nCOUNTIFS('BD-SOC'!$Z$15:$Z$30000,'FORMATO N° 5_XX'!B48,'BD-SOC'!#REF!,'FORMATO N° 5_XX'!$R$44)+\nCOUNTIFS('BD-SOC'!$AB$15:$AB$30000,'FORMATO N° 5_XX'!B48,'BD-SOC'!#REF!,'FORMATO N° 5_XX'!$R$44)","v":{"$error":"#REF!"}},{"$f":"COUNTIFS('BD-SOC'!$P$15:$P$30000,'FORMATO N° 5_XX'!B48,'BD-SOC'!#REF!,'FORMATO N° 5_XX'!$S$43)+\nCOUNTIFS('BD-SOC'!$R$15:$R$30000,'FORMATO N° 5_XX'!B48,'BD-SOC'!#REF!,'FORMATO N° 5_XX'!$S$43)+\nCOUNTIFS('BD-SOC'!$T$15:$T$30000,'FORMATO N° 5_XX'!B48,'BD-SOC'!#REF!,'FORMATO N° 5_XX'!$S$43)+\nCOUNTIFS('BD-SOC'!$V$15:$V$30000,'FORMATO N° 5_XX'!B48,'BD-SOC'!#REF!,'FORMATO N° 5_XX'!$S$43)+\nCOUNTIFS('BD-SOC'!$X$15:$X$30000,'FORMATO N° 5_XX'!B48,'BD-SOC'!#REF!,'FORMATO N° 5_XX'!$S$43)+\nCOUNTIFS('BD-SOC'!$Z$15:$Z$30000,'FORMATO N° 5_XX'!B48,'BD-SOC'!#REF!,'FORMATO N° 5_XX'!$S$43)+\nCOUNTIFS('BD-SOC'!$AB$15:$AB$30000,'FORMATO N° 5_XX'!B48,'BD-SOC'!#REF!,'FORMATO N° 5_XX'!$S$43)","v":{"$error":"#REF!"}},{"$f":"COUNTIFS('BD-SOC'!$P$15:$P$30000,'FORMATO N° 5_XX'!B48,'BD-SOC'!#REF!,'FORMATO N° 5_XX'!$T$43)+\nCOUNTIFS('BD-SOC'!$R$15:$R$30000,'FORMATO N° 5_XX'!B48,'BD-SOC'!#REF!,'FORMATO N° 5_XX'!$T$43)+\nCOUNTIFS('BD-SOC'!$T$15:$T$30000,'FORMATO N° 5_XX'!B48,'BD-SOC'!#REF!,'FORMATO N° 5_XX'!$T$43)+\nCOUNTIFS('BD-SOC'!$V$15:$V$30000,'FORMATO N° 5_XX'!B48,'BD-SOC'!#REF!,'FORMATO N° 5_XX'!$T$43)+\nCOUNTIFS('BD-SOC'!$X$15:$X$30000,'FORMATO N° 5_XX'!B48,'BD-SOC'!#REF!,'FORMATO N° 5_XX'!$T$43)+\nCOUNTIFS('BD-SOC'!$Z$15:$Z$30000,'FORMATO N° 5_XX'!B48,'BD-SOC'!#REF!,'FORMATO N° 5_XX'!$T$43)+\nCOUNTIFS('BD-SOC'!$AB$15:$AB$30000,'FORMATO N° 5_XX'!B48,'BD-SOC'!#REF!,'FORMATO N° 5_XX'!$T$43)","v":{"$error":"#REF!"}},{"$f":"SUM(V48:AE48)","v":0},{"$f":"COUNTIFS('BD-SOC'!$P$15:$P$30000,'FORMATO N° 5_XX'!B48,'BD-SOC'!$I$15:$I$30000,'FORMATO N° 5_XX'!$V$43)+\nCOUNTIFS('BD-SOC'!$R$15:$R$30000,'FORMATO N° 5_XX'!B48,'BD-SOC'!$I$15:$I$30000,'FORMATO N° 5_XX'!$V$43)+\nCOUNTIFS('BD-SOC'!$T$15:$T$30000,'FORMATO N° 5_XX'!B48,'BD-SOC'!$I$15:$I$30000,'FORMATO N° 5_XX'!$V$43)+\nCOUNTIFS('BD-SOC'!$V$15:$V$30000,'FORMATO N° 5_XX'!B48,'BD-SOC'!$I$15:$I$30000,'FORMATO N° 5_XX'!$V$43)+\nCOUNTIFS('BD-SOC'!$X$15:$X$30000,'FORMATO N° 5_XX'!B48,'BD-SOC'!$I$15:$I$30000,'FORMATO N° 5_XX'!$V$43)+\nCOUNTIFS('BD-SOC'!$Z$15:$Z$30000,'FORMATO N° 5_XX'!B48,'BD-SOC'!$I$15:$I$30000,'FORMATO N° 5_XX'!$V$43)+\nCOUNTIFS('BD-SOC'!$AB$15:$AB$30000,'FORMATO N° 5_XX'!B48,'BD-SOC'!$I$15:$I$30000,'FORMATO N° 5_XX'!$V$43)","v":0},{"$f":"COUNTIFS('BD-SOC'!$P$15:$P$30000,'FORMATO N° 5_XX'!B48,'BD-SOC'!$I$15:$I$30000,'FORMATO N° 5_XX'!$W$43)+\nCOUNTIFS('BD-SOC'!$R$15:$R$30000,'FORMATO N° 5_XX'!B48,'BD-SOC'!$I$15:$I$30000,'FORMATO N° 5_XX'!$W$43)+\nCOUNTIFS('BD-SOC'!$T$15:$T$30000,'FORMATO N° 5_XX'!B48,'BD-SOC'!$I$15:$I$30000,'FORMATO N° 5_XX'!$W$43)+\nCOUNTIFS('BD-SOC'!$V$15:$V$30000,'FORMATO N° 5_XX'!B48,'BD-SOC'!$I$15:$I$30000,'FORMATO N° 5_XX'!$W$43)+\nCOUNTIFS('BD-SOC'!$X$15:$X$30000,'FORMATO N° 5_XX'!B48,'BD-SOC'!$I$15:$I$30000,'FORMATO N° 5_XX'!$W$43)+\nCOUNTIFS('BD-SOC'!$Z$15:$Z$30000,'FORMATO N° 5_XX'!B48,'BD-SOC'!$I$15:$I$30000,'FORMATO N° 5_XX'!$W$43)+\nCOUNTIFS('BD-SOC'!$AB$15:$AB$30000,'FORMATO N° 5_XX'!B48,'BD-SOC'!$I$15:$I$30000,'FORMATO N° 5_XX'!$W$43)","v":0},{"$f":"COUNTIFS('BD-SOC'!$P$15:$P$30000,'FORMATO N° 5_XX'!B48,'BD-SOC'!$I$15:$I$30000,'FORMATO N° 5_XX'!$X$43)+\nCOUNTIFS('BD-SOC'!$R$15:$R$30000,'FORMATO N° 5_XX'!B48,'BD-SOC'!$I$15:$I$30000,'FORMATO N° 5_XX'!$X$43)+\nCOUNTIFS('BD-SOC'!$T$15:$T$30000,'FORMATO N° 5_XX'!B48,'BD-SOC'!$I$15:$I$30000,'FORMATO N° 5_XX'!$X$43)+\nCOUNTIFS('BD-SOC'!$V$15:$V$30000,'FORMATO N° 5_XX'!B48,'BD-SOC'!$I$15:$I$30000,'FORMATO N° 5_XX'!$X$43)+\nCOUNTIFS('BD-SOC'!$X$15:$X$30000,'FORMATO N° 5_XX'!B48,'BD-SOC'!$I$15:$I$30000,'FORMATO N° 5_XX'!$X$43)+\nCOUNTIFS('BD-SOC'!$Z$15:$Z$30000,'FORMATO N° 5_XX'!B48,'BD-SOC'!$I$15:$I$30000,'FORMATO N° 5_XX'!$X$43)+\nCOUNTIFS('BD-SOC'!$AB$15:$AB$30000,'FORMATO N° 5_XX'!B48,'BD-SOC'!$I$15:$I$30000,'FORMATO N° 5_XX'!$X$43)","v":0},{"$f":"COUNTIFS('BD-SOC'!$P$15:$P$30000,'FORMATO N° 5_XX'!B48,'BD-SOC'!$I$15:$I$30000,'FORMATO N° 5_XX'!$Y$43)+\nCOUNTIFS('BD-SOC'!$R$15:$R$30000,'FORMATO N° 5_XX'!B48,'BD-SOC'!$I$15:$I$30000,'FORMATO N° 5_XX'!$Y$43)+\nCOUNTIFS('BD-SOC'!$T$15:$T$30000,'FORMATO N° 5_XX'!B48,'BD-SOC'!$I$15:$I$30000,'FORMATO N° 5_XX'!$Y$43)+\nCOUNTIFS('BD-SOC'!$V$15:$V$30000,'FORMATO N° 5_XX'!B48,'BD-SOC'!$I$15:$I$30000,'FORMATO N° 5_XX'!$Y$43)+\nCOUNTIFS('BD-SOC'!$X$15:$X$30000,'FORMATO N° 5_XX'!B48,'BD-SOC'!$I$15:$I$30000,'FORMATO N° 5_XX'!$Y$43)+\nCOUNTIFS('BD-SOC'!$Z$15:$Z$30000,'FORMATO N° 5_XX'!B48,'BD-SOC'!$I$15:$I$30000,'FORMATO N° 5_XX'!$Y$43)+\nCOUNTIFS('BD-SOC'!$AB$15:$AB$30000,'FORMATO N° 5_XX'!B48,'BD-SOC'!$I$15:$I$30000,'FORMATO N° 5_XX'!$Y$43)","v":0},{"$f":"COUNTIFS('BD-SOC'!$P$15:$P$30000,'FORMATO N° 5_XX'!B48,'BD-SOC'!$I$15:$I$30000,'FORMATO N° 5_XX'!$Z$43)+\nCOUNTIFS('BD-SOC'!$R$15:$R$30000,'FORMATO N° 5_XX'!B48,'BD-SOC'!$I$15:$I$30000,'FORMATO N° 5_XX'!$Z$43)+\nCOUNTIFS('BD-SOC'!$T$15:$T$30000,'FORMATO N° 5_XX'!B48,'BD-SOC'!$I$15:$I$30000,'FORMATO N° 5_XX'!$Z$43)+\nCOUNTIFS('BD-SOC'!$V$15:$V$30000,'FORMATO N° 5_XX'!B48,'BD-SOC'!$I$15:$I$30000,'FORMATO N° 5_XX'!$Z$43)+\nCOUNTIFS('BD-SOC'!$X$15:$X$30000,'FORMATO N° 5_XX'!B48,'BD-SOC'!$I$15:$I$30000,'FORMATO N° 5_XX'!$Z$43)+\nCOUNTIFS('BD-SOC'!$Z$15:$Z$30000,'FORMATO N° 5_XX'!B48,'BD-SOC'!$I$15:$I$30000,'FORMATO N° 5_XX'!$Z$43)+\nCOUNTIFS('BD-SOC'!$AB$15:$AB$30000,'FORMATO N° 5_XX'!B48,'BD-SOC'!$I$15:$I$30000,'FORMATO N° 5_XX'!$Z$43)","v":0},{"$f":"COUNTIFS('BD-SOC'!$P$15:$P$30000,'FORMATO N° 5_XX'!B48,'BD-SOC'!$I$15:$I$30000,'FORMATO N° 5_XX'!$AA$43)+\nCOUNTIFS('BD-SOC'!$R$15:$R$30000,'FORMATO N° 5_XX'!B48,'BD-SOC'!$I$15:$I$30000,'FORMATO N° 5_XX'!$AA$43)+\nCOUNTIFS('BD-SOC'!$T$15:$T$30000,'FORMATO N° 5_XX'!B48,'BD-SOC'!$I$15:$I$30000,'FORMATO N° 5_XX'!$AA$43)+\nCOUNTIFS('BD-SOC'!$V$15:$V$30000,'FORMATO N° 5_XX'!B48,'BD-SOC'!$I$15:$I$30000,'FORMATO N° 5_XX'!$AA$43)+\nCOUNTIFS('BD-SOC'!$X$15:$X$30000,'FORMATO N° 5_XX'!B48,'BD-SOC'!$I$15:$I$30000,'FORMATO N° 5_XX'!$AA$43)+\nCOUNTIFS('BD-SOC'!$Z$15:$Z$30000,'FORMATO N° 5_XX'!B48,'BD-SOC'!$I$15:$I$30000,'FORMATO N° 5_XX'!$AA$43)+\nCOUNTIFS('BD-SOC'!$AB$15:$AB$30000,'FORMATO N° 5_XX'!B48,'BD-SOC'!$I$15:$I$30000,'FORMATO N° 5_XX'!$AA$43)","v":0},{"$f":"COUNTIFS('BD-SOC'!$P$15:$P$30000,'FORMATO N° 5_XX'!B48,'BD-SOC'!$I$15:$I$30000,'FORMATO N° 5_XX'!$AB$43)+\nCOUNTIFS('BD-SOC'!$R$15:$R$30000,'FORMATO N° 5_XX'!B48,'BD-SOC'!$I$15:$I$30000,'FORMATO N° 5_XX'!$AB$43)+\nCOUNTIFS('BD-SOC'!$T$15:$T$30000,'FORMATO N° 5_XX'!B48,'BD-SOC'!$I$15:$I$30000,'FORMATO N° 5_XX'!$AB$43)+\nCOUNTIFS('BD-SOC'!$V$15:$V$30000,'FORMATO N° 5_XX'!B48,'BD-SOC'!$I$15:$I$30000,'FORMATO N° 5_XX'!$AB$43)+\nCOUNTIFS('BD-SOC'!$X$15:$X$30000,'FORMATO N° 5_XX'!B48,'BD-SOC'!$I$15:$I$30000,'FORMATO N° 5_XX'!$AB$43)+\nCOUNTIFS('BD-SOC'!$Z$15:$Z$30000,'FORMATO N° 5_XX'!B48,'BD-SOC'!$I$15:$I$30000,'FORMATO N° 5_XX'!$AB$43)+\nCOUNTIFS('BD-SOC'!$AB$15:$AB$30000,'FORMATO N° 5_XX'!B48,'BD-SOC'!$I$15:$I$30000,'FORMATO N° 5_XX'!$AB$43)","v":0},{"$f":"COUNTIFS('BD-SOC'!$P$15:$P$30000,'FORMATO N° 5_XX'!B48,'BD-SOC'!$I$15:$I$30000,'FORMATO N° 5_XX'!$AC$43)+\nCOUNTIFS('BD-SOC'!$R$15:$R$30000,'FORMATO N° 5_XX'!B48,'BD-SOC'!$I$15:$I$30000,'FORMATO N° 5_XX'!$AC$43)+\nCOUNTIFS('BD-SOC'!$T$15:$T$30000,'FORMATO N° 5_XX'!B48,'BD-SOC'!$I$15:$I$30000,'FORMATO N° 5_XX'!$AC$43)+\nCOUNTIFS('BD-SOC'!$V$15:$V$30000,'FORMATO N° 5_XX'!B48,'BD-SOC'!$I$15:$I$30000,'FORMATO N° 5_XX'!$AC$43)+\nCOUNTIFS('BD-SOC'!$X$15:$X$30000,'FORMATO N° 5_XX'!B48,'BD-SOC'!$I$15:$I$30000,'FORMATO N° 5_XX'!$AC$43)+\nCOUNTIFS('BD-SOC'!$Z$15:$Z$30000,'FORMATO N° 5_XX'!B48,'BD-SOC'!$I$15:$I$30000,'FORMATO N° 5_XX'!$AC$43)+\nCOUNTIFS('BD-SOC'!$AB$15:$AB$30000,'FORMATO N° 5_XX'!B48,'BD-SOC'!$I$15:$I$30000,'FORMATO N° 5_XX'!$AC$43)","v":0},{"$f":"COUNTIFS('BD-SOC'!$P$15:$P$30000,'FORMATO N° 5_XX'!B48,'BD-SOC'!$I$15:$I$30000,'FORMATO N° 5_XX'!$AD$43)+\nCOUNTIFS('BD-SOC'!$R$15:$R$30000,'FORMATO N° 5_XX'!B48,'BD-SOC'!$I$15:$I$30000,'FORMATO N° 5_XX'!$AD$43)+\nCOUNTIFS('BD-SOC'!$T$15:$T$30000,'FORMATO N° 5_XX'!B48,'BD-SOC'!$I$15:$I$30000,'FORMATO N° 5_XX'!$AD$43)+\nCOUNTIFS('BD-SOC'!$V$15:$V$30000,'FORMATO N° 5_XX'!B48,'BD-SOC'!$I$15:$I$30000,'FORMATO N° 5_XX'!$AD$43)+\nCOUNTIFS('BD-SOC'!$X$15:$X$30000,'FORMATO N° 5_XX'!B48,'BD-SOC'!$I$15:$I$30000,'FORMATO N° 5_XX'!$AD$43)+\nCOUNTIFS('BD-SOC'!$Z$15:$Z$30000,'FORMATO N° 5_XX'!B48,'BD-SOC'!$I$15:$I$30000,'FORMATO N° 5_XX'!$AD$43)+\nCOUNTIFS('BD-SOC'!$AB$15:$AB$30000,'FORMATO N° 5_XX'!B48,'BD-SOC'!$I$15:$I$30000,'FORMATO N° 5_XX'!$AD$43)","v":0},{"$f":"COUNTIFS('BD-SOC'!$P$15:$P$30000,'FORMATO N° 5_XX'!B48,'BD-SOC'!$I$15:$I$30000,'FORMATO N° 5_XX'!$AE$43)+\nCOUNTIFS('BD-SOC'!$R$15:$R$30000,'FORMATO N° 5_XX'!B48,'BD-SOC'!$I$15:$I$30000,'FORMATO N° 5_XX'!$AE$43)+\nCOUNTIFS('BD-SOC'!$T$15:$T$30000,'FORMATO N° 5_XX'!B48,'BD-SOC'!$I$15:$I$30000,'FORMATO N° 5_XX'!$AE$43)+\nCOUNTIFS('BD-SOC'!$V$15:$V$30000,'FORMATO N° 5_XX'!B48,'BD-SOC'!$I$15:$I$30000,'FORMATO N° 5_XX'!$AE$43)+\nCOUNTIFS('BD-SOC'!$X$15:$X$30000,'FORMATO N° 5_XX'!B48,'BD-SOC'!$I$15:$I$30000,'FORMATO N° 5_XX'!$AE$43)+\nCOUNTIFS('BD-SOC'!$Z$15:$Z$30000,'FORMATO N° 5_XX'!B48,'BD-SOC'!$I$15:$I$30000,'FORMATO N° 5_XX'!$AE$43)+\nCOUNTIFS('BD-SOC'!$AB$15:$AB$30000,'FORMATO N° 5_XX'!B48,'BD-SOC'!$I$15:$I$30000,'FORMATO N° 5_XX'!$AE$43)","v":0}]
[null,103,"FICHA PSICOSOCIAL",null,null,null,null,null,{"$error":"#REF!"},{"$f":"COUNTIFS('BD-SOC'!$P$15:$P$30000,'FORMATO N° 5_XX'!B49,'BD-SOC'!#REF!,'FORMATO N° 5_XX'!$J$43)+\nCOUNTIFS('BD-SOC'!$R$15:$R$30000,'FORMATO N° 5_XX'!B49,'BD-SOC'!#REF!,'FORMATO N° 5_XX'!$J$43)+\nCOUNTIFS('BD-SOC'!$T$15:$T$30000,'FORMATO N° 5_XX'!B49,'BD-SOC'!#REF!,'FORMATO N° 5_XX'!$J$43)+\nCOUNTIFS('BD-SOC'!$V$15:$V$30000,'FORMATO N° 5_XX'!B49,'BD-SOC'!#REF!,'FORMATO N° 5_XX'!$J$43)+\nCOUNTIFS('BD-SOC'!$X$15:$X$30000,'FORMATO N° 5_XX'!B49,'BD-SOC'!#REF!,'FORMATO N° 5_XX'!$J$43)+\nCOUNTIFS('BD-SOC'!$Z$15:$Z$30000,'FORMATO N° 5_XX'!B49,'BD-SOC'!#REF!,'FORMATO N° 5_XX'!$J$43)+\nCOUNTIFS('BD-SOC'!$AB$15:$AB$30000,'FORMATO N° 5_XX'!B49,'BD-SOC'!#REF!,'FORMATO N° 5_XX'!$J$43)","v":{"$error":"#REF!"}},{"$f":"COUNTIFS('BD-SOC'!$P$15:$P$30000,'FORMATO N° 5_XX'!B49,'BD-SOC'!#REF!,'FORMATO N° 5_XX'!$K$43)+\nCOUNTIFS('BD-SOC'!$R$15:$R$30000,'FORMATO N° 5_XX'!B49,'BD-SOC'!#REF!,'FORMATO N° 5_XX'!$K$43)+\nCOUNTIFS('BD-SOC'!$T$15:$T$30000,'FORMATO N° 5_XX'!B49,'BD-SOC'!#REF!,'FORMATO N° 5_XX'!$K$43)+\nCOUNTIFS('BD-SOC'!$V$15:$V$30000,'FORMATO N° 5_XX'!B49,'BD-SOC'!#REF!,'FORMATO N° 5_XX'!$K$43)+\nCOUNTIFS('BD-SOC'!$X$15:$X$30000,'FORMATO N° 5_XX'!B49,'BD-SOC'!#REF!,'FORMATO N° 5_XX'!$K$43)+\nCOUNTIFS('BD-SOC'!$Z$15:$Z$30000,'FORMATO N° 5_XX'!B49,'BD-SOC'!#REF!,'FORMATO N° 5_XX'!$K$43)+\nCOUNTIFS('BD-SOC'!$AB$15:$AB$30000,'FORMATO N° 5_XX'!B49,'BD-SOC'!#REF!,'FORMATO N° 5_XX'!$K$43)","v":{"$error":"#REF!"}},{"$f":"COUNTIFS('BD-SOC'!$P$15:$P$30000,'FORMATO N° 5_XX'!B49,'BD-SOC'!#REF!,'FORMATO N° 5_XX'!$L$43)+\nCOUNTIFS('BD-SOC'!$R$15:$R$30000,'FORMATO N° 5_XX'!B49,'BD-SOC'!#REF!,'FORMATO N° 5_XX'!$L$43)+\nCOUNTIFS('BD-SOC'!$T$15:$T$30000,'FORMATO N° 5_XX'!B49,'BD-SOC'!#REF!,'FORMATO N° 5_XX'!$L$43)+\nCOUNTIFS('BD-SOC'!$V$15:$V$30000,'FORMATO N° 5_XX'!B49,'BD-SOC'!#REF!,'FORMATO N° 5_XX'!$L$43)+\nCOUNTIFS('BD-SOC'!$X$15:$X$30000,'FORMATO N° 5_XX'!B49,'BD-SOC'!#REF!,'FORMATO N° 5_XX'!$L$43)+\nCOUNTIFS('BD-SOC'!$Z$15:$Z$30000,'FORMATO N° 5_XX'!B49,'BD-SOC'!#REF!,'FORMATO N° 5_XX'!$L$43)+\nCOUNTIFS('BD-SOC'!$AB$15:$AB$30000,'FORMATO N° 5_XX'!B49,'BD-SOC'!#REF!,'FORMATO N° 5_XX'!$L$43)","v":{"$error":"#REF!"}},{"$f":"COUNTIFS('BD-SOC'!$P$15:$P$30000,'FORMATO N° 5_XX'!B49,'BD-SOC'!#REF!,'FORMATO N° 5_XX'!$M$44)+\nCOUNTIFS('BD-SOC'!$R$15:$R$30000,'FORMATO N° 5_XX'!B49,'BD-SOC'!#REF!,'FORMATO N° 5_XX'!$M$44)+\nCOUNTIFS('BD-SOC'!$T$15:$T$30000,'FORMATO N° 5_XX'!B49,'BD-SOC'!#REF!,'FORMATO N° 5_XX'!$M$44)+\nCOUNTIFS('BD-SOC'!$V$15:$V$30000,'FORMATO N° 5_XX'!B49,'BD-SOC'!#REF!,'FORMATO N° 5_XX'!$M$44)+\nCOUNTIFS('BD-SOC'!$X$15:$X$30000,'FORMATO N° 5_XX'!B49,'BD-SOC'!#REF!,'FORMATO N° 5_XX'!$M$44)+\nCOUNTIFS('BD-SOC'!$Z$15:$Z$30000,'FORMATO N° 5_XX'!B49,'BD-SOC'!#REF!,'FORMATO N° 5_XX'!$M$44)+\nCOUNTIFS('BD-SOC'!$AB$15:$AB$30000,'FORMATO N° 5_XX'!B49,'BD-SOC'!#REF!,'FORMATO N° 5_XX'!$M$44)","v":{"$error":"#REF!"}},{"$f":"COUNTIFS('BD-SOC'!$P$15:$P$30000,'FORMATO N° 5_XX'!B49,'BD-SOC'!#REF!,'FORMATO N° 5_XX'!$N$44)+\nCOUNTIFS('BD-SOC'!$R$15:$R$30000,'FORMATO N° 5_XX'!B49,'BD-SOC'!#REF!,'FORMATO N° 5_XX'!$N$44)+\nCOUNTIFS('BD-SOC'!$T$15:$T$30000,'FORMATO N° 5_XX'!B49,'BD-SOC'!#REF!,'FORMATO N° 5_XX'!$N$44)+\nCOUNTIFS('BD-SOC'!$V$15:$V$30000,'FORMATO N° 5_XX'!B49,'BD-SOC'!#REF!,'FORMATO N° 5_XX'!$N$44)+\nCOUNTIFS('BD-SOC'!$X$15:$X$30000,'FORMATO N° 5_XX'!B49,'BD-SOC'!#REF!,'FORMATO N° 5_XX'!$N$44)+\nCOUNTIFS('BD-SOC'!$Z$15:$Z$30000,'FORMATO N° 5_XX'!B49,'BD-SOC'!#REF!,'FORMATO N° 5_XX'!$N$44)+\nCOUNTIFS('BD-SOC'!$AB$15:$AB$30000,'FORMATO N° 5_XX'!B49,'BD-SOC'!#REF!,'FORMATO N° 5_XX'!$N$44)","v":{"$error":"#REF!"}},{"$f":"COUNTIFS('BD-SOC'!$P$15:$P$30000,'FORMATO N° 5_XX'!B49,'BD-SOC'!#REF!,'FORMATO N° 5_XX'!$O$44)+\nCOUNTIFS('BD-SOC'!$R$15:$R$30000,'FORMATO N° 5_XX'!B49,'BD-SOC'!#REF!,'FORMATO N° 5_XX'!$O$44)+\nCOUNTIFS('BD-SOC'!$T$15:$T$30000,'FORMATO N° 5_XX'!B49,'BD-SOC'!#REF!,'FORMATO N° 5_XX'!$O$44)+\nCOUNTIFS('BD-SOC'!$V$15:$V$30000,'FORMATO N° 5_XX'!B49,'BD-SOC'!#REF!,'FORMATO N° 5_XX'!$O$44)+\nCOUNTIFS('BD-SOC'!$X$15:$X$30000,'FORMATO N° 5_XX'!B49,'BD-SOC'!#REF!,'FORMATO N° 5_XX'!$O$44)+\nCOUNTIFS('BD-SOC'!$Z$15:$Z$30000,'FORMATO N° 5_XX'!B49,'BD-SOC'!#REF!,'FORMATO N° 5_XX'!$O$44)+\nCOUNTIFS('BD-SOC'!$AB$15:$AB$30000,'FORMATO N° 5_XX'!B49,'BD-SOC'!#REF!,'FORMATO N° 5_XX'!$O$44)","v":{"$error":"#REF!"}},{"$f":"COUNTIFS('BD-SOC'!$P$15:$P$30000,'FORMATO N° 5_XX'!B49,'BD-SOC'!#REF!,'FORMATO N° 5_XX'!$P$44)+\nCOUNTIFS('BD-SOC'!$R$15:$R$30000,'FORMATO N° 5_XX'!B49,'BD-SOC'!#REF!,'FORMATO N° 5_XX'!$P$44)+\nCOUNTIFS('BD-SOC'!$T$15:$T$30000,'FORMATO N° 5_XX'!B49,'BD-SOC'!#REF!,'FORMATO N° 5_XX'!$P$44)+\nCOUNTIFS('BD-SOC'!$V$15:$V$30000,'FORMATO N° 5_XX'!B49,'BD-SOC'!#REF!,'FORMATO N° 5_XX'!$P$44)+\nCOUNTIFS('BD-SOC'!$X$15:$X$30000,'FORMATO N° 5_XX'!B49,'BD-SOC'!#REF!,'FORMATO N° 5_XX'!$P$44)+\nCOUNTIFS('BD-SOC'!$Z$15:$Z$30000,'FORMATO N° 5_XX'!B49,'BD-SOC'!#REF!,'FORMATO N° 5_XX'!$P$44)+\nCOUNTIFS('BD-SOC'!$AB$15:$AB$30000,'FORMATO N° 5_XX'!B49,'BD-SOC'!#REF!,'FORMATO N° 5_XX'!$P$44)","v":{"$error":"#REF!"}},{"$f":"COUNTIFS('BD-SOC'!$P$15:$P$30000,'FORMATO N° 5_XX'!B49,'BD-SOC'!#REF!,'FORMATO N° 5_XX'!$Q$44)+\nCOUNTIFS('BD-SOC'!$R$15:$R$30000,'FORMATO N° 5_XX'!B49,'BD-SOC'!#REF!,'FORMATO N° 5_XX'!$Q$44)+\nCOUNTIFS('BD-SOC'!$T$15:$T$30000,'FORMATO N° 5_XX'!B49,'BD-SOC'!#REF!,'FORMATO N° 5_XX'!$Q$44)+\nCOUNTIFS('BD-SOC'!$V$15:$V$30000,'FORMATO N° 5_XX'!B49,'BD-SOC'!#REF!,'FORMATO N° 5_XX'!$Q$44)+\nCOUNTIFS('BD-SOC'!$X$15:$X$30000,'FORMATO N° 5_XX'!B49,'BD-SOC'!#REF!,'FORMATO N° 5_XX'!$Q$44)+\nCOUNTIFS('BD-SOC'!$Z$15:$Z$30000,'FORMATO N° 5_XX'!B49,'BD-SOC'!#REF!,'FORMATO N° 5_XX'!$Q$44)+\nCOUNTIFS('BD-SOC'!$AB$15:$AB$30000,'FORMATO N° 5_XX'!B49,'BD-SOC'!#REF!,'FORMATO N° 5_XX'!$Q$44)","v":{"$error":"#REF!"}},{"$f":"COUNTIFS('BD-SOC'!$P$15:$P$30000,'FORMATO N° 5_XX'!B49,'BD-SOC'!#REF!,'FORMATO N° 5_XX'!$R$44)+\nCOUNTIFS('BD-SOC'!$R$15:$R$30000,'FORMATO N° 5_XX'!B49,'BD-SOC'!#REF!,'FORMATO N° 5_XX'!$R$44)+\nCOUNTIFS('BD-SOC'!$T$15:$T$30000,'FORMATO N° 5_XX'!B49,'BD-SOC'!#REF!,'FORMATO N° 5_XX'!$R$44)+\nCOUNTIFS('BD-SOC'!$V$15:$V$30000,'FORMATO N° 5_XX'!B49,'BD-SOC'!#REF!,'FORMATO N° 5_XX'!$R$44)+\nCOUNTIFS('BD-SOC'!$X$15:$X$30000,'FORMATO N° 5_XX'!B49,'BD-SOC'!#REF!,'FORMATO N° 5_XX'!$R$44)+\nCOUNTIFS('BD-SOC'!$Z$15:$Z$30000,'FORMATO N° 5_XX'!B49,'BD-SOC'!#REF!,'FORMATO N° 5_XX'!$R$44)+\nCOUNTIFS('BD-SOC'!$AB$15:$AB$30000,'FORMATO N° 5_XX'!B49,'BD-SOC'!#REF!,'FORMATO N° 5_XX'!$R$44)","v":{"$error":"#REF!"}},{"$f":"COUNTIFS('BD-SOC'!$P$15:$P$30000,'FORMATO N° 5_XX'!B49,'BD-SOC'!#REF!,'FORMATO N° 5_XX'!$S$43)+\nCOUNTIFS('BD-SOC'!$R$15:$R$30000,'FORMATO N° 5_XX'!B49,'BD-SOC'!#REF!,'FORMATO N° 5_XX'!$S$43)+\nCOUNTIFS('BD-SOC'!$T$15:$T$30000,'FORMATO N° 5_XX'!B49,'BD-SOC'!#REF!,'FORMATO N° 5_XX'!$S$43)+\nCOUNTIFS('BD-SOC'!$V$15:$V$30000,'FORMATO N° 5_XX'!B49,'BD-SOC'!#REF!,'FORMATO N° 5_XX'!$S$43)+\nCOUNTIFS('BD-SOC'!$X$15:$X$30000,'FORMATO N° 5_XX'!B49,'BD-SOC'!#REF!,'FORMATO N° 5_XX'!$S$43)+\nCOUNTIFS('BD-SOC'!$Z$15:$Z$30000,'FORMATO N° 5_XX'!B49,'BD-SOC'!#REF!,'FORMATO N° 5_XX'!$S$43)+\nCOUNTIFS('BD-SOC'!$AB$15:$AB$30000,'FORMATO N° 5_XX'!B49,'BD-SOC'!#REF!,'FORMATO N° 5_XX'!$S$43)","v":{"$error":"#REF!"}},{"$f":"COUNTIFS('BD-SOC'!$P$15:$P$30000,'FORMATO N° 5_XX'!B49,'BD-SOC'!#REF!,'FORMATO N° 5_XX'!$T$43)+\nCOUNTIFS('BD-SOC'!$R$15:$R$30000,'FORMATO N° 5_XX'!B49,'BD-SOC'!#REF!,'FORMATO N° 5_XX'!$T$43)+\nCOUNTIFS('BD-SOC'!$T$15:$T$30000,'FORMATO N° 5_XX'!B49,'BD-SOC'!#REF!,'FORMATO N° 5_XX'!$T$43)+\nCOUNTIFS('BD-SOC'!$V$15:$V$30000,'FORMATO N° 5_XX'!B49,'BD-SOC'!#REF!,'FORMATO N° 5_XX'!$T$43)+\nCOUNTIFS('BD-SOC'!$X$15:$X$30000,'FORMATO N° 5_XX'!B49,'BD-SOC'!#REF!,'FORMATO N° 5_XX'!$T$43)+\nCOUNTIFS('BD-SOC'!$Z$15:$Z$30000,'FORMATO N° 5_XX'!B49,'BD-SOC'!#REF!,'FORMATO N° 5_XX'!$T$43)+\nCOUNTIFS('BD-SOC'!$AB$15:$AB$30000,'FORMATO N° 5_XX'!B49,'BD-SOC'!#REF!,'FORMATO N° 5_XX'!$T$43)","v":{"$error":"#REF!"}},0,{"$f":"COUNTIFS('BD-SOC'!$P$15:$P$30000,'FORMATO N° 5_XX'!B49,'BD-SOC'!$I$15:$I$30000,'FORMATO N° 5_XX'!$V$43)+\nCOUNTIFS('BD-SOC'!$R$15:$R$30000,'FORMATO N° 5_XX'!B49,'BD-SOC'!$I$15:$I$30000,'FORMATO N° 5_XX'!$V$43)+\nCOUNTIFS('BD-SOC'!$T$15:$T$30000,'FORMATO N° 5_XX'!B49,'BD-SOC'!$I$15:$I$30000,'FORMATO N° 5_XX'!$V$43)+\nCOUNTIFS('BD-SOC'!$V$15:$V$30000,'FORMATO N° 5_XX'!B49,'BD-SOC'!$I$15:$I$30000,'FORMATO N° 5_XX'!$V$43)+\nCOUNTIFS('BD-SOC'!$X$15:$X$30000,'FORMATO N° 5_XX'!B49,'BD-SOC'!$I$15:$I$30000,'FORMATO N° 5_XX'!$V$43)+\nCOUNTIFS('BD-SOC'!$Z$15:$Z$30000,'FORMATO N° 5_XX'!B49,'BD-SOC'!$I$15:$I$30000,'FORMATO N° 5_XX'!$V$43)+\nCOUNTIFS('BD-SOC'!$AB$15:$AB$30000,'FORMATO N° 5_XX'!B49,'BD-SOC'!$I$15:$I$30000,'FORMATO N° 5_XX'!$V$43)","v":0},{"$f":"COUNTIFS('BD-SOC'!$P$15:$P$30000,'FORMATO N° 5_XX'!B49,'BD-SOC'!$I$15:$I$30000,'FORMATO N° 5_XX'!$W$43)+\nCOUNTIFS('BD-SOC'!$R$15:$R$30000,'FORMATO N° 5_XX'!B49,'BD-SOC'!$I$15:$I$30000,'FORMATO N° 5_XX'!$W$43)+\nCOUNTIFS('BD-SOC'!$T$15:$T$30000,'FORMATO N° 5_XX'!B49,'BD-SOC'!$I$15:$I$30000,'FORMATO N° 5_XX'!$W$43)+\nCOUNTIFS('BD-SOC'!$V$15:$V$30000,'FORMATO N° 5_XX'!B49,'BD-SOC'!$I$15:$I$30000,'FORMATO N° 5_XX'!$W$43)+\nCOUNTIFS('BD-SOC'!$X$15:$X$30000,'FORMATO N° 5_XX'!B49,'BD-SOC'!$I$15:$I$30000,'FORMATO N° 5_XX'!$W$43)+\nCOUNTIFS('BD-SOC'!$Z$15:$Z$30000,'FORMATO N° 5_XX'!B49,'BD-SOC'!$I$15:$I$30000,'FORMATO N° 5_XX'!$W$43)+\nCOUNTIFS('BD-SOC'!$AB$15:$AB$30000,'FORMATO N° 5_XX'!B49,'BD-SOC'!$I$15:$I$30000,'FORMATO N° 5_XX'!$W$43)","v":0},{"$f":"COUNTIFS('BD-SOC'!$P$15:$P$30000,'FORMATO N° 5_XX'!B49,'BD-SOC'!$I$15:$I$30000,'FORMATO N° 5_XX'!$X$43)+\nCOUNTIFS('BD-SOC'!$R$15:$R$30000,'FORMATO N° 5_XX'!B49,'BD-SOC'!$I$15:$I$30000,'FORMATO N° 5_XX'!$X$43)+\nCOUNTIFS('BD-SOC'!$T$15:$T$30000,'FORMATO N° 5_XX'!B49,'BD-SOC'!$I$15:$I$30000,'FORMATO N° 5_XX'!$X$43)+\nCOUNTIFS('BD-SOC'!$V$15:$V$30000,'FORMATO N° 5_XX'!B49,'BD-SOC'!$I$15:$I$30000,'FORMATO N° 5_XX'!$X$43)+\nCOUNTIFS('BD-SOC'!$X$15:$X$30000,'FORMATO N° 5_XX'!B49,'BD-SOC'!$I$15:$I$30000,'FORMATO N° 5_XX'!$X$43)+\nCOUNTIFS('BD-SOC'!$Z$15:$Z$30000,'FORMATO N° 5_XX'!B49,'BD-SOC'!$I$15:$I$30000,'FORMATO N° 5_XX'!$X$43)+\nCOUNTIFS('BD-SOC'!$AB$15:$AB$30000,'FORMATO N° 5_XX'!B49,'BD-SOC'!$I$15:$I$30000,'FORMATO N° 5_XX'!$X$43)","v":0},{"$f":"COUNTIFS('BD-SOC'!$P$15:$P$30000,'FORMATO N° 5_XX'!B49,'BD-SOC'!$I$15:$I$30000,'FORMATO N° 5_XX'!$Y$43)+\nCOUNTIFS('BD-SOC'!$R$15:$R$30000,'FORMATO N° 5_XX'!B49,'BD-SOC'!$I$15:$I$30000,'FORMATO N° 5_XX'!$Y$43)+\nCOUNTIFS('BD-SOC'!$T$15:$T$30000,'FORMATO N° 5_XX'!B49,'BD-SOC'!$I$15:$I$30000,'FORMATO N° 5_XX'!$Y$43)+\nCOUNTIFS('BD-SOC'!$V$15:$V$30000,'FORMATO N° 5_XX'!B49,'BD-SOC'!$I$15:$I$30000,'FORMATO N° 5_XX'!$Y$43)+\nCOUNTIFS('BD-SOC'!$X$15:$X$30000,'FORMATO N° 5_XX'!B49,'BD-SOC'!$I$15:$I$30000,'FORMATO N° 5_XX'!$Y$43)+\nCOUNTIFS('BD-SOC'!$Z$15:$Z$30000,'FORMATO N° 5_XX'!B49,'BD-SOC'!$I$15:$I$30000,'FORMATO N° 5_XX'!$Y$43)+\nCOUNTIFS('BD-SOC'!$AB$15:$AB$30000,'FORMATO N° 5_XX'!B49,'BD-SOC'!$I$15:$I$30000,'FORMATO N° 5_XX'!$Y$43)","v":0},{"$f":"COUNTIFS('BD-SOC'!$P$15:$P$30000,'FORMATO N° 5_XX'!B49,'BD-SOC'!$I$15:$I$30000,'FORMATO N° 5_XX'!$Z$43)+\nCOUNTIFS('BD-SOC'!$R$15:$R$30000,'FORMATO N° 5_XX'!B49,'BD-SOC'!$I$15:$I$30000,'FORMATO N° 5_XX'!$Z$43)+\nCOUNTIFS('BD-SOC'!$T$15:$T$30000,'FORMATO N° 5_XX'!B49,'BD-SOC'!$I$15:$I$30000,'FORMATO N° 5_XX'!$Z$43)+\nCOUNTIFS('BD-SOC'!$V$15:$V$30000,'FORMATO N° 5_XX'!B49,'BD-SOC'!$I$15:$I$30000,'FORMATO N° 5_XX'!$Z$43)+\nCOUNTIFS('BD-SOC'!$X$15:$X$30000,'FORMATO N° 5_XX'!B49,'BD-SOC'!$I$15:$I$30000,'FORMATO N° 5_XX'!$Z$43)+\nCOUNTIFS('BD-SOC'!$Z$15:$Z$30000,'FORMATO N° 5_XX'!B49,'BD-SOC'!$I$15:$I$30000,'FORMATO N° 5_XX'!$Z$43)+\nCOUNTIFS('BD-SOC'!$AB$15:$AB$30000,'FORMATO N° 5_XX'!B49,'BD-SOC'!$I$15:$I$30000,'FORMATO N° 5_XX'!$Z$43)","v":0},{"$f":"COUNTIFS('BD-SOC'!$P$15:$P$30000,'FORMATO N° 5_XX'!B49,'BD-SOC'!$I$15:$I$30000,'FORMATO N° 5_XX'!$AA$43)+\nCOUNTIFS('BD-SOC'!$R$15:$R$30000,'FORMATO N° 5_XX'!B49,'BD-SOC'!$I$15:$I$30000,'FORMATO N° 5_XX'!$AA$43)+\nCOUNTIFS('BD-SOC'!$T$15:$T$30000,'FORMATO N° 5_XX'!B49,'BD-SOC'!$I$15:$I$30000,'FORMATO N° 5_XX'!$AA$43)+\nCOUNTIFS('BD-SOC'!$V$15:$V$30000,'FORMATO N° 5_XX'!B49,'BD-SOC'!$I$15:$I$30000,'FORMATO N° 5_XX'!$AA$43)+\nCOUNTIFS('BD-SOC'!$X$15:$X$30000,'FORMATO N° 5_XX'!B49,'BD-SOC'!$I$15:$I$30000,'FORMATO N° 5_XX'!$AA$43)+\nCOUNTIFS('BD-SOC'!$Z$15:$Z$30000,'FORMATO N° 5_XX'!B49,'BD-SOC'!$I$15:$I$30000,'FORMATO N° 5_XX'!$AA$43)+\nCOUNTIFS('BD-SOC'!$AB$15:$AB$30000,'FORMATO N° 5_XX'!B49,'BD-SOC'!$I$15:$I$30000,'FORMATO N° 5_XX'!$AA$43)","v":0},{"$f":"COUNTIFS('BD-SOC'!$P$15:$P$30000,'FORMATO N° 5_XX'!B49,'BD-SOC'!$I$15:$I$30000,'FORMATO N° 5_XX'!$AB$43)+\nCOUNTIFS('BD-SOC'!$R$15:$R$30000,'FORMATO N° 5_XX'!B49,'BD-SOC'!$I$15:$I$30000,'FORMATO N° 5_XX'!$AB$43)+\nCOUNTIFS('BD-SOC'!$T$15:$T$30000,'FORMATO N° 5_XX'!B49,'BD-SOC'!$I$15:$I$30000,'FORMATO N° 5_XX'!$AB$43)+\nCOUNTIFS('BD-SOC'!$V$15:$V$30000,'FORMATO N° 5_XX'!B49,'BD-SOC'!$I$15:$I$30000,'FORMATO N° 5_XX'!$AB$43)+\nCOUNTIFS('BD-SOC'!$X$15:$X$30000,'FORMATO N° 5_XX'!B49,'BD-SOC'!$I$15:$I$30000,'FORMATO N° 5_XX'!$AB$43)+\nCOUNTIFS('BD-SOC'!$Z$15:$Z$30000,'FORMATO N° 5_XX'!B49,'BD-SOC'!$I$15:$I$30000,'FORMATO N° 5_XX'!$AB$43)+\nCOUNTIFS('BD-SOC'!$AB$15:$AB$30000,'FORMATO N° 5_XX'!B49,'BD-SOC'!$I$15:$I$30000,'FORMATO N° 5_XX'!$AB$43)","v":0},{"$f":"COUNTIFS('BD-SOC'!$P$15:$P$30000,'FORMATO N° 5_XX'!B49,'BD-SOC'!$I$15:$I$30000,'FORMATO N° 5_XX'!$AC$43)+\nCOUNTIFS('BD-SOC'!$R$15:$R$30000,'FORMATO N° 5_XX'!B49,'BD-SOC'!$I$15:$I$30000,'FORMATO N° 5_XX'!$AC$43)+\nCOUNTIFS('BD-SOC'!$T$15:$T$30000,'FORMATO N° 5_XX'!B49,'BD-SOC'!$I$15:$I$30000,'FORMATO N° 5_XX'!$AC$43)+\nCOUNTIFS('BD-SOC'!$V$15:$V$30000,'FORMATO N° 5_XX'!B49,'BD-SOC'!$I$15:$I$30000,'FORMATO N° 5_XX'!$AC$43)+\nCOUNTIFS('BD-SOC'!$X$15:$X$30000,'FORMATO N° 5_XX'!B49,'BD-SOC'!$I$15:$I$30000,'FORMATO N° 5_XX'!$AC$43)+\nCOUNTIFS('BD-SOC'!$Z$15:$Z$30000,'FORMATO N° 5_XX'!B49,'BD-SOC'!$I$15:$I$30000,'FORMATO N° 5_XX'!$AC$43)+\nCOUNTIFS('BD-SOC'!$AB$15:$AB$30000,'FORMATO N° 5_XX'!B49,'BD-SOC'!$I$15:$I$30000,'FORMATO N° 5_XX'!$AC$43)","v":0},{"$f":"COUNTIFS('BD-SOC'!$P$15:$P$30000,'FORMATO N° 5_XX'!B49,'BD-SOC'!$I$15:$I$30000,'FORMATO N° 5_XX'!$AD$43)+\nCOUNTIFS('BD-SOC'!$R$15:$R$30000,'FORMATO N° 5_XX'!B49,'BD-SOC'!$I$15:$I$30000,'FORMATO N° 5_XX'!$AD$43)+\nCOUNTIFS('BD-SOC'!$T$15:$T$30000,'FORMATO N° 5_XX'!B49,'BD-SOC'!$I$15:$I$30000,'FORMATO N° 5_XX'!$AD$43)+\nCOUNTIFS('BD-SOC'!$V$15:$V$30000,'FORMATO N° 5_XX'!B49,'BD-SOC'!$I$15:$I$30000,'FORMATO N° 5_XX'!$AD$43)+\nCOUNTIFS('BD-SOC'!$X$15:$X$30000,'FORMATO N° 5_XX'!B49,'BD-SOC'!$I$15:$I$30000,'FORMATO N° 5_XX'!$AD$43)+\nCOUNTIFS('BD-SOC'!$Z$15:$Z$30000,'FORMATO N° 5_XX'!B49,'BD-SOC'!$I$15:$I$30000,'FORMATO N° 5_XX'!$AD$43)+\nCOUNTIFS('BD-SOC'!$AB$15:$AB$30000,'FORMATO N° 5_XX'!B49,'BD-SOC'!$I$15:$I$30000,'FORMATO N° 5_XX'!$AD$43)","v":0},{"$f":"COUNTIFS('BD-SOC'!$P$15:$P$30000,'FORMATO N° 5_XX'!B49,'BD-SOC'!$I$15:$I$30000,'FORMATO N° 5_XX'!$AE$43)+\nCOUNTIFS('BD-SOC'!$R$15:$R$30000,'FORMATO N° 5_XX'!B49,'BD-SOC'!$I$15:$I$30000,'FORMATO N° 5_XX'!$AE$43)+\nCOUNTIFS('BD-SOC'!$T$15:$T$30000,'FORMATO N° 5_XX'!B49,'BD-SOC'!$I$15:$I$30000,'FORMATO N° 5_XX'!$AE$43)+\nCOUNTIFS('BD-SOC'!$V$15:$V$30000,'FORMATO N° 5_XX'!B49,'BD-SOC'!$I$15:$I$30000,'FORMATO N° 5_XX'!$AE$43)+\nCOUNTIFS('BD-SOC'!$X$15:$X$30000,'FORMATO N° 5_XX'!B49,'BD-SOC'!$I$15:$I$30000,'FORMATO N° 5_XX'!$AE$43)+\nCOUNTIFS('BD-SOC'!$Z$15:$Z$30000,'FORMATO N° 5_XX'!B49,'BD-SOC'!$I$15:$I$30000,'FORMATO N° 5_XX'!$AE$43)+\nCOUNTIFS('BD-SOC'!$AB$15:$AB$30000,'FORMATO N° 5_XX'!B49,'BD-SOC'!$I$15:$I$30000,'FORMATO N° 5_XX'!$AE$43)","v":0}]
[null,104,"EVALUACIÓN INICIAL/ESTUDIO INTEGRAL",null,null,null,null,null,{"$error":"#REF!"},{"$f":"COUNTIFS('BD-SOC'!$P$15:$P$30000,'FORMATO N° 5_XX'!B50,'BD-SOC'!#REF!,'FORMATO N° 5_XX'!$J$43)+\nCOUNTIFS('BD-SOC'!$R$15:$R$30000,'FORMATO N° 5_XX'!B50,'BD-SOC'!#REF!,'FORMATO N° 5_XX'!$J$43)+\nCOUNTIFS('BD-SOC'!$T$15:$T$30000,'FORMATO N° 5_XX'!B50,'BD-SOC'!#REF!,'FORMATO N° 5_XX'!$J$43)+\nCOUNTIFS('BD-SOC'!$V$15:$V$30000,'FORMATO N° 5_XX'!B50,'BD-SOC'!#REF!,'FORMATO N° 5_XX'!$J$43)+\nCOUNTIFS('BD-SOC'!$X$15:$X$30000,'FORMATO N° 5_XX'!B50,'BD-SOC'!#REF!,'FORMATO N° 5_XX'!$J$43)+\nCOUNTIFS('BD-SOC'!$Z$15:$Z$30000,'FORMATO N° 5_XX'!B50,'BD-SOC'!#REF!,'FORMATO N° 5_XX'!$J$43)+\nCOUNTIFS('BD-SOC'!$AB$15:$AB$30000,'FORMATO N° 5_XX'!B50,'BD-SOC'!#REF!,'FORMATO N° 5_XX'!$J$43)","v":{"$error":"#REF!"}},{"$f":"COUNTIFS('BD-SOC'!$P$15:$P$30000,'FORMATO N° 5_XX'!B50,'BD-SOC'!#REF!,'FORMATO N° 5_XX'!$K$43)+\nCOUNTIFS('BD-SOC'!$R$15:$R$30000,'FORMATO N° 5_XX'!B50,'BD-SOC'!#REF!,'FORMATO N° 5_XX'!$K$43)+\nCOUNTIFS('BD-SOC'!$T$15:$T$30000,'FORMATO N° 5_XX'!B50,'BD-SOC'!#REF!,'FORMATO N° 5_XX'!$K$43)+\nCOUNTIFS('BD-SOC'!$V$15:$V$30000,'FORMATO N° 5_XX'!B50,'BD-SOC'!#REF!,'FORMATO N° 5_XX'!$K$43)+\nCOUNTIFS('BD-SOC'!$X$15:$X$30000,'FORMATO N° 5_XX'!B50,'BD-SOC'!#REF!,'FORMATO N° 5_XX'!$K$43)+\nCOUNTIFS('BD-SOC'!$Z$15:$Z$30000,'FORMATO N° 5_XX'!B50,'BD-SOC'!#REF!,'FORMATO N° 5_XX'!$K$43)+\nCOUNTIFS('BD-SOC'!$AB$15:$AB$30000,'FORMATO N° 5_XX'!B50,'BD-SOC'!#REF!,'FORMATO N° 5_XX'!$K$43)","v":{"$error":"#REF!"}},{"$f":"COUNTIFS('BD-SOC'!$P$15:$P$30000,'FORMATO N° 5_XX'!B50,'BD-SOC'!#REF!,'FORMATO N° 5_XX'!$L$43)+\nCOUNTIFS('BD-SOC'!$R$15:$R$30000,'FORMATO N° 5_XX'!B50,'BD-SOC'!#REF!,'FORMATO N° 5_XX'!$L$43)+\nCOUNTIFS('BD-SOC'!$T$15:$T$30000,'FORMATO N° 5_XX'!B50,'BD-SOC'!#REF!,'FORMATO N° 5_XX'!$L$43)+\nCOUNTIFS('BD-SOC'!$V$15:$V$30000,'FORMATO N° 5_XX'!B50,'BD-SOC'!#REF!,'FORMATO N° 5_XX'!$L$43)+\nCOUNTIFS('BD-SOC'!$X$15:$X$30000,'FORMATO N° 5_XX'!B50,'BD-SOC'!#REF!,'FORMATO N° 5_XX'!$L$43)+\nCOUNTIFS('BD-SOC'!$Z$15:$Z$30000,'FORMATO N° 5_XX'!B50,'BD-SOC'!#REF!,'FORMATO N° 5_XX'!$L$43)+\nCOUNTIFS('BD-SOC'!$AB$15:$AB$30000,'FORMATO N° 5_XX'!B50,'BD-SOC'!#REF!,'FORMATO N° 5_XX'!$L$43)","v":{"$error":"#REF!"}},{"$f":"COUNTIFS('BD-SOC'!$P$15:$P$30000,'FORMATO N° 5_XX'!B50,'BD-SOC'!#REF!,'FORMATO N° 5_XX'!$M$44)+\nCOUNTIFS('BD-SOC'!$R$15:$R$30000,'FORMATO N° 5_XX'!B50,'BD-SOC'!#REF!,'FORMATO N° 5_XX'!$M$44)+\nCOUNTIFS('BD-SOC'!$T$15:$T$30000,'FORMATO N° 5_XX'!B50,'BD-SOC'!#REF!,'FORMATO N° 5_XX'!$M$44)+\nCOUNTIFS('BD-SOC'!$V$15:$V$30000,'FORMATO N° 5_XX'!B50,'BD-SOC'!#REF!,'FORMATO N° 5_XX'!$M$44)+\nCOUNTIFS('BD-SOC'!$X$15:$X$30000,'FORMATO N° 5_XX'!B50,'BD-SOC'!#REF!,'FORMATO N° 5_XX'!$M$44)+\nCOUNTIFS('BD-SOC'!$Z$15:$Z$30000,'FORMATO N° 5_XX'!B50,'BD-SOC'!#REF!,'FORMATO N° 5_XX'!$M$44)+\nCOUNTIFS('BD-SOC'!$AB$15:$AB$30000,'FORMATO N° 5_XX'!B50,'BD-SOC'!#REF!,'FORMATO N° 5_XX'!$M$44)","v":{"$error":"#REF!"}},{"$f":"COUNTIFS('BD-SOC'!$P$15:$P$30000,'FORMATO N° 5_XX'!B50,'BD-SOC'!#REF!,'FORMATO N° 5_XX'!$N$44)+\nCOUNTIFS('BD-SOC'!$R$15:$R$30000,'FORMATO N° 5_XX'!B50,'BD-SOC'!#REF!,'FORMATO N° 5_XX'!$N$44)+\nCOUNTIFS('BD-SOC'!$T$15:$T$30000,'FORMATO N° 5_XX'!B50,'BD-SOC'!#REF!,'FORMATO N° 5_XX'!$N$44)+\nCOUNTIFS('BD-SOC'!$V$15:$V$30000,'FORMATO N° 5_XX'!B50,'BD-SOC'!#REF!,'FORMATO N° 5_XX'!$N$44)+\nCOUNTIFS('BD-SOC'!$X$15:$X$30000,'FORMATO N° 5_XX'!B50,'BD-SOC'!#REF!,'FORMATO N° 5_XX'!$N$44)+\nCOUNTIFS('BD-SOC'!$Z$15:$Z$30000,'FORMATO N° 5_XX'!B50,'BD-SOC'!#REF!,'FORMATO N° 5_XX'!$N$44)+\nCOUNTIFS('BD-SOC'!$AB$15:$AB$30000,'FORMATO N° 5_XX'!B50,'BD-SOC'!#REF!,'FORMATO N° 5_XX'!$N$44)","v":{"$error":"#REF!"}},{"$f":"COUNTIFS('BD-SOC'!$P$15:$P$30000,'FORMATO N° 5_XX'!B50,'BD-SOC'!#REF!,'FORMATO N° 5_XX'!$O$44)+\nCOUNTIFS('BD-SOC'!$R$15:$R$30000,'FORMATO N° 5_XX'!B50,'BD-SOC'!#REF!,'FORMATO N° 5_XX'!$O$44)+\nCOUNTIFS('BD-SOC'!$T$15:$T$30000,'FORMATO N° 5_XX'!B50,'BD-SOC'!#REF!,'FORMATO N° 5_XX'!$O$44)+\nCOUNTIFS('BD-SOC'!$V$15:$V$30000,'FORMATO N° 5_XX'!B50,'BD-SOC'!#REF!,'FORMATO N° 5_XX'!$O$44)+\nCOUNTIFS('BD-SOC'!$X$15:$X$30000,'FORMATO N° 5_XX'!B50,'BD-SOC'!#REF!,'FORMATO N° 5_XX'!$O$44)+\nCOUNTIFS('BD-SOC'!$Z$15:$Z$30000,'FORMATO N° 5_XX'!B50,'BD-SOC'!#REF!,'FORMATO N° 5_XX'!$O$44)+\nCOUNTIFS('BD-SOC'!$AB$15:$AB$30000,'FORMATO N° 5_XX'!B50,'BD-SOC'!#REF!,'FORMATO N° 5_XX'!$O$44)","v":{"$error":"#REF!"}},{"$f":"COUNTIFS('BD-SOC'!$P$15:$P$30000,'FORMATO N° 5_XX'!B50,'BD-SOC'!#REF!,'FORMATO N° 5_XX'!$P$44)+\nCOUNTIFS('BD-SOC'!$R$15:$R$30000,'FORMATO N° 5_XX'!B50,'BD-SOC'!#REF!,'FORMATO N° 5_XX'!$P$44)+\nCOUNTIFS('BD-SOC'!$T$15:$T$30000,'FORMATO N° 5_XX'!B50,'BD-SOC'!#REF!,'FORMATO N° 5_XX'!$P$44)+\nCOUNTIFS('BD-SOC'!$V$15:$V$30000,'FORMATO N° 5_XX'!B50,'BD-SOC'!#REF!,'FORMATO N° 5_XX'!$P$44)+\nCOUNTIFS('BD-SOC'!$X$15:$X$30000,'FORMATO N° 5_XX'!B50,'BD-SOC'!#REF!,'FORMATO N° 5_XX'!$P$44)+\nCOUNTIFS('BD-SOC'!$Z$15:$Z$30000,'FORMATO N° 5_XX'!B50,'BD-SOC'!#REF!,'FORMATO N° 5_XX'!$P$44)+\nCOUNTIFS('BD-SOC'!$AB$15:$AB$30000,'FORMATO N° 5_XX'!B50,'BD-SOC'!#REF!,'FORMATO N° 5_XX'!$P$44)","v":{"$error":"#REF!"}},{"$f":"COUNTIFS('BD-SOC'!$P$15:$P$30000,'FORMATO N° 5_XX'!B50,'BD-SOC'!#REF!,'FORMATO N° 5_XX'!$Q$44)+\nCOUNTIFS('BD-SOC'!$R$15:$R$30000,'FORMATO N° 5_XX'!B50,'BD-SOC'!#REF!,'FORMATO N° 5_XX'!$Q$44)+\nCOUNTIFS('BD-SOC'!$T$15:$T$30000,'FORMATO N° 5_XX'!B50,'BD-SOC'!#REF!,'FORMATO N° 5_XX'!$Q$44)+\nCOUNTIFS('BD-SOC'!$V$15:$V$30000,'FORMATO N° 5_XX'!B50,'BD-SOC'!#REF!,'FORMATO N° 5_XX'!$Q$44)+\nCOUNTIFS('BD-SOC'!$X$15:$X$30000,'FORMATO N° 5_XX'!B50,'BD-SOC'!#REF!,'FORMATO N° 5_XX'!$Q$44)+\nCOUNTIFS('BD-SOC'!$Z$15:$Z$30000,'FORMATO N° 5_XX'!B50,'BD-SOC'!#REF!,'FORMATO N° 5_XX'!$Q$44)+\nCOUNTIFS('BD-SOC'!$AB$15:$AB$30000,'FORMATO N° 5_XX'!B50,'BD-SOC'!#REF!,'FORMATO N° 5_XX'!$Q$44)","v":{"$error":"#REF!"}},{"$f":"COUNTIFS('BD-SOC'!$P$15:$P$30000,'FORMATO N° 5_XX'!B50,'BD-SOC'!#REF!,'FORMATO N° 5_XX'!$R$44)+\nCOUNTIFS('BD-SOC'!$R$15:$R$30000,'FORMATO N° 5_XX'!B50,'BD-SOC'!#REF!,'FORMATO N° 5_XX'!$R$44)+\nCOUNTIFS('BD-SOC'!$T$15:$T$30000,'FORMATO N° 5_XX'!B50,'BD-SOC'!#REF!,'FORMATO N° 5_XX'!$R$44)+\nCOUNTIFS('BD-SOC'!$V$15:$V$30000,'FORMATO N° 5_XX'!B50,'BD-SOC'!#REF!,'FORMATO N° 5_XX'!$R$44)+\nCOUNTIFS('BD-SOC'!$X$15:$X$30000,'FORMATO N° 5_XX'!B50,'BD-SOC'!#REF!,'FORMATO N° 5_XX'!$R$44)+\nCOUNTIFS('BD-SOC'!$Z$15:$Z$30000,'FORMATO N° 5_XX'!B50,'BD-SOC'!#REF!,'FORMATO N° 5_XX'!$R$44)+\nCOUNTIFS('BD-SOC'!$AB$15:$AB$30000,'FORMATO N° 5_XX'!B50,'BD-SOC'!#REF!,'FORMATO N° 5_XX'!$R$44)","v":{"$error":"#REF!"}},{"$f":"COUNTIFS('BD-SOC'!$P$15:$P$30000,'FORMATO N° 5_XX'!B50,'BD-SOC'!#REF!,'FORMATO N° 5_XX'!$S$43)+\nCOUNTIFS('BD-SOC'!$R$15:$R$30000,'FORMATO N° 5_XX'!B50,'BD-SOC'!#REF!,'FORMATO N° 5_XX'!$S$43)+\nCOUNTIFS('BD-SOC'!$T$15:$T$30000,'FORMATO N° 5_XX'!B50,'BD-SOC'!#REF!,'FORMATO N° 5_XX'!$S$43)+\nCOUNTIFS('BD-SOC'!$V$15:$V$30000,'FORMATO N° 5_XX'!B50,'BD-SOC'!#REF!,'FORMATO N° 5_XX'!$S$43)+\nCOUNTIFS('BD-SOC'!$X$15:$X$30000,'FORMATO N° 5_XX'!B50,'BD-SOC'!#REF!,'FORMATO N° 5_XX'!$S$43)+\nCOUNTIFS('BD-SOC'!$Z$15:$Z$30000,'FORMATO N° 5_XX'!B50,'BD-SOC'!#REF!,'FORMATO N° 5_XX'!$S$43)+\nCOUNTIFS('BD-SOC'!$AB$15:$AB$30000,'FORMATO N° 5_XX'!B50,'BD-SOC'!#REF!,'FORMATO N° 5_XX'!$S$43)","v":{"$error":"#REF!"}},{"$f":"COUNTIFS('BD-SOC'!$P$15:$P$30000,'FORMATO N° 5_XX'!B50,'BD-SOC'!#REF!,'FORMATO N° 5_XX'!$T$43)+\nCOUNTIFS('BD-SOC'!$R$15:$R$30000,'FORMATO N° 5_XX'!B50,'BD-SOC'!#REF!,'FORMATO N° 5_XX'!$T$43)+\nCOUNTIFS('BD-SOC'!$T$15:$T$30000,'FORMATO N° 5_XX'!B50,'BD-SOC'!#REF!,'FORMATO N° 5_XX'!$T$43)+\nCOUNTIFS('BD-SOC'!$V$15:$V$30000,'FORMATO N° 5_XX'!B50,'BD-SOC'!#REF!,'FORMATO N° 5_XX'!$T$43)+\nCOUNTIFS('BD-SOC'!$X$15:$X$30000,'FORMATO N° 5_XX'!B50,'BD-SOC'!#REF!,'FORMATO N° 5_XX'!$T$43)+\nCOUNTIFS('BD-SOC'!$Z$15:$Z$30000,'FORMATO N° 5_XX'!B50,'BD-SOC'!#REF!,'FORMATO N° 5_XX'!$T$43)+\nCOUNTIFS('BD-SOC'!$AB$15:$AB$30000,'FORMATO N° 5_XX'!B50,'BD-SOC'!#REF!,'FORMATO N° 5_XX'!$T$43)","v":{"$error":"#REF!"}},0,{"$f":"COUNTIFS('BD-SOC'!$P$15:$P$30000,'FORMATO N° 5_XX'!B50,'BD-SOC'!$I$15:$I$30000,'FORMATO N° 5_XX'!$V$43)+\nCOUNTIFS('BD-SOC'!$R$15:$R$30000,'FORMATO N° 5_XX'!B50,'BD-SOC'!$I$15:$I$30000,'FORMATO N° 5_XX'!$V$43)+\nCOUNTIFS('BD-SOC'!$T$15:$T$30000,'FORMATO N° 5_XX'!B50,'BD-SOC'!$I$15:$I$30000,'FORMATO N° 5_XX'!$V$43)+\nCOUNTIFS('BD-SOC'!$V$15:$V$30000,'FORMATO N° 5_XX'!B50,'BD-SOC'!$I$15:$I$30000,'FORMATO N° 5_XX'!$V$43)+\nCOUNTIFS('BD-SOC'!$X$15:$X$30000,'FORMATO N° 5_XX'!B50,'BD-SOC'!$I$15:$I$30000,'FORMATO N° 5_XX'!$V$43)+\nCOUNTIFS('BD-SOC'!$Z$15:$Z$30000,'FORMATO N° 5_XX'!B50,'BD-SOC'!$I$15:$I$30000,'FORMATO N° 5_XX'!$V$43)+\nCOUNTIFS('BD-SOC'!$AB$15:$AB$30000,'FORMATO N° 5_XX'!B50,'BD-SOC'!$I$15:$I$30000,'FORMATO N° 5_XX'!$V$43)","v":0},{"$f":"COUNTIFS('BD-SOC'!$P$15:$P$30000,'FORMATO N° 5_XX'!B50,'BD-SOC'!$I$15:$I$30000,'FORMATO N° 5_XX'!$W$43)+\nCOUNTIFS('BD-SOC'!$R$15:$R$30000,'FORMATO N° 5_XX'!B50,'BD-SOC'!$I$15:$I$30000,'FORMATO N° 5_XX'!$W$43)+\nCOUNTIFS('BD-SOC'!$T$15:$T$30000,'FORMATO N° 5_XX'!B50,'BD-SOC'!$I$15:$I$30000,'FORMATO N° 5_XX'!$W$43)+\nCOUNTIFS('BD-SOC'!$V$15:$V$30000,'FORMATO N° 5_XX'!B50,'BD-SOC'!$I$15:$I$30000,'FORMATO N° 5_XX'!$W$43)+\nCOUNTIFS('BD-SOC'!$X$15:$X$30000,'FORMATO N° 5_XX'!B50,'BD-SOC'!$I$15:$I$30000,'FORMATO N° 5_XX'!$W$43)+\nCOUNTIFS('BD-SOC'!$Z$15:$Z$30000,'FORMATO N° 5_XX'!B50,'BD-SOC'!$I$15:$I$30000,'FORMATO N° 5_XX'!$W$43)+\nCOUNTIFS('BD-SOC'!$AB$15:$AB$30000,'FORMATO N° 5_XX'!B50,'BD-SOC'!$I$15:$I$30000,'FORMATO N° 5_XX'!$W$43)","v":0},{"$f":"COUNTIFS('BD-SOC'!$P$15:$P$30000,'FORMATO N° 5_XX'!B50,'BD-SOC'!$I$15:$I$30000,'FORMATO N° 5_XX'!$X$43)+\nCOUNTIFS('BD-SOC'!$R$15:$R$30000,'FORMATO N° 5_XX'!B50,'BD-SOC'!$I$15:$I$30000,'FORMATO N° 5_XX'!$X$43)+\nCOUNTIFS('BD-SOC'!$T$15:$T$30000,'FORMATO N° 5_XX'!B50,'BD-SOC'!$I$15:$I$30000,'FORMATO N° 5_XX'!$X$43)+\nCOUNTIFS('BD-SOC'!$V$15:$V$30000,'FORMATO N° 5_XX'!B50,'BD-SOC'!$I$15:$I$30000,'FORMATO N° 5_XX'!$X$43)+\nCOUNTIFS('BD-SOC'!$X$15:$X$30000,'FORMATO N° 5_XX'!B50,'BD-SOC'!$I$15:$I$30000,'FORMATO N° 5_XX'!$X$43)+\nCOUNTIFS('BD-SOC'!$Z$15:$Z$30000,'FORMATO N° 5_XX'!B50,'BD-SOC'!$I$15:$I$30000,'FORMATO N° 5_XX'!$X$43)+\nCOUNTIFS('BD-SOC'!$AB$15:$AB$30000,'FORMATO N° 5_XX'!B50,'BD-SOC'!$I$15:$I$30000,'FORMATO N° 5_XX'!$X$43)","v":0},{"$f":"COUNTIFS('BD-SOC'!$P$15:$P$30000,'FORMATO N° 5_XX'!B50,'BD-SOC'!$I$15:$I$30000,'FORMATO N° 5_XX'!$Y$43)+\nCOUNTIFS('BD-SOC'!$R$15:$R$30000,'FORMATO N° 5_XX'!B50,'BD-SOC'!$I$15:$I$30000,'FORMATO N° 5_XX'!$Y$43)+\nCOUNTIFS('BD-SOC'!$T$15:$T$30000,'FORMATO N° 5_XX'!B50,'BD-SOC'!$I$15:$I$30000,'FORMATO N° 5_XX'!$Y$43)+\nCOUNTIFS('BD-SOC'!$V$15:$V$30000,'FORMATO N° 5_XX'!B50,'BD-SOC'!$I$15:$I$30000,'FORMATO N° 5_XX'!$Y$43)+\nCOUNTIFS('BD-SOC'!$X$15:$X$30000,'FORMATO N° 5_XX'!B50,'BD-SOC'!$I$15:$I$30000,'FORMATO N° 5_XX'!$Y$43)+\nCOUNTIFS('BD-SOC'!$Z$15:$Z$30000,'FORMATO N° 5_XX'!B50,'BD-SOC'!$I$15:$I$30000,'FORMATO N° 5_XX'!$Y$43)+\nCOUNTIFS('BD-SOC'!$AB$15:$AB$30000,'FORMATO N° 5_XX'!B50,'BD-SOC'!$I$15:$I$30000,'FORMATO N° 5_XX'!$Y$43)","v":0},{"$f":"COUNTIFS('BD-SOC'!$P$15:$P$30000,'FORMATO N° 5_XX'!B50,'BD-SOC'!$I$15:$I$30000,'FORMATO N° 5_XX'!$Z$43)+\nCOUNTIFS('BD-SOC'!$R$15:$R$30000,'FORMATO N° 5_XX'!B50,'BD-SOC'!$I$15:$I$30000,'FORMATO N° 5_XX'!$Z$43)+\nCOUNTIFS('BD-SOC'!$T$15:$T$30000,'FORMATO N° 5_XX'!B50,'BD-SOC'!$I$15:$I$30000,'FORMATO N° 5_XX'!$Z$43)+\nCOUNTIFS('BD-SOC'!$V$15:$V$30000,'FORMATO N° 5_XX'!B50,'BD-SOC'!$I$15:$I$30000,'FORMATO N° 5_XX'!$Z$43)+\nCOUNTIFS('BD-SOC'!$X$15:$X$30000,'FORMATO N° 5_XX'!B50,'BD-SOC'!$I$15:$I$30000,'FORMATO N° 5_XX'!$Z$43)+\nCOUNTIFS('BD-SOC'!$Z$15:$Z$30000,'FORMATO N° 5_XX'!B50,'BD-SOC'!$I$15:$I$30000,'FORMATO N° 5_XX'!$Z$43)+\nCOUNTIFS('BD-SOC'!$AB$15:$AB$30000,'FORMATO N° 5_XX'!B50,'BD-SOC'!$I$15:$I$30000,'FORMATO N° 5_XX'!$Z$43)","v":0},{"$f":"COUNTIFS('BD-SOC'!$P$15:$P$30000,'FORMATO N° 5_XX'!B50,'BD-SOC'!$I$15:$I$30000,'FORMATO N° 5_XX'!$AA$43)+\nCOUNTIFS('BD-SOC'!$R$15:$R$30000,'FORMATO N° 5_XX'!B50,'BD-SOC'!$I$15:$I$30000,'FORMATO N° 5_XX'!$AA$43)+\nCOUNTIFS('BD-SOC'!$T$15:$T$30000,'FORMATO N° 5_XX'!B50,'BD-SOC'!$I$15:$I$30000,'FORMATO N° 5_XX'!$AA$43)+\nCOUNTIFS('BD-SOC'!$V$15:$V$30000,'FORMATO N° 5_XX'!B50,'BD-SOC'!$I$15:$I$30000,'FORMATO N° 5_XX'!$AA$43)+\nCOUNTIFS('BD-SOC'!$X$15:$X$30000,'FORMATO N° 5_XX'!B50,'BD-SOC'!$I$15:$I$30000,'FORMATO N° 5_XX'!$AA$43)+\nCOUNTIFS('BD-SOC'!$Z$15:$Z$30000,'FORMATO N° 5_XX'!B50,'BD-SOC'!$I$15:$I$30000,'FORMATO N° 5_XX'!$AA$43)+\nCOUNTIFS('BD-SOC'!$AB$15:$AB$30000,'FORMATO N° 5_XX'!B50,'BD-SOC'!$I$15:$I$30000,'FORMATO N° 5_XX'!$AA$43)","v":0},{"$f":"COUNTIFS('BD-SOC'!$P$15:$P$30000,'FORMATO N° 5_XX'!B50,'BD-SOC'!$I$15:$I$30000,'FORMATO N° 5_XX'!$AB$43)+\nCOUNTIFS('BD-SOC'!$R$15:$R$30000,'FORMATO N° 5_XX'!B50,'BD-SOC'!$I$15:$I$30000,'FORMATO N° 5_XX'!$AB$43)+\nCOUNTIFS('BD-SOC'!$T$15:$T$30000,'FORMATO N° 5_XX'!B50,'BD-SOC'!$I$15:$I$30000,'FORMATO N° 5_XX'!$AB$43)+\nCOUNTIFS('BD-SOC'!$V$15:$V$30000,'FORMATO N° 5_XX'!B50,'BD-SOC'!$I$15:$I$30000,'FORMATO N° 5_XX'!$AB$43)+\nCOUNTIFS('BD-SOC'!$X$15:$X$30000,'FORMATO N° 5_XX'!B50,'BD-SOC'!$I$15:$I$30000,'FORMATO N° 5_XX'!$AB$43)+\nCOUNTIFS('BD-SOC'!$Z$15:$Z$30000,'FORMATO N° 5_XX'!B50,'BD-SOC'!$I$15:$I$30000,'FORMATO N° 5_XX'!$AB$43)+\nCOUNTIFS('BD-SOC'!$AB$15:$AB$30000,'FORMATO N° 5_XX'!B50,'BD-SOC'!$I$15:$I$30000,'FORMATO N° 5_XX'!$AB$43)","v":0},{"$f":"COUNTIFS('BD-SOC'!$P$15:$P$30000,'FORMATO N° 5_XX'!B50,'BD-SOC'!$I$15:$I$30000,'FORMATO N° 5_XX'!$AC$43)+\nCOUNTIFS('BD-SOC'!$R$15:$R$30000,'FORMATO N° 5_XX'!B50,'BD-SOC'!$I$15:$I$30000,'FORMATO N° 5_XX'!$AC$43)+\nCOUNTIFS('BD-SOC'!$T$15:$T$30000,'FORMATO N° 5_XX'!B50,'BD-SOC'!$I$15:$I$30000,'FORMATO N° 5_XX'!$AC$43)+\nCOUNTIFS('BD-SOC'!$V$15:$V$30000,'FORMATO N° 5_XX'!B50,'BD-SOC'!$I$15:$I$30000,'FORMATO N° 5_XX'!$AC$43)+\nCOUNTIFS('BD-SOC'!$X$15:$X$30000,'FORMATO N° 5_XX'!B50,'BD-SOC'!$I$15:$I$30000,'FORMATO N° 5_XX'!$AC$43)+\nCOUNTIFS('BD-SOC'!$Z$15:$Z$30000,'FORMATO N° 5_XX'!B50,'BD-SOC'!$I$15:$I$30000,'FORMATO N° 5_XX'!$AC$43)+\nCOUNTIFS('BD-SOC'!$AB$15:$AB$30000,'FORMATO N° 5_XX'!B50,'BD-SOC'!$I$15:$I$30000,'FORMATO N° 5_XX'!$AC$43)","v":0},{"$f":"COUNTIFS('BD-SOC'!$P$15:$P$30000,'FORMATO N° 5_XX'!B50,'BD-SOC'!$I$15:$I$30000,'FORMATO N° 5_XX'!$AD$43)+\nCOUNTIFS('BD-SOC'!$R$15:$R$30000,'FORMATO N° 5_XX'!B50,'BD-SOC'!$I$15:$I$30000,'FORMATO N° 5_XX'!$AD$43)+\nCOUNTIFS('BD-SOC'!$T$15:$T$30000,'FORMATO N° 5_XX'!B50,'BD-SOC'!$I$15:$I$30000,'FORMATO N° 5_XX'!$AD$43)+\nCOUNTIFS('BD-SOC'!$V$15:$V$30000,'FORMATO N° 5_XX'!B50,'BD-SOC'!$I$15:$I$30000,'FORMATO N° 5_XX'!$AD$43)+\nCOUNTIFS('BD-SOC'!$X$15:$X$30000,'FORMATO N° 5_XX'!B50,'BD-SOC'!$I$15:$I$30000,'FORMATO N° 5_XX'!$AD$43)+\nCOUNTIFS('BD-SOC'!$Z$15:$Z$30000,'FORMATO N° 5_XX'!B50,'BD-SOC'!$I$15:$I$30000,'FORMATO N° 5_XX'!$AD$43)+\nCOUNTIFS('BD-SOC'!$AB$15:$AB$30000,'FORMATO N° 5_XX'!B50,'BD-SOC'!$I$15:$I$30000,'FORMATO N° 5_XX'!$AD$43)","v":0},{"$f":"COUNTIFS('BD-SOC'!$P$15:$P$30000,'FORMATO N° 5_XX'!B50,'BD-SOC'!$I$15:$I$30000,'FORMATO N° 5_XX'!$AE$43)+\nCOUNTIFS('BD-SOC'!$R$15:$R$30000,'FORMATO N° 5_XX'!B50,'BD-SOC'!$I$15:$I$30000,'FORMATO N° 5_XX'!$AE$43)+\nCOUNTIFS('BD-SOC'!$T$15:$T$30000,'FORMATO N° 5_XX'!B50,'BD-SOC'!$I$15:$I$30000,'FORMATO N° 5_XX'!$AE$43)+\nCOUNTIFS('BD-SOC'!$V$15:$V$30000,'FORMATO N° 5_XX'!B50,'BD-SOC'!$I$15:$I$30000,'FORMATO N° 5_XX'!$AE$43)+\nCOUNTIFS('BD-SOC'!$X$15:$X$30000,'FORMATO N° 5_XX'!B50,'BD-SOC'!$I$15:$I$30000,'FORMATO N° 5_XX'!$AE$43)+\nCOUNTIFS('BD-SOC'!$Z$15:$Z$30000,'FORMATO N° 5_XX'!B50,'BD-SOC'!$I$15:$I$30000,'FORMATO N° 5_XX'!$AE$43)+\nCOUNTIFS('BD-SOC'!$AB$15:$AB$30000,'FORMATO N° 5_XX'!B50,'BD-SOC'!$I$15:$I$30000,'FORMATO N° 5_XX'!$AE$43)","v":0}]
[null,105,"EVALUACIÓN ANUAL DEL PTI",null,null,null,null,null,{"$error":"#REF!"},{"$f":"COUNTIFS('BD-SOC'!$P$15:$P$30000,'FORMATO N° 5_XX'!B51,'BD-SOC'!#REF!,'FORMATO N° 5_XX'!$J$43)+\nCOUNTIFS('BD-SOC'!$R$15:$R$30000,'FORMATO N° 5_XX'!B51,'BD-SOC'!#REF!,'FORMATO N° 5_XX'!$J$43)+\nCOUNTIFS('BD-SOC'!$T$15:$T$30000,'FORMATO N° 5_XX'!B51,'BD-SOC'!#REF!,'FORMATO N° 5_XX'!$J$43)+\nCOUNTIFS('BD-SOC'!$V$15:$V$30000,'FORMATO N° 5_XX'!B51,'BD-SOC'!#REF!,'FORMATO N° 5_XX'!$J$43)+\nCOUNTIFS('BD-SOC'!$X$15:$X$30000,'FORMATO N° 5_XX'!B51,'BD-SOC'!#REF!,'FORMATO N° 5_XX'!$J$43)+\nCOUNTIFS('BD-SOC'!$Z$15:$Z$30000,'FORMATO N° 5_XX'!B51,'BD-SOC'!#REF!,'FORMATO N° 5_XX'!$J$43)+\nCOUNTIFS('BD-SOC'!$AB$15:$AB$30000,'FORMATO N° 5_XX'!B51,'BD-SOC'!#REF!,'FORMATO N° 5_XX'!$J$43)","v":{"$error":"#REF!"}},{"$f":"COUNTIFS('BD-SOC'!$P$15:$P$30000,'FORMATO N° 5_XX'!B51,'BD-SOC'!#REF!,'FORMATO N° 5_XX'!$K$43)+\nCOUNTIFS('BD-SOC'!$R$15:$R$30000,'FORMATO N° 5_XX'!B51,'BD-SOC'!#REF!,'FORMATO N° 5_XX'!$K$43)+\nCOUNTIFS('BD-SOC'!$T$15:$T$30000,'FORMATO N° 5_XX'!B51,'BD-SOC'!#REF!,'FORMATO N° 5_XX'!$K$43)+\nCOUNTIFS('BD-SOC'!$V$15:$V$30000,'FORMATO N° 5_XX'!B51,'BD-SOC'!#REF!,'FORMATO N° 5_XX'!$K$43)+\nCOUNTIFS('BD-SOC'!$X$15:$X$30000,'FORMATO N° 5_XX'!B51,'BD-SOC'!#REF!,'FORMATO N° 5_XX'!$K$43)+\nCOUNTIFS('BD-SOC'!$Z$15:$Z$30000,'FORMATO N° 5_XX'!B51,'BD-SOC'!#REF!,'FORMATO N° 5_XX'!$K$43)+\nCOUNTIFS('BD-SOC'!$AB$15:$AB$30000,'FORMATO N° 5_XX'!B51,'BD-SOC'!#REF!,'FORMATO N° 5_XX'!$K$43)","v":{"$error":"#REF!"}},{"$f":"COUNTIFS('BD-SOC'!$P$15:$P$30000,'FORMATO N° 5_XX'!B51,'BD-SOC'!#REF!,'FORMATO N° 5_XX'!$L$43)+\nCOUNTIFS('BD-SOC'!$R$15:$R$30000,'FORMATO N° 5_XX'!B51,'BD-SOC'!#REF!,'FORMATO N° 5_XX'!$L$43)+\nCOUNTIFS('BD-SOC'!$T$15:$T$30000,'FORMATO N° 5_XX'!B51,'BD-SOC'!#REF!,'FORMATO N° 5_XX'!$L$43)+\nCOUNTIFS('BD-SOC'!$V$15:$V$30000,'FORMATO N° 5_XX'!B51,'BD-SOC'!#REF!,'FORMATO N° 5_XX'!$L$43)+\nCOUNTIFS('BD-SOC'!$X$15:$X$30000,'FORMATO N° 5_XX'!B51,'BD-SOC'!#REF!,'FORMATO N° 5_XX'!$L$43)+\nCOUNTIFS('BD-SOC'!$Z$15:$Z$30000,'FORMATO N° 5_XX'!B51,'BD-SOC'!#REF!,'FORMATO N° 5_XX'!$L$43)+\nCOUNTIFS('BD-SOC'!$AB$15:$AB$30000,'FORMATO N° 5_XX'!B51,'BD-SOC'!#REF!,'FORMATO N° 5_XX'!$L$43)","v":{"$error":"#REF!"}},{"$f":"COUNTIFS('BD-SOC'!$P$15:$P$30000,'FORMATO N° 5_XX'!B51,'BD-SOC'!#REF!,'FORMATO N° 5_XX'!$M$44)+\nCOUNTIFS('BD-SOC'!$R$15:$R$30000,'FORMATO N° 5_XX'!B51,'BD-SOC'!#REF!,'FORMATO N° 5_XX'!$M$44)+\nCOUNTIFS('BD-SOC'!$T$15:$T$30000,'FORMATO N° 5_XX'!B51,'BD-SOC'!#REF!,'FORMATO N° 5_XX'!$M$44)+\nCOUNTIFS('BD-SOC'!$V$15:$V$30000,'FORMATO N° 5_XX'!B51,'BD-SOC'!#REF!,'FORMATO N° 5_XX'!$M$44)+\nCOUNTIFS('BD-SOC'!$X$15:$X$30000,'FORMATO N° 5_XX'!B51,'BD-SOC'!#REF!,'FORMATO N° 5_XX'!$M$44)+\nCOUNTIFS('BD-SOC'!$Z$15:$Z$30000,'FORMATO N° 5_XX'!B51,'BD-SOC'!#REF!,'FORMATO N° 5_XX'!$M$44)+\nCOUNTIFS('BD-SOC'!$AB$15:$AB$30000,'FORMATO N° 5_XX'!B51,'BD-SOC'!#REF!,'FORMATO N° 5_XX'!$M$44)","v":{"$error":"#REF!"}},{"$f":"COUNTIFS('BD-SOC'!$P$15:$P$30000,'FORMATO N° 5_XX'!B51,'BD-SOC'!#REF!,'FORMATO N° 5_XX'!$N$44)+\nCOUNTIFS('BD-SOC'!$R$15:$R$30000,'FORMATO N° 5_XX'!B51,'BD-SOC'!#REF!,'FORMATO N° 5_XX'!$N$44)+\nCOUNTIFS('BD-SOC'!$T$15:$T$30000,'FORMATO N° 5_XX'!B51,'BD-SOC'!#REF!,'FORMATO N° 5_XX'!$N$44)+\nCOUNTIFS('BD-SOC'!$V$15:$V$30000,'FORMATO N° 5_XX'!B51,'BD-SOC'!#REF!,'FORMATO N° 5_XX'!$N$44)+\nCOUNTIFS('BD-SOC'!$X$15:$X$30000,'FORMATO N° 5_XX'!B51,'BD-SOC'!#REF!,'FORMATO N° 5_XX'!$N$44)+\nCOUNTIFS('BD-SOC'!$Z$15:$Z$30000,'FORMATO N° 5_XX'!B51,'BD-SOC'!#REF!,'FORMATO N° 5_XX'!$N$44)+\nCOUNTIFS('BD-SOC'!$AB$15:$AB$30000,'FORMATO N° 5_XX'!B51,'BD-SOC'!#REF!,'FORMATO N° 5_XX'!$N$44)","v":{"$error":"#REF!"}},{"$f":"COUNTIFS('BD-SOC'!$P$15:$P$30000,'FORMATO N° 5_XX'!B51,'BD-SOC'!#REF!,'FORMATO N° 5_XX'!$O$44)+\nCOUNTIFS('BD-SOC'!$R$15:$R$30000,'FORMATO N° 5_XX'!B51,'BD-SOC'!#REF!,'FORMATO N° 5_XX'!$O$44)+\nCOUNTIFS('BD-SOC'!$T$15:$T$30000,'FORMATO N° 5_XX'!B51,'BD-SOC'!#REF!,'FORMATO N° 5_XX'!$O$44)+\nCOUNTIFS('BD-SOC'!$V$15:$V$30000,'FORMATO N° 5_XX'!B51,'BD-SOC'!#REF!,'FORMATO N° 5_XX'!$O$44)+\nCOUNTIFS('BD-SOC'!$X$15:$X$30000,'FORMATO N° 5_XX'!B51,'BD-SOC'!#REF!,'FORMATO N° 5_XX'!$O$44)+\nCOUNTIFS('BD-SOC'!$Z$15:$Z$30000,'FORMATO N° 5_XX'!B51,'BD-SOC'!#REF!,'FORMATO N° 5_XX'!$O$44)+\nCOUNTIFS('BD-SOC'!$AB$15:$AB$30000,'FORMATO N° 5_XX'!B51,'BD-SOC'!#REF!,'FORMATO N° 5_XX'!$O$44)","v":{"$error":"#REF!"}},{"$f":"COUNTIFS('BD-SOC'!$P$15:$P$30000,'FORMATO N° 5_XX'!B51,'BD-SOC'!#REF!,'FORMATO N° 5_XX'!$P$44)+\nCOUNTIFS('BD-SOC'!$R$15:$R$30000,'FORMATO N° 5_XX'!B51,'BD-SOC'!#REF!,'FORMATO N° 5_XX'!$P$44)+\nCOUNTIFS('BD-SOC'!$T$15:$T$30000,'FORMATO N° 5_XX'!B51,'BD-SOC'!#REF!,'FORMATO N° 5_XX'!$P$44)+\nCOUNTIFS('BD-SOC'!$V$15:$V$30000,'FORMATO N° 5_XX'!B51,'BD-SOC'!#REF!,'FORMATO N° 5_XX'!$P$44)+\nCOUNTIFS('BD-SOC'!$X$15:$X$30000,'FORMATO N° 5_XX'!B51,'BD-SOC'!#REF!,'FORMATO N° 5_XX'!$P$44)+\nCOUNTIFS('BD-SOC'!$Z$15:$Z$30000,'FORMATO N° 5_XX'!B51,'BD-SOC'!#REF!,'FORMATO N° 5_XX'!$P$44)+\nCOUNTIFS('BD-SOC'!$AB$15:$AB$30000,'FORMATO N° 5_XX'!B51,'BD-SOC'!#REF!,'FORMATO N° 5_XX'!$P$44)","v":{"$error":"#REF!"}},{"$f":"COUNTIFS('BD-SOC'!$P$15:$P$30000,'FORMATO N° 5_XX'!B51,'BD-SOC'!#REF!,'FORMATO N° 5_XX'!$Q$44)+\nCOUNTIFS('BD-SOC'!$R$15:$R$30000,'FORMATO N° 5_XX'!B51,'BD-SOC'!#REF!,'FORMATO N° 5_XX'!$Q$44)+\nCOUNTIFS('BD-SOC'!$T$15:$T$30000,'FORMATO N° 5_XX'!B51,'BD-SOC'!#REF!,'FORMATO N° 5_XX'!$Q$44)+\nCOUNTIFS('BD-SOC'!$V$15:$V$30000,'FORMATO N° 5_XX'!B51,'BD-SOC'!#REF!,'FORMATO N° 5_XX'!$Q$44)+\nCOUNTIFS('BD-SOC'!$X$15:$X$30000,'FORMATO N° 5_XX'!B51,'BD-SOC'!#REF!,'FORMATO N° 5_XX'!$Q$44)+\nCOUNTIFS('BD-SOC'!$Z$15:$Z$30000,'FORMATO N° 5_XX'!B51,'BD-SOC'!#REF!,'FORMATO N° 5_XX'!$Q$44)+\nCOUNTIFS('BD-SOC'!$AB$15:$AB$30000,'FORMATO N° 5_XX'!B51,'BD-SOC'!#REF!,'FORMATO N° 5_XX'!$Q$44)","v":{"$error":"#REF!"}},{"$f":"COUNTIFS('BD-SOC'!$P$15:$P$30000,'FORMATO N° 5_XX'!B51,'BD-SOC'!#REF!,'FORMATO N° 5_XX'!$R$44)+\nCOUNTIFS('BD-SOC'!$R$15:$R$30000,'FORMATO N° 5_XX'!B51,'BD-SOC'!#REF!,'FORMATO N° 5_XX'!$R$44)+\nCOUNTIFS('BD-SOC'!$T$15:$T$30000,'FORMATO N° 5_XX'!B51,'BD-SOC'!#REF!,'FORMATO N° 5_XX'!$R$44)+\nCOUNTIFS('BD-SOC'!$V$15:$V$30000,'FORMATO N° 5_XX'!B51,'BD-SOC'!#REF!,'FORMATO N° 5_XX'!$R$44)+\nCOUNTIFS('BD-SOC'!$X$15:$X$30000,'FORMATO N° 5_XX'!B51,'BD-SOC'!#REF!,'FORMATO N° 5_XX'!$R$44)+\nCOUNTIFS('BD-SOC'!$Z$15:$Z$30000,'FORMATO N° 5_XX'!B51,'BD-SOC'!#REF!,'FORMATO N° 5_XX'!$R$44)+\nCOUNTIFS('BD-SOC'!$AB$15:$AB$30000,'FORMATO N° 5_XX'!B51,'BD-SOC'!#REF!,'FORMATO N° 5_XX'!$R$44)","v":{"$error":"#REF!"}},{"$f":"COUNTIFS('BD-SOC'!$P$15:$P$30000,'FORMATO N° 5_XX'!B51,'BD-SOC'!#REF!,'FORMATO N° 5_XX'!$S$43)+\nCOUNTIFS('BD-SOC'!$R$15:$R$30000,'FORMATO N° 5_XX'!B51,'BD-SOC'!#REF!,'FORMATO N° 5_XX'!$S$43)+\nCOUNTIFS('BD-SOC'!$T$15:$T$30000,'FORMATO N° 5_XX'!B51,'BD-SOC'!#REF!,'FORMATO N° 5_XX'!$S$43)+\nCOUNTIFS('BD-SOC'!$V$15:$V$30000,'FORMATO N° 5_XX'!B51,'BD-SOC'!#REF!,'FORMATO N° 5_XX'!$S$43)+\nCOUNTIFS('BD-SOC'!$X$15:$X$30000,'FORMATO N° 5_XX'!B51,'BD-SOC'!#REF!,'FORMATO N° 5_XX'!$S$43)+\nCOUNTIFS('BD-SOC'!$Z$15:$Z$30000,'FORMATO N° 5_XX'!B51,'BD-SOC'!#REF!,'FORMATO N° 5_XX'!$S$43)+\nCOUNTIFS('BD-SOC'!$AB$15:$AB$30000,'FORMATO N° 5_XX'!B51,'BD-SOC'!#REF!,'FORMATO N° 5_XX'!$S$43)","v":{"$error":"#REF!"}},{"$f":"COUNTIFS('BD-SOC'!$P$15:$P$30000,'FORMATO N° 5_XX'!B51,'BD-SOC'!#REF!,'FORMATO N° 5_XX'!$T$43)+\nCOUNTIFS('BD-SOC'!$R$15:$R$30000,'FORMATO N° 5_XX'!B51,'BD-SOC'!#REF!,'FORMATO N° 5_XX'!$T$43)+\nCOUNTIFS('BD-SOC'!$T$15:$T$30000,'FORMATO N° 5_XX'!B51,'BD-SOC'!#REF!,'FORMATO N° 5_XX'!$T$43)+\nCOUNTIFS('BD-SOC'!$V$15:$V$30000,'FORMATO N° 5_XX'!B51,'BD-SOC'!#REF!,'FORMATO N° 5_XX'!$T$43)+\nCOUNTIFS('BD-SOC'!$X$15:$X$30000,'FORMATO N° 5_XX'!B51,'BD-SOC'!#REF!,'FORMATO N° 5_XX'!$T$43)+\nCOUNTIFS('BD-SOC'!$Z$15:$Z$30000,'FORMATO N° 5_XX'!B51,'BD-SOC'!#REF!,'FORMATO N° 5_XX'!$T$43)+\nCOUNTIFS('BD-SOC'!$AB$15:$AB$30000,'FORMATO N° 5_XX'!B51,'BD-SOC'!#REF!,'FORMATO N° 5_XX'!$T$43)","v":{"$error":"#REF!"}},0,{"$f":"COUNTIFS('BD-SOC'!$P$15:$P$30000,'FORMATO N° 5_XX'!B51,'BD-SOC'!$I$15:$I$30000,'FORMATO N° 5_XX'!$V$43)+\nCOUNTIFS('BD-SOC'!$R$15:$R$30000,'FORMATO N° 5_XX'!B51,'BD-SOC'!$I$15:$I$30000,'FORMATO N° 5_XX'!$V$43)+\nCOUNTIFS('BD-SOC'!$T$15:$T$30000,'FORMATO N° 5_XX'!B51,'BD-SOC'!$I$15:$I$30000,'FORMATO N° 5_XX'!$V$43)+\nCOUNTIFS('BD-SOC'!$V$15:$V$30000,'FORMATO N° 5_XX'!B51,'BD-SOC'!$I$15:$I$30000,'FORMATO N° 5_XX'!$V$43)+\nCOUNTIFS('BD-SOC'!$X$15:$X$30000,'FORMATO N° 5_XX'!B51,'BD-SOC'!$I$15:$I$30000,'FORMATO N° 5_XX'!$V$43)+\nCOUNTIFS('BD-SOC'!$Z$15:$Z$30000,'FORMATO N° 5_XX'!B51,'BD-SOC'!$I$15:$I$30000,'FORMATO N° 5_XX'!$V$43)+\nCOUNTIFS('BD-SOC'!$AB$15:$AB$30000,'FORMATO N° 5_XX'!B51,'BD-SOC'!$I$15:$I$30000,'FORMATO N° 5_XX'!$V$43)","v":0},{"$f":"COUNTIFS('BD-SOC'!$P$15:$P$30000,'FORMATO N° 5_XX'!B51,'BD-SOC'!$I$15:$I$30000,'FORMATO N° 5_XX'!$W$43)+\nCOUNTIFS('BD-SOC'!$R$15:$R$30000,'FORMATO N° 5_XX'!B51,'BD-SOC'!$I$15:$I$30000,'FORMATO N° 5_XX'!$W$43)+\nCOUNTIFS('BD-SOC'!$T$15:$T$30000,'FORMATO N° 5_XX'!B51,'BD-SOC'!$I$15:$I$30000,'FORMATO N° 5_XX'!$W$43)+\nCOUNTIFS('BD-SOC'!$V$15:$V$30000,'FORMATO N° 5_XX'!B51,'BD-SOC'!$I$15:$I$30000,'FORMATO N° 5_XX'!$W$43)+\nCOUNTIFS('BD-SOC'!$X$15:$X$30000,'FORMATO N° 5_XX'!B51,'BD-SOC'!$I$15:$I$30000,'FORMATO N° 5_XX'!$W$43)+\nCOUNTIFS('BD-SOC'!$Z$15:$Z$30000,'FORMATO N° 5_XX'!B51,'BD-SOC'!$I$15:$I$30000,'FORMATO N° 5_XX'!$W$43)+\nCOUNTIFS('BD-SOC'!$AB$15:$AB$30000,'FORMATO N° 5_XX'!B51,'BD-SOC'!$I$15:$I$30000,'FORMATO N° 5_XX'!$W$43)","v":0},{"$f":"COUNTIFS('BD-SOC'!$P$15:$P$30000,'FORMATO N° 5_XX'!B51,'BD-SOC'!$I$15:$I$30000,'FORMATO N° 5_XX'!$X$43)+\nCOUNTIFS('BD-SOC'!$R$15:$R$30000,'FORMATO N° 5_XX'!B51,'BD-SOC'!$I$15:$I$30000,'FORMATO N° 5_XX'!$X$43)+\nCOUNTIFS('BD-SOC'!$T$15:$T$30000,'FORMATO N° 5_XX'!B51,'BD-SOC'!$I$15:$I$30000,'FORMATO N° 5_XX'!$X$43)+\nCOUNTIFS('BD-SOC'!$V$15:$V$30000,'FORMATO N° 5_XX'!B51,'BD-SOC'!$I$15:$I$30000,'FORMATO N° 5_XX'!$X$43)+\nCOUNTIFS('BD-SOC'!$X$15:$X$30000,'FORMATO N° 5_XX'!B51,'BD-SOC'!$I$15:$I$30000,'FORMATO N° 5_XX'!$X$43)+\nCOUNTIFS('BD-SOC'!$Z$15:$Z$30000,'FORMATO N° 5_XX'!B51,'BD-SOC'!$I$15:$I$30000,'FORMATO N° 5_XX'!$X$43)+\nCOUNTIFS('BD-SOC'!$AB$15:$AB$30000,'FORMATO N° 5_XX'!B51,'BD-SOC'!$I$15:$I$30000,'FORMATO N° 5_XX'!$X$43)","v":0},{"$f":"COUNTIFS('BD-SOC'!$P$15:$P$30000,'FORMATO N° 5_XX'!B51,'BD-SOC'!$I$15:$I$30000,'FORMATO N° 5_XX'!$Y$43)+\nCOUNTIFS('BD-SOC'!$R$15:$R$30000,'FORMATO N° 5_XX'!B51,'BD-SOC'!$I$15:$I$30000,'FORMATO N° 5_XX'!$Y$43)+\nCOUNTIFS('BD-SOC'!$T$15:$T$30000,'FORMATO N° 5_XX'!B51,'BD-SOC'!$I$15:$I$30000,'FORMATO N° 5_XX'!$Y$43)+\nCOUNTIFS('BD-SOC'!$V$15:$V$30000,'FORMATO N° 5_XX'!B51,'BD-SOC'!$I$15:$I$30000,'FORMATO N° 5_XX'!$Y$43)+\nCOUNTIFS('BD-SOC'!$X$15:$X$30000,'FORMATO N° 5_XX'!B51,'BD-SOC'!$I$15:$I$30000,'FORMATO N° 5_XX'!$Y$43)+\nCOUNTIFS('BD-SOC'!$Z$15:$Z$30000,'FORMATO N° 5_XX'!B51,'BD-SOC'!$I$15:$I$30000,'FORMATO N° 5_XX'!$Y$43)+\nCOUNTIFS('BD-SOC'!$AB$15:$AB$30000,'FORMATO N° 5_XX'!B51,'BD-SOC'!$I$15:$I$30000,'FORMATO N° 5_XX'!$Y$43)","v":0},{"$f":"COUNTIFS('BD-SOC'!$P$15:$P$30000,'FORMATO N° 5_XX'!B51,'BD-SOC'!$I$15:$I$30000,'FORMATO N° 5_XX'!$Z$43)+\nCOUNTIFS('BD-SOC'!$R$15:$R$30000,'FORMATO N° 5_XX'!B51,'BD-SOC'!$I$15:$I$30000,'FORMATO N° 5_XX'!$Z$43)+\nCOUNTIFS('BD-SOC'!$T$15:$T$30000,'FORMATO N° 5_XX'!B51,'BD-SOC'!$I$15:$I$30000,'FORMATO N° 5_XX'!$Z$43)+\nCOUNTIFS('BD-SOC'!$V$15:$V$30000,'FORMATO N° 5_XX'!B51,'BD-SOC'!$I$15:$I$30000,'FORMATO N° 5_XX'!$Z$43)+\nCOUNTIFS('BD-SOC'!$X$15:$X$30000,'FORMATO N° 5_XX'!B51,'BD-SOC'!$I$15:$I$30000,'FORMATO N° 5_XX'!$Z$43)+\nCOUNTIFS('BD-SOC'!$Z$15:$Z$30000,'FORMATO N° 5_XX'!B51,'BD-SOC'!$I$15:$I$30000,'FORMATO N° 5_XX'!$Z$43)+\nCOUNTIFS('BD-SOC'!$AB$15:$AB$30000,'FORMATO N° 5_XX'!B51,'BD-SOC'!$I$15:$I$30000,'FORMATO N° 5_XX'!$Z$43)","v":0},{"$f":"COUNTIFS('BD-SOC'!$P$15:$P$30000,'FORMATO N° 5_XX'!B51,'BD-SOC'!$I$15:$I$30000,'FORMATO N° 5_XX'!$AA$43)+\nCOUNTIFS('BD-SOC'!$R$15:$R$30000,'FORMATO N° 5_XX'!B51,'BD-SOC'!$I$15:$I$30000,'FORMATO N° 5_XX'!$AA$43)+\nCOUNTIFS('BD-SOC'!$T$15:$T$30000,'FORMATO N° 5_XX'!B51,'BD-SOC'!$I$15:$I$30000,'FORMATO N° 5_XX'!$AA$43)+\nCOUNTIFS('BD-SOC'!$V$15:$V$30000,'FORMATO N° 5_XX'!B51,'BD-SOC'!$I$15:$I$30000,'FORMATO N° 5_XX'!$AA$43)+\nCOUNTIFS('BD-SOC'!$X$15:$X$30000,'FORMATO N° 5_XX'!B51,'BD-SOC'!$I$15:$I$30000,'FORMATO N° 5_XX'!$AA$43)+\nCOUNTIFS('BD-SOC'!$Z$15:$Z$30000,'FORMATO N° 5_XX'!B51,'BD-SOC'!$I$15:$I$30000,'FORMATO N° 5_XX'!$AA$43)+\nCOUNTIFS('BD-SOC'!$AB$15:$AB$30000,'FORMATO N° 5_XX'!B51,'BD-SOC'!$I$15:$I$30000,'FORMATO N° 5_XX'!$AA$43)","v":0},{"$f":"COUNTIFS('BD-SOC'!$P$15:$P$30000,'FORMATO N° 5_XX'!B51,'BD-SOC'!$I$15:$I$30000,'FORMATO N° 5_XX'!$AB$43)+\nCOUNTIFS('BD-SOC'!$R$15:$R$30000,'FORMATO N° 5_XX'!B51,'BD-SOC'!$I$15:$I$30000,'FORMATO N° 5_XX'!$AB$43)+\nCOUNTIFS('BD-SOC'!$T$15:$T$30000,'FORMATO N° 5_XX'!B51,'BD-SOC'!$I$15:$I$30000,'FORMATO N° 5_XX'!$AB$43)+\nCOUNTIFS('BD-SOC'!$V$15:$V$30000,'FORMATO N° 5_XX'!B51,'BD-SOC'!$I$15:$I$30000,'FORMATO N° 5_XX'!$AB$43)+\nCOUNTIFS('BD-SOC'!$X$15:$X$30000,'FORMATO N° 5_XX'!B51,'BD-SOC'!$I$15:$I$30000,'FORMATO N° 5_XX'!$AB$43)+\nCOUNTIFS('BD-SOC'!$Z$15:$Z$30000,'FORMATO N° 5_XX'!B51,'BD-SOC'!$I$15:$I$30000,'FORMATO N° 5_XX'!$AB$43)+\nCOUNTIFS('BD-SOC'!$AB$15:$AB$30000,'FORMATO N° 5_XX'!B51,'BD-SOC'!$I$15:$I$30000,'FORMATO N° 5_XX'!$AB$43)","v":0},{"$f":"COUNTIFS('BD-SOC'!$P$15:$P$30000,'FORMATO N° 5_XX'!B51,'BD-SOC'!$I$15:$I$30000,'FORMATO N° 5_XX'!$AC$43)+\nCOUNTIFS('BD-SOC'!$R$15:$R$30000,'FORMATO N° 5_XX'!B51,'BD-SOC'!$I$15:$I$30000,'FORMATO N° 5_XX'!$AC$43)+\nCOUNTIFS('BD-SOC'!$T$15:$T$30000,'FORMATO N° 5_XX'!B51,'BD-SOC'!$I$15:$I$30000,'FORMATO N° 5_XX'!$AC$43)+\nCOUNTIFS('BD-SOC'!$V$15:$V$30000,'FORMATO N° 5_XX'!B51,'BD-SOC'!$I$15:$I$30000,'FORMATO N° 5_XX'!$AC$43)+\nCOUNTIFS('BD-SOC'!$X$15:$X$30000,'FORMATO N° 5_XX'!B51,'BD-SOC'!$I$15:$I$30000,'FORMATO N° 5_XX'!$AC$43)+\nCOUNTIFS('BD-SOC'!$Z$15:$Z$30000,'FORMATO N° 5_XX'!B51,'BD-SOC'!$I$15:$I$30000,'FORMATO N° 5_XX'!$AC$43)+\nCOUNTIFS('BD-SOC'!$AB$15:$AB$30000,'FORMATO N° 5_XX'!B51,'BD-SOC'!$I$15:$I$30000,'FORMATO N° 5_XX'!$AC$43)","v":0},{"$f":"COUNTIFS('BD-SOC'!$P$15:$P$30000,'FORMATO N° 5_XX'!B51,'BD-SOC'!$I$15:$I$30000,'FORMATO N° 5_XX'!$AD$43)+\nCOUNTIFS('BD-SOC'!$R$15:$R$30000,'FORMATO N° 5_XX'!B51,'BD-SOC'!$I$15:$I$30000,'FORMATO N° 5_XX'!$AD$43)+\nCOUNTIFS('BD-SOC'!$T$15:$T$30000,'FORMATO N° 5_XX'!B51,'BD-SOC'!$I$15:$I$30000,'FORMATO N° 5_XX'!$AD$43)+\nCOUNTIFS('BD-SOC'!$V$15:$V$30000,'FORMATO N° 5_XX'!B51,'BD-SOC'!$I$15:$I$30000,'FORMATO N° 5_XX'!$AD$43)+\nCOUNTIFS('BD-SOC'!$X$15:$X$30000,'FORMATO N° 5_XX'!B51,'BD-SOC'!$I$15:$I$30000,'FORMATO N° 5_XX'!$AD$43)+\nCOUNTIFS('BD-SOC'!$Z$15:$Z$30000,'FORMATO N° 5_XX'!B51,'BD-SOC'!$I$15:$I$30000,'FORMATO N° 5_XX'!$AD$43)+\nCOUNTIFS('BD-SOC'!$AB$15:$AB$30000,'FORMATO N° 5_XX'!B51,'BD-SOC'!$I$15:$I$30000,'FORMATO N° 5_XX'!$AD$43)","v":0},{"$f":"COUNTIFS('BD-SOC'!$P$15:$P$30000,'FORMATO N° 5_XX'!B51,'BD-SOC'!$I$15:$I$30000,'FORMATO N° 5_XX'!$AE$43)+\nCOUNTIFS('BD-SOC'!$R$15:$R$30000,'FORMATO N° 5_XX'!B51,'BD-SOC'!$I$15:$I$30000,'FORMATO N° 5_XX'!$AE$43)+\nCOUNTIFS('BD-SOC'!$T$15:$T$30000,'FORMATO N° 5_XX'!B51,'BD-SOC'!$I$15:$I$30000,'FORMATO N° 5_XX'!$AE$43)+\nCOUNTIFS('BD-SOC'!$V$15:$V$30000,'FORMATO N° 5_XX'!B51,'BD-SOC'!$I$15:$I$30000,'FORMATO N° 5_XX'!$AE$43)+\nCOUNTIFS('BD-SOC'!$X$15:$X$30000,'FORMATO N° 5_XX'!B51,'BD-SOC'!$I$15:$I$30000,'FORMATO N° 5_XX'!$AE$43)+\nCOUNTIFS('BD-SOC'!$Z$15:$Z$30000,'FORMATO N° 5_XX'!B51,'BD-SOC'!$I$15:$I$30000,'FORMATO N° 5_XX'!$AE$43)+\nCOUNTIFS('BD-SOC'!$AB$15:$AB$30000,'FORMATO N° 5_XX'!B51,'BD-SOC'!$I$15:$I$30000,'FORMATO N° 5_XX'!$AE$43)","v":0}]
[null,106,"INTERVENCIÓN SOCIAL CON EL INTERNO",null,null,null,null,null,{"$error":"#REF!"},{"$f":"COUNTIFS('BD-SOC'!$P$15:$P$30000,'FORMATO N° 5_XX'!B52,'BD-SOC'!#REF!,'FORMATO N° 5_XX'!$J$43)+\nCOUNTIFS('BD-SOC'!$R$15:$R$30000,'FORMATO N° 5_XX'!B52,'BD-SOC'!#REF!,'FORMATO N° 5_XX'!$J$43)+\nCOUNTIFS('BD-SOC'!$T$15:$T$30000,'FORMATO N° 5_XX'!B52,'BD-SOC'!#REF!,'FORMATO N° 5_XX'!$J$43)+\nCOUNTIFS('BD-SOC'!$V$15:$V$30000,'FORMATO N° 5_XX'!B52,'BD-SOC'!#REF!,'FORMATO N° 5_XX'!$J$43)+\nCOUNTIFS('BD-SOC'!$X$15:$X$30000,'FORMATO N° 5_XX'!B52,'BD-SOC'!#REF!,'FORMATO N° 5_XX'!$J$43)+\nCOUNTIFS('BD-SOC'!$Z$15:$Z$30000,'FORMATO N° 5_XX'!B52,'BD-SOC'!#REF!,'FORMATO N° 5_XX'!$J$43)+\nCOUNTIFS('BD-SOC'!$AB$15:$AB$30000,'FORMATO N° 5_XX'!B52,'BD-SOC'!#REF!,'FORMATO N° 5_XX'!$J$43)","v":{"$error":"#REF!"}},{"$f":"COUNTIFS('BD-SOC'!$P$15:$P$30000,'FORMATO N° 5_XX'!B52,'BD-SOC'!#REF!,'FORMATO N° 5_XX'!$K$43)+\nCOUNTIFS('BD-SOC'!$R$15:$R$30000,'FORMATO N° 5_XX'!B52,'BD-SOC'!#REF!,'FORMATO N° 5_XX'!$K$43)+\nCOUNTIFS('BD-SOC'!$T$15:$T$30000,'FORMATO N° 5_XX'!B52,'BD-SOC'!#REF!,'FORMATO N° 5_XX'!$K$43)+\nCOUNTIFS('BD-SOC'!$V$15:$V$30000,'FORMATO N° 5_XX'!B52,'BD-SOC'!#REF!,'FORMATO N° 5_XX'!$K$43)+\nCOUNTIFS('BD-SOC'!$X$15:$X$30000,'FORMATO N° 5_XX'!B52,'BD-SOC'!#REF!,'FORMATO N° 5_XX'!$K$43)+\nCOUNTIFS('BD-SOC'!$Z$15:$Z$30000,'FORMATO N° 5_XX'!B52,'BD-SOC'!#REF!,'FORMATO N° 5_XX'!$K$43)+\nCOUNTIFS('BD-SOC'!$AB$15:$AB$30000,'FORMATO N° 5_XX'!B52,'BD-SOC'!#REF!,'FORMATO N° 5_XX'!$K$43)","v":{"$error":"#REF!"}},{"$f":"COUNTIFS('BD-SOC'!$P$15:$P$30000,'FORMATO N° 5_XX'!B52,'BD-SOC'!#REF!,'FORMATO N° 5_XX'!$L$43)+\nCOUNTIFS('BD-SOC'!$R$15:$R$30000,'FORMATO N° 5_XX'!B52,'BD-SOC'!#REF!,'FORMATO N° 5_XX'!$L$43)+\nCOUNTIFS('BD-SOC'!$T$15:$T$30000,'FORMATO N° 5_XX'!B52,'BD-SOC'!#REF!,'FORMATO N° 5_XX'!$L$43)+\nCOUNTIFS('BD-SOC'!$V$15:$V$30000,'FORMATO N° 5_XX'!B52,'BD-SOC'!#REF!,'FORMATO N° 5_XX'!$L$43)+\nCOUNTIFS('BD-SOC'!$X$15:$X$30000,'FORMATO N° 5_XX'!B52,'BD-SOC'!#REF!,'FORMATO N° 5_XX'!$L$43)+\nCOUNTIFS('BD-SOC'!$Z$15:$Z$30000,'FORMATO N° 5_XX'!B52,'BD-SOC'!#REF!,'FORMATO N° 5_XX'!$L$43)+\nCOUNTIFS('BD-SOC'!$AB$15:$AB$30000,'FORMATO N° 5_XX'!B52,'BD-SOC'!#REF!,'FORMATO N° 5_XX'!$L$43)","v":{"$error":"#REF!"}},{"$f":"COUNTIFS('BD-SOC'!$P$15:$P$30000,'FORMATO N° 5_XX'!B52,'BD-SOC'!#REF!,'FORMATO N° 5_XX'!$M$44)+\nCOUNTIFS('BD-SOC'!$R$15:$R$30000,'FORMATO N° 5_XX'!B52,'BD-SOC'!#REF!,'FORMATO N° 5_XX'!$M$44)+\nCOUNTIFS('BD-SOC'!$T$15:$T$30000,'FORMATO N° 5_XX'!B52,'BD-SOC'!#REF!,'FORMATO N° 5_XX'!$M$44)+\nCOUNTIFS('BD-SOC'!$V$15:$V$30000,'FORMATO N° 5_XX'!B52,'BD-SOC'!#REF!,'FORMATO N° 5_XX'!$M$44)+\nCOUNTIFS('BD-SOC'!$X$15:$X$30000,'FORMATO N° 5_XX'!B52,'BD-SOC'!#REF!,'FORMATO N° 5_XX'!$M$44)+\nCOUNTIFS('BD-SOC'!$Z$15:$Z$30000,'FORMATO N° 5_XX'!B52,'BD-SOC'!#REF!,'FORMATO N° 5_XX'!$M$44)+\nCOUNTIFS('BD-SOC'!$AB$15:$AB$30000,'FORMATO N° 5_XX'!B52,'BD-SOC'!#REF!,'FORMATO N° 5_XX'!$M$44)","v":{"$error":"#REF!"}},{"$f":"COUNTIFS('BD-SOC'!$P$15:$P$30000,'FORMATO N° 5_XX'!B52,'BD-SOC'!#REF!,'FORMATO N° 5_XX'!$N$44)+\nCOUNTIFS('BD-SOC'!$R$15:$R$30000,'FORMATO N° 5_XX'!B52,'BD-SOC'!#REF!,'FORMATO N° 5_XX'!$N$44)+\nCOUNTIFS('BD-SOC'!$T$15:$T$30000,'FORMATO N° 5_XX'!B52,'BD-SOC'!#REF!,'FORMATO N° 5_XX'!$N$44)+\nCOUNTIFS('BD-SOC'!$V$15:$V$30000,'FORMATO N° 5_XX'!B52,'BD-SOC'!#REF!,'FORMATO N° 5_XX'!$N$44)+\nCOUNTIFS('BD-SOC'!$X$15:$X$30000,'FORMATO N° 5_XX'!B52,'BD-SOC'!#REF!,'FORMATO N° 5_XX'!$N$44)+\nCOUNTIFS('BD-SOC'!$Z$15:$Z$30000,'FORMATO N° 5_XX'!B52,'BD-SOC'!#REF!,'FORMATO N° 5_XX'!$N$44)+\nCOUNTIFS('BD-SOC'!$AB$15:$AB$30000,'FORMATO N° 5_XX'!B52,'BD-SOC'!#REF!,'FORMATO N° 5_XX'!$N$44)","v":{"$error":"#REF!"}},{"$f":"COUNTIFS('BD-SOC'!$P$15:$P$30000,'FORMATO N° 5_XX'!B52,'BD-SOC'!#REF!,'FORMATO N° 5_XX'!$O$44)+\nCOUNTIFS('BD-SOC'!$R$15:$R$30000,'FORMATO N° 5_XX'!B52,'BD-SOC'!#REF!,'FORMATO N° 5_XX'!$O$44)+\nCOUNTIFS('BD-SOC'!$T$15:$T$30000,'FORMATO N° 5_XX'!B52,'BD-SOC'!#REF!,'FORMATO N° 5_XX'!$O$44)+\nCOUNTIFS('BD-SOC'!$V$15:$V$30000,'FORMATO N° 5_XX'!B52,'BD-SOC'!#REF!,'FORMATO N° 5_XX'!$O$44)+\nCOUNTIFS('BD-SOC'!$X$15:$X$30000,'FORMATO N° 5_XX'!B52,'BD-SOC'!#REF!,'FORMATO N° 5_XX'!$O$44)+\nCOUNTIFS('BD-SOC'!$Z$15:$Z$30000,'FORMATO N° 5_XX'!B52,'BD-SOC'!#REF!,'FORMATO N° 5_XX'!$O$44)+\nCOUNTIFS('BD-SOC'!$AB$15:$AB$30000,'FORMATO N° 5_XX'!B52,'BD-SOC'!#REF!,'FORMATO N° 5_XX'!$O$44)","v":{"$error":"#REF!"}},{"$f":"COUNTIFS('BD-SOC'!$P$15:$P$30000,'FORMATO N° 5_XX'!B52,'BD-SOC'!#REF!,'FORMATO N° 5_XX'!$P$44)+\nCOUNTIFS('BD-SOC'!$R$15:$R$30000,'FORMATO N° 5_XX'!B52,'BD-SOC'!#REF!,'FORMATO N° 5_XX'!$P$44)+\nCOUNTIFS('BD-SOC'!$T$15:$T$30000,'FORMATO N° 5_XX'!B52,'BD-SOC'!#REF!,'FORMATO N° 5_XX'!$P$44)+\nCOUNTIFS('BD-SOC'!$V$15:$V$30000,'FORMATO N° 5_XX'!B52,'BD-SOC'!#REF!,'FORMATO N° 5_XX'!$P$44)+\nCOUNTIFS('BD-SOC'!$X$15:$X$30000,'FORMATO N° 5_XX'!B52,'BD-SOC'!#REF!,'FORMATO N° 5_XX'!$P$44)+\nCOUNTIFS('BD-SOC'!$Z$15:$Z$30000,'FORMATO N° 5_XX'!B52,'BD-SOC'!#REF!,'FORMATO N° 5_XX'!$P$44)+\nCOUNTIFS('BD-SOC'!$AB$15:$AB$30000,'FORMATO N° 5_XX'!B52,'BD-SOC'!#REF!,'FORMATO N° 5_XX'!$P$44)","v":{"$error":"#REF!"}},{"$f":"COUNTIFS('BD-SOC'!$P$15:$P$30000,'FORMATO N° 5_XX'!B52,'BD-SOC'!#REF!,'FORMATO N° 5_XX'!$Q$44)+\nCOUNTIFS('BD-SOC'!$R$15:$R$30000,'FORMATO N° 5_XX'!B52,'BD-SOC'!#REF!,'FORMATO N° 5_XX'!$Q$44)+\nCOUNTIFS('BD-SOC'!$T$15:$T$30000,'FORMATO N° 5_XX'!B52,'BD-SOC'!#REF!,'FORMATO N° 5_XX'!$Q$44)+\nCOUNTIFS('BD-SOC'!$V$15:$V$30000,'FORMATO N° 5_XX'!B52,'BD-SOC'!#REF!,'FORMATO N° 5_XX'!$Q$44)+\nCOUNTIFS('BD-SOC'!$X$15:$X$30000,'FORMATO N° 5_XX'!B52,'BD-SOC'!#REF!,'FORMATO N° 5_XX'!$Q$44)+\nCOUNTIFS('BD-SOC'!$Z$15:$Z$30000,'FORMATO N° 5_XX'!B52,'BD-SOC'!#REF!,'FORMATO N° 5_XX'!$Q$44)+\nCOUNTIFS('BD-SOC'!$AB$15:$AB$30000,'FORMATO N° 5_XX'!B52,'BD-SOC'!#REF!,'FORMATO N° 5_XX'!$Q$44)","v":{"$error":"#REF!"}},{"$f":"COUNTIFS('BD-SOC'!$P$15:$P$30000,'FORMATO N° 5_XX'!B52,'BD-SOC'!#REF!,'FORMATO N° 5_XX'!$R$44)+\nCOUNTIFS('BD-SOC'!$R$15:$R$30000,'FORMATO N° 5_XX'!B52,'BD-SOC'!#REF!,'FORMATO N° 5_XX'!$R$44)+\nCOUNTIFS('BD-SOC'!$T$15:$T$30000,'FORMATO N° 5_XX'!B52,'BD-SOC'!#REF!,'FORMATO N° 5_XX'!$R$44)+\nCOUNTIFS('BD-SOC'!$V$15:$V$30000,'FORMATO N° 5_XX'!B52,'BD-SOC'!#REF!,'FORMATO N° 5_XX'!$R$44)+\nCOUNTIFS('BD-SOC'!$X$15:$X$30000,'FORMATO N° 5_XX'!B52,'BD-SOC'!#REF!,'FORMATO N° 5_XX'!$R$44)+\nCOUNTIFS('BD-SOC'!$Z$15:$Z$30000,'FORMATO N° 5_XX'!B52,'BD-SOC'!#REF!,'FORMATO N° 5_XX'!$R$44)+\nCOUNTIFS('BD-SOC'!$AB$15:$AB$30000,'FORMATO N° 5_XX'!B52,'BD-SOC'!#REF!,'FORMATO N° 5_XX'!$R$44)","v":{"$error":"#REF!"}},{"$f":"COUNTIFS('BD-SOC'!$P$15:$P$30000,'FORMATO N° 5_XX'!B52,'BD-SOC'!#REF!,'FORMATO N° 5_XX'!$S$43)+\nCOUNTIFS('BD-SOC'!$R$15:$R$30000,'FORMATO N° 5_XX'!B52,'BD-SOC'!#REF!,'FORMATO N° 5_XX'!$S$43)+\nCOUNTIFS('BD-SOC'!$T$15:$T$30000,'FORMATO N° 5_XX'!B52,'BD-SOC'!#REF!,'FORMATO N° 5_XX'!$S$43)+\nCOUNTIFS('BD-SOC'!$V$15:$V$30000,'FORMATO N° 5_XX'!B52,'BD-SOC'!#REF!,'FORMATO N° 5_XX'!$S$43)+\nCOUNTIFS('BD-SOC'!$X$15:$X$30000,'FORMATO N° 5_XX'!B52,'BD-SOC'!#REF!,'FORMATO N° 5_XX'!$S$43)+\nCOUNTIFS('BD-SOC'!$Z$15:$Z$30000,'FORMATO N° 5_XX'!B52,'BD-SOC'!#REF!,'FORMATO N° 5_XX'!$S$43)+\nCOUNTIFS('BD-SOC'!$AB$15:$AB$30000,'FORMATO N° 5_XX'!B52,'BD-SOC'!#REF!,'FORMATO N° 5_XX'!$S$43)","v":{"$error":"#REF!"}},{"$f":"COUNTIFS('BD-SOC'!$P$15:$P$30000,'FORMATO N° 5_XX'!B52,'BD-SOC'!#REF!,'FORMATO N° 5_XX'!$T$43)+\nCOUNTIFS('BD-SOC'!$R$15:$R$30000,'FORMATO N° 5_XX'!B52,'BD-SOC'!#REF!,'FORMATO N° 5_XX'!$T$43)+\nCOUNTIFS('BD-SOC'!$T$15:$T$30000,'FORMATO N° 5_XX'!B52,'BD-SOC'!#REF!,'FORMATO N° 5_XX'!$T$43)+\nCOUNTIFS('BD-SOC'!$V$15:$V$30000,'FORMATO N° 5_XX'!B52,'BD-SOC'!#REF!,'FORMATO N° 5_XX'!$T$43)+\nCOUNTIFS('BD-SOC'!$X$15:$X$30000,'FORMATO N° 5_XX'!B52,'BD-SOC'!#REF!,'FORMATO N° 5_XX'!$T$43)+\nCOUNTIFS('BD-SOC'!$Z$15:$Z$30000,'FORMATO N° 5_XX'!B52,'BD-SOC'!#REF!,'FORMATO N° 5_XX'!$T$43)+\nCOUNTIFS('BD-SOC'!$AB$15:$AB$30000,'FORMATO N° 5_XX'!B52,'BD-SOC'!#REF!,'FORMATO N° 5_XX'!$T$43)","v":{"$error":"#REF!"}},0,{"$f":"COUNTIFS('BD-SOC'!$P$15:$P$30000,'FORMATO N° 5_XX'!B52,'BD-SOC'!$I$15:$I$30000,'FORMATO N° 5_XX'!$V$43)+\nCOUNTIFS('BD-SOC'!$R$15:$R$30000,'FORMATO N° 5_XX'!B52,'BD-SOC'!$I$15:$I$30000,'FORMATO N° 5_XX'!$V$43)+\nCOUNTIFS('BD-SOC'!$T$15:$T$30000,'FORMATO N° 5_XX'!B52,'BD-SOC'!$I$15:$I$30000,'FORMATO N° 5_XX'!$V$43)+\nCOUNTIFS('BD-SOC'!$V$15:$V$30000,'FORMATO N° 5_XX'!B52,'BD-SOC'!$I$15:$I$30000,'FORMATO N° 5_XX'!$V$43)+\nCOUNTIFS('BD-SOC'!$X$15:$X$30000,'FORMATO N° 5_XX'!B52,'BD-SOC'!$I$15:$I$30000,'FORMATO N° 5_XX'!$V$43)+\nCOUNTIFS('BD-SOC'!$Z$15:$Z$30000,'FORMATO N° 5_XX'!B52,'BD-SOC'!$I$15:$I$30000,'FORMATO N° 5_XX'!$V$43)+\nCOUNTIFS('BD-SOC'!$AB$15:$AB$30000,'FORMATO N° 5_XX'!B52,'BD-SOC'!$I$15:$I$30000,'FORMATO N° 5_XX'!$V$43)","v":0},{"$f":"COUNTIFS('BD-SOC'!$P$15:$P$30000,'FORMATO N° 5_XX'!B52,'BD-SOC'!$I$15:$I$30000,'FORMATO N° 5_XX'!$W$43)+\nCOUNTIFS('BD-SOC'!$R$15:$R$30000,'FORMATO N° 5_XX'!B52,'BD-SOC'!$I$15:$I$30000,'FORMATO N° 5_XX'!$W$43)+\nCOUNTIFS('BD-SOC'!$T$15:$T$30000,'FORMATO N° 5_XX'!B52,'BD-SOC'!$I$15:$I$30000,'FORMATO N° 5_XX'!$W$43)+\nCOUNTIFS('BD-SOC'!$V$15:$V$30000,'FORMATO N° 5_XX'!B52,'BD-SOC'!$I$15:$I$30000,'FORMATO N° 5_XX'!$W$43)+\nCOUNTIFS('BD-SOC'!$X$15:$X$30000,'FORMATO N° 5_XX'!B52,'BD-SOC'!$I$15:$I$30000,'FORMATO N° 5_XX'!$W$43)+\nCOUNTIFS('BD-SOC'!$Z$15:$Z$30000,'FORMATO N° 5_XX'!B52,'BD-SOC'!$I$15:$I$30000,'FORMATO N° 5_XX'!$W$43)+\nCOUNTIFS('BD-SOC'!$AB$15:$AB$30000,'FORMATO N° 5_XX'!B52,'BD-SOC'!$I$15:$I$30000,'FORMATO N° 5_XX'!$W$43)","v":0},{"$f":"COUNTIFS('BD-SOC'!$P$15:$P$30000,'FORMATO N° 5_XX'!B52,'BD-SOC'!$I$15:$I$30000,'FORMATO N° 5_XX'!$X$43)+\nCOUNTIFS('BD-SOC'!$R$15:$R$30000,'FORMATO N° 5_XX'!B52,'BD-SOC'!$I$15:$I$30000,'FORMATO N° 5_XX'!$X$43)+\nCOUNTIFS('BD-SOC'!$T$15:$T$30000,'FORMATO N° 5_XX'!B52,'BD-SOC'!$I$15:$I$30000,'FORMATO N° 5_XX'!$X$43)+\nCOUNTIFS('BD-SOC'!$V$15:$V$30000,'FORMATO N° 5_XX'!B52,'BD-SOC'!$I$15:$I$30000,'FORMATO N° 5_XX'!$X$43)+\nCOUNTIFS('BD-SOC'!$X$15:$X$30000,'FORMATO N° 5_XX'!B52,'BD-SOC'!$I$15:$I$30000,'FORMATO N° 5_XX'!$X$43)+\nCOUNTIFS('BD-SOC'!$Z$15:$Z$30000,'FORMATO N° 5_XX'!B52,'BD-SOC'!$I$15:$I$30000,'FORMATO N° 5_XX'!$X$43)+\nCOUNTIFS('BD-SOC'!$AB$15:$AB$30000,'FORMATO N° 5_XX'!B52,'BD-SOC'!$I$15:$I$30000,'FORMATO N° 5_XX'!$X$43)","v":0},{"$f":"COUNTIFS('BD-SOC'!$P$15:$P$30000,'FORMATO N° 5_XX'!B52,'BD-SOC'!$I$15:$I$30000,'FORMATO N° 5_XX'!$Y$43)+\nCOUNTIFS('BD-SOC'!$R$15:$R$30000,'FORMATO N° 5_XX'!B52,'BD-SOC'!$I$15:$I$30000,'FORMATO N° 5_XX'!$Y$43)+\nCOUNTIFS('BD-SOC'!$T$15:$T$30000,'FORMATO N° 5_XX'!B52,'BD-SOC'!$I$15:$I$30000,'FORMATO N° 5_XX'!$Y$43)+\nCOUNTIFS('BD-SOC'!$V$15:$V$30000,'FORMATO N° 5_XX'!B52,'BD-SOC'!$I$15:$I$30000,'FORMATO N° 5_XX'!$Y$43)+\nCOUNTIFS('BD-SOC'!$X$15:$X$30000,'FORMATO N° 5_XX'!B52,'BD-SOC'!$I$15:$I$30000,'FORMATO N° 5_XX'!$Y$43)+\nCOUNTIFS('BD-SOC'!$Z$15:$Z$30000,'FORMATO N° 5_XX'!B52,'BD-SOC'!$I$15:$I$30000,'FORMATO N° 5_XX'!$Y$43)+\nCOUNTIFS('BD-SOC'!$AB$15:$AB$30000,'FORMATO N° 5_XX'!B52,'BD-SOC'!$I$15:$I$30000,'FORMATO N° 5_XX'!$Y$43)","v":0},{"$f":"COUNTIFS('BD-SOC'!$P$15:$P$30000,'FORMATO N° 5_XX'!B52,'BD-SOC'!$I$15:$I$30000,'FORMATO N° 5_XX'!$Z$43)+\nCOUNTIFS('BD-SOC'!$R$15:$R$30000,'FORMATO N° 5_XX'!B52,'BD-SOC'!$I$15:$I$30000,'FORMATO N° 5_XX'!$Z$43)+\nCOUNTIFS('BD-SOC'!$T$15:$T$30000,'FORMATO N° 5_XX'!B52,'BD-SOC'!$I$15:$I$30000,'FORMATO N° 5_XX'!$Z$43)+\nCOUNTIFS('BD-SOC'!$V$15:$V$30000,'FORMATO N° 5_XX'!B52,'BD-SOC'!$I$15:$I$30000,'FORMATO N° 5_XX'!$Z$43)+\nCOUNTIFS('BD-SOC'!$X$15:$X$30000,'FORMATO N° 5_XX'!B52,'BD-SOC'!$I$15:$I$30000,'FORMATO N° 5_XX'!$Z$43)+\nCOUNTIFS('BD-SOC'!$Z$15:$Z$30000,'FORMATO N° 5_XX'!B52,'BD-SOC'!$I$15:$I$30000,'FORMATO N° 5_XX'!$Z$43)+\nCOUNTIFS('BD-SOC'!$AB$15:$AB$30000,'FORMATO N° 5_XX'!B52,'BD-SOC'!$I$15:$I$30000,'FORMATO N° 5_XX'!$Z$43)","v":0},{"$f":"COUNTIFS('BD-SOC'!$P$15:$P$30000,'FORMATO N° 5_XX'!B52,'BD-SOC'!$I$15:$I$30000,'FORMATO N° 5_XX'!$AA$43)+\nCOUNTIFS('BD-SOC'!$R$15:$R$30000,'FORMATO N° 5_XX'!B52,'BD-SOC'!$I$15:$I$30000,'FORMATO N° 5_XX'!$AA$43)+\nCOUNTIFS('BD-SOC'!$T$15:$T$30000,'FORMATO N° 5_XX'!B52,'BD-SOC'!$I$15:$I$30000,'FORMATO N° 5_XX'!$AA$43)+\nCOUNTIFS('BD-SOC'!$V$15:$V$30000,'FORMATO N° 5_XX'!B52,'BD-SOC'!$I$15:$I$30000,'FORMATO N° 5_XX'!$AA$43)+\nCOUNTIFS('BD-SOC'!$X$15:$X$30000,'FORMATO N° 5_XX'!B52,'BD-SOC'!$I$15:$I$30000,'FORMATO N° 5_XX'!$AA$43)+\nCOUNTIFS('BD-SOC'!$Z$15:$Z$30000,'FORMATO N° 5_XX'!B52,'BD-SOC'!$I$15:$I$30000,'FORMATO N° 5_XX'!$AA$43)+\nCOUNTIFS('BD-SOC'!$AB$15:$AB$30000,'FORMATO N° 5_XX'!B52,'BD-SOC'!$I$15:$I$30000,'FORMATO N° 5_XX'!$AA$43)","v":0},{"$f":"COUNTIFS('BD-SOC'!$P$15:$P$30000,'FORMATO N° 5_XX'!B52,'BD-SOC'!$I$15:$I$30000,'FORMATO N° 5_XX'!$AB$43)+\nCOUNTIFS('BD-SOC'!$R$15:$R$30000,'FORMATO N° 5_XX'!B52,'BD-SOC'!$I$15:$I$30000,'FORMATO N° 5_XX'!$AB$43)+\nCOUNTIFS('BD-SOC'!$T$15:$T$30000,'FORMATO N° 5_XX'!B52,'BD-SOC'!$I$15:$I$30000,'FORMATO N° 5_XX'!$AB$43)+\nCOUNTIFS('BD-SOC'!$V$15:$V$30000,'FORMATO N° 5_XX'!B52,'BD-SOC'!$I$15:$I$30000,'FORMATO N° 5_XX'!$AB$43)+\nCOUNTIFS('BD-SOC'!$X$15:$X$30000,'FORMATO N° 5_XX'!B52,'BD-SOC'!$I$15:$I$30000,'FORMATO N° 5_XX'!$AB$43)+\nCOUNTIFS('BD-SOC'!$Z$15:$Z$30000,'FORMATO N° 5_XX'!B52,'BD-SOC'!$I$15:$I$30000,'FORMATO N° 5_XX'!$AB$43)+\nCOUNTIFS('BD-SOC'!$AB$15:$AB$30000,'FORMATO N° 5_XX'!B52,'BD-SOC'!$I$15:$I$30000,'FORMATO N° 5_XX'!$AB$43)","v":0},{"$f":"COUNTIFS('BD-SOC'!$P$15:$P$30000,'FORMATO N° 5_XX'!B52,'BD-SOC'!$I$15:$I$30000,'FORMATO N° 5_XX'!$AC$43)+\nCOUNTIFS('BD-SOC'!$R$15:$R$30000,'FORMATO N° 5_XX'!B52,'BD-SOC'!$I$15:$I$30000,'FORMATO N° 5_XX'!$AC$43)+\nCOUNTIFS('BD-SOC'!$T$15:$T$30000,'FORMATO N° 5_XX'!B52,'BD-SOC'!$I$15:$I$30000,'FORMATO N° 5_XX'!$AC$43)+\nCOUNTIFS('BD-SOC'!$V$15:$V$30000,'FORMATO N° 5_XX'!B52,'BD-SOC'!$I$15:$I$30000,'FORMATO N° 5_XX'!$AC$43)+\nCOUNTIFS('BD-SOC'!$X$15:$X$30000,'FORMATO N° 5_XX'!B52,'BD-SOC'!$I$15:$I$30000,'FORMATO N° 5_XX'!$AC$43)+\nCOUNTIFS('BD-SOC'!$Z$15:$Z$30000,'FORMATO N° 5_XX'!B52,'BD-SOC'!$I$15:$I$30000,'FORMATO N° 5_XX'!$AC$43)+\nCOUNTIFS('BD-SOC'!$AB$15:$AB$30000,'FORMATO N° 5_XX'!B52,'BD-SOC'!$I$15:$I$30000,'FORMATO N° 5_XX'!$AC$43)","v":0},{"$f":"COUNTIFS('BD-SOC'!$P$15:$P$30000,'FORMATO N° 5_XX'!B52,'BD-SOC'!$I$15:$I$30000,'FORMATO N° 5_XX'!$AD$43)+\nCOUNTIFS('BD-SOC'!$R$15:$R$30000,'FORMATO N° 5_XX'!B52,'BD-SOC'!$I$15:$I$30000,'FORMATO N° 5_XX'!$AD$43)+\nCOUNTIFS('BD-SOC'!$T$15:$T$30000,'FORMATO N° 5_XX'!B52,'BD-SOC'!$I$15:$I$30000,'FORMATO N° 5_XX'!$AD$43)+\nCOUNTIFS('BD-SOC'!$V$15:$V$30000,'FORMATO N° 5_XX'!B52,'BD-SOC'!$I$15:$I$30000,'FORMATO N° 5_XX'!$AD$43)+\nCOUNTIFS('BD-SOC'!$X$15:$X$30000,'FORMATO N° 5_XX'!B52,'BD-SOC'!$I$15:$I$30000,'FORMATO N° 5_XX'!$AD$43)+\nCOUNTIFS('BD-SOC'!$Z$15:$Z$30000,'FORMATO N° 5_XX'!B52,'BD-SOC'!$I$15:$I$30000,'FORMATO N° 5_XX'!$AD$43)+\nCOUNTIFS('BD-SOC'!$AB$15:$AB$30000,'FORMATO N° 5_XX'!B52,'BD-SOC'!$I$15:$I$30000,'FORMATO N° 5_XX'!$AD$43)","v":0},{"$f":"COUNTIFS('BD-SOC'!$P$15:$P$30000,'FORMATO N° 5_XX'!B52,'BD-SOC'!$I$15:$I$30000,'FORMATO N° 5_XX'!$AE$43)+\nCOUNTIFS('BD-SOC'!$R$15:$R$30000,'FORMATO N° 5_XX'!B52,'BD-SOC'!$I$15:$I$30000,'FORMATO N° 5_XX'!$AE$43)+\nCOUNTIFS('BD-SOC'!$T$15:$T$30000,'FORMATO N° 5_XX'!B52,'BD-SOC'!$I$15:$I$30000,'FORMATO N° 5_XX'!$AE$43)+\nCOUNTIFS('BD-SOC'!$V$15:$V$30000,'FORMATO N° 5_XX'!B52,'BD-SOC'!$I$15:$I$30000,'FORMATO N° 5_XX'!$AE$43)+\nCOUNTIFS('BD-SOC'!$X$15:$X$30000,'FORMATO N° 5_XX'!B52,'BD-SOC'!$I$15:$I$30000,'FORMATO N° 5_XX'!$AE$43)+\nCOUNTIFS('BD-SOC'!$Z$15:$Z$30000,'FORMATO N° 5_XX'!B52,'BD-SOC'!$I$15:$I$30000,'FORMATO N° 5_XX'!$AE$43)+\nCOUNTIFS('BD-SOC'!$AB$15:$AB$30000,'FORMATO N° 5_XX'!B52,'BD-SOC'!$I$15:$I$30000,'FORMATO N° 5_XX'!$AE$43)","v":0}]
[null,107,"INTERVENCIÓN SOCIAL CON LA FAMILIA DEL INTERNO",null,null,null,null,null,{"$error":"#REF!"},{"$f":"COUNTIFS('BD-SOC'!$P$15:$P$30000,'FORMATO N° 5_XX'!B53,'BD-SOC'!#REF!,'FORMATO N° 5_XX'!$J$43)+\nCOUNTIFS('BD-SOC'!$R$15:$R$30000,'FORMATO N° 5_XX'!B53,'BD-SOC'!#REF!,'FORMATO N° 5_XX'!$J$43)+\nCOUNTIFS('BD-SOC'!$T$15:$T$30000,'FORMATO N° 5_XX'!B53,'BD-SOC'!#REF!,'FORMATO N° 5_XX'!$J$43)+\nCOUNTIFS('BD-SOC'!$V$15:$V$30000,'FORMATO N° 5_XX'!B53,'BD-SOC'!#REF!,'FORMATO N° 5_XX'!$J$43)+\nCOUNTIFS('BD-SOC'!$X$15:$X$30000,'FORMATO N° 5_XX'!B53,'BD-SOC'!#REF!,'FORMATO N° 5_XX'!$J$43)+\nCOUNTIFS('BD-SOC'!$Z$15:$Z$30000,'FORMATO N° 5_XX'!B53,'BD-SOC'!#REF!,'FORMATO N° 5_XX'!$J$43)+\nCOUNTIFS('BD-SOC'!$AB$15:$AB$30000,'FORMATO N° 5_XX'!B53,'BD-SOC'!#REF!,'FORMATO N° 5_XX'!$J$43)","v":{"$error":"#REF!"}},{"$f":"COUNTIFS('BD-SOC'!$P$15:$P$30000,'FORMATO N° 5_XX'!B53,'BD-SOC'!#REF!,'FORMATO N° 5_XX'!$K$43)+\nCOUNTIFS('BD-SOC'!$R$15:$R$30000,'FORMATO N° 5_XX'!B53,'BD-SOC'!#REF!,'FORMATO N° 5_XX'!$K$43)+\nCOUNTIFS('BD-SOC'!$T$15:$T$30000,'FORMATO N° 5_XX'!B53,'BD-SOC'!#REF!,'FORMATO N° 5_XX'!$K$43)+\nCOUNTIFS('BD-SOC'!$V$15:$V$30000,'FORMATO N° 5_XX'!B53,'BD-SOC'!#REF!,'FORMATO N° 5_XX'!$K$43)+\nCOUNTIFS('BD-SOC'!$X$15:$X$30000,'FORMATO N° 5_XX'!B53,'BD-SOC'!#REF!,'FORMATO N° 5_XX'!$K$43)+\nCOUNTIFS('BD-SOC'!$Z$15:$Z$30000,'FORMATO N° 5_XX'!B53,'BD-SOC'!#REF!,'FORMATO N° 5_XX'!$K$43)+\nCOUNTIFS('BD-SOC'!$AB$15:$AB$30000,'FORMATO N° 5_XX'!B53,'BD-SOC'!#REF!,'FORMATO N° 5_XX'!$K$43)","v":{"$error":"#REF!"}},{"$f":"COUNTIFS('BD-SOC'!$P$15:$P$30000,'FORMATO N° 5_XX'!B53,'BD-SOC'!#REF!,'FORMATO N° 5_XX'!$L$43)+\nCOUNTIFS('BD-SOC'!$R$15:$R$30000,'FORMATO N° 5_XX'!B53,'BD-SOC'!#REF!,'FORMATO N° 5_XX'!$L$43)+\nCOUNTIFS('BD-SOC'!$T$15:$T$30000,'FORMATO N° 5_XX'!B53,'BD-SOC'!#REF!,'FORMATO N° 5_XX'!$L$43)+\nCOUNTIFS('BD-SOC'!$V$15:$V$30000,'FORMATO N° 5_XX'!B53,'BD-SOC'!#REF!,'FORMATO N° 5_XX'!$L$43)+\nCOUNTIFS('BD-SOC'!$X$15:$X$30000,'FORMATO N° 5_XX'!B53,'BD-SOC'!#REF!,'FORMATO N° 5_XX'!$L$43)+\nCOUNTIFS('BD-SOC'!$Z$15:$Z$30000,'FORMATO N° 5_XX'!B53,'BD-SOC'!#REF!,'FORMATO N° 5_XX'!$L$43)+\nCOUNTIFS('BD-SOC'!$AB$15:$AB$30000,'FORMATO N° 5_XX'!B53,'BD-SOC'!#REF!,'FORMATO N° 5_XX'!$L$43)","v":{"$error":"#REF!"}},{"$f":"COUNTIFS('BD-SOC'!$P$15:$P$30000,'FORMATO N° 5_XX'!B53,'BD-SOC'!#REF!,'FORMATO N° 5_XX'!$M$44)+\nCOUNTIFS('BD-SOC'!$R$15:$R$30000,'FORMATO N° 5_XX'!B53,'BD-SOC'!#REF!,'FORMATO N° 5_XX'!$M$44)+\nCOUNTIFS('BD-SOC'!$T$15:$T$30000,'FORMATO N° 5_XX'!B53,'BD-SOC'!#REF!,'FORMATO N° 5_XX'!$M$44)+\nCOUNTIFS('BD-SOC'!$V$15:$V$30000,'FORMATO N° 5_XX'!B53,'BD-SOC'!#REF!,'FORMATO N° 5_XX'!$M$44)+\nCOUNTIFS('BD-SOC'!$X$15:$X$30000,'FORMATO N° 5_XX'!B53,'BD-SOC'!#REF!,'FORMATO N° 5_XX'!$M$44)+\nCOUNTIFS('BD-SOC'!$Z$15:$Z$30000,'FORMATO N° 5_XX'!B53,'BD-SOC'!#REF!,'FORMATO N° 5_XX'!$M$44)+\nCOUNTIFS('BD-SOC'!$AB$15:$AB$30000,'FORMATO N° 5_XX'!B53,'BD-SOC'!#REF!,'FORMATO N° 5_XX'!$M$44)","v":{"$error":"#REF!"}},{"$f":"COUNTIFS('BD-SOC'!$P$15:$P$30000,'FORMATO N° 5_XX'!B53,'BD-SOC'!#REF!,'FORMATO N° 5_XX'!$N$44)+\nCOUNTIFS('BD-SOC'!$R$15:$R$30000,'FORMATO N° 5_XX'!B53,'BD-SOC'!#REF!,'FORMATO N° 5_XX'!$N$44)+\nCOUNTIFS('BD-SOC'!$T$15:$T$30000,'FORMATO N° 5_XX'!B53,'BD-SOC'!#REF!,'FORMATO N° 5_XX'!$N$44)+\nCOUNTIFS('BD-SOC'!$V$15:$V$30000,'FORMATO N° 5_XX'!B53,'BD-SOC'!#REF!,'FORMATO N° 5_XX'!$N$44)+\nCOUNTIFS('BD-SOC'!$X$15:$X$30000,'FORMATO N° 5_XX'!B53,'BD-SOC'!#REF!,'FORMATO N° 5_XX'!$N$44)+\nCOUNTIFS('BD-SOC'!$Z$15:$Z$30000,'FORMATO N° 5_XX'!B53,'BD-SOC'!#REF!,'FORMATO N° 5_XX'!$N$44)+\nCOUNTIFS('BD-SOC'!$AB$15:$AB$30000,'FORMATO N° 5_XX'!B53,'BD-SOC'!#REF!,'FORMATO N° 5_XX'!$N$44)","v":{"$error":"#REF!"}},{"$f":"COUNTIFS('BD-SOC'!$P$15:$P$30000,'FORMATO N° 5_XX'!B53,'BD-SOC'!#REF!,'FORMATO N° 5_XX'!$O$44)+\nCOUNTIFS('BD-SOC'!$R$15:$R$30000,'FORMATO N° 5_XX'!B53,'BD-SOC'!#REF!,'FORMATO N° 5_XX'!$O$44)+\nCOUNTIFS('BD-SOC'!$T$15:$T$30000,'FORMATO N° 5_XX'!B53,'BD-SOC'!#REF!,'FORMATO N° 5_XX'!$O$44)+\nCOUNTIFS('BD-SOC'!$V$15:$V$30000,'FORMATO N° 5_XX'!B53,'BD-SOC'!#REF!,'FORMATO N° 5_XX'!$O$44)+\nCOUNTIFS('BD-SOC'!$X$15:$X$30000,'FORMATO N° 5_XX'!B53,'BD-SOC'!#REF!,'FORMATO N° 5_XX'!$O$44)+\nCOUNTIFS('BD-SOC'!$Z$15:$Z$30000,'FORMATO N° 5_XX'!B53,'BD-SOC'!#REF!,'FORMATO N° 5_XX'!$O$44)+\nCOUNTIFS('BD-SOC'!$AB$15:$AB$30000,'FORMATO N° 5_XX'!B53,'BD-SOC'!#REF!,'FORMATO N° 5_XX'!$O$44)","v":{"$error":"#REF!"}},{"$f":"COUNTIFS('BD-SOC'!$P$15:$P$30000,'FORMATO N° 5_XX'!B53,'BD-SOC'!#REF!,'FORMATO N° 5_XX'!$P$44)+\nCOUNTIFS('BD-SOC'!$R$15:$R$30000,'FORMATO N° 5_XX'!B53,'BD-SOC'!#REF!,'FORMATO N° 5_XX'!$P$44)+\nCOUNTIFS('BD-SOC'!$T$15:$T$30000,'FORMATO N° 5_XX'!B53,'BD-SOC'!#REF!,'FORMATO N° 5_XX'!$P$44)+\nCOUNTIFS('BD-SOC'!$V$15:$V$30000,'FORMATO N° 5_XX'!B53,'BD-SOC'!#REF!,'FORMATO N° 5_XX'!$P$44)+\nCOUNTIFS('BD-SOC'!$X$15:$X$30000,'FORMATO N° 5_XX'!B53,'BD-SOC'!#REF!,'FORMATO N° 5_XX'!$P$44)+\nCOUNTIFS('BD-SOC'!$Z$15:$Z$30000,'FORMATO N° 5_XX'!B53,'BD-SOC'!#REF!,'FORMATO N° 5_XX'!$P$44)+\nCOUNTIFS('BD-SOC'!$AB$15:$AB$30000,'FORMATO N° 5_XX'!B53,'BD-SOC'!#REF!,'FORMATO N° 5_XX'!$P$44)","v":{"$error":"#REF!"}},{"$f":"COUNTIFS('BD-SOC'!$P$15:$P$30000,'FORMATO N° 5_XX'!B53,'BD-SOC'!#REF!,'FORMATO N° 5_XX'!$Q$44)+\nCOUNTIFS('BD-SOC'!$R$15:$R$30000,'FORMATO N° 5_XX'!B53,'BD-SOC'!#REF!,'FORMATO N° 5_XX'!$Q$44)+\nCOUNTIFS('BD-SOC'!$T$15:$T$30000,'FORMATO N° 5_XX'!B53,'BD-SOC'!#REF!,'FORMATO N° 5_XX'!$Q$44)+\nCOUNTIFS('BD-SOC'!$V$15:$V$30000,'FORMATO N° 5_XX'!B53,'BD-SOC'!#REF!,'FORMATO N° 5_XX'!$Q$44)+\nCOUNTIFS('BD-SOC'!$X$15:$X$30000,'FORMATO N° 5_XX'!B53,'BD-SOC'!#REF!,'FORMATO N° 5_XX'!$Q$44)+\nCOUNTIFS('BD-SOC'!$Z$15:$Z$30000,'FORMATO N° 5_XX'!B53,'BD-SOC'!#REF!,'FORMATO N° 5_XX'!$Q$44)+\nCOUNTIFS('BD-SOC'!$AB$15:$AB$30000,'FORMATO N° 5_XX'!B53,'BD-SOC'!#REF!,'FORMATO N° 5_XX'!$Q$44)","v":{"$error":"#REF!"}},{"$f":"COUNTIFS('BD-SOC'!$P$15:$P$30000,'FORMATO N° 5_XX'!B53,'BD-SOC'!#REF!,'FORMATO N° 5_XX'!$R$44)+\nCOUNTIFS('BD-SOC'!$R$15:$R$30000,'FORMATO N° 5_XX'!B53,'BD-SOC'!#REF!,'FORMATO N° 5_XX'!$R$44)+\nCOUNTIFS('BD-SOC'!$T$15:$T$30000,'FORMATO N° 5_XX'!B53,'BD-SOC'!#REF!,'FORMATO N° 5_XX'!$R$44)+\nCOUNTIFS('BD-SOC'!$V$15:$V$30000,'FORMATO N° 5_XX'!B53,'BD-SOC'!#REF!,'FORMATO N° 5_XX'!$R$44)+\nCOUNTIFS('BD-SOC'!$X$15:$X$30000,'FORMATO N° 5_XX'!B53,'BD-SOC'!#REF!,'FORMATO N° 5_XX'!$R$44)+\nCOUNTIFS('BD-SOC'!$Z$15:$Z$30000,'FORMATO N° 5_XX'!B53,'BD-SOC'!#REF!,'FORMATO N° 5_XX'!$R$44)+\nCOUNTIFS('BD-SOC'!$AB$15:$AB$30000,'FORMATO N° 5_XX'!B53,'BD-SOC'!#REF!,'FORMATO N° 5_XX'!$R$44)","v":{"$error":"#REF!"}},{"$f":"COUNTIFS('BD-SOC'!$P$15:$P$30000,'FORMATO N° 5_XX'!B53,'BD-SOC'!#REF!,'FORMATO N° 5_XX'!$S$43)+\nCOUNTIFS('BD-SOC'!$R$15:$R$30000,'FORMATO N° 5_XX'!B53,'BD-SOC'!#REF!,'FORMATO N° 5_XX'!$S$43)+\nCOUNTIFS('BD-SOC'!$T$15:$T$30000,'FORMATO N° 5_XX'!B53,'BD-SOC'!#REF!,'FORMATO N° 5_XX'!$S$43)+\nCOUNTIFS('BD-SOC'!$V$15:$V$30000,'FORMATO N° 5_XX'!B53,'BD-SOC'!#REF!,'FORMATO N° 5_XX'!$S$43)+\nCOUNTIFS('BD-SOC'!$X$15:$X$30000,'FORMATO N° 5_XX'!B53,'BD-SOC'!#REF!,'FORMATO N° 5_XX'!$S$43)+\nCOUNTIFS('BD-SOC'!$Z$15:$Z$30000,'FORMATO N° 5_XX'!B53,'BD-SOC'!#REF!,'FORMATO N° 5_XX'!$S$43)+\nCOUNTIFS('BD-SOC'!$AB$15:$AB$30000,'FORMATO N° 5_XX'!B53,'BD-SOC'!#REF!,'FORMATO N° 5_XX'!$S$43)","v":{"$error":"#REF!"}},{"$f":"COUNTIFS('BD-SOC'!$P$15:$P$30000,'FORMATO N° 5_XX'!B53,'BD-SOC'!#REF!,'FORMATO N° 5_XX'!$T$43)+\nCOUNTIFS('BD-SOC'!$R$15:$R$30000,'FORMATO N° 5_XX'!B53,'BD-SOC'!#REF!,'FORMATO N° 5_XX'!$T$43)+\nCOUNTIFS('BD-SOC'!$T$15:$T$30000,'FORMATO N° 5_XX'!B53,'BD-SOC'!#REF!,'FORMATO N° 5_XX'!$T$43)+\nCOUNTIFS('BD-SOC'!$V$15:$V$30000,'FORMATO N° 5_XX'!B53,'BD-SOC'!#REF!,'FORMATO N° 5_XX'!$T$43)+\nCOUNTIFS('BD-SOC'!$X$15:$X$30000,'FORMATO N° 5_XX'!B53,'BD-SOC'!#REF!,'FORMATO N° 5_XX'!$T$43)+\nCOUNTIFS('BD-SOC'!$Z$15:$Z$30000,'FORMATO N° 5_XX'!B53,'BD-SOC'!#REF!,'FORMATO N° 5_XX'!$T$43)+\nCOUNTIFS('BD-SOC'!$AB$15:$AB$30000,'FORMATO N° 5_XX'!B53,'BD-SOC'!#REF!,'FORMATO N° 5_XX'!$T$43)","v":{"$error":"#REF!"}},0,{"$f":"COUNTIFS('BD-SOC'!$P$15:$P$30000,'FORMATO N° 5_XX'!B53,'BD-SOC'!$I$15:$I$30000,'FORMATO N° 5_XX'!$V$43)+\nCOUNTIFS('BD-SOC'!$R$15:$R$30000,'FORMATO N° 5_XX'!B53,'BD-SOC'!$I$15:$I$30000,'FORMATO N° 5_XX'!$V$43)+\nCOUNTIFS('BD-SOC'!$T$15:$T$30000,'FORMATO N° 5_XX'!B53,'BD-SOC'!$I$15:$I$30000,'FORMATO N° 5_XX'!$V$43)+\nCOUNTIFS('BD-SOC'!$V$15:$V$30000,'FORMATO N° 5_XX'!B53,'BD-SOC'!$I$15:$I$30000,'FORMATO N° 5_XX'!$V$43)+\nCOUNTIFS('BD-SOC'!$X$15:$X$30000,'FORMATO N° 5_XX'!B53,'BD-SOC'!$I$15:$I$30000,'FORMATO N° 5_XX'!$V$43)+\nCOUNTIFS('BD-SOC'!$Z$15:$Z$30000,'FORMATO N° 5_XX'!B53,'BD-SOC'!$I$15:$I$30000,'FORMATO N° 5_XX'!$V$43)+\nCOUNTIFS('BD-SOC'!$AB$15:$AB$30000,'FORMATO N° 5_XX'!B53,'BD-SOC'!$I$15:$I$30000,'FORMATO N° 5_XX'!$V$43)","v":0},{"$f":"COUNTIFS('BD-SOC'!$P$15:$P$30000,'FORMATO N° 5_XX'!B53,'BD-SOC'!$I$15:$I$30000,'FORMATO N° 5_XX'!$W$43)+\nCOUNTIFS('BD-SOC'!$R$15:$R$30000,'FORMATO N° 5_XX'!B53,'BD-SOC'!$I$15:$I$30000,'FORMATO N° 5_XX'!$W$43)+\nCOUNTIFS('BD-SOC'!$T$15:$T$30000,'FORMATO N° 5_XX'!B53,'BD-SOC'!$I$15:$I$30000,'FORMATO N° 5_XX'!$W$43)+\nCOUNTIFS('BD-SOC'!$V$15:$V$30000,'FORMATO N° 5_XX'!B53,'BD-SOC'!$I$15:$I$30000,'FORMATO N° 5_XX'!$W$43)+\nCOUNTIFS('BD-SOC'!$X$15:$X$30000,'FORMATO N° 5_XX'!B53,'BD-SOC'!$I$15:$I$30000,'FORMATO N° 5_XX'!$W$43)+\nCOUNTIFS('BD-SOC'!$Z$15:$Z$30000,'FORMATO N° 5_XX'!B53,'BD-SOC'!$I$15:$I$30000,'FORMATO N° 5_XX'!$W$43)+\nCOUNTIFS('BD-SOC'!$AB$15:$AB$30000,'FORMATO N° 5_XX'!B53,'BD-SOC'!$I$15:$I$30000,'FORMATO N° 5_XX'!$W$43)","v":0},{"$f":"COUNTIFS('BD-SOC'!$P$15:$P$30000,'FORMATO N° 5_XX'!B53,'BD-SOC'!$I$15:$I$30000,'FORMATO N° 5_XX'!$X$43)+\nCOUNTIFS('BD-SOC'!$R$15:$R$30000,'FORMATO N° 5_XX'!B53,'BD-SOC'!$I$15:$I$30000,'FORMATO N° 5_XX'!$X$43)+\nCOUNTIFS('BD-SOC'!$T$15:$T$30000,'FORMATO N° 5_XX'!B53,'BD-SOC'!$I$15:$I$30000,'FORMATO N° 5_XX'!$X$43)+\nCOUNTIFS('BD-SOC'!$V$15:$V$30000,'FORMATO N° 5_XX'!B53,'BD-SOC'!$I$15:$I$30000,'FORMATO N° 5_XX'!$X$43)+\nCOUNTIFS('BD-SOC'!$X$15:$X$30000,'FORMATO N° 5_XX'!B53,'BD-SOC'!$I$15:$I$30000,'FORMATO N° 5_XX'!$X$43)+\nCOUNTIFS('BD-SOC'!$Z$15:$Z$30000,'FORMATO N° 5_XX'!B53,'BD-SOC'!$I$15:$I$30000,'FORMATO N° 5_XX'!$X$43)+\nCOUNTIFS('BD-SOC'!$AB$15:$AB$30000,'FORMATO N° 5_XX'!B53,'BD-SOC'!$I$15:$I$30000,'FORMATO N° 5_XX'!$X$43)","v":0},{"$f":"COUNTIFS('BD-SOC'!$P$15:$P$30000,'FORMATO N° 5_XX'!B53,'BD-SOC'!$I$15:$I$30000,'FORMATO N° 5_XX'!$Y$43)+\nCOUNTIFS('BD-SOC'!$R$15:$R$30000,'FORMATO N° 5_XX'!B53,'BD-SOC'!$I$15:$I$30000,'FORMATO N° 5_XX'!$Y$43)+\nCOUNTIFS('BD-SOC'!$T$15:$T$30000,'FORMATO N° 5_XX'!B53,'BD-SOC'!$I$15:$I$30000,'FORMATO N° 5_XX'!$Y$43)+\nCOUNTIFS('BD-SOC'!$V$15:$V$30000,'FORMATO N° 5_XX'!B53,'BD-SOC'!$I$15:$I$30000,'FORMATO N° 5_XX'!$Y$43)+\nCOUNTIFS('BD-SOC'!$X$15:$X$30000,'FORMATO N° 5_XX'!B53,'BD-SOC'!$I$15:$I$30000,'FORMATO N° 5_XX'!$Y$43)+\nCOUNTIFS('BD-SOC'!$Z$15:$Z$30000,'FORMATO N° 5_XX'!B53,'BD-SOC'!$I$15:$I$30000,'FORMATO N° 5_XX'!$Y$43)+\nCOUNTIFS('BD-SOC'!$AB$15:$AB$30000,'FORMATO N° 5_XX'!B53,'BD-SOC'!$I$15:$I$30000,'FORMATO N° 5_XX'!$Y$43)","v":0},{"$f":"COUNTIFS('BD-SOC'!$P$15:$P$30000,'FORMATO N° 5_XX'!B53,'BD-SOC'!$I$15:$I$30000,'FORMATO N° 5_XX'!$Z$43)+\nCOUNTIFS('BD-SOC'!$R$15:$R$30000,'FORMATO N° 5_XX'!B53,'BD-SOC'!$I$15:$I$30000,'FORMATO N° 5_XX'!$Z$43)+\nCOUNTIFS('BD-SOC'!$T$15:$T$30000,'FORMATO N° 5_XX'!B53,'BD-SOC'!$I$15:$I$30000,'FORMATO N° 5_XX'!$Z$43)+\nCOUNTIFS('BD-SOC'!$V$15:$V$30000,'FORMATO N° 5_XX'!B53,'BD-SOC'!$I$15:$I$30000,'FORMATO N° 5_XX'!$Z$43)+\nCOUNTIFS('BD-SOC'!$X$15:$X$30000,'FORMATO N° 5_XX'!B53,'BD-SOC'!$I$15:$I$30000,'FORMATO N° 5_XX'!$Z$43)+\nCOUNTIFS('BD-SOC'!$Z$15:$Z$30000,'FORMATO N° 5_XX'!B53,'BD-SOC'!$I$15:$I$30000,'FORMATO N° 5_XX'!$Z$43)+\nCOUNTIFS('BD-SOC'!$AB$15:$AB$30000,'FORMATO N° 5_XX'!B53,'BD-SOC'!$I$15:$I$30000,'FORMATO N° 5_XX'!$Z$43)","v":0},{"$f":"COUNTIFS('BD-SOC'!$P$15:$P$30000,'FORMATO N° 5_XX'!B53,'BD-SOC'!$I$15:$I$30000,'FORMATO N° 5_XX'!$AA$43)+\nCOUNTIFS('BD-SOC'!$R$15:$R$30000,'FORMATO N° 5_XX'!B53,'BD-SOC'!$I$15:$I$30000,'FORMATO N° 5_XX'!$AA$43)+\nCOUNTIFS('BD-SOC'!$T$15:$T$30000,'FORMATO N° 5_XX'!B53,'BD-SOC'!$I$15:$I$30000,'FORMATO N° 5_XX'!$AA$43)+\nCOUNTIFS('BD-SOC'!$V$15:$V$30000,'FORMATO N° 5_XX'!B53,'BD-SOC'!$I$15:$I$30000,'FORMATO N° 5_XX'!$AA$43)+\nCOUNTIFS('BD-SOC'!$X$15:$X$30000,'FORMATO N° 5_XX'!B53,'BD-SOC'!$I$15:$I$30000,'FORMATO N° 5_XX'!$AA$43)+\nCOUNTIFS('BD-SOC'!$Z$15:$Z$30000,'FORMATO N° 5_XX'!B53,'BD-SOC'!$I$15:$I$30000,'FORMATO N° 5_XX'!$AA$43)+\nCOUNTIFS('BD-SOC'!$AB$15:$AB$30000,'FORMATO N° 5_XX'!B53,'BD-SOC'!$I$15:$I$30000,'FORMATO N° 5_XX'!$AA$43)","v":0},{"$f":"COUNTIFS('BD-SOC'!$P$15:$P$30000,'FORMATO N° 5_XX'!B53,'BD-SOC'!$I$15:$I$30000,'FORMATO N° 5_XX'!$AB$43)+\nCOUNTIFS('BD-SOC'!$R$15:$R$30000,'FORMATO N° 5_XX'!B53,'BD-SOC'!$I$15:$I$30000,'FORMATO N° 5_XX'!$AB$43)+\nCOUNTIFS('BD-SOC'!$T$15:$T$30000,'FORMATO N° 5_XX'!B53,'BD-SOC'!$I$15:$I$30000,'FORMATO N° 5_XX'!$AB$43)+\nCOUNTIFS('BD-SOC'!$V$15:$V$30000,'FORMATO N° 5_XX'!B53,'BD-SOC'!$I$15:$I$30000,'FORMATO N° 5_XX'!$AB$43)+\nCOUNTIFS('BD-SOC'!$X$15:$X$30000,'FORMATO N° 5_XX'!B53,'BD-SOC'!$I$15:$I$30000,'FORMATO N° 5_XX'!$AB$43)+\nCOUNTIFS('BD-SOC'!$Z$15:$Z$30000,'FORMATO N° 5_XX'!B53,'BD-SOC'!$I$15:$I$30000,'FORMATO N° 5_XX'!$AB$43)+\nCOUNTIFS('BD-SOC'!$AB$15:$AB$30000,'FORMATO N° 5_XX'!B53,'BD-SOC'!$I$15:$I$30000,'FORMATO N° 5_XX'!$AB$43)","v":0},{"$f":"COUNTIFS('BD-SOC'!$P$15:$P$30000,'FORMATO N° 5_XX'!B53,'BD-SOC'!$I$15:$I$30000,'FORMATO N° 5_XX'!$AC$43)+\nCOUNTIFS('BD-SOC'!$R$15:$R$30000,'FORMATO N° 5_XX'!B53,'BD-SOC'!$I$15:$I$30000,'FORMATO N° 5_XX'!$AC$43)+\nCOUNTIFS('BD-SOC'!$T$15:$T$30000,'FORMATO N° 5_XX'!B53,'BD-SOC'!$I$15:$I$30000,'FORMATO N° 5_XX'!$AC$43)+\nCOUNTIFS('BD-SOC'!$V$15:$V$30000,'FORMATO N° 5_XX'!B53,'BD-SOC'!$I$15:$I$30000,'FORMATO N° 5_XX'!$AC$43)+\nCOUNTIFS('BD-SOC'!$X$15:$X$30000,'FORMATO N° 5_XX'!B53,'BD-SOC'!$I$15:$I$30000,'FORMATO N° 5_XX'!$AC$43)+\nCOUNTIFS('BD-SOC'!$Z$15:$Z$30000,'FORMATO N° 5_XX'!B53,'BD-SOC'!$I$15:$I$30000,'FORMATO N° 5_XX'!$AC$43)+\nCOUNTIFS('BD-SOC'!$AB$15:$AB$30000,'FORMATO N° 5_XX'!B53,'BD-SOC'!$I$15:$I$30000,'FORMATO N° 5_XX'!$AC$43)","v":0},{"$f":"COUNTIFS('BD-SOC'!$P$15:$P$30000,'FORMATO N° 5_XX'!B53,'BD-SOC'!$I$15:$I$30000,'FORMATO N° 5_XX'!$AD$43)+\nCOUNTIFS('BD-SOC'!$R$15:$R$30000,'FORMATO N° 5_XX'!B53,'BD-SOC'!$I$15:$I$30000,'FORMATO N° 5_XX'!$AD$43)+\nCOUNTIFS('BD-SOC'!$T$15:$T$30000,'FORMATO N° 5_XX'!B53,'BD-SOC'!$I$15:$I$30000,'FORMATO N° 5_XX'!$AD$43)+\nCOUNTIFS('BD-SOC'!$V$15:$V$30000,'FORMATO N° 5_XX'!B53,'BD-SOC'!$I$15:$I$30000,'FORMATO N° 5_XX'!$AD$43)+\nCOUNTIFS('BD-SOC'!$X$15:$X$30000,'FORMATO N° 5_XX'!B53,'BD-SOC'!$I$15:$I$30000,'FORMATO N° 5_XX'!$AD$43)+\nCOUNTIFS('BD-SOC'!$Z$15:$Z$30000,'FORMATO N° 5_XX'!B53,'BD-SOC'!$I$15:$I$30000,'FORMATO N° 5_XX'!$AD$43)+\nCOUNTIFS('BD-SOC'!$AB$15:$AB$30000,'FORMATO N° 5_XX'!B53,'BD-SOC'!$I$15:$I$30000,'FORMATO N° 5_XX'!$AD$43)","v":0},{"$f":"COUNTIFS('BD-SOC'!$P$15:$P$30000,'FORMATO N° 5_XX'!B53,'BD-SOC'!$I$15:$I$30000,'FORMATO N° 5_XX'!$AE$43)+\nCOUNTIFS('BD-SOC'!$R$15:$R$30000,'FORMATO N° 5_XX'!B53,'BD-SOC'!$I$15:$I$30000,'FORMATO N° 5_XX'!$AE$43)+\nCOUNTIFS('BD-SOC'!$T$15:$T$30000,'FORMATO N° 5_XX'!B53,'BD-SOC'!$I$15:$I$30000,'FORMATO N° 5_XX'!$AE$43)+\nCOUNTIFS('BD-SOC'!$V$15:$V$30000,'FORMATO N° 5_XX'!B53,'BD-SOC'!$I$15:$I$30000,'FORMATO N° 5_XX'!$AE$43)+\nCOUNTIFS('BD-SOC'!$X$15:$X$30000,'FORMATO N° 5_XX'!B53,'BD-SOC'!$I$15:$I$30000,'FORMATO N° 5_XX'!$AE$43)+\nCOUNTIFS('BD-SOC'!$Z$15:$Z$30000,'FORMATO N° 5_XX'!B53,'BD-SOC'!$I$15:$I$30000,'FORMATO N° 5_XX'!$AE$43)+\nCOUNTIFS('BD-SOC'!$AB$15:$AB$30000,'FORMATO N° 5_XX'!B53,'BD-SOC'!$I$15:$I$30000,'FORMATO N° 5_XX'!$AE$43)","v":0}]
[null,108,"VISITA FAMILIAR DOMICILIARIA",null,null,null,null,null,{"$error":"#REF!"},{"$f":"COUNTIFS('BD-SOC'!$P$15:$P$30000,'FORMATO N° 5_XX'!B54,'BD-SOC'!#REF!,'FORMATO N° 5_XX'!$J$43)+\nCOUNTIFS('BD-SOC'!$R$15:$R$30000,'FORMATO N° 5_XX'!B54,'BD-SOC'!#REF!,'FORMATO N° 5_XX'!$J$43)+\nCOUNTIFS('BD-SOC'!$T$15:$T$30000,'FORMATO N° 5_XX'!B54,'BD-SOC'!#REF!,'FORMATO N° 5_XX'!$J$43)+\nCOUNTIFS('BD-SOC'!$V$15:$V$30000,'FORMATO N° 5_XX'!B54,'BD-SOC'!#REF!,'FORMATO N° 5_XX'!$J$43)+\nCOUNTIFS('BD-SOC'!$X$15:$X$30000,'FORMATO N° 5_XX'!B54,'BD-SOC'!#REF!,'FORMATO N° 5_XX'!$J$43)+\nCOUNTIFS('BD-SOC'!$Z$15:$Z$30000,'FORMATO N° 5_XX'!B54,'BD-SOC'!#REF!,'FORMATO N° 5_XX'!$J$43)+\nCOUNTIFS('BD-SOC'!$AB$15:$AB$30000,'FORMATO N° 5_XX'!B54,'BD-SOC'!#REF!,'FORMATO N° 5_XX'!$J$43)","v":{"$error":"#REF!"}},{"$f":"COUNTIFS('BD-SOC'!$P$15:$P$30000,'FORMATO N° 5_XX'!B54,'BD-SOC'!#REF!,'FORMATO N° 5_XX'!$K$43)+\nCOUNTIFS('BD-SOC'!$R$15:$R$30000,'FORMATO N° 5_XX'!B54,'BD-SOC'!#REF!,'FORMATO N° 5_XX'!$K$43)+\nCOUNTIFS('BD-SOC'!$T$15:$T$30000,'FORMATO N° 5_XX'!B54,'BD-SOC'!#REF!,'FORMATO N° 5_XX'!$K$43)+\nCOUNTIFS('BD-SOC'!$V$15:$V$30000,'FORMATO N° 5_XX'!B54,'BD-SOC'!#REF!,'FORMATO N° 5_XX'!$K$43)+\nCOUNTIFS('BD-SOC'!$X$15:$X$30000,'FORMATO N° 5_XX'!B54,'BD-SOC'!#REF!,'FORMATO N° 5_XX'!$K$43)+\nCOUNTIFS('BD-SOC'!$Z$15:$Z$30000,'FORMATO N° 5_XX'!B54,'BD-SOC'!#REF!,'FORMATO N° 5_XX'!$K$43)+\nCOUNTIFS('BD-SOC'!$AB$15:$AB$30000,'FORMATO N° 5_XX'!B54,'BD-SOC'!#REF!,'FORMATO N° 5_XX'!$K$43)","v":{"$error":"#REF!"}},{"$f":"COUNTIFS('BD-SOC'!$P$15:$P$30000,'FORMATO N° 5_XX'!B54,'BD-SOC'!#REF!,'FORMATO N° 5_XX'!$L$43)+\nCOUNTIFS('BD-SOC'!$R$15:$R$30000,'FORMATO N° 5_XX'!B54,'BD-SOC'!#REF!,'FORMATO N° 5_XX'!$L$43)+\nCOUNTIFS('BD-SOC'!$T$15:$T$30000,'FORMATO N° 5_XX'!B54,'BD-SOC'!#REF!,'FORMATO N° 5_XX'!$L$43)+\nCOUNTIFS('BD-SOC'!$V$15:$V$30000,'FORMATO N° 5_XX'!B54,'BD-SOC'!#REF!,'FORMATO N° 5_XX'!$L$43)+\nCOUNTIFS('BD-SOC'!$X$15:$X$30000,'FORMATO N° 5_XX'!B54,'BD-SOC'!#REF!,'FORMATO N° 5_XX'!$L$43)+\nCOUNTIFS('BD-SOC'!$Z$15:$Z$30000,'FORMATO N° 5_XX'!B54,'BD-SOC'!#REF!,'FORMATO N° 5_XX'!$L$43)+\nCOUNTIFS('BD-SOC'!$AB$15:$AB$30000,'FORMATO N° 5_XX'!B54,'BD-SOC'!#REF!,'FORMATO N° 5_XX'!$L$43)","v":{"$error":"#REF!"}},{"$f":"COUNTIFS('BD-SOC'!$P$15:$P$30000,'FORMATO N° 5_XX'!B54,'BD-SOC'!#REF!,'FORMATO N° 5_XX'!$M$44)+\nCOUNTIFS('BD-SOC'!$R$15:$R$30000,'FORMATO N° 5_XX'!B54,'BD-SOC'!#REF!,'FORMATO N° 5_XX'!$M$44)+\nCOUNTIFS('BD-SOC'!$T$15:$T$30000,'FORMATO N° 5_XX'!B54,'BD-SOC'!#REF!,'FORMATO N° 5_XX'!$M$44)+\nCOUNTIFS('BD-SOC'!$V$15:$V$30000,'FORMATO N° 5_XX'!B54,'BD-SOC'!#REF!,'FORMATO N° 5_XX'!$M$44)+\nCOUNTIFS('BD-SOC'!$X$15:$X$30000,'FORMATO N° 5_XX'!B54,'BD-SOC'!#REF!,'FORMATO N° 5_XX'!$M$44)+\nCOUNTIFS('BD-SOC'!$Z$15:$Z$30000,'FORMATO N° 5_XX'!B54,'BD-SOC'!#REF!,'FORMATO N° 5_XX'!$M$44)+\nCOUNTIFS('BD-SOC'!$AB$15:$AB$30000,'FORMATO N° 5_XX'!B54,'BD-SOC'!#REF!,'FORMATO N° 5_XX'!$M$44)","v":{"$error":"#REF!"}},{"$f":"COUNTIFS('BD-SOC'!$P$15:$P$30000,'FORMATO N° 5_XX'!B54,'BD-SOC'!#REF!,'FORMATO N° 5_XX'!$N$44)+\nCOUNTIFS('BD-SOC'!$R$15:$R$30000,'FORMATO N° 5_XX'!B54,'BD-SOC'!#REF!,'FORMATO N° 5_XX'!$N$44)+\nCOUNTIFS('BD-SOC'!$T$15:$T$30000,'FORMATO N° 5_XX'!B54,'BD-SOC'!#REF!,'FORMATO N° 5_XX'!$N$44)+\nCOUNTIFS('BD-SOC'!$V$15:$V$30000,'FORMATO N° 5_XX'!B54,'BD-SOC'!#REF!,'FORMATO N° 5_XX'!$N$44)+\nCOUNTIFS('BD-SOC'!$X$15:$X$30000,'FORMATO N° 5_XX'!B54,'BD-SOC'!#REF!,'FORMATO N° 5_XX'!$N$44)+\nCOUNTIFS('BD-SOC'!$Z$15:$Z$30000,'FORMATO N° 5_XX'!B54,'BD-SOC'!#REF!,'FORMATO N° 5_XX'!$N$44)+\nCOUNTIFS('BD-SOC'!$AB$15:$AB$30000,'FORMATO N° 5_XX'!B54,'BD-SOC'!#REF!,'FORMATO N° 5_XX'!$N$44)","v":{"$error":"#REF!"}},{"$f":"COUNTIFS('BD-SOC'!$P$15:$P$30000,'FORMATO N° 5_XX'!B54,'BD-SOC'!#REF!,'FORMATO N° 5_XX'!$O$44)+\nCOUNTIFS('BD-SOC'!$R$15:$R$30000,'FORMATO N° 5_XX'!B54,'BD-SOC'!#REF!,'FORMATO N° 5_XX'!$O$44)+\nCOUNTIFS('BD-SOC'!$T$15:$T$30000,'FORMATO N° 5_XX'!B54,'BD-SOC'!#REF!,'FORMATO N° 5_XX'!$O$44)+\nCOUNTIFS('BD-SOC'!$V$15:$V$30000,'FORMATO N° 5_XX'!B54,'BD-SOC'!#REF!,'FORMATO N° 5_XX'!$O$44)+\nCOUNTIFS('BD-SOC'!$X$15:$X$30000,'FORMATO N° 5_XX'!B54,'BD-SOC'!#REF!,'FORMATO N° 5_XX'!$O$44)+\nCOUNTIFS('BD-SOC'!$Z$15:$Z$30000,'FORMATO N° 5_XX'!B54,'BD-SOC'!#REF!,'FORMATO N° 5_XX'!$O$44)+\nCOUNTIFS('BD-SOC'!$AB$15:$AB$30000,'FORMATO N° 5_XX'!B54,'BD-SOC'!#REF!,'FORMATO N° 5_XX'!$O$44)","v":{"$error":"#REF!"}},{"$f":"COUNTIFS('BD-SOC'!$P$15:$P$30000,'FORMATO N° 5_XX'!B54,'BD-SOC'!#REF!,'FORMATO N° 5_XX'!$P$44)+\nCOUNTIFS('BD-SOC'!$R$15:$R$30000,'FORMATO N° 5_XX'!B54,'BD-SOC'!#REF!,'FORMATO N° 5_XX'!$P$44)+\nCOUNTIFS('BD-SOC'!$T$15:$T$30000,'FORMATO N° 5_XX'!B54,'BD-SOC'!#REF!,'FORMATO N° 5_XX'!$P$44)+\nCOUNTIFS('BD-SOC'!$V$15:$V$30000,'FORMATO N° 5_XX'!B54,'BD-SOC'!#REF!,'FORMATO N° 5_XX'!$P$44)+\nCOUNTIFS('BD-SOC'!$X$15:$X$30000,'FORMATO N° 5_XX'!B54,'BD-SOC'!#REF!,'FORMATO N° 5_XX'!$P$44)+\nCOUNTIFS('BD-SOC'!$Z$15:$Z$30000,'FORMATO N° 5_XX'!B54,'BD-SOC'!#REF!,'FORMATO N° 5_XX'!$P$44)+\nCOUNTIFS('BD-SOC'!$AB$15:$AB$30000,'FORMATO N° 5_XX'!B54,'BD-SOC'!#REF!,'FORMATO N° 5_XX'!$P$44)","v":{"$error":"#REF!"}},{"$f":"COUNTIFS('BD-SOC'!$P$15:$P$30000,'FORMATO N° 5_XX'!B54,'BD-SOC'!#REF!,'FORMATO N° 5_XX'!$Q$44)+\nCOUNTIFS('BD-SOC'!$R$15:$R$30000,'FORMATO N° 5_XX'!B54,'BD-SOC'!#REF!,'FORMATO N° 5_XX'!$Q$44)+\nCOUNTIFS('BD-SOC'!$T$15:$T$30000,'FORMATO N° 5_XX'!B54,'BD-SOC'!#REF!,'FORMATO N° 5_XX'!$Q$44)+\nCOUNTIFS('BD-SOC'!$V$15:$V$30000,'FORMATO N° 5_XX'!B54,'BD-SOC'!#REF!,'FORMATO N° 5_XX'!$Q$44)+\nCOUNTIFS('BD-SOC'!$X$15:$X$30000,'FORMATO N° 5_XX'!B54,'BD-SOC'!#REF!,'FORMATO N° 5_XX'!$Q$44)+\nCOUNTIFS('BD-SOC'!$Z$15:$Z$30000,'FORMATO N° 5_XX'!B54,'BD-SOC'!#REF!,'FORMATO N° 5_XX'!$Q$44)+\nCOUNTIFS('BD-SOC'!$AB$15:$AB$30000,'FORMATO N° 5_XX'!B54,'BD-SOC'!#REF!,'FORMATO N° 5_XX'!$Q$44)","v":{"$error":"#REF!"}},{"$f":"COUNTIFS('BD-SOC'!$P$15:$P$30000,'FORMATO N° 5_XX'!B54,'BD-SOC'!#REF!,'FORMATO N° 5_XX'!$R$44)+\nCOUNTIFS('BD-SOC'!$R$15:$R$30000,'FORMATO N° 5_XX'!B54,'BD-SOC'!#REF!,'FORMATO N° 5_XX'!$R$44)+\nCOUNTIFS('BD-SOC'!$T$15:$T$30000,'FORMATO N° 5_XX'!B54,'BD-SOC'!#REF!,'FORMATO N° 5_XX'!$R$44)+\nCOUNTIFS('BD-SOC'!$V$15:$V$30000,'FORMATO N° 5_XX'!B54,'BD-SOC'!#REF!,'FORMATO N° 5_XX'!$R$44)+\nCOUNTIFS('BD-SOC'!$X$15:$X$30000,'FORMATO N° 5_XX'!B54,'BD-SOC'!#REF!,'FORMATO N° 5_XX'!$R$44)+\nCOUNTIFS('BD-SOC'!$Z$15:$Z$30000,'FORMATO N° 5_XX'!B54,'BD-SOC'!#REF!,'FORMATO N° 5_XX'!$R$44)+\nCOUNTIFS('BD-SOC'!$AB$15:$AB$30000,'FORMATO N° 5_XX'!B54,'BD-SOC'!#REF!,'FORMATO N° 5_XX'!$R$44)","v":{"$error":"#REF!"}},{"$f":"COUNTIFS('BD-SOC'!$P$15:$P$30000,'FORMATO N° 5_XX'!B54,'BD-SOC'!#REF!,'FORMATO N° 5_XX'!$S$43)+\nCOUNTIFS('BD-SOC'!$R$15:$R$30000,'FORMATO N° 5_XX'!B54,'BD-SOC'!#REF!,'FORMATO N° 5_XX'!$S$43)+\nCOUNTIFS('BD-SOC'!$T$15:$T$30000,'FORMATO N° 5_XX'!B54,'BD-SOC'!#REF!,'FORMATO N° 5_XX'!$S$43)+\nCOUNTIFS('BD-SOC'!$V$15:$V$30000,'FORMATO N° 5_XX'!B54,'BD-SOC'!#REF!,'FORMATO N° 5_XX'!$S$43)+\nCOUNTIFS('BD-SOC'!$X$15:$X$30000,'FORMATO N° 5_XX'!B54,'BD-SOC'!#REF!,'FORMATO N° 5_XX'!$S$43)+\nCOUNTIFS('BD-SOC'!$Z$15:$Z$30000,'FORMATO N° 5_XX'!B54,'BD-SOC'!#REF!,'FORMATO N° 5_XX'!$S$43)+\nCOUNTIFS('BD-SOC'!$AB$15:$AB$30000,'FORMATO N° 5_XX'!B54,'BD-SOC'!#REF!,'FORMATO N° 5_XX'!$S$43)","v":{"$error":"#REF!"}},{"$f":"COUNTIFS('BD-SOC'!$P$15:$P$30000,'FORMATO N° 5_XX'!B54,'BD-SOC'!#REF!,'FORMATO N° 5_XX'!$T$43)+\nCOUNTIFS('BD-SOC'!$R$15:$R$30000,'FORMATO N° 5_XX'!B54,'BD-SOC'!#REF!,'FORMATO N° 5_XX'!$T$43)+\nCOUNTIFS('BD-SOC'!$T$15:$T$30000,'FORMATO N° 5_XX'!B54,'BD-SOC'!#REF!,'FORMATO N° 5_XX'!$T$43)+\nCOUNTIFS('BD-SOC'!$V$15:$V$30000,'FORMATO N° 5_XX'!B54,'BD-SOC'!#REF!,'FORMATO N° 5_XX'!$T$43)+\nCOUNTIFS('BD-SOC'!$X$15:$X$30000,'FORMATO N° 5_XX'!B54,'BD-SOC'!#REF!,'FORMATO N° 5_XX'!$T$43)+\nCOUNTIFS('BD-SOC'!$Z$15:$Z$30000,'FORMATO N° 5_XX'!B54,'BD-SOC'!#REF!,'FORMATO N° 5_XX'!$T$43)+\nCOUNTIFS('BD-SOC'!$AB$15:$AB$30000,'FORMATO N° 5_XX'!B54,'BD-SOC'!#REF!,'FORMATO N° 5_XX'!$T$43)","v":{"$error":"#REF!"}},0,{"$f":"COUNTIFS('BD-SOC'!$P$15:$P$30000,'FORMATO N° 5_XX'!B54,'BD-SOC'!$I$15:$I$30000,'FORMATO N° 5_XX'!$V$43)+\nCOUNTIFS('BD-SOC'!$R$15:$R$30000,'FORMATO N° 5_XX'!B54,'BD-SOC'!$I$15:$I$30000,'FORMATO N° 5_XX'!$V$43)+\nCOUNTIFS('BD-SOC'!$T$15:$T$30000,'FORMATO N° 5_XX'!B54,'BD-SOC'!$I$15:$I$30000,'FORMATO N° 5_XX'!$V$43)+\nCOUNTIFS('BD-SOC'!$V$15:$V$30000,'FORMATO N° 5_XX'!B54,'BD-SOC'!$I$15:$I$30000,'FORMATO N° 5_XX'!$V$43)+\nCOUNTIFS('BD-SOC'!$X$15:$X$30000,'FORMATO N° 5_XX'!B54,'BD-SOC'!$I$15:$I$30000,'FORMATO N° 5_XX'!$V$43)+\nCOUNTIFS('BD-SOC'!$Z$15:$Z$30000,'FORMATO N° 5_XX'!B54,'BD-SOC'!$I$15:$I$30000,'FORMATO N° 5_XX'!$V$43)+\nCOUNTIFS('BD-SOC'!$AB$15:$AB$30000,'FORMATO N° 5_XX'!B54,'BD-SOC'!$I$15:$I$30000,'FORMATO N° 5_XX'!$V$43)","v":0},{"$f":"COUNTIFS('BD-SOC'!$P$15:$P$30000,'FORMATO N° 5_XX'!B54,'BD-SOC'!$I$15:$I$30000,'FORMATO N° 5_XX'!$W$43)+\nCOUNTIFS('BD-SOC'!$R$15:$R$30000,'FORMATO N° 5_XX'!B54,'BD-SOC'!$I$15:$I$30000,'FORMATO N° 5_XX'!$W$43)+\nCOUNTIFS('BD-SOC'!$T$15:$T$30000,'FORMATO N° 5_XX'!B54,'BD-SOC'!$I$15:$I$30000,'FORMATO N° 5_XX'!$W$43)+\nCOUNTIFS('BD-SOC'!$V$15:$V$30000,'FORMATO N° 5_XX'!B54,'BD-SOC'!$I$15:$I$30000,'FORMATO N° 5_XX'!$W$43)+\nCOUNTIFS('BD-SOC'!$X$15:$X$30000,'FORMATO N° 5_XX'!B54,'BD-SOC'!$I$15:$I$30000,'FORMATO N° 5_XX'!$W$43)+\nCOUNTIFS('BD-SOC'!$Z$15:$Z$30000,'FORMATO N° 5_XX'!B54,'BD-SOC'!$I$15:$I$30000,'FORMATO N° 5_XX'!$W$43)+\nCOUNTIFS('BD-SOC'!$AB$15:$AB$30000,'FORMATO N° 5_XX'!B54,'BD-SOC'!$I$15:$I$30000,'FORMATO N° 5_XX'!$W$43)","v":0},{"$f":"COUNTIFS('BD-SOC'!$P$15:$P$30000,'FORMATO N° 5_XX'!B54,'BD-SOC'!$I$15:$I$30000,'FORMATO N° 5_XX'!$X$43)+\nCOUNTIFS('BD-SOC'!$R$15:$R$30000,'FORMATO N° 5_XX'!B54,'BD-SOC'!$I$15:$I$30000,'FORMATO N° 5_XX'!$X$43)+\nCOUNTIFS('BD-SOC'!$T$15:$T$30000,'FORMATO N° 5_XX'!B54,'BD-SOC'!$I$15:$I$30000,'FORMATO N° 5_XX'!$X$43)+\nCOUNTIFS('BD-SOC'!$V$15:$V$30000,'FORMATO N° 5_XX'!B54,'BD-SOC'!$I$15:$I$30000,'FORMATO N° 5_XX'!$X$43)+\nCOUNTIFS('BD-SOC'!$X$15:$X$30000,'FORMATO N° 5_XX'!B54,'BD-SOC'!$I$15:$I$30000,'FORMATO N° 5_XX'!$X$43)+\nCOUNTIFS('BD-SOC'!$Z$15:$Z$30000,'FORMATO N° 5_XX'!B54,'BD-SOC'!$I$15:$I$30000,'FORMATO N° 5_XX'!$X$43)+\nCOUNTIFS('BD-SOC'!$AB$15:$AB$30000,'FORMATO N° 5_XX'!B54,'BD-SOC'!$I$15:$I$30000,'FORMATO N° 5_XX'!$X$43)","v":0},{"$f":"COUNTIFS('BD-SOC'!$P$15:$P$30000,'FORMATO N° 5_XX'!B54,'BD-SOC'!$I$15:$I$30000,'FORMATO N° 5_XX'!$Y$43)+\nCOUNTIFS('BD-SOC'!$R$15:$R$30000,'FORMATO N° 5_XX'!B54,'BD-SOC'!$I$15:$I$30000,'FORMATO N° 5_XX'!$Y$43)+\nCOUNTIFS('BD-SOC'!$T$15:$T$30000,'FORMATO N° 5_XX'!B54,'BD-SOC'!$I$15:$I$30000,'FORMATO N° 5_XX'!$Y$43)+\nCOUNTIFS('BD-SOC'!$V$15:$V$30000,'FORMATO N° 5_XX'!B54,'BD-SOC'!$I$15:$I$30000,'FORMATO N° 5_XX'!$Y$43)+\nCOUNTIFS('BD-SOC'!$X$15:$X$30000,'FORMATO N° 5_XX'!B54,'BD-SOC'!$I$15:$I$30000,'FORMATO N° 5_XX'!$Y$43)+\nCOUNTIFS('BD-SOC'!$Z$15:$Z$30000,'FORMATO N° 5_XX'!B54,'BD-SOC'!$I$15:$I$30000,'FORMATO N° 5_XX'!$Y$43)+\nCOUNTIFS('BD-SOC'!$AB$15:$AB$30000,'FORMATO N° 5_XX'!B54,'BD-SOC'!$I$15:$I$30000,'FORMATO N° 5_XX'!$Y$43)","v":0},{"$f":"COUNTIFS('BD-SOC'!$P$15:$P$30000,'FORMATO N° 5_XX'!B54,'BD-SOC'!$I$15:$I$30000,'FORMATO N° 5_XX'!$Z$43)+\nCOUNTIFS('BD-SOC'!$R$15:$R$30000,'FORMATO N° 5_XX'!B54,'BD-SOC'!$I$15:$I$30000,'FORMATO N° 5_XX'!$Z$43)+\nCOUNTIFS('BD-SOC'!$T$15:$T$30000,'FORMATO N° 5_XX'!B54,'BD-SOC'!$I$15:$I$30000,'FORMATO N° 5_XX'!$Z$43)+\nCOUNTIFS('BD-SOC'!$V$15:$V$30000,'FORMATO N° 5_XX'!B54,'BD-SOC'!$I$15:$I$30000,'FORMATO N° 5_XX'!$Z$43)+\nCOUNTIFS('BD-SOC'!$X$15:$X$30000,'FORMATO N° 5_XX'!B54,'BD-SOC'!$I$15:$I$30000,'FORMATO N° 5_XX'!$Z$43)+\nCOUNTIFS('BD-SOC'!$Z$15:$Z$30000,'FORMATO N° 5_XX'!B54,'BD-SOC'!$I$15:$I$30000,'FORMATO N° 5_XX'!$Z$43)+\nCOUNTIFS('BD-SOC'!$AB$15:$AB$30000,'FORMATO N° 5_XX'!B54,'BD-SOC'!$I$15:$I$30000,'FORMATO N° 5_XX'!$Z$43)","v":0},{"$f":"COUNTIFS('BD-SOC'!$P$15:$P$30000,'FORMATO N° 5_XX'!B54,'BD-SOC'!$I$15:$I$30000,'FORMATO N° 5_XX'!$AA$43)+\nCOUNTIFS('BD-SOC'!$R$15:$R$30000,'FORMATO N° 5_XX'!B54,'BD-SOC'!$I$15:$I$30000,'FORMATO N° 5_XX'!$AA$43)+\nCOUNTIFS('BD-SOC'!$T$15:$T$30000,'FORMATO N° 5_XX'!B54,'BD-SOC'!$I$15:$I$30000,'FORMATO N° 5_XX'!$AA$43)+\nCOUNTIFS('BD-SOC'!$V$15:$V$30000,'FORMATO N° 5_XX'!B54,'BD-SOC'!$I$15:$I$30000,'FORMATO N° 5_XX'!$AA$43)+\nCOUNTIFS('BD-SOC'!$X$15:$X$30000,'FORMATO N° 5_XX'!B54,'BD-SOC'!$I$15:$I$30000,'FORMATO N° 5_XX'!$AA$43)+\nCOUNTIFS('BD-SOC'!$Z$15:$Z$30000,'FORMATO N° 5_XX'!B54,'BD-SOC'!$I$15:$I$30000,'FORMATO N° 5_XX'!$AA$43)+\nCOUNTIFS('BD-SOC'!$AB$15:$AB$30000,'FORMATO N° 5_XX'!B54,'BD-SOC'!$I$15:$I$30000,'FORMATO N° 5_XX'!$AA$43)","v":0},{"$f":"COUNTIFS('BD-SOC'!$P$15:$P$30000,'FORMATO N° 5_XX'!B54,'BD-SOC'!$I$15:$I$30000,'FORMATO N° 5_XX'!$AB$43)+\nCOUNTIFS('BD-SOC'!$R$15:$R$30000,'FORMATO N° 5_XX'!B54,'BD-SOC'!$I$15:$I$30000,'FORMATO N° 5_XX'!$AB$43)+\nCOUNTIFS('BD-SOC'!$T$15:$T$30000,'FORMATO N° 5_XX'!B54,'BD-SOC'!$I$15:$I$30000,'FORMATO N° 5_XX'!$AB$43)+\nCOUNTIFS('BD-SOC'!$V$15:$V$30000,'FORMATO N° 5_XX'!B54,'BD-SOC'!$I$15:$I$30000,'FORMATO N° 5_XX'!$AB$43)+\nCOUNTIFS('BD-SOC'!$X$15:$X$30000,'FORMATO N° 5_XX'!B54,'BD-SOC'!$I$15:$I$30000,'FORMATO N° 5_XX'!$AB$43)+\nCOUNTIFS('BD-SOC'!$Z$15:$Z$30000,'FORMATO N° 5_XX'!B54,'BD-SOC'!$I$15:$I$30000,'FORMATO N° 5_XX'!$AB$43)+\nCOUNTIFS('BD-SOC'!$AB$15:$AB$30000,'FORMATO N° 5_XX'!B54,'BD-SOC'!$I$15:$I$30000,'FORMATO N° 5_XX'!$AB$43)","v":0},{"$f":"COUNTIFS('BD-SOC'!$P$15:$P$30000,'FORMATO N° 5_XX'!B54,'BD-SOC'!$I$15:$I$30000,'FORMATO N° 5_XX'!$AC$43)+\nCOUNTIFS('BD-SOC'!$R$15:$R$30000,'FORMATO N° 5_XX'!B54,'BD-SOC'!$I$15:$I$30000,'FORMATO N° 5_XX'!$AC$43)+\nCOUNTIFS('BD-SOC'!$T$15:$T$30000,'FORMATO N° 5_XX'!B54,'BD-SOC'!$I$15:$I$30000,'FORMATO N° 5_XX'!$AC$43)+\nCOUNTIFS('BD-SOC'!$V$15:$V$30000,'FORMATO N° 5_XX'!B54,'BD-SOC'!$I$15:$I$30000,'FORMATO N° 5_XX'!$AC$43)+\nCOUNTIFS('BD-SOC'!$X$15:$X$30000,'FORMATO N° 5_XX'!B54,'BD-SOC'!$I$15:$I$30000,'FORMATO N° 5_XX'!$AC$43)+\nCOUNTIFS('BD-SOC'!$Z$15:$Z$30000,'FORMATO N° 5_XX'!B54,'BD-SOC'!$I$15:$I$30000,'FORMATO N° 5_XX'!$AC$43)+\nCOUNTIFS('BD-SOC'!$AB$15:$AB$30000,'FORMATO N° 5_XX'!B54,'BD-SOC'!$I$15:$I$30000,'FORMATO N° 5_XX'!$AC$43)","v":0},{"$f":"COUNTIFS('BD-SOC'!$P$15:$P$30000,'FORMATO N° 5_XX'!B54,'BD-SOC'!$I$15:$I$30000,'FORMATO N° 5_XX'!$AD$43)+\nCOUNTIFS('BD-SOC'!$R$15:$R$30000,'FORMATO N° 5_XX'!B54,'BD-SOC'!$I$15:$I$30000,'FORMATO N° 5_XX'!$AD$43)+\nCOUNTIFS('BD-SOC'!$T$15:$T$30000,'FORMATO N° 5_XX'!B54,'BD-SOC'!$I$15:$I$30000,'FORMATO N° 5_XX'!$AD$43)+\nCOUNTIFS('BD-SOC'!$V$15:$V$30000,'FORMATO N° 5_XX'!B54,'BD-SOC'!$I$15:$I$30000,'FORMATO N° 5_XX'!$AD$43)+\nCOUNTIFS('BD-SOC'!$X$15:$X$30000,'FORMATO N° 5_XX'!B54,'BD-SOC'!$I$15:$I$30000,'FORMATO N° 5_XX'!$AD$43)+\nCOUNTIFS('BD-SOC'!$Z$15:$Z$30000,'FORMATO N° 5_XX'!B54,'BD-SOC'!$I$15:$I$30000,'FORMATO N° 5_XX'!$AD$43)+\nCOUNTIFS('BD-SOC'!$AB$15:$AB$30000,'FORMATO N° 5_XX'!B54,'BD-SOC'!$I$15:$I$30000,'FORMATO N° 5_XX'!$AD$43)","v":0},{"$f":"COUNTIFS('BD-SOC'!$P$15:$P$30000,'FORMATO N° 5_XX'!B54,'BD-SOC'!$I$15:$I$30000,'FORMATO N° 5_XX'!$AE$43)+\nCOUNTIFS('BD-SOC'!$R$15:$R$30000,'FORMATO N° 5_XX'!B54,'BD-SOC'!$I$15:$I$30000,'FORMATO N° 5_XX'!$AE$43)+\nCOUNTIFS('BD-SOC'!$T$15:$T$30000,'FORMATO N° 5_XX'!B54,'BD-SOC'!$I$15:$I$30000,'FORMATO N° 5_XX'!$AE$43)+\nCOUNTIFS('BD-SOC'!$V$15:$V$30000,'FORMATO N° 5_XX'!B54,'BD-SOC'!$I$15:$I$30000,'FORMATO N° 5_XX'!$AE$43)+\nCOUNTIFS('BD-SOC'!$X$15:$X$30000,'FORMATO N° 5_XX'!B54,'BD-SOC'!$I$15:$I$30000,'FORMATO N° 5_XX'!$AE$43)+\nCOUNTIFS('BD-SOC'!$Z$15:$Z$30000,'FORMATO N° 5_XX'!B54,'BD-SOC'!$I$15:$I$30000,'FORMATO N° 5_XX'!$AE$43)+\nCOUNTIFS('BD-SOC'!$AB$15:$AB$30000,'FORMATO N° 5_XX'!B54,'BD-SOC'!$I$15:$I$30000,'FORMATO N° 5_XX'!$AE$43)","v":0}]
[null,109,"VISITA HOSPITALARIA",null,null,null,null,null,{"$error":"#REF!"},{"$f":"COUNTIFS('BD-SOC'!$P$15:$P$30000,'FORMATO N° 5_XX'!B55,'BD-SOC'!#REF!,'FORMATO N° 5_XX'!$J$43)+\nCOUNTIFS('BD-SOC'!$R$15:$R$30000,'FORMATO N° 5_XX'!B55,'BD-SOC'!#REF!,'FORMATO N° 5_XX'!$J$43)+\nCOUNTIFS('BD-SOC'!$T$15:$T$30000,'FORMATO N° 5_XX'!B55,'BD-SOC'!#REF!,'FORMATO N° 5_XX'!$J$43)+\nCOUNTIFS('BD-SOC'!$V$15:$V$30000,'FORMATO N° 5_XX'!B55,'BD-SOC'!#REF!,'FORMATO N° 5_XX'!$J$43)+\nCOUNTIFS('BD-SOC'!$X$15:$X$30000,'FORMATO N° 5_XX'!B55,'BD-SOC'!#REF!,'FORMATO N° 5_XX'!$J$43)+\nCOUNTIFS('BD-SOC'!$Z$15:$Z$30000,'FORMATO N° 5_XX'!B55,'BD-SOC'!#REF!,'FORMATO N° 5_XX'!$J$43)+\nCOUNTIFS('BD-SOC'!$AB$15:$AB$30000,'FORMATO N° 5_XX'!B55,'BD-SOC'!#REF!,'FORMATO N° 5_XX'!$J$43)","v":{"$error":"#REF!"}},{"$f":"COUNTIFS('BD-SOC'!$P$15:$P$30000,'FORMATO N° 5_XX'!B55,'BD-SOC'!#REF!,'FORMATO N° 5_XX'!$K$43)+\nCOUNTIFS('BD-SOC'!$R$15:$R$30000,'FORMATO N° 5_XX'!B55,'BD-SOC'!#REF!,'FORMATO N° 5_XX'!$K$43)+\nCOUNTIFS('BD-SOC'!$T$15:$T$30000,'FORMATO N° 5_XX'!B55,'BD-SOC'!#REF!,'FORMATO N° 5_XX'!$K$43)+\nCOUNTIFS('BD-SOC'!$V$15:$V$30000,'FORMATO N° 5_XX'!B55,'BD-SOC'!#REF!,'FORMATO N° 5_XX'!$K$43)+\nCOUNTIFS('BD-SOC'!$X$15:$X$30000,'FORMATO N° 5_XX'!B55,'BD-SOC'!#REF!,'FORMATO N° 5_XX'!$K$43)+\nCOUNTIFS('BD-SOC'!$Z$15:$Z$30000,'FORMATO N° 5_XX'!B55,'BD-SOC'!#REF!,'FORMATO N° 5_XX'!$K$43)+\nCOUNTIFS('BD-SOC'!$AB$15:$AB$30000,'FORMATO N° 5_XX'!B55,'BD-SOC'!#REF!,'FORMATO N° 5_XX'!$K$43)","v":{"$error":"#REF!"}},{"$f":"COUNTIFS('BD-SOC'!$P$15:$P$30000,'FORMATO N° 5_XX'!B55,'BD-SOC'!#REF!,'FORMATO N° 5_XX'!$L$43)+\nCOUNTIFS('BD-SOC'!$R$15:$R$30000,'FORMATO N° 5_XX'!B55,'BD-SOC'!#REF!,'FORMATO N° 5_XX'!$L$43)+\nCOUNTIFS('BD-SOC'!$T$15:$T$30000,'FORMATO N° 5_XX'!B55,'BD-SOC'!#REF!,'FORMATO N° 5_XX'!$L$43)+\nCOUNTIFS('BD-SOC'!$V$15:$V$30000,'FORMATO N° 5_XX'!B55,'BD-SOC'!#REF!,'FORMATO N° 5_XX'!$L$43)+\nCOUNTIFS('BD-SOC'!$X$15:$X$30000,'FORMATO N° 5_XX'!B55,'BD-SOC'!#REF!,'FORMATO N° 5_XX'!$L$43)+\nCOUNTIFS('BD-SOC'!$Z$15:$Z$30000,'FORMATO N° 5_XX'!B55,'BD-SOC'!#REF!,'FORMATO N° 5_XX'!$L$43)+\nCOUNTIFS('BD-SOC'!$AB$15:$AB$30000,'FORMATO N° 5_XX'!B55,'BD-SOC'!#REF!,'FORMATO N° 5_XX'!$L$43)","v":{"$error":"#REF!"}},{"$f":"COUNTIFS('BD-SOC'!$P$15:$P$30000,'FORMATO N° 5_XX'!B55,'BD-SOC'!#REF!,'FORMATO N° 5_XX'!$M$44)+\nCOUNTIFS('BD-SOC'!$R$15:$R$30000,'FORMATO N° 5_XX'!B55,'BD-SOC'!#REF!,'FORMATO N° 5_XX'!$M$44)+\nCOUNTIFS('BD-SOC'!$T$15:$T$30000,'FORMATO N° 5_XX'!B55,'BD-SOC'!#REF!,'FORMATO N° 5_XX'!$M$44)+\nCOUNTIFS('BD-SOC'!$V$15:$V$30000,'FORMATO N° 5_XX'!B55,'BD-SOC'!#REF!,'FORMATO N° 5_XX'!$M$44)+\nCOUNTIFS('BD-SOC'!$X$15:$X$30000,'FORMATO N° 5_XX'!B55,'BD-SOC'!#REF!,'FORMATO N° 5_XX'!$M$44)+\nCOUNTIFS('BD-SOC'!$Z$15:$Z$30000,'FORMATO N° 5_XX'!B55,'BD-SOC'!#REF!,'FORMATO N° 5_XX'!$M$44)+\nCOUNTIFS('BD-SOC'!$AB$15:$AB$30000,'FORMATO N° 5_XX'!B55,'BD-SOC'!#REF!,'FORMATO N° 5_XX'!$M$44)","v":{"$error":"#REF!"}},{"$f":"COUNTIFS('BD-SOC'!$P$15:$P$30000,'FORMATO N° 5_XX'!B55,'BD-SOC'!#REF!,'FORMATO N° 5_XX'!$N$44)+\nCOUNTIFS('BD-SOC'!$R$15:$R$30000,'FORMATO N° 5_XX'!B55,'BD-SOC'!#REF!,'FORMATO N° 5_XX'!$N$44)+\nCOUNTIFS('BD-SOC'!$T$15:$T$30000,'FORMATO N° 5_XX'!B55,'BD-SOC'!#REF!,'FORMATO N° 5_XX'!$N$44)+\nCOUNTIFS('BD-SOC'!$V$15:$V$30000,'FORMATO N° 5_XX'!B55,'BD-SOC'!#REF!,'FORMATO N° 5_XX'!$N$44)+\nCOUNTIFS('BD-SOC'!$X$15:$X$30000,'FORMATO N° 5_XX'!B55,'BD-SOC'!#REF!,'FORMATO N° 5_XX'!$N$44)+\nCOUNTIFS('BD-SOC'!$Z$15:$Z$30000,'FORMATO N° 5_XX'!B55,'BD-SOC'!#REF!,'FORMATO N° 5_XX'!$N$44)+\nCOUNTIFS('BD-SOC'!$AB$15:$AB$30000,'FORMATO N° 5_XX'!B55,'BD-SOC'!#REF!,'FORMATO N° 5_XX'!$N$44)","v":{"$error":"#REF!"}},{"$f":"COUNTIFS('BD-SOC'!$P$15:$P$30000,'FORMATO N° 5_XX'!B55,'BD-SOC'!#REF!,'FORMATO N° 5_XX'!$O$44)+\nCOUNTIFS('BD-SOC'!$R$15:$R$30000,'FORMATO N° 5_XX'!B55,'BD-SOC'!#REF!,'FORMATO N° 5_XX'!$O$44)+\nCOUNTIFS('BD-SOC'!$T$15:$T$30000,'FORMATO N° 5_XX'!B55,'BD-SOC'!#REF!,'FORMATO N° 5_XX'!$O$44)+\nCOUNTIFS('BD-SOC'!$V$15:$V$30000,'FORMATO N° 5_XX'!B55,'BD-SOC'!#REF!,'FORMATO N° 5_XX'!$O$44)+\nCOUNTIFS('BD-SOC'!$X$15:$X$30000,'FORMATO N° 5_XX'!B55,'BD-SOC'!#REF!,'FORMATO N° 5_XX'!$O$44)+\nCOUNTIFS('BD-SOC'!$Z$15:$Z$30000,'FORMATO N° 5_XX'!B55,'BD-SOC'!#REF!,'FORMATO N° 5_XX'!$O$44)+\nCOUNTIFS('BD-SOC'!$AB$15:$AB$30000,'FORMATO N° 5_XX'!B55,'BD-SOC'!#REF!,'FORMATO N° 5_XX'!$O$44)","v":{"$error":"#REF!"}},{"$f":"COUNTIFS('BD-SOC'!$P$15:$P$30000,'FORMATO N° 5_XX'!B55,'BD-SOC'!#REF!,'FORMATO N° 5_XX'!$P$44)+\nCOUNTIFS('BD-SOC'!$R$15:$R$30000,'FORMATO N° 5_XX'!B55,'BD-SOC'!#REF!,'FORMATO N° 5_XX'!$P$44)+\nCOUNTIFS('BD-SOC'!$T$15:$T$30000,'FORMATO N° 5_XX'!B55,'BD-SOC'!#REF!,'FORMATO N° 5_XX'!$P$44)+\nCOUNTIFS('BD-SOC'!$V$15:$V$30000,'FORMATO N° 5_XX'!B55,'BD-SOC'!#REF!,'FORMATO N° 5_XX'!$P$44)+\nCOUNTIFS('BD-SOC'!$X$15:$X$30000,'FORMATO N° 5_XX'!B55,'BD-SOC'!#REF!,'FORMATO N° 5_XX'!$P$44)+\nCOUNTIFS('BD-SOC'!$Z$15:$Z$30000,'FORMATO N° 5_XX'!B55,'BD-SOC'!#REF!,'FORMATO N° 5_XX'!$P$44)+\nCOUNTIFS('BD-SOC'!$AB$15:$AB$30000,'FORMATO N° 5_XX'!B55,'BD-SOC'!#REF!,'FORMATO N° 5_XX'!$P$44)","v":{"$error":"#REF!"}},{"$f":"COUNTIFS('BD-SOC'!$P$15:$P$30000,'FORMATO N° 5_XX'!B55,'BD-SOC'!#REF!,'FORMATO N° 5_XX'!$Q$44)+\nCOUNTIFS('BD-SOC'!$R$15:$R$30000,'FORMATO N° 5_XX'!B55,'BD-SOC'!#REF!,'FORMATO N° 5_XX'!$Q$44)+\nCOUNTIFS('BD-SOC'!$T$15:$T$30000,'FORMATO N° 5_XX'!B55,'BD-SOC'!#REF!,'FORMATO N° 5_XX'!$Q$44)+\nCOUNTIFS('BD-SOC'!$V$15:$V$30000,'FORMATO N° 5_XX'!B55,'BD-SOC'!#REF!,'FORMATO N° 5_XX'!$Q$44)+\nCOUNTIFS('BD-SOC'!$X$15:$X$30000,'FORMATO N° 5_XX'!B55,'BD-SOC'!#REF!,'FORMATO N° 5_XX'!$Q$44)+\nCOUNTIFS('BD-SOC'!$Z$15:$Z$30000,'FORMATO N° 5_XX'!B55,'BD-SOC'!#REF!,'FORMATO N° 5_XX'!$Q$44)+\nCOUNTIFS('BD-SOC'!$AB$15:$AB$30000,'FORMATO N° 5_XX'!B55,'BD-SOC'!#REF!,'FORMATO N° 5_XX'!$Q$44)","v":{"$error":"#REF!"}},{"$f":"COUNTIFS('BD-SOC'!$P$15:$P$30000,'FORMATO N° 5_XX'!B55,'BD-SOC'!#REF!,'FORMATO N° 5_XX'!$R$44)+\nCOUNTIFS('BD-SOC'!$R$15:$R$30000,'FORMATO N° 5_XX'!B55,'BD-SOC'!#REF!,'FORMATO N° 5_XX'!$R$44)+\nCOUNTIFS('BD-SOC'!$T$15:$T$30000,'FORMATO N° 5_XX'!B55,'BD-SOC'!#REF!,'FORMATO N° 5_XX'!$R$44)+\nCOUNTIFS('BD-SOC'!$V$15:$V$30000,'FORMATO N° 5_XX'!B55,'BD-SOC'!#REF!,'FORMATO N° 5_XX'!$R$44)+\nCOUNTIFS('BD-SOC'!$X$15:$X$30000,'FORMATO N° 5_XX'!B55,'BD-SOC'!#REF!,'FORMATO N° 5_XX'!$R$44)+\nCOUNTIFS('BD-SOC'!$Z$15:$Z$30000,'FORMATO N° 5_XX'!B55,'BD-SOC'!#REF!,'FORMATO N° 5_XX'!$R$44)+\nCOUNTIFS('BD-SOC'!$AB$15:$AB$30000,'FORMATO N° 5_XX'!B55,'BD-SOC'!#REF!,'FORMATO N° 5_XX'!$R$44)","v":{"$error":"#REF!"}},{"$f":"COUNTIFS('BD-SOC'!$P$15:$P$30000,'FORMATO N° 5_XX'!B55,'BD-SOC'!#REF!,'FORMATO N° 5_XX'!$S$43)+\nCOUNTIFS('BD-SOC'!$R$15:$R$30000,'FORMATO N° 5_XX'!B55,'BD-SOC'!#REF!,'FORMATO N° 5_XX'!$S$43)+\nCOUNTIFS('BD-SOC'!$T$15:$T$30000,'FORMATO N° 5_XX'!B55,'BD-SOC'!#REF!,'FORMATO N° 5_XX'!$S$43)+\nCOUNTIFS('BD-SOC'!$V$15:$V$30000,'FORMATO N° 5_XX'!B55,'BD-SOC'!#REF!,'FORMATO N° 5_XX'!$S$43)+\nCOUNTIFS('BD-SOC'!$X$15:$X$30000,'FORMATO N° 5_XX'!B55,'BD-SOC'!#REF!,'FORMATO N° 5_XX'!$S$43)+\nCOUNTIFS('BD-SOC'!$Z$15:$Z$30000,'FORMATO N° 5_XX'!B55,'BD-SOC'!#REF!,'FORMATO N° 5_XX'!$S$43)+\nCOUNTIFS('BD-SOC'!$AB$15:$AB$30000,'FORMATO N° 5_XX'!B55,'BD-SOC'!#REF!,'FORMATO N° 5_XX'!$S$43)","v":{"$error":"#REF!"}},{"$f":"COUNTIFS('BD-SOC'!$P$15:$P$30000,'FORMATO N° 5_XX'!B55,'BD-SOC'!#REF!,'FORMATO N° 5_XX'!$T$43)+\nCOUNTIFS('BD-SOC'!$R$15:$R$30000,'FORMATO N° 5_XX'!B55,'BD-SOC'!#REF!,'FORMATO N° 5_XX'!$T$43)+\nCOUNTIFS('BD-SOC'!$T$15:$T$30000,'FORMATO N° 5_XX'!B55,'BD-SOC'!#REF!,'FORMATO N° 5_XX'!$T$43)+\nCOUNTIFS('BD-SOC'!$V$15:$V$30000,'FORMATO N° 5_XX'!B55,'BD-SOC'!#REF!,'FORMATO N° 5_XX'!$T$43)+\nCOUNTIFS('BD-SOC'!$X$15:$X$30000,'FORMATO N° 5_XX'!B55,'BD-SOC'!#REF!,'FORMATO N° 5_XX'!$T$43)+\nCOUNTIFS('BD-SOC'!$Z$15:$Z$30000,'FORMATO N° 5_XX'!B55,'BD-SOC'!#REF!,'FORMATO N° 5_XX'!$T$43)+\nCOUNTIFS('BD-SOC'!$AB$15:$AB$30000,'FORMATO N° 5_XX'!B55,'BD-SOC'!#REF!,'FORMATO N° 5_XX'!$T$43)","v":{"$error":"#REF!"}},0,{"$f":"COUNTIFS('BD-SOC'!$P$15:$P$30000,'FORMATO N° 5_XX'!B55,'BD-SOC'!$I$15:$I$30000,'FORMATO N° 5_XX'!$V$43)+\nCOUNTIFS('BD-SOC'!$R$15:$R$30000,'FORMATO N° 5_XX'!B55,'BD-SOC'!$I$15:$I$30000,'FORMATO N° 5_XX'!$V$43)+\nCOUNTIFS('BD-SOC'!$T$15:$T$30000,'FORMATO N° 5_XX'!B55,'BD-SOC'!$I$15:$I$30000,'FORMATO N° 5_XX'!$V$43)+\nCOUNTIFS('BD-SOC'!$V$15:$V$30000,'FORMATO N° 5_XX'!B55,'BD-SOC'!$I$15:$I$30000,'FORMATO N° 5_XX'!$V$43)+\nCOUNTIFS('BD-SOC'!$X$15:$X$30000,'FORMATO N° 5_XX'!B55,'BD-SOC'!$I$15:$I$30000,'FORMATO N° 5_XX'!$V$43)+\nCOUNTIFS('BD-SOC'!$Z$15:$Z$30000,'FORMATO N° 5_XX'!B55,'BD-SOC'!$I$15:$I$30000,'FORMATO N° 5_XX'!$V$43)+\nCOUNTIFS('BD-SOC'!$AB$15:$AB$30000,'FORMATO N° 5_XX'!B55,'BD-SOC'!$I$15:$I$30000,'FORMATO N° 5_XX'!$V$43)","v":0},{"$f":"COUNTIFS('BD-SOC'!$P$15:$P$30000,'FORMATO N° 5_XX'!B55,'BD-SOC'!$I$15:$I$30000,'FORMATO N° 5_XX'!$W$43)+\nCOUNTIFS('BD-SOC'!$R$15:$R$30000,'FORMATO N° 5_XX'!B55,'BD-SOC'!$I$15:$I$30000,'FORMATO N° 5_XX'!$W$43)+\nCOUNTIFS('BD-SOC'!$T$15:$T$30000,'FORMATO N° 5_XX'!B55,'BD-SOC'!$I$15:$I$30000,'FORMATO N° 5_XX'!$W$43)+\nCOUNTIFS('BD-SOC'!$V$15:$V$30000,'FORMATO N° 5_XX'!B55,'BD-SOC'!$I$15:$I$30000,'FORMATO N° 5_XX'!$W$43)+\nCOUNTIFS('BD-SOC'!$X$15:$X$30000,'FORMATO N° 5_XX'!B55,'BD-SOC'!$I$15:$I$30000,'FORMATO N° 5_XX'!$W$43)+\nCOUNTIFS('BD-SOC'!$Z$15:$Z$30000,'FORMATO N° 5_XX'!B55,'BD-SOC'!$I$15:$I$30000,'FORMATO N° 5_XX'!$W$43)+\nCOUNTIFS('BD-SOC'!$AB$15:$AB$30000,'FORMATO N° 5_XX'!B55,'BD-SOC'!$I$15:$I$30000,'FORMATO N° 5_XX'!$W$43)","v":0},{"$f":"COUNTIFS('BD-SOC'!$P$15:$P$30000,'FORMATO N° 5_XX'!B55,'BD-SOC'!$I$15:$I$30000,'FORMATO N° 5_XX'!$X$43)+\nCOUNTIFS('BD-SOC'!$R$15:$R$30000,'FORMATO N° 5_XX'!B55,'BD-SOC'!$I$15:$I$30000,'FORMATO N° 5_XX'!$X$43)+\nCOUNTIFS('BD-SOC'!$T$15:$T$30000,'FORMATO N° 5_XX'!B55,'BD-SOC'!$I$15:$I$30000,'FORMATO N° 5_XX'!$X$43)+\nCOUNTIFS('BD-SOC'!$V$15:$V$30000,'FORMATO N° 5_XX'!B55,'BD-SOC'!$I$15:$I$30000,'FORMATO N° 5_XX'!$X$43)+\nCOUNTIFS('BD-SOC'!$X$15:$X$30000,'FORMATO N° 5_XX'!B55,'BD-SOC'!$I$15:$I$30000,'FORMATO N° 5_XX'!$X$43)+\nCOUNTIFS('BD-SOC'!$Z$15:$Z$30000,'FORMATO N° 5_XX'!B55,'BD-SOC'!$I$15:$I$30000,'FORMATO N° 5_XX'!$X$43)+\nCOUNTIFS('BD-SOC'!$AB$15:$AB$30000,'FORMATO N° 5_XX'!B55,'BD-SOC'!$I$15:$I$30000,'FORMATO N° 5_XX'!$X$43)","v":0},{"$f":"COUNTIFS('BD-SOC'!$P$15:$P$30000,'FORMATO N° 5_XX'!B55,'BD-SOC'!$I$15:$I$30000,'FORMATO N° 5_XX'!$Y$43)+\nCOUNTIFS('BD-SOC'!$R$15:$R$30000,'FORMATO N° 5_XX'!B55,'BD-SOC'!$I$15:$I$30000,'FORMATO N° 5_XX'!$Y$43)+\nCOUNTIFS('BD-SOC'!$T$15:$T$30000,'FORMATO N° 5_XX'!B55,'BD-SOC'!$I$15:$I$30000,'FORMATO N° 5_XX'!$Y$43)+\nCOUNTIFS('BD-SOC'!$V$15:$V$30000,'FORMATO N° 5_XX'!B55,'BD-SOC'!$I$15:$I$30000,'FORMATO N° 5_XX'!$Y$43)+\nCOUNTIFS('BD-SOC'!$X$15:$X$30000,'FORMATO N° 5_XX'!B55,'BD-SOC'!$I$15:$I$30000,'FORMATO N° 5_XX'!$Y$43)+\nCOUNTIFS('BD-SOC'!$Z$15:$Z$30000,'FORMATO N° 5_XX'!B55,'BD-SOC'!$I$15:$I$30000,'FORMATO N° 5_XX'!$Y$43)+\nCOUNTIFS('BD-SOC'!$AB$15:$AB$30000,'FORMATO N° 5_XX'!B55,'BD-SOC'!$I$15:$I$30000,'FORMATO N° 5_XX'!$Y$43)","v":0},{"$f":"COUNTIFS('BD-SOC'!$P$15:$P$30000,'FORMATO N° 5_XX'!B55,'BD-SOC'!$I$15:$I$30000,'FORMATO N° 5_XX'!$Z$43)+\nCOUNTIFS('BD-SOC'!$R$15:$R$30000,'FORMATO N° 5_XX'!B55,'BD-SOC'!$I$15:$I$30000,'FORMATO N° 5_XX'!$Z$43)+\nCOUNTIFS('BD-SOC'!$T$15:$T$30000,'FORMATO N° 5_XX'!B55,'BD-SOC'!$I$15:$I$30000,'FORMATO N° 5_XX'!$Z$43)+\nCOUNTIFS('BD-SOC'!$V$15:$V$30000,'FORMATO N° 5_XX'!B55,'BD-SOC'!$I$15:$I$30000,'FORMATO N° 5_XX'!$Z$43)+\nCOUNTIFS('BD-SOC'!$X$15:$X$30000,'FORMATO N° 5_XX'!B55,'BD-SOC'!$I$15:$I$30000,'FORMATO N° 5_XX'!$Z$43)+\nCOUNTIFS('BD-SOC'!$Z$15:$Z$30000,'FORMATO N° 5_XX'!B55,'BD-SOC'!$I$15:$I$30000,'FORMATO N° 5_XX'!$Z$43)+\nCOUNTIFS('BD-SOC'!$AB$15:$AB$30000,'FORMATO N° 5_XX'!B55,'BD-SOC'!$I$15:$I$30000,'FORMATO N° 5_XX'!$Z$43)","v":0},{"$f":"COUNTIFS('BD-SOC'!$P$15:$P$30000,'FORMATO N° 5_XX'!B55,'BD-SOC'!$I$15:$I$30000,'FORMATO N° 5_XX'!$AA$43)+\nCOUNTIFS('BD-SOC'!$R$15:$R$30000,'FORMATO N° 5_XX'!B55,'BD-SOC'!$I$15:$I$30000,'FORMATO N° 5_XX'!$AA$43)+\nCOUNTIFS('BD-SOC'!$T$15:$T$30000,'FORMATO N° 5_XX'!B55,'BD-SOC'!$I$15:$I$30000,'FORMATO N° 5_XX'!$AA$43)+\nCOUNTIFS('BD-SOC'!$V$15:$V$30000,'FORMATO N° 5_XX'!B55,'BD-SOC'!$I$15:$I$30000,'FORMATO N° 5_XX'!$AA$43)+\nCOUNTIFS('BD-SOC'!$X$15:$X$30000,'FORMATO N° 5_XX'!B55,'BD-SOC'!$I$15:$I$30000,'FORMATO N° 5_XX'!$AA$43)+\nCOUNTIFS('BD-SOC'!$Z$15:$Z$30000,'FORMATO N° 5_XX'!B55,'BD-SOC'!$I$15:$I$30000,'FORMATO N° 5_XX'!$AA$43)+\nCOUNTIFS('BD-SOC'!$AB$15:$AB$30000,'FORMATO N° 5_XX'!B55,'BD-SOC'!$I$15:$I$30000,'FORMATO N° 5_XX'!$AA$43)","v":0},{"$f":"COUNTIFS('BD-SOC'!$P$15:$P$30000,'FORMATO N° 5_XX'!B55,'BD-SOC'!$I$15:$I$30000,'FORMATO N° 5_XX'!$AB$43)+\nCOUNTIFS('BD-SOC'!$R$15:$R$30000,'FORMATO N° 5_XX'!B55,'BD-SOC'!$I$15:$I$30000,'FORMATO N° 5_XX'!$AB$43)+\nCOUNTIFS('BD-SOC'!$T$15:$T$30000,'FORMATO N° 5_XX'!B55,'BD-SOC'!$I$15:$I$30000,'FORMATO N° 5_XX'!$AB$43)+\nCOUNTIFS('BD-SOC'!$V$15:$V$30000,'FORMATO N° 5_XX'!B55,'BD-SOC'!$I$15:$I$30000,'FORMATO N° 5_XX'!$AB$43)+\nCOUNTIFS('BD-SOC'!$X$15:$X$30000,'FORMATO N° 5_XX'!B55,'BD-SOC'!$I$15:$I$30000,'FORMATO N° 5_XX'!$AB$43)+\nCOUNTIFS('BD-SOC'!$Z$15:$Z$30000,'FORMATO N° 5_XX'!B55,'BD-SOC'!$I$15:$I$30000,'FORMATO N° 5_XX'!$AB$43)+\nCOUNTIFS('BD-SOC'!$AB$15:$AB$30000,'FORMATO N° 5_XX'!B55,'BD-SOC'!$I$15:$I$30000,'FORMATO N° 5_XX'!$AB$43)","v":0},{"$f":"COUNTIFS('BD-SOC'!$P$15:$P$30000,'FORMATO N° 5_XX'!B55,'BD-SOC'!$I$15:$I$30000,'FORMATO N° 5_XX'!$AC$43)+\nCOUNTIFS('BD-SOC'!$R$15:$R$30000,'FORMATO N° 5_XX'!B55,'BD-SOC'!$I$15:$I$30000,'FORMATO N° 5_XX'!$AC$43)+\nCOUNTIFS('BD-SOC'!$T$15:$T$30000,'FORMATO N° 5_XX'!B55,'BD-SOC'!$I$15:$I$30000,'FORMATO N° 5_XX'!$AC$43)+\nCOUNTIFS('BD-SOC'!$V$15:$V$30000,'FORMATO N° 5_XX'!B55,'BD-SOC'!$I$15:$I$30000,'FORMATO N° 5_XX'!$AC$43)+\nCOUNTIFS('BD-SOC'!$X$15:$X$30000,'FORMATO N° 5_XX'!B55,'BD-SOC'!$I$15:$I$30000,'FORMATO N° 5_XX'!$AC$43)+\nCOUNTIFS('BD-SOC'!$Z$15:$Z$30000,'FORMATO N° 5_XX'!B55,'BD-SOC'!$I$15:$I$30000,'FORMATO N° 5_XX'!$AC$43)+\nCOUNTIFS('BD-SOC'!$AB$15:$AB$30000,'FORMATO N° 5_XX'!B55,'BD-SOC'!$I$15:$I$30000,'FORMATO N° 5_XX'!$AC$43)","v":0},{"$f":"COUNTIFS('BD-SOC'!$P$15:$P$30000,'FORMATO N° 5_XX'!B55,'BD-SOC'!$I$15:$I$30000,'FORMATO N° 5_XX'!$AD$43)+\nCOUNTIFS('BD-SOC'!$R$15:$R$30000,'FORMATO N° 5_XX'!B55,'BD-SOC'!$I$15:$I$30000,'FORMATO N° 5_XX'!$AD$43)+\nCOUNTIFS('BD-SOC'!$T$15:$T$30000,'FORMATO N° 5_XX'!B55,'BD-SOC'!$I$15:$I$30000,'FORMATO N° 5_XX'!$AD$43)+\nCOUNTIFS('BD-SOC'!$V$15:$V$30000,'FORMATO N° 5_XX'!B55,'BD-SOC'!$I$15:$I$30000,'FORMATO N° 5_XX'!$AD$43)+\nCOUNTIFS('BD-SOC'!$X$15:$X$30000,'FORMATO N° 5_XX'!B55,'BD-SOC'!$I$15:$I$30000,'FORMATO N° 5_XX'!$AD$43)+\nCOUNTIFS('BD-SOC'!$Z$15:$Z$30000,'FORMATO N° 5_XX'!B55,'BD-SOC'!$I$15:$I$30000,'FORMATO N° 5_XX'!$AD$43)+\nCOUNTIFS('BD-SOC'!$AB$15:$AB$30000,'FORMATO N° 5_XX'!B55,'BD-SOC'!$I$15:$I$30000,'FORMATO N° 5_XX'!$AD$43)","v":0},{"$f":"COUNTIFS('BD-SOC'!$P$15:$P$30000,'FORMATO N° 5_XX'!B55,'BD-SOC'!$I$15:$I$30000,'FORMATO N° 5_XX'!$AE$43)+\nCOUNTIFS('BD-SOC'!$R$15:$R$30000,'FORMATO N° 5_XX'!B55,'BD-SOC'!$I$15:$I$30000,'FORMATO N° 5_XX'!$AE$43)+\nCOUNTIFS('BD-SOC'!$T$15:$T$30000,'FORMATO N° 5_XX'!B55,'BD-SOC'!$I$15:$I$30000,'FORMATO N° 5_XX'!$AE$43)+\nCOUNTIFS('BD-SOC'!$V$15:$V$30000,'FORMATO N° 5_XX'!B55,'BD-SOC'!$I$15:$I$30000,'FORMATO N° 5_XX'!$AE$43)+\nCOUNTIFS('BD-SOC'!$X$15:$X$30000,'FORMATO N° 5_XX'!B55,'BD-SOC'!$I$15:$I$30000,'FORMATO N° 5_XX'!$AE$43)+\nCOUNTIFS('BD-SOC'!$Z$15:$Z$30000,'FORMATO N° 5_XX'!B55,'BD-SOC'!$I$15:$I$30000,'FORMATO N° 5_XX'!$AE$43)+\nCOUNTIFS('BD-SOC'!$AB$15:$AB$30000,'FORMATO N° 5_XX'!B55,'BD-SOC'!$I$15:$I$30000,'FORMATO N° 5_XX'!$AE$43)","v":0}]
["INFORMES",201,"INFORME DE SEMILIBERTAD",null,null,null,null,null,{"$error":"#REF!"},{"$f":"COUNTIFS('BD-SOC'!$P$15:$P$30000,'FORMATO N° 5_XX'!B56,'BD-SOC'!#REF!,'FORMATO N° 5_XX'!$J$43)+\nCOUNTIFS('BD-SOC'!$R$15:$R$30000,'FORMATO N° 5_XX'!B56,'BD-SOC'!#REF!,'FORMATO N° 5_XX'!$J$43)+\nCOUNTIFS('BD-SOC'!$T$15:$T$30000,'FORMATO N° 5_XX'!B56,'BD-SOC'!#REF!,'FORMATO N° 5_XX'!$J$43)+\nCOUNTIFS('BD-SOC'!$V$15:$V$30000,'FORMATO N° 5_XX'!B56,'BD-SOC'!#REF!,'FORMATO N° 5_XX'!$J$43)+\nCOUNTIFS('BD-SOC'!$X$15:$X$30000,'FORMATO N° 5_XX'!B56,'BD-SOC'!#REF!,'FORMATO N° 5_XX'!$J$43)+\nCOUNTIFS('BD-SOC'!$Z$15:$Z$30000,'FORMATO N° 5_XX'!B56,'BD-SOC'!#REF!,'FORMATO N° 5_XX'!$J$43)+\nCOUNTIFS('BD-SOC'!$AB$15:$AB$30000,'FORMATO N° 5_XX'!B56,'BD-SOC'!#REF!,'FORMATO N° 5_XX'!$J$43)","v":{"$error":"#REF!"}},{"$f":"COUNTIFS('BD-SOC'!$P$15:$P$30000,'FORMATO N° 5_XX'!B56,'BD-SOC'!#REF!,'FORMATO N° 5_XX'!$K$43)+\nCOUNTIFS('BD-SOC'!$R$15:$R$30000,'FORMATO N° 5_XX'!B56,'BD-SOC'!#REF!,'FORMATO N° 5_XX'!$K$43)+\nCOUNTIFS('BD-SOC'!$T$15:$T$30000,'FORMATO N° 5_XX'!B56,'BD-SOC'!#REF!,'FORMATO N° 5_XX'!$K$43)+\nCOUNTIFS('BD-SOC'!$V$15:$V$30000,'FORMATO N° 5_XX'!B56,'BD-SOC'!#REF!,'FORMATO N° 5_XX'!$K$43)+\nCOUNTIFS('BD-SOC'!$X$15:$X$30000,'FORMATO N° 5_XX'!B56,'BD-SOC'!#REF!,'FORMATO N° 5_XX'!$K$43)+\nCOUNTIFS('BD-SOC'!$Z$15:$Z$30000,'FORMATO N° 5_XX'!B56,'BD-SOC'!#REF!,'FORMATO N° 5_XX'!$K$43)+\nCOUNTIFS('BD-SOC'!$AB$15:$AB$30000,'FORMATO N° 5_XX'!B56,'BD-SOC'!#REF!,'FORMATO N° 5_XX'!$K$43)","v":{"$error":"#REF!"}},{"$f":"COUNTIFS('BD-SOC'!$P$15:$P$30000,'FORMATO N° 5_XX'!B56,'BD-SOC'!#REF!,'FORMATO N° 5_XX'!$L$43)+\nCOUNTIFS('BD-SOC'!$R$15:$R$30000,'FORMATO N° 5_XX'!B56,'BD-SOC'!#REF!,'FORMATO N° 5_XX'!$L$43)+\nCOUNTIFS('BD-SOC'!$T$15:$T$30000,'FORMATO N° 5_XX'!B56,'BD-SOC'!#REF!,'FORMATO N° 5_XX'!$L$43)+\nCOUNTIFS('BD-SOC'!$V$15:$V$30000,'FORMATO N° 5_XX'!B56,'BD-SOC'!#REF!,'FORMATO N° 5_XX'!$L$43)+\nCOUNTIFS('BD-SOC'!$X$15:$X$30000,'FORMATO N° 5_XX'!B56,'BD-SOC'!#REF!,'FORMATO N° 5_XX'!$L$43)+\nCOUNTIFS('BD-SOC'!$Z$15:$Z$30000,'FORMATO N° 5_XX'!B56,'BD-SOC'!#REF!,'FORMATO N° 5_XX'!$L$43)+\nCOUNTIFS('BD-SOC'!$AB$15:$AB$30000,'FORMATO N° 5_XX'!B56,'BD-SOC'!#REF!,'FORMATO N° 5_XX'!$L$43)","v":{"$error":"#REF!"}},{"$f":"COUNTIFS('BD-SOC'!$P$15:$P$30000,'FORMATO N° 5_XX'!B56,'BD-SOC'!#REF!,'FORMATO N° 5_XX'!$M$44)+\nCOUNTIFS('BD-SOC'!$R$15:$R$30000,'FORMATO N° 5_XX'!B56,'BD-SOC'!#REF!,'FORMATO N° 5_XX'!$M$44)+\nCOUNTIFS('BD-SOC'!$T$15:$T$30000,'FORMATO N° 5_XX'!B56,'BD-SOC'!#REF!,'FORMATO N° 5_XX'!$M$44)+\nCOUNTIFS('BD-SOC'!$V$15:$V$30000,'FORMATO N° 5_XX'!B56,'BD-SOC'!#REF!,'FORMATO N° 5_XX'!$M$44)+\nCOUNTIFS('BD-SOC'!$X$15:$X$30000,'FORMATO N° 5_XX'!B56,'BD-SOC'!#REF!,'FORMATO N° 5_XX'!$M$44)+\nCOUNTIFS('BD-SOC'!$Z$15:$Z$30000,'FORMATO N° 5_XX'!B56,'BD-SOC'!#REF!,'FORMATO N° 5_XX'!$M$44)+\nCOUNTIFS('BD-SOC'!$AB$15:$AB$30000,'FORMATO N° 5_XX'!B56,'BD-SOC'!#REF!,'FORMATO N° 5_XX'!$M$44)","v":{"$error":"#REF!"}},{"$f":"COUNTIFS('BD-SOC'!$P$15:$P$30000,'FORMATO N° 5_XX'!B56,'BD-SOC'!#REF!,'FORMATO N° 5_XX'!$N$44)+\nCOUNTIFS('BD-SOC'!$R$15:$R$30000,'FORMATO N° 5_XX'!B56,'BD-SOC'!#REF!,'FORMATO N° 5_XX'!$N$44)+\nCOUNTIFS('BD-SOC'!$T$15:$T$30000,'FORMATO N° 5_XX'!B56,'BD-SOC'!#REF!,'FORMATO N° 5_XX'!$N$44)+\nCOUNTIFS('BD-SOC'!$V$15:$V$30000,'FORMATO N° 5_XX'!B56,'BD-SOC'!#REF!,'FORMATO N° 5_XX'!$N$44)+\nCOUNTIFS('BD-SOC'!$X$15:$X$30000,'FORMATO N° 5_XX'!B56,'BD-SOC'!#REF!,'FORMATO N° 5_XX'!$N$44)+\nCOUNTIFS('BD-SOC'!$Z$15:$Z$30000,'FORMATO N° 5_XX'!B56,'BD-SOC'!#REF!,'FORMATO N° 5_XX'!$N$44)+\nCOUNTIFS('BD-SOC'!$AB$15:$AB$30000,'FORMATO N° 5_XX'!B56,'BD-SOC'!#REF!,'FORMATO N° 5_XX'!$N$44)","v":{"$error":"#REF!"}},{"$f":"COUNTIFS('BD-SOC'!$P$15:$P$30000,'FORMATO N° 5_XX'!B56,'BD-SOC'!#REF!,'FORMATO N° 5_XX'!$O$44)+\nCOUNTIFS('BD-SOC'!$R$15:$R$30000,'FORMATO N° 5_XX'!B56,'BD-SOC'!#REF!,'FORMATO N° 5_XX'!$O$44)+\nCOUNTIFS('BD-SOC'!$T$15:$T$30000,'FORMATO N° 5_XX'!B56,'BD-SOC'!#REF!,'FORMATO N° 5_XX'!$O$44)+\nCOUNTIFS('BD-SOC'!$V$15:$V$30000,'FORMATO N° 5_XX'!B56,'BD-SOC'!#REF!,'FORMATO N° 5_XX'!$O$44)+\nCOUNTIFS('BD-SOC'!$X$15:$X$30000,'FORMATO N° 5_XX'!B56,'BD-SOC'!#REF!,'FORMATO N° 5_XX'!$O$44)+\nCOUNTIFS('BD-SOC'!$Z$15:$Z$30000,'FORMATO N° 5_XX'!B56,'BD-SOC'!#REF!,'FORMATO N° 5_XX'!$O$44)+\nCOUNTIFS('BD-SOC'!$AB$15:$AB$30000,'FORMATO N° 5_XX'!B56,'BD-SOC'!#REF!,'FORMATO N° 5_XX'!$O$44)","v":{"$error":"#REF!"}},{"$f":"COUNTIFS('BD-SOC'!$P$15:$P$30000,'FORMATO N° 5_XX'!B56,'BD-SOC'!#REF!,'FORMATO N° 5_XX'!$P$44)+\nCOUNTIFS('BD-SOC'!$R$15:$R$30000,'FORMATO N° 5_XX'!B56,'BD-SOC'!#REF!,'FORMATO N° 5_XX'!$P$44)+\nCOUNTIFS('BD-SOC'!$T$15:$T$30000,'FORMATO N° 5_XX'!B56,'BD-SOC'!#REF!,'FORMATO N° 5_XX'!$P$44)+\nCOUNTIFS('BD-SOC'!$V$15:$V$30000,'FORMATO N° 5_XX'!B56,'BD-SOC'!#REF!,'FORMATO N° 5_XX'!$P$44)+\nCOUNTIFS('BD-SOC'!$X$15:$X$30000,'FORMATO N° 5_XX'!B56,'BD-SOC'!#REF!,'FORMATO N° 5_XX'!$P$44)+\nCOUNTIFS('BD-SOC'!$Z$15:$Z$30000,'FORMATO N° 5_XX'!B56,'BD-SOC'!#REF!,'FORMATO N° 5_XX'!$P$44)+\nCOUNTIFS('BD-SOC'!$AB$15:$AB$30000,'FORMATO N° 5_XX'!B56,'BD-SOC'!#REF!,'FORMATO N° 5_XX'!$P$44)","v":{"$error":"#REF!"}},{"$f":"COUNTIFS('BD-SOC'!$P$15:$P$30000,'FORMATO N° 5_XX'!B56,'BD-SOC'!#REF!,'FORMATO N° 5_XX'!$Q$44)+\nCOUNTIFS('BD-SOC'!$R$15:$R$30000,'FORMATO N° 5_XX'!B56,'BD-SOC'!#REF!,'FORMATO N° 5_XX'!$Q$44)+\nCOUNTIFS('BD-SOC'!$T$15:$T$30000,'FORMATO N° 5_XX'!B56,'BD-SOC'!#REF!,'FORMATO N° 5_XX'!$Q$44)+\nCOUNTIFS('BD-SOC'!$V$15:$V$30000,'FORMATO N° 5_XX'!B56,'BD-SOC'!#REF!,'FORMATO N° 5_XX'!$Q$44)+\nCOUNTIFS('BD-SOC'!$X$15:$X$30000,'FORMATO N° 5_XX'!B56,'BD-SOC'!#REF!,'FORMATO N° 5_XX'!$Q$44)+\nCOUNTIFS('BD-SOC'!$Z$15:$Z$30000,'FORMATO N° 5_XX'!B56,'BD-SOC'!#REF!,'FORMATO N° 5_XX'!$Q$44)+\nCOUNTIFS('BD-SOC'!$AB$15:$AB$30000,'FORMATO N° 5_XX'!B56,'BD-SOC'!#REF!,'FORMATO N° 5_XX'!$Q$44)","v":{"$error":"#REF!"}},{"$f":"COUNTIFS('BD-SOC'!$P$15:$P$30000,'FORMATO N° 5_XX'!B56,'BD-SOC'!#REF!,'FORMATO N° 5_XX'!$R$44)+\nCOUNTIFS('BD-SOC'!$R$15:$R$30000,'FORMATO N° 5_XX'!B56,'BD-SOC'!#REF!,'FORMATO N° 5_XX'!$R$44)+\nCOUNTIFS('BD-SOC'!$T$15:$T$30000,'FORMATO N° 5_XX'!B56,'BD-SOC'!#REF!,'FORMATO N° 5_XX'!$R$44)+\nCOUNTIFS('BD-SOC'!$V$15:$V$30000,'FORMATO N° 5_XX'!B56,'BD-SOC'!#REF!,'FORMATO N° 5_XX'!$R$44)+\nCOUNTIFS('BD-SOC'!$X$15:$X$30000,'FORMATO N° 5_XX'!B56,'BD-SOC'!#REF!,'FORMATO N° 5_XX'!$R$44)+\nCOUNTIFS('BD-SOC'!$Z$15:$Z$30000,'FORMATO N° 5_XX'!B56,'BD-SOC'!#REF!,'FORMATO N° 5_XX'!$R$44)+\nCOUNTIFS('BD-SOC'!$AB$15:$AB$30000,'FORMATO N° 5_XX'!B56,'BD-SOC'!#REF!,'FORMATO N° 5_XX'!$R$44)","v":{"$error":"#REF!"}},{"$f":"COUNTIFS('BD-SOC'!$P$15:$P$30000,'FORMATO N° 5_XX'!B56,'BD-SOC'!#REF!,'FORMATO N° 5_XX'!$S$43)+\nCOUNTIFS('BD-SOC'!$R$15:$R$30000,'FORMATO N° 5_XX'!B56,'BD-SOC'!#REF!,'FORMATO N° 5_XX'!$S$43)+\nCOUNTIFS('BD-SOC'!$T$15:$T$30000,'FORMATO N° 5_XX'!B56,'BD-SOC'!#REF!,'FORMATO N° 5_XX'!$S$43)+\nCOUNTIFS('BD-SOC'!$V$15:$V$30000,'FORMATO N° 5_XX'!B56,'BD-SOC'!#REF!,'FORMATO N° 5_XX'!$S$43)+\nCOUNTIFS('BD-SOC'!$X$15:$X$30000,'FORMATO N° 5_XX'!B56,'BD-SOC'!#REF!,'FORMATO N° 5_XX'!$S$43)+\nCOUNTIFS('BD-SOC'!$Z$15:$Z$30000,'FORMATO N° 5_XX'!B56,'BD-SOC'!#REF!,'FORMATO N° 5_XX'!$S$43)+\nCOUNTIFS('BD-SOC'!$AB$15:$AB$30000,'FORMATO N° 5_XX'!B56,'BD-SOC'!#REF!,'FORMATO N° 5_XX'!$S$43)","v":{"$error":"#REF!"}},{"$f":"COUNTIFS('BD-SOC'!$P$15:$P$30000,'FORMATO N° 5_XX'!B56,'BD-SOC'!#REF!,'FORMATO N° 5_XX'!$T$43)+\nCOUNTIFS('BD-SOC'!$R$15:$R$30000,'FORMATO N° 5_XX'!B56,'BD-SOC'!#REF!,'FORMATO N° 5_XX'!$T$43)+\nCOUNTIFS('BD-SOC'!$T$15:$T$30000,'FORMATO N° 5_XX'!B56,'BD-SOC'!#REF!,'FORMATO N° 5_XX'!$T$43)+\nCOUNTIFS('BD-SOC'!$V$15:$V$30000,'FORMATO N° 5_XX'!B56,'BD-SOC'!#REF!,'FORMATO N° 5_XX'!$T$43)+\nCOUNTIFS('BD-SOC'!$X$15:$X$30000,'FORMATO N° 5_XX'!B56,'BD-SOC'!#REF!,'FORMATO N° 5_XX'!$T$43)+\nCOUNTIFS('BD-SOC'!$Z$15:$Z$30000,'FORMATO N° 5_XX'!B56,'BD-SOC'!#REF!,'FORMATO N° 5_XX'!$T$43)+\nCOUNTIFS('BD-SOC'!$AB$15:$AB$30000,'FORMATO N° 5_XX'!B56,'BD-SOC'!#REF!,'FORMATO N° 5_XX'!$T$43)","v":{"$error":"#REF!"}},0,{"$f":"COUNTIFS('BD-SOC'!$P$15:$P$30000,'FORMATO N° 5_XX'!B56,'BD-SOC'!$I$15:$I$30000,'FORMATO N° 5_XX'!$V$43)+\nCOUNTIFS('BD-SOC'!$R$15:$R$30000,'FORMATO N° 5_XX'!B56,'BD-SOC'!$I$15:$I$30000,'FORMATO N° 5_XX'!$V$43)+\nCOUNTIFS('BD-SOC'!$T$15:$T$30000,'FORMATO N° 5_XX'!B56,'BD-SOC'!$I$15:$I$30000,'FORMATO N° 5_XX'!$V$43)+\nCOUNTIFS('BD-SOC'!$V$15:$V$30000,'FORMATO N° 5_XX'!B56,'BD-SOC'!$I$15:$I$30000,'FORMATO N° 5_XX'!$V$43)+\nCOUNTIFS('BD-SOC'!$X$15:$X$30000,'FORMATO N° 5_XX'!B56,'BD-SOC'!$I$15:$I$30000,'FORMATO N° 5_XX'!$V$43)+\nCOUNTIFS('BD-SOC'!$Z$15:$Z$30000,'FORMATO N° 5_XX'!B56,'BD-SOC'!$I$15:$I$30000,'FORMATO N° 5_XX'!$V$43)+\nCOUNTIFS('BD-SOC'!$AB$15:$AB$30000,'FORMATO N° 5_XX'!B56,'BD-SOC'!$I$15:$I$30000,'FORMATO N° 5_XX'!$V$43)","v":0},{"$f":"COUNTIFS('BD-SOC'!$P$15:$P$30000,'FORMATO N° 5_XX'!B56,'BD-SOC'!$I$15:$I$30000,'FORMATO N° 5_XX'!$W$43)+\nCOUNTIFS('BD-SOC'!$R$15:$R$30000,'FORMATO N° 5_XX'!B56,'BD-SOC'!$I$15:$I$30000,'FORMATO N° 5_XX'!$W$43)+\nCOUNTIFS('BD-SOC'!$T$15:$T$30000,'FORMATO N° 5_XX'!B56,'BD-SOC'!$I$15:$I$30000,'FORMATO N° 5_XX'!$W$43)+\nCOUNTIFS('BD-SOC'!$V$15:$V$30000,'FORMATO N° 5_XX'!B56,'BD-SOC'!$I$15:$I$30000,'FORMATO N° 5_XX'!$W$43)+\nCOUNTIFS('BD-SOC'!$X$15:$X$30000,'FORMATO N° 5_XX'!B56,'BD-SOC'!$I$15:$I$30000,'FORMATO N° 5_XX'!$W$43)+\nCOUNTIFS('BD-SOC'!$Z$15:$Z$30000,'FORMATO N° 5_XX'!B56,'BD-SOC'!$I$15:$I$30000,'FORMATO N° 5_XX'!$W$43)+\nCOUNTIFS('BD-SOC'!$AB$15:$AB$30000,'FORMATO N° 5_XX'!B56,'BD-SOC'!$I$15:$I$30000,'FORMATO N° 5_XX'!$W$43)","v":0},{"$f":"COUNTIFS('BD-SOC'!$P$15:$P$30000,'FORMATO N° 5_XX'!B56,'BD-SOC'!$I$15:$I$30000,'FORMATO N° 5_XX'!$X$43)+\nCOUNTIFS('BD-SOC'!$R$15:$R$30000,'FORMATO N° 5_XX'!B56,'BD-SOC'!$I$15:$I$30000,'FORMATO N° 5_XX'!$X$43)+\nCOUNTIFS('BD-SOC'!$T$15:$T$30000,'FORMATO N° 5_XX'!B56,'BD-SOC'!$I$15:$I$30000,'FORMATO N° 5_XX'!$X$43)+\nCOUNTIFS('BD-SOC'!$V$15:$V$30000,'FORMATO N° 5_XX'!B56,'BD-SOC'!$I$15:$I$30000,'FORMATO N° 5_XX'!$X$43)+\nCOUNTIFS('BD-SOC'!$X$15:$X$30000,'FORMATO N° 5_XX'!B56,'BD-SOC'!$I$15:$I$30000,'FORMATO N° 5_XX'!$X$43)+\nCOUNTIFS('BD-SOC'!$Z$15:$Z$30000,'FORMATO N° 5_XX'!B56,'BD-SOC'!$I$15:$I$30000,'FORMATO N° 5_XX'!$X$43)+\nCOUNTIFS('BD-SOC'!$AB$15:$AB$30000,'FORMATO N° 5_XX'!B56,'BD-SOC'!$I$15:$I$30000,'FORMATO N° 5_XX'!$X$43)","v":0},{"$f":"COUNTIFS('BD-SOC'!$P$15:$P$30000,'FORMATO N° 5_XX'!B56,'BD-SOC'!$I$15:$I$30000,'FORMATO N° 5_XX'!$Y$43)+\nCOUNTIFS('BD-SOC'!$R$15:$R$30000,'FORMATO N° 5_XX'!B56,'BD-SOC'!$I$15:$I$30000,'FORMATO N° 5_XX'!$Y$43)+\nCOUNTIFS('BD-SOC'!$T$15:$T$30000,'FORMATO N° 5_XX'!B56,'BD-SOC'!$I$15:$I$30000,'FORMATO N° 5_XX'!$Y$43)+\nCOUNTIFS('BD-SOC'!$V$15:$V$30000,'FORMATO N° 5_XX'!B56,'BD-SOC'!$I$15:$I$30000,'FORMATO N° 5_XX'!$Y$43)+\nCOUNTIFS('BD-SOC'!$X$15:$X$30000,'FORMATO N° 5_XX'!B56,'BD-SOC'!$I$15:$I$30000,'FORMATO N° 5_XX'!$Y$43)+\nCOUNTIFS('BD-SOC'!$Z$15:$Z$30000,'FORMATO N° 5_XX'!B56,'BD-SOC'!$I$15:$I$30000,'FORMATO N° 5_XX'!$Y$43)+\nCOUNTIFS('BD-SOC'!$AB$15:$AB$30000,'FORMATO N° 5_XX'!B56,'BD-SOC'!$I$15:$I$30000,'FORMATO N° 5_XX'!$Y$43)","v":0},{"$f":"COUNTIFS('BD-SOC'!$P$15:$P$30000,'FORMATO N° 5_XX'!B56,'BD-SOC'!$I$15:$I$30000,'FORMATO N° 5_XX'!$Z$43)+\nCOUNTIFS('BD-SOC'!$R$15:$R$30000,'FORMATO N° 5_XX'!B56,'BD-SOC'!$I$15:$I$30000,'FORMATO N° 5_XX'!$Z$43)+\nCOUNTIFS('BD-SOC'!$T$15:$T$30000,'FORMATO N° 5_XX'!B56,'BD-SOC'!$I$15:$I$30000,'FORMATO N° 5_XX'!$Z$43)+\nCOUNTIFS('BD-SOC'!$V$15:$V$30000,'FORMATO N° 5_XX'!B56,'BD-SOC'!$I$15:$I$30000,'FORMATO N° 5_XX'!$Z$43)+\nCOUNTIFS('BD-SOC'!$X$15:$X$30000,'FORMATO N° 5_XX'!B56,'BD-SOC'!$I$15:$I$30000,'FORMATO N° 5_XX'!$Z$43)+\nCOUNTIFS('BD-SOC'!$Z$15:$Z$30000,'FORMATO N° 5_XX'!B56,'BD-SOC'!$I$15:$I$30000,'FORMATO N° 5_XX'!$Z$43)+\nCOUNTIFS('BD-SOC'!$AB$15:$AB$30000,'FORMATO N° 5_XX'!B56,'BD-SOC'!$I$15:$I$30000,'FORMATO N° 5_XX'!$Z$43)","v":0},{"$f":"COUNTIFS('BD-SOC'!$P$15:$P$30000,'FORMATO N° 5_XX'!B56,'BD-SOC'!$I$15:$I$30000,'FORMATO N° 5_XX'!$AA$43)+\nCOUNTIFS('BD-SOC'!$R$15:$R$30000,'FORMATO N° 5_XX'!B56,'BD-SOC'!$I$15:$I$30000,'FORMATO N° 5_XX'!$AA$43)+\nCOUNTIFS('BD-SOC'!$T$15:$T$30000,'FORMATO N° 5_XX'!B56,'BD-SOC'!$I$15:$I$30000,'FORMATO N° 5_XX'!$AA$43)+\nCOUNTIFS('BD-SOC'!$V$15:$V$30000,'FORMATO N° 5_XX'!B56,'BD-SOC'!$I$15:$I$30000,'FORMATO N° 5_XX'!$AA$43)+\nCOUNTIFS('BD-SOC'!$X$15:$X$30000,'FORMATO N° 5_XX'!B56,'BD-SOC'!$I$15:$I$30000,'FORMATO N° 5_XX'!$AA$43)+\nCOUNTIFS('BD-SOC'!$Z$15:$Z$30000,'FORMATO N° 5_XX'!B56,'BD-SOC'!$I$15:$I$30000,'FORMATO N° 5_XX'!$AA$43)+\nCOUNTIFS('BD-SOC'!$AB$15:$AB$30000,'FORMATO N° 5_XX'!B56,'BD-SOC'!$I$15:$I$30000,'FORMATO N° 5_XX'!$AA$43)","v":0},{"$f":"COUNTIFS('BD-SOC'!$P$15:$P$30000,'FORMATO N° 5_XX'!B56,'BD-SOC'!$I$15:$I$30000,'FORMATO N° 5_XX'!$AB$43)+\nCOUNTIFS('BD-SOC'!$R$15:$R$30000,'FORMATO N° 5_XX'!B56,'BD-SOC'!$I$15:$I$30000,'FORMATO N° 5_XX'!$AB$43)+\nCOUNTIFS('BD-SOC'!$T$15:$T$30000,'FORMATO N° 5_XX'!B56,'BD-SOC'!$I$15:$I$30000,'FORMATO N° 5_XX'!$AB$43)+\nCOUNTIFS('BD-SOC'!$V$15:$V$30000,'FORMATO N° 5_XX'!B56,'BD-SOC'!$I$15:$I$30000,'FORMATO N° 5_XX'!$AB$43)+\nCOUNTIFS('BD-SOC'!$X$15:$X$30000,'FORMATO N° 5_XX'!B56,'BD-SOC'!$I$15:$I$30000,'FORMATO N° 5_XX'!$AB$43)+\nCOUNTIFS('BD-SOC'!$Z$15:$Z$30000,'FORMATO N° 5_XX'!B56,'BD-SOC'!$I$15:$I$30000,'FORMATO N° 5_XX'!$AB$43)+\nCOUNTIFS('BD-SOC'!$AB$15:$AB$30000,'FORMATO N° 5_XX'!B56,'BD-SOC'!$I$15:$I$30000,'FORMATO N° 5_XX'!$AB$43)","v":0},{"$f":"COUNTIFS('BD-SOC'!$P$15:$P$30000,'FORMATO N° 5_XX'!B56,'BD-SOC'!$I$15:$I$30000,'FORMATO N° 5_XX'!$AC$43)+\nCOUNTIFS('BD-SOC'!$R$15:$R$30000,'FORMATO N° 5_XX'!B56,'BD-SOC'!$I$15:$I$30000,'FORMATO N° 5_XX'!$AC$43)+\nCOUNTIFS('BD-SOC'!$T$15:$T$30000,'FORMATO N° 5_XX'!B56,'BD-SOC'!$I$15:$I$30000,'FORMATO N° 5_XX'!$AC$43)+\nCOUNTIFS('BD-SOC'!$V$15:$V$30000,'FORMATO N° 5_XX'!B56,'BD-SOC'!$I$15:$I$30000,'FORMATO N° 5_XX'!$AC$43)+\nCOUNTIFS('BD-SOC'!$X$15:$X$30000,'FORMATO N° 5_XX'!B56,'BD-SOC'!$I$15:$I$30000,'FORMATO N° 5_XX'!$AC$43)+\nCOUNTIFS('BD-SOC'!$Z$15:$Z$30000,'FORMATO N° 5_XX'!B56,'BD-SOC'!$I$15:$I$30000,'FORMATO N° 5_XX'!$AC$43)+\nCOUNTIFS('BD-SOC'!$AB$15:$AB$30000,'FORMATO N° 5_XX'!B56,'BD-SOC'!$I$15:$I$30000,'FORMATO N° 5_XX'!$AC$43)","v":0},{"$f":"COUNTIFS('BD-SOC'!$P$15:$P$30000,'FORMATO N° 5_XX'!B56,'BD-SOC'!$I$15:$I$30000,'FORMATO N° 5_XX'!$AD$43)+\nCOUNTIFS('BD-SOC'!$R$15:$R$30000,'FORMATO N° 5_XX'!B56,'BD-SOC'!$I$15:$I$30000,'FORMATO N° 5_XX'!$AD$43)+\nCOUNTIFS('BD-SOC'!$T$15:$T$30000,'FORMATO N° 5_XX'!B56,'BD-SOC'!$I$15:$I$30000,'FORMATO N° 5_XX'!$AD$43)+\nCOUNTIFS('BD-SOC'!$V$15:$V$30000,'FORMATO N° 5_XX'!B56,'BD-SOC'!$I$15:$I$30000,'FORMATO N° 5_XX'!$AD$43)+\nCOUNTIFS('BD-SOC'!$X$15:$X$30000,'FORMATO N° 5_XX'!B56,'BD-SOC'!$I$15:$I$30000,'FORMATO N° 5_XX'!$AD$43)+\nCOUNTIFS('BD-SOC'!$Z$15:$Z$30000,'FORMATO N° 5_XX'!B56,'BD-SOC'!$I$15:$I$30000,'FORMATO N° 5_XX'!$AD$43)+\nCOUNTIFS('BD-SOC'!$AB$15:$AB$30000,'FORMATO N° 5_XX'!B56,'BD-SOC'!$I$15:$I$30000,'FORMATO N° 5_XX'!$AD$43)","v":0},{"$f":"COUNTIFS('BD-SOC'!$P$15:$P$30000,'FORMATO N° 5_XX'!B56,'BD-SOC'!$I$15:$I$30000,'FORMATO N° 5_XX'!$AE$43)+\nCOUNTIFS('BD-SOC'!$R$15:$R$30000,'FORMATO N° 5_XX'!B56,'BD-SOC'!$I$15:$I$30000,'FORMATO N° 5_XX'!$AE$43)+\nCOUNTIFS('BD-SOC'!$T$15:$T$30000,'FORMATO N° 5_XX'!B56,'BD-SOC'!$I$15:$I$30000,'FORMATO N° 5_XX'!$AE$43)+\nCOUNTIFS('BD-SOC'!$V$15:$V$30000,'FORMATO N° 5_XX'!B56,'BD-SOC'!$I$15:$I$30000,'FORMATO N° 5_XX'!$AE$43)+\nCOUNTIFS('BD-SOC'!$X$15:$X$30000,'FORMATO N° 5_XX'!B56,'BD-SOC'!$I$15:$I$30000,'FORMATO N° 5_XX'!$AE$43)+\nCOUNTIFS('BD-SOC'!$Z$15:$Z$30000,'FORMATO N° 5_XX'!B56,'BD-SOC'!$I$15:$I$30000,'FORMATO N° 5_XX'!$AE$43)+\nCOUNTIFS('BD-SOC'!$AB$15:$AB$30000,'FORMATO N° 5_XX'!B56,'BD-SOC'!$I$15:$I$30000,'FORMATO N° 5_XX'!$AE$43)","v":0}]
[null,202,"INFORME DE LIBERACIÓN CONDICIONAL",null,null,null,null,null,{"$error":"#REF!"},{"$f":"COUNTIFS('BD-SOC'!$P$15:$P$30000,'FORMATO N° 5_XX'!B57,'BD-SOC'!#REF!,'FORMATO N° 5_XX'!$J$43)+\nCOUNTIFS('BD-SOC'!$R$15:$R$30000,'FORMATO N° 5_XX'!B57,'BD-SOC'!#REF!,'FORMATO N° 5_XX'!$J$43)+\nCOUNTIFS('BD-SOC'!$T$15:$T$30000,'FORMATO N° 5_XX'!B57,'BD-SOC'!#REF!,'FORMATO N° 5_XX'!$J$43)+\nCOUNTIFS('BD-SOC'!$V$15:$V$30000,'FORMATO N° 5_XX'!B57,'BD-SOC'!#REF!,'FORMATO N° 5_XX'!$J$43)+\nCOUNTIFS('BD-SOC'!$X$15:$X$30000,'FORMATO N° 5_XX'!B57,'BD-SOC'!#REF!,'FORMATO N° 5_XX'!$J$43)+\nCOUNTIFS('BD-SOC'!$Z$15:$Z$30000,'FORMATO N° 5_XX'!B57,'BD-SOC'!#REF!,'FORMATO N° 5_XX'!$J$43)+\nCOUNTIFS('BD-SOC'!$AB$15:$AB$30000,'FORMATO N° 5_XX'!B57,'BD-SOC'!#REF!,'FORMATO N° 5_XX'!$J$43)","v":{"$error":"#REF!"}},{"$f":"COUNTIFS('BD-SOC'!$P$15:$P$30000,'FORMATO N° 5_XX'!B57,'BD-SOC'!#REF!,'FORMATO N° 5_XX'!$K$43)+\nCOUNTIFS('BD-SOC'!$R$15:$R$30000,'FORMATO N° 5_XX'!B57,'BD-SOC'!#REF!,'FORMATO N° 5_XX'!$K$43)+\nCOUNTIFS('BD-SOC'!$T$15:$T$30000,'FORMATO N° 5_XX'!B57,'BD-SOC'!#REF!,'FORMATO N° 5_XX'!$K$43)+\nCOUNTIFS('BD-SOC'!$V$15:$V$30000,'FORMATO N° 5_XX'!B57,'BD-SOC'!#REF!,'FORMATO N° 5_XX'!$K$43)+\nCOUNTIFS('BD-SOC'!$X$15:$X$30000,'FORMATO N° 5_XX'!B57,'BD-SOC'!#REF!,'FORMATO N° 5_XX'!$K$43)+\nCOUNTIFS('BD-SOC'!$Z$15:$Z$30000,'FORMATO N° 5_XX'!B57,'BD-SOC'!#REF!,'FORMATO N° 5_XX'!$K$43)+\nCOUNTIFS('BD-SOC'!$AB$15:$AB$30000,'FORMATO N° 5_XX'!B57,'BD-SOC'!#REF!,'FORMATO N° 5_XX'!$K$43)","v":{"$error":"#REF!"}},{"$f":"COUNTIFS('BD-SOC'!$P$15:$P$30000,'FORMATO N° 5_XX'!B57,'BD-SOC'!#REF!,'FORMATO N° 5_XX'!$L$43)+\nCOUNTIFS('BD-SOC'!$R$15:$R$30000,'FORMATO N° 5_XX'!B57,'BD-SOC'!#REF!,'FORMATO N° 5_XX'!$L$43)+\nCOUNTIFS('BD-SOC'!$T$15:$T$30000,'FORMATO N° 5_XX'!B57,'BD-SOC'!#REF!,'FORMATO N° 5_XX'!$L$43)+\nCOUNTIFS('BD-SOC'!$V$15:$V$30000,'FORMATO N° 5_XX'!B57,'BD-SOC'!#REF!,'FORMATO N° 5_XX'!$L$43)+\nCOUNTIFS('BD-SOC'!$X$15:$X$30000,'FORMATO N° 5_XX'!B57,'BD-SOC'!#REF!,'FORMATO N° 5_XX'!$L$43)+\nCOUNTIFS('BD-SOC'!$Z$15:$Z$30000,'FORMATO N° 5_XX'!B57,'BD-SOC'!#REF!,'FORMATO N° 5_XX'!$L$43)+\nCOUNTIFS('BD-SOC'!$AB$15:$AB$30000,'FORMATO N° 5_XX'!B57,'BD-SOC'!#REF!,'FORMATO N° 5_XX'!$L$43)","v":{"$error":"#REF!"}},{"$f":"COUNTIFS('BD-SOC'!$P$15:$P$30000,'FORMATO N° 5_XX'!B57,'BD-SOC'!#REF!,'FORMATO N° 5_XX'!$M$44)+\nCOUNTIFS('BD-SOC'!$R$15:$R$30000,'FORMATO N° 5_XX'!B57,'BD-SOC'!#REF!,'FORMATO N° 5_XX'!$M$44)+\nCOUNTIFS('BD-SOC'!$T$15:$T$30000,'FORMATO N° 5_XX'!B57,'BD-SOC'!#REF!,'FORMATO N° 5_XX'!$M$44)+\nCOUNTIFS('BD-SOC'!$V$15:$V$30000,'FORMATO N° 5_XX'!B57,'BD-SOC'!#REF!,'FORMATO N° 5_XX'!$M$44)+\nCOUNTIFS('BD-SOC'!$X$15:$X$30000,'FORMATO N° 5_XX'!B57,'BD-SOC'!#REF!,'FORMATO N° 5_XX'!$M$44)+\nCOUNTIFS('BD-SOC'!$Z$15:$Z$30000,'FORMATO N° 5_XX'!B57,'BD-SOC'!#REF!,'FORMATO N° 5_XX'!$M$44)+\nCOUNTIFS('BD-SOC'!$AB$15:$AB$30000,'FORMATO N° 5_XX'!B57,'BD-SOC'!#REF!,'FORMATO N° 5_XX'!$M$44)","v":{"$error":"#REF!"}},{"$f":"COUNTIFS('BD-SOC'!$P$15:$P$30000,'FORMATO N° 5_XX'!B57,'BD-SOC'!#REF!,'FORMATO N° 5_XX'!$N$44)+\nCOUNTIFS('BD-SOC'!$R$15:$R$30000,'FORMATO N° 5_XX'!B57,'BD-SOC'!#REF!,'FORMATO N° 5_XX'!$N$44)+\nCOUNTIFS('BD-SOC'!$T$15:$T$30000,'FORMATO N° 5_XX'!B57,'BD-SOC'!#REF!,'FORMATO N° 5_XX'!$N$44)+\nCOUNTIFS('BD-SOC'!$V$15:$V$30000,'FORMATO N° 5_XX'!B57,'BD-SOC'!#REF!,'FORMATO N° 5_XX'!$N$44)+\nCOUNTIFS('BD-SOC'!$X$15:$X$30000,'FORMATO N° 5_XX'!B57,'BD-SOC'!#REF!,'FORMATO N° 5_XX'!$N$44)+\nCOUNTIFS('BD-SOC'!$Z$15:$Z$30000,'FORMATO N° 5_XX'!B57,'BD-SOC'!#REF!,'FORMATO N° 5_XX'!$N$44)+\nCOUNTIFS('BD-SOC'!$AB$15:$AB$30000,'FORMATO N° 5_XX'!B57,'BD-SOC'!#REF!,'FORMATO N° 5_XX'!$N$44)","v":{"$error":"#REF!"}},{"$f":"COUNTIFS('BD-SOC'!$P$15:$P$30000,'FORMATO N° 5_XX'!B57,'BD-SOC'!#REF!,'FORMATO N° 5_XX'!$O$44)+\nCOUNTIFS('BD-SOC'!$R$15:$R$30000,'FORMATO N° 5_XX'!B57,'BD-SOC'!#REF!,'FORMATO N° 5_XX'!$O$44)+\nCOUNTIFS('BD-SOC'!$T$15:$T$30000,'FORMATO N° 5_XX'!B57,'BD-SOC'!#REF!,'FORMATO N° 5_XX'!$O$44)+\nCOUNTIFS('BD-SOC'!$V$15:$V$30000,'FORMATO N° 5_XX'!B57,'BD-SOC'!#REF!,'FORMATO N° 5_XX'!$O$44)+\nCOUNTIFS('BD-SOC'!$X$15:$X$30000,'FORMATO N° 5_XX'!B57,'BD-SOC'!#REF!,'FORMATO N° 5_XX'!$O$44)+\nCOUNTIFS('BD-SOC'!$Z$15:$Z$30000,'FORMATO N° 5_XX'!B57,'BD-SOC'!#REF!,'FORMATO N° 5_XX'!$O$44)+\nCOUNTIFS('BD-SOC'!$AB$15:$AB$30000,'FORMATO N° 5_XX'!B57,'BD-SOC'!#REF!,'FORMATO N° 5_XX'!$O$44)","v":{"$error":"#REF!"}},{"$f":"COUNTIFS('BD-SOC'!$P$15:$P$30000,'FORMATO N° 5_XX'!B57,'BD-SOC'!#REF!,'FORMATO N° 5_XX'!$P$44)+\nCOUNTIFS('BD-SOC'!$R$15:$R$30000,'FORMATO N° 5_XX'!B57,'BD-SOC'!#REF!,'FORMATO N° 5_XX'!$P$44)+\nCOUNTIFS('BD-SOC'!$T$15:$T$30000,'FORMATO N° 5_XX'!B57,'BD-SOC'!#REF!,'FORMATO N° 5_XX'!$P$44)+\nCOUNTIFS('BD-SOC'!$V$15:$V$30000,'FORMATO N° 5_XX'!B57,'BD-SOC'!#REF!,'FORMATO N° 5_XX'!$P$44)+\nCOUNTIFS('BD-SOC'!$X$15:$X$30000,'FORMATO N° 5_XX'!B57,'BD-SOC'!#REF!,'FORMATO N° 5_XX'!$P$44)+\nCOUNTIFS('BD-SOC'!$Z$15:$Z$30000,'FORMATO N° 5_XX'!B57,'BD-SOC'!#REF!,'FORMATO N° 5_XX'!$P$44)+\nCOUNTIFS('BD-SOC'!$AB$15:$AB$30000,'FORMATO N° 5_XX'!B57,'BD-SOC'!#REF!,'FORMATO N° 5_XX'!$P$44)","v":{"$error":"#REF!"}},{"$f":"COUNTIFS('BD-SOC'!$P$15:$P$30000,'FORMATO N° 5_XX'!B57,'BD-SOC'!#REF!,'FORMATO N° 5_XX'!$Q$44)+\nCOUNTIFS('BD-SOC'!$R$15:$R$30000,'FORMATO N° 5_XX'!B57,'BD-SOC'!#REF!,'FORMATO N° 5_XX'!$Q$44)+\nCOUNTIFS('BD-SOC'!$T$15:$T$30000,'FORMATO N° 5_XX'!B57,'BD-SOC'!#REF!,'FORMATO N° 5_XX'!$Q$44)+\nCOUNTIFS('BD-SOC'!$V$15:$V$30000,'FORMATO N° 5_XX'!B57,'BD-SOC'!#REF!,'FORMATO N° 5_XX'!$Q$44)+\nCOUNTIFS('BD-SOC'!$X$15:$X$30000,'FORMATO N° 5_XX'!B57,'BD-SOC'!#REF!,'FORMATO N° 5_XX'!$Q$44)+\nCOUNTIFS('BD-SOC'!$Z$15:$Z$30000,'FORMATO N° 5_XX'!B57,'BD-SOC'!#REF!,'FORMATO N° 5_XX'!$Q$44)+\nCOUNTIFS('BD-SOC'!$AB$15:$AB$30000,'FORMATO N° 5_XX'!B57,'BD-SOC'!#REF!,'FORMATO N° 5_XX'!$Q$44)","v":{"$error":"#REF!"}},{"$f":"COUNTIFS('BD-SOC'!$P$15:$P$30000,'FORMATO N° 5_XX'!B57,'BD-SOC'!#REF!,'FORMATO N° 5_XX'!$R$44)+\nCOUNTIFS('BD-SOC'!$R$15:$R$30000,'FORMATO N° 5_XX'!B57,'BD-SOC'!#REF!,'FORMATO N° 5_XX'!$R$44)+\nCOUNTIFS('BD-SOC'!$T$15:$T$30000,'FORMATO N° 5_XX'!B57,'BD-SOC'!#REF!,'FORMATO N° 5_XX'!$R$44)+\nCOUNTIFS('BD-SOC'!$V$15:$V$30000,'FORMATO N° 5_XX'!B57,'BD-SOC'!#REF!,'FORMATO N° 5_XX'!$R$44)+\nCOUNTIFS('BD-SOC'!$X$15:$X$30000,'FORMATO N° 5_XX'!B57,'BD-SOC'!#REF!,'FORMATO N° 5_XX'!$R$44)+\nCOUNTIFS('BD-SOC'!$Z$15:$Z$30000,'FORMATO N° 5_XX'!B57,'BD-SOC'!#REF!,'FORMATO N° 5_XX'!$R$44)+\nCOUNTIFS('BD-SOC'!$AB$15:$AB$30000,'FORMATO N° 5_XX'!B57,'BD-SOC'!#REF!,'FORMATO N° 5_XX'!$R$44)","v":{"$error":"#REF!"}},{"$f":"COUNTIFS('BD-SOC'!$P$15:$P$30000,'FORMATO N° 5_XX'!B57,'BD-SOC'!#REF!,'FORMATO N° 5_XX'!$S$43)+\nCOUNTIFS('BD-SOC'!$R$15:$R$30000,'FORMATO N° 5_XX'!B57,'BD-SOC'!#REF!,'FORMATO N° 5_XX'!$S$43)+\nCOUNTIFS('BD-SOC'!$T$15:$T$30000,'FORMATO N° 5_XX'!B57,'BD-SOC'!#REF!,'FORMATO N° 5_XX'!$S$43)+\nCOUNTIFS('BD-SOC'!$V$15:$V$30000,'FORMATO N° 5_XX'!B57,'BD-SOC'!#REF!,'FORMATO N° 5_XX'!$S$43)+\nCOUNTIFS('BD-SOC'!$X$15:$X$30000,'FORMATO N° 5_XX'!B57,'BD-SOC'!#REF!,'FORMATO N° 5_XX'!$S$43)+\nCOUNTIFS('BD-SOC'!$Z$15:$Z$30000,'FORMATO N° 5_XX'!B57,'BD-SOC'!#REF!,'FORMATO N° 5_XX'!$S$43)+\nCOUNTIFS('BD-SOC'!$AB$15:$AB$30000,'FORMATO N° 5_XX'!B57,'BD-SOC'!#REF!,'FORMATO N° 5_XX'!$S$43)","v":{"$error":"#REF!"}},{"$f":"COUNTIFS('BD-SOC'!$P$15:$P$30000,'FORMATO N° 5_XX'!B57,'BD-SOC'!#REF!,'FORMATO N° 5_XX'!$T$43)+\nCOUNTIFS('BD-SOC'!$R$15:$R$30000,'FORMATO N° 5_XX'!B57,'BD-SOC'!#REF!,'FORMATO N° 5_XX'!$T$43)+\nCOUNTIFS('BD-SOC'!$T$15:$T$30000,'FORMATO N° 5_XX'!B57,'BD-SOC'!#REF!,'FORMATO N° 5_XX'!$T$43)+\nCOUNTIFS('BD-SOC'!$V$15:$V$30000,'FORMATO N° 5_XX'!B57,'BD-SOC'!#REF!,'FORMATO N° 5_XX'!$T$43)+\nCOUNTIFS('BD-SOC'!$X$15:$X$30000,'FORMATO N° 5_XX'!B57,'BD-SOC'!#REF!,'FORMATO N° 5_XX'!$T$43)+\nCOUNTIFS('BD-SOC'!$Z$15:$Z$30000,'FORMATO N° 5_XX'!B57,'BD-SOC'!#REF!,'FORMATO N° 5_XX'!$T$43)+\nCOUNTIFS('BD-SOC'!$AB$15:$AB$30000,'FORMATO N° 5_XX'!B57,'BD-SOC'!#REF!,'FORMATO N° 5_XX'!$T$43)","v":{"$error":"#REF!"}},0,{"$f":"COUNTIFS('BD-SOC'!$P$15:$P$30000,'FORMATO N° 5_XX'!B57,'BD-SOC'!$I$15:$I$30000,'FORMATO N° 5_XX'!$V$43)+\nCOUNTIFS('BD-SOC'!$R$15:$R$30000,'FORMATO N° 5_XX'!B57,'BD-SOC'!$I$15:$I$30000,'FORMATO N° 5_XX'!$V$43)+\nCOUNTIFS('BD-SOC'!$T$15:$T$30000,'FORMATO N° 5_XX'!B57,'BD-SOC'!$I$15:$I$30000,'FORMATO N° 5_XX'!$V$43)+\nCOUNTIFS('BD-SOC'!$V$15:$V$30000,'FORMATO N° 5_XX'!B57,'BD-SOC'!$I$15:$I$30000,'FORMATO N° 5_XX'!$V$43)+\nCOUNTIFS('BD-SOC'!$X$15:$X$30000,'FORMATO N° 5_XX'!B57,'BD-SOC'!$I$15:$I$30000,'FORMATO N° 5_XX'!$V$43)+\nCOUNTIFS('BD-SOC'!$Z$15:$Z$30000,'FORMATO N° 5_XX'!B57,'BD-SOC'!$I$15:$I$30000,'FORMATO N° 5_XX'!$V$43)+\nCOUNTIFS('BD-SOC'!$AB$15:$AB$30000,'FORMATO N° 5_XX'!B57,'BD-SOC'!$I$15:$I$30000,'FORMATO N° 5_XX'!$V$43)","v":0},{"$f":"COUNTIFS('BD-SOC'!$P$15:$P$30000,'FORMATO N° 5_XX'!B57,'BD-SOC'!$I$15:$I$30000,'FORMATO N° 5_XX'!$W$43)+\nCOUNTIFS('BD-SOC'!$R$15:$R$30000,'FORMATO N° 5_XX'!B57,'BD-SOC'!$I$15:$I$30000,'FORMATO N° 5_XX'!$W$43)+\nCOUNTIFS('BD-SOC'!$T$15:$T$30000,'FORMATO N° 5_XX'!B57,'BD-SOC'!$I$15:$I$30000,'FORMATO N° 5_XX'!$W$43)+\nCOUNTIFS('BD-SOC'!$V$15:$V$30000,'FORMATO N° 5_XX'!B57,'BD-SOC'!$I$15:$I$30000,'FORMATO N° 5_XX'!$W$43)+\nCOUNTIFS('BD-SOC'!$X$15:$X$30000,'FORMATO N° 5_XX'!B57,'BD-SOC'!$I$15:$I$30000,'FORMATO N° 5_XX'!$W$43)+\nCOUNTIFS('BD-SOC'!$Z$15:$Z$30000,'FORMATO N° 5_XX'!B57,'BD-SOC'!$I$15:$I$30000,'FORMATO N° 5_XX'!$W$43)+\nCOUNTIFS('BD-SOC'!$AB$15:$AB$30000,'FORMATO N° 5_XX'!B57,'BD-SOC'!$I$15:$I$30000,'FORMATO N° 5_XX'!$W$43)","v":0},{"$f":"COUNTIFS('BD-SOC'!$P$15:$P$30000,'FORMATO N° 5_XX'!B57,'BD-SOC'!$I$15:$I$30000,'FORMATO N° 5_XX'!$X$43)+\nCOUNTIFS('BD-SOC'!$R$15:$R$30000,'FORMATO N° 5_XX'!B57,'BD-SOC'!$I$15:$I$30000,'FORMATO N° 5_XX'!$X$43)+\nCOUNTIFS('BD-SOC'!$T$15:$T$30000,'FORMATO N° 5_XX'!B57,'BD-SOC'!$I$15:$I$30000,'FORMATO N° 5_XX'!$X$43)+\nCOUNTIFS('BD-SOC'!$V$15:$V$30000,'FORMATO N° 5_XX'!B57,'BD-SOC'!$I$15:$I$30000,'FORMATO N° 5_XX'!$X$43)+\nCOUNTIFS('BD-SOC'!$X$15:$X$30000,'FORMATO N° 5_XX'!B57,'BD-SOC'!$I$15:$I$30000,'FORMATO N° 5_XX'!$X$43)+\nCOUNTIFS('BD-SOC'!$Z$15:$Z$30000,'FORMATO N° 5_XX'!B57,'BD-SOC'!$I$15:$I$30000,'FORMATO N° 5_XX'!$X$43)+\nCOUNTIFS('BD-SOC'!$AB$15:$AB$30000,'FORMATO N° 5_XX'!B57,'BD-SOC'!$I$15:$I$30000,'FORMATO N° 5_XX'!$X$43)","v":0},{"$f":"COUNTIFS('BD-SOC'!$P$15:$P$30000,'FORMATO N° 5_XX'!B57,'BD-SOC'!$I$15:$I$30000,'FORMATO N° 5_XX'!$Y$43)+\nCOUNTIFS('BD-SOC'!$R$15:$R$30000,'FORMATO N° 5_XX'!B57,'BD-SOC'!$I$15:$I$30000,'FORMATO N° 5_XX'!$Y$43)+\nCOUNTIFS('BD-SOC'!$T$15:$T$30000,'FORMATO N° 5_XX'!B57,'BD-SOC'!$I$15:$I$30000,'FORMATO N° 5_XX'!$Y$43)+\nCOUNTIFS('BD-SOC'!$V$15:$V$30000,'FORMATO N° 5_XX'!B57,'BD-SOC'!$I$15:$I$30000,'FORMATO N° 5_XX'!$Y$43)+\nCOUNTIFS('BD-SOC'!$X$15:$X$30000,'FORMATO N° 5_XX'!B57,'BD-SOC'!$I$15:$I$30000,'FORMATO N° 5_XX'!$Y$43)+\nCOUNTIFS('BD-SOC'!$Z$15:$Z$30000,'FORMATO N° 5_XX'!B57,'BD-SOC'!$I$15:$I$30000,'FORMATO N° 5_XX'!$Y$43)+\nCOUNTIFS('BD-SOC'!$AB$15:$AB$30000,'FORMATO N° 5_XX'!B57,'BD-SOC'!$I$15:$I$30000,'FORMATO N° 5_XX'!$Y$43)","v":0},{"$f":"COUNTIFS('BD-SOC'!$P$15:$P$30000,'FORMATO N° 5_XX'!B57,'BD-SOC'!$I$15:$I$30000,'FORMATO N° 5_XX'!$Z$43)+\nCOUNTIFS('BD-SOC'!$R$15:$R$30000,'FORMATO N° 5_XX'!B57,'BD-SOC'!$I$15:$I$30000,'FORMATO N° 5_XX'!$Z$43)+\nCOUNTIFS('BD-SOC'!$T$15:$T$30000,'FORMATO N° 5_XX'!B57,'BD-SOC'!$I$15:$I$30000,'FORMATO N° 5_XX'!$Z$43)+\nCOUNTIFS('BD-SOC'!$V$15:$V$30000,'FORMATO N° 5_XX'!B57,'BD-SOC'!$I$15:$I$30000,'FORMATO N° 5_XX'!$Z$43)+\nCOUNTIFS('BD-SOC'!$X$15:$X$30000,'FORMATO N° 5_XX'!B57,'BD-SOC'!$I$15:$I$30000,'FORMATO N° 5_XX'!$Z$43)+\nCOUNTIFS('BD-SOC'!$Z$15:$Z$30000,'FORMATO N° 5_XX'!B57,'BD-SOC'!$I$15:$I$30000,'FORMATO N° 5_XX'!$Z$43)+\nCOUNTIFS('BD-SOC'!$AB$15:$AB$30000,'FORMATO N° 5_XX'!B57,'BD-SOC'!$I$15:$I$30000,'FORMATO N° 5_XX'!$Z$43)","v":0},{"$f":"COUNTIFS('BD-SOC'!$P$15:$P$30000,'FORMATO N° 5_XX'!B57,'BD-SOC'!$I$15:$I$30000,'FORMATO N° 5_XX'!$AA$43)+\nCOUNTIFS('BD-SOC'!$R$15:$R$30000,'FORMATO N° 5_XX'!B57,'BD-SOC'!$I$15:$I$30000,'FORMATO N° 5_XX'!$AA$43)+\nCOUNTIFS('BD-SOC'!$T$15:$T$30000,'FORMATO N° 5_XX'!B57,'BD-SOC'!$I$15:$I$30000,'FORMATO N° 5_XX'!$AA$43)+\nCOUNTIFS('BD-SOC'!$V$15:$V$30000,'FORMATO N° 5_XX'!B57,'BD-SOC'!$I$15:$I$30000,'FORMATO N° 5_XX'!$AA$43)+\nCOUNTIFS('BD-SOC'!$X$15:$X$30000,'FORMATO N° 5_XX'!B57,'BD-SOC'!$I$15:$I$30000,'FORMATO N° 5_XX'!$AA$43)+\nCOUNTIFS('BD-SOC'!$Z$15:$Z$30000,'FORMATO N° 5_XX'!B57,'BD-SOC'!$I$15:$I$30000,'FORMATO N° 5_XX'!$AA$43)+\nCOUNTIFS('BD-SOC'!$AB$15:$AB$30000,'FORMATO N° 5_XX'!B57,'BD-SOC'!$I$15:$I$30000,'FORMATO N° 5_XX'!$AA$43)","v":0},{"$f":"COUNTIFS('BD-SOC'!$P$15:$P$30000,'FORMATO N° 5_XX'!B57,'BD-SOC'!$I$15:$I$30000,'FORMATO N° 5_XX'!$AB$43)+\nCOUNTIFS('BD-SOC'!$R$15:$R$30000,'FORMATO N° 5_XX'!B57,'BD-SOC'!$I$15:$I$30000,'FORMATO N° 5_XX'!$AB$43)+\nCOUNTIFS('BD-SOC'!$T$15:$T$30000,'FORMATO N° 5_XX'!B57,'BD-SOC'!$I$15:$I$30000,'FORMATO N° 5_XX'!$AB$43)+\nCOUNTIFS('BD-SOC'!$V$15:$V$30000,'FORMATO N° 5_XX'!B57,'BD-SOC'!$I$15:$I$30000,'FORMATO N° 5_XX'!$AB$43)+\nCOUNTIFS('BD-SOC'!$X$15:$X$30000,'FORMATO N° 5_XX'!B57,'BD-SOC'!$I$15:$I$30000,'FORMATO N° 5_XX'!$AB$43)+\nCOUNTIFS('BD-SOC'!$Z$15:$Z$30000,'FORMATO N° 5_XX'!B57,'BD-SOC'!$I$15:$I$30000,'FORMATO N° 5_XX'!$AB$43)+\nCOUNTIFS('BD-SOC'!$AB$15:$AB$30000,'FORMATO N° 5_XX'!B57,'BD-SOC'!$I$15:$I$30000,'FORMATO N° 5_XX'!$AB$43)","v":0},{"$f":"COUNTIFS('BD-SOC'!$P$15:$P$30000,'FORMATO N° 5_XX'!B57,'BD-SOC'!$I$15:$I$30000,'FORMATO N° 5_XX'!$AC$43)+\nCOUNTIFS('BD-SOC'!$R$15:$R$30000,'FORMATO N° 5_XX'!B57,'BD-SOC'!$I$15:$I$30000,'FORMATO N° 5_XX'!$AC$43)+\nCOUNTIFS('BD-SOC'!$T$15:$T$30000,'FORMATO N° 5_XX'!B57,'BD-SOC'!$I$15:$I$30000,'FORMATO N° 5_XX'!$AC$43)+\nCOUNTIFS('BD-SOC'!$V$15:$V$30000,'FORMATO N° 5_XX'!B57,'BD-SOC'!$I$15:$I$30000,'FORMATO N° 5_XX'!$AC$43)+\nCOUNTIFS('BD-SOC'!$X$15:$X$30000,'FORMATO N° 5_XX'!B57,'BD-SOC'!$I$15:$I$30000,'FORMATO N° 5_XX'!$AC$43)+\nCOUNTIFS('BD-SOC'!$Z$15:$Z$30000,'FORMATO N° 5_XX'!B57,'BD-SOC'!$I$15:$I$30000,'FORMATO N° 5_XX'!$AC$43)+\nCOUNTIFS('BD-SOC'!$AB$15:$AB$30000,'FORMATO N° 5_XX'!B57,'BD-SOC'!$I$15:$I$30000,'FORMATO N° 5_XX'!$AC$43)","v":0},{"$f":"COUNTIFS('BD-SOC'!$P$15:$P$30000,'FORMATO N° 5_XX'!B57,'BD-SOC'!$I$15:$I$30000,'FORMATO N° 5_XX'!$AD$43)+\nCOUNTIFS('BD-SOC'!$R$15:$R$30000,'FORMATO N° 5_XX'!B57,'BD-SOC'!$I$15:$I$30000,'FORMATO N° 5_XX'!$AD$43)+\nCOUNTIFS('BD-SOC'!$T$15:$T$30000,'FORMATO N° 5_XX'!B57,'BD-SOC'!$I$15:$I$30000,'FORMATO N° 5_XX'!$AD$43)+\nCOUNTIFS('BD-SOC'!$V$15:$V$30000,'FORMATO N° 5_XX'!B57,'BD-SOC'!$I$15:$I$30000,'FORMATO N° 5_XX'!$AD$43)+\nCOUNTIFS('BD-SOC'!$X$15:$X$30000,'FORMATO N° 5_XX'!B57,'BD-SOC'!$I$15:$I$30000,'FORMATO N° 5_XX'!$AD$43)+\nCOUNTIFS('BD-SOC'!$Z$15:$Z$30000,'FORMATO N° 5_XX'!B57,'BD-SOC'!$I$15:$I$30000,'FORMATO N° 5_XX'!$AD$43)+\nCOUNTIFS('BD-SOC'!$AB$15:$AB$30000,'FORMATO N° 5_XX'!B57,'BD-SOC'!$I$15:$I$30000,'FORMATO N° 5_XX'!$AD$43)","v":0},{"$f":"COUNTIFS('BD-SOC'!$P$15:$P$30000,'FORMATO N° 5_XX'!B57,'BD-SOC'!$I$15:$I$30000,'FORMATO N° 5_XX'!$AE$43)+\nCOUNTIFS('BD-SOC'!$R$15:$R$30000,'FORMATO N° 5_XX'!B57,'BD-SOC'!$I$15:$I$30000,'FORMATO N° 5_XX'!$AE$43)+\nCOUNTIFS('BD-SOC'!$T$15:$T$30000,'FORMATO N° 5_XX'!B57,'BD-SOC'!$I$15:$I$30000,'FORMATO N° 5_XX'!$AE$43)+\nCOUNTIFS('BD-SOC'!$V$15:$V$30000,'FORMATO N° 5_XX'!B57,'BD-SOC'!$I$15:$I$30000,'FORMATO N° 5_XX'!$AE$43)+\nCOUNTIFS('BD-SOC'!$X$15:$X$30000,'FORMATO N° 5_XX'!B57,'BD-SOC'!$I$15:$I$30000,'FORMATO N° 5_XX'!$AE$43)+\nCOUNTIFS('BD-SOC'!$Z$15:$Z$30000,'FORMATO N° 5_XX'!B57,'BD-SOC'!$I$15:$I$30000,'FORMATO N° 5_XX'!$AE$43)+\nCOUNTIFS('BD-SOC'!$AB$15:$AB$30000,'FORMATO N° 5_XX'!B57,'BD-SOC'!$I$15:$I$30000,'FORMATO N° 5_XX'!$AE$43)","v":0}]
[null,203,"INFORME DE VISITA ÍNTIMA",null,null,null,null,null,{"$error":"#REF!"},{"$f":"COUNTIFS('BD-SOC'!$P$15:$P$30000,'FORMATO N° 5_XX'!B58,'BD-SOC'!#REF!,'FORMATO N° 5_XX'!$J$43)+\nCOUNTIFS('BD-SOC'!$R$15:$R$30000,'FORMATO N° 5_XX'!B58,'BD-SOC'!#REF!,'FORMATO N° 5_XX'!$J$43)+\nCOUNTIFS('BD-SOC'!$T$15:$T$30000,'FORMATO N° 5_XX'!B58,'BD-SOC'!#REF!,'FORMATO N° 5_XX'!$J$43)+\nCOUNTIFS('BD-SOC'!$V$15:$V$30000,'FORMATO N° 5_XX'!B58,'BD-SOC'!#REF!,'FORMATO N° 5_XX'!$J$43)+\nCOUNTIFS('BD-SOC'!$X$15:$X$30000,'FORMATO N° 5_XX'!B58,'BD-SOC'!#REF!,'FORMATO N° 5_XX'!$J$43)+\nCOUNTIFS('BD-SOC'!$Z$15:$Z$30000,'FORMATO N° 5_XX'!B58,'BD-SOC'!#REF!,'FORMATO N° 5_XX'!$J$43)+\nCOUNTIFS('BD-SOC'!$AB$15:$AB$30000,'FORMATO N° 5_XX'!B58,'BD-SOC'!#REF!,'FORMATO N° 5_XX'!$J$43)","v":{"$error":"#REF!"}},{"$f":"COUNTIFS('BD-SOC'!$P$15:$P$30000,'FORMATO N° 5_XX'!B58,'BD-SOC'!#REF!,'FORMATO N° 5_XX'!$K$43)+\nCOUNTIFS('BD-SOC'!$R$15:$R$30000,'FORMATO N° 5_XX'!B58,'BD-SOC'!#REF!,'FORMATO N° 5_XX'!$K$43)+\nCOUNTIFS('BD-SOC'!$T$15:$T$30000,'FORMATO N° 5_XX'!B58,'BD-SOC'!#REF!,'FORMATO N° 5_XX'!$K$43)+\nCOUNTIFS('BD-SOC'!$V$15:$V$30000,'FORMATO N° 5_XX'!B58,'BD-SOC'!#REF!,'FORMATO N° 5_XX'!$K$43)+\nCOUNTIFS('BD-SOC'!$X$15:$X$30000,'FORMATO N° 5_XX'!B58,'BD-SOC'!#REF!,'FORMATO N° 5_XX'!$K$43)+\nCOUNTIFS('BD-SOC'!$Z$15:$Z$30000,'FORMATO N° 5_XX'!B58,'BD-SOC'!#REF!,'FORMATO N° 5_XX'!$K$43)+\nCOUNTIFS('BD-SOC'!$AB$15:$AB$30000,'FORMATO N° 5_XX'!B58,'BD-SOC'!#REF!,'FORMATO N° 5_XX'!$K$43)","v":{"$error":"#REF!"}},{"$f":"COUNTIFS('BD-SOC'!$P$15:$P$30000,'FORMATO N° 5_XX'!B58,'BD-SOC'!#REF!,'FORMATO N° 5_XX'!$L$43)+\nCOUNTIFS('BD-SOC'!$R$15:$R$30000,'FORMATO N° 5_XX'!B58,'BD-SOC'!#REF!,'FORMATO N° 5_XX'!$L$43)+\nCOUNTIFS('BD-SOC'!$T$15:$T$30000,'FORMATO N° 5_XX'!B58,'BD-SOC'!#REF!,'FORMATO N° 5_XX'!$L$43)+\nCOUNTIFS('BD-SOC'!$V$15:$V$30000,'FORMATO N° 5_XX'!B58,'BD-SOC'!#REF!,'FORMATO N° 5_XX'!$L$43)+\nCOUNTIFS('BD-SOC'!$X$15:$X$30000,'FORMATO N° 5_XX'!B58,'BD-SOC'!#REF!,'FORMATO N° 5_XX'!$L$43)+\nCOUNTIFS('BD-SOC'!$Z$15:$Z$30000,'FORMATO N° 5_XX'!B58,'BD-SOC'!#REF!,'FORMATO N° 5_XX'!$L$43)+\nCOUNTIFS('BD-SOC'!$AB$15:$AB$30000,'FORMATO N° 5_XX'!B58,'BD-SOC'!#REF!,'FORMATO N° 5_XX'!$L$43)","v":{"$error":"#REF!"}},{"$f":"COUNTIFS('BD-SOC'!$P$15:$P$30000,'FORMATO N° 5_XX'!B58,'BD-SOC'!#REF!,'FORMATO N° 5_XX'!$M$44)+\nCOUNTIFS('BD-SOC'!$R$15:$R$30000,'FORMATO N° 5_XX'!B58,'BD-SOC'!#REF!,'FORMATO N° 5_XX'!$M$44)+\nCOUNTIFS('BD-SOC'!$T$15:$T$30000,'FORMATO N° 5_XX'!B58,'BD-SOC'!#REF!,'FORMATO N° 5_XX'!$M$44)+\nCOUNTIFS('BD-SOC'!$V$15:$V$30000,'FORMATO N° 5_XX'!B58,'BD-SOC'!#REF!,'FORMATO N° 5_XX'!$M$44)+\nCOUNTIFS('BD-SOC'!$X$15:$X$30000,'FORMATO N° 5_XX'!B58,'BD-SOC'!#REF!,'FORMATO N° 5_XX'!$M$44)+\nCOUNTIFS('BD-SOC'!$Z$15:$Z$30000,'FORMATO N° 5_XX'!B58,'BD-SOC'!#REF!,'FORMATO N° 5_XX'!$M$44)+\nCOUNTIFS('BD-SOC'!$AB$15:$AB$30000,'FORMATO N° 5_XX'!B58,'BD-SOC'!#REF!,'FORMATO N° 5_XX'!$M$44)","v":{"$error":"#REF!"}},{"$f":"COUNTIFS('BD-SOC'!$P$15:$P$30000,'FORMATO N° 5_XX'!B58,'BD-SOC'!#REF!,'FORMATO N° 5_XX'!$N$44)+\nCOUNTIFS('BD-SOC'!$R$15:$R$30000,'FORMATO N° 5_XX'!B58,'BD-SOC'!#REF!,'FORMATO N° 5_XX'!$N$44)+\nCOUNTIFS('BD-SOC'!$T$15:$T$30000,'FORMATO N° 5_XX'!B58,'BD-SOC'!#REF!,'FORMATO N° 5_XX'!$N$44)+\nCOUNTIFS('BD-SOC'!$V$15:$V$30000,'FORMATO N° 5_XX'!B58,'BD-SOC'!#REF!,'FORMATO N° 5_XX'!$N$44)+\nCOUNTIFS('BD-SOC'!$X$15:$X$30000,'FORMATO N° 5_XX'!B58,'BD-SOC'!#REF!,'FORMATO N° 5_XX'!$N$44)+\nCOUNTIFS('BD-SOC'!$Z$15:$Z$30000,'FORMATO N° 5_XX'!B58,'BD-SOC'!#REF!,'FORMATO N° 5_XX'!$N$44)+\nCOUNTIFS('BD-SOC'!$AB$15:$AB$30000,'FORMATO N° 5_XX'!B58,'BD-SOC'!#REF!,'FORMATO N° 5_XX'!$N$44)","v":{"$error":"#REF!"}},{"$f":"COUNTIFS('BD-SOC'!$P$15:$P$30000,'FORMATO N° 5_XX'!B58,'BD-SOC'!#REF!,'FORMATO N° 5_XX'!$O$44)+\nCOUNTIFS('BD-SOC'!$R$15:$R$30000,'FORMATO N° 5_XX'!B58,'BD-SOC'!#REF!,'FORMATO N° 5_XX'!$O$44)+\nCOUNTIFS('BD-SOC'!$T$15:$T$30000,'FORMATO N° 5_XX'!B58,'BD-SOC'!#REF!,'FORMATO N° 5_XX'!$O$44)+\nCOUNTIFS('BD-SOC'!$V$15:$V$30000,'FORMATO N° 5_XX'!B58,'BD-SOC'!#REF!,'FORMATO N° 5_XX'!$O$44)+\nCOUNTIFS('BD-SOC'!$X$15:$X$30000,'FORMATO N° 5_XX'!B58,'BD-SOC'!#REF!,'FORMATO N° 5_XX'!$O$44)+\nCOUNTIFS('BD-SOC'!$Z$15:$Z$30000,'FORMATO N° 5_XX'!B58,'BD-SOC'!#REF!,'FORMATO N° 5_XX'!$O$44)+\nCOUNTIFS('BD-SOC'!$AB$15:$AB$30000,'FORMATO N° 5_XX'!B58,'BD-SOC'!#REF!,'FORMATO N° 5_XX'!$O$44)","v":{"$error":"#REF!"}},{"$f":"COUNTIFS('BD-SOC'!$P$15:$P$30000,'FORMATO N° 5_XX'!B58,'BD-SOC'!#REF!,'FORMATO N° 5_XX'!$P$44)+\nCOUNTIFS('BD-SOC'!$R$15:$R$30000,'FORMATO N° 5_XX'!B58,'BD-SOC'!#REF!,'FORMATO N° 5_XX'!$P$44)+\nCOUNTIFS('BD-SOC'!$T$15:$T$30000,'FORMATO N° 5_XX'!B58,'BD-SOC'!#REF!,'FORMATO N° 5_XX'!$P$44)+\nCOUNTIFS('BD-SOC'!$V$15:$V$30000,'FORMATO N° 5_XX'!B58,'BD-SOC'!#REF!,'FORMATO N° 5_XX'!$P$44)+\nCOUNTIFS('BD-SOC'!$X$15:$X$30000,'FORMATO N° 5_XX'!B58,'BD-SOC'!#REF!,'FORMATO N° 5_XX'!$P$44)+\nCOUNTIFS('BD-SOC'!$Z$15:$Z$30000,'FORMATO N° 5_XX'!B58,'BD-SOC'!#REF!,'FORMATO N° 5_XX'!$P$44)+\nCOUNTIFS('BD-SOC'!$AB$15:$AB$30000,'FORMATO N° 5_XX'!B58,'BD-SOC'!#REF!,'FORMATO N° 5_XX'!$P$44)","v":{"$error":"#REF!"}},{"$f":"COUNTIFS('BD-SOC'!$P$15:$P$30000,'FORMATO N° 5_XX'!B58,'BD-SOC'!#REF!,'FORMATO N° 5_XX'!$Q$44)+\nCOUNTIFS('BD-SOC'!$R$15:$R$30000,'FORMATO N° 5_XX'!B58,'BD-SOC'!#REF!,'FORMATO N° 5_XX'!$Q$44)+\nCOUNTIFS('BD-SOC'!$T$15:$T$30000,'FORMATO N° 5_XX'!B58,'BD-SOC'!#REF!,'FORMATO N° 5_XX'!$Q$44)+\nCOUNTIFS('BD-SOC'!$V$15:$V$30000,'FORMATO N° 5_XX'!B58,'BD-SOC'!#REF!,'FORMATO N° 5_XX'!$Q$44)+\nCOUNTIFS('BD-SOC'!$X$15:$X$30000,'FORMATO N° 5_XX'!B58,'BD-SOC'!#REF!,'FORMATO N° 5_XX'!$Q$44)+\nCOUNTIFS('BD-SOC'!$Z$15:$Z$30000,'FORMATO N° 5_XX'!B58,'BD-SOC'!#REF!,'FORMATO N° 5_XX'!$Q$44)+\nCOUNTIFS('BD-SOC'!$AB$15:$AB$30000,'FORMATO N° 5_XX'!B58,'BD-SOC'!#REF!,'FORMATO N° 5_XX'!$Q$44)","v":{"$error":"#REF!"}},{"$f":"COUNTIFS('BD-SOC'!$P$15:$P$30000,'FORMATO N° 5_XX'!B58,'BD-SOC'!#REF!,'FORMATO N° 5_XX'!$R$44)+\nCOUNTIFS('BD-SOC'!$R$15:$R$30000,'FORMATO N° 5_XX'!B58,'BD-SOC'!#REF!,'FORMATO N° 5_XX'!$R$44)+\nCOUNTIFS('BD-SOC'!$T$15:$T$30000,'FORMATO N° 5_XX'!B58,'BD-SOC'!#REF!,'FORMATO N° 5_XX'!$R$44)+\nCOUNTIFS('BD-SOC'!$V$15:$V$30000,'FORMATO N° 5_XX'!B58,'BD-SOC'!#REF!,'FORMATO N° 5_XX'!$R$44)+\nCOUNTIFS('BD-SOC'!$X$15:$X$30000,'FORMATO N° 5_XX'!B58,'BD-SOC'!#REF!,'FORMATO N° 5_XX'!$R$44)+\nCOUNTIFS('BD-SOC'!$Z$15:$Z$30000,'FORMATO N° 5_XX'!B58,'BD-SOC'!#REF!,'FORMATO N° 5_XX'!$R$44)+\nCOUNTIFS('BD-SOC'!$AB$15:$AB$30000,'FORMATO N° 5_XX'!B58,'BD-SOC'!#REF!,'FORMATO N° 5_XX'!$R$44)","v":{"$error":"#REF!"}},{"$f":"COUNTIFS('BD-SOC'!$P$15:$P$30000,'FORMATO N° 5_XX'!B58,'BD-SOC'!#REF!,'FORMATO N° 5_XX'!$S$43)+\nCOUNTIFS('BD-SOC'!$R$15:$R$30000,'FORMATO N° 5_XX'!B58,'BD-SOC'!#REF!,'FORMATO N° 5_XX'!$S$43)+\nCOUNTIFS('BD-SOC'!$T$15:$T$30000,'FORMATO N° 5_XX'!B58,'BD-SOC'!#REF!,'FORMATO N° 5_XX'!$S$43)+\nCOUNTIFS('BD-SOC'!$V$15:$V$30000,'FORMATO N° 5_XX'!B58,'BD-SOC'!#REF!,'FORMATO N° 5_XX'!$S$43)+\nCOUNTIFS('BD-SOC'!$X$15:$X$30000,'FORMATO N° 5_XX'!B58,'BD-SOC'!#REF!,'FORMATO N° 5_XX'!$S$43)+\nCOUNTIFS('BD-SOC'!$Z$15:$Z$30000,'FORMATO N° 5_XX'!B58,'BD-SOC'!#REF!,'FORMATO N° 5_XX'!$S$43)+\nCOUNTIFS('BD-SOC'!$AB$15:$AB$30000,'FORMATO N° 5_XX'!B58,'BD-SOC'!#REF!,'FORMATO N° 5_XX'!$S$43)","v":{"$error":"#REF!"}},{"$f":"COUNTIFS('BD-SOC'!$P$15:$P$30000,'FORMATO N° 5_XX'!B58,'BD-SOC'!#REF!,'FORMATO N° 5_XX'!$T$43)+\nCOUNTIFS('BD-SOC'!$R$15:$R$30000,'FORMATO N° 5_XX'!B58,'BD-SOC'!#REF!,'FORMATO N° 5_XX'!$T$43)+\nCOUNTIFS('BD-SOC'!$T$15:$T$30000,'FORMATO N° 5_XX'!B58,'BD-SOC'!#REF!,'FORMATO N° 5_XX'!$T$43)+\nCOUNTIFS('BD-SOC'!$V$15:$V$30000,'FORMATO N° 5_XX'!B58,'BD-SOC'!#REF!,'FORMATO N° 5_XX'!$T$43)+\nCOUNTIFS('BD-SOC'!$X$15:$X$30000,'FORMATO N° 5_XX'!B58,'BD-SOC'!#REF!,'FORMATO N° 5_XX'!$T$43)+\nCOUNTIFS('BD-SOC'!$Z$15:$Z$30000,'FORMATO N° 5_XX'!B58,'BD-SOC'!#REF!,'FORMATO N° 5_XX'!$T$43)+\nCOUNTIFS('BD-SOC'!$AB$15:$AB$30000,'FORMATO N° 5_XX'!B58,'BD-SOC'!#REF!,'FORMATO N° 5_XX'!$T$43)","v":{"$error":"#REF!"}},0,{"$f":"COUNTIFS('BD-SOC'!$P$15:$P$30000,'FORMATO N° 5_XX'!B58,'BD-SOC'!$I$15:$I$30000,'FORMATO N° 5_XX'!$V$43)+\nCOUNTIFS('BD-SOC'!$R$15:$R$30000,'FORMATO N° 5_XX'!B58,'BD-SOC'!$I$15:$I$30000,'FORMATO N° 5_XX'!$V$43)+\nCOUNTIFS('BD-SOC'!$T$15:$T$30000,'FORMATO N° 5_XX'!B58,'BD-SOC'!$I$15:$I$30000,'FORMATO N° 5_XX'!$V$43)+\nCOUNTIFS('BD-SOC'!$V$15:$V$30000,'FORMATO N° 5_XX'!B58,'BD-SOC'!$I$15:$I$30000,'FORMATO N° 5_XX'!$V$43)+\nCOUNTIFS('BD-SOC'!$X$15:$X$30000,'FORMATO N° 5_XX'!B58,'BD-SOC'!$I$15:$I$30000,'FORMATO N° 5_XX'!$V$43)+\nCOUNTIFS('BD-SOC'!$Z$15:$Z$30000,'FORMATO N° 5_XX'!B58,'BD-SOC'!$I$15:$I$30000,'FORMATO N° 5_XX'!$V$43)+\nCOUNTIFS('BD-SOC'!$AB$15:$AB$30000,'FORMATO N° 5_XX'!B58,'BD-SOC'!$I$15:$I$30000,'FORMATO N° 5_XX'!$V$43)","v":0},{"$f":"COUNTIFS('BD-SOC'!$P$15:$P$30000,'FORMATO N° 5_XX'!B58,'BD-SOC'!$I$15:$I$30000,'FORMATO N° 5_XX'!$W$43)+\nCOUNTIFS('BD-SOC'!$R$15:$R$30000,'FORMATO N° 5_XX'!B58,'BD-SOC'!$I$15:$I$30000,'FORMATO N° 5_XX'!$W$43)+\nCOUNTIFS('BD-SOC'!$T$15:$T$30000,'FORMATO N° 5_XX'!B58,'BD-SOC'!$I$15:$I$30000,'FORMATO N° 5_XX'!$W$43)+\nCOUNTIFS('BD-SOC'!$V$15:$V$30000,'FORMATO N° 5_XX'!B58,'BD-SOC'!$I$15:$I$30000,'FORMATO N° 5_XX'!$W$43)+\nCOUNTIFS('BD-SOC'!$X$15:$X$30000,'FORMATO N° 5_XX'!B58,'BD-SOC'!$I$15:$I$30000,'FORMATO N° 5_XX'!$W$43)+\nCOUNTIFS('BD-SOC'!$Z$15:$Z$30000,'FORMATO N° 5_XX'!B58,'BD-SOC'!$I$15:$I$30000,'FORMATO N° 5_XX'!$W$43)+\nCOUNTIFS('BD-SOC'!$AB$15:$AB$30000,'FORMATO N° 5_XX'!B58,'BD-SOC'!$I$15:$I$30000,'FORMATO N° 5_XX'!$W$43)","v":0},{"$f":"COUNTIFS('BD-SOC'!$P$15:$P$30000,'FORMATO N° 5_XX'!B58,'BD-SOC'!$I$15:$I$30000,'FORMATO N° 5_XX'!$X$43)+\nCOUNTIFS('BD-SOC'!$R$15:$R$30000,'FORMATO N° 5_XX'!B58,'BD-SOC'!$I$15:$I$30000,'FORMATO N° 5_XX'!$X$43)+\nCOUNTIFS('BD-SOC'!$T$15:$T$30000,'FORMATO N° 5_XX'!B58,'BD-SOC'!$I$15:$I$30000,'FORMATO N° 5_XX'!$X$43)+\nCOUNTIFS('BD-SOC'!$V$15:$V$30000,'FORMATO N° 5_XX'!B58,'BD-SOC'!$I$15:$I$30000,'FORMATO N° 5_XX'!$X$43)+\nCOUNTIFS('BD-SOC'!$X$15:$X$30000,'FORMATO N° 5_XX'!B58,'BD-SOC'!$I$15:$I$30000,'FORMATO N° 5_XX'!$X$43)+\nCOUNTIFS('BD-SOC'!$Z$15:$Z$30000,'FORMATO N° 5_XX'!B58,'BD-SOC'!$I$15:$I$30000,'FORMATO N° 5_XX'!$X$43)+\nCOUNTIFS('BD-SOC'!$AB$15:$AB$30000,'FORMATO N° 5_XX'!B58,'BD-SOC'!$I$15:$I$30000,'FORMATO N° 5_XX'!$X$43)","v":0},{"$f":"COUNTIFS('BD-SOC'!$P$15:$P$30000,'FORMATO N° 5_XX'!B58,'BD-SOC'!$I$15:$I$30000,'FORMATO N° 5_XX'!$Y$43)+\nCOUNTIFS('BD-SOC'!$R$15:$R$30000,'FORMATO N° 5_XX'!B58,'BD-SOC'!$I$15:$I$30000,'FORMATO N° 5_XX'!$Y$43)+\nCOUNTIFS('BD-SOC'!$T$15:$T$30000,'FORMATO N° 5_XX'!B58,'BD-SOC'!$I$15:$I$30000,'FORMATO N° 5_XX'!$Y$43)+\nCOUNTIFS('BD-SOC'!$V$15:$V$30000,'FORMATO N° 5_XX'!B58,'BD-SOC'!$I$15:$I$30000,'FORMATO N° 5_XX'!$Y$43)+\nCOUNTIFS('BD-SOC'!$X$15:$X$30000,'FORMATO N° 5_XX'!B58,'BD-SOC'!$I$15:$I$30000,'FORMATO N° 5_XX'!$Y$43)+\nCOUNTIFS('BD-SOC'!$Z$15:$Z$30000,'FORMATO N° 5_XX'!B58,'BD-SOC'!$I$15:$I$30000,'FORMATO N° 5_XX'!$Y$43)+\nCOUNTIFS('BD-SOC'!$AB$15:$AB$30000,'FORMATO N° 5_XX'!B58,'BD-SOC'!$I$15:$I$30000,'FORMATO N° 5_XX'!$Y$43)","v":0},{"$f":"COUNTIFS('BD-SOC'!$P$15:$P$30000,'FORMATO N° 5_XX'!B58,'BD-SOC'!$I$15:$I$30000,'FORMATO N° 5_XX'!$Z$43)+\nCOUNTIFS('BD-SOC'!$R$15:$R$30000,'FORMATO N° 5_XX'!B58,'BD-SOC'!$I$15:$I$30000,'FORMATO N° 5_XX'!$Z$43)+\nCOUNTIFS('BD-SOC'!$T$15:$T$30000,'FORMATO N° 5_XX'!B58,'BD-SOC'!$I$15:$I$30000,'FORMATO N° 5_XX'!$Z$43)+\nCOUNTIFS('BD-SOC'!$V$15:$V$30000,'FORMATO N° 5_XX'!B58,'BD-SOC'!$I$15:$I$30000,'FORMATO N° 5_XX'!$Z$43)+\nCOUNTIFS('BD-SOC'!$X$15:$X$30000,'FORMATO N° 5_XX'!B58,'BD-SOC'!$I$15:$I$30000,'FORMATO N° 5_XX'!$Z$43)+\nCOUNTIFS('BD-SOC'!$Z$15:$Z$30000,'FORMATO N° 5_XX'!B58,'BD-SOC'!$I$15:$I$30000,'FORMATO N° 5_XX'!$Z$43)+\nCOUNTIFS('BD-SOC'!$AB$15:$AB$30000,'FORMATO N° 5_XX'!B58,'BD-SOC'!$I$15:$I$30000,'FORMATO N° 5_XX'!$Z$43)","v":0},{"$f":"COUNTIFS('BD-SOC'!$P$15:$P$30000,'FORMATO N° 5_XX'!B58,'BD-SOC'!$I$15:$I$30000,'FORMATO N° 5_XX'!$AA$43)+\nCOUNTIFS('BD-SOC'!$R$15:$R$30000,'FORMATO N° 5_XX'!B58,'BD-SOC'!$I$15:$I$30000,'FORMATO N° 5_XX'!$AA$43)+\nCOUNTIFS('BD-SOC'!$T$15:$T$30000,'FORMATO N° 5_XX'!B58,'BD-SOC'!$I$15:$I$30000,'FORMATO N° 5_XX'!$AA$43)+\nCOUNTIFS('BD-SOC'!$V$15:$V$30000,'FORMATO N° 5_XX'!B58,'BD-SOC'!$I$15:$I$30000,'FORMATO N° 5_XX'!$AA$43)+\nCOUNTIFS('BD-SOC'!$X$15:$X$30000,'FORMATO N° 5_XX'!B58,'BD-SOC'!$I$15:$I$30000,'FORMATO N° 5_XX'!$AA$43)+\nCOUNTIFS('BD-SOC'!$Z$15:$Z$30000,'FORMATO N° 5_XX'!B58,'BD-SOC'!$I$15:$I$30000,'FORMATO N° 5_XX'!$AA$43)+\nCOUNTIFS('BD-SOC'!$AB$15:$AB$30000,'FORMATO N° 5_XX'!B58,'BD-SOC'!$I$15:$I$30000,'FORMATO N° 5_XX'!$AA$43)","v":0},{"$f":"COUNTIFS('BD-SOC'!$P$15:$P$30000,'FORMATO N° 5_XX'!B58,'BD-SOC'!$I$15:$I$30000,'FORMATO N° 5_XX'!$AB$43)+\nCOUNTIFS('BD-SOC'!$R$15:$R$30000,'FORMATO N° 5_XX'!B58,'BD-SOC'!$I$15:$I$30000,'FORMATO N° 5_XX'!$AB$43)+\nCOUNTIFS('BD-SOC'!$T$15:$T$30000,'FORMATO N° 5_XX'!B58,'BD-SOC'!$I$15:$I$30000,'FORMATO N° 5_XX'!$AB$43)+\nCOUNTIFS('BD-SOC'!$V$15:$V$30000,'FORMATO N° 5_XX'!B58,'BD-SOC'!$I$15:$I$30000,'FORMATO N° 5_XX'!$AB$43)+\nCOUNTIFS('BD-SOC'!$X$15:$X$30000,'FORMATO N° 5_XX'!B58,'BD-SOC'!$I$15:$I$30000,'FORMATO N° 5_XX'!$AB$43)+\nCOUNTIFS('BD-SOC'!$Z$15:$Z$30000,'FORMATO N° 5_XX'!B58,'BD-SOC'!$I$15:$I$30000,'FORMATO N° 5_XX'!$AB$43)+\nCOUNTIFS('BD-SOC'!$AB$15:$AB$30000,'FORMATO N° 5_XX'!B58,'BD-SOC'!$I$15:$I$30000,'FORMATO N° 5_XX'!$AB$43)","v":0},{"$f":"COUNTIFS('BD-SOC'!$P$15:$P$30000,'FORMATO N° 5_XX'!B58,'BD-SOC'!$I$15:$I$30000,'FORMATO N° 5_XX'!$AC$43)+\nCOUNTIFS('BD-SOC'!$R$15:$R$30000,'FORMATO N° 5_XX'!B58,'BD-SOC'!$I$15:$I$30000,'FORMATO N° 5_XX'!$AC$43)+\nCOUNTIFS('BD-SOC'!$T$15:$T$30000,'FORMATO N° 5_XX'!B58,'BD-SOC'!$I$15:$I$30000,'FORMATO N° 5_XX'!$AC$43)+\nCOUNTIFS('BD-SOC'!$V$15:$V$30000,'FORMATO N° 5_XX'!B58,'BD-SOC'!$I$15:$I$30000,'FORMATO N° 5_XX'!$AC$43)+\nCOUNTIFS('BD-SOC'!$X$15:$X$30000,'FORMATO N° 5_XX'!B58,'BD-SOC'!$I$15:$I$30000,'FORMATO N° 5_XX'!$AC$43)+\nCOUNTIFS('BD-SOC'!$Z$15:$Z$30000,'FORMATO N° 5_XX'!B58,'BD-SOC'!$I$15:$I$30000,'FORMATO N° 5_XX'!$AC$43)+\nCOUNTIFS('BD-SOC'!$AB$15:$AB$30000,'FORMATO N° 5_XX'!B58,'BD-SOC'!$I$15:$I$30000,'FORMATO N° 5_XX'!$AC$43)","v":0},{"$f":"COUNTIFS('BD-SOC'!$P$15:$P$30000,'FORMATO N° 5_XX'!B58,'BD-SOC'!$I$15:$I$30000,'FORMATO N° 5_XX'!$AD$43)+\nCOUNTIFS('BD-SOC'!$R$15:$R$30000,'FORMATO N° 5_XX'!B58,'BD-SOC'!$I$15:$I$30000,'FORMATO N° 5_XX'!$AD$43)+\nCOUNTIFS('BD-SOC'!$T$15:$T$30000,'FORMATO N° 5_XX'!B58,'BD-SOC'!$I$15:$I$30000,'FORMATO N° 5_XX'!$AD$43)+\nCOUNTIFS('BD-SOC'!$V$15:$V$30000,'FORMATO N° 5_XX'!B58,'BD-SOC'!$I$15:$I$30000,'FORMATO N° 5_XX'!$AD$43)+\nCOUNTIFS('BD-SOC'!$X$15:$X$30000,'FORMATO N° 5_XX'!B58,'BD-SOC'!$I$15:$I$30000,'FORMATO N° 5_XX'!$AD$43)+\nCOUNTIFS('BD-SOC'!$Z$15:$Z$30000,'FORMATO N° 5_XX'!B58,'BD-SOC'!$I$15:$I$30000,'FORMATO N° 5_XX'!$AD$43)+\nCOUNTIFS('BD-SOC'!$AB$15:$AB$30000,'FORMATO N° 5_XX'!B58,'BD-SOC'!$I$15:$I$30000,'FORMATO N° 5_XX'!$AD$43)","v":0},{"$f":"COUNTIFS('BD-SOC'!$P$15:$P$30000,'FORMATO N° 5_XX'!B58,'BD-SOC'!$I$15:$I$30000,'FORMATO N° 5_XX'!$AE$43)+\nCOUNTIFS('BD-SOC'!$R$15:$R$30000,'FORMATO N° 5_XX'!B58,'BD-SOC'!$I$15:$I$30000,'FORMATO N° 5_XX'!$AE$43)+\nCOUNTIFS('BD-SOC'!$T$15:$T$30000,'FORMATO N° 5_XX'!B58,'BD-SOC'!$I$15:$I$30000,'FORMATO N° 5_XX'!$AE$43)+\nCOUNTIFS('BD-SOC'!$V$15:$V$30000,'FORMATO N° 5_XX'!B58,'BD-SOC'!$I$15:$I$30000,'FORMATO N° 5_XX'!$AE$43)+\nCOUNTIFS('BD-SOC'!$X$15:$X$30000,'FORMATO N° 5_XX'!B58,'BD-SOC'!$I$15:$I$30000,'FORMATO N° 5_XX'!$AE$43)+\nCOUNTIFS('BD-SOC'!$Z$15:$Z$30000,'FORMATO N° 5_XX'!B58,'BD-SOC'!$I$15:$I$30000,'FORMATO N° 5_XX'!$AE$43)+\nCOUNTIFS('BD-SOC'!$AB$15:$AB$30000,'FORMATO N° 5_XX'!B58,'BD-SOC'!$I$15:$I$30000,'FORMATO N° 5_XX'!$AE$43)","v":0}]
[null,204,"INFORME DE VISITA FAMILIAR",null,null,null,null,null,{"$error":"#REF!"},{"$f":"COUNTIFS('BD-SOC'!$P$15:$P$30000,'FORMATO N° 5_XX'!B59,'BD-SOC'!#REF!,'FORMATO N° 5_XX'!$J$43)+\nCOUNTIFS('BD-SOC'!$R$15:$R$30000,'FORMATO N° 5_XX'!B59,'BD-SOC'!#REF!,'FORMATO N° 5_XX'!$J$43)+\nCOUNTIFS('BD-SOC'!$T$15:$T$30000,'FORMATO N° 5_XX'!B59,'BD-SOC'!#REF!,'FORMATO N° 5_XX'!$J$43)+\nCOUNTIFS('BD-SOC'!$V$15:$V$30000,'FORMATO N° 5_XX'!B59,'BD-SOC'!#REF!,'FORMATO N° 5_XX'!$J$43)+\nCOUNTIFS('BD-SOC'!$X$15:$X$30000,'FORMATO N° 5_XX'!B59,'BD-SOC'!#REF!,'FORMATO N° 5_XX'!$J$43)+\nCOUNTIFS('BD-SOC'!$Z$15:$Z$30000,'FORMATO N° 5_XX'!B59,'BD-SOC'!#REF!,'FORMATO N° 5_XX'!$J$43)+\nCOUNTIFS('BD-SOC'!$AB$15:$AB$30000,'FORMATO N° 5_XX'!B59,'BD-SOC'!#REF!,'FORMATO N° 5_XX'!$J$43)","v":{"$error":"#REF!"}},{"$f":"COUNTIFS('BD-SOC'!$P$15:$P$30000,'FORMATO N° 5_XX'!B59,'BD-SOC'!#REF!,'FORMATO N° 5_XX'!$K$43)+\nCOUNTIFS('BD-SOC'!$R$15:$R$30000,'FORMATO N° 5_XX'!B59,'BD-SOC'!#REF!,'FORMATO N° 5_XX'!$K$43)+\nCOUNTIFS('BD-SOC'!$T$15:$T$30000,'FORMATO N° 5_XX'!B59,'BD-SOC'!#REF!,'FORMATO N° 5_XX'!$K$43)+\nCOUNTIFS('BD-SOC'!$V$15:$V$30000,'FORMATO N° 5_XX'!B59,'BD-SOC'!#REF!,'FORMATO N° 5_XX'!$K$43)+\nCOUNTIFS('BD-SOC'!$X$15:$X$30000,'FORMATO N° 5_XX'!B59,'BD-SOC'!#REF!,'FORMATO N° 5_XX'!$K$43)+\nCOUNTIFS('BD-SOC'!$Z$15:$Z$30000,'FORMATO N° 5_XX'!B59,'BD-SOC'!#REF!,'FORMATO N° 5_XX'!$K$43)+\nCOUNTIFS('BD-SOC'!$AB$15:$AB$30000,'FORMATO N° 5_XX'!B59,'BD-SOC'!#REF!,'FORMATO N° 5_XX'!$K$43)","v":{"$error":"#REF!"}},{"$f":"COUNTIFS('BD-SOC'!$P$15:$P$30000,'FORMATO N° 5_XX'!B59,'BD-SOC'!#REF!,'FORMATO N° 5_XX'!$L$43)+\nCOUNTIFS('BD-SOC'!$R$15:$R$30000,'FORMATO N° 5_XX'!B59,'BD-SOC'!#REF!,'FORMATO N° 5_XX'!$L$43)+\nCOUNTIFS('BD-SOC'!$T$15:$T$30000,'FORMATO N° 5_XX'!B59,'BD-SOC'!#REF!,'FORMATO N° 5_XX'!$L$43)+\nCOUNTIFS('BD-SOC'!$V$15:$V$30000,'FORMATO N° 5_XX'!B59,'BD-SOC'!#REF!,'FORMATO N° 5_XX'!$L$43)+\nCOUNTIFS('BD-SOC'!$X$15:$X$30000,'FORMATO N° 5_XX'!B59,'BD-SOC'!#REF!,'FORMATO N° 5_XX'!$L$43)+\nCOUNTIFS('BD-SOC'!$Z$15:$Z$30000,'FORMATO N° 5_XX'!B59,'BD-SOC'!#REF!,'FORMATO N° 5_XX'!$L$43)+\nCOUNTIFS('BD-SOC'!$AB$15:$AB$30000,'FORMATO N° 5_XX'!B59,'BD-SOC'!#REF!,'FORMATO N° 5_XX'!$L$43)","v":{"$error":"#REF!"}},{"$f":"COUNTIFS('BD-SOC'!$P$15:$P$30000,'FORMATO N° 5_XX'!B59,'BD-SOC'!#REF!,'FORMATO N° 5_XX'!$M$44)+\nCOUNTIFS('BD-SOC'!$R$15:$R$30000,'FORMATO N° 5_XX'!B59,'BD-SOC'!#REF!,'FORMATO N° 5_XX'!$M$44)+\nCOUNTIFS('BD-SOC'!$T$15:$T$30000,'FORMATO N° 5_XX'!B59,'BD-SOC'!#REF!,'FORMATO N° 5_XX'!$M$44)+\nCOUNTIFS('BD-SOC'!$V$15:$V$30000,'FORMATO N° 5_XX'!B59,'BD-SOC'!#REF!,'FORMATO N° 5_XX'!$M$44)+\nCOUNTIFS('BD-SOC'!$X$15:$X$30000,'FORMATO N° 5_XX'!B59,'BD-SOC'!#REF!,'FORMATO N° 5_XX'!$M$44)+\nCOUNTIFS('BD-SOC'!$Z$15:$Z$30000,'FORMATO N° 5_XX'!B59,'BD-SOC'!#REF!,'FORMATO N° 5_XX'!$M$44)+\nCOUNTIFS('BD-SOC'!$AB$15:$AB$30000,'FORMATO N° 5_XX'!B59,'BD-SOC'!#REF!,'FORMATO N° 5_XX'!$M$44)","v":{"$error":"#REF!"}},{"$f":"COUNTIFS('BD-SOC'!$P$15:$P$30000,'FORMATO N° 5_XX'!B59,'BD-SOC'!#REF!,'FORMATO N° 5_XX'!$N$44)+\nCOUNTIFS('BD-SOC'!$R$15:$R$30000,'FORMATO N° 5_XX'!B59,'BD-SOC'!#REF!,'FORMATO N° 5_XX'!$N$44)+\nCOUNTIFS('BD-SOC'!$T$15:$T$30000,'FORMATO N° 5_XX'!B59,'BD-SOC'!#REF!,'FORMATO N° 5_XX'!$N$44)+\nCOUNTIFS('BD-SOC'!$V$15:$V$30000,'FORMATO N° 5_XX'!B59,'BD-SOC'!#REF!,'FORMATO N° 5_XX'!$N$44)+\nCOUNTIFS('BD-SOC'!$X$15:$X$30000,'FORMATO N° 5_XX'!B59,'BD-SOC'!#REF!,'FORMATO N° 5_XX'!$N$44)+\nCOUNTIFS('BD-SOC'!$Z$15:$Z$30000,'FORMATO N° 5_XX'!B59,'BD-SOC'!#REF!,'FORMATO N° 5_XX'!$N$44)+\nCOUNTIFS('BD-SOC'!$AB$15:$AB$30000,'FORMATO N° 5_XX'!B59,'BD-SOC'!#REF!,'FORMATO N° 5_XX'!$N$44)","v":{"$error":"#REF!"}},{"$f":"COUNTIFS('BD-SOC'!$P$15:$P$30000,'FORMATO N° 5_XX'!B59,'BD-SOC'!#REF!,'FORMATO N° 5_XX'!$O$44)+\nCOUNTIFS('BD-SOC'!$R$15:$R$30000,'FORMATO N° 5_XX'!B59,'BD-SOC'!#REF!,'FORMATO N° 5_XX'!$O$44)+\nCOUNTIFS('BD-SOC'!$T$15:$T$30000,'FORMATO N° 5_XX'!B59,'BD-SOC'!#REF!,'FORMATO N° 5_XX'!$O$44)+\nCOUNTIFS('BD-SOC'!$V$15:$V$30000,'FORMATO N° 5_XX'!B59,'BD-SOC'!#REF!,'FORMATO N° 5_XX'!$O$44)+\nCOUNTIFS('BD-SOC'!$X$15:$X$30000,'FORMATO N° 5_XX'!B59,'BD-SOC'!#REF!,'FORMATO N° 5_XX'!$O$44)+\nCOUNTIFS('BD-SOC'!$Z$15:$Z$30000,'FORMATO N° 5_XX'!B59,'BD-SOC'!#REF!,'FORMATO N° 5_XX'!$O$44)+\nCOUNTIFS('BD-SOC'!$AB$15:$AB$30000,'FORMATO N° 5_XX'!B59,'BD-SOC'!#REF!,'FORMATO N° 5_XX'!$O$44)","v":{"$error":"#REF!"}},{"$f":"COUNTIFS('BD-SOC'!$P$15:$P$30000,'FORMATO N° 5_XX'!B59,'BD-SOC'!#REF!,'FORMATO N° 5_XX'!$P$44)+\nCOUNTIFS('BD-SOC'!$R$15:$R$30000,'FORMATO N° 5_XX'!B59,'BD-SOC'!#REF!,'FORMATO N° 5_XX'!$P$44)+\nCOUNTIFS('BD-SOC'!$T$15:$T$30000,'FORMATO N° 5_XX'!B59,'BD-SOC'!#REF!,'FORMATO N° 5_XX'!$P$44)+\nCOUNTIFS('BD-SOC'!$V$15:$V$30000,'FORMATO N° 5_XX'!B59,'BD-SOC'!#REF!,'FORMATO N° 5_XX'!$P$44)+\nCOUNTIFS('BD-SOC'!$X$15:$X$30000,'FORMATO N° 5_XX'!B59,'BD-SOC'!#REF!,'FORMATO N° 5_XX'!$P$44)+\nCOUNTIFS('BD-SOC'!$Z$15:$Z$30000,'FORMATO N° 5_XX'!B59,'BD-SOC'!#REF!,'FORMATO N° 5_XX'!$P$44)+\nCOUNTIFS('BD-SOC'!$AB$15:$AB$30000,'FORMATO N° 5_XX'!B59,'BD-SOC'!#REF!,'FORMATO N° 5_XX'!$P$44)","v":{"$error":"#REF!"}},{"$f":"COUNTIFS('BD-SOC'!$P$15:$P$30000,'FORMATO N° 5_XX'!B59,'BD-SOC'!#REF!,'FORMATO N° 5_XX'!$Q$44)+\nCOUNTIFS('BD-SOC'!$R$15:$R$30000,'FORMATO N° 5_XX'!B59,'BD-SOC'!#REF!,'FORMATO N° 5_XX'!$Q$44)+\nCOUNTIFS('BD-SOC'!$T$15:$T$30000,'FORMATO N° 5_XX'!B59,'BD-SOC'!#REF!,'FORMATO N° 5_XX'!$Q$44)+\nCOUNTIFS('BD-SOC'!$V$15:$V$30000,'FORMATO N° 5_XX'!B59,'BD-SOC'!#REF!,'FORMATO N° 5_XX'!$Q$44)+\nCOUNTIFS('BD-SOC'!$X$15:$X$30000,'FORMATO N° 5_XX'!B59,'BD-SOC'!#REF!,'FORMATO N° 5_XX'!$Q$44)+\nCOUNTIFS('BD-SOC'!$Z$15:$Z$30000,'FORMATO N° 5_XX'!B59,'BD-SOC'!#REF!,'FORMATO N° 5_XX'!$Q$44)+\nCOUNTIFS('BD-SOC'!$AB$15:$AB$30000,'FORMATO N° 5_XX'!B59,'BD-SOC'!#REF!,'FORMATO N° 5_XX'!$Q$44)","v":{"$error":"#REF!"}},{"$f":"COUNTIFS('BD-SOC'!$P$15:$P$30000,'FORMATO N° 5_XX'!B59,'BD-SOC'!#REF!,'FORMATO N° 5_XX'!$R$44)+\nCOUNTIFS('BD-SOC'!$R$15:$R$30000,'FORMATO N° 5_XX'!B59,'BD-SOC'!#REF!,'FORMATO N° 5_XX'!$R$44)+\nCOUNTIFS('BD-SOC'!$T$15:$T$30000,'FORMATO N° 5_XX'!B59,'BD-SOC'!#REF!,'FORMATO N° 5_XX'!$R$44)+\nCOUNTIFS('BD-SOC'!$V$15:$V$30000,'FORMATO N° 5_XX'!B59,'BD-SOC'!#REF!,'FORMATO N° 5_XX'!$R$44)+\nCOUNTIFS('BD-SOC'!$X$15:$X$30000,'FORMATO N° 5_XX'!B59,'BD-SOC'!#REF!,'FORMATO N° 5_XX'!$R$44)+\nCOUNTIFS('BD-SOC'!$Z$15:$Z$30000,'FORMATO N° 5_XX'!B59,'BD-SOC'!#REF!,'FORMATO N° 5_XX'!$R$44)+\nCOUNTIFS('BD-SOC'!$AB$15:$AB$30000,'FORMATO N° 5_XX'!B59,'BD-SOC'!#REF!,'FORMATO N° 5_XX'!$R$44)","v":{"$error":"#REF!"}},{"$f":"COUNTIFS('BD-SOC'!$P$15:$P$30000,'FORMATO N° 5_XX'!B59,'BD-SOC'!#REF!,'FORMATO N° 5_XX'!$S$43)+\nCOUNTIFS('BD-SOC'!$R$15:$R$30000,'FORMATO N° 5_XX'!B59,'BD-SOC'!#REF!,'FORMATO N° 5_XX'!$S$43)+\nCOUNTIFS('BD-SOC'!$T$15:$T$30000,'FORMATO N° 5_XX'!B59,'BD-SOC'!#REF!,'FORMATO N° 5_XX'!$S$43)+\nCOUNTIFS('BD-SOC'!$V$15:$V$30000,'FORMATO N° 5_XX'!B59,'BD-SOC'!#REF!,'FORMATO N° 5_XX'!$S$43)+\nCOUNTIFS('BD-SOC'!$X$15:$X$30000,'FORMATO N° 5_XX'!B59,'BD-SOC'!#REF!,'FORMATO N° 5_XX'!$S$43)+\nCOUNTIFS('BD-SOC'!$Z$15:$Z$30000,'FORMATO N° 5_XX'!B59,'BD-SOC'!#REF!,'FORMATO N° 5_XX'!$S$43)+\nCOUNTIFS('BD-SOC'!$AB$15:$AB$30000,'FORMATO N° 5_XX'!B59,'BD-SOC'!#REF!,'FORMATO N° 5_XX'!$S$43)","v":{"$error":"#REF!"}},{"$f":"COUNTIFS('BD-SOC'!$P$15:$P$30000,'FORMATO N° 5_XX'!B59,'BD-SOC'!#REF!,'FORMATO N° 5_XX'!$T$43)+\nCOUNTIFS('BD-SOC'!$R$15:$R$30000,'FORMATO N° 5_XX'!B59,'BD-SOC'!#REF!,'FORMATO N° 5_XX'!$T$43)+\nCOUNTIFS('BD-SOC'!$T$15:$T$30000,'FORMATO N° 5_XX'!B59,'BD-SOC'!#REF!,'FORMATO N° 5_XX'!$T$43)+\nCOUNTIFS('BD-SOC'!$V$15:$V$30000,'FORMATO N° 5_XX'!B59,'BD-SOC'!#REF!,'FORMATO N° 5_XX'!$T$43)+\nCOUNTIFS('BD-SOC'!$X$15:$X$30000,'FORMATO N° 5_XX'!B59,'BD-SOC'!#REF!,'FORMATO N° 5_XX'!$T$43)+\nCOUNTIFS('BD-SOC'!$Z$15:$Z$30000,'FORMATO N° 5_XX'!B59,'BD-SOC'!#REF!,'FORMATO N° 5_XX'!$T$43)+\nCOUNTIFS('BD-SOC'!$AB$15:$AB$30000,'FORMATO N° 5_XX'!B59,'BD-SOC'!#REF!,'FORMATO N° 5_XX'!$T$43)","v":{"$error":"#REF!"}},0,{"$f":"COUNTIFS('BD-SOC'!$P$15:$P$30000,'FORMATO N° 5_XX'!B59,'BD-SOC'!$I$15:$I$30000,'FORMATO N° 5_XX'!$V$43)+\nCOUNTIFS('BD-SOC'!$R$15:$R$30000,'FORMATO N° 5_XX'!B59,'BD-SOC'!$I$15:$I$30000,'FORMATO N° 5_XX'!$V$43)+\nCOUNTIFS('BD-SOC'!$T$15:$T$30000,'FORMATO N° 5_XX'!B59,'BD-SOC'!$I$15:$I$30000,'FORMATO N° 5_XX'!$V$43)+\nCOUNTIFS('BD-SOC'!$V$15:$V$30000,'FORMATO N° 5_XX'!B59,'BD-SOC'!$I$15:$I$30000,'FORMATO N° 5_XX'!$V$43)+\nCOUNTIFS('BD-SOC'!$X$15:$X$30000,'FORMATO N° 5_XX'!B59,'BD-SOC'!$I$15:$I$30000,'FORMATO N° 5_XX'!$V$43)+\nCOUNTIFS('BD-SOC'!$Z$15:$Z$30000,'FORMATO N° 5_XX'!B59,'BD-SOC'!$I$15:$I$30000,'FORMATO N° 5_XX'!$V$43)+\nCOUNTIFS('BD-SOC'!$AB$15:$AB$30000,'FORMATO N° 5_XX'!B59,'BD-SOC'!$I$15:$I$30000,'FORMATO N° 5_XX'!$V$43)","v":0},{"$f":"COUNTIFS('BD-SOC'!$P$15:$P$30000,'FORMATO N° 5_XX'!B59,'BD-SOC'!$I$15:$I$30000,'FORMATO N° 5_XX'!$W$43)+\nCOUNTIFS('BD-SOC'!$R$15:$R$30000,'FORMATO N° 5_XX'!B59,'BD-SOC'!$I$15:$I$30000,'FORMATO N° 5_XX'!$W$43)+\nCOUNTIFS('BD-SOC'!$T$15:$T$30000,'FORMATO N° 5_XX'!B59,'BD-SOC'!$I$15:$I$30000,'FORMATO N° 5_XX'!$W$43)+\nCOUNTIFS('BD-SOC'!$V$15:$V$30000,'FORMATO N° 5_XX'!B59,'BD-SOC'!$I$15:$I$30000,'FORMATO N° 5_XX'!$W$43)+\nCOUNTIFS('BD-SOC'!$X$15:$X$30000,'FORMATO N° 5_XX'!B59,'BD-SOC'!$I$15:$I$30000,'FORMATO N° 5_XX'!$W$43)+\nCOUNTIFS('BD-SOC'!$Z$15:$Z$30000,'FORMATO N° 5_XX'!B59,'BD-SOC'!$I$15:$I$30000,'FORMATO N° 5_XX'!$W$43)+\nCOUNTIFS('BD-SOC'!$AB$15:$AB$30000,'FORMATO N° 5_XX'!B59,'BD-SOC'!$I$15:$I$30000,'FORMATO N° 5_XX'!$W$43)","v":0},{"$f":"COUNTIFS('BD-SOC'!$P$15:$P$30000,'FORMATO N° 5_XX'!B59,'BD-SOC'!$I$15:$I$30000,'FORMATO N° 5_XX'!$X$43)+\nCOUNTIFS('BD-SOC'!$R$15:$R$30000,'FORMATO N° 5_XX'!B59,'BD-SOC'!$I$15:$I$30000,'FORMATO N° 5_XX'!$X$43)+\nCOUNTIFS('BD-SOC'!$T$15:$T$30000,'FORMATO N° 5_XX'!B59,'BD-SOC'!$I$15:$I$30000,'FORMATO N° 5_XX'!$X$43)+\nCOUNTIFS('BD-SOC'!$V$15:$V$30000,'FORMATO N° 5_XX'!B59,'BD-SOC'!$I$15:$I$30000,'FORMATO N° 5_XX'!$X$43)+\nCOUNTIFS('BD-SOC'!$X$15:$X$30000,'FORMATO N° 5_XX'!B59,'BD-SOC'!$I$15:$I$30000,'FORMATO N° 5_XX'!$X$43)+\nCOUNTIFS('BD-SOC'!$Z$15:$Z$30000,'FORMATO N° 5_XX'!B59,'BD-SOC'!$I$15:$I$30000,'FORMATO N° 5_XX'!$X$43)+\nCOUNTIFS('BD-SOC'!$AB$15:$AB$30000,'FORMATO N° 5_XX'!B59,'BD-SOC'!$I$15:$I$30000,'FORMATO N° 5_XX'!$X$43)","v":0},{"$f":"COUNTIFS('BD-SOC'!$P$15:$P$30000,'FORMATO N° 5_XX'!B59,'BD-SOC'!$I$15:$I$30000,'FORMATO N° 5_XX'!$Y$43)+\nCOUNTIFS('BD-SOC'!$R$15:$R$30000,'FORMATO N° 5_XX'!B59,'BD-SOC'!$I$15:$I$30000,'FORMATO N° 5_XX'!$Y$43)+\nCOUNTIFS('BD-SOC'!$T$15:$T$30000,'FORMATO N° 5_XX'!B59,'BD-SOC'!$I$15:$I$30000,'FORMATO N° 5_XX'!$Y$43)+\nCOUNTIFS('BD-SOC'!$V$15:$V$30000,'FORMATO N° 5_XX'!B59,'BD-SOC'!$I$15:$I$30000,'FORMATO N° 5_XX'!$Y$43)+\nCOUNTIFS('BD-SOC'!$X$15:$X$30000,'FORMATO N° 5_XX'!B59,'BD-SOC'!$I$15:$I$30000,'FORMATO N° 5_XX'!$Y$43)+\nCOUNTIFS('BD-SOC'!$Z$15:$Z$30000,'FORMATO N° 5_XX'!B59,'BD-SOC'!$I$15:$I$30000,'FORMATO N° 5_XX'!$Y$43)+\nCOUNTIFS('BD-SOC'!$AB$15:$AB$30000,'FORMATO N° 5_XX'!B59,'BD-SOC'!$I$15:$I$30000,'FORMATO N° 5_XX'!$Y$43)","v":0},{"$f":"COUNTIFS('BD-SOC'!$P$15:$P$30000,'FORMATO N° 5_XX'!B59,'BD-SOC'!$I$15:$I$30000,'FORMATO N° 5_XX'!$Z$43)+\nCOUNTIFS('BD-SOC'!$R$15:$R$30000,'FORMATO N° 5_XX'!B59,'BD-SOC'!$I$15:$I$30000,'FORMATO N° 5_XX'!$Z$43)+\nCOUNTIFS('BD-SOC'!$T$15:$T$30000,'FORMATO N° 5_XX'!B59,'BD-SOC'!$I$15:$I$30000,'FORMATO N° 5_XX'!$Z$43)+\nCOUNTIFS('BD-SOC'!$V$15:$V$30000,'FORMATO N° 5_XX'!B59,'BD-SOC'!$I$15:$I$30000,'FORMATO N° 5_XX'!$Z$43)+\nCOUNTIFS('BD-SOC'!$X$15:$X$30000,'FORMATO N° 5_XX'!B59,'BD-SOC'!$I$15:$I$30000,'FORMATO N° 5_XX'!$Z$43)+\nCOUNTIFS('BD-SOC'!$Z$15:$Z$30000,'FORMATO N° 5_XX'!B59,'BD-SOC'!$I$15:$I$30000,'FORMATO N° 5_XX'!$Z$43)+\nCOUNTIFS('BD-SOC'!$AB$15:$AB$30000,'FORMATO N° 5_XX'!B59,'BD-SOC'!$I$15:$I$30000,'FORMATO N° 5_XX'!$Z$43)","v":0},{"$f":"COUNTIFS('BD-SOC'!$P$15:$P$30000,'FORMATO N° 5_XX'!B59,'BD-SOC'!$I$15:$I$30000,'FORMATO N° 5_XX'!$AA$43)+\nCOUNTIFS('BD-SOC'!$R$15:$R$30000,'FORMATO N° 5_XX'!B59,'BD-SOC'!$I$15:$I$30000,'FORMATO N° 5_XX'!$AA$43)+\nCOUNTIFS('BD-SOC'!$T$15:$T$30000,'FORMATO N° 5_XX'!B59,'BD-SOC'!$I$15:$I$30000,'FORMATO N° 5_XX'!$AA$43)+\nCOUNTIFS('BD-SOC'!$V$15:$V$30000,'FORMATO N° 5_XX'!B59,'BD-SOC'!$I$15:$I$30000,'FORMATO N° 5_XX'!$AA$43)+\nCOUNTIFS('BD-SOC'!$X$15:$X$30000,'FORMATO N° 5_XX'!B59,'BD-SOC'!$I$15:$I$30000,'FORMATO N° 5_XX'!$AA$43)+\nCOUNTIFS('BD-SOC'!$Z$15:$Z$30000,'FORMATO N° 5_XX'!B59,'BD-SOC'!$I$15:$I$30000,'FORMATO N° 5_XX'!$AA$43)+\nCOUNTIFS('BD-SOC'!$AB$15:$AB$30000,'FORMATO N° 5_XX'!B59,'BD-SOC'!$I$15:$I$30000,'FORMATO N° 5_XX'!$AA$43)","v":0},{"$f":"COUNTIFS('BD-SOC'!$P$15:$P$30000,'FORMATO N° 5_XX'!B59,'BD-SOC'!$I$15:$I$30000,'FORMATO N° 5_XX'!$AB$43)+\nCOUNTIFS('BD-SOC'!$R$15:$R$30000,'FORMATO N° 5_XX'!B59,'BD-SOC'!$I$15:$I$30000,'FORMATO N° 5_XX'!$AB$43)+\nCOUNTIFS('BD-SOC'!$T$15:$T$30000,'FORMATO N° 5_XX'!B59,'BD-SOC'!$I$15:$I$30000,'FORMATO N° 5_XX'!$AB$43)+\nCOUNTIFS('BD-SOC'!$V$15:$V$30000,'FORMATO N° 5_XX'!B59,'BD-SOC'!$I$15:$I$30000,'FORMATO N° 5_XX'!$AB$43)+\nCOUNTIFS('BD-SOC'!$X$15:$X$30000,'FORMATO N° 5_XX'!B59,'BD-SOC'!$I$15:$I$30000,'FORMATO N° 5_XX'!$AB$43)+\nCOUNTIFS('BD-SOC'!$Z$15:$Z$30000,'FORMATO N° 5_XX'!B59,'BD-SOC'!$I$15:$I$30000,'FORMATO N° 5_XX'!$AB$43)+\nCOUNTIFS('BD-SOC'!$AB$15:$AB$30000,'FORMATO N° 5_XX'!B59,'BD-SOC'!$I$15:$I$30000,'FORMATO N° 5_XX'!$AB$43)","v":0},{"$f":"COUNTIFS('BD-SOC'!$P$15:$P$30000,'FORMATO N° 5_XX'!B59,'BD-SOC'!$I$15:$I$30000,'FORMATO N° 5_XX'!$AC$43)+\nCOUNTIFS('BD-SOC'!$R$15:$R$30000,'FORMATO N° 5_XX'!B59,'BD-SOC'!$I$15:$I$30000,'FORMATO N° 5_XX'!$AC$43)+\nCOUNTIFS('BD-SOC'!$T$15:$T$30000,'FORMATO N° 5_XX'!B59,'BD-SOC'!$I$15:$I$30000,'FORMATO N° 5_XX'!$AC$43)+\nCOUNTIFS('BD-SOC'!$V$15:$V$30000,'FORMATO N° 5_XX'!B59,'BD-SOC'!$I$15:$I$30000,'FORMATO N° 5_XX'!$AC$43)+\nCOUNTIFS('BD-SOC'!$X$15:$X$30000,'FORMATO N° 5_XX'!B59,'BD-SOC'!$I$15:$I$30000,'FORMATO N° 5_XX'!$AC$43)+\nCOUNTIFS('BD-SOC'!$Z$15:$Z$30000,'FORMATO N° 5_XX'!B59,'BD-SOC'!$I$15:$I$30000,'FORMATO N° 5_XX'!$AC$43)+\nCOUNTIFS('BD-SOC'!$AB$15:$AB$30000,'FORMATO N° 5_XX'!B59,'BD-SOC'!$I$15:$I$30000,'FORMATO N° 5_XX'!$AC$43)","v":0},{"$f":"COUNTIFS('BD-SOC'!$P$15:$P$30000,'FORMATO N° 5_XX'!B59,'BD-SOC'!$I$15:$I$30000,'FORMATO N° 5_XX'!$AD$43)+\nCOUNTIFS('BD-SOC'!$R$15:$R$30000,'FORMATO N° 5_XX'!B59,'BD-SOC'!$I$15:$I$30000,'FORMATO N° 5_XX'!$AD$43)+\nCOUNTIFS('BD-SOC'!$T$15:$T$30000,'FORMATO N° 5_XX'!B59,'BD-SOC'!$I$15:$I$30000,'FORMATO N° 5_XX'!$AD$43)+\nCOUNTIFS('BD-SOC'!$V$15:$V$30000,'FORMATO N° 5_XX'!B59,'BD-SOC'!$I$15:$I$30000,'FORMATO N° 5_XX'!$AD$43)+\nCOUNTIFS('BD-SOC'!$X$15:$X$30000,'FORMATO N° 5_XX'!B59,'BD-SOC'!$I$15:$I$30000,'FORMATO N° 5_XX'!$AD$43)+\nCOUNTIFS('BD-SOC'!$Z$15:$Z$30000,'FORMATO N° 5_XX'!B59,'BD-SOC'!$I$15:$I$30000,'FORMATO N° 5_XX'!$AD$43)+\nCOUNTIFS('BD-SOC'!$AB$15:$AB$30000,'FORMATO N° 5_XX'!B59,'BD-SOC'!$I$15:$I$30000,'FORMATO N° 5_XX'!$AD$43)","v":0},{"$f":"COUNTIFS('BD-SOC'!$P$15:$P$30000,'FORMATO N° 5_XX'!B59,'BD-SOC'!$I$15:$I$30000,'FORMATO N° 5_XX'!$AE$43)+\nCOUNTIFS('BD-SOC'!$R$15:$R$30000,'FORMATO N° 5_XX'!B59,'BD-SOC'!$I$15:$I$30000,'FORMATO N° 5_XX'!$AE$43)+\nCOUNTIFS('BD-SOC'!$T$15:$T$30000,'FORMATO N° 5_XX'!B59,'BD-SOC'!$I$15:$I$30000,'FORMATO N° 5_XX'!$AE$43)+\nCOUNTIFS('BD-SOC'!$V$15:$V$30000,'FORMATO N° 5_XX'!B59,'BD-SOC'!$I$15:$I$30000,'FORMATO N° 5_XX'!$AE$43)+\nCOUNTIFS('BD-SOC'!$X$15:$X$30000,'FORMATO N° 5_XX'!B59,'BD-SOC'!$I$15:$I$30000,'FORMATO N° 5_XX'!$AE$43)+\nCOUNTIFS('BD-SOC'!$Z$15:$Z$30000,'FORMATO N° 5_XX'!B59,'BD-SOC'!$I$15:$I$30000,'FORMATO N° 5_XX'!$AE$43)+\nCOUNTIFS('BD-SOC'!$AB$15:$AB$30000,'FORMATO N° 5_XX'!B59,'BD-SOC'!$I$15:$I$30000,'FORMATO N° 5_XX'!$AE$43)","v":0}]
[null,205,"INFORME DE AD HONOREM",null,null,null,null,null,{"$error":"#REF!"},{"$f":"COUNTIFS('BD-SOC'!$P$15:$P$30000,'FORMATO N° 5_XX'!B60,'BD-SOC'!#REF!,'FORMATO N° 5_XX'!$J$43)+\nCOUNTIFS('BD-SOC'!$R$15:$R$30000,'FORMATO N° 5_XX'!B60,'BD-SOC'!#REF!,'FORMATO N° 5_XX'!$J$43)+\nCOUNTIFS('BD-SOC'!$T$15:$T$30000,'FORMATO N° 5_XX'!B60,'BD-SOC'!#REF!,'FORMATO N° 5_XX'!$J$43)+\nCOUNTIFS('BD-SOC'!$V$15:$V$30000,'FORMATO N° 5_XX'!B60,'BD-SOC'!#REF!,'FORMATO N° 5_XX'!$J$43)+\nCOUNTIFS('BD-SOC'!$X$15:$X$30000,'FORMATO N° 5_XX'!B60,'BD-SOC'!#REF!,'FORMATO N° 5_XX'!$J$43)+\nCOUNTIFS('BD-SOC'!$Z$15:$Z$30000,'FORMATO N° 5_XX'!B60,'BD-SOC'!#REF!,'FORMATO N° 5_XX'!$J$43)+\nCOUNTIFS('BD-SOC'!$AB$15:$AB$30000,'FORMATO N° 5_XX'!B60,'BD-SOC'!#REF!,'FORMATO N° 5_XX'!$J$43)","v":{"$error":"#REF!"}},{"$f":"COUNTIFS('BD-SOC'!$P$15:$P$30000,'FORMATO N° 5_XX'!B60,'BD-SOC'!#REF!,'FORMATO N° 5_XX'!$K$43)+\nCOUNTIFS('BD-SOC'!$R$15:$R$30000,'FORMATO N° 5_XX'!B60,'BD-SOC'!#REF!,'FORMATO N° 5_XX'!$K$43)+\nCOUNTIFS('BD-SOC'!$T$15:$T$30000,'FORMATO N° 5_XX'!B60,'BD-SOC'!#REF!,'FORMATO N° 5_XX'!$K$43)+\nCOUNTIFS('BD-SOC'!$V$15:$V$30000,'FORMATO N° 5_XX'!B60,'BD-SOC'!#REF!,'FORMATO N° 5_XX'!$K$43)+\nCOUNTIFS('BD-SOC'!$X$15:$X$30000,'FORMATO N° 5_XX'!B60,'BD-SOC'!#REF!,'FORMATO N° 5_XX'!$K$43)+\nCOUNTIFS('BD-SOC'!$Z$15:$Z$30000,'FORMATO N° 5_XX'!B60,'BD-SOC'!#REF!,'FORMATO N° 5_XX'!$K$43)+\nCOUNTIFS('BD-SOC'!$AB$15:$AB$30000,'FORMATO N° 5_XX'!B60,'BD-SOC'!#REF!,'FORMATO N° 5_XX'!$K$43)","v":{"$error":"#REF!"}},{"$f":"COUNTIFS('BD-SOC'!$P$15:$P$30000,'FORMATO N° 5_XX'!B60,'BD-SOC'!#REF!,'FORMATO N° 5_XX'!$L$43)+\nCOUNTIFS('BD-SOC'!$R$15:$R$30000,'FORMATO N° 5_XX'!B60,'BD-SOC'!#REF!,'FORMATO N° 5_XX'!$L$43)+\nCOUNTIFS('BD-SOC'!$T$15:$T$30000,'FORMATO N° 5_XX'!B60,'BD-SOC'!#REF!,'FORMATO N° 5_XX'!$L$43)+\nCOUNTIFS('BD-SOC'!$V$15:$V$30000,'FORMATO N° 5_XX'!B60,'BD-SOC'!#REF!,'FORMATO N° 5_XX'!$L$43)+\nCOUNTIFS('BD-SOC'!$X$15:$X$30000,'FORMATO N° 5_XX'!B60,'BD-SOC'!#REF!,'FORMATO N° 5_XX'!$L$43)+\nCOUNTIFS('BD-SOC'!$Z$15:$Z$30000,'FORMATO N° 5_XX'!B60,'BD-SOC'!#REF!,'FORMATO N° 5_XX'!$L$43)+\nCOUNTIFS('BD-SOC'!$AB$15:$AB$30000,'FORMATO N° 5_XX'!B60,'BD-SOC'!#REF!,'FORMATO N° 5_XX'!$L$43)","v":{"$error":"#REF!"}},{"$f":"COUNTIFS('BD-SOC'!$P$15:$P$30000,'FORMATO N° 5_XX'!B60,'BD-SOC'!#REF!,'FORMATO N° 5_XX'!$M$44)+\nCOUNTIFS('BD-SOC'!$R$15:$R$30000,'FORMATO N° 5_XX'!B60,'BD-SOC'!#REF!,'FORMATO N° 5_XX'!$M$44)+\nCOUNTIFS('BD-SOC'!$T$15:$T$30000,'FORMATO N° 5_XX'!B60,'BD-SOC'!#REF!,'FORMATO N° 5_XX'!$M$44)+\nCOUNTIFS('BD-SOC'!$V$15:$V$30000,'FORMATO N° 5_XX'!B60,'BD-SOC'!#REF!,'FORMATO N° 5_XX'!$M$44)+\nCOUNTIFS('BD-SOC'!$X$15:$X$30000,'FORMATO N° 5_XX'!B60,'BD-SOC'!#REF!,'FORMATO N° 5_XX'!$M$44)+\nCOUNTIFS('BD-SOC'!$Z$15:$Z$30000,'FORMATO N° 5_XX'!B60,'BD-SOC'!#REF!,'FORMATO N° 5_XX'!$M$44)+\nCOUNTIFS('BD-SOC'!$AB$15:$AB$30000,'FORMATO N° 5_XX'!B60,'BD-SOC'!#REF!,'FORMATO N° 5_XX'!$M$44)","v":{"$error":"#REF!"}},{"$f":"COUNTIFS('BD-SOC'!$P$15:$P$30000,'FORMATO N° 5_XX'!B60,'BD-SOC'!#REF!,'FORMATO N° 5_XX'!$N$44)+\nCOUNTIFS('BD-SOC'!$R$15:$R$30000,'FORMATO N° 5_XX'!B60,'BD-SOC'!#REF!,'FORMATO N° 5_XX'!$N$44)+\nCOUNTIFS('BD-SOC'!$T$15:$T$30000,'FORMATO N° 5_XX'!B60,'BD-SOC'!#REF!,'FORMATO N° 5_XX'!$N$44)+\nCOUNTIFS('BD-SOC'!$V$15:$V$30000,'FORMATO N° 5_XX'!B60,'BD-SOC'!#REF!,'FORMATO N° 5_XX'!$N$44)+\nCOUNTIFS('BD-SOC'!$X$15:$X$30000,'FORMATO N° 5_XX'!B60,'BD-SOC'!#REF!,'FORMATO N° 5_XX'!$N$44)+\nCOUNTIFS('BD-SOC'!$Z$15:$Z$30000,'FORMATO N° 5_XX'!B60,'BD-SOC'!#REF!,'FORMATO N° 5_XX'!$N$44)+\nCOUNTIFS('BD-SOC'!$AB$15:$AB$30000,'FORMATO N° 5_XX'!B60,'BD-SOC'!#REF!,'FORMATO N° 5_XX'!$N$44)","v":{"$error":"#REF!"}},{"$f":"COUNTIFS('BD-SOC'!$P$15:$P$30000,'FORMATO N° 5_XX'!B60,'BD-SOC'!#REF!,'FORMATO N° 5_XX'!$O$44)+\nCOUNTIFS('BD-SOC'!$R$15:$R$30000,'FORMATO N° 5_XX'!B60,'BD-SOC'!#REF!,'FORMATO N° 5_XX'!$O$44)+\nCOUNTIFS('BD-SOC'!$T$15:$T$30000,'FORMATO N° 5_XX'!B60,'BD-SOC'!#REF!,'FORMATO N° 5_XX'!$O$44)+\nCOUNTIFS('BD-SOC'!$V$15:$V$30000,'FORMATO N° 5_XX'!B60,'BD-SOC'!#REF!,'FORMATO N° 5_XX'!$O$44)+\nCOUNTIFS('BD-SOC'!$X$15:$X$30000,'FORMATO N° 5_XX'!B60,'BD-SOC'!#REF!,'FORMATO N° 5_XX'!$O$44)+\nCOUNTIFS('BD-SOC'!$Z$15:$Z$30000,'FORMATO N° 5_XX'!B60,'BD-SOC'!#REF!,'FORMATO N° 5_XX'!$O$44)+\nCOUNTIFS('BD-SOC'!$AB$15:$AB$30000,'FORMATO N° 5_XX'!B60,'BD-SOC'!#REF!,'FORMATO N° 5_XX'!$O$44)","v":{"$error":"#REF!"}},{"$f":"COUNTIFS('BD-SOC'!$P$15:$P$30000,'FORMATO N° 5_XX'!B60,'BD-SOC'!#REF!,'FORMATO N° 5_XX'!$P$44)+\nCOUNTIFS('BD-SOC'!$R$15:$R$30000,'FORMATO N° 5_XX'!B60,'BD-SOC'!#REF!,'FORMATO N° 5_XX'!$P$44)+\nCOUNTIFS('BD-SOC'!$T$15:$T$30000,'FORMATO N° 5_XX'!B60,'BD-SOC'!#REF!,'FORMATO N° 5_XX'!$P$44)+\nCOUNTIFS('BD-SOC'!$V$15:$V$30000,'FORMATO N° 5_XX'!B60,'BD-SOC'!#REF!,'FORMATO N° 5_XX'!$P$44)+\nCOUNTIFS('BD-SOC'!$X$15:$X$30000,'FORMATO N° 5_XX'!B60,'BD-SOC'!#REF!,'FORMATO N° 5_XX'!$P$44)+\nCOUNTIFS('BD-SOC'!$Z$15:$Z$30000,'FORMATO N° 5_XX'!B60,'BD-SOC'!#REF!,'FORMATO N° 5_XX'!$P$44)+\nCOUNTIFS('BD-SOC'!$AB$15:$AB$30000,'FORMATO N° 5_XX'!B60,'BD-SOC'!#REF!,'FORMATO N° 5_XX'!$P$44)","v":{"$error":"#REF!"}},{"$f":"COUNTIFS('BD-SOC'!$P$15:$P$30000,'FORMATO N° 5_XX'!B60,'BD-SOC'!#REF!,'FORMATO N° 5_XX'!$Q$44)+\nCOUNTIFS('BD-SOC'!$R$15:$R$30000,'FORMATO N° 5_XX'!B60,'BD-SOC'!#REF!,'FORMATO N° 5_XX'!$Q$44)+\nCOUNTIFS('BD-SOC'!$T$15:$T$30000,'FORMATO N° 5_XX'!B60,'BD-SOC'!#REF!,'FORMATO N° 5_XX'!$Q$44)+\nCOUNTIFS('BD-SOC'!$V$15:$V$30000,'FORMATO N° 5_XX'!B60,'BD-SOC'!#REF!,'FORMATO N° 5_XX'!$Q$44)+\nCOUNTIFS('BD-SOC'!$X$15:$X$30000,'FORMATO N° 5_XX'!B60,'BD-SOC'!#REF!,'FORMATO N° 5_XX'!$Q$44)+\nCOUNTIFS('BD-SOC'!$Z$15:$Z$30000,'FORMATO N° 5_XX'!B60,'BD-SOC'!#REF!,'FORMATO N° 5_XX'!$Q$44)+\nCOUNTIFS('BD-SOC'!$AB$15:$AB$30000,'FORMATO N° 5_XX'!B60,'BD-SOC'!#REF!,'FORMATO N° 5_XX'!$Q$44)","v":{"$error":"#REF!"}},{"$f":"COUNTIFS('BD-SOC'!$P$15:$P$30000,'FORMATO N° 5_XX'!B60,'BD-SOC'!#REF!,'FORMATO N° 5_XX'!$R$44)+\nCOUNTIFS('BD-SOC'!$R$15:$R$30000,'FORMATO N° 5_XX'!B60,'BD-SOC'!#REF!,'FORMATO N° 5_XX'!$R$44)+\nCOUNTIFS('BD-SOC'!$T$15:$T$30000,'FORMATO N° 5_XX'!B60,'BD-SOC'!#REF!,'FORMATO N° 5_XX'!$R$44)+\nCOUNTIFS('BD-SOC'!$V$15:$V$30000,'FORMATO N° 5_XX'!B60,'BD-SOC'!#REF!,'FORMATO N° 5_XX'!$R$44)+\nCOUNTIFS('BD-SOC'!$X$15:$X$30000,'FORMATO N° 5_XX'!B60,'BD-SOC'!#REF!,'FORMATO N° 5_XX'!$R$44)+\nCOUNTIFS('BD-SOC'!$Z$15:$Z$30000,'FORMATO N° 5_XX'!B60,'BD-SOC'!#REF!,'FORMATO N° 5_XX'!$R$44)+\nCOUNTIFS('BD-SOC'!$AB$15:$AB$30000,'FORMATO N° 5_XX'!B60,'BD-SOC'!#REF!,'FORMATO N° 5_XX'!$R$44)","v":{"$error":"#REF!"}},{"$f":"COUNTIFS('BD-SOC'!$P$15:$P$30000,'FORMATO N° 5_XX'!B60,'BD-SOC'!#REF!,'FORMATO N° 5_XX'!$S$43)+\nCOUNTIFS('BD-SOC'!$R$15:$R$30000,'FORMATO N° 5_XX'!B60,'BD-SOC'!#REF!,'FORMATO N° 5_XX'!$S$43)+\nCOUNTIFS('BD-SOC'!$T$15:$T$30000,'FORMATO N° 5_XX'!B60,'BD-SOC'!#REF!,'FORMATO N° 5_XX'!$S$43)+\nCOUNTIFS('BD-SOC'!$V$15:$V$30000,'FORMATO N° 5_XX'!B60,'BD-SOC'!#REF!,'FORMATO N° 5_XX'!$S$43)+\nCOUNTIFS('BD-SOC'!$X$15:$X$30000,'FORMATO N° 5_XX'!B60,'BD-SOC'!#REF!,'FORMATO N° 5_XX'!$S$43)+\nCOUNTIFS('BD-SOC'!$Z$15:$Z$30000,'FORMATO N° 5_XX'!B60,'BD-SOC'!#REF!,'FORMATO N° 5_XX'!$S$43)+\nCOUNTIFS('BD-SOC'!$AB$15:$AB$30000,'FORMATO N° 5_XX'!B60,'BD-SOC'!#REF!,'FORMATO N° 5_XX'!$S$43)","v":{"$error":"#REF!"}},{"$f":"COUNTIFS('BD-SOC'!$P$15:$P$30000,'FORMATO N° 5_XX'!B60,'BD-SOC'!#REF!,'FORMATO N° 5_XX'!$T$43)+\nCOUNTIFS('BD-SOC'!$R$15:$R$30000,'FORMATO N° 5_XX'!B60,'BD-SOC'!#REF!,'FORMATO N° 5_XX'!$T$43)+\nCOUNTIFS('BD-SOC'!$T$15:$T$30000,'FORMATO N° 5_XX'!B60,'BD-SOC'!#REF!,'FORMATO N° 5_XX'!$T$43)+\nCOUNTIFS('BD-SOC'!$V$15:$V$30000,'FORMATO N° 5_XX'!B60,'BD-SOC'!#REF!,'FORMATO N° 5_XX'!$T$43)+\nCOUNTIFS('BD-SOC'!$X$15:$X$30000,'FORMATO N° 5_XX'!B60,'BD-SOC'!#REF!,'FORMATO N° 5_XX'!$T$43)+\nCOUNTIFS('BD-SOC'!$Z$15:$Z$30000,'FORMATO N° 5_XX'!B60,'BD-SOC'!#REF!,'FORMATO N° 5_XX'!$T$43)+\nCOUNTIFS('BD-SOC'!$AB$15:$AB$30000,'FORMATO N° 5_XX'!B60,'BD-SOC'!#REF!,'FORMATO N° 5_XX'!$T$43)","v":{"$error":"#REF!"}},0,{"$f":"COUNTIFS('BD-SOC'!$P$15:$P$30000,'FORMATO N° 5_XX'!B60,'BD-SOC'!$I$15:$I$30000,'FORMATO N° 5_XX'!$V$43)+\nCOUNTIFS('BD-SOC'!$R$15:$R$30000,'FORMATO N° 5_XX'!B60,'BD-SOC'!$I$15:$I$30000,'FORMATO N° 5_XX'!$V$43)+\nCOUNTIFS('BD-SOC'!$T$15:$T$30000,'FORMATO N° 5_XX'!B60,'BD-SOC'!$I$15:$I$30000,'FORMATO N° 5_XX'!$V$43)+\nCOUNTIFS('BD-SOC'!$V$15:$V$30000,'FORMATO N° 5_XX'!B60,'BD-SOC'!$I$15:$I$30000,'FORMATO N° 5_XX'!$V$43)+\nCOUNTIFS('BD-SOC'!$X$15:$X$30000,'FORMATO N° 5_XX'!B60,'BD-SOC'!$I$15:$I$30000,'FORMATO N° 5_XX'!$V$43)+\nCOUNTIFS('BD-SOC'!$Z$15:$Z$30000,'FORMATO N° 5_XX'!B60,'BD-SOC'!$I$15:$I$30000,'FORMATO N° 5_XX'!$V$43)+\nCOUNTIFS('BD-SOC'!$AB$15:$AB$30000,'FORMATO N° 5_XX'!B60,'BD-SOC'!$I$15:$I$30000,'FORMATO N° 5_XX'!$V$43)","v":0},{"$f":"COUNTIFS('BD-SOC'!$P$15:$P$30000,'FORMATO N° 5_XX'!B60,'BD-SOC'!$I$15:$I$30000,'FORMATO N° 5_XX'!$W$43)+\nCOUNTIFS('BD-SOC'!$R$15:$R$30000,'FORMATO N° 5_XX'!B60,'BD-SOC'!$I$15:$I$30000,'FORMATO N° 5_XX'!$W$43)+\nCOUNTIFS('BD-SOC'!$T$15:$T$30000,'FORMATO N° 5_XX'!B60,'BD-SOC'!$I$15:$I$30000,'FORMATO N° 5_XX'!$W$43)+\nCOUNTIFS('BD-SOC'!$V$15:$V$30000,'FORMATO N° 5_XX'!B60,'BD-SOC'!$I$15:$I$30000,'FORMATO N° 5_XX'!$W$43)+\nCOUNTIFS('BD-SOC'!$X$15:$X$30000,'FORMATO N° 5_XX'!B60,'BD-SOC'!$I$15:$I$30000,'FORMATO N° 5_XX'!$W$43)+\nCOUNTIFS('BD-SOC'!$Z$15:$Z$30000,'FORMATO N° 5_XX'!B60,'BD-SOC'!$I$15:$I$30000,'FORMATO N° 5_XX'!$W$43)+\nCOUNTIFS('BD-SOC'!$AB$15:$AB$30000,'FORMATO N° 5_XX'!B60,'BD-SOC'!$I$15:$I$30000,'FORMATO N° 5_XX'!$W$43)","v":0},{"$f":"COUNTIFS('BD-SOC'!$P$15:$P$30000,'FORMATO N° 5_XX'!B60,'BD-SOC'!$I$15:$I$30000,'FORMATO N° 5_XX'!$X$43)+\nCOUNTIFS('BD-SOC'!$R$15:$R$30000,'FORMATO N° 5_XX'!B60,'BD-SOC'!$I$15:$I$30000,'FORMATO N° 5_XX'!$X$43)+\nCOUNTIFS('BD-SOC'!$T$15:$T$30000,'FORMATO N° 5_XX'!B60,'BD-SOC'!$I$15:$I$30000,'FORMATO N° 5_XX'!$X$43)+\nCOUNTIFS('BD-SOC'!$V$15:$V$30000,'FORMATO N° 5_XX'!B60,'BD-SOC'!$I$15:$I$30000,'FORMATO N° 5_XX'!$X$43)+\nCOUNTIFS('BD-SOC'!$X$15:$X$30000,'FORMATO N° 5_XX'!B60,'BD-SOC'!$I$15:$I$30000,'FORMATO N° 5_XX'!$X$43)+\nCOUNTIFS('BD-SOC'!$Z$15:$Z$30000,'FORMATO N° 5_XX'!B60,'BD-SOC'!$I$15:$I$30000,'FORMATO N° 5_XX'!$X$43)+\nCOUNTIFS('BD-SOC'!$AB$15:$AB$30000,'FORMATO N° 5_XX'!B60,'BD-SOC'!$I$15:$I$30000,'FORMATO N° 5_XX'!$X$43)","v":0},{"$f":"COUNTIFS('BD-SOC'!$P$15:$P$30000,'FORMATO N° 5_XX'!B60,'BD-SOC'!$I$15:$I$30000,'FORMATO N° 5_XX'!$Y$43)+\nCOUNTIFS('BD-SOC'!$R$15:$R$30000,'FORMATO N° 5_XX'!B60,'BD-SOC'!$I$15:$I$30000,'FORMATO N° 5_XX'!$Y$43)+\nCOUNTIFS('BD-SOC'!$T$15:$T$30000,'FORMATO N° 5_XX'!B60,'BD-SOC'!$I$15:$I$30000,'FORMATO N° 5_XX'!$Y$43)+\nCOUNTIFS('BD-SOC'!$V$15:$V$30000,'FORMATO N° 5_XX'!B60,'BD-SOC'!$I$15:$I$30000,'FORMATO N° 5_XX'!$Y$43)+\nCOUNTIFS('BD-SOC'!$X$15:$X$30000,'FORMATO N° 5_XX'!B60,'BD-SOC'!$I$15:$I$30000,'FORMATO N° 5_XX'!$Y$43)+\nCOUNTIFS('BD-SOC'!$Z$15:$Z$30000,'FORMATO N° 5_XX'!B60,'BD-SOC'!$I$15:$I$30000,'FORMATO N° 5_XX'!$Y$43)+\nCOUNTIFS('BD-SOC'!$AB$15:$AB$30000,'FORMATO N° 5_XX'!B60,'BD-SOC'!$I$15:$I$30000,'FORMATO N° 5_XX'!$Y$43)","v":0},{"$f":"COUNTIFS('BD-SOC'!$P$15:$P$30000,'FORMATO N° 5_XX'!B60,'BD-SOC'!$I$15:$I$30000,'FORMATO N° 5_XX'!$Z$43)+\nCOUNTIFS('BD-SOC'!$R$15:$R$30000,'FORMATO N° 5_XX'!B60,'BD-SOC'!$I$15:$I$30000,'FORMATO N° 5_XX'!$Z$43)+\nCOUNTIFS('BD-SOC'!$T$15:$T$30000,'FORMATO N° 5_XX'!B60,'BD-SOC'!$I$15:$I$30000,'FORMATO N° 5_XX'!$Z$43)+\nCOUNTIFS('BD-SOC'!$V$15:$V$30000,'FORMATO N° 5_XX'!B60,'BD-SOC'!$I$15:$I$30000,'FORMATO N° 5_XX'!$Z$43)+\nCOUNTIFS('BD-SOC'!$X$15:$X$30000,'FORMATO N° 5_XX'!B60,'BD-SOC'!$I$15:$I$30000,'FORMATO N° 5_XX'!$Z$43)+\nCOUNTIFS('BD-SOC'!$Z$15:$Z$30000,'FORMATO N° 5_XX'!B60,'BD-SOC'!$I$15:$I$30000,'FORMATO N° 5_XX'!$Z$43)+\nCOUNTIFS('BD-SOC'!$AB$15:$AB$30000,'FORMATO N° 5_XX'!B60,'BD-SOC'!$I$15:$I$30000,'FORMATO N° 5_XX'!$Z$43)","v":0},{"$f":"COUNTIFS('BD-SOC'!$P$15:$P$30000,'FORMATO N° 5_XX'!B60,'BD-SOC'!$I$15:$I$30000,'FORMATO N° 5_XX'!$AA$43)+\nCOUNTIFS('BD-SOC'!$R$15:$R$30000,'FORMATO N° 5_XX'!B60,'BD-SOC'!$I$15:$I$30000,'FORMATO N° 5_XX'!$AA$43)+\nCOUNTIFS('BD-SOC'!$T$15:$T$30000,'FORMATO N° 5_XX'!B60,'BD-SOC'!$I$15:$I$30000,'FORMATO N° 5_XX'!$AA$43)+\nCOUNTIFS('BD-SOC'!$V$15:$V$30000,'FORMATO N° 5_XX'!B60,'BD-SOC'!$I$15:$I$30000,'FORMATO N° 5_XX'!$AA$43)+\nCOUNTIFS('BD-SOC'!$X$15:$X$30000,'FORMATO N° 5_XX'!B60,'BD-SOC'!$I$15:$I$30000,'FORMATO N° 5_XX'!$AA$43)+\nCOUNTIFS('BD-SOC'!$Z$15:$Z$30000,'FORMATO N° 5_XX'!B60,'BD-SOC'!$I$15:$I$30000,'FORMATO N° 5_XX'!$AA$43)+\nCOUNTIFS('BD-SOC'!$AB$15:$AB$30000,'FORMATO N° 5_XX'!B60,'BD-SOC'!$I$15:$I$30000,'FORMATO N° 5_XX'!$AA$43)","v":0},{"$f":"COUNTIFS('BD-SOC'!$P$15:$P$30000,'FORMATO N° 5_XX'!B60,'BD-SOC'!$I$15:$I$30000,'FORMATO N° 5_XX'!$AB$43)+\nCOUNTIFS('BD-SOC'!$R$15:$R$30000,'FORMATO N° 5_XX'!B60,'BD-SOC'!$I$15:$I$30000,'FORMATO N° 5_XX'!$AB$43)+\nCOUNTIFS('BD-SOC'!$T$15:$T$30000,'FORMATO N° 5_XX'!B60,'BD-SOC'!$I$15:$I$30000,'FORMATO N° 5_XX'!$AB$43)+\nCOUNTIFS('BD-SOC'!$V$15:$V$30000,'FORMATO N° 5_XX'!B60,'BD-SOC'!$I$15:$I$30000,'FORMATO N° 5_XX'!$AB$43)+\nCOUNTIFS('BD-SOC'!$X$15:$X$30000,'FORMATO N° 5_XX'!B60,'BD-SOC'!$I$15:$I$30000,'FORMATO N° 5_XX'!$AB$43)+\nCOUNTIFS('BD-SOC'!$Z$15:$Z$30000,'FORMATO N° 5_XX'!B60,'BD-SOC'!$I$15:$I$30000,'FORMATO N° 5_XX'!$AB$43)+\nCOUNTIFS('BD-SOC'!$AB$15:$AB$30000,'FORMATO N° 5_XX'!B60,'BD-SOC'!$I$15:$I$30000,'FORMATO N° 5_XX'!$AB$43)","v":0},{"$f":"COUNTIFS('BD-SOC'!$P$15:$P$30000,'FORMATO N° 5_XX'!B60,'BD-SOC'!$I$15:$I$30000,'FORMATO N° 5_XX'!$AC$43)+\nCOUNTIFS('BD-SOC'!$R$15:$R$30000,'FORMATO N° 5_XX'!B60,'BD-SOC'!$I$15:$I$30000,'FORMATO N° 5_XX'!$AC$43)+\nCOUNTIFS('BD-SOC'!$T$15:$T$30000,'FORMATO N° 5_XX'!B60,'BD-SOC'!$I$15:$I$30000,'FORMATO N° 5_XX'!$AC$43)+\nCOUNTIFS('BD-SOC'!$V$15:$V$30000,'FORMATO N° 5_XX'!B60,'BD-SOC'!$I$15:$I$30000,'FORMATO N° 5_XX'!$AC$43)+\nCOUNTIFS('BD-SOC'!$X$15:$X$30000,'FORMATO N° 5_XX'!B60,'BD-SOC'!$I$15:$I$30000,'FORMATO N° 5_XX'!$AC$43)+\nCOUNTIFS('BD-SOC'!$Z$15:$Z$30000,'FORMATO N° 5_XX'!B60,'BD-SOC'!$I$15:$I$30000,'FORMATO N° 5_XX'!$AC$43)+\nCOUNTIFS('BD-SOC'!$AB$15:$AB$30000,'FORMATO N° 5_XX'!B60,'BD-SOC'!$I$15:$I$30000,'FORMATO N° 5_XX'!$AC$43)","v":0},{"$f":"COUNTIFS('BD-SOC'!$P$15:$P$30000,'FORMATO N° 5_XX'!B60,'BD-SOC'!$I$15:$I$30000,'FORMATO N° 5_XX'!$AD$43)+\nCOUNTIFS('BD-SOC'!$R$15:$R$30000,'FORMATO N° 5_XX'!B60,'BD-SOC'!$I$15:$I$30000,'FORMATO N° 5_XX'!$AD$43)+\nCOUNTIFS('BD-SOC'!$T$15:$T$30000,'FORMATO N° 5_XX'!B60,'BD-SOC'!$I$15:$I$30000,'FORMATO N° 5_XX'!$AD$43)+\nCOUNTIFS('BD-SOC'!$V$15:$V$30000,'FORMATO N° 5_XX'!B60,'BD-SOC'!$I$15:$I$30000,'FORMATO N° 5_XX'!$AD$43)+\nCOUNTIFS('BD-SOC'!$X$15:$X$30000,'FORMATO N° 5_XX'!B60,'BD-SOC'!$I$15:$I$30000,'FORMATO N° 5_XX'!$AD$43)+\nCOUNTIFS('BD-SOC'!$Z$15:$Z$30000,'FORMATO N° 5_XX'!B60,'BD-SOC'!$I$15:$I$30000,'FORMATO N° 5_XX'!$AD$43)+\nCOUNTIFS('BD-SOC'!$AB$15:$AB$30000,'FORMATO N° 5_XX'!B60,'BD-SOC'!$I$15:$I$30000,'FORMATO N° 5_XX'!$AD$43)","v":0},{"$f":"COUNTIFS('BD-SOC'!$P$15:$P$30000,'FORMATO N° 5_XX'!B60,'BD-SOC'!$I$15:$I$30000,'FORMATO N° 5_XX'!$AE$43)+\nCOUNTIFS('BD-SOC'!$R$15:$R$30000,'FORMATO N° 5_XX'!B60,'BD-SOC'!$I$15:$I$30000,'FORMATO N° 5_XX'!$AE$43)+\nCOUNTIFS('BD-SOC'!$T$15:$T$30000,'FORMATO N° 5_XX'!B60,'BD-SOC'!$I$15:$I$30000,'FORMATO N° 5_XX'!$AE$43)+\nCOUNTIFS('BD-SOC'!$V$15:$V$30000,'FORMATO N° 5_XX'!B60,'BD-SOC'!$I$15:$I$30000,'FORMATO N° 5_XX'!$AE$43)+\nCOUNTIFS('BD-SOC'!$X$15:$X$30000,'FORMATO N° 5_XX'!B60,'BD-SOC'!$I$15:$I$30000,'FORMATO N° 5_XX'!$AE$43)+\nCOUNTIFS('BD-SOC'!$Z$15:$Z$30000,'FORMATO N° 5_XX'!B60,'BD-SOC'!$I$15:$I$30000,'FORMATO N° 5_XX'!$AE$43)+\nCOUNTIFS('BD-SOC'!$AB$15:$AB$30000,'FORMATO N° 5_XX'!B60,'BD-SOC'!$I$15:$I$30000,'FORMATO N° 5_XX'!$AE$43)","v":0}]
[null,206,"INFORMES DE AMPLIACIÓN",null,null,null,null,null,{"$error":"#REF!"},{"$f":"COUNTIFS('BD-SOC'!$P$15:$P$30000,'FORMATO N° 5_XX'!B61,'BD-SOC'!#REF!,'FORMATO N° 5_XX'!$J$43)+\nCOUNTIFS('BD-SOC'!$R$15:$R$30000,'FORMATO N° 5_XX'!B61,'BD-SOC'!#REF!,'FORMATO N° 5_XX'!$J$43)+\nCOUNTIFS('BD-SOC'!$T$15:$T$30000,'FORMATO N° 5_XX'!B61,'BD-SOC'!#REF!,'FORMATO N° 5_XX'!$J$43)+\nCOUNTIFS('BD-SOC'!$V$15:$V$30000,'FORMATO N° 5_XX'!B61,'BD-SOC'!#REF!,'FORMATO N° 5_XX'!$J$43)+\nCOUNTIFS('BD-SOC'!$X$15:$X$30000,'FORMATO N° 5_XX'!B61,'BD-SOC'!#REF!,'FORMATO N° 5_XX'!$J$43)+\nCOUNTIFS('BD-SOC'!$Z$15:$Z$30000,'FORMATO N° 5_XX'!B61,'BD-SOC'!#REF!,'FORMATO N° 5_XX'!$J$43)+\nCOUNTIFS('BD-SOC'!$AB$15:$AB$30000,'FORMATO N° 5_XX'!B61,'BD-SOC'!#REF!,'FORMATO N° 5_XX'!$J$43)","v":{"$error":"#REF!"}},{"$f":"COUNTIFS('BD-SOC'!$P$15:$P$30000,'FORMATO N° 5_XX'!B61,'BD-SOC'!#REF!,'FORMATO N° 5_XX'!$K$43)+\nCOUNTIFS('BD-SOC'!$R$15:$R$30000,'FORMATO N° 5_XX'!B61,'BD-SOC'!#REF!,'FORMATO N° 5_XX'!$K$43)+\nCOUNTIFS('BD-SOC'!$T$15:$T$30000,'FORMATO N° 5_XX'!B61,'BD-SOC'!#REF!,'FORMATO N° 5_XX'!$K$43)+\nCOUNTIFS('BD-SOC'!$V$15:$V$30000,'FORMATO N° 5_XX'!B61,'BD-SOC'!#REF!,'FORMATO N° 5_XX'!$K$43)+\nCOUNTIFS('BD-SOC'!$X$15:$X$30000,'FORMATO N° 5_XX'!B61,'BD-SOC'!#REF!,'FORMATO N° 5_XX'!$K$43)+\nCOUNTIFS('BD-SOC'!$Z$15:$Z$30000,'FORMATO N° 5_XX'!B61,'BD-SOC'!#REF!,'FORMATO N° 5_XX'!$K$43)+\nCOUNTIFS('BD-SOC'!$AB$15:$AB$30000,'FORMATO N° 5_XX'!B61,'BD-SOC'!#REF!,'FORMATO N° 5_XX'!$K$43)","v":{"$error":"#REF!"}},{"$f":"COUNTIFS('BD-SOC'!$P$15:$P$30000,'FORMATO N° 5_XX'!B61,'BD-SOC'!#REF!,'FORMATO N° 5_XX'!$L$43)+\nCOUNTIFS('BD-SOC'!$R$15:$R$30000,'FORMATO N° 5_XX'!B61,'BD-SOC'!#REF!,'FORMATO N° 5_XX'!$L$43)+\nCOUNTIFS('BD-SOC'!$T$15:$T$30000,'FORMATO N° 5_XX'!B61,'BD-SOC'!#REF!,'FORMATO N° 5_XX'!$L$43)+\nCOUNTIFS('BD-SOC'!$V$15:$V$30000,'FORMATO N° 5_XX'!B61,'BD-SOC'!#REF!,'FORMATO N° 5_XX'!$L$43)+\nCOUNTIFS('BD-SOC'!$X$15:$X$30000,'FORMATO N° 5_XX'!B61,'BD-SOC'!#REF!,'FORMATO N° 5_XX'!$L$43)+\nCOUNTIFS('BD-SOC'!$Z$15:$Z$30000,'FORMATO N° 5_XX'!B61,'BD-SOC'!#REF!,'FORMATO N° 5_XX'!$L$43)+\nCOUNTIFS('BD-SOC'!$AB$15:$AB$30000,'FORMATO N° 5_XX'!B61,'BD-SOC'!#REF!,'FORMATO N° 5_XX'!$L$43)","v":{"$error":"#REF!"}},{"$f":"COUNTIFS('BD-SOC'!$P$15:$P$30000,'FORMATO N° 5_XX'!B61,'BD-SOC'!#REF!,'FORMATO N° 5_XX'!$M$44)+\nCOUNTIFS('BD-SOC'!$R$15:$R$30000,'FORMATO N° 5_XX'!B61,'BD-SOC'!#REF!,'FORMATO N° 5_XX'!$M$44)+\nCOUNTIFS('BD-SOC'!$T$15:$T$30000,'FORMATO N° 5_XX'!B61,'BD-SOC'!#REF!,'FORMATO N° 5_XX'!$M$44)+\nCOUNTIFS('BD-SOC'!$V$15:$V$30000,'FORMATO N° 5_XX'!B61,'BD-SOC'!#REF!,'FORMATO N° 5_XX'!$M$44)+\nCOUNTIFS('BD-SOC'!$X$15:$X$30000,'FORMATO N° 5_XX'!B61,'BD-SOC'!#REF!,'FORMATO N° 5_XX'!$M$44)+\nCOUNTIFS('BD-SOC'!$Z$15:$Z$30000,'FORMATO N° 5_XX'!B61,'BD-SOC'!#REF!,'FORMATO N° 5_XX'!$M$44)+\nCOUNTIFS('BD-SOC'!$AB$15:$AB$30000,'FORMATO N° 5_XX'!B61,'BD-SOC'!#REF!,'FORMATO N° 5_XX'!$M$44)","v":{"$error":"#REF!"}},{"$f":"COUNTIFS('BD-SOC'!$P$15:$P$30000,'FORMATO N° 5_XX'!B61,'BD-SOC'!#REF!,'FORMATO N° 5_XX'!$N$44)+\nCOUNTIFS('BD-SOC'!$R$15:$R$30000,'FORMATO N° 5_XX'!B61,'BD-SOC'!#REF!,'FORMATO N° 5_XX'!$N$44)+\nCOUNTIFS('BD-SOC'!$T$15:$T$30000,'FORMATO N° 5_XX'!B61,'BD-SOC'!#REF!,'FORMATO N° 5_XX'!$N$44)+\nCOUNTIFS('BD-SOC'!$V$15:$V$30000,'FORMATO N° 5_XX'!B61,'BD-SOC'!#REF!,'FORMATO N° 5_XX'!$N$44)+\nCOUNTIFS('BD-SOC'!$X$15:$X$30000,'FORMATO N° 5_XX'!B61,'BD-SOC'!#REF!,'FORMATO N° 5_XX'!$N$44)+\nCOUNTIFS('BD-SOC'!$Z$15:$Z$30000,'FORMATO N° 5_XX'!B61,'BD-SOC'!#REF!,'FORMATO N° 5_XX'!$N$44)+\nCOUNTIFS('BD-SOC'!$AB$15:$AB$30000,'FORMATO N° 5_XX'!B61,'BD-SOC'!#REF!,'FORMATO N° 5_XX'!$N$44)","v":{"$error":"#REF!"}},{"$f":"COUNTIFS('BD-SOC'!$P$15:$P$30000,'FORMATO N° 5_XX'!B61,'BD-SOC'!#REF!,'FORMATO N° 5_XX'!$O$44)+\nCOUNTIFS('BD-SOC'!$R$15:$R$30000,'FORMATO N° 5_XX'!B61,'BD-SOC'!#REF!,'FORMATO N° 5_XX'!$O$44)+\nCOUNTIFS('BD-SOC'!$T$15:$T$30000,'FORMATO N° 5_XX'!B61,'BD-SOC'!#REF!,'FORMATO N° 5_XX'!$O$44)+\nCOUNTIFS('BD-SOC'!$V$15:$V$30000,'FORMATO N° 5_XX'!B61,'BD-SOC'!#REF!,'FORMATO N° 5_XX'!$O$44)+\nCOUNTIFS('BD-SOC'!$X$15:$X$30000,'FORMATO N° 5_XX'!B61,'BD-SOC'!#REF!,'FORMATO N° 5_XX'!$O$44)+\nCOUNTIFS('BD-SOC'!$Z$15:$Z$30000,'FORMATO N° 5_XX'!B61,'BD-SOC'!#REF!,'FORMATO N° 5_XX'!$O$44)+\nCOUNTIFS('BD-SOC'!$AB$15:$AB$30000,'FORMATO N° 5_XX'!B61,'BD-SOC'!#REF!,'FORMATO N° 5_XX'!$O$44)","v":{"$error":"#REF!"}},{"$f":"COUNTIFS('BD-SOC'!$P$15:$P$30000,'FORMATO N° 5_XX'!B61,'BD-SOC'!#REF!,'FORMATO N° 5_XX'!$P$44)+\nCOUNTIFS('BD-SOC'!$R$15:$R$30000,'FORMATO N° 5_XX'!B61,'BD-SOC'!#REF!,'FORMATO N° 5_XX'!$P$44)+\nCOUNTIFS('BD-SOC'!$T$15:$T$30000,'FORMATO N° 5_XX'!B61,'BD-SOC'!#REF!,'FORMATO N° 5_XX'!$P$44)+\nCOUNTIFS('BD-SOC'!$V$15:$V$30000,'FORMATO N° 5_XX'!B61,'BD-SOC'!#REF!,'FORMATO N° 5_XX'!$P$44)+\nCOUNTIFS('BD-SOC'!$X$15:$X$30000,'FORMATO N° 5_XX'!B61,'BD-SOC'!#REF!,'FORMATO N° 5_XX'!$P$44)+\nCOUNTIFS('BD-SOC'!$Z$15:$Z$30000,'FORMATO N° 5_XX'!B61,'BD-SOC'!#REF!,'FORMATO N° 5_XX'!$P$44)+\nCOUNTIFS('BD-SOC'!$AB$15:$AB$30000,'FORMATO N° 5_XX'!B61,'BD-SOC'!#REF!,'FORMATO N° 5_XX'!$P$44)","v":{"$error":"#REF!"}},{"$f":"COUNTIFS('BD-SOC'!$P$15:$P$30000,'FORMATO N° 5_XX'!B61,'BD-SOC'!#REF!,'FORMATO N° 5_XX'!$Q$44)+\nCOUNTIFS('BD-SOC'!$R$15:$R$30000,'FORMATO N° 5_XX'!B61,'BD-SOC'!#REF!,'FORMATO N° 5_XX'!$Q$44)+\nCOUNTIFS('BD-SOC'!$T$15:$T$30000,'FORMATO N° 5_XX'!B61,'BD-SOC'!#REF!,'FORMATO N° 5_XX'!$Q$44)+\nCOUNTIFS('BD-SOC'!$V$15:$V$30000,'FORMATO N° 5_XX'!B61,'BD-SOC'!#REF!,'FORMATO N° 5_XX'!$Q$44)+\nCOUNTIFS('BD-SOC'!$X$15:$X$30000,'FORMATO N° 5_XX'!B61,'BD-SOC'!#REF!,'FORMATO N° 5_XX'!$Q$44)+\nCOUNTIFS('BD-SOC'!$Z$15:$Z$30000,'FORMATO N° 5_XX'!B61,'BD-SOC'!#REF!,'FORMATO N° 5_XX'!$Q$44)+\nCOUNTIFS('BD-SOC'!$AB$15:$AB$30000,'FORMATO N° 5_XX'!B61,'BD-SOC'!#REF!,'FORMATO N° 5_XX'!$Q$44)","v":{"$error":"#REF!"}},{"$f":"COUNTIFS('BD-SOC'!$P$15:$P$30000,'FORMATO N° 5_XX'!B61,'BD-SOC'!#REF!,'FORMATO N° 5_XX'!$R$44)+\nCOUNTIFS('BD-SOC'!$R$15:$R$30000,'FORMATO N° 5_XX'!B61,'BD-SOC'!#REF!,'FORMATO N° 5_XX'!$R$44)+\nCOUNTIFS('BD-SOC'!$T$15:$T$30000,'FORMATO N° 5_XX'!B61,'BD-SOC'!#REF!,'FORMATO N° 5_XX'!$R$44)+\nCOUNTIFS('BD-SOC'!$V$15:$V$30000,'FORMATO N° 5_XX'!B61,'BD-SOC'!#REF!,'FORMATO N° 5_XX'!$R$44)+\nCOUNTIFS('BD-SOC'!$X$15:$X$30000,'FORMATO N° 5_XX'!B61,'BD-SOC'!#REF!,'FORMATO N° 5_XX'!$R$44)+\nCOUNTIFS('BD-SOC'!$Z$15:$Z$30000,'FORMATO N° 5_XX'!B61,'BD-SOC'!#REF!,'FORMATO N° 5_XX'!$R$44)+\nCOUNTIFS('BD-SOC'!$AB$15:$AB$30000,'FORMATO N° 5_XX'!B61,'BD-SOC'!#REF!,'FORMATO N° 5_XX'!$R$44)","v":{"$error":"#REF!"}},{"$f":"COUNTIFS('BD-SOC'!$P$15:$P$30000,'FORMATO N° 5_XX'!B61,'BD-SOC'!#REF!,'FORMATO N° 5_XX'!$S$43)+\nCOUNTIFS('BD-SOC'!$R$15:$R$30000,'FORMATO N° 5_XX'!B61,'BD-SOC'!#REF!,'FORMATO N° 5_XX'!$S$43)+\nCOUNTIFS('BD-SOC'!$T$15:$T$30000,'FORMATO N° 5_XX'!B61,'BD-SOC'!#REF!,'FORMATO N° 5_XX'!$S$43)+\nCOUNTIFS('BD-SOC'!$V$15:$V$30000,'FORMATO N° 5_XX'!B61,'BD-SOC'!#REF!,'FORMATO N° 5_XX'!$S$43)+\nCOUNTIFS('BD-SOC'!$X$15:$X$30000,'FORMATO N° 5_XX'!B61,'BD-SOC'!#REF!,'FORMATO N° 5_XX'!$S$43)+\nCOUNTIFS('BD-SOC'!$Z$15:$Z$30000,'FORMATO N° 5_XX'!B61,'BD-SOC'!#REF!,'FORMATO N° 5_XX'!$S$43)+\nCOUNTIFS('BD-SOC'!$AB$15:$AB$30000,'FORMATO N° 5_XX'!B61,'BD-SOC'!#REF!,'FORMATO N° 5_XX'!$S$43)","v":{"$error":"#REF!"}},{"$f":"COUNTIFS('BD-SOC'!$P$15:$P$30000,'FORMATO N° 5_XX'!B61,'BD-SOC'!#REF!,'FORMATO N° 5_XX'!$T$43)+\nCOUNTIFS('BD-SOC'!$R$15:$R$30000,'FORMATO N° 5_XX'!B61,'BD-SOC'!#REF!,'FORMATO N° 5_XX'!$T$43)+\nCOUNTIFS('BD-SOC'!$T$15:$T$30000,'FORMATO N° 5_XX'!B61,'BD-SOC'!#REF!,'FORMATO N° 5_XX'!$T$43)+\nCOUNTIFS('BD-SOC'!$V$15:$V$30000,'FORMATO N° 5_XX'!B61,'BD-SOC'!#REF!,'FORMATO N° 5_XX'!$T$43)+\nCOUNTIFS('BD-SOC'!$X$15:$X$30000,'FORMATO N° 5_XX'!B61,'BD-SOC'!#REF!,'FORMATO N° 5_XX'!$T$43)+\nCOUNTIFS('BD-SOC'!$Z$15:$Z$30000,'FORMATO N° 5_XX'!B61,'BD-SOC'!#REF!,'FORMATO N° 5_XX'!$T$43)+\nCOUNTIFS('BD-SOC'!$AB$15:$AB$30000,'FORMATO N° 5_XX'!B61,'BD-SOC'!#REF!,'FORMATO N° 5_XX'!$T$43)","v":{"$error":"#REF!"}},0,{"$f":"COUNTIFS('BD-SOC'!$P$15:$P$30000,'FORMATO N° 5_XX'!B61,'BD-SOC'!$I$15:$I$30000,'FORMATO N° 5_XX'!$V$43)+\nCOUNTIFS('BD-SOC'!$R$15:$R$30000,'FORMATO N° 5_XX'!B61,'BD-SOC'!$I$15:$I$30000,'FORMATO N° 5_XX'!$V$43)+\nCOUNTIFS('BD-SOC'!$T$15:$T$30000,'FORMATO N° 5_XX'!B61,'BD-SOC'!$I$15:$I$30000,'FORMATO N° 5_XX'!$V$43)+\nCOUNTIFS('BD-SOC'!$V$15:$V$30000,'FORMATO N° 5_XX'!B61,'BD-SOC'!$I$15:$I$30000,'FORMATO N° 5_XX'!$V$43)+\nCOUNTIFS('BD-SOC'!$X$15:$X$30000,'FORMATO N° 5_XX'!B61,'BD-SOC'!$I$15:$I$30000,'FORMATO N° 5_XX'!$V$43)+\nCOUNTIFS('BD-SOC'!$Z$15:$Z$30000,'FORMATO N° 5_XX'!B61,'BD-SOC'!$I$15:$I$30000,'FORMATO N° 5_XX'!$V$43)+\nCOUNTIFS('BD-SOC'!$AB$15:$AB$30000,'FORMATO N° 5_XX'!B61,'BD-SOC'!$I$15:$I$30000,'FORMATO N° 5_XX'!$V$43)","v":0},{"$f":"COUNTIFS('BD-SOC'!$P$15:$P$30000,'FORMATO N° 5_XX'!B61,'BD-SOC'!$I$15:$I$30000,'FORMATO N° 5_XX'!$W$43)+\nCOUNTIFS('BD-SOC'!$R$15:$R$30000,'FORMATO N° 5_XX'!B61,'BD-SOC'!$I$15:$I$30000,'FORMATO N° 5_XX'!$W$43)+\nCOUNTIFS('BD-SOC'!$T$15:$T$30000,'FORMATO N° 5_XX'!B61,'BD-SOC'!$I$15:$I$30000,'FORMATO N° 5_XX'!$W$43)+\nCOUNTIFS('BD-SOC'!$V$15:$V$30000,'FORMATO N° 5_XX'!B61,'BD-SOC'!$I$15:$I$30000,'FORMATO N° 5_XX'!$W$43)+\nCOUNTIFS('BD-SOC'!$X$15:$X$30000,'FORMATO N° 5_XX'!B61,'BD-SOC'!$I$15:$I$30000,'FORMATO N° 5_XX'!$W$43)+\nCOUNTIFS('BD-SOC'!$Z$15:$Z$30000,'FORMATO N° 5_XX'!B61,'BD-SOC'!$I$15:$I$30000,'FORMATO N° 5_XX'!$W$43)+\nCOUNTIFS('BD-SOC'!$AB$15:$AB$30000,'FORMATO N° 5_XX'!B61,'BD-SOC'!$I$15:$I$30000,'FORMATO N° 5_XX'!$W$43)","v":0},{"$f":"COUNTIFS('BD-SOC'!$P$15:$P$30000,'FORMATO N° 5_XX'!B61,'BD-SOC'!$I$15:$I$30000,'FORMATO N° 5_XX'!$X$43)+\nCOUNTIFS('BD-SOC'!$R$15:$R$30000,'FORMATO N° 5_XX'!B61,'BD-SOC'!$I$15:$I$30000,'FORMATO N° 5_XX'!$X$43)+\nCOUNTIFS('BD-SOC'!$T$15:$T$30000,'FORMATO N° 5_XX'!B61,'BD-SOC'!$I$15:$I$30000,'FORMATO N° 5_XX'!$X$43)+\nCOUNTIFS('BD-SOC'!$V$15:$V$30000,'FORMATO N° 5_XX'!B61,'BD-SOC'!$I$15:$I$30000,'FORMATO N° 5_XX'!$X$43)+\nCOUNTIFS('BD-SOC'!$X$15:$X$30000,'FORMATO N° 5_XX'!B61,'BD-SOC'!$I$15:$I$30000,'FORMATO N° 5_XX'!$X$43)+\nCOUNTIFS('BD-SOC'!$Z$15:$Z$30000,'FORMATO N° 5_XX'!B61,'BD-SOC'!$I$15:$I$30000,'FORMATO N° 5_XX'!$X$43)+\nCOUNTIFS('BD-SOC'!$AB$15:$AB$30000,'FORMATO N° 5_XX'!B61,'BD-SOC'!$I$15:$I$30000,'FORMATO N° 5_XX'!$X$43)","v":0},{"$f":"COUNTIFS('BD-SOC'!$P$15:$P$30000,'FORMATO N° 5_XX'!B61,'BD-SOC'!$I$15:$I$30000,'FORMATO N° 5_XX'!$Y$43)+\nCOUNTIFS('BD-SOC'!$R$15:$R$30000,'FORMATO N° 5_XX'!B61,'BD-SOC'!$I$15:$I$30000,'FORMATO N° 5_XX'!$Y$43)+\nCOUNTIFS('BD-SOC'!$T$15:$T$30000,'FORMATO N° 5_XX'!B61,'BD-SOC'!$I$15:$I$30000,'FORMATO N° 5_XX'!$Y$43)+\nCOUNTIFS('BD-SOC'!$V$15:$V$30000,'FORMATO N° 5_XX'!B61,'BD-SOC'!$I$15:$I$30000,'FORMATO N° 5_XX'!$Y$43)+\nCOUNTIFS('BD-SOC'!$X$15:$X$30000,'FORMATO N° 5_XX'!B61,'BD-SOC'!$I$15:$I$30000,'FORMATO N° 5_XX'!$Y$43)+\nCOUNTIFS('BD-SOC'!$Z$15:$Z$30000,'FORMATO N° 5_XX'!B61,'BD-SOC'!$I$15:$I$30000,'FORMATO N° 5_XX'!$Y$43)+\nCOUNTIFS('BD-SOC'!$AB$15:$AB$30000,'FORMATO N° 5_XX'!B61,'BD-SOC'!$I$15:$I$30000,'FORMATO N° 5_XX'!$Y$43)","v":0},{"$f":"COUNTIFS('BD-SOC'!$P$15:$P$30000,'FORMATO N° 5_XX'!B61,'BD-SOC'!$I$15:$I$30000,'FORMATO N° 5_XX'!$Z$43)+\nCOUNTIFS('BD-SOC'!$R$15:$R$30000,'FORMATO N° 5_XX'!B61,'BD-SOC'!$I$15:$I$30000,'FORMATO N° 5_XX'!$Z$43)+\nCOUNTIFS('BD-SOC'!$T$15:$T$30000,'FORMATO N° 5_XX'!B61,'BD-SOC'!$I$15:$I$30000,'FORMATO N° 5_XX'!$Z$43)+\nCOUNTIFS('BD-SOC'!$V$15:$V$30000,'FORMATO N° 5_XX'!B61,'BD-SOC'!$I$15:$I$30000,'FORMATO N° 5_XX'!$Z$43)+\nCOUNTIFS('BD-SOC'!$X$15:$X$30000,'FORMATO N° 5_XX'!B61,'BD-SOC'!$I$15:$I$30000,'FORMATO N° 5_XX'!$Z$43)+\nCOUNTIFS('BD-SOC'!$Z$15:$Z$30000,'FORMATO N° 5_XX'!B61,'BD-SOC'!$I$15:$I$30000,'FORMATO N° 5_XX'!$Z$43)+\nCOUNTIFS('BD-SOC'!$AB$15:$AB$30000,'FORMATO N° 5_XX'!B61,'BD-SOC'!$I$15:$I$30000,'FORMATO N° 5_XX'!$Z$43)","v":0},{"$f":"COUNTIFS('BD-SOC'!$P$15:$P$30000,'FORMATO N° 5_XX'!B61,'BD-SOC'!$I$15:$I$30000,'FORMATO N° 5_XX'!$AA$43)+\nCOUNTIFS('BD-SOC'!$R$15:$R$30000,'FORMATO N° 5_XX'!B61,'BD-SOC'!$I$15:$I$30000,'FORMATO N° 5_XX'!$AA$43)+\nCOUNTIFS('BD-SOC'!$T$15:$T$30000,'FORMATO N° 5_XX'!B61,'BD-SOC'!$I$15:$I$30000,'FORMATO N° 5_XX'!$AA$43)+\nCOUNTIFS('BD-SOC'!$V$15:$V$30000,'FORMATO N° 5_XX'!B61,'BD-SOC'!$I$15:$I$30000,'FORMATO N° 5_XX'!$AA$43)+\nCOUNTIFS('BD-SOC'!$X$15:$X$30000,'FORMATO N° 5_XX'!B61,'BD-SOC'!$I$15:$I$30000,'FORMATO N° 5_XX'!$AA$43)+\nCOUNTIFS('BD-SOC'!$Z$15:$Z$30000,'FORMATO N° 5_XX'!B61,'BD-SOC'!$I$15:$I$30000,'FORMATO N° 5_XX'!$AA$43)+\nCOUNTIFS('BD-SOC'!$AB$15:$AB$30000,'FORMATO N° 5_XX'!B61,'BD-SOC'!$I$15:$I$30000,'FORMATO N° 5_XX'!$AA$43)","v":0},{"$f":"COUNTIFS('BD-SOC'!$P$15:$P$30000,'FORMATO N° 5_XX'!B61,'BD-SOC'!$I$15:$I$30000,'FORMATO N° 5_XX'!$AB$43)+\nCOUNTIFS('BD-SOC'!$R$15:$R$30000,'FORMATO N° 5_XX'!B61,'BD-SOC'!$I$15:$I$30000,'FORMATO N° 5_XX'!$AB$43)+\nCOUNTIFS('BD-SOC'!$T$15:$T$30000,'FORMATO N° 5_XX'!B61,'BD-SOC'!$I$15:$I$30000,'FORMATO N° 5_XX'!$AB$43)+\nCOUNTIFS('BD-SOC'!$V$15:$V$30000,'FORMATO N° 5_XX'!B61,'BD-SOC'!$I$15:$I$30000,'FORMATO N° 5_XX'!$AB$43)+\nCOUNTIFS('BD-SOC'!$X$15:$X$30000,'FORMATO N° 5_XX'!B61,'BD-SOC'!$I$15:$I$30000,'FORMATO N° 5_XX'!$AB$43)+\nCOUNTIFS('BD-SOC'!$Z$15:$Z$30000,'FORMATO N° 5_XX'!B61,'BD-SOC'!$I$15:$I$30000,'FORMATO N° 5_XX'!$AB$43)+\nCOUNTIFS('BD-SOC'!$AB$15:$AB$30000,'FORMATO N° 5_XX'!B61,'BD-SOC'!$I$15:$I$30000,'FORMATO N° 5_XX'!$AB$43)","v":0},{"$f":"COUNTIFS('BD-SOC'!$P$15:$P$30000,'FORMATO N° 5_XX'!B61,'BD-SOC'!$I$15:$I$30000,'FORMATO N° 5_XX'!$AC$43)+\nCOUNTIFS('BD-SOC'!$R$15:$R$30000,'FORMATO N° 5_XX'!B61,'BD-SOC'!$I$15:$I$30000,'FORMATO N° 5_XX'!$AC$43)+\nCOUNTIFS('BD-SOC'!$T$15:$T$30000,'FORMATO N° 5_XX'!B61,'BD-SOC'!$I$15:$I$30000,'FORMATO N° 5_XX'!$AC$43)+\nCOUNTIFS('BD-SOC'!$V$15:$V$30000,'FORMATO N° 5_XX'!B61,'BD-SOC'!$I$15:$I$30000,'FORMATO N° 5_XX'!$AC$43)+\nCOUNTIFS('BD-SOC'!$X$15:$X$30000,'FORMATO N° 5_XX'!B61,'BD-SOC'!$I$15:$I$30000,'FORMATO N° 5_XX'!$AC$43)+\nCOUNTIFS('BD-SOC'!$Z$15:$Z$30000,'FORMATO N° 5_XX'!B61,'BD-SOC'!$I$15:$I$30000,'FORMATO N° 5_XX'!$AC$43)+\nCOUNTIFS('BD-SOC'!$AB$15:$AB$30000,'FORMATO N° 5_XX'!B61,'BD-SOC'!$I$15:$I$30000,'FORMATO N° 5_XX'!$AC$43)","v":0},{"$f":"COUNTIFS('BD-SOC'!$P$15:$P$30000,'FORMATO N° 5_XX'!B61,'BD-SOC'!$I$15:$I$30000,'FORMATO N° 5_XX'!$AD$43)+\nCOUNTIFS('BD-SOC'!$R$15:$R$30000,'FORMATO N° 5_XX'!B61,'BD-SOC'!$I$15:$I$30000,'FORMATO N° 5_XX'!$AD$43)+\nCOUNTIFS('BD-SOC'!$T$15:$T$30000,'FORMATO N° 5_XX'!B61,'BD-SOC'!$I$15:$I$30000,'FORMATO N° 5_XX'!$AD$43)+\nCOUNTIFS('BD-SOC'!$V$15:$V$30000,'FORMATO N° 5_XX'!B61,'BD-SOC'!$I$15:$I$30000,'FORMATO N° 5_XX'!$AD$43)+\nCOUNTIFS('BD-SOC'!$X$15:$X$30000,'FORMATO N° 5_XX'!B61,'BD-SOC'!$I$15:$I$30000,'FORMATO N° 5_XX'!$AD$43)+\nCOUNTIFS('BD-SOC'!$Z$15:$Z$30000,'FORMATO N° 5_XX'!B61,'BD-SOC'!$I$15:$I$30000,'FORMATO N° 5_XX'!$AD$43)+\nCOUNTIFS('BD-SOC'!$AB$15:$AB$30000,'FORMATO N° 5_XX'!B61,'BD-SOC'!$I$15:$I$30000,'FORMATO N° 5_XX'!$AD$43)","v":0},{"$f":"COUNTIFS('BD-SOC'!$P$15:$P$30000,'FORMATO N° 5_XX'!B61,'BD-SOC'!$I$15:$I$30000,'FORMATO N° 5_XX'!$AE$43)+\nCOUNTIFS('BD-SOC'!$R$15:$R$30000,'FORMATO N° 5_XX'!B61,'BD-SOC'!$I$15:$I$30000,'FORMATO N° 5_XX'!$AE$43)+\nCOUNTIFS('BD-SOC'!$T$15:$T$30000,'FORMATO N° 5_XX'!B61,'BD-SOC'!$I$15:$I$30000,'FORMATO N° 5_XX'!$AE$43)+\nCOUNTIFS('BD-SOC'!$V$15:$V$30000,'FORMATO N° 5_XX'!B61,'BD-SOC'!$I$15:$I$30000,'FORMATO N° 5_XX'!$AE$43)+\nCOUNTIFS('BD-SOC'!$X$15:$X$30000,'FORMATO N° 5_XX'!B61,'BD-SOC'!$I$15:$I$30000,'FORMATO N° 5_XX'!$AE$43)+\nCOUNTIFS('BD-SOC'!$Z$15:$Z$30000,'FORMATO N° 5_XX'!B61,'BD-SOC'!$I$15:$I$30000,'FORMATO N° 5_XX'!$AE$43)+\nCOUNTIFS('BD-SOC'!$AB$15:$AB$30000,'FORMATO N° 5_XX'!B61,'BD-SOC'!$I$15:$I$30000,'FORMATO N° 5_XX'!$AE$43)","v":0}]
[null,207,"INFORME PARA VIGILANCIA ELECTRÓNICA",null,null,null,null,null,{"$error":"#REF!"},{"$f":"COUNTIFS('BD-SOC'!$P$15:$P$30000,'FORMATO N° 5_XX'!B62,'BD-SOC'!#REF!,'FORMATO N° 5_XX'!$J$43)+\nCOUNTIFS('BD-SOC'!$R$15:$R$30000,'FORMATO N° 5_XX'!B62,'BD-SOC'!#REF!,'FORMATO N° 5_XX'!$J$43)+\nCOUNTIFS('BD-SOC'!$T$15:$T$30000,'FORMATO N° 5_XX'!B62,'BD-SOC'!#REF!,'FORMATO N° 5_XX'!$J$43)+\nCOUNTIFS('BD-SOC'!$V$15:$V$30000,'FORMATO N° 5_XX'!B62,'BD-SOC'!#REF!,'FORMATO N° 5_XX'!$J$43)+\nCOUNTIFS('BD-SOC'!$X$15:$X$30000,'FORMATO N° 5_XX'!B62,'BD-SOC'!#REF!,'FORMATO N° 5_XX'!$J$43)+\nCOUNTIFS('BD-SOC'!$Z$15:$Z$30000,'FORMATO N° 5_XX'!B62,'BD-SOC'!#REF!,'FORMATO N° 5_XX'!$J$43)+\nCOUNTIFS('BD-SOC'!$AB$15:$AB$30000,'FORMATO N° 5_XX'!B62,'BD-SOC'!#REF!,'FORMATO N° 5_XX'!$J$43)","v":{"$error":"#REF!"}},{"$f":"COUNTIFS('BD-SOC'!$P$15:$P$30000,'FORMATO N° 5_XX'!B62,'BD-SOC'!#REF!,'FORMATO N° 5_XX'!$K$43)+\nCOUNTIFS('BD-SOC'!$R$15:$R$30000,'FORMATO N° 5_XX'!B62,'BD-SOC'!#REF!,'FORMATO N° 5_XX'!$K$43)+\nCOUNTIFS('BD-SOC'!$T$15:$T$30000,'FORMATO N° 5_XX'!B62,'BD-SOC'!#REF!,'FORMATO N° 5_XX'!$K$43)+\nCOUNTIFS('BD-SOC'!$V$15:$V$30000,'FORMATO N° 5_XX'!B62,'BD-SOC'!#REF!,'FORMATO N° 5_XX'!$K$43)+\nCOUNTIFS('BD-SOC'!$X$15:$X$30000,'FORMATO N° 5_XX'!B62,'BD-SOC'!#REF!,'FORMATO N° 5_XX'!$K$43)+\nCOUNTIFS('BD-SOC'!$Z$15:$Z$30000,'FORMATO N° 5_XX'!B62,'BD-SOC'!#REF!,'FORMATO N° 5_XX'!$K$43)+\nCOUNTIFS('BD-SOC'!$AB$15:$AB$30000,'FORMATO N° 5_XX'!B62,'BD-SOC'!#REF!,'FORMATO N° 5_XX'!$K$43)","v":{"$error":"#REF!"}},{"$f":"COUNTIFS('BD-SOC'!$P$15:$P$30000,'FORMATO N° 5_XX'!B62,'BD-SOC'!#REF!,'FORMATO N° 5_XX'!$L$43)+\nCOUNTIFS('BD-SOC'!$R$15:$R$30000,'FORMATO N° 5_XX'!B62,'BD-SOC'!#REF!,'FORMATO N° 5_XX'!$L$43)+\nCOUNTIFS('BD-SOC'!$T$15:$T$30000,'FORMATO N° 5_XX'!B62,'BD-SOC'!#REF!,'FORMATO N° 5_XX'!$L$43)+\nCOUNTIFS('BD-SOC'!$V$15:$V$30000,'FORMATO N° 5_XX'!B62,'BD-SOC'!#REF!,'FORMATO N° 5_XX'!$L$43)+\nCOUNTIFS('BD-SOC'!$X$15:$X$30000,'FORMATO N° 5_XX'!B62,'BD-SOC'!#REF!,'FORMATO N° 5_XX'!$L$43)+\nCOUNTIFS('BD-SOC'!$Z$15:$Z$30000,'FORMATO N° 5_XX'!B62,'BD-SOC'!#REF!,'FORMATO N° 5_XX'!$L$43)+\nCOUNTIFS('BD-SOC'!$AB$15:$AB$30000,'FORMATO N° 5_XX'!B62,'BD-SOC'!#REF!,'FORMATO N° 5_XX'!$L$43)","v":{"$error":"#REF!"}},{"$f":"COUNTIFS('BD-SOC'!$P$15:$P$30000,'FORMATO N° 5_XX'!B62,'BD-SOC'!#REF!,'FORMATO N° 5_XX'!$M$44)+\nCOUNTIFS('BD-SOC'!$R$15:$R$30000,'FORMATO N° 5_XX'!B62,'BD-SOC'!#REF!,'FORMATO N° 5_XX'!$M$44)+\nCOUNTIFS('BD-SOC'!$T$15:$T$30000,'FORMATO N° 5_XX'!B62,'BD-SOC'!#REF!,'FORMATO N° 5_XX'!$M$44)+\nCOUNTIFS('BD-SOC'!$V$15:$V$30000,'FORMATO N° 5_XX'!B62,'BD-SOC'!#REF!,'FORMATO N° 5_XX'!$M$44)+\nCOUNTIFS('BD-SOC'!$X$15:$X$30000,'FORMATO N° 5_XX'!B62,'BD-SOC'!#REF!,'FORMATO N° 5_XX'!$M$44)+\nCOUNTIFS('BD-SOC'!$Z$15:$Z$30000,'FORMATO N° 5_XX'!B62,'BD-SOC'!#REF!,'FORMATO N° 5_XX'!$M$44)+\nCOUNTIFS('BD-SOC'!$AB$15:$AB$30000,'FORMATO N° 5_XX'!B62,'BD-SOC'!#REF!,'FORMATO N° 5_XX'!$M$44)","v":{"$error":"#REF!"}},{"$f":"COUNTIFS('BD-SOC'!$P$15:$P$30000,'FORMATO N° 5_XX'!B62,'BD-SOC'!#REF!,'FORMATO N° 5_XX'!$N$44)+\nCOUNTIFS('BD-SOC'!$R$15:$R$30000,'FORMATO N° 5_XX'!B62,'BD-SOC'!#REF!,'FORMATO N° 5_XX'!$N$44)+\nCOUNTIFS('BD-SOC'!$T$15:$T$30000,'FORMATO N° 5_XX'!B62,'BD-SOC'!#REF!,'FORMATO N° 5_XX'!$N$44)+\nCOUNTIFS('BD-SOC'!$V$15:$V$30000,'FORMATO N° 5_XX'!B62,'BD-SOC'!#REF!,'FORMATO N° 5_XX'!$N$44)+\nCOUNTIFS('BD-SOC'!$X$15:$X$30000,'FORMATO N° 5_XX'!B62,'BD-SOC'!#REF!,'FORMATO N° 5_XX'!$N$44)+\nCOUNTIFS('BD-SOC'!$Z$15:$Z$30000,'FORMATO N° 5_XX'!B62,'BD-SOC'!#REF!,'FORMATO N° 5_XX'!$N$44)+\nCOUNTIFS('BD-SOC'!$AB$15:$AB$30000,'FORMATO N° 5_XX'!B62,'BD-SOC'!#REF!,'FORMATO N° 5_XX'!$N$44)","v":{"$error":"#REF!"}},{"$f":"COUNTIFS('BD-SOC'!$P$15:$P$30000,'FORMATO N° 5_XX'!B62,'BD-SOC'!#REF!,'FORMATO N° 5_XX'!$O$44)+\nCOUNTIFS('BD-SOC'!$R$15:$R$30000,'FORMATO N° 5_XX'!B62,'BD-SOC'!#REF!,'FORMATO N° 5_XX'!$O$44)+\nCOUNTIFS('BD-SOC'!$T$15:$T$30000,'FORMATO N° 5_XX'!B62,'BD-SOC'!#REF!,'FORMATO N° 5_XX'!$O$44)+\nCOUNTIFS('BD-SOC'!$V$15:$V$30000,'FORMATO N° 5_XX'!B62,'BD-SOC'!#REF!,'FORMATO N° 5_XX'!$O$44)+\nCOUNTIFS('BD-SOC'!$X$15:$X$30000,'FORMATO N° 5_XX'!B62,'BD-SOC'!#REF!,'FORMATO N° 5_XX'!$O$44)+\nCOUNTIFS('BD-SOC'!$Z$15:$Z$30000,'FORMATO N° 5_XX'!B62,'BD-SOC'!#REF!,'FORMATO N° 5_XX'!$O$44)+\nCOUNTIFS('BD-SOC'!$AB$15:$AB$30000,'FORMATO N° 5_XX'!B62,'BD-SOC'!#REF!,'FORMATO N° 5_XX'!$O$44)","v":{"$error":"#REF!"}},{"$f":"COUNTIFS('BD-SOC'!$P$15:$P$30000,'FORMATO N° 5_XX'!B62,'BD-SOC'!#REF!,'FORMATO N° 5_XX'!$P$44)+\nCOUNTIFS('BD-SOC'!$R$15:$R$30000,'FORMATO N° 5_XX'!B62,'BD-SOC'!#REF!,'FORMATO N° 5_XX'!$P$44)+\nCOUNTIFS('BD-SOC'!$T$15:$T$30000,'FORMATO N° 5_XX'!B62,'BD-SOC'!#REF!,'FORMATO N° 5_XX'!$P$44)+\nCOUNTIFS('BD-SOC'!$V$15:$V$30000,'FORMATO N° 5_XX'!B62,'BD-SOC'!#REF!,'FORMATO N° 5_XX'!$P$44)+\nCOUNTIFS('BD-SOC'!$X$15:$X$30000,'FORMATO N° 5_XX'!B62,'BD-SOC'!#REF!,'FORMATO N° 5_XX'!$P$44)+\nCOUNTIFS('BD-SOC'!$Z$15:$Z$30000,'FORMATO N° 5_XX'!B62,'BD-SOC'!#REF!,'FORMATO N° 5_XX'!$P$44)+\nCOUNTIFS('BD-SOC'!$AB$15:$AB$30000,'FORMATO N° 5_XX'!B62,'BD-SOC'!#REF!,'FORMATO N° 5_XX'!$P$44)","v":{"$error":"#REF!"}},{"$f":"COUNTIFS('BD-SOC'!$P$15:$P$30000,'FORMATO N° 5_XX'!B62,'BD-SOC'!#REF!,'FORMATO N° 5_XX'!$Q$44)+\nCOUNTIFS('BD-SOC'!$R$15:$R$30000,'FORMATO N° 5_XX'!B62,'BD-SOC'!#REF!,'FORMATO N° 5_XX'!$Q$44)+\nCOUNTIFS('BD-SOC'!$T$15:$T$30000,'FORMATO N° 5_XX'!B62,'BD-SOC'!#REF!,'FORMATO N° 5_XX'!$Q$44)+\nCOUNTIFS('BD-SOC'!$V$15:$V$30000,'FORMATO N° 5_XX'!B62,'BD-SOC'!#REF!,'FORMATO N° 5_XX'!$Q$44)+\nCOUNTIFS('BD-SOC'!$X$15:$X$30000,'FORMATO N° 5_XX'!B62,'BD-SOC'!#REF!,'FORMATO N° 5_XX'!$Q$44)+\nCOUNTIFS('BD-SOC'!$Z$15:$Z$30000,'FORMATO N° 5_XX'!B62,'BD-SOC'!#REF!,'FORMATO N° 5_XX'!$Q$44)+\nCOUNTIFS('BD-SOC'!$AB$15:$AB$30000,'FORMATO N° 5_XX'!B62,'BD-SOC'!#REF!,'FORMATO N° 5_XX'!$Q$44)","v":{"$error":"#REF!"}},{"$f":"COUNTIFS('BD-SOC'!$P$15:$P$30000,'FORMATO N° 5_XX'!B62,'BD-SOC'!#REF!,'FORMATO N° 5_XX'!$R$44)+\nCOUNTIFS('BD-SOC'!$R$15:$R$30000,'FORMATO N° 5_XX'!B62,'BD-SOC'!#REF!,'FORMATO N° 5_XX'!$R$44)+\nCOUNTIFS('BD-SOC'!$T$15:$T$30000,'FORMATO N° 5_XX'!B62,'BD-SOC'!#REF!,'FORMATO N° 5_XX'!$R$44)+\nCOUNTIFS('BD-SOC'!$V$15:$V$30000,'FORMATO N° 5_XX'!B62,'BD-SOC'!#REF!,'FORMATO N° 5_XX'!$R$44)+\nCOUNTIFS('BD-SOC'!$X$15:$X$30000,'FORMATO N° 5_XX'!B62,'BD-SOC'!#REF!,'FORMATO N° 5_XX'!$R$44)+\nCOUNTIFS('BD-SOC'!$Z$15:$Z$30000,'FORMATO N° 5_XX'!B62,'BD-SOC'!#REF!,'FORMATO N° 5_XX'!$R$44)+\nCOUNTIFS('BD-SOC'!$AB$15:$AB$30000,'FORMATO N° 5_XX'!B62,'BD-SOC'!#REF!,'FORMATO N° 5_XX'!$R$44)","v":{"$error":"#REF!"}},{"$f":"COUNTIFS('BD-SOC'!$P$15:$P$30000,'FORMATO N° 5_XX'!B62,'BD-SOC'!#REF!,'FORMATO N° 5_XX'!$S$43)+\nCOUNTIFS('BD-SOC'!$R$15:$R$30000,'FORMATO N° 5_XX'!B62,'BD-SOC'!#REF!,'FORMATO N° 5_XX'!$S$43)+\nCOUNTIFS('BD-SOC'!$T$15:$T$30000,'FORMATO N° 5_XX'!B62,'BD-SOC'!#REF!,'FORMATO N° 5_XX'!$S$43)+\nCOUNTIFS('BD-SOC'!$V$15:$V$30000,'FORMATO N° 5_XX'!B62,'BD-SOC'!#REF!,'FORMATO N° 5_XX'!$S$43)+\nCOUNTIFS('BD-SOC'!$X$15:$X$30000,'FORMATO N° 5_XX'!B62,'BD-SOC'!#REF!,'FORMATO N° 5_XX'!$S$43)+\nCOUNTIFS('BD-SOC'!$Z$15:$Z$30000,'FORMATO N° 5_XX'!B62,'BD-SOC'!#REF!,'FORMATO N° 5_XX'!$S$43)+\nCOUNTIFS('BD-SOC'!$AB$15:$AB$30000,'FORMATO N° 5_XX'!B62,'BD-SOC'!#REF!,'FORMATO N° 5_XX'!$S$43)","v":{"$error":"#REF!"}},{"$f":"COUNTIFS('BD-SOC'!$P$15:$P$30000,'FORMATO N° 5_XX'!B62,'BD-SOC'!#REF!,'FORMATO N° 5_XX'!$T$43)+\nCOUNTIFS('BD-SOC'!$R$15:$R$30000,'FORMATO N° 5_XX'!B62,'BD-SOC'!#REF!,'FORMATO N° 5_XX'!$T$43)+\nCOUNTIFS('BD-SOC'!$T$15:$T$30000,'FORMATO N° 5_XX'!B62,'BD-SOC'!#REF!,'FORMATO N° 5_XX'!$T$43)+\nCOUNTIFS('BD-SOC'!$V$15:$V$30000,'FORMATO N° 5_XX'!B62,'BD-SOC'!#REF!,'FORMATO N° 5_XX'!$T$43)+\nCOUNTIFS('BD-SOC'!$X$15:$X$30000,'FORMATO N° 5_XX'!B62,'BD-SOC'!#REF!,'FORMATO N° 5_XX'!$T$43)+\nCOUNTIFS('BD-SOC'!$Z$15:$Z$30000,'FORMATO N° 5_XX'!B62,'BD-SOC'!#REF!,'FORMATO N° 5_XX'!$T$43)+\nCOUNTIFS('BD-SOC'!$AB$15:$AB$30000,'FORMATO N° 5_XX'!B62,'BD-SOC'!#REF!,'FORMATO N° 5_XX'!$T$43)","v":{"$error":"#REF!"}},0,{"$f":"COUNTIFS('BD-SOC'!$P$15:$P$30000,'FORMATO N° 5_XX'!B62,'BD-SOC'!$I$15:$I$30000,'FORMATO N° 5_XX'!$V$43)+\nCOUNTIFS('BD-SOC'!$R$15:$R$30000,'FORMATO N° 5_XX'!B62,'BD-SOC'!$I$15:$I$30000,'FORMATO N° 5_XX'!$V$43)+\nCOUNTIFS('BD-SOC'!$T$15:$T$30000,'FORMATO N° 5_XX'!B62,'BD-SOC'!$I$15:$I$30000,'FORMATO N° 5_XX'!$V$43)+\nCOUNTIFS('BD-SOC'!$V$15:$V$30000,'FORMATO N° 5_XX'!B62,'BD-SOC'!$I$15:$I$30000,'FORMATO N° 5_XX'!$V$43)+\nCOUNTIFS('BD-SOC'!$X$15:$X$30000,'FORMATO N° 5_XX'!B62,'BD-SOC'!$I$15:$I$30000,'FORMATO N° 5_XX'!$V$43)+\nCOUNTIFS('BD-SOC'!$Z$15:$Z$30000,'FORMATO N° 5_XX'!B62,'BD-SOC'!$I$15:$I$30000,'FORMATO N° 5_XX'!$V$43)+\nCOUNTIFS('BD-SOC'!$AB$15:$AB$30000,'FORMATO N° 5_XX'!B62,'BD-SOC'!$I$15:$I$30000,'FORMATO N° 5_XX'!$V$43)","v":0},{"$f":"COUNTIFS('BD-SOC'!$P$15:$P$30000,'FORMATO N° 5_XX'!B62,'BD-SOC'!$I$15:$I$30000,'FORMATO N° 5_XX'!$W$43)+\nCOUNTIFS('BD-SOC'!$R$15:$R$30000,'FORMATO N° 5_XX'!B62,'BD-SOC'!$I$15:$I$30000,'FORMATO N° 5_XX'!$W$43)+\nCOUNTIFS('BD-SOC'!$T$15:$T$30000,'FORMATO N° 5_XX'!B62,'BD-SOC'!$I$15:$I$30000,'FORMATO N° 5_XX'!$W$43)+\nCOUNTIFS('BD-SOC'!$V$15:$V$30000,'FORMATO N° 5_XX'!B62,'BD-SOC'!$I$15:$I$30000,'FORMATO N° 5_XX'!$W$43)+\nCOUNTIFS('BD-SOC'!$X$15:$X$30000,'FORMATO N° 5_XX'!B62,'BD-SOC'!$I$15:$I$30000,'FORMATO N° 5_XX'!$W$43)+\nCOUNTIFS('BD-SOC'!$Z$15:$Z$30000,'FORMATO N° 5_XX'!B62,'BD-SOC'!$I$15:$I$30000,'FORMATO N° 5_XX'!$W$43)+\nCOUNTIFS('BD-SOC'!$AB$15:$AB$30000,'FORMATO N° 5_XX'!B62,'BD-SOC'!$I$15:$I$30000,'FORMATO N° 5_XX'!$W$43)","v":0},{"$f":"COUNTIFS('BD-SOC'!$P$15:$P$30000,'FORMATO N° 5_XX'!B62,'BD-SOC'!$I$15:$I$30000,'FORMATO N° 5_XX'!$X$43)+\nCOUNTIFS('BD-SOC'!$R$15:$R$30000,'FORMATO N° 5_XX'!B62,'BD-SOC'!$I$15:$I$30000,'FORMATO N° 5_XX'!$X$43)+\nCOUNTIFS('BD-SOC'!$T$15:$T$30000,'FORMATO N° 5_XX'!B62,'BD-SOC'!$I$15:$I$30000,'FORMATO N° 5_XX'!$X$43)+\nCOUNTIFS('BD-SOC'!$V$15:$V$30000,'FORMATO N° 5_XX'!B62,'BD-SOC'!$I$15:$I$30000,'FORMATO N° 5_XX'!$X$43)+\nCOUNTIFS('BD-SOC'!$X$15:$X$30000,'FORMATO N° 5_XX'!B62,'BD-SOC'!$I$15:$I$30000,'FORMATO N° 5_XX'!$X$43)+\nCOUNTIFS('BD-SOC'!$Z$15:$Z$30000,'FORMATO N° 5_XX'!B62,'BD-SOC'!$I$15:$I$30000,'FORMATO N° 5_XX'!$X$43)+\nCOUNTIFS('BD-SOC'!$AB$15:$AB$30000,'FORMATO N° 5_XX'!B62,'BD-SOC'!$I$15:$I$30000,'FORMATO N° 5_XX'!$X$43)","v":0},{"$f":"COUNTIFS('BD-SOC'!$P$15:$P$30000,'FORMATO N° 5_XX'!B62,'BD-SOC'!$I$15:$I$30000,'FORMATO N° 5_XX'!$Y$43)+\nCOUNTIFS('BD-SOC'!$R$15:$R$30000,'FORMATO N° 5_XX'!B62,'BD-SOC'!$I$15:$I$30000,'FORMATO N° 5_XX'!$Y$43)+\nCOUNTIFS('BD-SOC'!$T$15:$T$30000,'FORMATO N° 5_XX'!B62,'BD-SOC'!$I$15:$I$30000,'FORMATO N° 5_XX'!$Y$43)+\nCOUNTIFS('BD-SOC'!$V$15:$V$30000,'FORMATO N° 5_XX'!B62,'BD-SOC'!$I$15:$I$30000,'FORMATO N° 5_XX'!$Y$43)+\nCOUNTIFS('BD-SOC'!$X$15:$X$30000,'FORMATO N° 5_XX'!B62,'BD-SOC'!$I$15:$I$30000,'FORMATO N° 5_XX'!$Y$43)+\nCOUNTIFS('BD-SOC'!$Z$15:$Z$30000,'FORMATO N° 5_XX'!B62,'BD-SOC'!$I$15:$I$30000,'FORMATO N° 5_XX'!$Y$43)+\nCOUNTIFS('BD-SOC'!$AB$15:$AB$30000,'FORMATO N° 5_XX'!B62,'BD-SOC'!$I$15:$I$30000,'FORMATO N° 5_XX'!$Y$43)","v":0},{"$f":"COUNTIFS('BD-SOC'!$P$15:$P$30000,'FORMATO N° 5_XX'!B62,'BD-SOC'!$I$15:$I$30000,'FORMATO N° 5_XX'!$Z$43)+\nCOUNTIFS('BD-SOC'!$R$15:$R$30000,'FORMATO N° 5_XX'!B62,'BD-SOC'!$I$15:$I$30000,'FORMATO N° 5_XX'!$Z$43)+\nCOUNTIFS('BD-SOC'!$T$15:$T$30000,'FORMATO N° 5_XX'!B62,'BD-SOC'!$I$15:$I$30000,'FORMATO N° 5_XX'!$Z$43)+\nCOUNTIFS('BD-SOC'!$V$15:$V$30000,'FORMATO N° 5_XX'!B62,'BD-SOC'!$I$15:$I$30000,'FORMATO N° 5_XX'!$Z$43)+\nCOUNTIFS('BD-SOC'!$X$15:$X$30000,'FORMATO N° 5_XX'!B62,'BD-SOC'!$I$15:$I$30000,'FORMATO N° 5_XX'!$Z$43)+\nCOUNTIFS('BD-SOC'!$Z$15:$Z$30000,'FORMATO N° 5_XX'!B62,'BD-SOC'!$I$15:$I$30000,'FORMATO N° 5_XX'!$Z$43)+\nCOUNTIFS('BD-SOC'!$AB$15:$AB$30000,'FORMATO N° 5_XX'!B62,'BD-SOC'!$I$15:$I$30000,'FORMATO N° 5_XX'!$Z$43)","v":0},{"$f":"COUNTIFS('BD-SOC'!$P$15:$P$30000,'FORMATO N° 5_XX'!B62,'BD-SOC'!$I$15:$I$30000,'FORMATO N° 5_XX'!$AA$43)+\nCOUNTIFS('BD-SOC'!$R$15:$R$30000,'FORMATO N° 5_XX'!B62,'BD-SOC'!$I$15:$I$30000,'FORMATO N° 5_XX'!$AA$43)+\nCOUNTIFS('BD-SOC'!$T$15:$T$30000,'FORMATO N° 5_XX'!B62,'BD-SOC'!$I$15:$I$30000,'FORMATO N° 5_XX'!$AA$43)+\nCOUNTIFS('BD-SOC'!$V$15:$V$30000,'FORMATO N° 5_XX'!B62,'BD-SOC'!$I$15:$I$30000,'FORMATO N° 5_XX'!$AA$43)+\nCOUNTIFS('BD-SOC'!$X$15:$X$30000,'FORMATO N° 5_XX'!B62,'BD-SOC'!$I$15:$I$30000,'FORMATO N° 5_XX'!$AA$43)+\nCOUNTIFS('BD-SOC'!$Z$15:$Z$30000,'FORMATO N° 5_XX'!B62,'BD-SOC'!$I$15:$I$30000,'FORMATO N° 5_XX'!$AA$43)+\nCOUNTIFS('BD-SOC'!$AB$15:$AB$30000,'FORMATO N° 5_XX'!B62,'BD-SOC'!$I$15:$I$30000,'FORMATO N° 5_XX'!$AA$43)","v":0},{"$f":"COUNTIFS('BD-SOC'!$P$15:$P$30000,'FORMATO N° 5_XX'!B62,'BD-SOC'!$I$15:$I$30000,'FORMATO N° 5_XX'!$AB$43)+\nCOUNTIFS('BD-SOC'!$R$15:$R$30000,'FORMATO N° 5_XX'!B62,'BD-SOC'!$I$15:$I$30000,'FORMATO N° 5_XX'!$AB$43)+\nCOUNTIFS('BD-SOC'!$T$15:$T$30000,'FORMATO N° 5_XX'!B62,'BD-SOC'!$I$15:$I$30000,'FORMATO N° 5_XX'!$AB$43)+\nCOUNTIFS('BD-SOC'!$V$15:$V$30000,'FORMATO N° 5_XX'!B62,'BD-SOC'!$I$15:$I$30000,'FORMATO N° 5_XX'!$AB$43)+\nCOUNTIFS('BD-SOC'!$X$15:$X$30000,'FORMATO N° 5_XX'!B62,'BD-SOC'!$I$15:$I$30000,'FORMATO N° 5_XX'!$AB$43)+\nCOUNTIFS('BD-SOC'!$Z$15:$Z$30000,'FORMATO N° 5_XX'!B62,'BD-SOC'!$I$15:$I$30000,'FORMATO N° 5_XX'!$AB$43)+\nCOUNTIFS('BD-SOC'!$AB$15:$AB$30000,'FORMATO N° 5_XX'!B62,'BD-SOC'!$I$15:$I$30000,'FORMATO N° 5_XX'!$AB$43)","v":0},{"$f":"COUNTIFS('BD-SOC'!$P$15:$P$30000,'FORMATO N° 5_XX'!B62,'BD-SOC'!$I$15:$I$30000,'FORMATO N° 5_XX'!$AC$43)+\nCOUNTIFS('BD-SOC'!$R$15:$R$30000,'FORMATO N° 5_XX'!B62,'BD-SOC'!$I$15:$I$30000,'FORMATO N° 5_XX'!$AC$43)+\nCOUNTIFS('BD-SOC'!$T$15:$T$30000,'FORMATO N° 5_XX'!B62,'BD-SOC'!$I$15:$I$30000,'FORMATO N° 5_XX'!$AC$43)+\nCOUNTIFS('BD-SOC'!$V$15:$V$30000,'FORMATO N° 5_XX'!B62,'BD-SOC'!$I$15:$I$30000,'FORMATO N° 5_XX'!$AC$43)+\nCOUNTIFS('BD-SOC'!$X$15:$X$30000,'FORMATO N° 5_XX'!B62,'BD-SOC'!$I$15:$I$30000,'FORMATO N° 5_XX'!$AC$43)+\nCOUNTIFS('BD-SOC'!$Z$15:$Z$30000,'FORMATO N° 5_XX'!B62,'BD-SOC'!$I$15:$I$30000,'FORMATO N° 5_XX'!$AC$43)+\nCOUNTIFS('BD-SOC'!$AB$15:$AB$30000,'FORMATO N° 5_XX'!B62,'BD-SOC'!$I$15:$I$30000,'FORMATO N° 5_XX'!$AC$43)","v":0},{"$f":"COUNTIFS('BD-SOC'!$P$15:$P$30000,'FORMATO N° 5_XX'!B62,'BD-SOC'!$I$15:$I$30000,'FORMATO N° 5_XX'!$AD$43)+\nCOUNTIFS('BD-SOC'!$R$15:$R$30000,'FORMATO N° 5_XX'!B62,'BD-SOC'!$I$15:$I$30000,'FORMATO N° 5_XX'!$AD$43)+\nCOUNTIFS('BD-SOC'!$T$15:$T$30000,'FORMATO N° 5_XX'!B62,'BD-SOC'!$I$15:$I$30000,'FORMATO N° 5_XX'!$AD$43)+\nCOUNTIFS('BD-SOC'!$V$15:$V$30000,'FORMATO N° 5_XX'!B62,'BD-SOC'!$I$15:$I$30000,'FORMATO N° 5_XX'!$AD$43)+\nCOUNTIFS('BD-SOC'!$X$15:$X$30000,'FORMATO N° 5_XX'!B62,'BD-SOC'!$I$15:$I$30000,'FORMATO N° 5_XX'!$AD$43)+\nCOUNTIFS('BD-SOC'!$Z$15:$Z$30000,'FORMATO N° 5_XX'!B62,'BD-SOC'!$I$15:$I$30000,'FORMATO N° 5_XX'!$AD$43)+\nCOUNTIFS('BD-SOC'!$AB$15:$AB$30000,'FORMATO N° 5_XX'!B62,'BD-SOC'!$I$15:$I$30000,'FORMATO N° 5_XX'!$AD$43)","v":0},{"$f":"COUNTIFS('BD-SOC'!$P$15:$P$30000,'FORMATO N° 5_XX'!B62,'BD-SOC'!$I$15:$I$30000,'FORMATO N° 5_XX'!$AE$43)+\nCOUNTIFS('BD-SOC'!$R$15:$R$30000,'FORMATO N° 5_XX'!B62,'BD-SOC'!$I$15:$I$30000,'FORMATO N° 5_XX'!$AE$43)+\nCOUNTIFS('BD-SOC'!$T$15:$T$30000,'FORMATO N° 5_XX'!B62,'BD-SOC'!$I$15:$I$30000,'FORMATO N° 5_XX'!$AE$43)+\nCOUNTIFS('BD-SOC'!$V$15:$V$30000,'FORMATO N° 5_XX'!B62,'BD-SOC'!$I$15:$I$30000,'FORMATO N° 5_XX'!$AE$43)+\nCOUNTIFS('BD-SOC'!$X$15:$X$30000,'FORMATO N° 5_XX'!B62,'BD-SOC'!$I$15:$I$30000,'FORMATO N° 5_XX'!$AE$43)+\nCOUNTIFS('BD-SOC'!$Z$15:$Z$30000,'FORMATO N° 5_XX'!B62,'BD-SOC'!$I$15:$I$30000,'FORMATO N° 5_XX'!$AE$43)+\nCOUNTIFS('BD-SOC'!$AB$15:$AB$30000,'FORMATO N° 5_XX'!B62,'BD-SOC'!$I$15:$I$30000,'FORMATO N° 5_XX'!$AE$43)","v":0}]
[null,208,"INFORME DE TRASLADO POR UNIDAD FAMILIAR",null,null,null,null,null,{"$error":"#REF!"},{"$f":"COUNTIFS('BD-SOC'!$P$15:$P$30000,'FORMATO N° 5_XX'!B63,'BD-SOC'!#REF!,'FORMATO N° 5_XX'!$J$43)+\nCOUNTIFS('BD-SOC'!$R$15:$R$30000,'FORMATO N° 5_XX'!B63,'BD-SOC'!#REF!,'FORMATO N° 5_XX'!$J$43)+\nCOUNTIFS('BD-SOC'!$T$15:$T$30000,'FORMATO N° 5_XX'!B63,'BD-SOC'!#REF!,'FORMATO N° 5_XX'!$J$43)+\nCOUNTIFS('BD-SOC'!$V$15:$V$30000,'FORMATO N° 5_XX'!B63,'BD-SOC'!#REF!,'FORMATO N° 5_XX'!$J$43)+\nCOUNTIFS('BD-SOC'!$X$15:$X$30000,'FORMATO N° 5_XX'!B63,'BD-SOC'!#REF!,'FORMATO N° 5_XX'!$J$43)+\nCOUNTIFS('BD-SOC'!$Z$15:$Z$30000,'FORMATO N° 5_XX'!B63,'BD-SOC'!#REF!,'FORMATO N° 5_XX'!$J$43)+\nCOUNTIFS('BD-SOC'!$AB$15:$AB$30000,'FORMATO N° 5_XX'!B63,'BD-SOC'!#REF!,'FORMATO N° 5_XX'!$J$43)","v":{"$error":"#REF!"}},{"$f":"COUNTIFS('BD-SOC'!$P$15:$P$30000,'FORMATO N° 5_XX'!B63,'BD-SOC'!#REF!,'FORMATO N° 5_XX'!$K$43)+\nCOUNTIFS('BD-SOC'!$R$15:$R$30000,'FORMATO N° 5_XX'!B63,'BD-SOC'!#REF!,'FORMATO N° 5_XX'!$K$43)+\nCOUNTIFS('BD-SOC'!$T$15:$T$30000,'FORMATO N° 5_XX'!B63,'BD-SOC'!#REF!,'FORMATO N° 5_XX'!$K$43)+\nCOUNTIFS('BD-SOC'!$V$15:$V$30000,'FORMATO N° 5_XX'!B63,'BD-SOC'!#REF!,'FORMATO N° 5_XX'!$K$43)+\nCOUNTIFS('BD-SOC'!$X$15:$X$30000,'FORMATO N° 5_XX'!B63,'BD-SOC'!#REF!,'FORMATO N° 5_XX'!$K$43)+\nCOUNTIFS('BD-SOC'!$Z$15:$Z$30000,'FORMATO N° 5_XX'!B63,'BD-SOC'!#REF!,'FORMATO N° 5_XX'!$K$43)+\nCOUNTIFS('BD-SOC'!$AB$15:$AB$30000,'FORMATO N° 5_XX'!B63,'BD-SOC'!#REF!,'FORMATO N° 5_XX'!$K$43)","v":{"$error":"#REF!"}},{"$f":"COUNTIFS('BD-SOC'!$P$15:$P$30000,'FORMATO N° 5_XX'!B63,'BD-SOC'!#REF!,'FORMATO N° 5_XX'!$L$43)+\nCOUNTIFS('BD-SOC'!$R$15:$R$30000,'FORMATO N° 5_XX'!B63,'BD-SOC'!#REF!,'FORMATO N° 5_XX'!$L$43)+\nCOUNTIFS('BD-SOC'!$T$15:$T$30000,'FORMATO N° 5_XX'!B63,'BD-SOC'!#REF!,'FORMATO N° 5_XX'!$L$43)+\nCOUNTIFS('BD-SOC'!$V$15:$V$30000,'FORMATO N° 5_XX'!B63,'BD-SOC'!#REF!,'FORMATO N° 5_XX'!$L$43)+\nCOUNTIFS('BD-SOC'!$X$15:$X$30000,'FORMATO N° 5_XX'!B63,'BD-SOC'!#REF!,'FORMATO N° 5_XX'!$L$43)+\nCOUNTIFS('BD-SOC'!$Z$15:$Z$30000,'FORMATO N° 5_XX'!B63,'BD-SOC'!#REF!,'FORMATO N° 5_XX'!$L$43)+\nCOUNTIFS('BD-SOC'!$AB$15:$AB$30000,'FORMATO N° 5_XX'!B63,'BD-SOC'!#REF!,'FORMATO N° 5_XX'!$L$43)","v":{"$error":"#REF!"}},{"$f":"COUNTIFS('BD-SOC'!$P$15:$P$30000,'FORMATO N° 5_XX'!B63,'BD-SOC'!#REF!,'FORMATO N° 5_XX'!$M$44)+\nCOUNTIFS('BD-SOC'!$R$15:$R$30000,'FORMATO N° 5_XX'!B63,'BD-SOC'!#REF!,'FORMATO N° 5_XX'!$M$44)+\nCOUNTIFS('BD-SOC'!$T$15:$T$30000,'FORMATO N° 5_XX'!B63,'BD-SOC'!#REF!,'FORMATO N° 5_XX'!$M$44)+\nCOUNTIFS('BD-SOC'!$V$15:$V$30000,'FORMATO N° 5_XX'!B63,'BD-SOC'!#REF!,'FORMATO N° 5_XX'!$M$44)+\nCOUNTIFS('BD-SOC'!$X$15:$X$30000,'FORMATO N° 5_XX'!B63,'BD-SOC'!#REF!,'FORMATO N° 5_XX'!$M$44)+\nCOUNTIFS('BD-SOC'!$Z$15:$Z$30000,'FORMATO N° 5_XX'!B63,'BD-SOC'!#REF!,'FORMATO N° 5_XX'!$M$44)+\nCOUNTIFS('BD-SOC'!$AB$15:$AB$30000,'FORMATO N° 5_XX'!B63,'BD-SOC'!#REF!,'FORMATO N° 5_XX'!$M$44)","v":{"$error":"#REF!"}},{"$f":"COUNTIFS('BD-SOC'!$P$15:$P$30000,'FORMATO N° 5_XX'!B63,'BD-SOC'!#REF!,'FORMATO N° 5_XX'!$N$44)+\nCOUNTIFS('BD-SOC'!$R$15:$R$30000,'FORMATO N° 5_XX'!B63,'BD-SOC'!#REF!,'FORMATO N° 5_XX'!$N$44)+\nCOUNTIFS('BD-SOC'!$T$15:$T$30000,'FORMATO N° 5_XX'!B63,'BD-SOC'!#REF!,'FORMATO N° 5_XX'!$N$44)+\nCOUNTIFS('BD-SOC'!$V$15:$V$30000,'FORMATO N° 5_XX'!B63,'BD-SOC'!#REF!,'FORMATO N° 5_XX'!$N$44)+\nCOUNTIFS('BD-SOC'!$X$15:$X$30000,'FORMATO N° 5_XX'!B63,'BD-SOC'!#REF!,'FORMATO N° 5_XX'!$N$44)+\nCOUNTIFS('BD-SOC'!$Z$15:$Z$30000,'FORMATO N° 5_XX'!B63,'BD-SOC'!#REF!,'FORMATO N° 5_XX'!$N$44)+\nCOUNTIFS('BD-SOC'!$AB$15:$AB$30000,'FORMATO N° 5_XX'!B63,'BD-SOC'!#REF!,'FORMATO N° 5_XX'!$N$44)","v":{"$error":"#REF!"}},{"$f":"COUNTIFS('BD-SOC'!$P$15:$P$30000,'FORMATO N° 5_XX'!B63,'BD-SOC'!#REF!,'FORMATO N° 5_XX'!$O$44)+\nCOUNTIFS('BD-SOC'!$R$15:$R$30000,'FORMATO N° 5_XX'!B63,'BD-SOC'!#REF!,'FORMATO N° 5_XX'!$O$44)+\nCOUNTIFS('BD-SOC'!$T$15:$T$30000,'FORMATO N° 5_XX'!B63,'BD-SOC'!#REF!,'FORMATO N° 5_XX'!$O$44)+\nCOUNTIFS('BD-SOC'!$V$15:$V$30000,'FORMATO N° 5_XX'!B63,'BD-SOC'!#REF!,'FORMATO N° 5_XX'!$O$44)+\nCOUNTIFS('BD-SOC'!$X$15:$X$30000,'FORMATO N° 5_XX'!B63,'BD-SOC'!#REF!,'FORMATO N° 5_XX'!$O$44)+\nCOUNTIFS('BD-SOC'!$Z$15:$Z$30000,'FORMATO N° 5_XX'!B63,'BD-SOC'!#REF!,'FORMATO N° 5_XX'!$O$44)+\nCOUNTIFS('BD-SOC'!$AB$15:$AB$30000,'FORMATO N° 5_XX'!B63,'BD-SOC'!#REF!,'FORMATO N° 5_XX'!$O$44)","v":{"$error":"#REF!"}},{"$f":"COUNTIFS('BD-SOC'!$P$15:$P$30000,'FORMATO N° 5_XX'!B63,'BD-SOC'!#REF!,'FORMATO N° 5_XX'!$P$44)+\nCOUNTIFS('BD-SOC'!$R$15:$R$30000,'FORMATO N° 5_XX'!B63,'BD-SOC'!#REF!,'FORMATO N° 5_XX'!$P$44)+\nCOUNTIFS('BD-SOC'!$T$15:$T$30000,'FORMATO N° 5_XX'!B63,'BD-SOC'!#REF!,'FORMATO N° 5_XX'!$P$44)+\nCOUNTIFS('BD-SOC'!$V$15:$V$30000,'FORMATO N° 5_XX'!B63,'BD-SOC'!#REF!,'FORMATO N° 5_XX'!$P$44)+\nCOUNTIFS('BD-SOC'!$X$15:$X$30000,'FORMATO N° 5_XX'!B63,'BD-SOC'!#REF!,'FORMATO N° 5_XX'!$P$44)+\nCOUNTIFS('BD-SOC'!$Z$15:$Z$30000,'FORMATO N° 5_XX'!B63,'BD-SOC'!#REF!,'FORMATO N° 5_XX'!$P$44)+\nCOUNTIFS('BD-SOC'!$AB$15:$AB$30000,'FORMATO N° 5_XX'!B63,'BD-SOC'!#REF!,'FORMATO N° 5_XX'!$P$44)","v":{"$error":"#REF!"}},{"$f":"COUNTIFS('BD-SOC'!$P$15:$P$30000,'FORMATO N° 5_XX'!B63,'BD-SOC'!#REF!,'FORMATO N° 5_XX'!$Q$44)+\nCOUNTIFS('BD-SOC'!$R$15:$R$30000,'FORMATO N° 5_XX'!B63,'BD-SOC'!#REF!,'FORMATO N° 5_XX'!$Q$44)+\nCOUNTIFS('BD-SOC'!$T$15:$T$30000,'FORMATO N° 5_XX'!B63,'BD-SOC'!#REF!,'FORMATO N° 5_XX'!$Q$44)+\nCOUNTIFS('BD-SOC'!$V$15:$V$30000,'FORMATO N° 5_XX'!B63,'BD-SOC'!#REF!,'FORMATO N° 5_XX'!$Q$44)+\nCOUNTIFS('BD-SOC'!$X$15:$X$30000,'FORMATO N° 5_XX'!B63,'BD-SOC'!#REF!,'FORMATO N° 5_XX'!$Q$44)+\nCOUNTIFS('BD-SOC'!$Z$15:$Z$30000,'FORMATO N° 5_XX'!B63,'BD-SOC'!#REF!,'FORMATO N° 5_XX'!$Q$44)+\nCOUNTIFS('BD-SOC'!$AB$15:$AB$30000,'FORMATO N° 5_XX'!B63,'BD-SOC'!#REF!,'FORMATO N° 5_XX'!$Q$44)","v":{"$error":"#REF!"}},{"$f":"COUNTIFS('BD-SOC'!$P$15:$P$30000,'FORMATO N° 5_XX'!B63,'BD-SOC'!#REF!,'FORMATO N° 5_XX'!$R$44)+\nCOUNTIFS('BD-SOC'!$R$15:$R$30000,'FORMATO N° 5_XX'!B63,'BD-SOC'!#REF!,'FORMATO N° 5_XX'!$R$44)+\nCOUNTIFS('BD-SOC'!$T$15:$T$30000,'FORMATO N° 5_XX'!B63,'BD-SOC'!#REF!,'FORMATO N° 5_XX'!$R$44)+\nCOUNTIFS('BD-SOC'!$V$15:$V$30000,'FORMATO N° 5_XX'!B63,'BD-SOC'!#REF!,'FORMATO N° 5_XX'!$R$44)+\nCOUNTIFS('BD-SOC'!$X$15:$X$30000,'FORMATO N° 5_XX'!B63,'BD-SOC'!#REF!,'FORMATO N° 5_XX'!$R$44)+\nCOUNTIFS('BD-SOC'!$Z$15:$Z$30000,'FORMATO N° 5_XX'!B63,'BD-SOC'!#REF!,'FORMATO N° 5_XX'!$R$44)+\nCOUNTIFS('BD-SOC'!$AB$15:$AB$30000,'FORMATO N° 5_XX'!B63,'BD-SOC'!#REF!,'FORMATO N° 5_XX'!$R$44)","v":{"$error":"#REF!"}},{"$f":"COUNTIFS('BD-SOC'!$P$15:$P$30000,'FORMATO N° 5_XX'!B63,'BD-SOC'!#REF!,'FORMATO N° 5_XX'!$S$43)+\nCOUNTIFS('BD-SOC'!$R$15:$R$30000,'FORMATO N° 5_XX'!B63,'BD-SOC'!#REF!,'FORMATO N° 5_XX'!$S$43)+\nCOUNTIFS('BD-SOC'!$T$15:$T$30000,'FORMATO N° 5_XX'!B63,'BD-SOC'!#REF!,'FORMATO N° 5_XX'!$S$43)+\nCOUNTIFS('BD-SOC'!$V$15:$V$30000,'FORMATO N° 5_XX'!B63,'BD-SOC'!#REF!,'FORMATO N° 5_XX'!$S$43)+\nCOUNTIFS('BD-SOC'!$X$15:$X$30000,'FORMATO N° 5_XX'!B63,'BD-SOC'!#REF!,'FORMATO N° 5_XX'!$S$43)+\nCOUNTIFS('BD-SOC'!$Z$15:$Z$30000,'FORMATO N° 5_XX'!B63,'BD-SOC'!#REF!,'FORMATO N° 5_XX'!$S$43)+\nCOUNTIFS('BD-SOC'!$AB$15:$AB$30000,'FORMATO N° 5_XX'!B63,'BD-SOC'!#REF!,'FORMATO N° 5_XX'!$S$43)","v":{"$error":"#REF!"}},{"$f":"COUNTIFS('BD-SOC'!$P$15:$P$30000,'FORMATO N° 5_XX'!B63,'BD-SOC'!#REF!,'FORMATO N° 5_XX'!$T$43)+\nCOUNTIFS('BD-SOC'!$R$15:$R$30000,'FORMATO N° 5_XX'!B63,'BD-SOC'!#REF!,'FORMATO N° 5_XX'!$T$43)+\nCOUNTIFS('BD-SOC'!$T$15:$T$30000,'FORMATO N° 5_XX'!B63,'BD-SOC'!#REF!,'FORMATO N° 5_XX'!$T$43)+\nCOUNTIFS('BD-SOC'!$V$15:$V$30000,'FORMATO N° 5_XX'!B63,'BD-SOC'!#REF!,'FORMATO N° 5_XX'!$T$43)+\nCOUNTIFS('BD-SOC'!$X$15:$X$30000,'FORMATO N° 5_XX'!B63,'BD-SOC'!#REF!,'FORMATO N° 5_XX'!$T$43)+\nCOUNTIFS('BD-SOC'!$Z$15:$Z$30000,'FORMATO N° 5_XX'!B63,'BD-SOC'!#REF!,'FORMATO N° 5_XX'!$T$43)+\nCOUNTIFS('BD-SOC'!$AB$15:$AB$30000,'FORMATO N° 5_XX'!B63,'BD-SOC'!#REF!,'FORMATO N° 5_XX'!$T$43)","v":{"$error":"#REF!"}},0,{"$f":"COUNTIFS('BD-SOC'!$P$15:$P$30000,'FORMATO N° 5_XX'!B63,'BD-SOC'!$I$15:$I$30000,'FORMATO N° 5_XX'!$V$43)+\nCOUNTIFS('BD-SOC'!$R$15:$R$30000,'FORMATO N° 5_XX'!B63,'BD-SOC'!$I$15:$I$30000,'FORMATO N° 5_XX'!$V$43)+\nCOUNTIFS('BD-SOC'!$T$15:$T$30000,'FORMATO N° 5_XX'!B63,'BD-SOC'!$I$15:$I$30000,'FORMATO N° 5_XX'!$V$43)+\nCOUNTIFS('BD-SOC'!$V$15:$V$30000,'FORMATO N° 5_XX'!B63,'BD-SOC'!$I$15:$I$30000,'FORMATO N° 5_XX'!$V$43)+\nCOUNTIFS('BD-SOC'!$X$15:$X$30000,'FORMATO N° 5_XX'!B63,'BD-SOC'!$I$15:$I$30000,'FORMATO N° 5_XX'!$V$43)+\nCOUNTIFS('BD-SOC'!$Z$15:$Z$30000,'FORMATO N° 5_XX'!B63,'BD-SOC'!$I$15:$I$30000,'FORMATO N° 5_XX'!$V$43)+\nCOUNTIFS('BD-SOC'!$AB$15:$AB$30000,'FORMATO N° 5_XX'!B63,'BD-SOC'!$I$15:$I$30000,'FORMATO N° 5_XX'!$V$43)","v":0},{"$f":"COUNTIFS('BD-SOC'!$P$15:$P$30000,'FORMATO N° 5_XX'!B63,'BD-SOC'!$I$15:$I$30000,'FORMATO N° 5_XX'!$W$43)+\nCOUNTIFS('BD-SOC'!$R$15:$R$30000,'FORMATO N° 5_XX'!B63,'BD-SOC'!$I$15:$I$30000,'FORMATO N° 5_XX'!$W$43)+\nCOUNTIFS('BD-SOC'!$T$15:$T$30000,'FORMATO N° 5_XX'!B63,'BD-SOC'!$I$15:$I$30000,'FORMATO N° 5_XX'!$W$43)+\nCOUNTIFS('BD-SOC'!$V$15:$V$30000,'FORMATO N° 5_XX'!B63,'BD-SOC'!$I$15:$I$30000,'FORMATO N° 5_XX'!$W$43)+\nCOUNTIFS('BD-SOC'!$X$15:$X$30000,'FORMATO N° 5_XX'!B63,'BD-SOC'!$I$15:$I$30000,'FORMATO N° 5_XX'!$W$43)+\nCOUNTIFS('BD-SOC'!$Z$15:$Z$30000,'FORMATO N° 5_XX'!B63,'BD-SOC'!$I$15:$I$30000,'FORMATO N° 5_XX'!$W$43)+\nCOUNTIFS('BD-SOC'!$AB$15:$AB$30000,'FORMATO N° 5_XX'!B63,'BD-SOC'!$I$15:$I$30000,'FORMATO N° 5_XX'!$W$43)","v":0},{"$f":"COUNTIFS('BD-SOC'!$P$15:$P$30000,'FORMATO N° 5_XX'!B63,'BD-SOC'!$I$15:$I$30000,'FORMATO N° 5_XX'!$X$43)+\nCOUNTIFS('BD-SOC'!$R$15:$R$30000,'FORMATO N° 5_XX'!B63,'BD-SOC'!$I$15:$I$30000,'FORMATO N° 5_XX'!$X$43)+\nCOUNTIFS('BD-SOC'!$T$15:$T$30000,'FORMATO N° 5_XX'!B63,'BD-SOC'!$I$15:$I$30000,'FORMATO N° 5_XX'!$X$43)+\nCOUNTIFS('BD-SOC'!$V$15:$V$30000,'FORMATO N° 5_XX'!B63,'BD-SOC'!$I$15:$I$30000,'FORMATO N° 5_XX'!$X$43)+\nCOUNTIFS('BD-SOC'!$X$15:$X$30000,'FORMATO N° 5_XX'!B63,'BD-SOC'!$I$15:$I$30000,'FORMATO N° 5_XX'!$X$43)+\nCOUNTIFS('BD-SOC'!$Z$15:$Z$30000,'FORMATO N° 5_XX'!B63,'BD-SOC'!$I$15:$I$30000,'FORMATO N° 5_XX'!$X$43)+\nCOUNTIFS('BD-SOC'!$AB$15:$AB$30000,'FORMATO N° 5_XX'!B63,'BD-SOC'!$I$15:$I$30000,'FORMATO N° 5_XX'!$X$43)","v":0},{"$f":"COUNTIFS('BD-SOC'!$P$15:$P$30000,'FORMATO N° 5_XX'!B63,'BD-SOC'!$I$15:$I$30000,'FORMATO N° 5_XX'!$Y$43)+\nCOUNTIFS('BD-SOC'!$R$15:$R$30000,'FORMATO N° 5_XX'!B63,'BD-SOC'!$I$15:$I$30000,'FORMATO N° 5_XX'!$Y$43)+\nCOUNTIFS('BD-SOC'!$T$15:$T$30000,'FORMATO N° 5_XX'!B63,'BD-SOC'!$I$15:$I$30000,'FORMATO N° 5_XX'!$Y$43)+\nCOUNTIFS('BD-SOC'!$V$15:$V$30000,'FORMATO N° 5_XX'!B63,'BD-SOC'!$I$15:$I$30000,'FORMATO N° 5_XX'!$Y$43)+\nCOUNTIFS('BD-SOC'!$X$15:$X$30000,'FORMATO N° 5_XX'!B63,'BD-SOC'!$I$15:$I$30000,'FORMATO N° 5_XX'!$Y$43)+\nCOUNTIFS('BD-SOC'!$Z$15:$Z$30000,'FORMATO N° 5_XX'!B63,'BD-SOC'!$I$15:$I$30000,'FORMATO N° 5_XX'!$Y$43)+\nCOUNTIFS('BD-SOC'!$AB$15:$AB$30000,'FORMATO N° 5_XX'!B63,'BD-SOC'!$I$15:$I$30000,'FORMATO N° 5_XX'!$Y$43)","v":0},{"$f":"COUNTIFS('BD-SOC'!$P$15:$P$30000,'FORMATO N° 5_XX'!B63,'BD-SOC'!$I$15:$I$30000,'FORMATO N° 5_XX'!$Z$43)+\nCOUNTIFS('BD-SOC'!$R$15:$R$30000,'FORMATO N° 5_XX'!B63,'BD-SOC'!$I$15:$I$30000,'FORMATO N° 5_XX'!$Z$43)+\nCOUNTIFS('BD-SOC'!$T$15:$T$30000,'FORMATO N° 5_XX'!B63,'BD-SOC'!$I$15:$I$30000,'FORMATO N° 5_XX'!$Z$43)+\nCOUNTIFS('BD-SOC'!$V$15:$V$30000,'FORMATO N° 5_XX'!B63,'BD-SOC'!$I$15:$I$30000,'FORMATO N° 5_XX'!$Z$43)+\nCOUNTIFS('BD-SOC'!$X$15:$X$30000,'FORMATO N° 5_XX'!B63,'BD-SOC'!$I$15:$I$30000,'FORMATO N° 5_XX'!$Z$43)+\nCOUNTIFS('BD-SOC'!$Z$15:$Z$30000,'FORMATO N° 5_XX'!B63,'BD-SOC'!$I$15:$I$30000,'FORMATO N° 5_XX'!$Z$43)+\nCOUNTIFS('BD-SOC'!$AB$15:$AB$30000,'FORMATO N° 5_XX'!B63,'BD-SOC'!$I$15:$I$30000,'FORMATO N° 5_XX'!$Z$43)","v":0},{"$f":"COUNTIFS('BD-SOC'!$P$15:$P$30000,'FORMATO N° 5_XX'!B63,'BD-SOC'!$I$15:$I$30000,'FORMATO N° 5_XX'!$AA$43)+\nCOUNTIFS('BD-SOC'!$R$15:$R$30000,'FORMATO N° 5_XX'!B63,'BD-SOC'!$I$15:$I$30000,'FORMATO N° 5_XX'!$AA$43)+\nCOUNTIFS('BD-SOC'!$T$15:$T$30000,'FORMATO N° 5_XX'!B63,'BD-SOC'!$I$15:$I$30000,'FORMATO N° 5_XX'!$AA$43)+\nCOUNTIFS('BD-SOC'!$V$15:$V$30000,'FORMATO N° 5_XX'!B63,'BD-SOC'!$I$15:$I$30000,'FORMATO N° 5_XX'!$AA$43)+\nCOUNTIFS('BD-SOC'!$X$15:$X$30000,'FORMATO N° 5_XX'!B63,'BD-SOC'!$I$15:$I$30000,'FORMATO N° 5_XX'!$AA$43)+\nCOUNTIFS('BD-SOC'!$Z$15:$Z$30000,'FORMATO N° 5_XX'!B63,'BD-SOC'!$I$15:$I$30000,'FORMATO N° 5_XX'!$AA$43)+\nCOUNTIFS('BD-SOC'!$AB$15:$AB$30000,'FORMATO N° 5_XX'!B63,'BD-SOC'!$I$15:$I$30000,'FORMATO N° 5_XX'!$AA$43)","v":0},{"$f":"COUNTIFS('BD-SOC'!$P$15:$P$30000,'FORMATO N° 5_XX'!B63,'BD-SOC'!$I$15:$I$30000,'FORMATO N° 5_XX'!$AB$43)+\nCOUNTIFS('BD-SOC'!$R$15:$R$30000,'FORMATO N° 5_XX'!B63,'BD-SOC'!$I$15:$I$30000,'FORMATO N° 5_XX'!$AB$43)+\nCOUNTIFS('BD-SOC'!$T$15:$T$30000,'FORMATO N° 5_XX'!B63,'BD-SOC'!$I$15:$I$30000,'FORMATO N° 5_XX'!$AB$43)+\nCOUNTIFS('BD-SOC'!$V$15:$V$30000,'FORMATO N° 5_XX'!B63,'BD-SOC'!$I$15:$I$30000,'FORMATO N° 5_XX'!$AB$43)+\nCOUNTIFS('BD-SOC'!$X$15:$X$30000,'FORMATO N° 5_XX'!B63,'BD-SOC'!$I$15:$I$30000,'FORMATO N° 5_XX'!$AB$43)+\nCOUNTIFS('BD-SOC'!$Z$15:$Z$30000,'FORMATO N° 5_XX'!B63,'BD-SOC'!$I$15:$I$30000,'FORMATO N° 5_XX'!$AB$43)+\nCOUNTIFS('BD-SOC'!$AB$15:$AB$30000,'FORMATO N° 5_XX'!B63,'BD-SOC'!$I$15:$I$30000,'FORMATO N° 5_XX'!$AB$43)","v":0},{"$f":"COUNTIFS('BD-SOC'!$P$15:$P$30000,'FORMATO N° 5_XX'!B63,'BD-SOC'!$I$15:$I$30000,'FORMATO N° 5_XX'!$AC$43)+\nCOUNTIFS('BD-SOC'!$R$15:$R$30000,'FORMATO N° 5_XX'!B63,'BD-SOC'!$I$15:$I$30000,'FORMATO N° 5_XX'!$AC$43)+\nCOUNTIFS('BD-SOC'!$T$15:$T$30000,'FORMATO N° 5_XX'!B63,'BD-SOC'!$I$15:$I$30000,'FORMATO N° 5_XX'!$AC$43)+\nCOUNTIFS('BD-SOC'!$V$15:$V$30000,'FORMATO N° 5_XX'!B63,'BD-SOC'!$I$15:$I$30000,'FORMATO N° 5_XX'!$AC$43)+\nCOUNTIFS('BD-SOC'!$X$15:$X$30000,'FORMATO N° 5_XX'!B63,'BD-SOC'!$I$15:$I$30000,'FORMATO N° 5_XX'!$AC$43)+\nCOUNTIFS('BD-SOC'!$Z$15:$Z$30000,'FORMATO N° 5_XX'!B63,'BD-SOC'!$I$15:$I$30000,'FORMATO N° 5_XX'!$AC$43)+\nCOUNTIFS('BD-SOC'!$AB$15:$AB$30000,'FORMATO N° 5_XX'!B63,'BD-SOC'!$I$15:$I$30000,'FORMATO N° 5_XX'!$AC$43)","v":0},{"$f":"COUNTIFS('BD-SOC'!$P$15:$P$30000,'FORMATO N° 5_XX'!B63,'BD-SOC'!$I$15:$I$30000,'FORMATO N° 5_XX'!$AD$43)+\nCOUNTIFS('BD-SOC'!$R$15:$R$30000,'FORMATO N° 5_XX'!B63,'BD-SOC'!$I$15:$I$30000,'FORMATO N° 5_XX'!$AD$43)+\nCOUNTIFS('BD-SOC'!$T$15:$T$30000,'FORMATO N° 5_XX'!B63,'BD-SOC'!$I$15:$I$30000,'FORMATO N° 5_XX'!$AD$43)+\nCOUNTIFS('BD-SOC'!$V$15:$V$30000,'FORMATO N° 5_XX'!B63,'BD-SOC'!$I$15:$I$30000,'FORMATO N° 5_XX'!$AD$43)+\nCOUNTIFS('BD-SOC'!$X$15:$X$30000,'FORMATO N° 5_XX'!B63,'BD-SOC'!$I$15:$I$30000,'FORMATO N° 5_XX'!$AD$43)+\nCOUNTIFS('BD-SOC'!$Z$15:$Z$30000,'FORMATO N° 5_XX'!B63,'BD-SOC'!$I$15:$I$30000,'FORMATO N° 5_XX'!$AD$43)+\nCOUNTIFS('BD-SOC'!$AB$15:$AB$30000,'FORMATO N° 5_XX'!B63,'BD-SOC'!$I$15:$I$30000,'FORMATO N° 5_XX'!$AD$43)","v":0},{"$f":"COUNTIFS('BD-SOC'!$P$15:$P$30000,'FORMATO N° 5_XX'!B63,'BD-SOC'!$I$15:$I$30000,'FORMATO N° 5_XX'!$AE$43)+\nCOUNTIFS('BD-SOC'!$R$15:$R$30000,'FORMATO N° 5_XX'!B63,'BD-SOC'!$I$15:$I$30000,'FORMATO N° 5_XX'!$AE$43)+\nCOUNTIFS('BD-SOC'!$T$15:$T$30000,'FORMATO N° 5_XX'!B63,'BD-SOC'!$I$15:$I$30000,'FORMATO N° 5_XX'!$AE$43)+\nCOUNTIFS('BD-SOC'!$V$15:$V$30000,'FORMATO N° 5_XX'!B63,'BD-SOC'!$I$15:$I$30000,'FORMATO N° 5_XX'!$AE$43)+\nCOUNTIFS('BD-SOC'!$X$15:$X$30000,'FORMATO N° 5_XX'!B63,'BD-SOC'!$I$15:$I$30000,'FORMATO N° 5_XX'!$AE$43)+\nCOUNTIFS('BD-SOC'!$Z$15:$Z$30000,'FORMATO N° 5_XX'!B63,'BD-SOC'!$I$15:$I$30000,'FORMATO N° 5_XX'!$AE$43)+\nCOUNTIFS('BD-SOC'!$AB$15:$AB$30000,'FORMATO N° 5_XX'!B63,'BD-SOC'!$I$15:$I$30000,'FORMATO N° 5_XX'!$AE$43)","v":0}]
[null,209,"INFORME DE GRACIAS PRESIDENCIALES POR RAZONES HUMANITARIAS",null,null,null,null,null,{"$error":"#REF!"},{"$f":"COUNTIFS('BD-SOC'!$P$15:$P$30000,'FORMATO N° 5_XX'!B64,'BD-SOC'!#REF!,'FORMATO N° 5_XX'!$J$43)+\nCOUNTIFS('BD-SOC'!$R$15:$R$30000,'FORMATO N° 5_XX'!B64,'BD-SOC'!#REF!,'FORMATO N° 5_XX'!$J$43)+\nCOUNTIFS('BD-SOC'!$T$15:$T$30000,'FORMATO N° 5_XX'!B64,'BD-SOC'!#REF!,'FORMATO N° 5_XX'!$J$43)+\nCOUNTIFS('BD-SOC'!$V$15:$V$30000,'FORMATO N° 5_XX'!B64,'BD-SOC'!#REF!,'FORMATO N° 5_XX'!$J$43)+\nCOUNTIFS('BD-SOC'!$X$15:$X$30000,'FORMATO N° 5_XX'!B64,'BD-SOC'!#REF!,'FORMATO N° 5_XX'!$J$43)+\nCOUNTIFS('BD-SOC'!$Z$15:$Z$30000,'FORMATO N° 5_XX'!B64,'BD-SOC'!#REF!,'FORMATO N° 5_XX'!$J$43)+\nCOUNTIFS('BD-SOC'!$AB$15:$AB$30000,'FORMATO N° 5_XX'!B64,'BD-SOC'!#REF!,'FORMATO N° 5_XX'!$J$43)","v":{"$error":"#REF!"}},{"$f":"COUNTIFS('BD-SOC'!$P$15:$P$30000,'FORMATO N° 5_XX'!B64,'BD-SOC'!#REF!,'FORMATO N° 5_XX'!$K$43)+\nCOUNTIFS('BD-SOC'!$R$15:$R$30000,'FORMATO N° 5_XX'!B64,'BD-SOC'!#REF!,'FORMATO N° 5_XX'!$K$43)+\nCOUNTIFS('BD-SOC'!$T$15:$T$30000,'FORMATO N° 5_XX'!B64,'BD-SOC'!#REF!,'FORMATO N° 5_XX'!$K$43)+\nCOUNTIFS('BD-SOC'!$V$15:$V$30000,'FORMATO N° 5_XX'!B64,'BD-SOC'!#REF!,'FORMATO N° 5_XX'!$K$43)+\nCOUNTIFS('BD-SOC'!$X$15:$X$30000,'FORMATO N° 5_XX'!B64,'BD-SOC'!#REF!,'FORMATO N° 5_XX'!$K$43)+\nCOUNTIFS('BD-SOC'!$Z$15:$Z$30000,'FORMATO N° 5_XX'!B64,'BD-SOC'!#REF!,'FORMATO N° 5_XX'!$K$43)+\nCOUNTIFS('BD-SOC'!$AB$15:$AB$30000,'FORMATO N° 5_XX'!B64,'BD-SOC'!#REF!,'FORMATO N° 5_XX'!$K$43)","v":{"$error":"#REF!"}},{"$f":"COUNTIFS('BD-SOC'!$P$15:$P$30000,'FORMATO N° 5_XX'!B64,'BD-SOC'!#REF!,'FORMATO N° 5_XX'!$L$43)+\nCOUNTIFS('BD-SOC'!$R$15:$R$30000,'FORMATO N° 5_XX'!B64,'BD-SOC'!#REF!,'FORMATO N° 5_XX'!$L$43)+\nCOUNTIFS('BD-SOC'!$T$15:$T$30000,'FORMATO N° 5_XX'!B64,'BD-SOC'!#REF!,'FORMATO N° 5_XX'!$L$43)+\nCOUNTIFS('BD-SOC'!$V$15:$V$30000,'FORMATO N° 5_XX'!B64,'BD-SOC'!#REF!,'FORMATO N° 5_XX'!$L$43)+\nCOUNTIFS('BD-SOC'!$X$15:$X$30000,'FORMATO N° 5_XX'!B64,'BD-SOC'!#REF!,'FORMATO N° 5_XX'!$L$43)+\nCOUNTIFS('BD-SOC'!$Z$15:$Z$30000,'FORMATO N° 5_XX'!B64,'BD-SOC'!#REF!,'FORMATO N° 5_XX'!$L$43)+\nCOUNTIFS('BD-SOC'!$AB$15:$AB$30000,'FORMATO N° 5_XX'!B64,'BD-SOC'!#REF!,'FORMATO N° 5_XX'!$L$43)","v":{"$error":"#REF!"}},{"$f":"COUNTIFS('BD-SOC'!$P$15:$P$30000,'FORMATO N° 5_XX'!B64,'BD-SOC'!#REF!,'FORMATO N° 5_XX'!$M$44)+\nCOUNTIFS('BD-SOC'!$R$15:$R$30000,'FORMATO N° 5_XX'!B64,'BD-SOC'!#REF!,'FORMATO N° 5_XX'!$M$44)+\nCOUNTIFS('BD-SOC'!$T$15:$T$30000,'FORMATO N° 5_XX'!B64,'BD-SOC'!#REF!,'FORMATO N° 5_XX'!$M$44)+\nCOUNTIFS('BD-SOC'!$V$15:$V$30000,'FORMATO N° 5_XX'!B64,'BD-SOC'!#REF!,'FORMATO N° 5_XX'!$M$44)+\nCOUNTIFS('BD-SOC'!$X$15:$X$30000,'FORMATO N° 5_XX'!B64,'BD-SOC'!#REF!,'FORMATO N° 5_XX'!$M$44)+\nCOUNTIFS('BD-SOC'!$Z$15:$Z$30000,'FORMATO N° 5_XX'!B64,'BD-SOC'!#REF!,'FORMATO N° 5_XX'!$M$44)+\nCOUNTIFS('BD-SOC'!$AB$15:$AB$30000,'FORMATO N° 5_XX'!B64,'BD-SOC'!#REF!,'FORMATO N° 5_XX'!$M$44)","v":{"$error":"#REF!"}},{"$f":"COUNTIFS('BD-SOC'!$P$15:$P$30000,'FORMATO N° 5_XX'!B64,'BD-SOC'!#REF!,'FORMATO N° 5_XX'!$N$44)+\nCOUNTIFS('BD-SOC'!$R$15:$R$30000,'FORMATO N° 5_XX'!B64,'BD-SOC'!#REF!,'FORMATO N° 5_XX'!$N$44)+\nCOUNTIFS('BD-SOC'!$T$15:$T$30000,'FORMATO N° 5_XX'!B64,'BD-SOC'!#REF!,'FORMATO N° 5_XX'!$N$44)+\nCOUNTIFS('BD-SOC'!$V$15:$V$30000,'FORMATO N° 5_XX'!B64,'BD-SOC'!#REF!,'FORMATO N° 5_XX'!$N$44)+\nCOUNTIFS('BD-SOC'!$X$15:$X$30000,'FORMATO N° 5_XX'!B64,'BD-SOC'!#REF!,'FORMATO N° 5_XX'!$N$44)+\nCOUNTIFS('BD-SOC'!$Z$15:$Z$30000,'FORMATO N° 5_XX'!B64,'BD-SOC'!#REF!,'FORMATO N° 5_XX'!$N$44)+\nCOUNTIFS('BD-SOC'!$AB$15:$AB$30000,'FORMATO N° 5_XX'!B64,'BD-SOC'!#REF!,'FORMATO N° 5_XX'!$N$44)","v":{"$error":"#REF!"}},{"$f":"COUNTIFS('BD-SOC'!$P$15:$P$30000,'FORMATO N° 5_XX'!B64,'BD-SOC'!#REF!,'FORMATO N° 5_XX'!$O$44)+\nCOUNTIFS('BD-SOC'!$R$15:$R$30000,'FORMATO N° 5_XX'!B64,'BD-SOC'!#REF!,'FORMATO N° 5_XX'!$O$44)+\nCOUNTIFS('BD-SOC'!$T$15:$T$30000,'FORMATO N° 5_XX'!B64,'BD-SOC'!#REF!,'FORMATO N° 5_XX'!$O$44)+\nCOUNTIFS('BD-SOC'!$V$15:$V$30000,'FORMATO N° 5_XX'!B64,'BD-SOC'!#REF!,'FORMATO N° 5_XX'!$O$44)+\nCOUNTIFS('BD-SOC'!$X$15:$X$30000,'FORMATO N° 5_XX'!B64,'BD-SOC'!#REF!,'FORMATO N° 5_XX'!$O$44)+\nCOUNTIFS('BD-SOC'!$Z$15:$Z$30000,'FORMATO N° 5_XX'!B64,'BD-SOC'!#REF!,'FORMATO N° 5_XX'!$O$44)+\nCOUNTIFS('BD-SOC'!$AB$15:$AB$30000,'FORMATO N° 5_XX'!B64,'BD-SOC'!#REF!,'FORMATO N° 5_XX'!$O$44)","v":{"$error":"#REF!"}},{"$f":"COUNTIFS('BD-SOC'!$P$15:$P$30000,'FORMATO N° 5_XX'!B64,'BD-SOC'!#REF!,'FORMATO N° 5_XX'!$P$44)+\nCOUNTIFS('BD-SOC'!$R$15:$R$30000,'FORMATO N° 5_XX'!B64,'BD-SOC'!#REF!,'FORMATO N° 5_XX'!$P$44)+\nCOUNTIFS('BD-SOC'!$T$15:$T$30000,'FORMATO N° 5_XX'!B64,'BD-SOC'!#REF!,'FORMATO N° 5_XX'!$P$44)+\nCOUNTIFS('BD-SOC'!$V$15:$V$30000,'FORMATO N° 5_XX'!B64,'BD-SOC'!#REF!,'FORMATO N° 5_XX'!$P$44)+\nCOUNTIFS('BD-SOC'!$X$15:$X$30000,'FORMATO N° 5_XX'!B64,'BD-SOC'!#REF!,'FORMATO N° 5_XX'!$P$44)+\nCOUNTIFS('BD-SOC'!$Z$15:$Z$30000,'FORMATO N° 5_XX'!B64,'BD-SOC'!#REF!,'FORMATO N° 5_XX'!$P$44)+\nCOUNTIFS('BD-SOC'!$AB$15:$AB$30000,'FORMATO N° 5_XX'!B64,'BD-SOC'!#REF!,'FORMATO N° 5_XX'!$P$44)","v":{"$error":"#REF!"}},{"$f":"COUNTIFS('BD-SOC'!$P$15:$P$30000,'FORMATO N° 5_XX'!B64,'BD-SOC'!#REF!,'FORMATO N° 5_XX'!$Q$44)+\nCOUNTIFS('BD-SOC'!$R$15:$R$30000,'FORMATO N° 5_XX'!B64,'BD-SOC'!#REF!,'FORMATO N° 5_XX'!$Q$44)+\nCOUNTIFS('BD-SOC'!$T$15:$T$30000,'FORMATO N° 5_XX'!B64,'BD-SOC'!#REF!,'FORMATO N° 5_XX'!$Q$44)+\nCOUNTIFS('BD-SOC'!$V$15:$V$30000,'FORMATO N° 5_XX'!B64,'BD-SOC'!#REF!,'FORMATO N° 5_XX'!$Q$44)+\nCOUNTIFS('BD-SOC'!$X$15:$X$30000,'FORMATO N° 5_XX'!B64,'BD-SOC'!#REF!,'FORMATO N° 5_XX'!$Q$44)+\nCOUNTIFS('BD-SOC'!$Z$15:$Z$30000,'FORMATO N° 5_XX'!B64,'BD-SOC'!#REF!,'FORMATO N° 5_XX'!$Q$44)+\nCOUNTIFS('BD-SOC'!$AB$15:$AB$30000,'FORMATO N° 5_XX'!B64,'BD-SOC'!#REF!,'FORMATO N° 5_XX'!$Q$44)","v":{"$error":"#REF!"}},{"$f":"COUNTIFS('BD-SOC'!$P$15:$P$30000,'FORMATO N° 5_XX'!B64,'BD-SOC'!#REF!,'FORMATO N° 5_XX'!$R$44)+\nCOUNTIFS('BD-SOC'!$R$15:$R$30000,'FORMATO N° 5_XX'!B64,'BD-SOC'!#REF!,'FORMATO N° 5_XX'!$R$44)+\nCOUNTIFS('BD-SOC'!$T$15:$T$30000,'FORMATO N° 5_XX'!B64,'BD-SOC'!#REF!,'FORMATO N° 5_XX'!$R$44)+\nCOUNTIFS('BD-SOC'!$V$15:$V$30000,'FORMATO N° 5_XX'!B64,'BD-SOC'!#REF!,'FORMATO N° 5_XX'!$R$44)+\nCOUNTIFS('BD-SOC'!$X$15:$X$30000,'FORMATO N° 5_XX'!B64,'BD-SOC'!#REF!,'FORMATO N° 5_XX'!$R$44)+\nCOUNTIFS('BD-SOC'!$Z$15:$Z$30000,'FORMATO N° 5_XX'!B64,'BD-SOC'!#REF!,'FORMATO N° 5_XX'!$R$44)+\nCOUNTIFS('BD-SOC'!$AB$15:$AB$30000,'FORMATO N° 5_XX'!B64,'BD-SOC'!#REF!,'FORMATO N° 5_XX'!$R$44)","v":{"$error":"#REF!"}},{"$f":"COUNTIFS('BD-SOC'!$P$15:$P$30000,'FORMATO N° 5_XX'!B64,'BD-SOC'!#REF!,'FORMATO N° 5_XX'!$S$43)+\nCOUNTIFS('BD-SOC'!$R$15:$R$30000,'FORMATO N° 5_XX'!B64,'BD-SOC'!#REF!,'FORMATO N° 5_XX'!$S$43)+\nCOUNTIFS('BD-SOC'!$T$15:$T$30000,'FORMATO N° 5_XX'!B64,'BD-SOC'!#REF!,'FORMATO N° 5_XX'!$S$43)+\nCOUNTIFS('BD-SOC'!$V$15:$V$30000,'FORMATO N° 5_XX'!B64,'BD-SOC'!#REF!,'FORMATO N° 5_XX'!$S$43)+\nCOUNTIFS('BD-SOC'!$X$15:$X$30000,'FORMATO N° 5_XX'!B64,'BD-SOC'!#REF!,'FORMATO N° 5_XX'!$S$43)+\nCOUNTIFS('BD-SOC'!$Z$15:$Z$30000,'FORMATO N° 5_XX'!B64,'BD-SOC'!#REF!,'FORMATO N° 5_XX'!$S$43)+\nCOUNTIFS('BD-SOC'!$AB$15:$AB$30000,'FORMATO N° 5_XX'!B64,'BD-SOC'!#REF!,'FORMATO N° 5_XX'!$S$43)","v":{"$error":"#REF!"}},{"$f":"COUNTIFS('BD-SOC'!$P$15:$P$30000,'FORMATO N° 5_XX'!B64,'BD-SOC'!#REF!,'FORMATO N° 5_XX'!$T$43)+\nCOUNTIFS('BD-SOC'!$R$15:$R$30000,'FORMATO N° 5_XX'!B64,'BD-SOC'!#REF!,'FORMATO N° 5_XX'!$T$43)+\nCOUNTIFS('BD-SOC'!$T$15:$T$30000,'FORMATO N° 5_XX'!B64,'BD-SOC'!#REF!,'FORMATO N° 5_XX'!$T$43)+\nCOUNTIFS('BD-SOC'!$V$15:$V$30000,'FORMATO N° 5_XX'!B64,'BD-SOC'!#REF!,'FORMATO N° 5_XX'!$T$43)+\nCOUNTIFS('BD-SOC'!$X$15:$X$30000,'FORMATO N° 5_XX'!B64,'BD-SOC'!#REF!,'FORMATO N° 5_XX'!$T$43)+\nCOUNTIFS('BD-SOC'!$Z$15:$Z$30000,'FORMATO N° 5_XX'!B64,'BD-SOC'!#REF!,'FORMATO N° 5_XX'!$T$43)+\nCOUNTIFS('BD-SOC'!$AB$15:$AB$30000,'FORMATO N° 5_XX'!B64,'BD-SOC'!#REF!,'FORMATO N° 5_XX'!$T$43)","v":{"$error":"#REF!"}},0,{"$f":"COUNTIFS('BD-SOC'!$P$15:$P$30000,'FORMATO N° 5_XX'!B64,'BD-SOC'!$I$15:$I$30000,'FORMATO N° 5_XX'!$V$43)+\nCOUNTIFS('BD-SOC'!$R$15:$R$30000,'FORMATO N° 5_XX'!B64,'BD-SOC'!$I$15:$I$30000,'FORMATO N° 5_XX'!$V$43)+\nCOUNTIFS('BD-SOC'!$T$15:$T$30000,'FORMATO N° 5_XX'!B64,'BD-SOC'!$I$15:$I$30000,'FORMATO N° 5_XX'!$V$43)+\nCOUNTIFS('BD-SOC'!$V$15:$V$30000,'FORMATO N° 5_XX'!B64,'BD-SOC'!$I$15:$I$30000,'FORMATO N° 5_XX'!$V$43)+\nCOUNTIFS('BD-SOC'!$X$15:$X$30000,'FORMATO N° 5_XX'!B64,'BD-SOC'!$I$15:$I$30000,'FORMATO N° 5_XX'!$V$43)+\nCOUNTIFS('BD-SOC'!$Z$15:$Z$30000,'FORMATO N° 5_XX'!B64,'BD-SOC'!$I$15:$I$30000,'FORMATO N° 5_XX'!$V$43)+\nCOUNTIFS('BD-SOC'!$AB$15:$AB$30000,'FORMATO N° 5_XX'!B64,'BD-SOC'!$I$15:$I$30000,'FORMATO N° 5_XX'!$V$43)","v":0},{"$f":"COUNTIFS('BD-SOC'!$P$15:$P$30000,'FORMATO N° 5_XX'!B64,'BD-SOC'!$I$15:$I$30000,'FORMATO N° 5_XX'!$W$43)+\nCOUNTIFS('BD-SOC'!$R$15:$R$30000,'FORMATO N° 5_XX'!B64,'BD-SOC'!$I$15:$I$30000,'FORMATO N° 5_XX'!$W$43)+\nCOUNTIFS('BD-SOC'!$T$15:$T$30000,'FORMATO N° 5_XX'!B64,'BD-SOC'!$I$15:$I$30000,'FORMATO N° 5_XX'!$W$43)+\nCOUNTIFS('BD-SOC'!$V$15:$V$30000,'FORMATO N° 5_XX'!B64,'BD-SOC'!$I$15:$I$30000,'FORMATO N° 5_XX'!$W$43)+\nCOUNTIFS('BD-SOC'!$X$15:$X$30000,'FORMATO N° 5_XX'!B64,'BD-SOC'!$I$15:$I$30000,'FORMATO N° 5_XX'!$W$43)+\nCOUNTIFS('BD-SOC'!$Z$15:$Z$30000,'FORMATO N° 5_XX'!B64,'BD-SOC'!$I$15:$I$30000,'FORMATO N° 5_XX'!$W$43)+\nCOUNTIFS('BD-SOC'!$AB$15:$AB$30000,'FORMATO N° 5_XX'!B64,'BD-SOC'!$I$15:$I$30000,'FORMATO N° 5_XX'!$W$43)","v":0},{"$f":"COUNTIFS('BD-SOC'!$P$15:$P$30000,'FORMATO N° 5_XX'!B64,'BD-SOC'!$I$15:$I$30000,'FORMATO N° 5_XX'!$X$43)+\nCOUNTIFS('BD-SOC'!$R$15:$R$30000,'FORMATO N° 5_XX'!B64,'BD-SOC'!$I$15:$I$30000,'FORMATO N° 5_XX'!$X$43)+\nCOUNTIFS('BD-SOC'!$T$15:$T$30000,'FORMATO N° 5_XX'!B64,'BD-SOC'!$I$15:$I$30000,'FORMATO N° 5_XX'!$X$43)+\nCOUNTIFS('BD-SOC'!$V$15:$V$30000,'FORMATO N° 5_XX'!B64,'BD-SOC'!$I$15:$I$30000,'FORMATO N° 5_XX'!$X$43)+\nCOUNTIFS('BD-SOC'!$X$15:$X$30000,'FORMATO N° 5_XX'!B64,'BD-SOC'!$I$15:$I$30000,'FORMATO N° 5_XX'!$X$43)+\nCOUNTIFS('BD-SOC'!$Z$15:$Z$30000,'FORMATO N° 5_XX'!B64,'BD-SOC'!$I$15:$I$30000,'FORMATO N° 5_XX'!$X$43)+\nCOUNTIFS('BD-SOC'!$AB$15:$AB$30000,'FORMATO N° 5_XX'!B64,'BD-SOC'!$I$15:$I$30000,'FORMATO N° 5_XX'!$X$43)","v":0},{"$f":"COUNTIFS('BD-SOC'!$P$15:$P$30000,'FORMATO N° 5_XX'!B64,'BD-SOC'!$I$15:$I$30000,'FORMATO N° 5_XX'!$Y$43)+\nCOUNTIFS('BD-SOC'!$R$15:$R$30000,'FORMATO N° 5_XX'!B64,'BD-SOC'!$I$15:$I$30000,'FORMATO N° 5_XX'!$Y$43)+\nCOUNTIFS('BD-SOC'!$T$15:$T$30000,'FORMATO N° 5_XX'!B64,'BD-SOC'!$I$15:$I$30000,'FORMATO N° 5_XX'!$Y$43)+\nCOUNTIFS('BD-SOC'!$V$15:$V$30000,'FORMATO N° 5_XX'!B64,'BD-SOC'!$I$15:$I$30000,'FORMATO N° 5_XX'!$Y$43)+\nCOUNTIFS('BD-SOC'!$X$15:$X$30000,'FORMATO N° 5_XX'!B64,'BD-SOC'!$I$15:$I$30000,'FORMATO N° 5_XX'!$Y$43)+\nCOUNTIFS('BD-SOC'!$Z$15:$Z$30000,'FORMATO N° 5_XX'!B64,'BD-SOC'!$I$15:$I$30000,'FORMATO N° 5_XX'!$Y$43)+\nCOUNTIFS('BD-SOC'!$AB$15:$AB$30000,'FORMATO N° 5_XX'!B64,'BD-SOC'!$I$15:$I$30000,'FORMATO N° 5_XX'!$Y$43)","v":0},{"$f":"COUNTIFS('BD-SOC'!$P$15:$P$30000,'FORMATO N° 5_XX'!B64,'BD-SOC'!$I$15:$I$30000,'FORMATO N° 5_XX'!$Z$43)+\nCOUNTIFS('BD-SOC'!$R$15:$R$30000,'FORMATO N° 5_XX'!B64,'BD-SOC'!$I$15:$I$30000,'FORMATO N° 5_XX'!$Z$43)+\nCOUNTIFS('BD-SOC'!$T$15:$T$30000,'FORMATO N° 5_XX'!B64,'BD-SOC'!$I$15:$I$30000,'FORMATO N° 5_XX'!$Z$43)+\nCOUNTIFS('BD-SOC'!$V$15:$V$30000,'FORMATO N° 5_XX'!B64,'BD-SOC'!$I$15:$I$30000,'FORMATO N° 5_XX'!$Z$43)+\nCOUNTIFS('BD-SOC'!$X$15:$X$30000,'FORMATO N° 5_XX'!B64,'BD-SOC'!$I$15:$I$30000,'FORMATO N° 5_XX'!$Z$43)+\nCOUNTIFS('BD-SOC'!$Z$15:$Z$30000,'FORMATO N° 5_XX'!B64,'BD-SOC'!$I$15:$I$30000,'FORMATO N° 5_XX'!$Z$43)+\nCOUNTIFS('BD-SOC'!$AB$15:$AB$30000,'FORMATO N° 5_XX'!B64,'BD-SOC'!$I$15:$I$30000,'FORMATO N° 5_XX'!$Z$43)","v":0},{"$f":"COUNTIFS('BD-SOC'!$P$15:$P$30000,'FORMATO N° 5_XX'!B64,'BD-SOC'!$I$15:$I$30000,'FORMATO N° 5_XX'!$AA$43)+\nCOUNTIFS('BD-SOC'!$R$15:$R$30000,'FORMATO N° 5_XX'!B64,'BD-SOC'!$I$15:$I$30000,'FORMATO N° 5_XX'!$AA$43)+\nCOUNTIFS('BD-SOC'!$T$15:$T$30000,'FORMATO N° 5_XX'!B64,'BD-SOC'!$I$15:$I$30000,'FORMATO N° 5_XX'!$AA$43)+\nCOUNTIFS('BD-SOC'!$V$15:$V$30000,'FORMATO N° 5_XX'!B64,'BD-SOC'!$I$15:$I$30000,'FORMATO N° 5_XX'!$AA$43)+\nCOUNTIFS('BD-SOC'!$X$15:$X$30000,'FORMATO N° 5_XX'!B64,'BD-SOC'!$I$15:$I$30000,'FORMATO N° 5_XX'!$AA$43)+\nCOUNTIFS('BD-SOC'!$Z$15:$Z$30000,'FORMATO N° 5_XX'!B64,'BD-SOC'!$I$15:$I$30000,'FORMATO N° 5_XX'!$AA$43)+\nCOUNTIFS('BD-SOC'!$AB$15:$AB$30000,'FORMATO N° 5_XX'!B64,'BD-SOC'!$I$15:$I$30000,'FORMATO N° 5_XX'!$AA$43)","v":0},{"$f":"COUNTIFS('BD-SOC'!$P$15:$P$30000,'FORMATO N° 5_XX'!B64,'BD-SOC'!$I$15:$I$30000,'FORMATO N° 5_XX'!$AB$43)+\nCOUNTIFS('BD-SOC'!$R$15:$R$30000,'FORMATO N° 5_XX'!B64,'BD-SOC'!$I$15:$I$30000,'FORMATO N° 5_XX'!$AB$43)+\nCOUNTIFS('BD-SOC'!$T$15:$T$30000,'FORMATO N° 5_XX'!B64,'BD-SOC'!$I$15:$I$30000,'FORMATO N° 5_XX'!$AB$43)+\nCOUNTIFS('BD-SOC'!$V$15:$V$30000,'FORMATO N° 5_XX'!B64,'BD-SOC'!$I$15:$I$30000,'FORMATO N° 5_XX'!$AB$43)+\nCOUNTIFS('BD-SOC'!$X$15:$X$30000,'FORMATO N° 5_XX'!B64,'BD-SOC'!$I$15:$I$30000,'FORMATO N° 5_XX'!$AB$43)+\nCOUNTIFS('BD-SOC'!$Z$15:$Z$30000,'FORMATO N° 5_XX'!B64,'BD-SOC'!$I$15:$I$30000,'FORMATO N° 5_XX'!$AB$43)+\nCOUNTIFS('BD-SOC'!$AB$15:$AB$30000,'FORMATO N° 5_XX'!B64,'BD-SOC'!$I$15:$I$30000,'FORMATO N° 5_XX'!$AB$43)","v":0},{"$f":"COUNTIFS('BD-SOC'!$P$15:$P$30000,'FORMATO N° 5_XX'!B64,'BD-SOC'!$I$15:$I$30000,'FORMATO N° 5_XX'!$AC$43)+\nCOUNTIFS('BD-SOC'!$R$15:$R$30000,'FORMATO N° 5_XX'!B64,'BD-SOC'!$I$15:$I$30000,'FORMATO N° 5_XX'!$AC$43)+\nCOUNTIFS('BD-SOC'!$T$15:$T$30000,'FORMATO N° 5_XX'!B64,'BD-SOC'!$I$15:$I$30000,'FORMATO N° 5_XX'!$AC$43)+\nCOUNTIFS('BD-SOC'!$V$15:$V$30000,'FORMATO N° 5_XX'!B64,'BD-SOC'!$I$15:$I$30000,'FORMATO N° 5_XX'!$AC$43)+\nCOUNTIFS('BD-SOC'!$X$15:$X$30000,'FORMATO N° 5_XX'!B64,'BD-SOC'!$I$15:$I$30000,'FORMATO N° 5_XX'!$AC$43)+\nCOUNTIFS('BD-SOC'!$Z$15:$Z$30000,'FORMATO N° 5_XX'!B64,'BD-SOC'!$I$15:$I$30000,'FORMATO N° 5_XX'!$AC$43)+\nCOUNTIFS('BD-SOC'!$AB$15:$AB$30000,'FORMATO N° 5_XX'!B64,'BD-SOC'!$I$15:$I$30000,'FORMATO N° 5_XX'!$AC$43)","v":0},{"$f":"COUNTIFS('BD-SOC'!$P$15:$P$30000,'FORMATO N° 5_XX'!B64,'BD-SOC'!$I$15:$I$30000,'FORMATO N° 5_XX'!$AD$43)+\nCOUNTIFS('BD-SOC'!$R$15:$R$30000,'FORMATO N° 5_XX'!B64,'BD-SOC'!$I$15:$I$30000,'FORMATO N° 5_XX'!$AD$43)+\nCOUNTIFS('BD-SOC'!$T$15:$T$30000,'FORMATO N° 5_XX'!B64,'BD-SOC'!$I$15:$I$30000,'FORMATO N° 5_XX'!$AD$43)+\nCOUNTIFS('BD-SOC'!$V$15:$V$30000,'FORMATO N° 5_XX'!B64,'BD-SOC'!$I$15:$I$30000,'FORMATO N° 5_XX'!$AD$43)+\nCOUNTIFS('BD-SOC'!$X$15:$X$30000,'FORMATO N° 5_XX'!B64,'BD-SOC'!$I$15:$I$30000,'FORMATO N° 5_XX'!$AD$43)+\nCOUNTIFS('BD-SOC'!$Z$15:$Z$30000,'FORMATO N° 5_XX'!B64,'BD-SOC'!$I$15:$I$30000,'FORMATO N° 5_XX'!$AD$43)+\nCOUNTIFS('BD-SOC'!$AB$15:$AB$30000,'FORMATO N° 5_XX'!B64,'BD-SOC'!$I$15:$I$30000,'FORMATO N° 5_XX'!$AD$43)","v":0},{"$f":"COUNTIFS('BD-SOC'!$P$15:$P$30000,'FORMATO N° 5_XX'!B64,'BD-SOC'!$I$15:$I$30000,'FORMATO N° 5_XX'!$AE$43)+\nCOUNTIFS('BD-SOC'!$R$15:$R$30000,'FORMATO N° 5_XX'!B64,'BD-SOC'!$I$15:$I$30000,'FORMATO N° 5_XX'!$AE$43)+\nCOUNTIFS('BD-SOC'!$T$15:$T$30000,'FORMATO N° 5_XX'!B64,'BD-SOC'!$I$15:$I$30000,'FORMATO N° 5_XX'!$AE$43)+\nCOUNTIFS('BD-SOC'!$V$15:$V$30000,'FORMATO N° 5_XX'!B64,'BD-SOC'!$I$15:$I$30000,'FORMATO N° 5_XX'!$AE$43)+\nCOUNTIFS('BD-SOC'!$X$15:$X$30000,'FORMATO N° 5_XX'!B64,'BD-SOC'!$I$15:$I$30000,'FORMATO N° 5_XX'!$AE$43)+\nCOUNTIFS('BD-SOC'!$Z$15:$Z$30000,'FORMATO N° 5_XX'!B64,'BD-SOC'!$I$15:$I$30000,'FORMATO N° 5_XX'!$AE$43)+\nCOUNTIFS('BD-SOC'!$AB$15:$AB$30000,'FORMATO N° 5_XX'!B64,'BD-SOC'!$I$15:$I$30000,'FORMATO N° 5_XX'!$AE$43)","v":0}]
[null,210,"INFORME SOCIO ECONÓMICO",null,null,null,null,null,{"$error":"#REF!"},{"$f":"COUNTIFS('BD-SOC'!$P$15:$P$30000,'FORMATO N° 5_XX'!B65,'BD-SOC'!#REF!,'FORMATO N° 5_XX'!$J$43)+\nCOUNTIFS('BD-SOC'!$R$15:$R$30000,'FORMATO N° 5_XX'!B65,'BD-SOC'!#REF!,'FORMATO N° 5_XX'!$J$43)+\nCOUNTIFS('BD-SOC'!$T$15:$T$30000,'FORMATO N° 5_XX'!B65,'BD-SOC'!#REF!,'FORMATO N° 5_XX'!$J$43)+\nCOUNTIFS('BD-SOC'!$V$15:$V$30000,'FORMATO N° 5_XX'!B65,'BD-SOC'!#REF!,'FORMATO N° 5_XX'!$J$43)+\nCOUNTIFS('BD-SOC'!$X$15:$X$30000,'FORMATO N° 5_XX'!B65,'BD-SOC'!#REF!,'FORMATO N° 5_XX'!$J$43)+\nCOUNTIFS('BD-SOC'!$Z$15:$Z$30000,'FORMATO N° 5_XX'!B65,'BD-SOC'!#REF!,'FORMATO N° 5_XX'!$J$43)+\nCOUNTIFS('BD-SOC'!$AB$15:$AB$30000,'FORMATO N° 5_XX'!B65,'BD-SOC'!#REF!,'FORMATO N° 5_XX'!$J$43)","v":{"$error":"#REF!"}},{"$f":"COUNTIFS('BD-SOC'!$P$15:$P$30000,'FORMATO N° 5_XX'!B65,'BD-SOC'!#REF!,'FORMATO N° 5_XX'!$K$43)+\nCOUNTIFS('BD-SOC'!$R$15:$R$30000,'FORMATO N° 5_XX'!B65,'BD-SOC'!#REF!,'FORMATO N° 5_XX'!$K$43)+\nCOUNTIFS('BD-SOC'!$T$15:$T$30000,'FORMATO N° 5_XX'!B65,'BD-SOC'!#REF!,'FORMATO N° 5_XX'!$K$43)+\nCOUNTIFS('BD-SOC'!$V$15:$V$30000,'FORMATO N° 5_XX'!B65,'BD-SOC'!#REF!,'FORMATO N° 5_XX'!$K$43)+\nCOUNTIFS('BD-SOC'!$X$15:$X$30000,'FORMATO N° 5_XX'!B65,'BD-SOC'!#REF!,'FORMATO N° 5_XX'!$K$43)+\nCOUNTIFS('BD-SOC'!$Z$15:$Z$30000,'FORMATO N° 5_XX'!B65,'BD-SOC'!#REF!,'FORMATO N° 5_XX'!$K$43)+\nCOUNTIFS('BD-SOC'!$AB$15:$AB$30000,'FORMATO N° 5_XX'!B65,'BD-SOC'!#REF!,'FORMATO N° 5_XX'!$K$43)","v":{"$error":"#REF!"}},{"$f":"COUNTIFS('BD-SOC'!$P$15:$P$30000,'FORMATO N° 5_XX'!B65,'BD-SOC'!#REF!,'FORMATO N° 5_XX'!$L$43)+\nCOUNTIFS('BD-SOC'!$R$15:$R$30000,'FORMATO N° 5_XX'!B65,'BD-SOC'!#REF!,'FORMATO N° 5_XX'!$L$43)+\nCOUNTIFS('BD-SOC'!$T$15:$T$30000,'FORMATO N° 5_XX'!B65,'BD-SOC'!#REF!,'FORMATO N° 5_XX'!$L$43)+\nCOUNTIFS('BD-SOC'!$V$15:$V$30000,'FORMATO N° 5_XX'!B65,'BD-SOC'!#REF!,'FORMATO N° 5_XX'!$L$43)+\nCOUNTIFS('BD-SOC'!$X$15:$X$30000,'FORMATO N° 5_XX'!B65,'BD-SOC'!#REF!,'FORMATO N° 5_XX'!$L$43)+\nCOUNTIFS('BD-SOC'!$Z$15:$Z$30000,'FORMATO N° 5_XX'!B65,'BD-SOC'!#REF!,'FORMATO N° 5_XX'!$L$43)+\nCOUNTIFS('BD-SOC'!$AB$15:$AB$30000,'FORMATO N° 5_XX'!B65,'BD-SOC'!#REF!,'FORMATO N° 5_XX'!$L$43)","v":{"$error":"#REF!"}},{"$f":"COUNTIFS('BD-SOC'!$P$15:$P$30000,'FORMATO N° 5_XX'!B65,'BD-SOC'!#REF!,'FORMATO N° 5_XX'!$M$44)+\nCOUNTIFS('BD-SOC'!$R$15:$R$30000,'FORMATO N° 5_XX'!B65,'BD-SOC'!#REF!,'FORMATO N° 5_XX'!$M$44)+\nCOUNTIFS('BD-SOC'!$T$15:$T$30000,'FORMATO N° 5_XX'!B65,'BD-SOC'!#REF!,'FORMATO N° 5_XX'!$M$44)+\nCOUNTIFS('BD-SOC'!$V$15:$V$30000,'FORMATO N° 5_XX'!B65,'BD-SOC'!#REF!,'FORMATO N° 5_XX'!$M$44)+\nCOUNTIFS('BD-SOC'!$X$15:$X$30000,'FORMATO N° 5_XX'!B65,'BD-SOC'!#REF!,'FORMATO N° 5_XX'!$M$44)+\nCOUNTIFS('BD-SOC'!$Z$15:$Z$30000,'FORMATO N° 5_XX'!B65,'BD-SOC'!#REF!,'FORMATO N° 5_XX'!$M$44)+\nCOUNTIFS('BD-SOC'!$AB$15:$AB$30000,'FORMATO N° 5_XX'!B65,'BD-SOC'!#REF!,'FORMATO N° 5_XX'!$M$44)","v":{"$error":"#REF!"}},{"$f":"COUNTIFS('BD-SOC'!$P$15:$P$30000,'FORMATO N° 5_XX'!B65,'BD-SOC'!#REF!,'FORMATO N° 5_XX'!$N$44)+\nCOUNTIFS('BD-SOC'!$R$15:$R$30000,'FORMATO N° 5_XX'!B65,'BD-SOC'!#REF!,'FORMATO N° 5_XX'!$N$44)+\nCOUNTIFS('BD-SOC'!$T$15:$T$30000,'FORMATO N° 5_XX'!B65,'BD-SOC'!#REF!,'FORMATO N° 5_XX'!$N$44)+\nCOUNTIFS('BD-SOC'!$V$15:$V$30000,'FORMATO N° 5_XX'!B65,'BD-SOC'!#REF!,'FORMATO N° 5_XX'!$N$44)+\nCOUNTIFS('BD-SOC'!$X$15:$X$30000,'FORMATO N° 5_XX'!B65,'BD-SOC'!#REF!,'FORMATO N° 5_XX'!$N$44)+\nCOUNTIFS('BD-SOC'!$Z$15:$Z$30000,'FORMATO N° 5_XX'!B65,'BD-SOC'!#REF!,'FORMATO N° 5_XX'!$N$44)+\nCOUNTIFS('BD-SOC'!$AB$15:$AB$30000,'FORMATO N° 5_XX'!B65,'BD-SOC'!#REF!,'FORMATO N° 5_XX'!$N$44)","v":{"$error":"#REF!"}},{"$f":"COUNTIFS('BD-SOC'!$P$15:$P$30000,'FORMATO N° 5_XX'!B65,'BD-SOC'!#REF!,'FORMATO N° 5_XX'!$O$44)+\nCOUNTIFS('BD-SOC'!$R$15:$R$30000,'FORMATO N° 5_XX'!B65,'BD-SOC'!#REF!,'FORMATO N° 5_XX'!$O$44)+\nCOUNTIFS('BD-SOC'!$T$15:$T$30000,'FORMATO N° 5_XX'!B65,'BD-SOC'!#REF!,'FORMATO N° 5_XX'!$O$44)+\nCOUNTIFS('BD-SOC'!$V$15:$V$30000,'FORMATO N° 5_XX'!B65,'BD-SOC'!#REF!,'FORMATO N° 5_XX'!$O$44)+\nCOUNTIFS('BD-SOC'!$X$15:$X$30000,'FORMATO N° 5_XX'!B65,'BD-SOC'!#REF!,'FORMATO N° 5_XX'!$O$44)+\nCOUNTIFS('BD-SOC'!$Z$15:$Z$30000,'FORMATO N° 5_XX'!B65,'BD-SOC'!#REF!,'FORMATO N° 5_XX'!$O$44)+\nCOUNTIFS('BD-SOC'!$AB$15:$AB$30000,'FORMATO N° 5_XX'!B65,'BD-SOC'!#REF!,'FORMATO N° 5_XX'!$O$44)","v":{"$error":"#REF!"}},{"$f":"COUNTIFS('BD-SOC'!$P$15:$P$30000,'FORMATO N° 5_XX'!B65,'BD-SOC'!#REF!,'FORMATO N° 5_XX'!$P$44)+\nCOUNTIFS('BD-SOC'!$R$15:$R$30000,'FORMATO N° 5_XX'!B65,'BD-SOC'!#REF!,'FORMATO N° 5_XX'!$P$44)+\nCOUNTIFS('BD-SOC'!$T$15:$T$30000,'FORMATO N° 5_XX'!B65,'BD-SOC'!#REF!,'FORMATO N° 5_XX'!$P$44)+\nCOUNTIFS('BD-SOC'!$V$15:$V$30000,'FORMATO N° 5_XX'!B65,'BD-SOC'!#REF!,'FORMATO N° 5_XX'!$P$44)+\nCOUNTIFS('BD-SOC'!$X$15:$X$30000,'FORMATO N° 5_XX'!B65,'BD-SOC'!#REF!,'FORMATO N° 5_XX'!$P$44)+\nCOUNTIFS('BD-SOC'!$Z$15:$Z$30000,'FORMATO N° 5_XX'!B65,'BD-SOC'!#REF!,'FORMATO N° 5_XX'!$P$44)+\nCOUNTIFS('BD-SOC'!$AB$15:$AB$30000,'FORMATO N° 5_XX'!B65,'BD-SOC'!#REF!,'FORMATO N° 5_XX'!$P$44)","v":{"$error":"#REF!"}},{"$f":"COUNTIFS('BD-SOC'!$P$15:$P$30000,'FORMATO N° 5_XX'!B65,'BD-SOC'!#REF!,'FORMATO N° 5_XX'!$Q$44)+\nCOUNTIFS('BD-SOC'!$R$15:$R$30000,'FORMATO N° 5_XX'!B65,'BD-SOC'!#REF!,'FORMATO N° 5_XX'!$Q$44)+\nCOUNTIFS('BD-SOC'!$T$15:$T$30000,'FORMATO N° 5_XX'!B65,'BD-SOC'!#REF!,'FORMATO N° 5_XX'!$Q$44)+\nCOUNTIFS('BD-SOC'!$V$15:$V$30000,'FORMATO N° 5_XX'!B65,'BD-SOC'!#REF!,'FORMATO N° 5_XX'!$Q$44)+\nCOUNTIFS('BD-SOC'!$X$15:$X$30000,'FORMATO N° 5_XX'!B65,'BD-SOC'!#REF!,'FORMATO N° 5_XX'!$Q$44)+\nCOUNTIFS('BD-SOC'!$Z$15:$Z$30000,'FORMATO N° 5_XX'!B65,'BD-SOC'!#REF!,'FORMATO N° 5_XX'!$Q$44)+\nCOUNTIFS('BD-SOC'!$AB$15:$AB$30000,'FORMATO N° 5_XX'!B65,'BD-SOC'!#REF!,'FORMATO N° 5_XX'!$Q$44)","v":{"$error":"#REF!"}},{"$f":"COUNTIFS('BD-SOC'!$P$15:$P$30000,'FORMATO N° 5_XX'!B65,'BD-SOC'!#REF!,'FORMATO N° 5_XX'!$R$44)+\nCOUNTIFS('BD-SOC'!$R$15:$R$30000,'FORMATO N° 5_XX'!B65,'BD-SOC'!#REF!,'FORMATO N° 5_XX'!$R$44)+\nCOUNTIFS('BD-SOC'!$T$15:$T$30000,'FORMATO N° 5_XX'!B65,'BD-SOC'!#REF!,'FORMATO N° 5_XX'!$R$44)+\nCOUNTIFS('BD-SOC'!$V$15:$V$30000,'FORMATO N° 5_XX'!B65,'BD-SOC'!#REF!,'FORMATO N° 5_XX'!$R$44)+\nCOUNTIFS('BD-SOC'!$X$15:$X$30000,'FORMATO N° 5_XX'!B65,'BD-SOC'!#REF!,'FORMATO N° 5_XX'!$R$44)+\nCOUNTIFS('BD-SOC'!$Z$15:$Z$30000,'FORMATO N° 5_XX'!B65,'BD-SOC'!#REF!,'FORMATO N° 5_XX'!$R$44)+\nCOUNTIFS('BD-SOC'!$AB$15:$AB$30000,'FORMATO N° 5_XX'!B65,'BD-SOC'!#REF!,'FORMATO N° 5_XX'!$R$44)","v":{"$error":"#REF!"}},{"$f":"COUNTIFS('BD-SOC'!$P$15:$P$30000,'FORMATO N° 5_XX'!B65,'BD-SOC'!#REF!,'FORMATO N° 5_XX'!$S$43)+\nCOUNTIFS('BD-SOC'!$R$15:$R$30000,'FORMATO N° 5_XX'!B65,'BD-SOC'!#REF!,'FORMATO N° 5_XX'!$S$43)+\nCOUNTIFS('BD-SOC'!$T$15:$T$30000,'FORMATO N° 5_XX'!B65,'BD-SOC'!#REF!,'FORMATO N° 5_XX'!$S$43)+\nCOUNTIFS('BD-SOC'!$V$15:$V$30000,'FORMATO N° 5_XX'!B65,'BD-SOC'!#REF!,'FORMATO N° 5_XX'!$S$43)+\nCOUNTIFS('BD-SOC'!$X$15:$X$30000,'FORMATO N° 5_XX'!B65,'BD-SOC'!#REF!,'FORMATO N° 5_XX'!$S$43)+\nCOUNTIFS('BD-SOC'!$Z$15:$Z$30000,'FORMATO N° 5_XX'!B65,'BD-SOC'!#REF!,'FORMATO N° 5_XX'!$S$43)+\nCOUNTIFS('BD-SOC'!$AB$15:$AB$30000,'FORMATO N° 5_XX'!B65,'BD-SOC'!#REF!,'FORMATO N° 5_XX'!$S$43)","v":{"$error":"#REF!"}},{"$f":"COUNTIFS('BD-SOC'!$P$15:$P$30000,'FORMATO N° 5_XX'!B65,'BD-SOC'!#REF!,'FORMATO N° 5_XX'!$T$43)+\nCOUNTIFS('BD-SOC'!$R$15:$R$30000,'FORMATO N° 5_XX'!B65,'BD-SOC'!#REF!,'FORMATO N° 5_XX'!$T$43)+\nCOUNTIFS('BD-SOC'!$T$15:$T$30000,'FORMATO N° 5_XX'!B65,'BD-SOC'!#REF!,'FORMATO N° 5_XX'!$T$43)+\nCOUNTIFS('BD-SOC'!$V$15:$V$30000,'FORMATO N° 5_XX'!B65,'BD-SOC'!#REF!,'FORMATO N° 5_XX'!$T$43)+\nCOUNTIFS('BD-SOC'!$X$15:$X$30000,'FORMATO N° 5_XX'!B65,'BD-SOC'!#REF!,'FORMATO N° 5_XX'!$T$43)+\nCOUNTIFS('BD-SOC'!$Z$15:$Z$30000,'FORMATO N° 5_XX'!B65,'BD-SOC'!#REF!,'FORMATO N° 5_XX'!$T$43)+\nCOUNTIFS('BD-SOC'!$AB$15:$AB$30000,'FORMATO N° 5_XX'!B65,'BD-SOC'!#REF!,'FORMATO N° 5_XX'!$T$43)","v":{"$error":"#REF!"}},0,{"$f":"COUNTIFS('BD-SOC'!$P$15:$P$30000,'FORMATO N° 5_XX'!B65,'BD-SOC'!$I$15:$I$30000,'FORMATO N° 5_XX'!$V$43)+\nCOUNTIFS('BD-SOC'!$R$15:$R$30000,'FORMATO N° 5_XX'!B65,'BD-SOC'!$I$15:$I$30000,'FORMATO N° 5_XX'!$V$43)+\nCOUNTIFS('BD-SOC'!$T$15:$T$30000,'FORMATO N° 5_XX'!B65,'BD-SOC'!$I$15:$I$30000,'FORMATO N° 5_XX'!$V$43)+\nCOUNTIFS('BD-SOC'!$V$15:$V$30000,'FORMATO N° 5_XX'!B65,'BD-SOC'!$I$15:$I$30000,'FORMATO N° 5_XX'!$V$43)+\nCOUNTIFS('BD-SOC'!$X$15:$X$30000,'FORMATO N° 5_XX'!B65,'BD-SOC'!$I$15:$I$30000,'FORMATO N° 5_XX'!$V$43)+\nCOUNTIFS('BD-SOC'!$Z$15:$Z$30000,'FORMATO N° 5_XX'!B65,'BD-SOC'!$I$15:$I$30000,'FORMATO N° 5_XX'!$V$43)+\nCOUNTIFS('BD-SOC'!$AB$15:$AB$30000,'FORMATO N° 5_XX'!B65,'BD-SOC'!$I$15:$I$30000,'FORMATO N° 5_XX'!$V$43)","v":0},{"$f":"COUNTIFS('BD-SOC'!$P$15:$P$30000,'FORMATO N° 5_XX'!B65,'BD-SOC'!$I$15:$I$30000,'FORMATO N° 5_XX'!$W$43)+\nCOUNTIFS('BD-SOC'!$R$15:$R$30000,'FORMATO N° 5_XX'!B65,'BD-SOC'!$I$15:$I$30000,'FORMATO N° 5_XX'!$W$43)+\nCOUNTIFS('BD-SOC'!$T$15:$T$30000,'FORMATO N° 5_XX'!B65,'BD-SOC'!$I$15:$I$30000,'FORMATO N° 5_XX'!$W$43)+\nCOUNTIFS('BD-SOC'!$V$15:$V$30000,'FORMATO N° 5_XX'!B65,'BD-SOC'!$I$15:$I$30000,'FORMATO N° 5_XX'!$W$43)+\nCOUNTIFS('BD-SOC'!$X$15:$X$30000,'FORMATO N° 5_XX'!B65,'BD-SOC'!$I$15:$I$30000,'FORMATO N° 5_XX'!$W$43)+\nCOUNTIFS('BD-SOC'!$Z$15:$Z$30000,'FORMATO N° 5_XX'!B65,'BD-SOC'!$I$15:$I$30000,'FORMATO N° 5_XX'!$W$43)+\nCOUNTIFS('BD-SOC'!$AB$15:$AB$30000,'FORMATO N° 5_XX'!B65,'BD-SOC'!$I$15:$I$30000,'FORMATO N° 5_XX'!$W$43)","v":0},{"$f":"COUNTIFS('BD-SOC'!$P$15:$P$30000,'FORMATO N° 5_XX'!B65,'BD-SOC'!$I$15:$I$30000,'FORMATO N° 5_XX'!$X$43)+\nCOUNTIFS('BD-SOC'!$R$15:$R$30000,'FORMATO N° 5_XX'!B65,'BD-SOC'!$I$15:$I$30000,'FORMATO N° 5_XX'!$X$43)+\nCOUNTIFS('BD-SOC'!$T$15:$T$30000,'FORMATO N° 5_XX'!B65,'BD-SOC'!$I$15:$I$30000,'FORMATO N° 5_XX'!$X$43)+\nCOUNTIFS('BD-SOC'!$V$15:$V$30000,'FORMATO N° 5_XX'!B65,'BD-SOC'!$I$15:$I$30000,'FORMATO N° 5_XX'!$X$43)+\nCOUNTIFS('BD-SOC'!$X$15:$X$30000,'FORMATO N° 5_XX'!B65,'BD-SOC'!$I$15:$I$30000,'FORMATO N° 5_XX'!$X$43)+\nCOUNTIFS('BD-SOC'!$Z$15:$Z$30000,'FORMATO N° 5_XX'!B65,'BD-SOC'!$I$15:$I$30000,'FORMATO N° 5_XX'!$X$43)+\nCOUNTIFS('BD-SOC'!$AB$15:$AB$30000,'FORMATO N° 5_XX'!B65,'BD-SOC'!$I$15:$I$30000,'FORMATO N° 5_XX'!$X$43)","v":0},{"$f":"COUNTIFS('BD-SOC'!$P$15:$P$30000,'FORMATO N° 5_XX'!B65,'BD-SOC'!$I$15:$I$30000,'FORMATO N° 5_XX'!$Y$43)+\nCOUNTIFS('BD-SOC'!$R$15:$R$30000,'FORMATO N° 5_XX'!B65,'BD-SOC'!$I$15:$I$30000,'FORMATO N° 5_XX'!$Y$43)+\nCOUNTIFS('BD-SOC'!$T$15:$T$30000,'FORMATO N° 5_XX'!B65,'BD-SOC'!$I$15:$I$30000,'FORMATO N° 5_XX'!$Y$43)+\nCOUNTIFS('BD-SOC'!$V$15:$V$30000,'FORMATO N° 5_XX'!B65,'BD-SOC'!$I$15:$I$30000,'FORMATO N° 5_XX'!$Y$43)+\nCOUNTIFS('BD-SOC'!$X$15:$X$30000,'FORMATO N° 5_XX'!B65,'BD-SOC'!$I$15:$I$30000,'FORMATO N° 5_XX'!$Y$43)+\nCOUNTIFS('BD-SOC'!$Z$15:$Z$30000,'FORMATO N° 5_XX'!B65,'BD-SOC'!$I$15:$I$30000,'FORMATO N° 5_XX'!$Y$43)+\nCOUNTIFS('BD-SOC'!$AB$15:$AB$30000,'FORMATO N° 5_XX'!B65,'BD-SOC'!$I$15:$I$30000,'FORMATO N° 5_XX'!$Y$43)","v":0},{"$f":"COUNTIFS('BD-SOC'!$P$15:$P$30000,'FORMATO N° 5_XX'!B65,'BD-SOC'!$I$15:$I$30000,'FORMATO N° 5_XX'!$Z$43)+\nCOUNTIFS('BD-SOC'!$R$15:$R$30000,'FORMATO N° 5_XX'!B65,'BD-SOC'!$I$15:$I$30000,'FORMATO N° 5_XX'!$Z$43)+\nCOUNTIFS('BD-SOC'!$T$15:$T$30000,'FORMATO N° 5_XX'!B65,'BD-SOC'!$I$15:$I$30000,'FORMATO N° 5_XX'!$Z$43)+\nCOUNTIFS('BD-SOC'!$V$15:$V$30000,'FORMATO N° 5_XX'!B65,'BD-SOC'!$I$15:$I$30000,'FORMATO N° 5_XX'!$Z$43)+\nCOUNTIFS('BD-SOC'!$X$15:$X$30000,'FORMATO N° 5_XX'!B65,'BD-SOC'!$I$15:$I$30000,'FORMATO N° 5_XX'!$Z$43)+\nCOUNTIFS('BD-SOC'!$Z$15:$Z$30000,'FORMATO N° 5_XX'!B65,'BD-SOC'!$I$15:$I$30000,'FORMATO N° 5_XX'!$Z$43)+\nCOUNTIFS('BD-SOC'!$AB$15:$AB$30000,'FORMATO N° 5_XX'!B65,'BD-SOC'!$I$15:$I$30000,'FORMATO N° 5_XX'!$Z$43)","v":0},{"$f":"COUNTIFS('BD-SOC'!$P$15:$P$30000,'FORMATO N° 5_XX'!B65,'BD-SOC'!$I$15:$I$30000,'FORMATO N° 5_XX'!$AA$43)+\nCOUNTIFS('BD-SOC'!$R$15:$R$30000,'FORMATO N° 5_XX'!B65,'BD-SOC'!$I$15:$I$30000,'FORMATO N° 5_XX'!$AA$43)+\nCOUNTIFS('BD-SOC'!$T$15:$T$30000,'FORMATO N° 5_XX'!B65,'BD-SOC'!$I$15:$I$30000,'FORMATO N° 5_XX'!$AA$43)+\nCOUNTIFS('BD-SOC'!$V$15:$V$30000,'FORMATO N° 5_XX'!B65,'BD-SOC'!$I$15:$I$30000,'FORMATO N° 5_XX'!$AA$43)+\nCOUNTIFS('BD-SOC'!$X$15:$X$30000,'FORMATO N° 5_XX'!B65,'BD-SOC'!$I$15:$I$30000,'FORMATO N° 5_XX'!$AA$43)+\nCOUNTIFS('BD-SOC'!$Z$15:$Z$30000,'FORMATO N° 5_XX'!B65,'BD-SOC'!$I$15:$I$30000,'FORMATO N° 5_XX'!$AA$43)+\nCOUNTIFS('BD-SOC'!$AB$15:$AB$30000,'FORMATO N° 5_XX'!B65,'BD-SOC'!$I$15:$I$30000,'FORMATO N° 5_XX'!$AA$43)","v":0},{"$f":"COUNTIFS('BD-SOC'!$P$15:$P$30000,'FORMATO N° 5_XX'!B65,'BD-SOC'!$I$15:$I$30000,'FORMATO N° 5_XX'!$AB$43)+\nCOUNTIFS('BD-SOC'!$R$15:$R$30000,'FORMATO N° 5_XX'!B65,'BD-SOC'!$I$15:$I$30000,'FORMATO N° 5_XX'!$AB$43)+\nCOUNTIFS('BD-SOC'!$T$15:$T$30000,'FORMATO N° 5_XX'!B65,'BD-SOC'!$I$15:$I$30000,'FORMATO N° 5_XX'!$AB$43)+\nCOUNTIFS('BD-SOC'!$V$15:$V$30000,'FORMATO N° 5_XX'!B65,'BD-SOC'!$I$15:$I$30000,'FORMATO N° 5_XX'!$AB$43)+\nCOUNTIFS('BD-SOC'!$X$15:$X$30000,'FORMATO N° 5_XX'!B65,'BD-SOC'!$I$15:$I$30000,'FORMATO N° 5_XX'!$AB$43)+\nCOUNTIFS('BD-SOC'!$Z$15:$Z$30000,'FORMATO N° 5_XX'!B65,'BD-SOC'!$I$15:$I$30000,'FORMATO N° 5_XX'!$AB$43)+\nCOUNTIFS('BD-SOC'!$AB$15:$AB$30000,'FORMATO N° 5_XX'!B65,'BD-SOC'!$I$15:$I$30000,'FORMATO N° 5_XX'!$AB$43)","v":0},{"$f":"COUNTIFS('BD-SOC'!$P$15:$P$30000,'FORMATO N° 5_XX'!B65,'BD-SOC'!$I$15:$I$30000,'FORMATO N° 5_XX'!$AC$43)+\nCOUNTIFS('BD-SOC'!$R$15:$R$30000,'FORMATO N° 5_XX'!B65,'BD-SOC'!$I$15:$I$30000,'FORMATO N° 5_XX'!$AC$43)+\nCOUNTIFS('BD-SOC'!$T$15:$T$30000,'FORMATO N° 5_XX'!B65,'BD-SOC'!$I$15:$I$30000,'FORMATO N° 5_XX'!$AC$43)+\nCOUNTIFS('BD-SOC'!$V$15:$V$30000,'FORMATO N° 5_XX'!B65,'BD-SOC'!$I$15:$I$30000,'FORMATO N° 5_XX'!$AC$43)+\nCOUNTIFS('BD-SOC'!$X$15:$X$30000,'FORMATO N° 5_XX'!B65,'BD-SOC'!$I$15:$I$30000,'FORMATO N° 5_XX'!$AC$43)+\nCOUNTIFS('BD-SOC'!$Z$15:$Z$30000,'FORMATO N° 5_XX'!B65,'BD-SOC'!$I$15:$I$30000,'FORMATO N° 5_XX'!$AC$43)+\nCOUNTIFS('BD-SOC'!$AB$15:$AB$30000,'FORMATO N° 5_XX'!B65,'BD-SOC'!$I$15:$I$30000,'FORMATO N° 5_XX'!$AC$43)","v":0},{"$f":"COUNTIFS('BD-SOC'!$P$15:$P$30000,'FORMATO N° 5_XX'!B65,'BD-SOC'!$I$15:$I$30000,'FORMATO N° 5_XX'!$AD$43)+\nCOUNTIFS('BD-SOC'!$R$15:$R$30000,'FORMATO N° 5_XX'!B65,'BD-SOC'!$I$15:$I$30000,'FORMATO N° 5_XX'!$AD$43)+\nCOUNTIFS('BD-SOC'!$T$15:$T$30000,'FORMATO N° 5_XX'!B65,'BD-SOC'!$I$15:$I$30000,'FORMATO N° 5_XX'!$AD$43)+\nCOUNTIFS('BD-SOC'!$V$15:$V$30000,'FORMATO N° 5_XX'!B65,'BD-SOC'!$I$15:$I$30000,'FORMATO N° 5_XX'!$AD$43)+\nCOUNTIFS('BD-SOC'!$X$15:$X$30000,'FORMATO N° 5_XX'!B65,'BD-SOC'!$I$15:$I$30000,'FORMATO N° 5_XX'!$AD$43)+\nCOUNTIFS('BD-SOC'!$Z$15:$Z$30000,'FORMATO N° 5_XX'!B65,'BD-SOC'!$I$15:$I$30000,'FORMATO N° 5_XX'!$AD$43)+\nCOUNTIFS('BD-SOC'!$AB$15:$AB$30000,'FORMATO N° 5_XX'!B65,'BD-SOC'!$I$15:$I$30000,'FORMATO N° 5_XX'!$AD$43)","v":0},{"$f":"COUNTIFS('BD-SOC'!$P$15:$P$30000,'FORMATO N° 5_XX'!B65,'BD-SOC'!$I$15:$I$30000,'FORMATO N° 5_XX'!$AE$43)+\nCOUNTIFS('BD-SOC'!$R$15:$R$30000,'FORMATO N° 5_XX'!B65,'BD-SOC'!$I$15:$I$30000,'FORMATO N° 5_XX'!$AE$43)+\nCOUNTIFS('BD-SOC'!$T$15:$T$30000,'FORMATO N° 5_XX'!B65,'BD-SOC'!$I$15:$I$30000,'FORMATO N° 5_XX'!$AE$43)+\nCOUNTIFS('BD-SOC'!$V$15:$V$30000,'FORMATO N° 5_XX'!B65,'BD-SOC'!$I$15:$I$30000,'FORMATO N° 5_XX'!$AE$43)+\nCOUNTIFS('BD-SOC'!$X$15:$X$30000,'FORMATO N° 5_XX'!B65,'BD-SOC'!$I$15:$I$30000,'FORMATO N° 5_XX'!$AE$43)+\nCOUNTIFS('BD-SOC'!$Z$15:$Z$30000,'FORMATO N° 5_XX'!B65,'BD-SOC'!$I$15:$I$30000,'FORMATO N° 5_XX'!$AE$43)+\nCOUNTIFS('BD-SOC'!$AB$15:$AB$30000,'FORMATO N° 5_XX'!B65,'BD-SOC'!$I$15:$I$30000,'FORMATO N° 5_XX'!$AE$43)","v":0}]
[null,211,"AUDIENCIAS",null,null,null,null,null,{"$error":"#REF!"},{"$f":"COUNTIFS('BD-SOC'!$P$15:$P$30000,'FORMATO N° 5_XX'!B66,'BD-SOC'!#REF!,'FORMATO N° 5_XX'!$J$43)+\nCOUNTIFS('BD-SOC'!$R$15:$R$30000,'FORMATO N° 5_XX'!B66,'BD-SOC'!#REF!,'FORMATO N° 5_XX'!$J$43)+\nCOUNTIFS('BD-SOC'!$T$15:$T$30000,'FORMATO N° 5_XX'!B66,'BD-SOC'!#REF!,'FORMATO N° 5_XX'!$J$43)+\nCOUNTIFS('BD-SOC'!$V$15:$V$30000,'FORMATO N° 5_XX'!B66,'BD-SOC'!#REF!,'FORMATO N° 5_XX'!$J$43)+\nCOUNTIFS('BD-SOC'!$X$15:$X$30000,'FORMATO N° 5_XX'!B66,'BD-SOC'!#REF!,'FORMATO N° 5_XX'!$J$43)+\nCOUNTIFS('BD-SOC'!$Z$15:$Z$30000,'FORMATO N° 5_XX'!B66,'BD-SOC'!#REF!,'FORMATO N° 5_XX'!$J$43)+\nCOUNTIFS('BD-SOC'!$AB$15:$AB$30000,'FORMATO N° 5_XX'!B66,'BD-SOC'!#REF!,'FORMATO N° 5_XX'!$J$43)","v":{"$error":"#REF!"}},{"$f":"COUNTIFS('BD-SOC'!$P$15:$P$30000,'FORMATO N° 5_XX'!B66,'BD-SOC'!#REF!,'FORMATO N° 5_XX'!$K$43)+\nCOUNTIFS('BD-SOC'!$R$15:$R$30000,'FORMATO N° 5_XX'!B66,'BD-SOC'!#REF!,'FORMATO N° 5_XX'!$K$43)+\nCOUNTIFS('BD-SOC'!$T$15:$T$30000,'FORMATO N° 5_XX'!B66,'BD-SOC'!#REF!,'FORMATO N° 5_XX'!$K$43)+\nCOUNTIFS('BD-SOC'!$V$15:$V$30000,'FORMATO N° 5_XX'!B66,'BD-SOC'!#REF!,'FORMATO N° 5_XX'!$K$43)+\nCOUNTIFS('BD-SOC'!$X$15:$X$30000,'FORMATO N° 5_XX'!B66,'BD-SOC'!#REF!,'FORMATO N° 5_XX'!$K$43)+\nCOUNTIFS('BD-SOC'!$Z$15:$Z$30000,'FORMATO N° 5_XX'!B66,'BD-SOC'!#REF!,'FORMATO N° 5_XX'!$K$43)+\nCOUNTIFS('BD-SOC'!$AB$15:$AB$30000,'FORMATO N° 5_XX'!B66,'BD-SOC'!#REF!,'FORMATO N° 5_XX'!$K$43)","v":{"$error":"#REF!"}},{"$f":"COUNTIFS('BD-SOC'!$P$15:$P$30000,'FORMATO N° 5_XX'!B66,'BD-SOC'!#REF!,'FORMATO N° 5_XX'!$L$43)+\nCOUNTIFS('BD-SOC'!$R$15:$R$30000,'FORMATO N° 5_XX'!B66,'BD-SOC'!#REF!,'FORMATO N° 5_XX'!$L$43)+\nCOUNTIFS('BD-SOC'!$T$15:$T$30000,'FORMATO N° 5_XX'!B66,'BD-SOC'!#REF!,'FORMATO N° 5_XX'!$L$43)+\nCOUNTIFS('BD-SOC'!$V$15:$V$30000,'FORMATO N° 5_XX'!B66,'BD-SOC'!#REF!,'FORMATO N° 5_XX'!$L$43)+\nCOUNTIFS('BD-SOC'!$X$15:$X$30000,'FORMATO N° 5_XX'!B66,'BD-SOC'!#REF!,'FORMATO N° 5_XX'!$L$43)+\nCOUNTIFS('BD-SOC'!$Z$15:$Z$30000,'FORMATO N° 5_XX'!B66,'BD-SOC'!#REF!,'FORMATO N° 5_XX'!$L$43)+\nCOUNTIFS('BD-SOC'!$AB$15:$AB$30000,'FORMATO N° 5_XX'!B66,'BD-SOC'!#REF!,'FORMATO N° 5_XX'!$L$43)","v":{"$error":"#REF!"}},{"$f":"COUNTIFS('BD-SOC'!$P$15:$P$30000,'FORMATO N° 5_XX'!B66,'BD-SOC'!#REF!,'FORMATO N° 5_XX'!$M$44)+\nCOUNTIFS('BD-SOC'!$R$15:$R$30000,'FORMATO N° 5_XX'!B66,'BD-SOC'!#REF!,'FORMATO N° 5_XX'!$M$44)+\nCOUNTIFS('BD-SOC'!$T$15:$T$30000,'FORMATO N° 5_XX'!B66,'BD-SOC'!#REF!,'FORMATO N° 5_XX'!$M$44)+\nCOUNTIFS('BD-SOC'!$V$15:$V$30000,'FORMATO N° 5_XX'!B66,'BD-SOC'!#REF!,'FORMATO N° 5_XX'!$M$44)+\nCOUNTIFS('BD-SOC'!$X$15:$X$30000,'FORMATO N° 5_XX'!B66,'BD-SOC'!#REF!,'FORMATO N° 5_XX'!$M$44)+\nCOUNTIFS('BD-SOC'!$Z$15:$Z$30000,'FORMATO N° 5_XX'!B66,'BD-SOC'!#REF!,'FORMATO N° 5_XX'!$M$44)+\nCOUNTIFS('BD-SOC'!$AB$15:$AB$30000,'FORMATO N° 5_XX'!B66,'BD-SOC'!#REF!,'FORMATO N° 5_XX'!$M$44)","v":{"$error":"#REF!"}},{"$f":"COUNTIFS('BD-SOC'!$P$15:$P$30000,'FORMATO N° 5_XX'!B66,'BD-SOC'!#REF!,'FORMATO N° 5_XX'!$N$44)+\nCOUNTIFS('BD-SOC'!$R$15:$R$30000,'FORMATO N° 5_XX'!B66,'BD-SOC'!#REF!,'FORMATO N° 5_XX'!$N$44)+\nCOUNTIFS('BD-SOC'!$T$15:$T$30000,'FORMATO N° 5_XX'!B66,'BD-SOC'!#REF!,'FORMATO N° 5_XX'!$N$44)+\nCOUNTIFS('BD-SOC'!$V$15:$V$30000,'FORMATO N° 5_XX'!B66,'BD-SOC'!#REF!,'FORMATO N° 5_XX'!$N$44)+\nCOUNTIFS('BD-SOC'!$X$15:$X$30000,'FORMATO N° 5_XX'!B66,'BD-SOC'!#REF!,'FORMATO N° 5_XX'!$N$44)+\nCOUNTIFS('BD-SOC'!$Z$15:$Z$30000,'FORMATO N° 5_XX'!B66,'BD-SOC'!#REF!,'FORMATO N° 5_XX'!$N$44)+\nCOUNTIFS('BD-SOC'!$AB$15:$AB$30000,'FORMATO N° 5_XX'!B66,'BD-SOC'!#REF!,'FORMATO N° 5_XX'!$N$44)","v":{"$error":"#REF!"}},{"$f":"COUNTIFS('BD-SOC'!$P$15:$P$30000,'FORMATO N° 5_XX'!B66,'BD-SOC'!#REF!,'FORMATO N° 5_XX'!$O$44)+\nCOUNTIFS('BD-SOC'!$R$15:$R$30000,'FORMATO N° 5_XX'!B66,'BD-SOC'!#REF!,'FORMATO N° 5_XX'!$O$44)+\nCOUNTIFS('BD-SOC'!$T$15:$T$30000,'FORMATO N° 5_XX'!B66,'BD-SOC'!#REF!,'FORMATO N° 5_XX'!$O$44)+\nCOUNTIFS('BD-SOC'!$V$15:$V$30000,'FORMATO N° 5_XX'!B66,'BD-SOC'!#REF!,'FORMATO N° 5_XX'!$O$44)+\nCOUNTIFS('BD-SOC'!$X$15:$X$30000,'FORMATO N° 5_XX'!B66,'BD-SOC'!#REF!,'FORMATO N° 5_XX'!$O$44)+\nCOUNTIFS('BD-SOC'!$Z$15:$Z$30000,'FORMATO N° 5_XX'!B66,'BD-SOC'!#REF!,'FORMATO N° 5_XX'!$O$44)+\nCOUNTIFS('BD-SOC'!$AB$15:$AB$30000,'FORMATO N° 5_XX'!B66,'BD-SOC'!#REF!,'FORMATO N° 5_XX'!$O$44)","v":{"$error":"#REF!"}},{"$f":"COUNTIFS('BD-SOC'!$P$15:$P$30000,'FORMATO N° 5_XX'!B66,'BD-SOC'!#REF!,'FORMATO N° 5_XX'!$P$44)+\nCOUNTIFS('BD-SOC'!$R$15:$R$30000,'FORMATO N° 5_XX'!B66,'BD-SOC'!#REF!,'FORMATO N° 5_XX'!$P$44)+\nCOUNTIFS('BD-SOC'!$T$15:$T$30000,'FORMATO N° 5_XX'!B66,'BD-SOC'!#REF!,'FORMATO N° 5_XX'!$P$44)+\nCOUNTIFS('BD-SOC'!$V$15:$V$30000,'FORMATO N° 5_XX'!B66,'BD-SOC'!#REF!,'FORMATO N° 5_XX'!$P$44)+\nCOUNTIFS('BD-SOC'!$X$15:$X$30000,'FORMATO N° 5_XX'!B66,'BD-SOC'!#REF!,'FORMATO N° 5_XX'!$P$44)+\nCOUNTIFS('BD-SOC'!$Z$15:$Z$30000,'FORMATO N° 5_XX'!B66,'BD-SOC'!#REF!,'FORMATO N° 5_XX'!$P$44)+\nCOUNTIFS('BD-SOC'!$AB$15:$AB$30000,'FORMATO N° 5_XX'!B66,'BD-SOC'!#REF!,'FORMATO N° 5_XX'!$P$44)","v":{"$error":"#REF!"}},{"$f":"COUNTIFS('BD-SOC'!$P$15:$P$30000,'FORMATO N° 5_XX'!B66,'BD-SOC'!#REF!,'FORMATO N° 5_XX'!$Q$44)+\nCOUNTIFS('BD-SOC'!$R$15:$R$30000,'FORMATO N° 5_XX'!B66,'BD-SOC'!#REF!,'FORMATO N° 5_XX'!$Q$44)+\nCOUNTIFS('BD-SOC'!$T$15:$T$30000,'FORMATO N° 5_XX'!B66,'BD-SOC'!#REF!,'FORMATO N° 5_XX'!$Q$44)+\nCOUNTIFS('BD-SOC'!$V$15:$V$30000,'FORMATO N° 5_XX'!B66,'BD-SOC'!#REF!,'FORMATO N° 5_XX'!$Q$44)+\nCOUNTIFS('BD-SOC'!$X$15:$X$30000,'FORMATO N° 5_XX'!B66,'BD-SOC'!#REF!,'FORMATO N° 5_XX'!$Q$44)+\nCOUNTIFS('BD-SOC'!$Z$15:$Z$30000,'FORMATO N° 5_XX'!B66,'BD-SOC'!#REF!,'FORMATO N° 5_XX'!$Q$44)+\nCOUNTIFS('BD-SOC'!$AB$15:$AB$30000,'FORMATO N° 5_XX'!B66,'BD-SOC'!#REF!,'FORMATO N° 5_XX'!$Q$44)","v":{"$error":"#REF!"}},{"$f":"COUNTIFS('BD-SOC'!$P$15:$P$30000,'FORMATO N° 5_XX'!B66,'BD-SOC'!#REF!,'FORMATO N° 5_XX'!$R$44)+\nCOUNTIFS('BD-SOC'!$R$15:$R$30000,'FORMATO N° 5_XX'!B66,'BD-SOC'!#REF!,'FORMATO N° 5_XX'!$R$44)+\nCOUNTIFS('BD-SOC'!$T$15:$T$30000,'FORMATO N° 5_XX'!B66,'BD-SOC'!#REF!,'FORMATO N° 5_XX'!$R$44)+\nCOUNTIFS('BD-SOC'!$V$15:$V$30000,'FORMATO N° 5_XX'!B66,'BD-SOC'!#REF!,'FORMATO N° 5_XX'!$R$44)+\nCOUNTIFS('BD-SOC'!$X$15:$X$30000,'FORMATO N° 5_XX'!B66,'BD-SOC'!#REF!,'FORMATO N° 5_XX'!$R$44)+\nCOUNTIFS('BD-SOC'!$Z$15:$Z$30000,'FORMATO N° 5_XX'!B66,'BD-SOC'!#REF!,'FORMATO N° 5_XX'!$R$44)+\nCOUNTIFS('BD-SOC'!$AB$15:$AB$30000,'FORMATO N° 5_XX'!B66,'BD-SOC'!#REF!,'FORMATO N° 5_XX'!$R$44)","v":{"$error":"#REF!"}},{"$f":"COUNTIFS('BD-SOC'!$P$15:$P$30000,'FORMATO N° 5_XX'!B66,'BD-SOC'!#REF!,'FORMATO N° 5_XX'!$S$43)+\nCOUNTIFS('BD-SOC'!$R$15:$R$30000,'FORMATO N° 5_XX'!B66,'BD-SOC'!#REF!,'FORMATO N° 5_XX'!$S$43)+\nCOUNTIFS('BD-SOC'!$T$15:$T$30000,'FORMATO N° 5_XX'!B66,'BD-SOC'!#REF!,'FORMATO N° 5_XX'!$S$43)+\nCOUNTIFS('BD-SOC'!$V$15:$V$30000,'FORMATO N° 5_XX'!B66,'BD-SOC'!#REF!,'FORMATO N° 5_XX'!$S$43)+\nCOUNTIFS('BD-SOC'!$X$15:$X$30000,'FORMATO N° 5_XX'!B66,'BD-SOC'!#REF!,'FORMATO N° 5_XX'!$S$43)+\nCOUNTIFS('BD-SOC'!$Z$15:$Z$30000,'FORMATO N° 5_XX'!B66,'BD-SOC'!#REF!,'FORMATO N° 5_XX'!$S$43)+\nCOUNTIFS('BD-SOC'!$AB$15:$AB$30000,'FORMATO N° 5_XX'!B66,'BD-SOC'!#REF!,'FORMATO N° 5_XX'!$S$43)","v":{"$error":"#REF!"}},{"$f":"COUNTIFS('BD-SOC'!$P$15:$P$30000,'FORMATO N° 5_XX'!B66,'BD-SOC'!#REF!,'FORMATO N° 5_XX'!$T$43)+\nCOUNTIFS('BD-SOC'!$R$15:$R$30000,'FORMATO N° 5_XX'!B66,'BD-SOC'!#REF!,'FORMATO N° 5_XX'!$T$43)+\nCOUNTIFS('BD-SOC'!$T$15:$T$30000,'FORMATO N° 5_XX'!B66,'BD-SOC'!#REF!,'FORMATO N° 5_XX'!$T$43)+\nCOUNTIFS('BD-SOC'!$V$15:$V$30000,'FORMATO N° 5_XX'!B66,'BD-SOC'!#REF!,'FORMATO N° 5_XX'!$T$43)+\nCOUNTIFS('BD-SOC'!$X$15:$X$30000,'FORMATO N° 5_XX'!B66,'BD-SOC'!#REF!,'FORMATO N° 5_XX'!$T$43)+\nCOUNTIFS('BD-SOC'!$Z$15:$Z$30000,'FORMATO N° 5_XX'!B66,'BD-SOC'!#REF!,'FORMATO N° 5_XX'!$T$43)+\nCOUNTIFS('BD-SOC'!$AB$15:$AB$30000,'FORMATO N° 5_XX'!B66,'BD-SOC'!#REF!,'FORMATO N° 5_XX'!$T$43)","v":{"$error":"#REF!"}},0,{"$f":"COUNTIFS('BD-SOC'!$P$15:$P$30000,'FORMATO N° 5_XX'!B66,'BD-SOC'!$I$15:$I$30000,'FORMATO N° 5_XX'!$V$43)+\nCOUNTIFS('BD-SOC'!$R$15:$R$30000,'FORMATO N° 5_XX'!B66,'BD-SOC'!$I$15:$I$30000,'FORMATO N° 5_XX'!$V$43)+\nCOUNTIFS('BD-SOC'!$T$15:$T$30000,'FORMATO N° 5_XX'!B66,'BD-SOC'!$I$15:$I$30000,'FORMATO N° 5_XX'!$V$43)+\nCOUNTIFS('BD-SOC'!$V$15:$V$30000,'FORMATO N° 5_XX'!B66,'BD-SOC'!$I$15:$I$30000,'FORMATO N° 5_XX'!$V$43)+\nCOUNTIFS('BD-SOC'!$X$15:$X$30000,'FORMATO N° 5_XX'!B66,'BD-SOC'!$I$15:$I$30000,'FORMATO N° 5_XX'!$V$43)+\nCOUNTIFS('BD-SOC'!$Z$15:$Z$30000,'FORMATO N° 5_XX'!B66,'BD-SOC'!$I$15:$I$30000,'FORMATO N° 5_XX'!$V$43)+\nCOUNTIFS('BD-SOC'!$AB$15:$AB$30000,'FORMATO N° 5_XX'!B66,'BD-SOC'!$I$15:$I$30000,'FORMATO N° 5_XX'!$V$43)","v":0},{"$f":"COUNTIFS('BD-SOC'!$P$15:$P$30000,'FORMATO N° 5_XX'!B66,'BD-SOC'!$I$15:$I$30000,'FORMATO N° 5_XX'!$W$43)+\nCOUNTIFS('BD-SOC'!$R$15:$R$30000,'FORMATO N° 5_XX'!B66,'BD-SOC'!$I$15:$I$30000,'FORMATO N° 5_XX'!$W$43)+\nCOUNTIFS('BD-SOC'!$T$15:$T$30000,'FORMATO N° 5_XX'!B66,'BD-SOC'!$I$15:$I$30000,'FORMATO N° 5_XX'!$W$43)+\nCOUNTIFS('BD-SOC'!$V$15:$V$30000,'FORMATO N° 5_XX'!B66,'BD-SOC'!$I$15:$I$30000,'FORMATO N° 5_XX'!$W$43)+\nCOUNTIFS('BD-SOC'!$X$15:$X$30000,'FORMATO N° 5_XX'!B66,'BD-SOC'!$I$15:$I$30000,'FORMATO N° 5_XX'!$W$43)+\nCOUNTIFS('BD-SOC'!$Z$15:$Z$30000,'FORMATO N° 5_XX'!B66,'BD-SOC'!$I$15:$I$30000,'FORMATO N° 5_XX'!$W$43)+\nCOUNTIFS('BD-SOC'!$AB$15:$AB$30000,'FORMATO N° 5_XX'!B66,'BD-SOC'!$I$15:$I$30000,'FORMATO N° 5_XX'!$W$43)","v":0},{"$f":"COUNTIFS('BD-SOC'!$P$15:$P$30000,'FORMATO N° 5_XX'!B66,'BD-SOC'!$I$15:$I$30000,'FORMATO N° 5_XX'!$X$43)+\nCOUNTIFS('BD-SOC'!$R$15:$R$30000,'FORMATO N° 5_XX'!B66,'BD-SOC'!$I$15:$I$30000,'FORMATO N° 5_XX'!$X$43)+\nCOUNTIFS('BD-SOC'!$T$15:$T$30000,'FORMATO N° 5_XX'!B66,'BD-SOC'!$I$15:$I$30000,'FORMATO N° 5_XX'!$X$43)+\nCOUNTIFS('BD-SOC'!$V$15:$V$30000,'FORMATO N° 5_XX'!B66,'BD-SOC'!$I$15:$I$30000,'FORMATO N° 5_XX'!$X$43)+\nCOUNTIFS('BD-SOC'!$X$15:$X$30000,'FORMATO N° 5_XX'!B66,'BD-SOC'!$I$15:$I$30000,'FORMATO N° 5_XX'!$X$43)+\nCOUNTIFS('BD-SOC'!$Z$15:$Z$30000,'FORMATO N° 5_XX'!B66,'BD-SOC'!$I$15:$I$30000,'FORMATO N° 5_XX'!$X$43)+\nCOUNTIFS('BD-SOC'!$AB$15:$AB$30000,'FORMATO N° 5_XX'!B66,'BD-SOC'!$I$15:$I$30000,'FORMATO N° 5_XX'!$X$43)","v":0},{"$f":"COUNTIFS('BD-SOC'!$P$15:$P$30000,'FORMATO N° 5_XX'!B66,'BD-SOC'!$I$15:$I$30000,'FORMATO N° 5_XX'!$Y$43)+\nCOUNTIFS('BD-SOC'!$R$15:$R$30000,'FORMATO N° 5_XX'!B66,'BD-SOC'!$I$15:$I$30000,'FORMATO N° 5_XX'!$Y$43)+\nCOUNTIFS('BD-SOC'!$T$15:$T$30000,'FORMATO N° 5_XX'!B66,'BD-SOC'!$I$15:$I$30000,'FORMATO N° 5_XX'!$Y$43)+\nCOUNTIFS('BD-SOC'!$V$15:$V$30000,'FORMATO N° 5_XX'!B66,'BD-SOC'!$I$15:$I$30000,'FORMATO N° 5_XX'!$Y$43)+\nCOUNTIFS('BD-SOC'!$X$15:$X$30000,'FORMATO N° 5_XX'!B66,'BD-SOC'!$I$15:$I$30000,'FORMATO N° 5_XX'!$Y$43)+\nCOUNTIFS('BD-SOC'!$Z$15:$Z$30000,'FORMATO N° 5_XX'!B66,'BD-SOC'!$I$15:$I$30000,'FORMATO N° 5_XX'!$Y$43)+\nCOUNTIFS('BD-SOC'!$AB$15:$AB$30000,'FORMATO N° 5_XX'!B66,'BD-SOC'!$I$15:$I$30000,'FORMATO N° 5_XX'!$Y$43)","v":0},{"$f":"COUNTIFS('BD-SOC'!$P$15:$P$30000,'FORMATO N° 5_XX'!B66,'BD-SOC'!$I$15:$I$30000,'FORMATO N° 5_XX'!$Z$43)+\nCOUNTIFS('BD-SOC'!$R$15:$R$30000,'FORMATO N° 5_XX'!B66,'BD-SOC'!$I$15:$I$30000,'FORMATO N° 5_XX'!$Z$43)+\nCOUNTIFS('BD-SOC'!$T$15:$T$30000,'FORMATO N° 5_XX'!B66,'BD-SOC'!$I$15:$I$30000,'FORMATO N° 5_XX'!$Z$43)+\nCOUNTIFS('BD-SOC'!$V$15:$V$30000,'FORMATO N° 5_XX'!B66,'BD-SOC'!$I$15:$I$30000,'FORMATO N° 5_XX'!$Z$43)+\nCOUNTIFS('BD-SOC'!$X$15:$X$30000,'FORMATO N° 5_XX'!B66,'BD-SOC'!$I$15:$I$30000,'FORMATO N° 5_XX'!$Z$43)+\nCOUNTIFS('BD-SOC'!$Z$15:$Z$30000,'FORMATO N° 5_XX'!B66,'BD-SOC'!$I$15:$I$30000,'FORMATO N° 5_XX'!$Z$43)+\nCOUNTIFS('BD-SOC'!$AB$15:$AB$30000,'FORMATO N° 5_XX'!B66,'BD-SOC'!$I$15:$I$30000,'FORMATO N° 5_XX'!$Z$43)","v":0},{"$f":"COUNTIFS('BD-SOC'!$P$15:$P$30000,'FORMATO N° 5_XX'!B66,'BD-SOC'!$I$15:$I$30000,'FORMATO N° 5_XX'!$AA$43)+\nCOUNTIFS('BD-SOC'!$R$15:$R$30000,'FORMATO N° 5_XX'!B66,'BD-SOC'!$I$15:$I$30000,'FORMATO N° 5_XX'!$AA$43)+\nCOUNTIFS('BD-SOC'!$T$15:$T$30000,'FORMATO N° 5_XX'!B66,'BD-SOC'!$I$15:$I$30000,'FORMATO N° 5_XX'!$AA$43)+\nCOUNTIFS('BD-SOC'!$V$15:$V$30000,'FORMATO N° 5_XX'!B66,'BD-SOC'!$I$15:$I$30000,'FORMATO N° 5_XX'!$AA$43)+\nCOUNTIFS('BD-SOC'!$X$15:$X$30000,'FORMATO N° 5_XX'!B66,'BD-SOC'!$I$15:$I$30000,'FORMATO N° 5_XX'!$AA$43)+\nCOUNTIFS('BD-SOC'!$Z$15:$Z$30000,'FORMATO N° 5_XX'!B66,'BD-SOC'!$I$15:$I$30000,'FORMATO N° 5_XX'!$AA$43)+\nCOUNTIFS('BD-SOC'!$AB$15:$AB$30000,'FORMATO N° 5_XX'!B66,'BD-SOC'!$I$15:$I$30000,'FORMATO N° 5_XX'!$AA$43)","v":0},{"$f":"COUNTIFS('BD-SOC'!$P$15:$P$30000,'FORMATO N° 5_XX'!B66,'BD-SOC'!$I$15:$I$30000,'FORMATO N° 5_XX'!$AB$43)+\nCOUNTIFS('BD-SOC'!$R$15:$R$30000,'FORMATO N° 5_XX'!B66,'BD-SOC'!$I$15:$I$30000,'FORMATO N° 5_XX'!$AB$43)+\nCOUNTIFS('BD-SOC'!$T$15:$T$30000,'FORMATO N° 5_XX'!B66,'BD-SOC'!$I$15:$I$30000,'FORMATO N° 5_XX'!$AB$43)+\nCOUNTIFS('BD-SOC'!$V$15:$V$30000,'FORMATO N° 5_XX'!B66,'BD-SOC'!$I$15:$I$30000,'FORMATO N° 5_XX'!$AB$43)+\nCOUNTIFS('BD-SOC'!$X$15:$X$30000,'FORMATO N° 5_XX'!B66,'BD-SOC'!$I$15:$I$30000,'FORMATO N° 5_XX'!$AB$43)+\nCOUNTIFS('BD-SOC'!$Z$15:$Z$30000,'FORMATO N° 5_XX'!B66,'BD-SOC'!$I$15:$I$30000,'FORMATO N° 5_XX'!$AB$43)+\nCOUNTIFS('BD-SOC'!$AB$15:$AB$30000,'FORMATO N° 5_XX'!B66,'BD-SOC'!$I$15:$I$30000,'FORMATO N° 5_XX'!$AB$43)","v":0},{"$f":"COUNTIFS('BD-SOC'!$P$15:$P$30000,'FORMATO N° 5_XX'!B66,'BD-SOC'!$I$15:$I$30000,'FORMATO N° 5_XX'!$AC$43)+\nCOUNTIFS('BD-SOC'!$R$15:$R$30000,'FORMATO N° 5_XX'!B66,'BD-SOC'!$I$15:$I$30000,'FORMATO N° 5_XX'!$AC$43)+\nCOUNTIFS('BD-SOC'!$T$15:$T$30000,'FORMATO N° 5_XX'!B66,'BD-SOC'!$I$15:$I$30000,'FORMATO N° 5_XX'!$AC$43)+\nCOUNTIFS('BD-SOC'!$V$15:$V$30000,'FORMATO N° 5_XX'!B66,'BD-SOC'!$I$15:$I$30000,'FORMATO N° 5_XX'!$AC$43)+\nCOUNTIFS('BD-SOC'!$X$15:$X$30000,'FORMATO N° 5_XX'!B66,'BD-SOC'!$I$15:$I$30000,'FORMATO N° 5_XX'!$AC$43)+\nCOUNTIFS('BD-SOC'!$Z$15:$Z$30000,'FORMATO N° 5_XX'!B66,'BD-SOC'!$I$15:$I$30000,'FORMATO N° 5_XX'!$AC$43)+\nCOUNTIFS('BD-SOC'!$AB$15:$AB$30000,'FORMATO N° 5_XX'!B66,'BD-SOC'!$I$15:$I$30000,'FORMATO N° 5_XX'!$AC$43)","v":0},{"$f":"COUNTIFS('BD-SOC'!$P$15:$P$30000,'FORMATO N° 5_XX'!B66,'BD-SOC'!$I$15:$I$30000,'FORMATO N° 5_XX'!$AD$43)+\nCOUNTIFS('BD-SOC'!$R$15:$R$30000,'FORMATO N° 5_XX'!B66,'BD-SOC'!$I$15:$I$30000,'FORMATO N° 5_XX'!$AD$43)+\nCOUNTIFS('BD-SOC'!$T$15:$T$30000,'FORMATO N° 5_XX'!B66,'BD-SOC'!$I$15:$I$30000,'FORMATO N° 5_XX'!$AD$43)+\nCOUNTIFS('BD-SOC'!$V$15:$V$30000,'FORMATO N° 5_XX'!B66,'BD-SOC'!$I$15:$I$30000,'FORMATO N° 5_XX'!$AD$43)+\nCOUNTIFS('BD-SOC'!$X$15:$X$30000,'FORMATO N° 5_XX'!B66,'BD-SOC'!$I$15:$I$30000,'FORMATO N° 5_XX'!$AD$43)+\nCOUNTIFS('BD-SOC'!$Z$15:$Z$30000,'FORMATO N° 5_XX'!B66,'BD-SOC'!$I$15:$I$30000,'FORMATO N° 5_XX'!$AD$43)+\nCOUNTIFS('BD-SOC'!$AB$15:$AB$30000,'FORMATO N° 5_XX'!B66,'BD-SOC'!$I$15:$I$30000,'FORMATO N° 5_XX'!$AD$43)","v":0},{"$f":"COUNTIFS('BD-SOC'!$P$15:$P$30000,'FORMATO N° 5_XX'!B66,'BD-SOC'!$I$15:$I$30000,'FORMATO N° 5_XX'!$AE$43)+\nCOUNTIFS('BD-SOC'!$R$15:$R$30000,'FORMATO N° 5_XX'!B66,'BD-SOC'!$I$15:$I$30000,'FORMATO N° 5_XX'!$AE$43)+\nCOUNTIFS('BD-SOC'!$T$15:$T$30000,'FORMATO N° 5_XX'!B66,'BD-SOC'!$I$15:$I$30000,'FORMATO N° 5_XX'!$AE$43)+\nCOUNTIFS('BD-SOC'!$V$15:$V$30000,'FORMATO N° 5_XX'!B66,'BD-SOC'!$I$15:$I$30000,'FORMATO N° 5_XX'!$AE$43)+\nCOUNTIFS('BD-SOC'!$X$15:$X$30000,'FORMATO N° 5_XX'!B66,'BD-SOC'!$I$15:$I$30000,'FORMATO N° 5_XX'!$AE$43)+\nCOUNTIFS('BD-SOC'!$Z$15:$Z$30000,'FORMATO N° 5_XX'!B66,'BD-SOC'!$I$15:$I$30000,'FORMATO N° 5_XX'!$AE$43)+\nCOUNTIFS('BD-SOC'!$AB$15:$AB$30000,'FORMATO N° 5_XX'!B66,'BD-SOC'!$I$15:$I$30000,'FORMATO N° 5_XX'!$AE$43)","v":0}]
[null,212,"OTROS INFORMES",null,null,null,null,null,{"$error":"#REF!"},{"$f":"COUNTIFS('BD-SOC'!$P$15:$P$30000,'FORMATO N° 5_XX'!B67,'BD-SOC'!#REF!,'FORMATO N° 5_XX'!$J$43)+\nCOUNTIFS('BD-SOC'!$R$15:$R$30000,'FORMATO N° 5_XX'!B67,'BD-SOC'!#REF!,'FORMATO N° 5_XX'!$J$43)+\nCOUNTIFS('BD-SOC'!$T$15:$T$30000,'FORMATO N° 5_XX'!B67,'BD-SOC'!#REF!,'FORMATO N° 5_XX'!$J$43)+\nCOUNTIFS('BD-SOC'!$V$15:$V$30000,'FORMATO N° 5_XX'!B67,'BD-SOC'!#REF!,'FORMATO N° 5_XX'!$J$43)+\nCOUNTIFS('BD-SOC'!$X$15:$X$30000,'FORMATO N° 5_XX'!B67,'BD-SOC'!#REF!,'FORMATO N° 5_XX'!$J$43)+\nCOUNTIFS('BD-SOC'!$Z$15:$Z$30000,'FORMATO N° 5_XX'!B67,'BD-SOC'!#REF!,'FORMATO N° 5_XX'!$J$43)+\nCOUNTIFS('BD-SOC'!$AB$15:$AB$30000,'FORMATO N° 5_XX'!B67,'BD-SOC'!#REF!,'FORMATO N° 5_XX'!$J$43)","v":{"$error":"#REF!"}},{"$f":"COUNTIFS('BD-SOC'!$P$15:$P$30000,'FORMATO N° 5_XX'!B67,'BD-SOC'!#REF!,'FORMATO N° 5_XX'!$K$43)+\nCOUNTIFS('BD-SOC'!$R$15:$R$30000,'FORMATO N° 5_XX'!B67,'BD-SOC'!#REF!,'FORMATO N° 5_XX'!$K$43)+\nCOUNTIFS('BD-SOC'!$T$15:$T$30000,'FORMATO N° 5_XX'!B67,'BD-SOC'!#REF!,'FORMATO N° 5_XX'!$K$43)+\nCOUNTIFS('BD-SOC'!$V$15:$V$30000,'FORMATO N° 5_XX'!B67,'BD-SOC'!#REF!,'FORMATO N° 5_XX'!$K$43)+\nCOUNTIFS('BD-SOC'!$X$15:$X$30000,'FORMATO N° 5_XX'!B67,'BD-SOC'!#REF!,'FORMATO N° 5_XX'!$K$43)+\nCOUNTIFS('BD-SOC'!$Z$15:$Z$30000,'FORMATO N° 5_XX'!B67,'BD-SOC'!#REF!,'FORMATO N° 5_XX'!$K$43)+\nCOUNTIFS('BD-SOC'!$AB$15:$AB$30000,'FORMATO N° 5_XX'!B67,'BD-SOC'!#REF!,'FORMATO N° 5_XX'!$K$43)","v":{"$error":"#REF!"}},{"$f":"COUNTIFS('BD-SOC'!$P$15:$P$30000,'FORMATO N° 5_XX'!B67,'BD-SOC'!#REF!,'FORMATO N° 5_XX'!$L$43)+\nCOUNTIFS('BD-SOC'!$R$15:$R$30000,'FORMATO N° 5_XX'!B67,'BD-SOC'!#REF!,'FORMATO N° 5_XX'!$L$43)+\nCOUNTIFS('BD-SOC'!$T$15:$T$30000,'FORMATO N° 5_XX'!B67,'BD-SOC'!#REF!,'FORMATO N° 5_XX'!$L$43)+\nCOUNTIFS('BD-SOC'!$V$15:$V$30000,'FORMATO N° 5_XX'!B67,'BD-SOC'!#REF!,'FORMATO N° 5_XX'!$L$43)+\nCOUNTIFS('BD-SOC'!$X$15:$X$30000,'FORMATO N° 5_XX'!B67,'BD-SOC'!#REF!,'FORMATO N° 5_XX'!$L$43)+\nCOUNTIFS('BD-SOC'!$Z$15:$Z$30000,'FORMATO N° 5_XX'!B67,'BD-SOC'!#REF!,'FORMATO N° 5_XX'!$L$43)+\nCOUNTIFS('BD-SOC'!$AB$15:$AB$30000,'FORMATO N° 5_XX'!B67,'BD-SOC'!#REF!,'FORMATO N° 5_XX'!$L$43)","v":{"$error":"#REF!"}},{"$f":"COUNTIFS('BD-SOC'!$P$15:$P$30000,'FORMATO N° 5_XX'!B67,'BD-SOC'!#REF!,'FORMATO N° 5_XX'!$M$44)+\nCOUNTIFS('BD-SOC'!$R$15:$R$30000,'FORMATO N° 5_XX'!B67,'BD-SOC'!#REF!,'FORMATO N° 5_XX'!$M$44)+\nCOUNTIFS('BD-SOC'!$T$15:$T$30000,'FORMATO N° 5_XX'!B67,'BD-SOC'!#REF!,'FORMATO N° 5_XX'!$M$44)+\nCOUNTIFS('BD-SOC'!$V$15:$V$30000,'FORMATO N° 5_XX'!B67,'BD-SOC'!#REF!,'FORMATO N° 5_XX'!$M$44)+\nCOUNTIFS('BD-SOC'!$X$15:$X$30000,'FORMATO N° 5_XX'!B67,'BD-SOC'!#REF!,'FORMATO N° 5_XX'!$M$44)+\nCOUNTIFS('BD-SOC'!$Z$15:$Z$30000,'FORMATO N° 5_XX'!B67,'BD-SOC'!#REF!,'FORMATO N° 5_XX'!$M$44)+\nCOUNTIFS('BD-SOC'!$AB$15:$AB$30000,'FORMATO N° 5_XX'!B67,'BD-SOC'!#REF!,'FORMATO N° 5_XX'!$M$44)","v":{"$error":"#REF!"}},{"$f":"COUNTIFS('BD-SOC'!$P$15:$P$30000,'FORMATO N° 5_XX'!B67,'BD-SOC'!#REF!,'FORMATO N° 5_XX'!$N$44)+\nCOUNTIFS('BD-SOC'!$R$15:$R$30000,'FORMATO N° 5_XX'!B67,'BD-SOC'!#REF!,'FORMATO N° 5_XX'!$N$44)+\nCOUNTIFS('BD-SOC'!$T$15:$T$30000,'FORMATO N° 5_XX'!B67,'BD-SOC'!#REF!,'FORMATO N° 5_XX'!$N$44)+\nCOUNTIFS('BD-SOC'!$V$15:$V$30000,'FORMATO N° 5_XX'!B67,'BD-SOC'!#REF!,'FORMATO N° 5_XX'!$N$44)+\nCOUNTIFS('BD-SOC'!$X$15:$X$30000,'FORMATO N° 5_XX'!B67,'BD-SOC'!#REF!,'FORMATO N° 5_XX'!$N$44)+\nCOUNTIFS('BD-SOC'!$Z$15:$Z$30000,'FORMATO N° 5_XX'!B67,'BD-SOC'!#REF!,'FORMATO N° 5_XX'!$N$44)+\nCOUNTIFS('BD-SOC'!$AB$15:$AB$30000,'FORMATO N° 5_XX'!B67,'BD-SOC'!#REF!,'FORMATO N° 5_XX'!$N$44)","v":{"$error":"#REF!"}},{"$f":"COUNTIFS('BD-SOC'!$P$15:$P$30000,'FORMATO N° 5_XX'!B67,'BD-SOC'!#REF!,'FORMATO N° 5_XX'!$O$44)+\nCOUNTIFS('BD-SOC'!$R$15:$R$30000,'FORMATO N° 5_XX'!B67,'BD-SOC'!#REF!,'FORMATO N° 5_XX'!$O$44)+\nCOUNTIFS('BD-SOC'!$T$15:$T$30000,'FORMATO N° 5_XX'!B67,'BD-SOC'!#REF!,'FORMATO N° 5_XX'!$O$44)+\nCOUNTIFS('BD-SOC'!$V$15:$V$30000,'FORMATO N° 5_XX'!B67,'BD-SOC'!#REF!,'FORMATO N° 5_XX'!$O$44)+\nCOUNTIFS('BD-SOC'!$X$15:$X$30000,'FORMATO N° 5_XX'!B67,'BD-SOC'!#REF!,'FORMATO N° 5_XX'!$O$44)+\nCOUNTIFS('BD-SOC'!$Z$15:$Z$30000,'FORMATO N° 5_XX'!B67,'BD-SOC'!#REF!,'FORMATO N° 5_XX'!$O$44)+\nCOUNTIFS('BD-SOC'!$AB$15:$AB$30000,'FORMATO N° 5_XX'!B67,'BD-SOC'!#REF!,'FORMATO N° 5_XX'!$O$44)","v":{"$error":"#REF!"}},{"$f":"COUNTIFS('BD-SOC'!$P$15:$P$30000,'FORMATO N° 5_XX'!B67,'BD-SOC'!#REF!,'FORMATO N° 5_XX'!$P$44)+\nCOUNTIFS('BD-SOC'!$R$15:$R$30000,'FORMATO N° 5_XX'!B67,'BD-SOC'!#REF!,'FORMATO N° 5_XX'!$P$44)+\nCOUNTIFS('BD-SOC'!$T$15:$T$30000,'FORMATO N° 5_XX'!B67,'BD-SOC'!#REF!,'FORMATO N° 5_XX'!$P$44)+\nCOUNTIFS('BD-SOC'!$V$15:$V$30000,'FORMATO N° 5_XX'!B67,'BD-SOC'!#REF!,'FORMATO N° 5_XX'!$P$44)+\nCOUNTIFS('BD-SOC'!$X$15:$X$30000,'FORMATO N° 5_XX'!B67,'BD-SOC'!#REF!,'FORMATO N° 5_XX'!$P$44)+\nCOUNTIFS('BD-SOC'!$Z$15:$Z$30000,'FORMATO N° 5_XX'!B67,'BD-SOC'!#REF!,'FORMATO N° 5_XX'!$P$44)+\nCOUNTIFS('BD-SOC'!$AB$15:$AB$30000,'FORMATO N° 5_XX'!B67,'BD-SOC'!#REF!,'FORMATO N° 5_XX'!$P$44)","v":{"$error":"#REF!"}},{"$f":"COUNTIFS('BD-SOC'!$P$15:$P$30000,'FORMATO N° 5_XX'!B67,'BD-SOC'!#REF!,'FORMATO N° 5_XX'!$Q$44)+\nCOUNTIFS('BD-SOC'!$R$15:$R$30000,'FORMATO N° 5_XX'!B67,'BD-SOC'!#REF!,'FORMATO N° 5_XX'!$Q$44)+\nCOUNTIFS('BD-SOC'!$T$15:$T$30000,'FORMATO N° 5_XX'!B67,'BD-SOC'!#REF!,'FORMATO N° 5_XX'!$Q$44)+\nCOUNTIFS('BD-SOC'!$V$15:$V$30000,'FORMATO N° 5_XX'!B67,'BD-SOC'!#REF!,'FORMATO N° 5_XX'!$Q$44)+\nCOUNTIFS('BD-SOC'!$X$15:$X$30000,'FORMATO N° 5_XX'!B67,'BD-SOC'!#REF!,'FORMATO N° 5_XX'!$Q$44)+\nCOUNTIFS('BD-SOC'!$Z$15:$Z$30000,'FORMATO N° 5_XX'!B67,'BD-SOC'!#REF!,'FORMATO N° 5_XX'!$Q$44)+\nCOUNTIFS('BD-SOC'!$AB$15:$AB$30000,'FORMATO N° 5_XX'!B67,'BD-SOC'!#REF!,'FORMATO N° 5_XX'!$Q$44)","v":{"$error":"#REF!"}},{"$f":"COUNTIFS('BD-SOC'!$P$15:$P$30000,'FORMATO N° 5_XX'!B67,'BD-SOC'!#REF!,'FORMATO N° 5_XX'!$R$44)+\nCOUNTIFS('BD-SOC'!$R$15:$R$30000,'FORMATO N° 5_XX'!B67,'BD-SOC'!#REF!,'FORMATO N° 5_XX'!$R$44)+\nCOUNTIFS('BD-SOC'!$T$15:$T$30000,'FORMATO N° 5_XX'!B67,'BD-SOC'!#REF!,'FORMATO N° 5_XX'!$R$44)+\nCOUNTIFS('BD-SOC'!$V$15:$V$30000,'FORMATO N° 5_XX'!B67,'BD-SOC'!#REF!,'FORMATO N° 5_XX'!$R$44)+\nCOUNTIFS('BD-SOC'!$X$15:$X$30000,'FORMATO N° 5_XX'!B67,'BD-SOC'!#REF!,'FORMATO N° 5_XX'!$R$44)+\nCOUNTIFS('BD-SOC'!$Z$15:$Z$30000,'FORMATO N° 5_XX'!B67,'BD-SOC'!#REF!,'FORMATO N° 5_XX'!$R$44)+\nCOUNTIFS('BD-SOC'!$AB$15:$AB$30000,'FORMATO N° 5_XX'!B67,'BD-SOC'!#REF!,'FORMATO N° 5_XX'!$R$44)","v":{"$error":"#REF!"}},{"$f":"COUNTIFS('BD-SOC'!$P$15:$P$30000,'FORMATO N° 5_XX'!B67,'BD-SOC'!#REF!,'FORMATO N° 5_XX'!$S$43)+\nCOUNTIFS('BD-SOC'!$R$15:$R$30000,'FORMATO N° 5_XX'!B67,'BD-SOC'!#REF!,'FORMATO N° 5_XX'!$S$43)+\nCOUNTIFS('BD-SOC'!$T$15:$T$30000,'FORMATO N° 5_XX'!B67,'BD-SOC'!#REF!,'FORMATO N° 5_XX'!$S$43)+\nCOUNTIFS('BD-SOC'!$V$15:$V$30000,'FORMATO N° 5_XX'!B67,'BD-SOC'!#REF!,'FORMATO N° 5_XX'!$S$43)+\nCOUNTIFS('BD-SOC'!$X$15:$X$30000,'FORMATO N° 5_XX'!B67,'BD-SOC'!#REF!,'FORMATO N° 5_XX'!$S$43)+\nCOUNTIFS('BD-SOC'!$Z$15:$Z$30000,'FORMATO N° 5_XX'!B67,'BD-SOC'!#REF!,'FORMATO N° 5_XX'!$S$43)+\nCOUNTIFS('BD-SOC'!$AB$15:$AB$30000,'FORMATO N° 5_XX'!B67,'BD-SOC'!#REF!,'FORMATO N° 5_XX'!$S$43)","v":{"$error":"#REF!"}},{"$f":"COUNTIFS('BD-SOC'!$P$15:$P$30000,'FORMATO N° 5_XX'!B67,'BD-SOC'!#REF!,'FORMATO N° 5_XX'!$T$43)+\nCOUNTIFS('BD-SOC'!$R$15:$R$30000,'FORMATO N° 5_XX'!B67,'BD-SOC'!#REF!,'FORMATO N° 5_XX'!$T$43)+\nCOUNTIFS('BD-SOC'!$T$15:$T$30000,'FORMATO N° 5_XX'!B67,'BD-SOC'!#REF!,'FORMATO N° 5_XX'!$T$43)+\nCOUNTIFS('BD-SOC'!$V$15:$V$30000,'FORMATO N° 5_XX'!B67,'BD-SOC'!#REF!,'FORMATO N° 5_XX'!$T$43)+\nCOUNTIFS('BD-SOC'!$X$15:$X$30000,'FORMATO N° 5_XX'!B67,'BD-SOC'!#REF!,'FORMATO N° 5_XX'!$T$43)+\nCOUNTIFS('BD-SOC'!$Z$15:$Z$30000,'FORMATO N° 5_XX'!B67,'BD-SOC'!#REF!,'FORMATO N° 5_XX'!$T$43)+\nCOUNTIFS('BD-SOC'!$AB$15:$AB$30000,'FORMATO N° 5_XX'!B67,'BD-SOC'!#REF!,'FORMATO N° 5_XX'!$T$43)","v":{"$error":"#REF!"}},0,{"$f":"COUNTIFS('BD-SOC'!$P$15:$P$30000,'FORMATO N° 5_XX'!B67,'BD-SOC'!$I$15:$I$30000,'FORMATO N° 5_XX'!$V$43)+\nCOUNTIFS('BD-SOC'!$R$15:$R$30000,'FORMATO N° 5_XX'!B67,'BD-SOC'!$I$15:$I$30000,'FORMATO N° 5_XX'!$V$43)+\nCOUNTIFS('BD-SOC'!$T$15:$T$30000,'FORMATO N° 5_XX'!B67,'BD-SOC'!$I$15:$I$30000,'FORMATO N° 5_XX'!$V$43)+\nCOUNTIFS('BD-SOC'!$V$15:$V$30000,'FORMATO N° 5_XX'!B67,'BD-SOC'!$I$15:$I$30000,'FORMATO N° 5_XX'!$V$43)+\nCOUNTIFS('BD-SOC'!$X$15:$X$30000,'FORMATO N° 5_XX'!B67,'BD-SOC'!$I$15:$I$30000,'FORMATO N° 5_XX'!$V$43)+\nCOUNTIFS('BD-SOC'!$Z$15:$Z$30000,'FORMATO N° 5_XX'!B67,'BD-SOC'!$I$15:$I$30000,'FORMATO N° 5_XX'!$V$43)+\nCOUNTIFS('BD-SOC'!$AB$15:$AB$30000,'FORMATO N° 5_XX'!B67,'BD-SOC'!$I$15:$I$30000,'FORMATO N° 5_XX'!$V$43)","v":0},{"$f":"COUNTIFS('BD-SOC'!$P$15:$P$30000,'FORMATO N° 5_XX'!B67,'BD-SOC'!$I$15:$I$30000,'FORMATO N° 5_XX'!$W$43)+\nCOUNTIFS('BD-SOC'!$R$15:$R$30000,'FORMATO N° 5_XX'!B67,'BD-SOC'!$I$15:$I$30000,'FORMATO N° 5_XX'!$W$43)+\nCOUNTIFS('BD-SOC'!$T$15:$T$30000,'FORMATO N° 5_XX'!B67,'BD-SOC'!$I$15:$I$30000,'FORMATO N° 5_XX'!$W$43)+\nCOUNTIFS('BD-SOC'!$V$15:$V$30000,'FORMATO N° 5_XX'!B67,'BD-SOC'!$I$15:$I$30000,'FORMATO N° 5_XX'!$W$43)+\nCOUNTIFS('BD-SOC'!$X$15:$X$30000,'FORMATO N° 5_XX'!B67,'BD-SOC'!$I$15:$I$30000,'FORMATO N° 5_XX'!$W$43)+\nCOUNTIFS('BD-SOC'!$Z$15:$Z$30000,'FORMATO N° 5_XX'!B67,'BD-SOC'!$I$15:$I$30000,'FORMATO N° 5_XX'!$W$43)+\nCOUNTIFS('BD-SOC'!$AB$15:$AB$30000,'FORMATO N° 5_XX'!B67,'BD-SOC'!$I$15:$I$30000,'FORMATO N° 5_XX'!$W$43)","v":0},{"$f":"COUNTIFS('BD-SOC'!$P$15:$P$30000,'FORMATO N° 5_XX'!B67,'BD-SOC'!$I$15:$I$30000,'FORMATO N° 5_XX'!$X$43)+\nCOUNTIFS('BD-SOC'!$R$15:$R$30000,'FORMATO N° 5_XX'!B67,'BD-SOC'!$I$15:$I$30000,'FORMATO N° 5_XX'!$X$43)+\nCOUNTIFS('BD-SOC'!$T$15:$T$30000,'FORMATO N° 5_XX'!B67,'BD-SOC'!$I$15:$I$30000,'FORMATO N° 5_XX'!$X$43)+\nCOUNTIFS('BD-SOC'!$V$15:$V$30000,'FORMATO N° 5_XX'!B67,'BD-SOC'!$I$15:$I$30000,'FORMATO N° 5_XX'!$X$43)+\nCOUNTIFS('BD-SOC'!$X$15:$X$30000,'FORMATO N° 5_XX'!B67,'BD-SOC'!$I$15:$I$30000,'FORMATO N° 5_XX'!$X$43)+\nCOUNTIFS('BD-SOC'!$Z$15:$Z$30000,'FORMATO N° 5_XX'!B67,'BD-SOC'!$I$15:$I$30000,'FORMATO N° 5_XX'!$X$43)+\nCOUNTIFS('BD-SOC'!$AB$15:$AB$30000,'FORMATO N° 5_XX'!B67,'BD-SOC'!$I$15:$I$30000,'FORMATO N° 5_XX'!$X$43)","v":0},{"$f":"COUNTIFS('BD-SOC'!$P$15:$P$30000,'FORMATO N° 5_XX'!B67,'BD-SOC'!$I$15:$I$30000,'FORMATO N° 5_XX'!$Y$43)+\nCOUNTIFS('BD-SOC'!$R$15:$R$30000,'FORMATO N° 5_XX'!B67,'BD-SOC'!$I$15:$I$30000,'FORMATO N° 5_XX'!$Y$43)+\nCOUNTIFS('BD-SOC'!$T$15:$T$30000,'FORMATO N° 5_XX'!B67,'BD-SOC'!$I$15:$I$30000,'FORMATO N° 5_XX'!$Y$43)+\nCOUNTIFS('BD-SOC'!$V$15:$V$30000,'FORMATO N° 5_XX'!B67,'BD-SOC'!$I$15:$I$30000,'FORMATO N° 5_XX'!$Y$43)+\nCOUNTIFS('BD-SOC'!$X$15:$X$30000,'FORMATO N° 5_XX'!B67,'BD-SOC'!$I$15:$I$30000,'FORMATO N° 5_XX'!$Y$43)+\nCOUNTIFS('BD-SOC'!$Z$15:$Z$30000,'FORMATO N° 5_XX'!B67,'BD-SOC'!$I$15:$I$30000,'FORMATO N° 5_XX'!$Y$43)+\nCOUNTIFS('BD-SOC'!$AB$15:$AB$30000,'FORMATO N° 5_XX'!B67,'BD-SOC'!$I$15:$I$30000,'FORMATO N° 5_XX'!$Y$43)","v":0},{"$f":"COUNTIFS('BD-SOC'!$P$15:$P$30000,'FORMATO N° 5_XX'!B67,'BD-SOC'!$I$15:$I$30000,'FORMATO N° 5_XX'!$Z$43)+\nCOUNTIFS('BD-SOC'!$R$15:$R$30000,'FORMATO N° 5_XX'!B67,'BD-SOC'!$I$15:$I$30000,'FORMATO N° 5_XX'!$Z$43)+\nCOUNTIFS('BD-SOC'!$T$15:$T$30000,'FORMATO N° 5_XX'!B67,'BD-SOC'!$I$15:$I$30000,'FORMATO N° 5_XX'!$Z$43)+\nCOUNTIFS('BD-SOC'!$V$15:$V$30000,'FORMATO N° 5_XX'!B67,'BD-SOC'!$I$15:$I$30000,'FORMATO N° 5_XX'!$Z$43)+\nCOUNTIFS('BD-SOC'!$X$15:$X$30000,'FORMATO N° 5_XX'!B67,'BD-SOC'!$I$15:$I$30000,'FORMATO N° 5_XX'!$Z$43)+\nCOUNTIFS('BD-SOC'!$Z$15:$Z$30000,'FORMATO N° 5_XX'!B67,'BD-SOC'!$I$15:$I$30000,'FORMATO N° 5_XX'!$Z$43)+\nCOUNTIFS('BD-SOC'!$AB$15:$AB$30000,'FORMATO N° 5_XX'!B67,'BD-SOC'!$I$15:$I$30000,'FORMATO N° 5_XX'!$Z$43)","v":0},{"$f":"COUNTIFS('BD-SOC'!$P$15:$P$30000,'FORMATO N° 5_XX'!B67,'BD-SOC'!$I$15:$I$30000,'FORMATO N° 5_XX'!$AA$43)+\nCOUNTIFS('BD-SOC'!$R$15:$R$30000,'FORMATO N° 5_XX'!B67,'BD-SOC'!$I$15:$I$30000,'FORMATO N° 5_XX'!$AA$43)+\nCOUNTIFS('BD-SOC'!$T$15:$T$30000,'FORMATO N° 5_XX'!B67,'BD-SOC'!$I$15:$I$30000,'FORMATO N° 5_XX'!$AA$43)+\nCOUNTIFS('BD-SOC'!$V$15:$V$30000,'FORMATO N° 5_XX'!B67,'BD-SOC'!$I$15:$I$30000,'FORMATO N° 5_XX'!$AA$43)+\nCOUNTIFS('BD-SOC'!$X$15:$X$30000,'FORMATO N° 5_XX'!B67,'BD-SOC'!$I$15:$I$30000,'FORMATO N° 5_XX'!$AA$43)+\nCOUNTIFS('BD-SOC'!$Z$15:$Z$30000,'FORMATO N° 5_XX'!B67,'BD-SOC'!$I$15:$I$30000,'FORMATO N° 5_XX'!$AA$43)+\nCOUNTIFS('BD-SOC'!$AB$15:$AB$30000,'FORMATO N° 5_XX'!B67,'BD-SOC'!$I$15:$I$30000,'FORMATO N° 5_XX'!$AA$43)","v":0},{"$f":"COUNTIFS('BD-SOC'!$P$15:$P$30000,'FORMATO N° 5_XX'!B67,'BD-SOC'!$I$15:$I$30000,'FORMATO N° 5_XX'!$AB$43)+\nCOUNTIFS('BD-SOC'!$R$15:$R$30000,'FORMATO N° 5_XX'!B67,'BD-SOC'!$I$15:$I$30000,'FORMATO N° 5_XX'!$AB$43)+\nCOUNTIFS('BD-SOC'!$T$15:$T$30000,'FORMATO N° 5_XX'!B67,'BD-SOC'!$I$15:$I$30000,'FORMATO N° 5_XX'!$AB$43)+\nCOUNTIFS('BD-SOC'!$V$15:$V$30000,'FORMATO N° 5_XX'!B67,'BD-SOC'!$I$15:$I$30000,'FORMATO N° 5_XX'!$AB$43)+\nCOUNTIFS('BD-SOC'!$X$15:$X$30000,'FORMATO N° 5_XX'!B67,'BD-SOC'!$I$15:$I$30000,'FORMATO N° 5_XX'!$AB$43)+\nCOUNTIFS('BD-SOC'!$Z$15:$Z$30000,'FORMATO N° 5_XX'!B67,'BD-SOC'!$I$15:$I$30000,'FORMATO N° 5_XX'!$AB$43)+\nCOUNTIFS('BD-SOC'!$AB$15:$AB$30000,'FORMATO N° 5_XX'!B67,'BD-SOC'!$I$15:$I$30000,'FORMATO N° 5_XX'!$AB$43)","v":0},{"$f":"COUNTIFS('BD-SOC'!$P$15:$P$30000,'FORMATO N° 5_XX'!B67,'BD-SOC'!$I$15:$I$30000,'FORMATO N° 5_XX'!$AC$43)+\nCOUNTIFS('BD-SOC'!$R$15:$R$30000,'FORMATO N° 5_XX'!B67,'BD-SOC'!$I$15:$I$30000,'FORMATO N° 5_XX'!$AC$43)+\nCOUNTIFS('BD-SOC'!$T$15:$T$30000,'FORMATO N° 5_XX'!B67,'BD-SOC'!$I$15:$I$30000,'FORMATO N° 5_XX'!$AC$43)+\nCOUNTIFS('BD-SOC'!$V$15:$V$30000,'FORMATO N° 5_XX'!B67,'BD-SOC'!$I$15:$I$30000,'FORMATO N° 5_XX'!$AC$43)+\nCOUNTIFS('BD-SOC'!$X$15:$X$30000,'FORMATO N° 5_XX'!B67,'BD-SOC'!$I$15:$I$30000,'FORMATO N° 5_XX'!$AC$43)+\nCOUNTIFS('BD-SOC'!$Z$15:$Z$30000,'FORMATO N° 5_XX'!B67,'BD-SOC'!$I$15:$I$30000,'FORMATO N° 5_XX'!$AC$43)+\nCOUNTIFS('BD-SOC'!$AB$15:$AB$30000,'FORMATO N° 5_XX'!B67,'BD-SOC'!$I$15:$I$30000,'FORMATO N° 5_XX'!$AC$43)","v":0},{"$f":"COUNTIFS('BD-SOC'!$P$15:$P$30000,'FORMATO N° 5_XX'!B67,'BD-SOC'!$I$15:$I$30000,'FORMATO N° 5_XX'!$AD$43)+\nCOUNTIFS('BD-SOC'!$R$15:$R$30000,'FORMATO N° 5_XX'!B67,'BD-SOC'!$I$15:$I$30000,'FORMATO N° 5_XX'!$AD$43)+\nCOUNTIFS('BD-SOC'!$T$15:$T$30000,'FORMATO N° 5_XX'!B67,'BD-SOC'!$I$15:$I$30000,'FORMATO N° 5_XX'!$AD$43)+\nCOUNTIFS('BD-SOC'!$V$15:$V$30000,'FORMATO N° 5_XX'!B67,'BD-SOC'!$I$15:$I$30000,'FORMATO N° 5_XX'!$AD$43)+\nCOUNTIFS('BD-SOC'!$X$15:$X$30000,'FORMATO N° 5_XX'!B67,'BD-SOC'!$I$15:$I$30000,'FORMATO N° 5_XX'!$AD$43)+\nCOUNTIFS('BD-SOC'!$Z$15:$Z$30000,'FORMATO N° 5_XX'!B67,'BD-SOC'!$I$15:$I$30000,'FORMATO N° 5_XX'!$AD$43)+\nCOUNTIFS('BD-SOC'!$AB$15:$AB$30000,'FORMATO N° 5_XX'!B67,'BD-SOC'!$I$15:$I$30000,'FORMATO N° 5_XX'!$AD$43)","v":0},{"$f":"COUNTIFS('BD-SOC'!$P$15:$P$30000,'FORMATO N° 5_XX'!B67,'BD-SOC'!$I$15:$I$30000,'FORMATO N° 5_XX'!$AE$43)+\nCOUNTIFS('BD-SOC'!$R$15:$R$30000,'FORMATO N° 5_XX'!B67,'BD-SOC'!$I$15:$I$30000,'FORMATO N° 5_XX'!$AE$43)+\nCOUNTIFS('BD-SOC'!$T$15:$T$30000,'FORMATO N° 5_XX'!B67,'BD-SOC'!$I$15:$I$30000,'FORMATO N° 5_XX'!$AE$43)+\nCOUNTIFS('BD-SOC'!$V$15:$V$30000,'FORMATO N° 5_XX'!B67,'BD-SOC'!$I$15:$I$30000,'FORMATO N° 5_XX'!$AE$43)+\nCOUNTIFS('BD-SOC'!$X$15:$X$30000,'FORMATO N° 5_XX'!B67,'BD-SOC'!$I$15:$I$30000,'FORMATO N° 5_XX'!$AE$43)+\nCOUNTIFS('BD-SOC'!$Z$15:$Z$30000,'FORMATO N° 5_XX'!B67,'BD-SOC'!$I$15:$I$30000,'FORMATO N° 5_XX'!$AE$43)+\nCOUNTIFS('BD-SOC'!$AB$15:$AB$30000,'FORMATO N° 5_XX'!B67,'BD-SOC'!$I$15:$I$30000,'FORMATO N° 5_XX'!$AE$43)","v":0}]
["GESTIONES",301,"INSCRIPCIÓN AL SIS",null,null,null,null,null,{"$error":"#REF!"},{"$f":"COUNTIFS('BD-SOC'!$P$15:$P$30000,'FORMATO N° 5_XX'!B68,'BD-SOC'!#REF!,'FORMATO N° 5_XX'!$J$43)+\nCOUNTIFS('BD-SOC'!$R$15:$R$30000,'FORMATO N° 5_XX'!B68,'BD-SOC'!#REF!,'FORMATO N° 5_XX'!$J$43)+\nCOUNTIFS('BD-SOC'!$T$15:$T$30000,'FORMATO N° 5_XX'!B68,'BD-SOC'!#REF!,'FORMATO N° 5_XX'!$J$43)+\nCOUNTIFS('BD-SOC'!$V$15:$V$30000,'FORMATO N° 5_XX'!B68,'BD-SOC'!#REF!,'FORMATO N° 5_XX'!$J$43)+\nCOUNTIFS('BD-SOC'!$X$15:$X$30000,'FORMATO N° 5_XX'!B68,'BD-SOC'!#REF!,'FORMATO N° 5_XX'!$J$43)+\nCOUNTIFS('BD-SOC'!$Z$15:$Z$30000,'FORMATO N° 5_XX'!B68,'BD-SOC'!#REF!,'FORMATO N° 5_XX'!$J$43)+\nCOUNTIFS('BD-SOC'!$AB$15:$AB$30000,'FORMATO N° 5_XX'!B68,'BD-SOC'!#REF!,'FORMATO N° 5_XX'!$J$43)","v":{"$error":"#REF!"}},{"$f":"COUNTIFS('BD-SOC'!$P$15:$P$30000,'FORMATO N° 5_XX'!B68,'BD-SOC'!#REF!,'FORMATO N° 5_XX'!$K$43)+\nCOUNTIFS('BD-SOC'!$R$15:$R$30000,'FORMATO N° 5_XX'!B68,'BD-SOC'!#REF!,'FORMATO N° 5_XX'!$K$43)+\nCOUNTIFS('BD-SOC'!$T$15:$T$30000,'FORMATO N° 5_XX'!B68,'BD-SOC'!#REF!,'FORMATO N° 5_XX'!$K$43)+\nCOUNTIFS('BD-SOC'!$V$15:$V$30000,'FORMATO N° 5_XX'!B68,'BD-SOC'!#REF!,'FORMATO N° 5_XX'!$K$43)+\nCOUNTIFS('BD-SOC'!$X$15:$X$30000,'FORMATO N° 5_XX'!B68,'BD-SOC'!#REF!,'FORMATO N° 5_XX'!$K$43)+\nCOUNTIFS('BD-SOC'!$Z$15:$Z$30000,'FORMATO N° 5_XX'!B68,'BD-SOC'!#REF!,'FORMATO N° 5_XX'!$K$43)+\nCOUNTIFS('BD-SOC'!$AB$15:$AB$30000,'FORMATO N° 5_XX'!B68,'BD-SOC'!#REF!,'FORMATO N° 5_XX'!$K$43)","v":{"$error":"#REF!"}},{"$f":"COUNTIFS('BD-SOC'!$P$15:$P$30000,'FORMATO N° 5_XX'!B68,'BD-SOC'!#REF!,'FORMATO N° 5_XX'!$L$43)+\nCOUNTIFS('BD-SOC'!$R$15:$R$30000,'FORMATO N° 5_XX'!B68,'BD-SOC'!#REF!,'FORMATO N° 5_XX'!$L$43)+\nCOUNTIFS('BD-SOC'!$T$15:$T$30000,'FORMATO N° 5_XX'!B68,'BD-SOC'!#REF!,'FORMATO N° 5_XX'!$L$43)+\nCOUNTIFS('BD-SOC'!$V$15:$V$30000,'FORMATO N° 5_XX'!B68,'BD-SOC'!#REF!,'FORMATO N° 5_XX'!$L$43)+\nCOUNTIFS('BD-SOC'!$X$15:$X$30000,'FORMATO N° 5_XX'!B68,'BD-SOC'!#REF!,'FORMATO N° 5_XX'!$L$43)+\nCOUNTIFS('BD-SOC'!$Z$15:$Z$30000,'FORMATO N° 5_XX'!B68,'BD-SOC'!#REF!,'FORMATO N° 5_XX'!$L$43)+\nCOUNTIFS('BD-SOC'!$AB$15:$AB$30000,'FORMATO N° 5_XX'!B68,'BD-SOC'!#REF!,'FORMATO N° 5_XX'!$L$43)","v":{"$error":"#REF!"}},{"$f":"COUNTIFS('BD-SOC'!$P$15:$P$30000,'FORMATO N° 5_XX'!B68,'BD-SOC'!#REF!,'FORMATO N° 5_XX'!$M$44)+\nCOUNTIFS('BD-SOC'!$R$15:$R$30000,'FORMATO N° 5_XX'!B68,'BD-SOC'!#REF!,'FORMATO N° 5_XX'!$M$44)+\nCOUNTIFS('BD-SOC'!$T$15:$T$30000,'FORMATO N° 5_XX'!B68,'BD-SOC'!#REF!,'FORMATO N° 5_XX'!$M$44)+\nCOUNTIFS('BD-SOC'!$V$15:$V$30000,'FORMATO N° 5_XX'!B68,'BD-SOC'!#REF!,'FORMATO N° 5_XX'!$M$44)+\nCOUNTIFS('BD-SOC'!$X$15:$X$30000,'FORMATO N° 5_XX'!B68,'BD-SOC'!#REF!,'FORMATO N° 5_XX'!$M$44)+\nCOUNTIFS('BD-SOC'!$Z$15:$Z$30000,'FORMATO N° 5_XX'!B68,'BD-SOC'!#REF!,'FORMATO N° 5_XX'!$M$44)+\nCOUNTIFS('BD-SOC'!$AB$15:$AB$30000,'FORMATO N° 5_XX'!B68,'BD-SOC'!#REF!,'FORMATO N° 5_XX'!$M$44)","v":{"$error":"#REF!"}},{"$f":"COUNTIFS('BD-SOC'!$P$15:$P$30000,'FORMATO N° 5_XX'!B68,'BD-SOC'!#REF!,'FORMATO N° 5_XX'!$N$44)+\nCOUNTIFS('BD-SOC'!$R$15:$R$30000,'FORMATO N° 5_XX'!B68,'BD-SOC'!#REF!,'FORMATO N° 5_XX'!$N$44)+\nCOUNTIFS('BD-SOC'!$T$15:$T$30000,'FORMATO N° 5_XX'!B68,'BD-SOC'!#REF!,'FORMATO N° 5_XX'!$N$44)+\nCOUNTIFS('BD-SOC'!$V$15:$V$30000,'FORMATO N° 5_XX'!B68,'BD-SOC'!#REF!,'FORMATO N° 5_XX'!$N$44)+\nCOUNTIFS('BD-SOC'!$X$15:$X$30000,'FORMATO N° 5_XX'!B68,'BD-SOC'!#REF!,'FORMATO N° 5_XX'!$N$44)+\nCOUNTIFS('BD-SOC'!$Z$15:$Z$30000,'FORMATO N° 5_XX'!B68,'BD-SOC'!#REF!,'FORMATO N° 5_XX'!$N$44)+\nCOUNTIFS('BD-SOC'!$AB$15:$AB$30000,'FORMATO N° 5_XX'!B68,'BD-SOC'!#REF!,'FORMATO N° 5_XX'!$N$44)","v":{"$error":"#REF!"}},{"$f":"COUNTIFS('BD-SOC'!$P$15:$P$30000,'FORMATO N° 5_XX'!B68,'BD-SOC'!#REF!,'FORMATO N° 5_XX'!$O$44)+\nCOUNTIFS('BD-SOC'!$R$15:$R$30000,'FORMATO N° 5_XX'!B68,'BD-SOC'!#REF!,'FORMATO N° 5_XX'!$O$44)+\nCOUNTIFS('BD-SOC'!$T$15:$T$30000,'FORMATO N° 5_XX'!B68,'BD-SOC'!#REF!,'FORMATO N° 5_XX'!$O$44)+\nCOUNTIFS('BD-SOC'!$V$15:$V$30000,'FORMATO N° 5_XX'!B68,'BD-SOC'!#REF!,'FORMATO N° 5_XX'!$O$44)+\nCOUNTIFS('BD-SOC'!$X$15:$X$30000,'FORMATO N° 5_XX'!B68,'BD-SOC'!#REF!,'FORMATO N° 5_XX'!$O$44)+\nCOUNTIFS('BD-SOC'!$Z$15:$Z$30000,'FORMATO N° 5_XX'!B68,'BD-SOC'!#REF!,'FORMATO N° 5_XX'!$O$44)+\nCOUNTIFS('BD-SOC'!$AB$15:$AB$30000,'FORMATO N° 5_XX'!B68,'BD-SOC'!#REF!,'FORMATO N° 5_XX'!$O$44)","v":{"$error":"#REF!"}},{"$f":"COUNTIFS('BD-SOC'!$P$15:$P$30000,'FORMATO N° 5_XX'!B68,'BD-SOC'!#REF!,'FORMATO N° 5_XX'!$P$44)+\nCOUNTIFS('BD-SOC'!$R$15:$R$30000,'FORMATO N° 5_XX'!B68,'BD-SOC'!#REF!,'FORMATO N° 5_XX'!$P$44)+\nCOUNTIFS('BD-SOC'!$T$15:$T$30000,'FORMATO N° 5_XX'!B68,'BD-SOC'!#REF!,'FORMATO N° 5_XX'!$P$44)+\nCOUNTIFS('BD-SOC'!$V$15:$V$30000,'FORMATO N° 5_XX'!B68,'BD-SOC'!#REF!,'FORMATO N° 5_XX'!$P$44)+\nCOUNTIFS('BD-SOC'!$X$15:$X$30000,'FORMATO N° 5_XX'!B68,'BD-SOC'!#REF!,'FORMATO N° 5_XX'!$P$44)+\nCOUNTIFS('BD-SOC'!$Z$15:$Z$30000,'FORMATO N° 5_XX'!B68,'BD-SOC'!#REF!,'FORMATO N° 5_XX'!$P$44)+\nCOUNTIFS('BD-SOC'!$AB$15:$AB$30000,'FORMATO N° 5_XX'!B68,'BD-SOC'!#REF!,'FORMATO N° 5_XX'!$P$44)","v":{"$error":"#REF!"}},{"$f":"COUNTIFS('BD-SOC'!$P$15:$P$30000,'FORMATO N° 5_XX'!B68,'BD-SOC'!#REF!,'FORMATO N° 5_XX'!$Q$44)+\nCOUNTIFS('BD-SOC'!$R$15:$R$30000,'FORMATO N° 5_XX'!B68,'BD-SOC'!#REF!,'FORMATO N° 5_XX'!$Q$44)+\nCOUNTIFS('BD-SOC'!$T$15:$T$30000,'FORMATO N° 5_XX'!B68,'BD-SOC'!#REF!,'FORMATO N° 5_XX'!$Q$44)+\nCOUNTIFS('BD-SOC'!$V$15:$V$30000,'FORMATO N° 5_XX'!B68,'BD-SOC'!#REF!,'FORMATO N° 5_XX'!$Q$44)+\nCOUNTIFS('BD-SOC'!$X$15:$X$30000,'FORMATO N° 5_XX'!B68,'BD-SOC'!#REF!,'FORMATO N° 5_XX'!$Q$44)+\nCOUNTIFS('BD-SOC'!$Z$15:$Z$30000,'FORMATO N° 5_XX'!B68,'BD-SOC'!#REF!,'FORMATO N° 5_XX'!$Q$44)+\nCOUNTIFS('BD-SOC'!$AB$15:$AB$30000,'FORMATO N° 5_XX'!B68,'BD-SOC'!#REF!,'FORMATO N° 5_XX'!$Q$44)","v":{"$error":"#REF!"}},{"$f":"COUNTIFS('BD-SOC'!$P$15:$P$30000,'FORMATO N° 5_XX'!B68,'BD-SOC'!#REF!,'FORMATO N° 5_XX'!$R$44)+\nCOUNTIFS('BD-SOC'!$R$15:$R$30000,'FORMATO N° 5_XX'!B68,'BD-SOC'!#REF!,'FORMATO N° 5_XX'!$R$44)+\nCOUNTIFS('BD-SOC'!$T$15:$T$30000,'FORMATO N° 5_XX'!B68,'BD-SOC'!#REF!,'FORMATO N° 5_XX'!$R$44)+\nCOUNTIFS('BD-SOC'!$V$15:$V$30000,'FORMATO N° 5_XX'!B68,'BD-SOC'!#REF!,'FORMATO N° 5_XX'!$R$44)+\nCOUNTIFS('BD-SOC'!$X$15:$X$30000,'FORMATO N° 5_XX'!B68,'BD-SOC'!#REF!,'FORMATO N° 5_XX'!$R$44)+\nCOUNTIFS('BD-SOC'!$Z$15:$Z$30000,'FORMATO N° 5_XX'!B68,'BD-SOC'!#REF!,'FORMATO N° 5_XX'!$R$44)+\nCOUNTIFS('BD-SOC'!$AB$15:$AB$30000,'FORMATO N° 5_XX'!B68,'BD-SOC'!#REF!,'FORMATO N° 5_XX'!$R$44)","v":{"$error":"#REF!"}},{"$f":"COUNTIFS('BD-SOC'!$P$15:$P$30000,'FORMATO N° 5_XX'!B68,'BD-SOC'!#REF!,'FORMATO N° 5_XX'!$S$43)+\nCOUNTIFS('BD-SOC'!$R$15:$R$30000,'FORMATO N° 5_XX'!B68,'BD-SOC'!#REF!,'FORMATO N° 5_XX'!$S$43)+\nCOUNTIFS('BD-SOC'!$T$15:$T$30000,'FORMATO N° 5_XX'!B68,'BD-SOC'!#REF!,'FORMATO N° 5_XX'!$S$43)+\nCOUNTIFS('BD-SOC'!$V$15:$V$30000,'FORMATO N° 5_XX'!B68,'BD-SOC'!#REF!,'FORMATO N° 5_XX'!$S$43)+\nCOUNTIFS('BD-SOC'!$X$15:$X$30000,'FORMATO N° 5_XX'!B68,'BD-SOC'!#REF!,'FORMATO N° 5_XX'!$S$43)+\nCOUNTIFS('BD-SOC'!$Z$15:$Z$30000,'FORMATO N° 5_XX'!B68,'BD-SOC'!#REF!,'FORMATO N° 5_XX'!$S$43)+\nCOUNTIFS('BD-SOC'!$AB$15:$AB$30000,'FORMATO N° 5_XX'!B68,'BD-SOC'!#REF!,'FORMATO N° 5_XX'!$S$43)","v":{"$error":"#REF!"}},{"$f":"COUNTIFS('BD-SOC'!$P$15:$P$30000,'FORMATO N° 5_XX'!B68,'BD-SOC'!#REF!,'FORMATO N° 5_XX'!$T$43)+\nCOUNTIFS('BD-SOC'!$R$15:$R$30000,'FORMATO N° 5_XX'!B68,'BD-SOC'!#REF!,'FORMATO N° 5_XX'!$T$43)+\nCOUNTIFS('BD-SOC'!$T$15:$T$30000,'FORMATO N° 5_XX'!B68,'BD-SOC'!#REF!,'FORMATO N° 5_XX'!$T$43)+\nCOUNTIFS('BD-SOC'!$V$15:$V$30000,'FORMATO N° 5_XX'!B68,'BD-SOC'!#REF!,'FORMATO N° 5_XX'!$T$43)+\nCOUNTIFS('BD-SOC'!$X$15:$X$30000,'FORMATO N° 5_XX'!B68,'BD-SOC'!#REF!,'FORMATO N° 5_XX'!$T$43)+\nCOUNTIFS('BD-SOC'!$Z$15:$Z$30000,'FORMATO N° 5_XX'!B68,'BD-SOC'!#REF!,'FORMATO N° 5_XX'!$T$43)+\nCOUNTIFS('BD-SOC'!$AB$15:$AB$30000,'FORMATO N° 5_XX'!B68,'BD-SOC'!#REF!,'FORMATO N° 5_XX'!$T$43)","v":{"$error":"#REF!"}},0,{"$f":"COUNTIFS('BD-SOC'!$P$15:$P$30000,'FORMATO N° 5_XX'!B68,'BD-SOC'!$I$15:$I$30000,'FORMATO N° 5_XX'!$V$43)+\nCOUNTIFS('BD-SOC'!$R$15:$R$30000,'FORMATO N° 5_XX'!B68,'BD-SOC'!$I$15:$I$30000,'FORMATO N° 5_XX'!$V$43)+\nCOUNTIFS('BD-SOC'!$T$15:$T$30000,'FORMATO N° 5_XX'!B68,'BD-SOC'!$I$15:$I$30000,'FORMATO N° 5_XX'!$V$43)+\nCOUNTIFS('BD-SOC'!$V$15:$V$30000,'FORMATO N° 5_XX'!B68,'BD-SOC'!$I$15:$I$30000,'FORMATO N° 5_XX'!$V$43)+\nCOUNTIFS('BD-SOC'!$X$15:$X$30000,'FORMATO N° 5_XX'!B68,'BD-SOC'!$I$15:$I$30000,'FORMATO N° 5_XX'!$V$43)+\nCOUNTIFS('BD-SOC'!$Z$15:$Z$30000,'FORMATO N° 5_XX'!B68,'BD-SOC'!$I$15:$I$30000,'FORMATO N° 5_XX'!$V$43)+\nCOUNTIFS('BD-SOC'!$AB$15:$AB$30000,'FORMATO N° 5_XX'!B68,'BD-SOC'!$I$15:$I$30000,'FORMATO N° 5_XX'!$V$43)","v":0},{"$f":"COUNTIFS('BD-SOC'!$P$15:$P$30000,'FORMATO N° 5_XX'!B68,'BD-SOC'!$I$15:$I$30000,'FORMATO N° 5_XX'!$W$43)+\nCOUNTIFS('BD-SOC'!$R$15:$R$30000,'FORMATO N° 5_XX'!B68,'BD-SOC'!$I$15:$I$30000,'FORMATO N° 5_XX'!$W$43)+\nCOUNTIFS('BD-SOC'!$T$15:$T$30000,'FORMATO N° 5_XX'!B68,'BD-SOC'!$I$15:$I$30000,'FORMATO N° 5_XX'!$W$43)+\nCOUNTIFS('BD-SOC'!$V$15:$V$30000,'FORMATO N° 5_XX'!B68,'BD-SOC'!$I$15:$I$30000,'FORMATO N° 5_XX'!$W$43)+\nCOUNTIFS('BD-SOC'!$X$15:$X$30000,'FORMATO N° 5_XX'!B68,'BD-SOC'!$I$15:$I$30000,'FORMATO N° 5_XX'!$W$43)+\nCOUNTIFS('BD-SOC'!$Z$15:$Z$30000,'FORMATO N° 5_XX'!B68,'BD-SOC'!$I$15:$I$30000,'FORMATO N° 5_XX'!$W$43)+\nCOUNTIFS('BD-SOC'!$AB$15:$AB$30000,'FORMATO N° 5_XX'!B68,'BD-SOC'!$I$15:$I$30000,'FORMATO N° 5_XX'!$W$43)","v":0},{"$f":"COUNTIFS('BD-SOC'!$P$15:$P$30000,'FORMATO N° 5_XX'!B68,'BD-SOC'!$I$15:$I$30000,'FORMATO N° 5_XX'!$X$43)+\nCOUNTIFS('BD-SOC'!$R$15:$R$30000,'FORMATO N° 5_XX'!B68,'BD-SOC'!$I$15:$I$30000,'FORMATO N° 5_XX'!$X$43)+\nCOUNTIFS('BD-SOC'!$T$15:$T$30000,'FORMATO N° 5_XX'!B68,'BD-SOC'!$I$15:$I$30000,'FORMATO N° 5_XX'!$X$43)+\nCOUNTIFS('BD-SOC'!$V$15:$V$30000,'FORMATO N° 5_XX'!B68,'BD-SOC'!$I$15:$I$30000,'FORMATO N° 5_XX'!$X$43)+\nCOUNTIFS('BD-SOC'!$X$15:$X$30000,'FORMATO N° 5_XX'!B68,'BD-SOC'!$I$15:$I$30000,'FORMATO N° 5_XX'!$X$43)+\nCOUNTIFS('BD-SOC'!$Z$15:$Z$30000,'FORMATO N° 5_XX'!B68,'BD-SOC'!$I$15:$I$30000,'FORMATO N° 5_XX'!$X$43)+\nCOUNTIFS('BD-SOC'!$AB$15:$AB$30000,'FORMATO N° 5_XX'!B68,'BD-SOC'!$I$15:$I$30000,'FORMATO N° 5_XX'!$X$43)","v":0},{"$f":"COUNTIFS('BD-SOC'!$P$15:$P$30000,'FORMATO N° 5_XX'!B68,'BD-SOC'!$I$15:$I$30000,'FORMATO N° 5_XX'!$Y$43)+\nCOUNTIFS('BD-SOC'!$R$15:$R$30000,'FORMATO N° 5_XX'!B68,'BD-SOC'!$I$15:$I$30000,'FORMATO N° 5_XX'!$Y$43)+\nCOUNTIFS('BD-SOC'!$T$15:$T$30000,'FORMATO N° 5_XX'!B68,'BD-SOC'!$I$15:$I$30000,'FORMATO N° 5_XX'!$Y$43)+\nCOUNTIFS('BD-SOC'!$V$15:$V$30000,'FORMATO N° 5_XX'!B68,'BD-SOC'!$I$15:$I$30000,'FORMATO N° 5_XX'!$Y$43)+\nCOUNTIFS('BD-SOC'!$X$15:$X$30000,'FORMATO N° 5_XX'!B68,'BD-SOC'!$I$15:$I$30000,'FORMATO N° 5_XX'!$Y$43)+\nCOUNTIFS('BD-SOC'!$Z$15:$Z$30000,'FORMATO N° 5_XX'!B68,'BD-SOC'!$I$15:$I$30000,'FORMATO N° 5_XX'!$Y$43)+\nCOUNTIFS('BD-SOC'!$AB$15:$AB$30000,'FORMATO N° 5_XX'!B68,'BD-SOC'!$I$15:$I$30000,'FORMATO N° 5_XX'!$Y$43)","v":0},{"$f":"COUNTIFS('BD-SOC'!$P$15:$P$30000,'FORMATO N° 5_XX'!B68,'BD-SOC'!$I$15:$I$30000,'FORMATO N° 5_XX'!$Z$43)+\nCOUNTIFS('BD-SOC'!$R$15:$R$30000,'FORMATO N° 5_XX'!B68,'BD-SOC'!$I$15:$I$30000,'FORMATO N° 5_XX'!$Z$43)+\nCOUNTIFS('BD-SOC'!$T$15:$T$30000,'FORMATO N° 5_XX'!B68,'BD-SOC'!$I$15:$I$30000,'FORMATO N° 5_XX'!$Z$43)+\nCOUNTIFS('BD-SOC'!$V$15:$V$30000,'FORMATO N° 5_XX'!B68,'BD-SOC'!$I$15:$I$30000,'FORMATO N° 5_XX'!$Z$43)+\nCOUNTIFS('BD-SOC'!$X$15:$X$30000,'FORMATO N° 5_XX'!B68,'BD-SOC'!$I$15:$I$30000,'FORMATO N° 5_XX'!$Z$43)+\nCOUNTIFS('BD-SOC'!$Z$15:$Z$30000,'FORMATO N° 5_XX'!B68,'BD-SOC'!$I$15:$I$30000,'FORMATO N° 5_XX'!$Z$43)+\nCOUNTIFS('BD-SOC'!$AB$15:$AB$30000,'FORMATO N° 5_XX'!B68,'BD-SOC'!$I$15:$I$30000,'FORMATO N° 5_XX'!$Z$43)","v":0},{"$f":"COUNTIFS('BD-SOC'!$P$15:$P$30000,'FORMATO N° 5_XX'!B68,'BD-SOC'!$I$15:$I$30000,'FORMATO N° 5_XX'!$AA$43)+\nCOUNTIFS('BD-SOC'!$R$15:$R$30000,'FORMATO N° 5_XX'!B68,'BD-SOC'!$I$15:$I$30000,'FORMATO N° 5_XX'!$AA$43)+\nCOUNTIFS('BD-SOC'!$T$15:$T$30000,'FORMATO N° 5_XX'!B68,'BD-SOC'!$I$15:$I$30000,'FORMATO N° 5_XX'!$AA$43)+\nCOUNTIFS('BD-SOC'!$V$15:$V$30000,'FORMATO N° 5_XX'!B68,'BD-SOC'!$I$15:$I$30000,'FORMATO N° 5_XX'!$AA$43)+\nCOUNTIFS('BD-SOC'!$X$15:$X$30000,'FORMATO N° 5_XX'!B68,'BD-SOC'!$I$15:$I$30000,'FORMATO N° 5_XX'!$AA$43)+\nCOUNTIFS('BD-SOC'!$Z$15:$Z$30000,'FORMATO N° 5_XX'!B68,'BD-SOC'!$I$15:$I$30000,'FORMATO N° 5_XX'!$AA$43)+\nCOUNTIFS('BD-SOC'!$AB$15:$AB$30000,'FORMATO N° 5_XX'!B68,'BD-SOC'!$I$15:$I$30000,'FORMATO N° 5_XX'!$AA$43)","v":0},{"$f":"COUNTIFS('BD-SOC'!$P$15:$P$30000,'FORMATO N° 5_XX'!B68,'BD-SOC'!$I$15:$I$30000,'FORMATO N° 5_XX'!$AB$43)+\nCOUNTIFS('BD-SOC'!$R$15:$R$30000,'FORMATO N° 5_XX'!B68,'BD-SOC'!$I$15:$I$30000,'FORMATO N° 5_XX'!$AB$43)+\nCOUNTIFS('BD-SOC'!$T$15:$T$30000,'FORMATO N° 5_XX'!B68,'BD-SOC'!$I$15:$I$30000,'FORMATO N° 5_XX'!$AB$43)+\nCOUNTIFS('BD-SOC'!$V$15:$V$30000,'FORMATO N° 5_XX'!B68,'BD-SOC'!$I$15:$I$30000,'FORMATO N° 5_XX'!$AB$43)+\nCOUNTIFS('BD-SOC'!$X$15:$X$30000,'FORMATO N° 5_XX'!B68,'BD-SOC'!$I$15:$I$30000,'FORMATO N° 5_XX'!$AB$43)+\nCOUNTIFS('BD-SOC'!$Z$15:$Z$30000,'FORMATO N° 5_XX'!B68,'BD-SOC'!$I$15:$I$30000,'FORMATO N° 5_XX'!$AB$43)+\nCOUNTIFS('BD-SOC'!$AB$15:$AB$30000,'FORMATO N° 5_XX'!B68,'BD-SOC'!$I$15:$I$30000,'FORMATO N° 5_XX'!$AB$43)","v":0},{"$f":"COUNTIFS('BD-SOC'!$P$15:$P$30000,'FORMATO N° 5_XX'!B68,'BD-SOC'!$I$15:$I$30000,'FORMATO N° 5_XX'!$AC$43)+\nCOUNTIFS('BD-SOC'!$R$15:$R$30000,'FORMATO N° 5_XX'!B68,'BD-SOC'!$I$15:$I$30000,'FORMATO N° 5_XX'!$AC$43)+\nCOUNTIFS('BD-SOC'!$T$15:$T$30000,'FORMATO N° 5_XX'!B68,'BD-SOC'!$I$15:$I$30000,'FORMATO N° 5_XX'!$AC$43)+\nCOUNTIFS('BD-SOC'!$V$15:$V$30000,'FORMATO N° 5_XX'!B68,'BD-SOC'!$I$15:$I$30000,'FORMATO N° 5_XX'!$AC$43)+\nCOUNTIFS('BD-SOC'!$X$15:$X$30000,'FORMATO N° 5_XX'!B68,'BD-SOC'!$I$15:$I$30000,'FORMATO N° 5_XX'!$AC$43)+\nCOUNTIFS('BD-SOC'!$Z$15:$Z$30000,'FORMATO N° 5_XX'!B68,'BD-SOC'!$I$15:$I$30000,'FORMATO N° 5_XX'!$AC$43)+\nCOUNTIFS('BD-SOC'!$AB$15:$AB$30000,'FORMATO N° 5_XX'!B68,'BD-SOC'!$I$15:$I$30000,'FORMATO N° 5_XX'!$AC$43)","v":0},{"$f":"COUNTIFS('BD-SOC'!$P$15:$P$30000,'FORMATO N° 5_XX'!B68,'BD-SOC'!$I$15:$I$30000,'FORMATO N° 5_XX'!$AD$43)+\nCOUNTIFS('BD-SOC'!$R$15:$R$30000,'FORMATO N° 5_XX'!B68,'BD-SOC'!$I$15:$I$30000,'FORMATO N° 5_XX'!$AD$43)+\nCOUNTIFS('BD-SOC'!$T$15:$T$30000,'FORMATO N° 5_XX'!B68,'BD-SOC'!$I$15:$I$30000,'FORMATO N° 5_XX'!$AD$43)+\nCOUNTIFS('BD-SOC'!$V$15:$V$30000,'FORMATO N° 5_XX'!B68,'BD-SOC'!$I$15:$I$30000,'FORMATO N° 5_XX'!$AD$43)+\nCOUNTIFS('BD-SOC'!$X$15:$X$30000,'FORMATO N° 5_XX'!B68,'BD-SOC'!$I$15:$I$30000,'FORMATO N° 5_XX'!$AD$43)+\nCOUNTIFS('BD-SOC'!$Z$15:$Z$30000,'FORMATO N° 5_XX'!B68,'BD-SOC'!$I$15:$I$30000,'FORMATO N° 5_XX'!$AD$43)+\nCOUNTIFS('BD-SOC'!$AB$15:$AB$30000,'FORMATO N° 5_XX'!B68,'BD-SOC'!$I$15:$I$30000,'FORMATO N° 5_XX'!$AD$43)","v":0},{"$f":"COUNTIFS('BD-SOC'!$P$15:$P$30000,'FORMATO N° 5_XX'!B68,'BD-SOC'!$I$15:$I$30000,'FORMATO N° 5_XX'!$AE$43)+\nCOUNTIFS('BD-SOC'!$R$15:$R$30000,'FORMATO N° 5_XX'!B68,'BD-SOC'!$I$15:$I$30000,'FORMATO N° 5_XX'!$AE$43)+\nCOUNTIFS('BD-SOC'!$T$15:$T$30000,'FORMATO N° 5_XX'!B68,'BD-SOC'!$I$15:$I$30000,'FORMATO N° 5_XX'!$AE$43)+\nCOUNTIFS('BD-SOC'!$V$15:$V$30000,'FORMATO N° 5_XX'!B68,'BD-SOC'!$I$15:$I$30000,'FORMATO N° 5_XX'!$AE$43)+\nCOUNTIFS('BD-SOC'!$X$15:$X$30000,'FORMATO N° 5_XX'!B68,'BD-SOC'!$I$15:$I$30000,'FORMATO N° 5_XX'!$AE$43)+\nCOUNTIFS('BD-SOC'!$Z$15:$Z$30000,'FORMATO N° 5_XX'!B68,'BD-SOC'!$I$15:$I$30000,'FORMATO N° 5_XX'!$AE$43)+\nCOUNTIFS('BD-SOC'!$AB$15:$AB$30000,'FORMATO N° 5_XX'!B68,'BD-SOC'!$I$15:$I$30000,'FORMATO N° 5_XX'!$AE$43)","v":0}]
[null,302,"GESTIÓN HOSPITALARIA",null,null,null,null,null,{"$error":"#REF!"},{"$f":"COUNTIFS('BD-SOC'!$P$15:$P$30000,'FORMATO N° 5_XX'!B69,'BD-SOC'!#REF!,'FORMATO N° 5_XX'!$J$43)+\nCOUNTIFS('BD-SOC'!$R$15:$R$30000,'FORMATO N° 5_XX'!B69,'BD-SOC'!#REF!,'FORMATO N° 5_XX'!$J$43)+\nCOUNTIFS('BD-SOC'!$T$15:$T$30000,'FORMATO N° 5_XX'!B69,'BD-SOC'!#REF!,'FORMATO N° 5_XX'!$J$43)+\nCOUNTIFS('BD-SOC'!$V$15:$V$30000,'FORMATO N° 5_XX'!B69,'BD-SOC'!#REF!,'FORMATO N° 5_XX'!$J$43)+\nCOUNTIFS('BD-SOC'!$X$15:$X$30000,'FORMATO N° 5_XX'!B69,'BD-SOC'!#REF!,'FORMATO N° 5_XX'!$J$43)+\nCOUNTIFS('BD-SOC'!$Z$15:$Z$30000,'FORMATO N° 5_XX'!B69,'BD-SOC'!#REF!,'FORMATO N° 5_XX'!$J$43)+\nCOUNTIFS('BD-SOC'!$AB$15:$AB$30000,'FORMATO N° 5_XX'!B69,'BD-SOC'!#REF!,'FORMATO N° 5_XX'!$J$43)","v":{"$error":"#REF!"}},{"$f":"COUNTIFS('BD-SOC'!$P$15:$P$30000,'FORMATO N° 5_XX'!B69,'BD-SOC'!#REF!,'FORMATO N° 5_XX'!$K$43)+\nCOUNTIFS('BD-SOC'!$R$15:$R$30000,'FORMATO N° 5_XX'!B69,'BD-SOC'!#REF!,'FORMATO N° 5_XX'!$K$43)+\nCOUNTIFS('BD-SOC'!$T$15:$T$30000,'FORMATO N° 5_XX'!B69,'BD-SOC'!#REF!,'FORMATO N° 5_XX'!$K$43)+\nCOUNTIFS('BD-SOC'!$V$15:$V$30000,'FORMATO N° 5_XX'!B69,'BD-SOC'!#REF!,'FORMATO N° 5_XX'!$K$43)+\nCOUNTIFS('BD-SOC'!$X$15:$X$30000,'FORMATO N° 5_XX'!B69,'BD-SOC'!#REF!,'FORMATO N° 5_XX'!$K$43)+\nCOUNTIFS('BD-SOC'!$Z$15:$Z$30000,'FORMATO N° 5_XX'!B69,'BD-SOC'!#REF!,'FORMATO N° 5_XX'!$K$43)+\nCOUNTIFS('BD-SOC'!$AB$15:$AB$30000,'FORMATO N° 5_XX'!B69,'BD-SOC'!#REF!,'FORMATO N° 5_XX'!$K$43)","v":{"$error":"#REF!"}},{"$f":"COUNTIFS('BD-SOC'!$P$15:$P$30000,'FORMATO N° 5_XX'!B69,'BD-SOC'!#REF!,'FORMATO N° 5_XX'!$L$43)+\nCOUNTIFS('BD-SOC'!$R$15:$R$30000,'FORMATO N° 5_XX'!B69,'BD-SOC'!#REF!,'FORMATO N° 5_XX'!$L$43)+\nCOUNTIFS('BD-SOC'!$T$15:$T$30000,'FORMATO N° 5_XX'!B69,'BD-SOC'!#REF!,'FORMATO N° 5_XX'!$L$43)+\nCOUNTIFS('BD-SOC'!$V$15:$V$30000,'FORMATO N° 5_XX'!B69,'BD-SOC'!#REF!,'FORMATO N° 5_XX'!$L$43)+\nCOUNTIFS('BD-SOC'!$X$15:$X$30000,'FORMATO N° 5_XX'!B69,'BD-SOC'!#REF!,'FORMATO N° 5_XX'!$L$43)+\nCOUNTIFS('BD-SOC'!$Z$15:$Z$30000,'FORMATO N° 5_XX'!B69,'BD-SOC'!#REF!,'FORMATO N° 5_XX'!$L$43)+\nCOUNTIFS('BD-SOC'!$AB$15:$AB$30000,'FORMATO N° 5_XX'!B69,'BD-SOC'!#REF!,'FORMATO N° 5_XX'!$L$43)","v":{"$error":"#REF!"}},{"$f":"COUNTIFS('BD-SOC'!$P$15:$P$30000,'FORMATO N° 5_XX'!B69,'BD-SOC'!#REF!,'FORMATO N° 5_XX'!$M$44)+\nCOUNTIFS('BD-SOC'!$R$15:$R$30000,'FORMATO N° 5_XX'!B69,'BD-SOC'!#REF!,'FORMATO N° 5_XX'!$M$44)+\nCOUNTIFS('BD-SOC'!$T$15:$T$30000,'FORMATO N° 5_XX'!B69,'BD-SOC'!#REF!,'FORMATO N° 5_XX'!$M$44)+\nCOUNTIFS('BD-SOC'!$V$15:$V$30000,'FORMATO N° 5_XX'!B69,'BD-SOC'!#REF!,'FORMATO N° 5_XX'!$M$44)+\nCOUNTIFS('BD-SOC'!$X$15:$X$30000,'FORMATO N° 5_XX'!B69,'BD-SOC'!#REF!,'FORMATO N° 5_XX'!$M$44)+\nCOUNTIFS('BD-SOC'!$Z$15:$Z$30000,'FORMATO N° 5_XX'!B69,'BD-SOC'!#REF!,'FORMATO N° 5_XX'!$M$44)+\nCOUNTIFS('BD-SOC'!$AB$15:$AB$30000,'FORMATO N° 5_XX'!B69,'BD-SOC'!#REF!,'FORMATO N° 5_XX'!$M$44)","v":{"$error":"#REF!"}},{"$f":"COUNTIFS('BD-SOC'!$P$15:$P$30000,'FORMATO N° 5_XX'!B69,'BD-SOC'!#REF!,'FORMATO N° 5_XX'!$N$44)+\nCOUNTIFS('BD-SOC'!$R$15:$R$30000,'FORMATO N° 5_XX'!B69,'BD-SOC'!#REF!,'FORMATO N° 5_XX'!$N$44)+\nCOUNTIFS('BD-SOC'!$T$15:$T$30000,'FORMATO N° 5_XX'!B69,'BD-SOC'!#REF!,'FORMATO N° 5_XX'!$N$44)+\nCOUNTIFS('BD-SOC'!$V$15:$V$30000,'FORMATO N° 5_XX'!B69,'BD-SOC'!#REF!,'FORMATO N° 5_XX'!$N$44)+\nCOUNTIFS('BD-SOC'!$X$15:$X$30000,'FORMATO N° 5_XX'!B69,'BD-SOC'!#REF!,'FORMATO N° 5_XX'!$N$44)+\nCOUNTIFS('BD-SOC'!$Z$15:$Z$30000,'FORMATO N° 5_XX'!B69,'BD-SOC'!#REF!,'FORMATO N° 5_XX'!$N$44)+\nCOUNTIFS('BD-SOC'!$AB$15:$AB$30000,'FORMATO N° 5_XX'!B69,'BD-SOC'!#REF!,'FORMATO N° 5_XX'!$N$44)","v":{"$error":"#REF!"}},{"$f":"COUNTIFS('BD-SOC'!$P$15:$P$30000,'FORMATO N° 5_XX'!B69,'BD-SOC'!#REF!,'FORMATO N° 5_XX'!$O$44)+\nCOUNTIFS('BD-SOC'!$R$15:$R$30000,'FORMATO N° 5_XX'!B69,'BD-SOC'!#REF!,'FORMATO N° 5_XX'!$O$44)+\nCOUNTIFS('BD-SOC'!$T$15:$T$30000,'FORMATO N° 5_XX'!B69,'BD-SOC'!#REF!,'FORMATO N° 5_XX'!$O$44)+\nCOUNTIFS('BD-SOC'!$V$15:$V$30000,'FORMATO N° 5_XX'!B69,'BD-SOC'!#REF!,'FORMATO N° 5_XX'!$O$44)+\nCOUNTIFS('BD-SOC'!$X$15:$X$30000,'FORMATO N° 5_XX'!B69,'BD-SOC'!#REF!,'FORMATO N° 5_XX'!$O$44)+\nCOUNTIFS('BD-SOC'!$Z$15:$Z$30000,'FORMATO N° 5_XX'!B69,'BD-SOC'!#REF!,'FORMATO N° 5_XX'!$O$44)+\nCOUNTIFS('BD-SOC'!$AB$15:$AB$30000,'FORMATO N° 5_XX'!B69,'BD-SOC'!#REF!,'FORMATO N° 5_XX'!$O$44)","v":{"$error":"#REF!"}},{"$f":"COUNTIFS('BD-SOC'!$P$15:$P$30000,'FORMATO N° 5_XX'!B69,'BD-SOC'!#REF!,'FORMATO N° 5_XX'!$P$44)+\nCOUNTIFS('BD-SOC'!$R$15:$R$30000,'FORMATO N° 5_XX'!B69,'BD-SOC'!#REF!,'FORMATO N° 5_XX'!$P$44)+\nCOUNTIFS('BD-SOC'!$T$15:$T$30000,'FORMATO N° 5_XX'!B69,'BD-SOC'!#REF!,'FORMATO N° 5_XX'!$P$44)+\nCOUNTIFS('BD-SOC'!$V$15:$V$30000,'FORMATO N° 5_XX'!B69,'BD-SOC'!#REF!,'FORMATO N° 5_XX'!$P$44)+\nCOUNTIFS('BD-SOC'!$X$15:$X$30000,'FORMATO N° 5_XX'!B69,'BD-SOC'!#REF!,'FORMATO N° 5_XX'!$P$44)+\nCOUNTIFS('BD-SOC'!$Z$15:$Z$30000,'FORMATO N° 5_XX'!B69,'BD-SOC'!#REF!,'FORMATO N° 5_XX'!$P$44)+\nCOUNTIFS('BD-SOC'!$AB$15:$AB$30000,'FORMATO N° 5_XX'!B69,'BD-SOC'!#REF!,'FORMATO N° 5_XX'!$P$44)","v":{"$error":"#REF!"}},{"$f":"COUNTIFS('BD-SOC'!$P$15:$P$30000,'FORMATO N° 5_XX'!B69,'BD-SOC'!#REF!,'FORMATO N° 5_XX'!$Q$44)+\nCOUNTIFS('BD-SOC'!$R$15:$R$30000,'FORMATO N° 5_XX'!B69,'BD-SOC'!#REF!,'FORMATO N° 5_XX'!$Q$44)+\nCOUNTIFS('BD-SOC'!$T$15:$T$30000,'FORMATO N° 5_XX'!B69,'BD-SOC'!#REF!,'FORMATO N° 5_XX'!$Q$44)+\nCOUNTIFS('BD-SOC'!$V$15:$V$30000,'FORMATO N° 5_XX'!B69,'BD-SOC'!#REF!,'FORMATO N° 5_XX'!$Q$44)+\nCOUNTIFS('BD-SOC'!$X$15:$X$30000,'FORMATO N° 5_XX'!B69,'BD-SOC'!#REF!,'FORMATO N° 5_XX'!$Q$44)+\nCOUNTIFS('BD-SOC'!$Z$15:$Z$30000,'FORMATO N° 5_XX'!B69,'BD-SOC'!#REF!,'FORMATO N° 5_XX'!$Q$44)+\nCOUNTIFS('BD-SOC'!$AB$15:$AB$30000,'FORMATO N° 5_XX'!B69,'BD-SOC'!#REF!,'FORMATO N° 5_XX'!$Q$44)","v":{"$error":"#REF!"}},{"$f":"COUNTIFS('BD-SOC'!$P$15:$P$30000,'FORMATO N° 5_XX'!B69,'BD-SOC'!#REF!,'FORMATO N° 5_XX'!$R$44)+\nCOUNTIFS('BD-SOC'!$R$15:$R$30000,'FORMATO N° 5_XX'!B69,'BD-SOC'!#REF!,'FORMATO N° 5_XX'!$R$44)+\nCOUNTIFS('BD-SOC'!$T$15:$T$30000,'FORMATO N° 5_XX'!B69,'BD-SOC'!#REF!,'FORMATO N° 5_XX'!$R$44)+\nCOUNTIFS('BD-SOC'!$V$15:$V$30000,'FORMATO N° 5_XX'!B69,'BD-SOC'!#REF!,'FORMATO N° 5_XX'!$R$44)+\nCOUNTIFS('BD-SOC'!$X$15:$X$30000,'FORMATO N° 5_XX'!B69,'BD-SOC'!#REF!,'FORMATO N° 5_XX'!$R$44)+\nCOUNTIFS('BD-SOC'!$Z$15:$Z$30000,'FORMATO N° 5_XX'!B69,'BD-SOC'!#REF!,'FORMATO N° 5_XX'!$R$44)+\nCOUNTIFS('BD-SOC'!$AB$15:$AB$30000,'FORMATO N° 5_XX'!B69,'BD-SOC'!#REF!,'FORMATO N° 5_XX'!$R$44)","v":{"$error":"#REF!"}},{"$f":"COUNTIFS('BD-SOC'!$P$15:$P$30000,'FORMATO N° 5_XX'!B69,'BD-SOC'!#REF!,'FORMATO N° 5_XX'!$S$43)+\nCOUNTIFS('BD-SOC'!$R$15:$R$30000,'FORMATO N° 5_XX'!B69,'BD-SOC'!#REF!,'FORMATO N° 5_XX'!$S$43)+\nCOUNTIFS('BD-SOC'!$T$15:$T$30000,'FORMATO N° 5_XX'!B69,'BD-SOC'!#REF!,'FORMATO N° 5_XX'!$S$43)+\nCOUNTIFS('BD-SOC'!$V$15:$V$30000,'FORMATO N° 5_XX'!B69,'BD-SOC'!#REF!,'FORMATO N° 5_XX'!$S$43)+\nCOUNTIFS('BD-SOC'!$X$15:$X$30000,'FORMATO N° 5_XX'!B69,'BD-SOC'!#REF!,'FORMATO N° 5_XX'!$S$43)+\nCOUNTIFS('BD-SOC'!$Z$15:$Z$30000,'FORMATO N° 5_XX'!B69,'BD-SOC'!#REF!,'FORMATO N° 5_XX'!$S$43)+\nCOUNTIFS('BD-SOC'!$AB$15:$AB$30000,'FORMATO N° 5_XX'!B69,'BD-SOC'!#REF!,'FORMATO N° 5_XX'!$S$43)","v":{"$error":"#REF!"}},{"$f":"COUNTIFS('BD-SOC'!$P$15:$P$30000,'FORMATO N° 5_XX'!B69,'BD-SOC'!#REF!,'FORMATO N° 5_XX'!$T$43)+\nCOUNTIFS('BD-SOC'!$R$15:$R$30000,'FORMATO N° 5_XX'!B69,'BD-SOC'!#REF!,'FORMATO N° 5_XX'!$T$43)+\nCOUNTIFS('BD-SOC'!$T$15:$T$30000,'FORMATO N° 5_XX'!B69,'BD-SOC'!#REF!,'FORMATO N° 5_XX'!$T$43)+\nCOUNTIFS('BD-SOC'!$V$15:$V$30000,'FORMATO N° 5_XX'!B69,'BD-SOC'!#REF!,'FORMATO N° 5_XX'!$T$43)+\nCOUNTIFS('BD-SOC'!$X$15:$X$30000,'FORMATO N° 5_XX'!B69,'BD-SOC'!#REF!,'FORMATO N° 5_XX'!$T$43)+\nCOUNTIFS('BD-SOC'!$Z$15:$Z$30000,'FORMATO N° 5_XX'!B69,'BD-SOC'!#REF!,'FORMATO N° 5_XX'!$T$43)+\nCOUNTIFS('BD-SOC'!$AB$15:$AB$30000,'FORMATO N° 5_XX'!B69,'BD-SOC'!#REF!,'FORMATO N° 5_XX'!$T$43)","v":{"$error":"#REF!"}},0,{"$f":"COUNTIFS('BD-SOC'!$P$15:$P$30000,'FORMATO N° 5_XX'!B69,'BD-SOC'!$I$15:$I$30000,'FORMATO N° 5_XX'!$V$43)+\nCOUNTIFS('BD-SOC'!$R$15:$R$30000,'FORMATO N° 5_XX'!B69,'BD-SOC'!$I$15:$I$30000,'FORMATO N° 5_XX'!$V$43)+\nCOUNTIFS('BD-SOC'!$T$15:$T$30000,'FORMATO N° 5_XX'!B69,'BD-SOC'!$I$15:$I$30000,'FORMATO N° 5_XX'!$V$43)+\nCOUNTIFS('BD-SOC'!$V$15:$V$30000,'FORMATO N° 5_XX'!B69,'BD-SOC'!$I$15:$I$30000,'FORMATO N° 5_XX'!$V$43)+\nCOUNTIFS('BD-SOC'!$X$15:$X$30000,'FORMATO N° 5_XX'!B69,'BD-SOC'!$I$15:$I$30000,'FORMATO N° 5_XX'!$V$43)+\nCOUNTIFS('BD-SOC'!$Z$15:$Z$30000,'FORMATO N° 5_XX'!B69,'BD-SOC'!$I$15:$I$30000,'FORMATO N° 5_XX'!$V$43)+\nCOUNTIFS('BD-SOC'!$AB$15:$AB$30000,'FORMATO N° 5_XX'!B69,'BD-SOC'!$I$15:$I$30000,'FORMATO N° 5_XX'!$V$43)","v":0},{"$f":"COUNTIFS('BD-SOC'!$P$15:$P$30000,'FORMATO N° 5_XX'!B69,'BD-SOC'!$I$15:$I$30000,'FORMATO N° 5_XX'!$W$43)+\nCOUNTIFS('BD-SOC'!$R$15:$R$30000,'FORMATO N° 5_XX'!B69,'BD-SOC'!$I$15:$I$30000,'FORMATO N° 5_XX'!$W$43)+\nCOUNTIFS('BD-SOC'!$T$15:$T$30000,'FORMATO N° 5_XX'!B69,'BD-SOC'!$I$15:$I$30000,'FORMATO N° 5_XX'!$W$43)+\nCOUNTIFS('BD-SOC'!$V$15:$V$30000,'FORMATO N° 5_XX'!B69,'BD-SOC'!$I$15:$I$30000,'FORMATO N° 5_XX'!$W$43)+\nCOUNTIFS('BD-SOC'!$X$15:$X$30000,'FORMATO N° 5_XX'!B69,'BD-SOC'!$I$15:$I$30000,'FORMATO N° 5_XX'!$W$43)+\nCOUNTIFS('BD-SOC'!$Z$15:$Z$30000,'FORMATO N° 5_XX'!B69,'BD-SOC'!$I$15:$I$30000,'FORMATO N° 5_XX'!$W$43)+\nCOUNTIFS('BD-SOC'!$AB$15:$AB$30000,'FORMATO N° 5_XX'!B69,'BD-SOC'!$I$15:$I$30000,'FORMATO N° 5_XX'!$W$43)","v":0},{"$f":"COUNTIFS('BD-SOC'!$P$15:$P$30000,'FORMATO N° 5_XX'!B69,'BD-SOC'!$I$15:$I$30000,'FORMATO N° 5_XX'!$X$43)+\nCOUNTIFS('BD-SOC'!$R$15:$R$30000,'FORMATO N° 5_XX'!B69,'BD-SOC'!$I$15:$I$30000,'FORMATO N° 5_XX'!$X$43)+\nCOUNTIFS('BD-SOC'!$T$15:$T$30000,'FORMATO N° 5_XX'!B69,'BD-SOC'!$I$15:$I$30000,'FORMATO N° 5_XX'!$X$43)+\nCOUNTIFS('BD-SOC'!$V$15:$V$30000,'FORMATO N° 5_XX'!B69,'BD-SOC'!$I$15:$I$30000,'FORMATO N° 5_XX'!$X$43)+\nCOUNTIFS('BD-SOC'!$X$15:$X$30000,'FORMATO N° 5_XX'!B69,'BD-SOC'!$I$15:$I$30000,'FORMATO N° 5_XX'!$X$43)+\nCOUNTIFS('BD-SOC'!$Z$15:$Z$30000,'FORMATO N° 5_XX'!B69,'BD-SOC'!$I$15:$I$30000,'FORMATO N° 5_XX'!$X$43)+\nCOUNTIFS('BD-SOC'!$AB$15:$AB$30000,'FORMATO N° 5_XX'!B69,'BD-SOC'!$I$15:$I$30000,'FORMATO N° 5_XX'!$X$43)","v":0},{"$f":"COUNTIFS('BD-SOC'!$P$15:$P$30000,'FORMATO N° 5_XX'!B69,'BD-SOC'!$I$15:$I$30000,'FORMATO N° 5_XX'!$Y$43)+\nCOUNTIFS('BD-SOC'!$R$15:$R$30000,'FORMATO N° 5_XX'!B69,'BD-SOC'!$I$15:$I$30000,'FORMATO N° 5_XX'!$Y$43)+\nCOUNTIFS('BD-SOC'!$T$15:$T$30000,'FORMATO N° 5_XX'!B69,'BD-SOC'!$I$15:$I$30000,'FORMATO N° 5_XX'!$Y$43)+\nCOUNTIFS('BD-SOC'!$V$15:$V$30000,'FORMATO N° 5_XX'!B69,'BD-SOC'!$I$15:$I$30000,'FORMATO N° 5_XX'!$Y$43)+\nCOUNTIFS('BD-SOC'!$X$15:$X$30000,'FORMATO N° 5_XX'!B69,'BD-SOC'!$I$15:$I$30000,'FORMATO N° 5_XX'!$Y$43)+\nCOUNTIFS('BD-SOC'!$Z$15:$Z$30000,'FORMATO N° 5_XX'!B69,'BD-SOC'!$I$15:$I$30000,'FORMATO N° 5_XX'!$Y$43)+\nCOUNTIFS('BD-SOC'!$AB$15:$AB$30000,'FORMATO N° 5_XX'!B69,'BD-SOC'!$I$15:$I$30000,'FORMATO N° 5_XX'!$Y$43)","v":0},{"$f":"COUNTIFS('BD-SOC'!$P$15:$P$30000,'FORMATO N° 5_XX'!B69,'BD-SOC'!$I$15:$I$30000,'FORMATO N° 5_XX'!$Z$43)+\nCOUNTIFS('BD-SOC'!$R$15:$R$30000,'FORMATO N° 5_XX'!B69,'BD-SOC'!$I$15:$I$30000,'FORMATO N° 5_XX'!$Z$43)+\nCOUNTIFS('BD-SOC'!$T$15:$T$30000,'FORMATO N° 5_XX'!B69,'BD-SOC'!$I$15:$I$30000,'FORMATO N° 5_XX'!$Z$43)+\nCOUNTIFS('BD-SOC'!$V$15:$V$30000,'FORMATO N° 5_XX'!B69,'BD-SOC'!$I$15:$I$30000,'FORMATO N° 5_XX'!$Z$43)+\nCOUNTIFS('BD-SOC'!$X$15:$X$30000,'FORMATO N° 5_XX'!B69,'BD-SOC'!$I$15:$I$30000,'FORMATO N° 5_XX'!$Z$43)+\nCOUNTIFS('BD-SOC'!$Z$15:$Z$30000,'FORMATO N° 5_XX'!B69,'BD-SOC'!$I$15:$I$30000,'FORMATO N° 5_XX'!$Z$43)+\nCOUNTIFS('BD-SOC'!$AB$15:$AB$30000,'FORMATO N° 5_XX'!B69,'BD-SOC'!$I$15:$I$30000,'FORMATO N° 5_XX'!$Z$43)","v":0},{"$f":"COUNTIFS('BD-SOC'!$P$15:$P$30000,'FORMATO N° 5_XX'!B69,'BD-SOC'!$I$15:$I$30000,'FORMATO N° 5_XX'!$AA$43)+\nCOUNTIFS('BD-SOC'!$R$15:$R$30000,'FORMATO N° 5_XX'!B69,'BD-SOC'!$I$15:$I$30000,'FORMATO N° 5_XX'!$AA$43)+\nCOUNTIFS('BD-SOC'!$T$15:$T$30000,'FORMATO N° 5_XX'!B69,'BD-SOC'!$I$15:$I$30000,'FORMATO N° 5_XX'!$AA$43)+\nCOUNTIFS('BD-SOC'!$V$15:$V$30000,'FORMATO N° 5_XX'!B69,'BD-SOC'!$I$15:$I$30000,'FORMATO N° 5_XX'!$AA$43)+\nCOUNTIFS('BD-SOC'!$X$15:$X$30000,'FORMATO N° 5_XX'!B69,'BD-SOC'!$I$15:$I$30000,'FORMATO N° 5_XX'!$AA$43)+\nCOUNTIFS('BD-SOC'!$Z$15:$Z$30000,'FORMATO N° 5_XX'!B69,'BD-SOC'!$I$15:$I$30000,'FORMATO N° 5_XX'!$AA$43)+\nCOUNTIFS('BD-SOC'!$AB$15:$AB$30000,'FORMATO N° 5_XX'!B69,'BD-SOC'!$I$15:$I$30000,'FORMATO N° 5_XX'!$AA$43)","v":0},{"$f":"COUNTIFS('BD-SOC'!$P$15:$P$30000,'FORMATO N° 5_XX'!B69,'BD-SOC'!$I$15:$I$30000,'FORMATO N° 5_XX'!$AB$43)+\nCOUNTIFS('BD-SOC'!$R$15:$R$30000,'FORMATO N° 5_XX'!B69,'BD-SOC'!$I$15:$I$30000,'FORMATO N° 5_XX'!$AB$43)+\nCOUNTIFS('BD-SOC'!$T$15:$T$30000,'FORMATO N° 5_XX'!B69,'BD-SOC'!$I$15:$I$30000,'FORMATO N° 5_XX'!$AB$43)+\nCOUNTIFS('BD-SOC'!$V$15:$V$30000,'FORMATO N° 5_XX'!B69,'BD-SOC'!$I$15:$I$30000,'FORMATO N° 5_XX'!$AB$43)+\nCOUNTIFS('BD-SOC'!$X$15:$X$30000,'FORMATO N° 5_XX'!B69,'BD-SOC'!$I$15:$I$30000,'FORMATO N° 5_XX'!$AB$43)+\nCOUNTIFS('BD-SOC'!$Z$15:$Z$30000,'FORMATO N° 5_XX'!B69,'BD-SOC'!$I$15:$I$30000,'FORMATO N° 5_XX'!$AB$43)+\nCOUNTIFS('BD-SOC'!$AB$15:$AB$30000,'FORMATO N° 5_XX'!B69,'BD-SOC'!$I$15:$I$30000,'FORMATO N° 5_XX'!$AB$43)","v":0},{"$f":"COUNTIFS('BD-SOC'!$P$15:$P$30000,'FORMATO N° 5_XX'!B69,'BD-SOC'!$I$15:$I$30000,'FORMATO N° 5_XX'!$AC$43)+\nCOUNTIFS('BD-SOC'!$R$15:$R$30000,'FORMATO N° 5_XX'!B69,'BD-SOC'!$I$15:$I$30000,'FORMATO N° 5_XX'!$AC$43)+\nCOUNTIFS('BD-SOC'!$T$15:$T$30000,'FORMATO N° 5_XX'!B69,'BD-SOC'!$I$15:$I$30000,'FORMATO N° 5_XX'!$AC$43)+\nCOUNTIFS('BD-SOC'!$V$15:$V$30000,'FORMATO N° 5_XX'!B69,'BD-SOC'!$I$15:$I$30000,'FORMATO N° 5_XX'!$AC$43)+\nCOUNTIFS('BD-SOC'!$X$15:$X$30000,'FORMATO N° 5_XX'!B69,'BD-SOC'!$I$15:$I$30000,'FORMATO N° 5_XX'!$AC$43)+\nCOUNTIFS('BD-SOC'!$Z$15:$Z$30000,'FORMATO N° 5_XX'!B69,'BD-SOC'!$I$15:$I$30000,'FORMATO N° 5_XX'!$AC$43)+\nCOUNTIFS('BD-SOC'!$AB$15:$AB$30000,'FORMATO N° 5_XX'!B69,'BD-SOC'!$I$15:$I$30000,'FORMATO N° 5_XX'!$AC$43)","v":0},{"$f":"COUNTIFS('BD-SOC'!$P$15:$P$30000,'FORMATO N° 5_XX'!B69,'BD-SOC'!$I$15:$I$30000,'FORMATO N° 5_XX'!$AD$43)+\nCOUNTIFS('BD-SOC'!$R$15:$R$30000,'FORMATO N° 5_XX'!B69,'BD-SOC'!$I$15:$I$30000,'FORMATO N° 5_XX'!$AD$43)+\nCOUNTIFS('BD-SOC'!$T$15:$T$30000,'FORMATO N° 5_XX'!B69,'BD-SOC'!$I$15:$I$30000,'FORMATO N° 5_XX'!$AD$43)+\nCOUNTIFS('BD-SOC'!$V$15:$V$30000,'FORMATO N° 5_XX'!B69,'BD-SOC'!$I$15:$I$30000,'FORMATO N° 5_XX'!$AD$43)+\nCOUNTIFS('BD-SOC'!$X$15:$X$30000,'FORMATO N° 5_XX'!B69,'BD-SOC'!$I$15:$I$30000,'FORMATO N° 5_XX'!$AD$43)+\nCOUNTIFS('BD-SOC'!$Z$15:$Z$30000,'FORMATO N° 5_XX'!B69,'BD-SOC'!$I$15:$I$30000,'FORMATO N° 5_XX'!$AD$43)+\nCOUNTIFS('BD-SOC'!$AB$15:$AB$30000,'FORMATO N° 5_XX'!B69,'BD-SOC'!$I$15:$I$30000,'FORMATO N° 5_XX'!$AD$43)","v":0},{"$f":"COUNTIFS('BD-SOC'!$P$15:$P$30000,'FORMATO N° 5_XX'!B69,'BD-SOC'!$I$15:$I$30000,'FORMATO N° 5_XX'!$AE$43)+\nCOUNTIFS('BD-SOC'!$R$15:$R$30000,'FORMATO N° 5_XX'!B69,'BD-SOC'!$I$15:$I$30000,'FORMATO N° 5_XX'!$AE$43)+\nCOUNTIFS('BD-SOC'!$T$15:$T$30000,'FORMATO N° 5_XX'!B69,'BD-SOC'!$I$15:$I$30000,'FORMATO N° 5_XX'!$AE$43)+\nCOUNTIFS('BD-SOC'!$V$15:$V$30000,'FORMATO N° 5_XX'!B69,'BD-SOC'!$I$15:$I$30000,'FORMATO N° 5_XX'!$AE$43)+\nCOUNTIFS('BD-SOC'!$X$15:$X$30000,'FORMATO N° 5_XX'!B69,'BD-SOC'!$I$15:$I$30000,'FORMATO N° 5_XX'!$AE$43)+\nCOUNTIFS('BD-SOC'!$Z$15:$Z$30000,'FORMATO N° 5_XX'!B69,'BD-SOC'!$I$15:$I$30000,'FORMATO N° 5_XX'!$AE$43)+\nCOUNTIFS('BD-SOC'!$AB$15:$AB$30000,'FORMATO N° 5_XX'!B69,'BD-SOC'!$I$15:$I$30000,'FORMATO N° 5_XX'!$AE$43)","v":0}]
[null,303,"GESTIÓN SOBRE FALLECIDOS",null,null,null,null,null,{"$error":"#REF!"},{"$f":"COUNTIFS('BD-SOC'!$P$15:$P$30000,'FORMATO N° 5_XX'!B70,'BD-SOC'!#REF!,'FORMATO N° 5_XX'!$J$43)+\nCOUNTIFS('BD-SOC'!$R$15:$R$30000,'FORMATO N° 5_XX'!B70,'BD-SOC'!#REF!,'FORMATO N° 5_XX'!$J$43)+\nCOUNTIFS('BD-SOC'!$T$15:$T$30000,'FORMATO N° 5_XX'!B70,'BD-SOC'!#REF!,'FORMATO N° 5_XX'!$J$43)+\nCOUNTIFS('BD-SOC'!$V$15:$V$30000,'FORMATO N° 5_XX'!B70,'BD-SOC'!#REF!,'FORMATO N° 5_XX'!$J$43)+\nCOUNTIFS('BD-SOC'!$X$15:$X$30000,'FORMATO N° 5_XX'!B70,'BD-SOC'!#REF!,'FORMATO N° 5_XX'!$J$43)+\nCOUNTIFS('BD-SOC'!$Z$15:$Z$30000,'FORMATO N° 5_XX'!B70,'BD-SOC'!#REF!,'FORMATO N° 5_XX'!$J$43)+\nCOUNTIFS('BD-SOC'!$AB$15:$AB$30000,'FORMATO N° 5_XX'!B70,'BD-SOC'!#REF!,'FORMATO N° 5_XX'!$J$43)","v":{"$error":"#REF!"}},{"$f":"COUNTIFS('BD-SOC'!$P$15:$P$30000,'FORMATO N° 5_XX'!B70,'BD-SOC'!#REF!,'FORMATO N° 5_XX'!$K$43)+\nCOUNTIFS('BD-SOC'!$R$15:$R$30000,'FORMATO N° 5_XX'!B70,'BD-SOC'!#REF!,'FORMATO N° 5_XX'!$K$43)+\nCOUNTIFS('BD-SOC'!$T$15:$T$30000,'FORMATO N° 5_XX'!B70,'BD-SOC'!#REF!,'FORMATO N° 5_XX'!$K$43)+\nCOUNTIFS('BD-SOC'!$V$15:$V$30000,'FORMATO N° 5_XX'!B70,'BD-SOC'!#REF!,'FORMATO N° 5_XX'!$K$43)+\nCOUNTIFS('BD-SOC'!$X$15:$X$30000,'FORMATO N° 5_XX'!B70,'BD-SOC'!#REF!,'FORMATO N° 5_XX'!$K$43)+\nCOUNTIFS('BD-SOC'!$Z$15:$Z$30000,'FORMATO N° 5_XX'!B70,'BD-SOC'!#REF!,'FORMATO N° 5_XX'!$K$43)+\nCOUNTIFS('BD-SOC'!$AB$15:$AB$30000,'FORMATO N° 5_XX'!B70,'BD-SOC'!#REF!,'FORMATO N° 5_XX'!$K$43)","v":{"$error":"#REF!"}},{"$f":"COUNTIFS('BD-SOC'!$P$15:$P$30000,'FORMATO N° 5_XX'!B70,'BD-SOC'!#REF!,'FORMATO N° 5_XX'!$L$43)+\nCOUNTIFS('BD-SOC'!$R$15:$R$30000,'FORMATO N° 5_XX'!B70,'BD-SOC'!#REF!,'FORMATO N° 5_XX'!$L$43)+\nCOUNTIFS('BD-SOC'!$T$15:$T$30000,'FORMATO N° 5_XX'!B70,'BD-SOC'!#REF!,'FORMATO N° 5_XX'!$L$43)+\nCOUNTIFS('BD-SOC'!$V$15:$V$30000,'FORMATO N° 5_XX'!B70,'BD-SOC'!#REF!,'FORMATO N° 5_XX'!$L$43)+\nCOUNTIFS('BD-SOC'!$X$15:$X$30000,'FORMATO N° 5_XX'!B70,'BD-SOC'!#REF!,'FORMATO N° 5_XX'!$L$43)+\nCOUNTIFS('BD-SOC'!$Z$15:$Z$30000,'FORMATO N° 5_XX'!B70,'BD-SOC'!#REF!,'FORMATO N° 5_XX'!$L$43)+\nCOUNTIFS('BD-SOC'!$AB$15:$AB$30000,'FORMATO N° 5_XX'!B70,'BD-SOC'!#REF!,'FORMATO N° 5_XX'!$L$43)","v":{"$error":"#REF!"}},{"$f":"COUNTIFS('BD-SOC'!$P$15:$P$30000,'FORMATO N° 5_XX'!B70,'BD-SOC'!#REF!,'FORMATO N° 5_XX'!$M$44)+\nCOUNTIFS('BD-SOC'!$R$15:$R$30000,'FORMATO N° 5_XX'!B70,'BD-SOC'!#REF!,'FORMATO N° 5_XX'!$M$44)+\nCOUNTIFS('BD-SOC'!$T$15:$T$30000,'FORMATO N° 5_XX'!B70,'BD-SOC'!#REF!,'FORMATO N° 5_XX'!$M$44)+\nCOUNTIFS('BD-SOC'!$V$15:$V$30000,'FORMATO N° 5_XX'!B70,'BD-SOC'!#REF!,'FORMATO N° 5_XX'!$M$44)+\nCOUNTIFS('BD-SOC'!$X$15:$X$30000,'FORMATO N° 5_XX'!B70,'BD-SOC'!#REF!,'FORMATO N° 5_XX'!$M$44)+\nCOUNTIFS('BD-SOC'!$Z$15:$Z$30000,'FORMATO N° 5_XX'!B70,'BD-SOC'!#REF!,'FORMATO N° 5_XX'!$M$44)+\nCOUNTIFS('BD-SOC'!$AB$15:$AB$30000,'FORMATO N° 5_XX'!B70,'BD-SOC'!#REF!,'FORMATO N° 5_XX'!$M$44)","v":{"$error":"#REF!"}},{"$f":"COUNTIFS('BD-SOC'!$P$15:$P$30000,'FORMATO N° 5_XX'!B70,'BD-SOC'!#REF!,'FORMATO N° 5_XX'!$N$44)+\nCOUNTIFS('BD-SOC'!$R$15:$R$30000,'FORMATO N° 5_XX'!B70,'BD-SOC'!#REF!,'FORMATO N° 5_XX'!$N$44)+\nCOUNTIFS('BD-SOC'!$T$15:$T$30000,'FORMATO N° 5_XX'!B70,'BD-SOC'!#REF!,'FORMATO N° 5_XX'!$N$44)+\nCOUNTIFS('BD-SOC'!$V$15:$V$30000,'FORMATO N° 5_XX'!B70,'BD-SOC'!#REF!,'FORMATO N° 5_XX'!$N$44)+\nCOUNTIFS('BD-SOC'!$X$15:$X$30000,'FORMATO N° 5_XX'!B70,'BD-SOC'!#REF!,'FORMATO N° 5_XX'!$N$44)+\nCOUNTIFS('BD-SOC'!$Z$15:$Z$30000,'FORMATO N° 5_XX'!B70,'BD-SOC'!#REF!,'FORMATO N° 5_XX'!$N$44)+\nCOUNTIFS('BD-SOC'!$AB$15:$AB$30000,'FORMATO N° 5_XX'!B70,'BD-SOC'!#REF!,'FORMATO N° 5_XX'!$N$44)","v":{"$error":"#REF!"}},{"$f":"COUNTIFS('BD-SOC'!$P$15:$P$30000,'FORMATO N° 5_XX'!B70,'BD-SOC'!#REF!,'FORMATO N° 5_XX'!$O$44)+\nCOUNTIFS('BD-SOC'!$R$15:$R$30000,'FORMATO N° 5_XX'!B70,'BD-SOC'!#REF!,'FORMATO N° 5_XX'!$O$44)+\nCOUNTIFS('BD-SOC'!$T$15:$T$30000,'FORMATO N° 5_XX'!B70,'BD-SOC'!#REF!,'FORMATO N° 5_XX'!$O$44)+\nCOUNTIFS('BD-SOC'!$V$15:$V$30000,'FORMATO N° 5_XX'!B70,'BD-SOC'!#REF!,'FORMATO N° 5_XX'!$O$44)+\nCOUNTIFS('BD-SOC'!$X$15:$X$30000,'FORMATO N° 5_XX'!B70,'BD-SOC'!#REF!,'FORMATO N° 5_XX'!$O$44)+\nCOUNTIFS('BD-SOC'!$Z$15:$Z$30000,'FORMATO N° 5_XX'!B70,'BD-SOC'!#REF!,'FORMATO N° 5_XX'!$O$44)+\nCOUNTIFS('BD-SOC'!$AB$15:$AB$30000,'FORMATO N° 5_XX'!B70,'BD-SOC'!#REF!,'FORMATO N° 5_XX'!$O$44)","v":{"$error":"#REF!"}},{"$f":"COUNTIFS('BD-SOC'!$P$15:$P$30000,'FORMATO N° 5_XX'!B70,'BD-SOC'!#REF!,'FORMATO N° 5_XX'!$P$44)+\nCOUNTIFS('BD-SOC'!$R$15:$R$30000,'FORMATO N° 5_XX'!B70,'BD-SOC'!#REF!,'FORMATO N° 5_XX'!$P$44)+\nCOUNTIFS('BD-SOC'!$T$15:$T$30000,'FORMATO N° 5_XX'!B70,'BD-SOC'!#REF!,'FORMATO N° 5_XX'!$P$44)+\nCOUNTIFS('BD-SOC'!$V$15:$V$30000,'FORMATO N° 5_XX'!B70,'BD-SOC'!#REF!,'FORMATO N° 5_XX'!$P$44)+\nCOUNTIFS('BD-SOC'!$X$15:$X$30000,'FORMATO N° 5_XX'!B70,'BD-SOC'!#REF!,'FORMATO N° 5_XX'!$P$44)+\nCOUNTIFS('BD-SOC'!$Z$15:$Z$30000,'FORMATO N° 5_XX'!B70,'BD-SOC'!#REF!,'FORMATO N° 5_XX'!$P$44)+\nCOUNTIFS('BD-SOC'!$AB$15:$AB$30000,'FORMATO N° 5_XX'!B70,'BD-SOC'!#REF!,'FORMATO N° 5_XX'!$P$44)","v":{"$error":"#REF!"}},{"$f":"COUNTIFS('BD-SOC'!$P$15:$P$30000,'FORMATO N° 5_XX'!B70,'BD-SOC'!#REF!,'FORMATO N° 5_XX'!$Q$44)+\nCOUNTIFS('BD-SOC'!$R$15:$R$30000,'FORMATO N° 5_XX'!B70,'BD-SOC'!#REF!,'FORMATO N° 5_XX'!$Q$44)+\nCOUNTIFS('BD-SOC'!$T$15:$T$30000,'FORMATO N° 5_XX'!B70,'BD-SOC'!#REF!,'FORMATO N° 5_XX'!$Q$44)+\nCOUNTIFS('BD-SOC'!$V$15:$V$30000,'FORMATO N° 5_XX'!B70,'BD-SOC'!#REF!,'FORMATO N° 5_XX'!$Q$44)+\nCOUNTIFS('BD-SOC'!$X$15:$X$30000,'FORMATO N° 5_XX'!B70,'BD-SOC'!#REF!,'FORMATO N° 5_XX'!$Q$44)+\nCOUNTIFS('BD-SOC'!$Z$15:$Z$30000,'FORMATO N° 5_XX'!B70,'BD-SOC'!#REF!,'FORMATO N° 5_XX'!$Q$44)+\nCOUNTIFS('BD-SOC'!$AB$15:$AB$30000,'FORMATO N° 5_XX'!B70,'BD-SOC'!#REF!,'FORMATO N° 5_XX'!$Q$44)","v":{"$error":"#REF!"}},{"$f":"COUNTIFS('BD-SOC'!$P$15:$P$30000,'FORMATO N° 5_XX'!B70,'BD-SOC'!#REF!,'FORMATO N° 5_XX'!$R$44)+\nCOUNTIFS('BD-SOC'!$R$15:$R$30000,'FORMATO N° 5_XX'!B70,'BD-SOC'!#REF!,'FORMATO N° 5_XX'!$R$44)+\nCOUNTIFS('BD-SOC'!$T$15:$T$30000,'FORMATO N° 5_XX'!B70,'BD-SOC'!#REF!,'FORMATO N° 5_XX'!$R$44)+\nCOUNTIFS('BD-SOC'!$V$15:$V$30000,'FORMATO N° 5_XX'!B70,'BD-SOC'!#REF!,'FORMATO N° 5_XX'!$R$44)+\nCOUNTIFS('BD-SOC'!$X$15:$X$30000,'FORMATO N° 5_XX'!B70,'BD-SOC'!#REF!,'FORMATO N° 5_XX'!$R$44)+\nCOUNTIFS('BD-SOC'!$Z$15:$Z$30000,'FORMATO N° 5_XX'!B70,'BD-SOC'!#REF!,'FORMATO N° 5_XX'!$R$44)+\nCOUNTIFS('BD-SOC'!$AB$15:$AB$30000,'FORMATO N° 5_XX'!B70,'BD-SOC'!#REF!,'FORMATO N° 5_XX'!$R$44)","v":{"$error":"#REF!"}},{"$f":"COUNTIFS('BD-SOC'!$P$15:$P$30000,'FORMATO N° 5_XX'!B70,'BD-SOC'!#REF!,'FORMATO N° 5_XX'!$S$43)+\nCOUNTIFS('BD-SOC'!$R$15:$R$30000,'FORMATO N° 5_XX'!B70,'BD-SOC'!#REF!,'FORMATO N° 5_XX'!$S$43)+\nCOUNTIFS('BD-SOC'!$T$15:$T$30000,'FORMATO N° 5_XX'!B70,'BD-SOC'!#REF!,'FORMATO N° 5_XX'!$S$43)+\nCOUNTIFS('BD-SOC'!$V$15:$V$30000,'FORMATO N° 5_XX'!B70,'BD-SOC'!#REF!,'FORMATO N° 5_XX'!$S$43)+\nCOUNTIFS('BD-SOC'!$X$15:$X$30000,'FORMATO N° 5_XX'!B70,'BD-SOC'!#REF!,'FORMATO N° 5_XX'!$S$43)+\nCOUNTIFS('BD-SOC'!$Z$15:$Z$30000,'FORMATO N° 5_XX'!B70,'BD-SOC'!#REF!,'FORMATO N° 5_XX'!$S$43)+\nCOUNTIFS('BD-SOC'!$AB$15:$AB$30000,'FORMATO N° 5_XX'!B70,'BD-SOC'!#REF!,'FORMATO N° 5_XX'!$S$43)","v":{"$error":"#REF!"}},{"$f":"COUNTIFS('BD-SOC'!$P$15:$P$30000,'FORMATO N° 5_XX'!B70,'BD-SOC'!#REF!,'FORMATO N° 5_XX'!$T$43)+\nCOUNTIFS('BD-SOC'!$R$15:$R$30000,'FORMATO N° 5_XX'!B70,'BD-SOC'!#REF!,'FORMATO N° 5_XX'!$T$43)+\nCOUNTIFS('BD-SOC'!$T$15:$T$30000,'FORMATO N° 5_XX'!B70,'BD-SOC'!#REF!,'FORMATO N° 5_XX'!$T$43)+\nCOUNTIFS('BD-SOC'!$V$15:$V$30000,'FORMATO N° 5_XX'!B70,'BD-SOC'!#REF!,'FORMATO N° 5_XX'!$T$43)+\nCOUNTIFS('BD-SOC'!$X$15:$X$30000,'FORMATO N° 5_XX'!B70,'BD-SOC'!#REF!,'FORMATO N° 5_XX'!$T$43)+\nCOUNTIFS('BD-SOC'!$Z$15:$Z$30000,'FORMATO N° 5_XX'!B70,'BD-SOC'!#REF!,'FORMATO N° 5_XX'!$T$43)+\nCOUNTIFS('BD-SOC'!$AB$15:$AB$30000,'FORMATO N° 5_XX'!B70,'BD-SOC'!#REF!,'FORMATO N° 5_XX'!$T$43)","v":{"$error":"#REF!"}},0,{"$f":"COUNTIFS('BD-SOC'!$P$15:$P$30000,'FORMATO N° 5_XX'!B70,'BD-SOC'!$I$15:$I$30000,'FORMATO N° 5_XX'!$V$43)+\nCOUNTIFS('BD-SOC'!$R$15:$R$30000,'FORMATO N° 5_XX'!B70,'BD-SOC'!$I$15:$I$30000,'FORMATO N° 5_XX'!$V$43)+\nCOUNTIFS('BD-SOC'!$T$15:$T$30000,'FORMATO N° 5_XX'!B70,'BD-SOC'!$I$15:$I$30000,'FORMATO N° 5_XX'!$V$43)+\nCOUNTIFS('BD-SOC'!$V$15:$V$30000,'FORMATO N° 5_XX'!B70,'BD-SOC'!$I$15:$I$30000,'FORMATO N° 5_XX'!$V$43)+\nCOUNTIFS('BD-SOC'!$X$15:$X$30000,'FORMATO N° 5_XX'!B70,'BD-SOC'!$I$15:$I$30000,'FORMATO N° 5_XX'!$V$43)+\nCOUNTIFS('BD-SOC'!$Z$15:$Z$30000,'FORMATO N° 5_XX'!B70,'BD-SOC'!$I$15:$I$30000,'FORMATO N° 5_XX'!$V$43)+\nCOUNTIFS('BD-SOC'!$AB$15:$AB$30000,'FORMATO N° 5_XX'!B70,'BD-SOC'!$I$15:$I$30000,'FORMATO N° 5_XX'!$V$43)","v":0},{"$f":"COUNTIFS('BD-SOC'!$P$15:$P$30000,'FORMATO N° 5_XX'!B70,'BD-SOC'!$I$15:$I$30000,'FORMATO N° 5_XX'!$W$43)+\nCOUNTIFS('BD-SOC'!$R$15:$R$30000,'FORMATO N° 5_XX'!B70,'BD-SOC'!$I$15:$I$30000,'FORMATO N° 5_XX'!$W$43)+\nCOUNTIFS('BD-SOC'!$T$15:$T$30000,'FORMATO N° 5_XX'!B70,'BD-SOC'!$I$15:$I$30000,'FORMATO N° 5_XX'!$W$43)+\nCOUNTIFS('BD-SOC'!$V$15:$V$30000,'FORMATO N° 5_XX'!B70,'BD-SOC'!$I$15:$I$30000,'FORMATO N° 5_XX'!$W$43)+\nCOUNTIFS('BD-SOC'!$X$15:$X$30000,'FORMATO N° 5_XX'!B70,'BD-SOC'!$I$15:$I$30000,'FORMATO N° 5_XX'!$W$43)+\nCOUNTIFS('BD-SOC'!$Z$15:$Z$30000,'FORMATO N° 5_XX'!B70,'BD-SOC'!$I$15:$I$30000,'FORMATO N° 5_XX'!$W$43)+\nCOUNTIFS('BD-SOC'!$AB$15:$AB$30000,'FORMATO N° 5_XX'!B70,'BD-SOC'!$I$15:$I$30000,'FORMATO N° 5_XX'!$W$43)","v":0},{"$f":"COUNTIFS('BD-SOC'!$P$15:$P$30000,'FORMATO N° 5_XX'!B70,'BD-SOC'!$I$15:$I$30000,'FORMATO N° 5_XX'!$X$43)+\nCOUNTIFS('BD-SOC'!$R$15:$R$30000,'FORMATO N° 5_XX'!B70,'BD-SOC'!$I$15:$I$30000,'FORMATO N° 5_XX'!$X$43)+\nCOUNTIFS('BD-SOC'!$T$15:$T$30000,'FORMATO N° 5_XX'!B70,'BD-SOC'!$I$15:$I$30000,'FORMATO N° 5_XX'!$X$43)+\nCOUNTIFS('BD-SOC'!$V$15:$V$30000,'FORMATO N° 5_XX'!B70,'BD-SOC'!$I$15:$I$30000,'FORMATO N° 5_XX'!$X$43)+\nCOUNTIFS('BD-SOC'!$X$15:$X$30000,'FORMATO N° 5_XX'!B70,'BD-SOC'!$I$15:$I$30000,'FORMATO N° 5_XX'!$X$43)+\nCOUNTIFS('BD-SOC'!$Z$15:$Z$30000,'FORMATO N° 5_XX'!B70,'BD-SOC'!$I$15:$I$30000,'FORMATO N° 5_XX'!$X$43)+\nCOUNTIFS('BD-SOC'!$AB$15:$AB$30000,'FORMATO N° 5_XX'!B70,'BD-SOC'!$I$15:$I$30000,'FORMATO N° 5_XX'!$X$43)","v":0},{"$f":"COUNTIFS('BD-SOC'!$P$15:$P$30000,'FORMATO N° 5_XX'!B70,'BD-SOC'!$I$15:$I$30000,'FORMATO N° 5_XX'!$Y$43)+\nCOUNTIFS('BD-SOC'!$R$15:$R$30000,'FORMATO N° 5_XX'!B70,'BD-SOC'!$I$15:$I$30000,'FORMATO N° 5_XX'!$Y$43)+\nCOUNTIFS('BD-SOC'!$T$15:$T$30000,'FORMATO N° 5_XX'!B70,'BD-SOC'!$I$15:$I$30000,'FORMATO N° 5_XX'!$Y$43)+\nCOUNTIFS('BD-SOC'!$V$15:$V$30000,'FORMATO N° 5_XX'!B70,'BD-SOC'!$I$15:$I$30000,'FORMATO N° 5_XX'!$Y$43)+\nCOUNTIFS('BD-SOC'!$X$15:$X$30000,'FORMATO N° 5_XX'!B70,'BD-SOC'!$I$15:$I$30000,'FORMATO N° 5_XX'!$Y$43)+\nCOUNTIFS('BD-SOC'!$Z$15:$Z$30000,'FORMATO N° 5_XX'!B70,'BD-SOC'!$I$15:$I$30000,'FORMATO N° 5_XX'!$Y$43)+\nCOUNTIFS('BD-SOC'!$AB$15:$AB$30000,'FORMATO N° 5_XX'!B70,'BD-SOC'!$I$15:$I$30000,'FORMATO N° 5_XX'!$Y$43)","v":0},{"$f":"COUNTIFS('BD-SOC'!$P$15:$P$30000,'FORMATO N° 5_XX'!B70,'BD-SOC'!$I$15:$I$30000,'FORMATO N° 5_XX'!$Z$43)+\nCOUNTIFS('BD-SOC'!$R$15:$R$30000,'FORMATO N° 5_XX'!B70,'BD-SOC'!$I$15:$I$30000,'FORMATO N° 5_XX'!$Z$43)+\nCOUNTIFS('BD-SOC'!$T$15:$T$30000,'FORMATO N° 5_XX'!B70,'BD-SOC'!$I$15:$I$30000,'FORMATO N° 5_XX'!$Z$43)+\nCOUNTIFS('BD-SOC'!$V$15:$V$30000,'FORMATO N° 5_XX'!B70,'BD-SOC'!$I$15:$I$30000,'FORMATO N° 5_XX'!$Z$43)+\nCOUNTIFS('BD-SOC'!$X$15:$X$30000,'FORMATO N° 5_XX'!B70,'BD-SOC'!$I$15:$I$30000,'FORMATO N° 5_XX'!$Z$43)+\nCOUNTIFS('BD-SOC'!$Z$15:$Z$30000,'FORMATO N° 5_XX'!B70,'BD-SOC'!$I$15:$I$30000,'FORMATO N° 5_XX'!$Z$43)+\nCOUNTIFS('BD-SOC'!$AB$15:$AB$30000,'FORMATO N° 5_XX'!B70,'BD-SOC'!$I$15:$I$30000,'FORMATO N° 5_XX'!$Z$43)","v":0},{"$f":"COUNTIFS('BD-SOC'!$P$15:$P$30000,'FORMATO N° 5_XX'!B70,'BD-SOC'!$I$15:$I$30000,'FORMATO N° 5_XX'!$AA$43)+\nCOUNTIFS('BD-SOC'!$R$15:$R$30000,'FORMATO N° 5_XX'!B70,'BD-SOC'!$I$15:$I$30000,'FORMATO N° 5_XX'!$AA$43)+\nCOUNTIFS('BD-SOC'!$T$15:$T$30000,'FORMATO N° 5_XX'!B70,'BD-SOC'!$I$15:$I$30000,'FORMATO N° 5_XX'!$AA$43)+\nCOUNTIFS('BD-SOC'!$V$15:$V$30000,'FORMATO N° 5_XX'!B70,'BD-SOC'!$I$15:$I$30000,'FORMATO N° 5_XX'!$AA$43)+\nCOUNTIFS('BD-SOC'!$X$15:$X$30000,'FORMATO N° 5_XX'!B70,'BD-SOC'!$I$15:$I$30000,'FORMATO N° 5_XX'!$AA$43)+\nCOUNTIFS('BD-SOC'!$Z$15:$Z$30000,'FORMATO N° 5_XX'!B70,'BD-SOC'!$I$15:$I$30000,'FORMATO N° 5_XX'!$AA$43)+\nCOUNTIFS('BD-SOC'!$AB$15:$AB$30000,'FORMATO N° 5_XX'!B70,'BD-SOC'!$I$15:$I$30000,'FORMATO N° 5_XX'!$AA$43)","v":0},{"$f":"COUNTIFS('BD-SOC'!$P$15:$P$30000,'FORMATO N° 5_XX'!B70,'BD-SOC'!$I$15:$I$30000,'FORMATO N° 5_XX'!$AB$43)+\nCOUNTIFS('BD-SOC'!$R$15:$R$30000,'FORMATO N° 5_XX'!B70,'BD-SOC'!$I$15:$I$30000,'FORMATO N° 5_XX'!$AB$43)+\nCOUNTIFS('BD-SOC'!$T$15:$T$30000,'FORMATO N° 5_XX'!B70,'BD-SOC'!$I$15:$I$30000,'FORMATO N° 5_XX'!$AB$43)+\nCOUNTIFS('BD-SOC'!$V$15:$V$30000,'FORMATO N° 5_XX'!B70,'BD-SOC'!$I$15:$I$30000,'FORMATO N° 5_XX'!$AB$43)+\nCOUNTIFS('BD-SOC'!$X$15:$X$30000,'FORMATO N° 5_XX'!B70,'BD-SOC'!$I$15:$I$30000,'FORMATO N° 5_XX'!$AB$43)+\nCOUNTIFS('BD-SOC'!$Z$15:$Z$30000,'FORMATO N° 5_XX'!B70,'BD-SOC'!$I$15:$I$30000,'FORMATO N° 5_XX'!$AB$43)+\nCOUNTIFS('BD-SOC'!$AB$15:$AB$30000,'FORMATO N° 5_XX'!B70,'BD-SOC'!$I$15:$I$30000,'FORMATO N° 5_XX'!$AB$43)","v":0},{"$f":"COUNTIFS('BD-SOC'!$P$15:$P$30000,'FORMATO N° 5_XX'!B70,'BD-SOC'!$I$15:$I$30000,'FORMATO N° 5_XX'!$AC$43)+\nCOUNTIFS('BD-SOC'!$R$15:$R$30000,'FORMATO N° 5_XX'!B70,'BD-SOC'!$I$15:$I$30000,'FORMATO N° 5_XX'!$AC$43)+\nCOUNTIFS('BD-SOC'!$T$15:$T$30000,'FORMATO N° 5_XX'!B70,'BD-SOC'!$I$15:$I$30000,'FORMATO N° 5_XX'!$AC$43)+\nCOUNTIFS('BD-SOC'!$V$15:$V$30000,'FORMATO N° 5_XX'!B70,'BD-SOC'!$I$15:$I$30000,'FORMATO N° 5_XX'!$AC$43)+\nCOUNTIFS('BD-SOC'!$X$15:$X$30000,'FORMATO N° 5_XX'!B70,'BD-SOC'!$I$15:$I$30000,'FORMATO N° 5_XX'!$AC$43)+\nCOUNTIFS('BD-SOC'!$Z$15:$Z$30000,'FORMATO N° 5_XX'!B70,'BD-SOC'!$I$15:$I$30000,'FORMATO N° 5_XX'!$AC$43)+\nCOUNTIFS('BD-SOC'!$AB$15:$AB$30000,'FORMATO N° 5_XX'!B70,'BD-SOC'!$I$15:$I$30000,'FORMATO N° 5_XX'!$AC$43)","v":0},{"$f":"COUNTIFS('BD-SOC'!$P$15:$P$30000,'FORMATO N° 5_XX'!B70,'BD-SOC'!$I$15:$I$30000,'FORMATO N° 5_XX'!$AD$43)+\nCOUNTIFS('BD-SOC'!$R$15:$R$30000,'FORMATO N° 5_XX'!B70,'BD-SOC'!$I$15:$I$30000,'FORMATO N° 5_XX'!$AD$43)+\nCOUNTIFS('BD-SOC'!$T$15:$T$30000,'FORMATO N° 5_XX'!B70,'BD-SOC'!$I$15:$I$30000,'FORMATO N° 5_XX'!$AD$43)+\nCOUNTIFS('BD-SOC'!$V$15:$V$30000,'FORMATO N° 5_XX'!B70,'BD-SOC'!$I$15:$I$30000,'FORMATO N° 5_XX'!$AD$43)+\nCOUNTIFS('BD-SOC'!$X$15:$X$30000,'FORMATO N° 5_XX'!B70,'BD-SOC'!$I$15:$I$30000,'FORMATO N° 5_XX'!$AD$43)+\nCOUNTIFS('BD-SOC'!$Z$15:$Z$30000,'FORMATO N° 5_XX'!B70,'BD-SOC'!$I$15:$I$30000,'FORMATO N° 5_XX'!$AD$43)+\nCOUNTIFS('BD-SOC'!$AB$15:$AB$30000,'FORMATO N° 5_XX'!B70,'BD-SOC'!$I$15:$I$30000,'FORMATO N° 5_XX'!$AD$43)","v":0},{"$f":"COUNTIFS('BD-SOC'!$P$15:$P$30000,'FORMATO N° 5_XX'!B70,'BD-SOC'!$I$15:$I$30000,'FORMATO N° 5_XX'!$AE$43)+\nCOUNTIFS('BD-SOC'!$R$15:$R$30000,'FORMATO N° 5_XX'!B70,'BD-SOC'!$I$15:$I$30000,'FORMATO N° 5_XX'!$AE$43)+\nCOUNTIFS('BD-SOC'!$T$15:$T$30000,'FORMATO N° 5_XX'!B70,'BD-SOC'!$I$15:$I$30000,'FORMATO N° 5_XX'!$AE$43)+\nCOUNTIFS('BD-SOC'!$V$15:$V$30000,'FORMATO N° 5_XX'!B70,'BD-SOC'!$I$15:$I$30000,'FORMATO N° 5_XX'!$AE$43)+\nCOUNTIFS('BD-SOC'!$X$15:$X$30000,'FORMATO N° 5_XX'!B70,'BD-SOC'!$I$15:$I$30000,'FORMATO N° 5_XX'!$AE$43)+\nCOUNTIFS('BD-SOC'!$Z$15:$Z$30000,'FORMATO N° 5_XX'!B70,'BD-SOC'!$I$15:$I$30000,'FORMATO N° 5_XX'!$AE$43)+\nCOUNTIFS('BD-SOC'!$AB$15:$AB$30000,'FORMATO N° 5_XX'!B70,'BD-SOC'!$I$15:$I$30000,'FORMATO N° 5_XX'!$AE$43)","v":0}]
[null,304,"GESTIÓN RENIEC",null,null,null,null,null,{"$error":"#REF!"},{"$f":"COUNTIFS('BD-SOC'!$P$15:$P$30000,'FORMATO N° 5_XX'!B71,'BD-SOC'!#REF!,'FORMATO N° 5_XX'!$J$43)+\nCOUNTIFS('BD-SOC'!$R$15:$R$30000,'FORMATO N° 5_XX'!B71,'BD-SOC'!#REF!,'FORMATO N° 5_XX'!$J$43)+\nCOUNTIFS('BD-SOC'!$T$15:$T$30000,'FORMATO N° 5_XX'!B71,'BD-SOC'!#REF!,'FORMATO N° 5_XX'!$J$43)+\nCOUNTIFS('BD-SOC'!$V$15:$V$30000,'FORMATO N° 5_XX'!B71,'BD-SOC'!#REF!,'FORMATO N° 5_XX'!$J$43)+\nCOUNTIFS('BD-SOC'!$X$15:$X$30000,'FORMATO N° 5_XX'!B71,'BD-SOC'!#REF!,'FORMATO N° 5_XX'!$J$43)+\nCOUNTIFS('BD-SOC'!$Z$15:$Z$30000,'FORMATO N° 5_XX'!B71,'BD-SOC'!#REF!,'FORMATO N° 5_XX'!$J$43)+\nCOUNTIFS('BD-SOC'!$AB$15:$AB$30000,'FORMATO N° 5_XX'!B71,'BD-SOC'!#REF!,'FORMATO N° 5_XX'!$J$43)","v":{"$error":"#REF!"}},{"$f":"COUNTIFS('BD-SOC'!$P$15:$P$30000,'FORMATO N° 5_XX'!B71,'BD-SOC'!#REF!,'FORMATO N° 5_XX'!$K$43)+\nCOUNTIFS('BD-SOC'!$R$15:$R$30000,'FORMATO N° 5_XX'!B71,'BD-SOC'!#REF!,'FORMATO N° 5_XX'!$K$43)+\nCOUNTIFS('BD-SOC'!$T$15:$T$30000,'FORMATO N° 5_XX'!B71,'BD-SOC'!#REF!,'FORMATO N° 5_XX'!$K$43)+\nCOUNTIFS('BD-SOC'!$V$15:$V$30000,'FORMATO N° 5_XX'!B71,'BD-SOC'!#REF!,'FORMATO N° 5_XX'!$K$43)+\nCOUNTIFS('BD-SOC'!$X$15:$X$30000,'FORMATO N° 5_XX'!B71,'BD-SOC'!#REF!,'FORMATO N° 5_XX'!$K$43)+\nCOUNTIFS('BD-SOC'!$Z$15:$Z$30000,'FORMATO N° 5_XX'!B71,'BD-SOC'!#REF!,'FORMATO N° 5_XX'!$K$43)+\nCOUNTIFS('BD-SOC'!$AB$15:$AB$30000,'FORMATO N° 5_XX'!B71,'BD-SOC'!#REF!,'FORMATO N° 5_XX'!$K$43)","v":{"$error":"#REF!"}},{"$f":"COUNTIFS('BD-SOC'!$P$15:$P$30000,'FORMATO N° 5_XX'!B71,'BD-SOC'!#REF!,'FORMATO N° 5_XX'!$L$43)+\nCOUNTIFS('BD-SOC'!$R$15:$R$30000,'FORMATO N° 5_XX'!B71,'BD-SOC'!#REF!,'FORMATO N° 5_XX'!$L$43)+\nCOUNTIFS('BD-SOC'!$T$15:$T$30000,'FORMATO N° 5_XX'!B71,'BD-SOC'!#REF!,'FORMATO N° 5_XX'!$L$43)+\nCOUNTIFS('BD-SOC'!$V$15:$V$30000,'FORMATO N° 5_XX'!B71,'BD-SOC'!#REF!,'FORMATO N° 5_XX'!$L$43)+\nCOUNTIFS('BD-SOC'!$X$15:$X$30000,'FORMATO N° 5_XX'!B71,'BD-SOC'!#REF!,'FORMATO N° 5_XX'!$L$43)+\nCOUNTIFS('BD-SOC'!$Z$15:$Z$30000,'FORMATO N° 5_XX'!B71,'BD-SOC'!#REF!,'FORMATO N° 5_XX'!$L$43)+\nCOUNTIFS('BD-SOC'!$AB$15:$AB$30000,'FORMATO N° 5_XX'!B71,'BD-SOC'!#REF!,'FORMATO N° 5_XX'!$L$43)","v":{"$error":"#REF!"}},{"$f":"COUNTIFS('BD-SOC'!$P$15:$P$30000,'FORMATO N° 5_XX'!B71,'BD-SOC'!#REF!,'FORMATO N° 5_XX'!$M$44)+\nCOUNTIFS('BD-SOC'!$R$15:$R$30000,'FORMATO N° 5_XX'!B71,'BD-SOC'!#REF!,'FORMATO N° 5_XX'!$M$44)+\nCOUNTIFS('BD-SOC'!$T$15:$T$30000,'FORMATO N° 5_XX'!B71,'BD-SOC'!#REF!,'FORMATO N° 5_XX'!$M$44)+\nCOUNTIFS('BD-SOC'!$V$15:$V$30000,'FORMATO N° 5_XX'!B71,'BD-SOC'!#REF!,'FORMATO N° 5_XX'!$M$44)+\nCOUNTIFS('BD-SOC'!$X$15:$X$30000,'FORMATO N° 5_XX'!B71,'BD-SOC'!#REF!,'FORMATO N° 5_XX'!$M$44)+\nCOUNTIFS('BD-SOC'!$Z$15:$Z$30000,'FORMATO N° 5_XX'!B71,'BD-SOC'!#REF!,'FORMATO N° 5_XX'!$M$44)+\nCOUNTIFS('BD-SOC'!$AB$15:$AB$30000,'FORMATO N° 5_XX'!B71,'BD-SOC'!#REF!,'FORMATO N° 5_XX'!$M$44)","v":{"$error":"#REF!"}},{"$f":"COUNTIFS('BD-SOC'!$P$15:$P$30000,'FORMATO N° 5_XX'!B71,'BD-SOC'!#REF!,'FORMATO N° 5_XX'!$N$44)+\nCOUNTIFS('BD-SOC'!$R$15:$R$30000,'FORMATO N° 5_XX'!B71,'BD-SOC'!#REF!,'FORMATO N° 5_XX'!$N$44)+\nCOUNTIFS('BD-SOC'!$T$15:$T$30000,'FORMATO N° 5_XX'!B71,'BD-SOC'!#REF!,'FORMATO N° 5_XX'!$N$44)+\nCOUNTIFS('BD-SOC'!$V$15:$V$30000,'FORMATO N° 5_XX'!B71,'BD-SOC'!#REF!,'FORMATO N° 5_XX'!$N$44)+\nCOUNTIFS('BD-SOC'!$X$15:$X$30000,'FORMATO N° 5_XX'!B71,'BD-SOC'!#REF!,'FORMATO N° 5_XX'!$N$44)+\nCOUNTIFS('BD-SOC'!$Z$15:$Z$30000,'FORMATO N° 5_XX'!B71,'BD-SOC'!#REF!,'FORMATO N° 5_XX'!$N$44)+\nCOUNTIFS('BD-SOC'!$AB$15:$AB$30000,'FORMATO N° 5_XX'!B71,'BD-SOC'!#REF!,'FORMATO N° 5_XX'!$N$44)","v":{"$error":"#REF!"}},{"$f":"COUNTIFS('BD-SOC'!$P$15:$P$30000,'FORMATO N° 5_XX'!B71,'BD-SOC'!#REF!,'FORMATO N° 5_XX'!$O$44)+\nCOUNTIFS('BD-SOC'!$R$15:$R$30000,'FORMATO N° 5_XX'!B71,'BD-SOC'!#REF!,'FORMATO N° 5_XX'!$O$44)+\nCOUNTIFS('BD-SOC'!$T$15:$T$30000,'FORMATO N° 5_XX'!B71,'BD-SOC'!#REF!,'FORMATO N° 5_XX'!$O$44)+\nCOUNTIFS('BD-SOC'!$V$15:$V$30000,'FORMATO N° 5_XX'!B71,'BD-SOC'!#REF!,'FORMATO N° 5_XX'!$O$44)+\nCOUNTIFS('BD-SOC'!$X$15:$X$30000,'FORMATO N° 5_XX'!B71,'BD-SOC'!#REF!,'FORMATO N° 5_XX'!$O$44)+\nCOUNTIFS('BD-SOC'!$Z$15:$Z$30000,'FORMATO N° 5_XX'!B71,'BD-SOC'!#REF!,'FORMATO N° 5_XX'!$O$44)+\nCOUNTIFS('BD-SOC'!$AB$15:$AB$30000,'FORMATO N° 5_XX'!B71,'BD-SOC'!#REF!,'FORMATO N° 5_XX'!$O$44)","v":{"$error":"#REF!"}},{"$f":"COUNTIFS('BD-SOC'!$P$15:$P$30000,'FORMATO N° 5_XX'!B71,'BD-SOC'!#REF!,'FORMATO N° 5_XX'!$P$44)+\nCOUNTIFS('BD-SOC'!$R$15:$R$30000,'FORMATO N° 5_XX'!B71,'BD-SOC'!#REF!,'FORMATO N° 5_XX'!$P$44)+\nCOUNTIFS('BD-SOC'!$T$15:$T$30000,'FORMATO N° 5_XX'!B71,'BD-SOC'!#REF!,'FORMATO N° 5_XX'!$P$44)+\nCOUNTIFS('BD-SOC'!$V$15:$V$30000,'FORMATO N° 5_XX'!B71,'BD-SOC'!#REF!,'FORMATO N° 5_XX'!$P$44)+\nCOUNTIFS('BD-SOC'!$X$15:$X$30000,'FORMATO N° 5_XX'!B71,'BD-SOC'!#REF!,'FORMATO N° 5_XX'!$P$44)+\nCOUNTIFS('BD-SOC'!$Z$15:$Z$30000,'FORMATO N° 5_XX'!B71,'BD-SOC'!#REF!,'FORMATO N° 5_XX'!$P$44)+\nCOUNTIFS('BD-SOC'!$AB$15:$AB$30000,'FORMATO N° 5_XX'!B71,'BD-SOC'!#REF!,'FORMATO N° 5_XX'!$P$44)","v":{"$error":"#REF!"}},{"$f":"COUNTIFS('BD-SOC'!$P$15:$P$30000,'FORMATO N° 5_XX'!B71,'BD-SOC'!#REF!,'FORMATO N° 5_XX'!$Q$44)+\nCOUNTIFS('BD-SOC'!$R$15:$R$30000,'FORMATO N° 5_XX'!B71,'BD-SOC'!#REF!,'FORMATO N° 5_XX'!$Q$44)+\nCOUNTIFS('BD-SOC'!$T$15:$T$30000,'FORMATO N° 5_XX'!B71,'BD-SOC'!#REF!,'FORMATO N° 5_XX'!$Q$44)+\nCOUNTIFS('BD-SOC'!$V$15:$V$30000,'FORMATO N° 5_XX'!B71,'BD-SOC'!#REF!,'FORMATO N° 5_XX'!$Q$44)+\nCOUNTIFS('BD-SOC'!$X$15:$X$30000,'FORMATO N° 5_XX'!B71,'BD-SOC'!#REF!,'FORMATO N° 5_XX'!$Q$44)+\nCOUNTIFS('BD-SOC'!$Z$15:$Z$30000,'FORMATO N° 5_XX'!B71,'BD-SOC'!#REF!,'FORMATO N° 5_XX'!$Q$44)+\nCOUNTIFS('BD-SOC'!$AB$15:$AB$30000,'FORMATO N° 5_XX'!B71,'BD-SOC'!#REF!,'FORMATO N° 5_XX'!$Q$44)","v":{"$error":"#REF!"}},{"$f":"COUNTIFS('BD-SOC'!$P$15:$P$30000,'FORMATO N° 5_XX'!B71,'BD-SOC'!#REF!,'FORMATO N° 5_XX'!$R$44)+\nCOUNTIFS('BD-SOC'!$R$15:$R$30000,'FORMATO N° 5_XX'!B71,'BD-SOC'!#REF!,'FORMATO N° 5_XX'!$R$44)+\nCOUNTIFS('BD-SOC'!$T$15:$T$30000,'FORMATO N° 5_XX'!B71,'BD-SOC'!#REF!,'FORMATO N° 5_XX'!$R$44)+\nCOUNTIFS('BD-SOC'!$V$15:$V$30000,'FORMATO N° 5_XX'!B71,'BD-SOC'!#REF!,'FORMATO N° 5_XX'!$R$44)+\nCOUNTIFS('BD-SOC'!$X$15:$X$30000,'FORMATO N° 5_XX'!B71,'BD-SOC'!#REF!,'FORMATO N° 5_XX'!$R$44)+\nCOUNTIFS('BD-SOC'!$Z$15:$Z$30000,'FORMATO N° 5_XX'!B71,'BD-SOC'!#REF!,'FORMATO N° 5_XX'!$R$44)+\nCOUNTIFS('BD-SOC'!$AB$15:$AB$30000,'FORMATO N° 5_XX'!B71,'BD-SOC'!#REF!,'FORMATO N° 5_XX'!$R$44)","v":{"$error":"#REF!"}},{"$f":"COUNTIFS('BD-SOC'!$P$15:$P$30000,'FORMATO N° 5_XX'!B71,'BD-SOC'!#REF!,'FORMATO N° 5_XX'!$S$43)+\nCOUNTIFS('BD-SOC'!$R$15:$R$30000,'FORMATO N° 5_XX'!B71,'BD-SOC'!#REF!,'FORMATO N° 5_XX'!$S$43)+\nCOUNTIFS('BD-SOC'!$T$15:$T$30000,'FORMATO N° 5_XX'!B71,'BD-SOC'!#REF!,'FORMATO N° 5_XX'!$S$43)+\nCOUNTIFS('BD-SOC'!$V$15:$V$30000,'FORMATO N° 5_XX'!B71,'BD-SOC'!#REF!,'FORMATO N° 5_XX'!$S$43)+\nCOUNTIFS('BD-SOC'!$X$15:$X$30000,'FORMATO N° 5_XX'!B71,'BD-SOC'!#REF!,'FORMATO N° 5_XX'!$S$43)+\nCOUNTIFS('BD-SOC'!$Z$15:$Z$30000,'FORMATO N° 5_XX'!B71,'BD-SOC'!#REF!,'FORMATO N° 5_XX'!$S$43)+\nCOUNTIFS('BD-SOC'!$AB$15:$AB$30000,'FORMATO N° 5_XX'!B71,'BD-SOC'!#REF!,'FORMATO N° 5_XX'!$S$43)","v":{"$error":"#REF!"}},{"$f":"COUNTIFS('BD-SOC'!$P$15:$P$30000,'FORMATO N° 5_XX'!B71,'BD-SOC'!#REF!,'FORMATO N° 5_XX'!$T$43)+\nCOUNTIFS('BD-SOC'!$R$15:$R$30000,'FORMATO N° 5_XX'!B71,'BD-SOC'!#REF!,'FORMATO N° 5_XX'!$T$43)+\nCOUNTIFS('BD-SOC'!$T$15:$T$30000,'FORMATO N° 5_XX'!B71,'BD-SOC'!#REF!,'FORMATO N° 5_XX'!$T$43)+\nCOUNTIFS('BD-SOC'!$V$15:$V$30000,'FORMATO N° 5_XX'!B71,'BD-SOC'!#REF!,'FORMATO N° 5_XX'!$T$43)+\nCOUNTIFS('BD-SOC'!$X$15:$X$30000,'FORMATO N° 5_XX'!B71,'BD-SOC'!#REF!,'FORMATO N° 5_XX'!$T$43)+\nCOUNTIFS('BD-SOC'!$Z$15:$Z$30000,'FORMATO N° 5_XX'!B71,'BD-SOC'!#REF!,'FORMATO N° 5_XX'!$T$43)+\nCOUNTIFS('BD-SOC'!$AB$15:$AB$30000,'FORMATO N° 5_XX'!B71,'BD-SOC'!#REF!,'FORMATO N° 5_XX'!$T$43)","v":{"$error":"#REF!"}},0,{"$f":"COUNTIFS('BD-SOC'!$P$15:$P$30000,'FORMATO N° 5_XX'!B71,'BD-SOC'!$I$15:$I$30000,'FORMATO N° 5_XX'!$V$43)+\nCOUNTIFS('BD-SOC'!$R$15:$R$30000,'FORMATO N° 5_XX'!B71,'BD-SOC'!$I$15:$I$30000,'FORMATO N° 5_XX'!$V$43)+\nCOUNTIFS('BD-SOC'!$T$15:$T$30000,'FORMATO N° 5_XX'!B71,'BD-SOC'!$I$15:$I$30000,'FORMATO N° 5_XX'!$V$43)+\nCOUNTIFS('BD-SOC'!$V$15:$V$30000,'FORMATO N° 5_XX'!B71,'BD-SOC'!$I$15:$I$30000,'FORMATO N° 5_XX'!$V$43)+\nCOUNTIFS('BD-SOC'!$X$15:$X$30000,'FORMATO N° 5_XX'!B71,'BD-SOC'!$I$15:$I$30000,'FORMATO N° 5_XX'!$V$43)+\nCOUNTIFS('BD-SOC'!$Z$15:$Z$30000,'FORMATO N° 5_XX'!B71,'BD-SOC'!$I$15:$I$30000,'FORMATO N° 5_XX'!$V$43)+\nCOUNTIFS('BD-SOC'!$AB$15:$AB$30000,'FORMATO N° 5_XX'!B71,'BD-SOC'!$I$15:$I$30000,'FORMATO N° 5_XX'!$V$43)","v":0},{"$f":"COUNTIFS('BD-SOC'!$P$15:$P$30000,'FORMATO N° 5_XX'!B71,'BD-SOC'!$I$15:$I$30000,'FORMATO N° 5_XX'!$W$43)+\nCOUNTIFS('BD-SOC'!$R$15:$R$30000,'FORMATO N° 5_XX'!B71,'BD-SOC'!$I$15:$I$30000,'FORMATO N° 5_XX'!$W$43)+\nCOUNTIFS('BD-SOC'!$T$15:$T$30000,'FORMATO N° 5_XX'!B71,'BD-SOC'!$I$15:$I$30000,'FORMATO N° 5_XX'!$W$43)+\nCOUNTIFS('BD-SOC'!$V$15:$V$30000,'FORMATO N° 5_XX'!B71,'BD-SOC'!$I$15:$I$30000,'FORMATO N° 5_XX'!$W$43)+\nCOUNTIFS('BD-SOC'!$X$15:$X$30000,'FORMATO N° 5_XX'!B71,'BD-SOC'!$I$15:$I$30000,'FORMATO N° 5_XX'!$W$43)+\nCOUNTIFS('BD-SOC'!$Z$15:$Z$30000,'FORMATO N° 5_XX'!B71,'BD-SOC'!$I$15:$I$30000,'FORMATO N° 5_XX'!$W$43)+\nCOUNTIFS('BD-SOC'!$AB$15:$AB$30000,'FORMATO N° 5_XX'!B71,'BD-SOC'!$I$15:$I$30000,'FORMATO N° 5_XX'!$W$43)","v":0},{"$f":"COUNTIFS('BD-SOC'!$P$15:$P$30000,'FORMATO N° 5_XX'!B71,'BD-SOC'!$I$15:$I$30000,'FORMATO N° 5_XX'!$X$43)+\nCOUNTIFS('BD-SOC'!$R$15:$R$30000,'FORMATO N° 5_XX'!B71,'BD-SOC'!$I$15:$I$30000,'FORMATO N° 5_XX'!$X$43)+\nCOUNTIFS('BD-SOC'!$T$15:$T$30000,'FORMATO N° 5_XX'!B71,'BD-SOC'!$I$15:$I$30000,'FORMATO N° 5_XX'!$X$43)+\nCOUNTIFS('BD-SOC'!$V$15:$V$30000,'FORMATO N° 5_XX'!B71,'BD-SOC'!$I$15:$I$30000,'FORMATO N° 5_XX'!$X$43)+\nCOUNTIFS('BD-SOC'!$X$15:$X$30000,'FORMATO N° 5_XX'!B71,'BD-SOC'!$I$15:$I$30000,'FORMATO N° 5_XX'!$X$43)+\nCOUNTIFS('BD-SOC'!$Z$15:$Z$30000,'FORMATO N° 5_XX'!B71,'BD-SOC'!$I$15:$I$30000,'FORMATO N° 5_XX'!$X$43)+\nCOUNTIFS('BD-SOC'!$AB$15:$AB$30000,'FORMATO N° 5_XX'!B71,'BD-SOC'!$I$15:$I$30000,'FORMATO N° 5_XX'!$X$43)","v":0},{"$f":"COUNTIFS('BD-SOC'!$P$15:$P$30000,'FORMATO N° 5_XX'!B71,'BD-SOC'!$I$15:$I$30000,'FORMATO N° 5_XX'!$Y$43)+\nCOUNTIFS('BD-SOC'!$R$15:$R$30000,'FORMATO N° 5_XX'!B71,'BD-SOC'!$I$15:$I$30000,'FORMATO N° 5_XX'!$Y$43)+\nCOUNTIFS('BD-SOC'!$T$15:$T$30000,'FORMATO N° 5_XX'!B71,'BD-SOC'!$I$15:$I$30000,'FORMATO N° 5_XX'!$Y$43)+\nCOUNTIFS('BD-SOC'!$V$15:$V$30000,'FORMATO N° 5_XX'!B71,'BD-SOC'!$I$15:$I$30000,'FORMATO N° 5_XX'!$Y$43)+\nCOUNTIFS('BD-SOC'!$X$15:$X$30000,'FORMATO N° 5_XX'!B71,'BD-SOC'!$I$15:$I$30000,'FORMATO N° 5_XX'!$Y$43)+\nCOUNTIFS('BD-SOC'!$Z$15:$Z$30000,'FORMATO N° 5_XX'!B71,'BD-SOC'!$I$15:$I$30000,'FORMATO N° 5_XX'!$Y$43)+\nCOUNTIFS('BD-SOC'!$AB$15:$AB$30000,'FORMATO N° 5_XX'!B71,'BD-SOC'!$I$15:$I$30000,'FORMATO N° 5_XX'!$Y$43)","v":0},{"$f":"COUNTIFS('BD-SOC'!$P$15:$P$30000,'FORMATO N° 5_XX'!B71,'BD-SOC'!$I$15:$I$30000,'FORMATO N° 5_XX'!$Z$43)+\nCOUNTIFS('BD-SOC'!$R$15:$R$30000,'FORMATO N° 5_XX'!B71,'BD-SOC'!$I$15:$I$30000,'FORMATO N° 5_XX'!$Z$43)+\nCOUNTIFS('BD-SOC'!$T$15:$T$30000,'FORMATO N° 5_XX'!B71,'BD-SOC'!$I$15:$I$30000,'FORMATO N° 5_XX'!$Z$43)+\nCOUNTIFS('BD-SOC'!$V$15:$V$30000,'FORMATO N° 5_XX'!B71,'BD-SOC'!$I$15:$I$30000,'FORMATO N° 5_XX'!$Z$43)+\nCOUNTIFS('BD-SOC'!$X$15:$X$30000,'FORMATO N° 5_XX'!B71,'BD-SOC'!$I$15:$I$30000,'FORMATO N° 5_XX'!$Z$43)+\nCOUNTIFS('BD-SOC'!$Z$15:$Z$30000,'FORMATO N° 5_XX'!B71,'BD-SOC'!$I$15:$I$30000,'FORMATO N° 5_XX'!$Z$43)+\nCOUNTIFS('BD-SOC'!$AB$15:$AB$30000,'FORMATO N° 5_XX'!B71,'BD-SOC'!$I$15:$I$30000,'FORMATO N° 5_XX'!$Z$43)","v":0},{"$f":"COUNTIFS('BD-SOC'!$P$15:$P$30000,'FORMATO N° 5_XX'!B71,'BD-SOC'!$I$15:$I$30000,'FORMATO N° 5_XX'!$AA$43)+\nCOUNTIFS('BD-SOC'!$R$15:$R$30000,'FORMATO N° 5_XX'!B71,'BD-SOC'!$I$15:$I$30000,'FORMATO N° 5_XX'!$AA$43)+\nCOUNTIFS('BD-SOC'!$T$15:$T$30000,'FORMATO N° 5_XX'!B71,'BD-SOC'!$I$15:$I$30000,'FORMATO N° 5_XX'!$AA$43)+\nCOUNTIFS('BD-SOC'!$V$15:$V$30000,'FORMATO N° 5_XX'!B71,'BD-SOC'!$I$15:$I$30000,'FORMATO N° 5_XX'!$AA$43)+\nCOUNTIFS('BD-SOC'!$X$15:$X$30000,'FORMATO N° 5_XX'!B71,'BD-SOC'!$I$15:$I$30000,'FORMATO N° 5_XX'!$AA$43)+\nCOUNTIFS('BD-SOC'!$Z$15:$Z$30000,'FORMATO N° 5_XX'!B71,'BD-SOC'!$I$15:$I$30000,'FORMATO N° 5_XX'!$AA$43)+\nCOUNTIFS('BD-SOC'!$AB$15:$AB$30000,'FORMATO N° 5_XX'!B71,'BD-SOC'!$I$15:$I$30000,'FORMATO N° 5_XX'!$AA$43)","v":0},{"$f":"COUNTIFS('BD-SOC'!$P$15:$P$30000,'FORMATO N° 5_XX'!B71,'BD-SOC'!$I$15:$I$30000,'FORMATO N° 5_XX'!$AB$43)+\nCOUNTIFS('BD-SOC'!$R$15:$R$30000,'FORMATO N° 5_XX'!B71,'BD-SOC'!$I$15:$I$30000,'FORMATO N° 5_XX'!$AB$43)+\nCOUNTIFS('BD-SOC'!$T$15:$T$30000,'FORMATO N° 5_XX'!B71,'BD-SOC'!$I$15:$I$30000,'FORMATO N° 5_XX'!$AB$43)+\nCOUNTIFS('BD-SOC'!$V$15:$V$30000,'FORMATO N° 5_XX'!B71,'BD-SOC'!$I$15:$I$30000,'FORMATO N° 5_XX'!$AB$43)+\nCOUNTIFS('BD-SOC'!$X$15:$X$30000,'FORMATO N° 5_XX'!B71,'BD-SOC'!$I$15:$I$30000,'FORMATO N° 5_XX'!$AB$43)+\nCOUNTIFS('BD-SOC'!$Z$15:$Z$30000,'FORMATO N° 5_XX'!B71,'BD-SOC'!$I$15:$I$30000,'FORMATO N° 5_XX'!$AB$43)+\nCOUNTIFS('BD-SOC'!$AB$15:$AB$30000,'FORMATO N° 5_XX'!B71,'BD-SOC'!$I$15:$I$30000,'FORMATO N° 5_XX'!$AB$43)","v":0},{"$f":"COUNTIFS('BD-SOC'!$P$15:$P$30000,'FORMATO N° 5_XX'!B71,'BD-SOC'!$I$15:$I$30000,'FORMATO N° 5_XX'!$AC$43)+\nCOUNTIFS('BD-SOC'!$R$15:$R$30000,'FORMATO N° 5_XX'!B71,'BD-SOC'!$I$15:$I$30000,'FORMATO N° 5_XX'!$AC$43)+\nCOUNTIFS('BD-SOC'!$T$15:$T$30000,'FORMATO N° 5_XX'!B71,'BD-SOC'!$I$15:$I$30000,'FORMATO N° 5_XX'!$AC$43)+\nCOUNTIFS('BD-SOC'!$V$15:$V$30000,'FORMATO N° 5_XX'!B71,'BD-SOC'!$I$15:$I$30000,'FORMATO N° 5_XX'!$AC$43)+\nCOUNTIFS('BD-SOC'!$X$15:$X$30000,'FORMATO N° 5_XX'!B71,'BD-SOC'!$I$15:$I$30000,'FORMATO N° 5_XX'!$AC$43)+\nCOUNTIFS('BD-SOC'!$Z$15:$Z$30000,'FORMATO N° 5_XX'!B71,'BD-SOC'!$I$15:$I$30000,'FORMATO N° 5_XX'!$AC$43)+\nCOUNTIFS('BD-SOC'!$AB$15:$AB$30000,'FORMATO N° 5_XX'!B71,'BD-SOC'!$I$15:$I$30000,'FORMATO N° 5_XX'!$AC$43)","v":0},{"$f":"COUNTIFS('BD-SOC'!$P$15:$P$30000,'FORMATO N° 5_XX'!B71,'BD-SOC'!$I$15:$I$30000,'FORMATO N° 5_XX'!$AD$43)+\nCOUNTIFS('BD-SOC'!$R$15:$R$30000,'FORMATO N° 5_XX'!B71,'BD-SOC'!$I$15:$I$30000,'FORMATO N° 5_XX'!$AD$43)+\nCOUNTIFS('BD-SOC'!$T$15:$T$30000,'FORMATO N° 5_XX'!B71,'BD-SOC'!$I$15:$I$30000,'FORMATO N° 5_XX'!$AD$43)+\nCOUNTIFS('BD-SOC'!$V$15:$V$30000,'FORMATO N° 5_XX'!B71,'BD-SOC'!$I$15:$I$30000,'FORMATO N° 5_XX'!$AD$43)+\nCOUNTIFS('BD-SOC'!$X$15:$X$30000,'FORMATO N° 5_XX'!B71,'BD-SOC'!$I$15:$I$30000,'FORMATO N° 5_XX'!$AD$43)+\nCOUNTIFS('BD-SOC'!$Z$15:$Z$30000,'FORMATO N° 5_XX'!B71,'BD-SOC'!$I$15:$I$30000,'FORMATO N° 5_XX'!$AD$43)+\nCOUNTIFS('BD-SOC'!$AB$15:$AB$30000,'FORMATO N° 5_XX'!B71,'BD-SOC'!$I$15:$I$30000,'FORMATO N° 5_XX'!$AD$43)","v":0},{"$f":"COUNTIFS('BD-SOC'!$P$15:$P$30000,'FORMATO N° 5_XX'!B71,'BD-SOC'!$I$15:$I$30000,'FORMATO N° 5_XX'!$AE$43)+\nCOUNTIFS('BD-SOC'!$R$15:$R$30000,'FORMATO N° 5_XX'!B71,'BD-SOC'!$I$15:$I$30000,'FORMATO N° 5_XX'!$AE$43)+\nCOUNTIFS('BD-SOC'!$T$15:$T$30000,'FORMATO N° 5_XX'!B71,'BD-SOC'!$I$15:$I$30000,'FORMATO N° 5_XX'!$AE$43)+\nCOUNTIFS('BD-SOC'!$V$15:$V$30000,'FORMATO N° 5_XX'!B71,'BD-SOC'!$I$15:$I$30000,'FORMATO N° 5_XX'!$AE$43)+\nCOUNTIFS('BD-SOC'!$X$15:$X$30000,'FORMATO N° 5_XX'!B71,'BD-SOC'!$I$15:$I$30000,'FORMATO N° 5_XX'!$AE$43)+\nCOUNTIFS('BD-SOC'!$Z$15:$Z$30000,'FORMATO N° 5_XX'!B71,'BD-SOC'!$I$15:$I$30000,'FORMATO N° 5_XX'!$AE$43)+\nCOUNTIFS('BD-SOC'!$AB$15:$AB$30000,'FORMATO N° 5_XX'!B71,'BD-SOC'!$I$15:$I$30000,'FORMATO N° 5_XX'!$AE$43)","v":0}]
[null,305,"GESTIÓN RELACIONADA A NIÑOS/AS",null,null,null,null,null,{"$error":"#REF!"},{"$f":"COUNTIFS('BD-SOC'!$P$15:$P$30000,'FORMATO N° 5_XX'!B72,'BD-SOC'!#REF!,'FORMATO N° 5_XX'!$J$43)+\nCOUNTIFS('BD-SOC'!$R$15:$R$30000,'FORMATO N° 5_XX'!B72,'BD-SOC'!#REF!,'FORMATO N° 5_XX'!$J$43)+\nCOUNTIFS('BD-SOC'!$T$15:$T$30000,'FORMATO N° 5_XX'!B72,'BD-SOC'!#REF!,'FORMATO N° 5_XX'!$J$43)+\nCOUNTIFS('BD-SOC'!$V$15:$V$30000,'FORMATO N° 5_XX'!B72,'BD-SOC'!#REF!,'FORMATO N° 5_XX'!$J$43)+\nCOUNTIFS('BD-SOC'!$X$15:$X$30000,'FORMATO N° 5_XX'!B72,'BD-SOC'!#REF!,'FORMATO N° 5_XX'!$J$43)+\nCOUNTIFS('BD-SOC'!$Z$15:$Z$30000,'FORMATO N° 5_XX'!B72,'BD-SOC'!#REF!,'FORMATO N° 5_XX'!$J$43)+\nCOUNTIFS('BD-SOC'!$AB$15:$AB$30000,'FORMATO N° 5_XX'!B72,'BD-SOC'!#REF!,'FORMATO N° 5_XX'!$J$43)","v":{"$error":"#REF!"}},{"$f":"COUNTIFS('BD-SOC'!$P$15:$P$30000,'FORMATO N° 5_XX'!B72,'BD-SOC'!#REF!,'FORMATO N° 5_XX'!$K$43)+\nCOUNTIFS('BD-SOC'!$R$15:$R$30000,'FORMATO N° 5_XX'!B72,'BD-SOC'!#REF!,'FORMATO N° 5_XX'!$K$43)+\nCOUNTIFS('BD-SOC'!$T$15:$T$30000,'FORMATO N° 5_XX'!B72,'BD-SOC'!#REF!,'FORMATO N° 5_XX'!$K$43)+\nCOUNTIFS('BD-SOC'!$V$15:$V$30000,'FORMATO N° 5_XX'!B72,'BD-SOC'!#REF!,'FORMATO N° 5_XX'!$K$43)+\nCOUNTIFS('BD-SOC'!$X$15:$X$30000,'FORMATO N° 5_XX'!B72,'BD-SOC'!#REF!,'FORMATO N° 5_XX'!$K$43)+\nCOUNTIFS('BD-SOC'!$Z$15:$Z$30000,'FORMATO N° 5_XX'!B72,'BD-SOC'!#REF!,'FORMATO N° 5_XX'!$K$43)+\nCOUNTIFS('BD-SOC'!$AB$15:$AB$30000,'FORMATO N° 5_XX'!B72,'BD-SOC'!#REF!,'FORMATO N° 5_XX'!$K$43)","v":{"$error":"#REF!"}},{"$f":"COUNTIFS('BD-SOC'!$P$15:$P$30000,'FORMATO N° 5_XX'!B72,'BD-SOC'!#REF!,'FORMATO N° 5_XX'!$L$43)+\nCOUNTIFS('BD-SOC'!$R$15:$R$30000,'FORMATO N° 5_XX'!B72,'BD-SOC'!#REF!,'FORMATO N° 5_XX'!$L$43)+\nCOUNTIFS('BD-SOC'!$T$15:$T$30000,'FORMATO N° 5_XX'!B72,'BD-SOC'!#REF!,'FORMATO N° 5_XX'!$L$43)+\nCOUNTIFS('BD-SOC'!$V$15:$V$30000,'FORMATO N° 5_XX'!B72,'BD-SOC'!#REF!,'FORMATO N° 5_XX'!$L$43)+\nCOUNTIFS('BD-SOC'!$X$15:$X$30000,'FORMATO N° 5_XX'!B72,'BD-SOC'!#REF!,'FORMATO N° 5_XX'!$L$43)+\nCOUNTIFS('BD-SOC'!$Z$15:$Z$30000,'FORMATO N° 5_XX'!B72,'BD-SOC'!#REF!,'FORMATO N° 5_XX'!$L$43)+\nCOUNTIFS('BD-SOC'!$AB$15:$AB$30000,'FORMATO N° 5_XX'!B72,'BD-SOC'!#REF!,'FORMATO N° 5_XX'!$L$43)","v":{"$error":"#REF!"}},{"$f":"COUNTIFS('BD-SOC'!$P$15:$P$30000,'FORMATO N° 5_XX'!B72,'BD-SOC'!#REF!,'FORMATO N° 5_XX'!$M$44)+\nCOUNTIFS('BD-SOC'!$R$15:$R$30000,'FORMATO N° 5_XX'!B72,'BD-SOC'!#REF!,'FORMATO N° 5_XX'!$M$44)+\nCOUNTIFS('BD-SOC'!$T$15:$T$30000,'FORMATO N° 5_XX'!B72,'BD-SOC'!#REF!,'FORMATO N° 5_XX'!$M$44)+\nCOUNTIFS('BD-SOC'!$V$15:$V$30000,'FORMATO N° 5_XX'!B72,'BD-SOC'!#REF!,'FORMATO N° 5_XX'!$M$44)+\nCOUNTIFS('BD-SOC'!$X$15:$X$30000,'FORMATO N° 5_XX'!B72,'BD-SOC'!#REF!,'FORMATO N° 5_XX'!$M$44)+\nCOUNTIFS('BD-SOC'!$Z$15:$Z$30000,'FORMATO N° 5_XX'!B72,'BD-SOC'!#REF!,'FORMATO N° 5_XX'!$M$44)+\nCOUNTIFS('BD-SOC'!$AB$15:$AB$30000,'FORMATO N° 5_XX'!B72,'BD-SOC'!#REF!,'FORMATO N° 5_XX'!$M$44)","v":{"$error":"#REF!"}},{"$f":"COUNTIFS('BD-SOC'!$P$15:$P$30000,'FORMATO N° 5_XX'!B72,'BD-SOC'!#REF!,'FORMATO N° 5_XX'!$N$44)+\nCOUNTIFS('BD-SOC'!$R$15:$R$30000,'FORMATO N° 5_XX'!B72,'BD-SOC'!#REF!,'FORMATO N° 5_XX'!$N$44)+\nCOUNTIFS('BD-SOC'!$T$15:$T$30000,'FORMATO N° 5_XX'!B72,'BD-SOC'!#REF!,'FORMATO N° 5_XX'!$N$44)+\nCOUNTIFS('BD-SOC'!$V$15:$V$30000,'FORMATO N° 5_XX'!B72,'BD-SOC'!#REF!,'FORMATO N° 5_XX'!$N$44)+\nCOUNTIFS('BD-SOC'!$X$15:$X$30000,'FORMATO N° 5_XX'!B72,'BD-SOC'!#REF!,'FORMATO N° 5_XX'!$N$44)+\nCOUNTIFS('BD-SOC'!$Z$15:$Z$30000,'FORMATO N° 5_XX'!B72,'BD-SOC'!#REF!,'FORMATO N° 5_XX'!$N$44)+\nCOUNTIFS('BD-SOC'!$AB$15:$AB$30000,'FORMATO N° 5_XX'!B72,'BD-SOC'!#REF!,'FORMATO N° 5_XX'!$N$44)","v":{"$error":"#REF!"}},{"$f":"COUNTIFS('BD-SOC'!$P$15:$P$30000,'FORMATO N° 5_XX'!B72,'BD-SOC'!#REF!,'FORMATO N° 5_XX'!$O$44)+\nCOUNTIFS('BD-SOC'!$R$15:$R$30000,'FORMATO N° 5_XX'!B72,'BD-SOC'!#REF!,'FORMATO N° 5_XX'!$O$44)+\nCOUNTIFS('BD-SOC'!$T$15:$T$30000,'FORMATO N° 5_XX'!B72,'BD-SOC'!#REF!,'FORMATO N° 5_XX'!$O$44)+\nCOUNTIFS('BD-SOC'!$V$15:$V$30000,'FORMATO N° 5_XX'!B72,'BD-SOC'!#REF!,'FORMATO N° 5_XX'!$O$44)+\nCOUNTIFS('BD-SOC'!$X$15:$X$30000,'FORMATO N° 5_XX'!B72,'BD-SOC'!#REF!,'FORMATO N° 5_XX'!$O$44)+\nCOUNTIFS('BD-SOC'!$Z$15:$Z$30000,'FORMATO N° 5_XX'!B72,'BD-SOC'!#REF!,'FORMATO N° 5_XX'!$O$44)+\nCOUNTIFS('BD-SOC'!$AB$15:$AB$30000,'FORMATO N° 5_XX'!B72,'BD-SOC'!#REF!,'FORMATO N° 5_XX'!$O$44)","v":{"$error":"#REF!"}},{"$f":"COUNTIFS('BD-SOC'!$P$15:$P$30000,'FORMATO N° 5_XX'!B72,'BD-SOC'!#REF!,'FORMATO N° 5_XX'!$P$44)+\nCOUNTIFS('BD-SOC'!$R$15:$R$30000,'FORMATO N° 5_XX'!B72,'BD-SOC'!#REF!,'FORMATO N° 5_XX'!$P$44)+\nCOUNTIFS('BD-SOC'!$T$15:$T$30000,'FORMATO N° 5_XX'!B72,'BD-SOC'!#REF!,'FORMATO N° 5_XX'!$P$44)+\nCOUNTIFS('BD-SOC'!$V$15:$V$30000,'FORMATO N° 5_XX'!B72,'BD-SOC'!#REF!,'FORMATO N° 5_XX'!$P$44)+\nCOUNTIFS('BD-SOC'!$X$15:$X$30000,'FORMATO N° 5_XX'!B72,'BD-SOC'!#REF!,'FORMATO N° 5_XX'!$P$44)+\nCOUNTIFS('BD-SOC'!$Z$15:$Z$30000,'FORMATO N° 5_XX'!B72,'BD-SOC'!#REF!,'FORMATO N° 5_XX'!$P$44)+\nCOUNTIFS('BD-SOC'!$AB$15:$AB$30000,'FORMATO N° 5_XX'!B72,'BD-SOC'!#REF!,'FORMATO N° 5_XX'!$P$44)","v":{"$error":"#REF!"}},{"$f":"COUNTIFS('BD-SOC'!$P$15:$P$30000,'FORMATO N° 5_XX'!B72,'BD-SOC'!#REF!,'FORMATO N° 5_XX'!$Q$44)+\nCOUNTIFS('BD-SOC'!$R$15:$R$30000,'FORMATO N° 5_XX'!B72,'BD-SOC'!#REF!,'FORMATO N° 5_XX'!$Q$44)+\nCOUNTIFS('BD-SOC'!$T$15:$T$30000,'FORMATO N° 5_XX'!B72,'BD-SOC'!#REF!,'FORMATO N° 5_XX'!$Q$44)+\nCOUNTIFS('BD-SOC'!$V$15:$V$30000,'FORMATO N° 5_XX'!B72,'BD-SOC'!#REF!,'FORMATO N° 5_XX'!$Q$44)+\nCOUNTIFS('BD-SOC'!$X$15:$X$30000,'FORMATO N° 5_XX'!B72,'BD-SOC'!#REF!,'FORMATO N° 5_XX'!$Q$44)+\nCOUNTIFS('BD-SOC'!$Z$15:$Z$30000,'FORMATO N° 5_XX'!B72,'BD-SOC'!#REF!,'FORMATO N° 5_XX'!$Q$44)+\nCOUNTIFS('BD-SOC'!$AB$15:$AB$30000,'FORMATO N° 5_XX'!B72,'BD-SOC'!#REF!,'FORMATO N° 5_XX'!$Q$44)","v":{"$error":"#REF!"}},{"$f":"COUNTIFS('BD-SOC'!$P$15:$P$30000,'FORMATO N° 5_XX'!B72,'BD-SOC'!#REF!,'FORMATO N° 5_XX'!$R$44)+\nCOUNTIFS('BD-SOC'!$R$15:$R$30000,'FORMATO N° 5_XX'!B72,'BD-SOC'!#REF!,'FORMATO N° 5_XX'!$R$44)+\nCOUNTIFS('BD-SOC'!$T$15:$T$30000,'FORMATO N° 5_XX'!B72,'BD-SOC'!#REF!,'FORMATO N° 5_XX'!$R$44)+\nCOUNTIFS('BD-SOC'!$V$15:$V$30000,'FORMATO N° 5_XX'!B72,'BD-SOC'!#REF!,'FORMATO N° 5_XX'!$R$44)+\nCOUNTIFS('BD-SOC'!$X$15:$X$30000,'FORMATO N° 5_XX'!B72,'BD-SOC'!#REF!,'FORMATO N° 5_XX'!$R$44)+\nCOUNTIFS('BD-SOC'!$Z$15:$Z$30000,'FORMATO N° 5_XX'!B72,'BD-SOC'!#REF!,'FORMATO N° 5_XX'!$R$44)+\nCOUNTIFS('BD-SOC'!$AB$15:$AB$30000,'FORMATO N° 5_XX'!B72,'BD-SOC'!#REF!,'FORMATO N° 5_XX'!$R$44)","v":{"$error":"#REF!"}},{"$f":"COUNTIFS('BD-SOC'!$P$15:$P$30000,'FORMATO N° 5_XX'!B72,'BD-SOC'!#REF!,'FORMATO N° 5_XX'!$S$43)+\nCOUNTIFS('BD-SOC'!$R$15:$R$30000,'FORMATO N° 5_XX'!B72,'BD-SOC'!#REF!,'FORMATO N° 5_XX'!$S$43)+\nCOUNTIFS('BD-SOC'!$T$15:$T$30000,'FORMATO N° 5_XX'!B72,'BD-SOC'!#REF!,'FORMATO N° 5_XX'!$S$43)+\nCOUNTIFS('BD-SOC'!$V$15:$V$30000,'FORMATO N° 5_XX'!B72,'BD-SOC'!#REF!,'FORMATO N° 5_XX'!$S$43)+\nCOUNTIFS('BD-SOC'!$X$15:$X$30000,'FORMATO N° 5_XX'!B72,'BD-SOC'!#REF!,'FORMATO N° 5_XX'!$S$43)+\nCOUNTIFS('BD-SOC'!$Z$15:$Z$30000,'FORMATO N° 5_XX'!B72,'BD-SOC'!#REF!,'FORMATO N° 5_XX'!$S$43)+\nCOUNTIFS('BD-SOC'!$AB$15:$AB$30000,'FORMATO N° 5_XX'!B72,'BD-SOC'!#REF!,'FORMATO N° 5_XX'!$S$43)","v":{"$error":"#REF!"}},{"$f":"COUNTIFS('BD-SOC'!$P$15:$P$30000,'FORMATO N° 5_XX'!B72,'BD-SOC'!#REF!,'FORMATO N° 5_XX'!$T$43)+\nCOUNTIFS('BD-SOC'!$R$15:$R$30000,'FORMATO N° 5_XX'!B72,'BD-SOC'!#REF!,'FORMATO N° 5_XX'!$T$43)+\nCOUNTIFS('BD-SOC'!$T$15:$T$30000,'FORMATO N° 5_XX'!B72,'BD-SOC'!#REF!,'FORMATO N° 5_XX'!$T$43)+\nCOUNTIFS('BD-SOC'!$V$15:$V$30000,'FORMATO N° 5_XX'!B72,'BD-SOC'!#REF!,'FORMATO N° 5_XX'!$T$43)+\nCOUNTIFS('BD-SOC'!$X$15:$X$30000,'FORMATO N° 5_XX'!B72,'BD-SOC'!#REF!,'FORMATO N° 5_XX'!$T$43)+\nCOUNTIFS('BD-SOC'!$Z$15:$Z$30000,'FORMATO N° 5_XX'!B72,'BD-SOC'!#REF!,'FORMATO N° 5_XX'!$T$43)+\nCOUNTIFS('BD-SOC'!$AB$15:$AB$30000,'FORMATO N° 5_XX'!B72,'BD-SOC'!#REF!,'FORMATO N° 5_XX'!$T$43)","v":{"$error":"#REF!"}},0,{"$f":"COUNTIFS('BD-SOC'!$P$15:$P$30000,'FORMATO N° 5_XX'!B72,'BD-SOC'!$I$15:$I$30000,'FORMATO N° 5_XX'!$V$43)+\nCOUNTIFS('BD-SOC'!$R$15:$R$30000,'FORMATO N° 5_XX'!B72,'BD-SOC'!$I$15:$I$30000,'FORMATO N° 5_XX'!$V$43)+\nCOUNTIFS('BD-SOC'!$T$15:$T$30000,'FORMATO N° 5_XX'!B72,'BD-SOC'!$I$15:$I$30000,'FORMATO N° 5_XX'!$V$43)+\nCOUNTIFS('BD-SOC'!$V$15:$V$30000,'FORMATO N° 5_XX'!B72,'BD-SOC'!$I$15:$I$30000,'FORMATO N° 5_XX'!$V$43)+\nCOUNTIFS('BD-SOC'!$X$15:$X$30000,'FORMATO N° 5_XX'!B72,'BD-SOC'!$I$15:$I$30000,'FORMATO N° 5_XX'!$V$43)+\nCOUNTIFS('BD-SOC'!$Z$15:$Z$30000,'FORMATO N° 5_XX'!B72,'BD-SOC'!$I$15:$I$30000,'FORMATO N° 5_XX'!$V$43)+\nCOUNTIFS('BD-SOC'!$AB$15:$AB$30000,'FORMATO N° 5_XX'!B72,'BD-SOC'!$I$15:$I$30000,'FORMATO N° 5_XX'!$V$43)","v":0},{"$f":"COUNTIFS('BD-SOC'!$P$15:$P$30000,'FORMATO N° 5_XX'!B72,'BD-SOC'!$I$15:$I$30000,'FORMATO N° 5_XX'!$W$43)+\nCOUNTIFS('BD-SOC'!$R$15:$R$30000,'FORMATO N° 5_XX'!B72,'BD-SOC'!$I$15:$I$30000,'FORMATO N° 5_XX'!$W$43)+\nCOUNTIFS('BD-SOC'!$T$15:$T$30000,'FORMATO N° 5_XX'!B72,'BD-SOC'!$I$15:$I$30000,'FORMATO N° 5_XX'!$W$43)+\nCOUNTIFS('BD-SOC'!$V$15:$V$30000,'FORMATO N° 5_XX'!B72,'BD-SOC'!$I$15:$I$30000,'FORMATO N° 5_XX'!$W$43)+\nCOUNTIFS('BD-SOC'!$X$15:$X$30000,'FORMATO N° 5_XX'!B72,'BD-SOC'!$I$15:$I$30000,'FORMATO N° 5_XX'!$W$43)+\nCOUNTIFS('BD-SOC'!$Z$15:$Z$30000,'FORMATO N° 5_XX'!B72,'BD-SOC'!$I$15:$I$30000,'FORMATO N° 5_XX'!$W$43)+\nCOUNTIFS('BD-SOC'!$AB$15:$AB$30000,'FORMATO N° 5_XX'!B72,'BD-SOC'!$I$15:$I$30000,'FORMATO N° 5_XX'!$W$43)","v":0},{"$f":"COUNTIFS('BD-SOC'!$P$15:$P$30000,'FORMATO N° 5_XX'!B72,'BD-SOC'!$I$15:$I$30000,'FORMATO N° 5_XX'!$X$43)+\nCOUNTIFS('BD-SOC'!$R$15:$R$30000,'FORMATO N° 5_XX'!B72,'BD-SOC'!$I$15:$I$30000,'FORMATO N° 5_XX'!$X$43)+\nCOUNTIFS('BD-SOC'!$T$15:$T$30000,'FORMATO N° 5_XX'!B72,'BD-SOC'!$I$15:$I$30000,'FORMATO N° 5_XX'!$X$43)+\nCOUNTIFS('BD-SOC'!$V$15:$V$30000,'FORMATO N° 5_XX'!B72,'BD-SOC'!$I$15:$I$30000,'FORMATO N° 5_XX'!$X$43)+\nCOUNTIFS('BD-SOC'!$X$15:$X$30000,'FORMATO N° 5_XX'!B72,'BD-SOC'!$I$15:$I$30000,'FORMATO N° 5_XX'!$X$43)+\nCOUNTIFS('BD-SOC'!$Z$15:$Z$30000,'FORMATO N° 5_XX'!B72,'BD-SOC'!$I$15:$I$30000,'FORMATO N° 5_XX'!$X$43)+\nCOUNTIFS('BD-SOC'!$AB$15:$AB$30000,'FORMATO N° 5_XX'!B72,'BD-SOC'!$I$15:$I$30000,'FORMATO N° 5_XX'!$X$43)","v":0},{"$f":"COUNTIFS('BD-SOC'!$P$15:$P$30000,'FORMATO N° 5_XX'!B72,'BD-SOC'!$I$15:$I$30000,'FORMATO N° 5_XX'!$Y$43)+\nCOUNTIFS('BD-SOC'!$R$15:$R$30000,'FORMATO N° 5_XX'!B72,'BD-SOC'!$I$15:$I$30000,'FORMATO N° 5_XX'!$Y$43)+\nCOUNTIFS('BD-SOC'!$T$15:$T$30000,'FORMATO N° 5_XX'!B72,'BD-SOC'!$I$15:$I$30000,'FORMATO N° 5_XX'!$Y$43)+\nCOUNTIFS('BD-SOC'!$V$15:$V$30000,'FORMATO N° 5_XX'!B72,'BD-SOC'!$I$15:$I$30000,'FORMATO N° 5_XX'!$Y$43)+\nCOUNTIFS('BD-SOC'!$X$15:$X$30000,'FORMATO N° 5_XX'!B72,'BD-SOC'!$I$15:$I$30000,'FORMATO N° 5_XX'!$Y$43)+\nCOUNTIFS('BD-SOC'!$Z$15:$Z$30000,'FORMATO N° 5_XX'!B72,'BD-SOC'!$I$15:$I$30000,'FORMATO N° 5_XX'!$Y$43)+\nCOUNTIFS('BD-SOC'!$AB$15:$AB$30000,'FORMATO N° 5_XX'!B72,'BD-SOC'!$I$15:$I$30000,'FORMATO N° 5_XX'!$Y$43)","v":0},{"$f":"COUNTIFS('BD-SOC'!$P$15:$P$30000,'FORMATO N° 5_XX'!B72,'BD-SOC'!$I$15:$I$30000,'FORMATO N° 5_XX'!$Z$43)+\nCOUNTIFS('BD-SOC'!$R$15:$R$30000,'FORMATO N° 5_XX'!B72,'BD-SOC'!$I$15:$I$30000,'FORMATO N° 5_XX'!$Z$43)+\nCOUNTIFS('BD-SOC'!$T$15:$T$30000,'FORMATO N° 5_XX'!B72,'BD-SOC'!$I$15:$I$30000,'FORMATO N° 5_XX'!$Z$43)+\nCOUNTIFS('BD-SOC'!$V$15:$V$30000,'FORMATO N° 5_XX'!B72,'BD-SOC'!$I$15:$I$30000,'FORMATO N° 5_XX'!$Z$43)+\nCOUNTIFS('BD-SOC'!$X$15:$X$30000,'FORMATO N° 5_XX'!B72,'BD-SOC'!$I$15:$I$30000,'FORMATO N° 5_XX'!$Z$43)+\nCOUNTIFS('BD-SOC'!$Z$15:$Z$30000,'FORMATO N° 5_XX'!B72,'BD-SOC'!$I$15:$I$30000,'FORMATO N° 5_XX'!$Z$43)+\nCOUNTIFS('BD-SOC'!$AB$15:$AB$30000,'FORMATO N° 5_XX'!B72,'BD-SOC'!$I$15:$I$30000,'FORMATO N° 5_XX'!$Z$43)","v":0},{"$f":"COUNTIFS('BD-SOC'!$P$15:$P$30000,'FORMATO N° 5_XX'!B72,'BD-SOC'!$I$15:$I$30000,'FORMATO N° 5_XX'!$AA$43)+\nCOUNTIFS('BD-SOC'!$R$15:$R$30000,'FORMATO N° 5_XX'!B72,'BD-SOC'!$I$15:$I$30000,'FORMATO N° 5_XX'!$AA$43)+\nCOUNTIFS('BD-SOC'!$T$15:$T$30000,'FORMATO N° 5_XX'!B72,'BD-SOC'!$I$15:$I$30000,'FORMATO N° 5_XX'!$AA$43)+\nCOUNTIFS('BD-SOC'!$V$15:$V$30000,'FORMATO N° 5_XX'!B72,'BD-SOC'!$I$15:$I$30000,'FORMATO N° 5_XX'!$AA$43)+\nCOUNTIFS('BD-SOC'!$X$15:$X$30000,'FORMATO N° 5_XX'!B72,'BD-SOC'!$I$15:$I$30000,'FORMATO N° 5_XX'!$AA$43)+\nCOUNTIFS('BD-SOC'!$Z$15:$Z$30000,'FORMATO N° 5_XX'!B72,'BD-SOC'!$I$15:$I$30000,'FORMATO N° 5_XX'!$AA$43)+\nCOUNTIFS('BD-SOC'!$AB$15:$AB$30000,'FORMATO N° 5_XX'!B72,'BD-SOC'!$I$15:$I$30000,'FORMATO N° 5_XX'!$AA$43)","v":0},{"$f":"COUNTIFS('BD-SOC'!$P$15:$P$30000,'FORMATO N° 5_XX'!B72,'BD-SOC'!$I$15:$I$30000,'FORMATO N° 5_XX'!$AB$43)+\nCOUNTIFS('BD-SOC'!$R$15:$R$30000,'FORMATO N° 5_XX'!B72,'BD-SOC'!$I$15:$I$30000,'FORMATO N° 5_XX'!$AB$43)+\nCOUNTIFS('BD-SOC'!$T$15:$T$30000,'FORMATO N° 5_XX'!B72,'BD-SOC'!$I$15:$I$30000,'FORMATO N° 5_XX'!$AB$43)+\nCOUNTIFS('BD-SOC'!$V$15:$V$30000,'FORMATO N° 5_XX'!B72,'BD-SOC'!$I$15:$I$30000,'FORMATO N° 5_XX'!$AB$43)+\nCOUNTIFS('BD-SOC'!$X$15:$X$30000,'FORMATO N° 5_XX'!B72,'BD-SOC'!$I$15:$I$30000,'FORMATO N° 5_XX'!$AB$43)+\nCOUNTIFS('BD-SOC'!$Z$15:$Z$30000,'FORMATO N° 5_XX'!B72,'BD-SOC'!$I$15:$I$30000,'FORMATO N° 5_XX'!$AB$43)+\nCOUNTIFS('BD-SOC'!$AB$15:$AB$30000,'FORMATO N° 5_XX'!B72,'BD-SOC'!$I$15:$I$30000,'FORMATO N° 5_XX'!$AB$43)","v":0},{"$f":"COUNTIFS('BD-SOC'!$P$15:$P$30000,'FORMATO N° 5_XX'!B72,'BD-SOC'!$I$15:$I$30000,'FORMATO N° 5_XX'!$AC$43)+\nCOUNTIFS('BD-SOC'!$R$15:$R$30000,'FORMATO N° 5_XX'!B72,'BD-SOC'!$I$15:$I$30000,'FORMATO N° 5_XX'!$AC$43)+\nCOUNTIFS('BD-SOC'!$T$15:$T$30000,'FORMATO N° 5_XX'!B72,'BD-SOC'!$I$15:$I$30000,'FORMATO N° 5_XX'!$AC$43)+\nCOUNTIFS('BD-SOC'!$V$15:$V$30000,'FORMATO N° 5_XX'!B72,'BD-SOC'!$I$15:$I$30000,'FORMATO N° 5_XX'!$AC$43)+\nCOUNTIFS('BD-SOC'!$X$15:$X$30000,'FORMATO N° 5_XX'!B72,'BD-SOC'!$I$15:$I$30000,'FORMATO N° 5_XX'!$AC$43)+\nCOUNTIFS('BD-SOC'!$Z$15:$Z$30000,'FORMATO N° 5_XX'!B72,'BD-SOC'!$I$15:$I$30000,'FORMATO N° 5_XX'!$AC$43)+\nCOUNTIFS('BD-SOC'!$AB$15:$AB$30000,'FORMATO N° 5_XX'!B72,'BD-SOC'!$I$15:$I$30000,'FORMATO N° 5_XX'!$AC$43)","v":0},{"$f":"COUNTIFS('BD-SOC'!$P$15:$P$30000,'FORMATO N° 5_XX'!B72,'BD-SOC'!$I$15:$I$30000,'FORMATO N° 5_XX'!$AD$43)+\nCOUNTIFS('BD-SOC'!$R$15:$R$30000,'FORMATO N° 5_XX'!B72,'BD-SOC'!$I$15:$I$30000,'FORMATO N° 5_XX'!$AD$43)+\nCOUNTIFS('BD-SOC'!$T$15:$T$30000,'FORMATO N° 5_XX'!B72,'BD-SOC'!$I$15:$I$30000,'FORMATO N° 5_XX'!$AD$43)+\nCOUNTIFS('BD-SOC'!$V$15:$V$30000,'FORMATO N° 5_XX'!B72,'BD-SOC'!$I$15:$I$30000,'FORMATO N° 5_XX'!$AD$43)+\nCOUNTIFS('BD-SOC'!$X$15:$X$30000,'FORMATO N° 5_XX'!B72,'BD-SOC'!$I$15:$I$30000,'FORMATO N° 5_XX'!$AD$43)+\nCOUNTIFS('BD-SOC'!$Z$15:$Z$30000,'FORMATO N° 5_XX'!B72,'BD-SOC'!$I$15:$I$30000,'FORMATO N° 5_XX'!$AD$43)+\nCOUNTIFS('BD-SOC'!$AB$15:$AB$30000,'FORMATO N° 5_XX'!B72,'BD-SOC'!$I$15:$I$30000,'FORMATO N° 5_XX'!$AD$43)","v":0},{"$f":"COUNTIFS('BD-SOC'!$P$15:$P$30000,'FORMATO N° 5_XX'!B72,'BD-SOC'!$I$15:$I$30000,'FORMATO N° 5_XX'!$AE$43)+\nCOUNTIFS('BD-SOC'!$R$15:$R$30000,'FORMATO N° 5_XX'!B72,'BD-SOC'!$I$15:$I$30000,'FORMATO N° 5_XX'!$AE$43)+\nCOUNTIFS('BD-SOC'!$T$15:$T$30000,'FORMATO N° 5_XX'!B72,'BD-SOC'!$I$15:$I$30000,'FORMATO N° 5_XX'!$AE$43)+\nCOUNTIFS('BD-SOC'!$V$15:$V$30000,'FORMATO N° 5_XX'!B72,'BD-SOC'!$I$15:$I$30000,'FORMATO N° 5_XX'!$AE$43)+\nCOUNTIFS('BD-SOC'!$X$15:$X$30000,'FORMATO N° 5_XX'!B72,'BD-SOC'!$I$15:$I$30000,'FORMATO N° 5_XX'!$AE$43)+\nCOUNTIFS('BD-SOC'!$Z$15:$Z$30000,'FORMATO N° 5_XX'!B72,'BD-SOC'!$I$15:$I$30000,'FORMATO N° 5_XX'!$AE$43)+\nCOUNTIFS('BD-SOC'!$AB$15:$AB$30000,'FORMATO N° 5_XX'!B72,'BD-SOC'!$I$15:$I$30000,'FORMATO N° 5_XX'!$AE$43)","v":0}]
[null,306,"GESTIÓN RELACIONADA A INTERNOS EXTRANJEROS",null,null,null,null,null,{"$error":"#REF!"},{"$f":"COUNTIFS('BD-SOC'!$P$15:$P$30000,'FORMATO N° 5_XX'!B73,'BD-SOC'!#REF!,'FORMATO N° 5_XX'!$J$43)+\nCOUNTIFS('BD-SOC'!$R$15:$R$30000,'FORMATO N° 5_XX'!B73,'BD-SOC'!#REF!,'FORMATO N° 5_XX'!$J$43)+\nCOUNTIFS('BD-SOC'!$T$15:$T$30000,'FORMATO N° 5_XX'!B73,'BD-SOC'!#REF!,'FORMATO N° 5_XX'!$J$43)+\nCOUNTIFS('BD-SOC'!$V$15:$V$30000,'FORMATO N° 5_XX'!B73,'BD-SOC'!#REF!,'FORMATO N° 5_XX'!$J$43)+\nCOUNTIFS('BD-SOC'!$X$15:$X$30000,'FORMATO N° 5_XX'!B73,'BD-SOC'!#REF!,'FORMATO N° 5_XX'!$J$43)+\nCOUNTIFS('BD-SOC'!$Z$15:$Z$30000,'FORMATO N° 5_XX'!B73,'BD-SOC'!#REF!,'FORMATO N° 5_XX'!$J$43)+\nCOUNTIFS('BD-SOC'!$AB$15:$AB$30000,'FORMATO N° 5_XX'!B73,'BD-SOC'!#REF!,'FORMATO N° 5_XX'!$J$43)","v":{"$error":"#REF!"}},{"$f":"COUNTIFS('BD-SOC'!$P$15:$P$30000,'FORMATO N° 5_XX'!B73,'BD-SOC'!#REF!,'FORMATO N° 5_XX'!$K$43)+\nCOUNTIFS('BD-SOC'!$R$15:$R$30000,'FORMATO N° 5_XX'!B73,'BD-SOC'!#REF!,'FORMATO N° 5_XX'!$K$43)+\nCOUNTIFS('BD-SOC'!$T$15:$T$30000,'FORMATO N° 5_XX'!B73,'BD-SOC'!#REF!,'FORMATO N° 5_XX'!$K$43)+\nCOUNTIFS('BD-SOC'!$V$15:$V$30000,'FORMATO N° 5_XX'!B73,'BD-SOC'!#REF!,'FORMATO N° 5_XX'!$K$43)+\nCOUNTIFS('BD-SOC'!$X$15:$X$30000,'FORMATO N° 5_XX'!B73,'BD-SOC'!#REF!,'FORMATO N° 5_XX'!$K$43)+\nCOUNTIFS('BD-SOC'!$Z$15:$Z$30000,'FORMATO N° 5_XX'!B73,'BD-SOC'!#REF!,'FORMATO N° 5_XX'!$K$43)+\nCOUNTIFS('BD-SOC'!$AB$15:$AB$30000,'FORMATO N° 5_XX'!B73,'BD-SOC'!#REF!,'FORMATO N° 5_XX'!$K$43)","v":{"$error":"#REF!"}},{"$f":"COUNTIFS('BD-SOC'!$P$15:$P$30000,'FORMATO N° 5_XX'!B73,'BD-SOC'!#REF!,'FORMATO N° 5_XX'!$L$43)+\nCOUNTIFS('BD-SOC'!$R$15:$R$30000,'FORMATO N° 5_XX'!B73,'BD-SOC'!#REF!,'FORMATO N° 5_XX'!$L$43)+\nCOUNTIFS('BD-SOC'!$T$15:$T$30000,'FORMATO N° 5_XX'!B73,'BD-SOC'!#REF!,'FORMATO N° 5_XX'!$L$43)+\nCOUNTIFS('BD-SOC'!$V$15:$V$30000,'FORMATO N° 5_XX'!B73,'BD-SOC'!#REF!,'FORMATO N° 5_XX'!$L$43)+\nCOUNTIFS('BD-SOC'!$X$15:$X$30000,'FORMATO N° 5_XX'!B73,'BD-SOC'!#REF!,'FORMATO N° 5_XX'!$L$43)+\nCOUNTIFS('BD-SOC'!$Z$15:$Z$30000,'FORMATO N° 5_XX'!B73,'BD-SOC'!#REF!,'FORMATO N° 5_XX'!$L$43)+\nCOUNTIFS('BD-SOC'!$AB$15:$AB$30000,'FORMATO N° 5_XX'!B73,'BD-SOC'!#REF!,'FORMATO N° 5_XX'!$L$43)","v":{"$error":"#REF!"}},{"$f":"COUNTIFS('BD-SOC'!$P$15:$P$30000,'FORMATO N° 5_XX'!B73,'BD-SOC'!#REF!,'FORMATO N° 5_XX'!$M$44)+\nCOUNTIFS('BD-SOC'!$R$15:$R$30000,'FORMATO N° 5_XX'!B73,'BD-SOC'!#REF!,'FORMATO N° 5_XX'!$M$44)+\nCOUNTIFS('BD-SOC'!$T$15:$T$30000,'FORMATO N° 5_XX'!B73,'BD-SOC'!#REF!,'FORMATO N° 5_XX'!$M$44)+\nCOUNTIFS('BD-SOC'!$V$15:$V$30000,'FORMATO N° 5_XX'!B73,'BD-SOC'!#REF!,'FORMATO N° 5_XX'!$M$44)+\nCOUNTIFS('BD-SOC'!$X$15:$X$30000,'FORMATO N° 5_XX'!B73,'BD-SOC'!#REF!,'FORMATO N° 5_XX'!$M$44)+\nCOUNTIFS('BD-SOC'!$Z$15:$Z$30000,'FORMATO N° 5_XX'!B73,'BD-SOC'!#REF!,'FORMATO N° 5_XX'!$M$44)+\nCOUNTIFS('BD-SOC'!$AB$15:$AB$30000,'FORMATO N° 5_XX'!B73,'BD-SOC'!#REF!,'FORMATO N° 5_XX'!$M$44)","v":{"$error":"#REF!"}},{"$f":"COUNTIFS('BD-SOC'!$P$15:$P$30000,'FORMATO N° 5_XX'!B73,'BD-SOC'!#REF!,'FORMATO N° 5_XX'!$N$44)+\nCOUNTIFS('BD-SOC'!$R$15:$R$30000,'FORMATO N° 5_XX'!B73,'BD-SOC'!#REF!,'FORMATO N° 5_XX'!$N$44)+\nCOUNTIFS('BD-SOC'!$T$15:$T$30000,'FORMATO N° 5_XX'!B73,'BD-SOC'!#REF!,'FORMATO N° 5_XX'!$N$44)+\nCOUNTIFS('BD-SOC'!$V$15:$V$30000,'FORMATO N° 5_XX'!B73,'BD-SOC'!#REF!,'FORMATO N° 5_XX'!$N$44)+\nCOUNTIFS('BD-SOC'!$X$15:$X$30000,'FORMATO N° 5_XX'!B73,'BD-SOC'!#REF!,'FORMATO N° 5_XX'!$N$44)+\nCOUNTIFS('BD-SOC'!$Z$15:$Z$30000,'FORMATO N° 5_XX'!B73,'BD-SOC'!#REF!,'FORMATO N° 5_XX'!$N$44)+\nCOUNTIFS('BD-SOC'!$AB$15:$AB$30000,'FORMATO N° 5_XX'!B73,'BD-SOC'!#REF!,'FORMATO N° 5_XX'!$N$44)","v":{"$error":"#REF!"}},{"$f":"COUNTIFS('BD-SOC'!$P$15:$P$30000,'FORMATO N° 5_XX'!B73,'BD-SOC'!#REF!,'FORMATO N° 5_XX'!$O$44)+\nCOUNTIFS('BD-SOC'!$R$15:$R$30000,'FORMATO N° 5_XX'!B73,'BD-SOC'!#REF!,'FORMATO N° 5_XX'!$O$44)+\nCOUNTIFS('BD-SOC'!$T$15:$T$30000,'FORMATO N° 5_XX'!B73,'BD-SOC'!#REF!,'FORMATO N° 5_XX'!$O$44)+\nCOUNTIFS('BD-SOC'!$V$15:$V$30000,'FORMATO N° 5_XX'!B73,'BD-SOC'!#REF!,'FORMATO N° 5_XX'!$O$44)+\nCOUNTIFS('BD-SOC'!$X$15:$X$30000,'FORMATO N° 5_XX'!B73,'BD-SOC'!#REF!,'FORMATO N° 5_XX'!$O$44)+\nCOUNTIFS('BD-SOC'!$Z$15:$Z$30000,'FORMATO N° 5_XX'!B73,'BD-SOC'!#REF!,'FORMATO N° 5_XX'!$O$44)+\nCOUNTIFS('BD-SOC'!$AB$15:$AB$30000,'FORMATO N° 5_XX'!B73,'BD-SOC'!#REF!,'FORMATO N° 5_XX'!$O$44)","v":{"$error":"#REF!"}},{"$f":"COUNTIFS('BD-SOC'!$P$15:$P$30000,'FORMATO N° 5_XX'!B73,'BD-SOC'!#REF!,'FORMATO N° 5_XX'!$P$44)+\nCOUNTIFS('BD-SOC'!$R$15:$R$30000,'FORMATO N° 5_XX'!B73,'BD-SOC'!#REF!,'FORMATO N° 5_XX'!$P$44)+\nCOUNTIFS('BD-SOC'!$T$15:$T$30000,'FORMATO N° 5_XX'!B73,'BD-SOC'!#REF!,'FORMATO N° 5_XX'!$P$44)+\nCOUNTIFS('BD-SOC'!$V$15:$V$30000,'FORMATO N° 5_XX'!B73,'BD-SOC'!#REF!,'FORMATO N° 5_XX'!$P$44)+\nCOUNTIFS('BD-SOC'!$X$15:$X$30000,'FORMATO N° 5_XX'!B73,'BD-SOC'!#REF!,'FORMATO N° 5_XX'!$P$44)+\nCOUNTIFS('BD-SOC'!$Z$15:$Z$30000,'FORMATO N° 5_XX'!B73,'BD-SOC'!#REF!,'FORMATO N° 5_XX'!$P$44)+\nCOUNTIFS('BD-SOC'!$AB$15:$AB$30000,'FORMATO N° 5_XX'!B73,'BD-SOC'!#REF!,'FORMATO N° 5_XX'!$P$44)","v":{"$error":"#REF!"}},{"$f":"COUNTIFS('BD-SOC'!$P$15:$P$30000,'FORMATO N° 5_XX'!B73,'BD-SOC'!#REF!,'FORMATO N° 5_XX'!$Q$44)+\nCOUNTIFS('BD-SOC'!$R$15:$R$30000,'FORMATO N° 5_XX'!B73,'BD-SOC'!#REF!,'FORMATO N° 5_XX'!$Q$44)+\nCOUNTIFS('BD-SOC'!$T$15:$T$30000,'FORMATO N° 5_XX'!B73,'BD-SOC'!#REF!,'FORMATO N° 5_XX'!$Q$44)+\nCOUNTIFS('BD-SOC'!$V$15:$V$30000,'FORMATO N° 5_XX'!B73,'BD-SOC'!#REF!,'FORMATO N° 5_XX'!$Q$44)+\nCOUNTIFS('BD-SOC'!$X$15:$X$30000,'FORMATO N° 5_XX'!B73,'BD-SOC'!#REF!,'FORMATO N° 5_XX'!$Q$44)+\nCOUNTIFS('BD-SOC'!$Z$15:$Z$30000,'FORMATO N° 5_XX'!B73,'BD-SOC'!#REF!,'FORMATO N° 5_XX'!$Q$44)+\nCOUNTIFS('BD-SOC'!$AB$15:$AB$30000,'FORMATO N° 5_XX'!B73,'BD-SOC'!#REF!,'FORMATO N° 5_XX'!$Q$44)","v":{"$error":"#REF!"}},{"$f":"COUNTIFS('BD-SOC'!$P$15:$P$30000,'FORMATO N° 5_XX'!B73,'BD-SOC'!#REF!,'FORMATO N° 5_XX'!$R$44)+\nCOUNTIFS('BD-SOC'!$R$15:$R$30000,'FORMATO N° 5_XX'!B73,'BD-SOC'!#REF!,'FORMATO N° 5_XX'!$R$44)+\nCOUNTIFS('BD-SOC'!$T$15:$T$30000,'FORMATO N° 5_XX'!B73,'BD-SOC'!#REF!,'FORMATO N° 5_XX'!$R$44)+\nCOUNTIFS('BD-SOC'!$V$15:$V$30000,'FORMATO N° 5_XX'!B73,'BD-SOC'!#REF!,'FORMATO N° 5_XX'!$R$44)+\nCOUNTIFS('BD-SOC'!$X$15:$X$30000,'FORMATO N° 5_XX'!B73,'BD-SOC'!#REF!,'FORMATO N° 5_XX'!$R$44)+\nCOUNTIFS('BD-SOC'!$Z$15:$Z$30000,'FORMATO N° 5_XX'!B73,'BD-SOC'!#REF!,'FORMATO N° 5_XX'!$R$44)+\nCOUNTIFS('BD-SOC'!$AB$15:$AB$30000,'FORMATO N° 5_XX'!B73,'BD-SOC'!#REF!,'FORMATO N° 5_XX'!$R$44)","v":{"$error":"#REF!"}},{"$f":"COUNTIFS('BD-SOC'!$P$15:$P$30000,'FORMATO N° 5_XX'!B73,'BD-SOC'!#REF!,'FORMATO N° 5_XX'!$S$43)+\nCOUNTIFS('BD-SOC'!$R$15:$R$30000,'FORMATO N° 5_XX'!B73,'BD-SOC'!#REF!,'FORMATO N° 5_XX'!$S$43)+\nCOUNTIFS('BD-SOC'!$T$15:$T$30000,'FORMATO N° 5_XX'!B73,'BD-SOC'!#REF!,'FORMATO N° 5_XX'!$S$43)+\nCOUNTIFS('BD-SOC'!$V$15:$V$30000,'FORMATO N° 5_XX'!B73,'BD-SOC'!#REF!,'FORMATO N° 5_XX'!$S$43)+\nCOUNTIFS('BD-SOC'!$X$15:$X$30000,'FORMATO N° 5_XX'!B73,'BD-SOC'!#REF!,'FORMATO N° 5_XX'!$S$43)+\nCOUNTIFS('BD-SOC'!$Z$15:$Z$30000,'FORMATO N° 5_XX'!B73,'BD-SOC'!#REF!,'FORMATO N° 5_XX'!$S$43)+\nCOUNTIFS('BD-SOC'!$AB$15:$AB$30000,'FORMATO N° 5_XX'!B73,'BD-SOC'!#REF!,'FORMATO N° 5_XX'!$S$43)","v":{"$error":"#REF!"}},{"$f":"COUNTIFS('BD-SOC'!$P$15:$P$30000,'FORMATO N° 5_XX'!B73,'BD-SOC'!#REF!,'FORMATO N° 5_XX'!$T$43)+\nCOUNTIFS('BD-SOC'!$R$15:$R$30000,'FORMATO N° 5_XX'!B73,'BD-SOC'!#REF!,'FORMATO N° 5_XX'!$T$43)+\nCOUNTIFS('BD-SOC'!$T$15:$T$30000,'FORMATO N° 5_XX'!B73,'BD-SOC'!#REF!,'FORMATO N° 5_XX'!$T$43)+\nCOUNTIFS('BD-SOC'!$V$15:$V$30000,'FORMATO N° 5_XX'!B73,'BD-SOC'!#REF!,'FORMATO N° 5_XX'!$T$43)+\nCOUNTIFS('BD-SOC'!$X$15:$X$30000,'FORMATO N° 5_XX'!B73,'BD-SOC'!#REF!,'FORMATO N° 5_XX'!$T$43)+\nCOUNTIFS('BD-SOC'!$Z$15:$Z$30000,'FORMATO N° 5_XX'!B73,'BD-SOC'!#REF!,'FORMATO N° 5_XX'!$T$43)+\nCOUNTIFS('BD-SOC'!$AB$15:$AB$30000,'FORMATO N° 5_XX'!B73,'BD-SOC'!#REF!,'FORMATO N° 5_XX'!$T$43)","v":{"$error":"#REF!"}},0,{"$f":"COUNTIFS('BD-SOC'!$P$15:$P$30000,'FORMATO N° 5_XX'!B73,'BD-SOC'!$I$15:$I$30000,'FORMATO N° 5_XX'!$V$43)+\nCOUNTIFS('BD-SOC'!$R$15:$R$30000,'FORMATO N° 5_XX'!B73,'BD-SOC'!$I$15:$I$30000,'FORMATO N° 5_XX'!$V$43)+\nCOUNTIFS('BD-SOC'!$T$15:$T$30000,'FORMATO N° 5_XX'!B73,'BD-SOC'!$I$15:$I$30000,'FORMATO N° 5_XX'!$V$43)+\nCOUNTIFS('BD-SOC'!$V$15:$V$30000,'FORMATO N° 5_XX'!B73,'BD-SOC'!$I$15:$I$30000,'FORMATO N° 5_XX'!$V$43)+\nCOUNTIFS('BD-SOC'!$X$15:$X$30000,'FORMATO N° 5_XX'!B73,'BD-SOC'!$I$15:$I$30000,'FORMATO N° 5_XX'!$V$43)+\nCOUNTIFS('BD-SOC'!$Z$15:$Z$30000,'FORMATO N° 5_XX'!B73,'BD-SOC'!$I$15:$I$30000,'FORMATO N° 5_XX'!$V$43)+\nCOUNTIFS('BD-SOC'!$AB$15:$AB$30000,'FORMATO N° 5_XX'!B73,'BD-SOC'!$I$15:$I$30000,'FORMATO N° 5_XX'!$V$43)","v":0},{"$f":"COUNTIFS('BD-SOC'!$P$15:$P$30000,'FORMATO N° 5_XX'!B73,'BD-SOC'!$I$15:$I$30000,'FORMATO N° 5_XX'!$W$43)+\nCOUNTIFS('BD-SOC'!$R$15:$R$30000,'FORMATO N° 5_XX'!B73,'BD-SOC'!$I$15:$I$30000,'FORMATO N° 5_XX'!$W$43)+\nCOUNTIFS('BD-SOC'!$T$15:$T$30000,'FORMATO N° 5_XX'!B73,'BD-SOC'!$I$15:$I$30000,'FORMATO N° 5_XX'!$W$43)+\nCOUNTIFS('BD-SOC'!$V$15:$V$30000,'FORMATO N° 5_XX'!B73,'BD-SOC'!$I$15:$I$30000,'FORMATO N° 5_XX'!$W$43)+\nCOUNTIFS('BD-SOC'!$X$15:$X$30000,'FORMATO N° 5_XX'!B73,'BD-SOC'!$I$15:$I$30000,'FORMATO N° 5_XX'!$W$43)+\nCOUNTIFS('BD-SOC'!$Z$15:$Z$30000,'FORMATO N° 5_XX'!B73,'BD-SOC'!$I$15:$I$30000,'FORMATO N° 5_XX'!$W$43)+\nCOUNTIFS('BD-SOC'!$AB$15:$AB$30000,'FORMATO N° 5_XX'!B73,'BD-SOC'!$I$15:$I$30000,'FORMATO N° 5_XX'!$W$43)","v":0},{"$f":"COUNTIFS('BD-SOC'!$P$15:$P$30000,'FORMATO N° 5_XX'!B73,'BD-SOC'!$I$15:$I$30000,'FORMATO N° 5_XX'!$X$43)+\nCOUNTIFS('BD-SOC'!$R$15:$R$30000,'FORMATO N° 5_XX'!B73,'BD-SOC'!$I$15:$I$30000,'FORMATO N° 5_XX'!$X$43)+\nCOUNTIFS('BD-SOC'!$T$15:$T$30000,'FORMATO N° 5_XX'!B73,'BD-SOC'!$I$15:$I$30000,'FORMATO N° 5_XX'!$X$43)+\nCOUNTIFS('BD-SOC'!$V$15:$V$30000,'FORMATO N° 5_XX'!B73,'BD-SOC'!$I$15:$I$30000,'FORMATO N° 5_XX'!$X$43)+\nCOUNTIFS('BD-SOC'!$X$15:$X$30000,'FORMATO N° 5_XX'!B73,'BD-SOC'!$I$15:$I$30000,'FORMATO N° 5_XX'!$X$43)+\nCOUNTIFS('BD-SOC'!$Z$15:$Z$30000,'FORMATO N° 5_XX'!B73,'BD-SOC'!$I$15:$I$30000,'FORMATO N° 5_XX'!$X$43)+\nCOUNTIFS('BD-SOC'!$AB$15:$AB$30000,'FORMATO N° 5_XX'!B73,'BD-SOC'!$I$15:$I$30000,'FORMATO N° 5_XX'!$X$43)","v":0},{"$f":"COUNTIFS('BD-SOC'!$P$15:$P$30000,'FORMATO N° 5_XX'!B73,'BD-SOC'!$I$15:$I$30000,'FORMATO N° 5_XX'!$Y$43)+\nCOUNTIFS('BD-SOC'!$R$15:$R$30000,'FORMATO N° 5_XX'!B73,'BD-SOC'!$I$15:$I$30000,'FORMATO N° 5_XX'!$Y$43)+\nCOUNTIFS('BD-SOC'!$T$15:$T$30000,'FORMATO N° 5_XX'!B73,'BD-SOC'!$I$15:$I$30000,'FORMATO N° 5_XX'!$Y$43)+\nCOUNTIFS('BD-SOC'!$V$15:$V$30000,'FORMATO N° 5_XX'!B73,'BD-SOC'!$I$15:$I$30000,'FORMATO N° 5_XX'!$Y$43)+\nCOUNTIFS('BD-SOC'!$X$15:$X$30000,'FORMATO N° 5_XX'!B73,'BD-SOC'!$I$15:$I$30000,'FORMATO N° 5_XX'!$Y$43)+\nCOUNTIFS('BD-SOC'!$Z$15:$Z$30000,'FORMATO N° 5_XX'!B73,'BD-SOC'!$I$15:$I$30000,'FORMATO N° 5_XX'!$Y$43)+\nCOUNTIFS('BD-SOC'!$AB$15:$AB$30000,'FORMATO N° 5_XX'!B73,'BD-SOC'!$I$15:$I$30000,'FORMATO N° 5_XX'!$Y$43)","v":0},{"$f":"COUNTIFS('BD-SOC'!$P$15:$P$30000,'FORMATO N° 5_XX'!B73,'BD-SOC'!$I$15:$I$30000,'FORMATO N° 5_XX'!$Z$43)+\nCOUNTIFS('BD-SOC'!$R$15:$R$30000,'FORMATO N° 5_XX'!B73,'BD-SOC'!$I$15:$I$30000,'FORMATO N° 5_XX'!$Z$43)+\nCOUNTIFS('BD-SOC'!$T$15:$T$30000,'FORMATO N° 5_XX'!B73,'BD-SOC'!$I$15:$I$30000,'FORMATO N° 5_XX'!$Z$43)+\nCOUNTIFS('BD-SOC'!$V$15:$V$30000,'FORMATO N° 5_XX'!B73,'BD-SOC'!$I$15:$I$30000,'FORMATO N° 5_XX'!$Z$43)+\nCOUNTIFS('BD-SOC'!$X$15:$X$30000,'FORMATO N° 5_XX'!B73,'BD-SOC'!$I$15:$I$30000,'FORMATO N° 5_XX'!$Z$43)+\nCOUNTIFS('BD-SOC'!$Z$15:$Z$30000,'FORMATO N° 5_XX'!B73,'BD-SOC'!$I$15:$I$30000,'FORMATO N° 5_XX'!$Z$43)+\nCOUNTIFS('BD-SOC'!$AB$15:$AB$30000,'FORMATO N° 5_XX'!B73,'BD-SOC'!$I$15:$I$30000,'FORMATO N° 5_XX'!$Z$43)","v":0},{"$f":"COUNTIFS('BD-SOC'!$P$15:$P$30000,'FORMATO N° 5_XX'!B73,'BD-SOC'!$I$15:$I$30000,'FORMATO N° 5_XX'!$AA$43)+\nCOUNTIFS('BD-SOC'!$R$15:$R$30000,'FORMATO N° 5_XX'!B73,'BD-SOC'!$I$15:$I$30000,'FORMATO N° 5_XX'!$AA$43)+\nCOUNTIFS('BD-SOC'!$T$15:$T$30000,'FORMATO N° 5_XX'!B73,'BD-SOC'!$I$15:$I$30000,'FORMATO N° 5_XX'!$AA$43)+\nCOUNTIFS('BD-SOC'!$V$15:$V$30000,'FORMATO N° 5_XX'!B73,'BD-SOC'!$I$15:$I$30000,'FORMATO N° 5_XX'!$AA$43)+\nCOUNTIFS('BD-SOC'!$X$15:$X$30000,'FORMATO N° 5_XX'!B73,'BD-SOC'!$I$15:$I$30000,'FORMATO N° 5_XX'!$AA$43)+\nCOUNTIFS('BD-SOC'!$Z$15:$Z$30000,'FORMATO N° 5_XX'!B73,'BD-SOC'!$I$15:$I$30000,'FORMATO N° 5_XX'!$AA$43)+\nCOUNTIFS('BD-SOC'!$AB$15:$AB$30000,'FORMATO N° 5_XX'!B73,'BD-SOC'!$I$15:$I$30000,'FORMATO N° 5_XX'!$AA$43)","v":0},{"$f":"COUNTIFS('BD-SOC'!$P$15:$P$30000,'FORMATO N° 5_XX'!B73,'BD-SOC'!$I$15:$I$30000,'FORMATO N° 5_XX'!$AB$43)+\nCOUNTIFS('BD-SOC'!$R$15:$R$30000,'FORMATO N° 5_XX'!B73,'BD-SOC'!$I$15:$I$30000,'FORMATO N° 5_XX'!$AB$43)+\nCOUNTIFS('BD-SOC'!$T$15:$T$30000,'FORMATO N° 5_XX'!B73,'BD-SOC'!$I$15:$I$30000,'FORMATO N° 5_XX'!$AB$43)+\nCOUNTIFS('BD-SOC'!$V$15:$V$30000,'FORMATO N° 5_XX'!B73,'BD-SOC'!$I$15:$I$30000,'FORMATO N° 5_XX'!$AB$43)+\nCOUNTIFS('BD-SOC'!$X$15:$X$30000,'FORMATO N° 5_XX'!B73,'BD-SOC'!$I$15:$I$30000,'FORMATO N° 5_XX'!$AB$43)+\nCOUNTIFS('BD-SOC'!$Z$15:$Z$30000,'FORMATO N° 5_XX'!B73,'BD-SOC'!$I$15:$I$30000,'FORMATO N° 5_XX'!$AB$43)+\nCOUNTIFS('BD-SOC'!$AB$15:$AB$30000,'FORMATO N° 5_XX'!B73,'BD-SOC'!$I$15:$I$30000,'FORMATO N° 5_XX'!$AB$43)","v":0},{"$f":"COUNTIFS('BD-SOC'!$P$15:$P$30000,'FORMATO N° 5_XX'!B73,'BD-SOC'!$I$15:$I$30000,'FORMATO N° 5_XX'!$AC$43)+\nCOUNTIFS('BD-SOC'!$R$15:$R$30000,'FORMATO N° 5_XX'!B73,'BD-SOC'!$I$15:$I$30000,'FORMATO N° 5_XX'!$AC$43)+\nCOUNTIFS('BD-SOC'!$T$15:$T$30000,'FORMATO N° 5_XX'!B73,'BD-SOC'!$I$15:$I$30000,'FORMATO N° 5_XX'!$AC$43)+\nCOUNTIFS('BD-SOC'!$V$15:$V$30000,'FORMATO N° 5_XX'!B73,'BD-SOC'!$I$15:$I$30000,'FORMATO N° 5_XX'!$AC$43)+\nCOUNTIFS('BD-SOC'!$X$15:$X$30000,'FORMATO N° 5_XX'!B73,'BD-SOC'!$I$15:$I$30000,'FORMATO N° 5_XX'!$AC$43)+\nCOUNTIFS('BD-SOC'!$Z$15:$Z$30000,'FORMATO N° 5_XX'!B73,'BD-SOC'!$I$15:$I$30000,'FORMATO N° 5_XX'!$AC$43)+\nCOUNTIFS('BD-SOC'!$AB$15:$AB$30000,'FORMATO N° 5_XX'!B73,'BD-SOC'!$I$15:$I$30000,'FORMATO N° 5_XX'!$AC$43)","v":0},{"$f":"COUNTIFS('BD-SOC'!$P$15:$P$30000,'FORMATO N° 5_XX'!B73,'BD-SOC'!$I$15:$I$30000,'FORMATO N° 5_XX'!$AD$43)+\nCOUNTIFS('BD-SOC'!$R$15:$R$30000,'FORMATO N° 5_XX'!B73,'BD-SOC'!$I$15:$I$30000,'FORMATO N° 5_XX'!$AD$43)+\nCOUNTIFS('BD-SOC'!$T$15:$T$30000,'FORMATO N° 5_XX'!B73,'BD-SOC'!$I$15:$I$30000,'FORMATO N° 5_XX'!$AD$43)+\nCOUNTIFS('BD-SOC'!$V$15:$V$30000,'FORMATO N° 5_XX'!B73,'BD-SOC'!$I$15:$I$30000,'FORMATO N° 5_XX'!$AD$43)+\nCOUNTIFS('BD-SOC'!$X$15:$X$30000,'FORMATO N° 5_XX'!B73,'BD-SOC'!$I$15:$I$30000,'FORMATO N° 5_XX'!$AD$43)+\nCOUNTIFS('BD-SOC'!$Z$15:$Z$30000,'FORMATO N° 5_XX'!B73,'BD-SOC'!$I$15:$I$30000,'FORMATO N° 5_XX'!$AD$43)+\nCOUNTIFS('BD-SOC'!$AB$15:$AB$30000,'FORMATO N° 5_XX'!B73,'BD-SOC'!$I$15:$I$30000,'FORMATO N° 5_XX'!$AD$43)","v":0},{"$f":"COUNTIFS('BD-SOC'!$P$15:$P$30000,'FORMATO N° 5_XX'!B73,'BD-SOC'!$I$15:$I$30000,'FORMATO N° 5_XX'!$AE$43)+\nCOUNTIFS('BD-SOC'!$R$15:$R$30000,'FORMATO N° 5_XX'!B73,'BD-SOC'!$I$15:$I$30000,'FORMATO N° 5_XX'!$AE$43)+\nCOUNTIFS('BD-SOC'!$T$15:$T$30000,'FORMATO N° 5_XX'!B73,'BD-SOC'!$I$15:$I$30000,'FORMATO N° 5_XX'!$AE$43)+\nCOUNTIFS('BD-SOC'!$V$15:$V$30000,'FORMATO N° 5_XX'!B73,'BD-SOC'!$I$15:$I$30000,'FORMATO N° 5_XX'!$AE$43)+\nCOUNTIFS('BD-SOC'!$X$15:$X$30000,'FORMATO N° 5_XX'!B73,'BD-SOC'!$I$15:$I$30000,'FORMATO N° 5_XX'!$AE$43)+\nCOUNTIFS('BD-SOC'!$Z$15:$Z$30000,'FORMATO N° 5_XX'!B73,'BD-SOC'!$I$15:$I$30000,'FORMATO N° 5_XX'!$AE$43)+\nCOUNTIFS('BD-SOC'!$AB$15:$AB$30000,'FORMATO N° 5_XX'!B73,'BD-SOC'!$I$15:$I$30000,'FORMATO N° 5_XX'!$AE$43)","v":0}]
[]
[]
[]
[null,"CUADRO 4.    RECURSOS HUMANOS SEGÚN NIVEL ACADÉMICO Y MODALIDAD LABORAL",null,null,null,null,null,null,null,null,null,null,null,null,null,null,null,null,null,null,null,null,"CUADRO 5. POBLACION DE NIÑOS EN PENALES"]
[]
[]
[null,"NIVEL \nACADÉMICO",null,null,"TOTAL",null,"MODALIDAD LABORAL",null,null,null,null,null,null,null,null,null,null,null,null,null,null,"RANGO DE EDADES",null,"SEXO"]
[null,null,null,null,null,null,"LEY 276",null,"LEY 29709",null,"LEY DE LA SALUD",null,"CAS",null,"SERVICIO DE TERCEROS",null,"LEY PRAC. PRE-PROFESIONAL",null,null,null,null,null,null,"HOMBRE",null,"MUJER",null,"TOTAL"]
[null,"TRABAJADOR SOCIAL",null,null,{"$f":"SUM(G82:R82)","v":0},null,{"$f":"COUNTIFS(Tabla2[NIVEL ACADEMICO],'FORMATO N° 5_XX'!B82,Tabla2[MODALIDAD LABORAL],'FORMATO N° 5_XX'!$G$81)","v":0},null,{"$f":"COUNTIFS(Tabla2[NIVEL ACADEMICO],'FORMATO N° 5_XX'!B82,Tabla2[MODALIDAD LABORAL],'FORMATO N° 5_XX'!$I$81)","v":0},null,{"$f":"COUNTIFS(Tabla2[NIVEL ACADEMICO],'FORMATO N° 5_XX'!B82,Tabla2[MODALIDAD LABORAL],'FORMATO N° 5_XX'!$K$81)","v":0},null,{"$f":"COUNTIFS(Tabla2[NIVEL ACADEMICO],'FORMATO N° 5_XX'!B82,Tabla2[MODALIDAD LABORAL],'FORMATO N° 5_XX'!$M$81)","v":0},null,{"$f":"COUNTIFS(Tabla2[NIVEL ACADEMICO],'FORMATO N° 5_XX'!B82,Tabla2[MODALIDAD LABORAL],'FORMATO N° 5_XX'!$O$81)","v":0},null,{"$f":"COUNTIFS(Tabla2[NIVEL ACADEMICO],'FORMATO N° 5_XX'!B82,Tabla2[MODALIDAD LABORAL],'FORMATO N° 5_XX'!$Q$81)","v":0},null,null,null,1,"DE 0 A 1 AÑO",null,{"$f":"COUNTIFS(Tabla1[RANGO_EDAD],U82,Tabla1[SEXO],$X$81)","v":0},null,{"$f":"COUNTIFS(Tabla1[RANGO_EDAD],U82,Tabla1[SEXO],$Z$81)","v":0},null,{"$f":"SUM(X82:AA82)","v":0}]
[null,"BACHILLER",null,null,{"$f":"SUM(G83:R83)","v":0},null,{"$f":"COUNTIFS(Tabla2[NIVEL ACADEMICO],'FORMATO N° 5_XX'!B83,Tabla2[MODALIDAD LABORAL],'FORMATO N° 5_XX'!$G$81)","v":0},null,{"$f":"COUNTIFS(Tabla2[NIVEL ACADEMICO],'FORMATO N° 5_XX'!B83,Tabla2[MODALIDAD LABORAL],'FORMATO N° 5_XX'!$I$81)","v":0},null,{"$f":"COUNTIFS(Tabla2[NIVEL ACADEMICO],'FORMATO N° 5_XX'!B83,Tabla2[MODALIDAD LABORAL],'FORMATO N° 5_XX'!$K$81)","v":0},null,{"$f":"COUNTIFS(Tabla2[NIVEL ACADEMICO],'FORMATO N° 5_XX'!B83,Tabla2[MODALIDAD LABORAL],'FORMATO N° 5_XX'!$M$81)","v":0},null,{"$f":"COUNTIFS(Tabla2[NIVEL ACADEMICO],'FORMATO N° 5_XX'!B83,Tabla2[MODALIDAD LABORAL],'FORMATO N° 5_XX'!$O$81)","v":0},null,{"$f":"COUNTIFS(Tabla2[NIVEL ACADEMICO],'FORMATO N° 5_XX'!B83,Tabla2[MODALIDAD LABORAL],'FORMATO N° 5_XX'!$Q$81)","v":0},null,null,null,2,"DE 1 A 2 AÑOS",null,{"$f":"COUNTIFS(Tabla1[RANGO_EDAD],U83,Tabla1[SEXO],$X$81)","v":0},null,{"$f":"COUNTIFS(Tabla1[RANGO_EDAD],U83,Tabla1[SEXO],$Z$81)","v":0},null,{"$f":"SUM(X83:AA83)","v":0}]
[null,"ESTUDIANTE",null,null,{"$f":"SUM(G84:R84)","v":0},null,{"$f":"COUNTIFS(Tabla2[NIVEL ACADEMICO],'FORMATO N° 5_XX'!B84,Tabla2[MODALIDAD LABORAL],'FORMATO N° 5_XX'!$G$81)","v":0},null,{"$f":"COUNTIFS(Tabla2[NIVEL ACADEMICO],'FORMATO N° 5_XX'!B84,Tabla2[MODALIDAD LABORAL],'FORMATO N° 5_XX'!$I$81)","v":0},null,{"$f":"COUNTIFS(Tabla2[NIVEL ACADEMICO],'FORMATO N° 5_XX'!B84,Tabla2[MODALIDAD LABORAL],'FORMATO N° 5_XX'!$K$81)","v":0},null,{"$f":"COUNTIFS(Tabla2[NIVEL ACADEMICO],'FORMATO N° 5_XX'!B84,Tabla2[MODALIDAD LABORAL],'FORMATO N° 5_XX'!$M$81)","v":0},null,{"$f":"COUNTIFS(Tabla2[NIVEL ACADEMICO],'FORMATO N° 5_XX'!B84,Tabla2[MODALIDAD LABORAL],'FORMATO N° 5_XX'!$O$81)","v":0},null,{"$f":"COUNTIFS(Tabla2[NIVEL ACADEMICO],'FORMATO N° 5_XX'!B84,Tabla2[MODALIDAD LABORAL],'FORMATO N° 5_XX'!$Q$81)","v":0},null,null,null,3,"DE 2 A 3 AÑOS",null,{"$f":"COUNTIFS(Tabla1[RANGO_EDAD],U84,Tabla1[SEXO],$X$81)","v":0},null,{"$f":"COUNTIFS(Tabla1[RANGO_EDAD],U84,Tabla1[SEXO],$Z$81)","v":0},null,0]
[null,"OTRO",null,null,{"$f":"SUM(G85:R85)","v":0},null,{"$f":"COUNTIFS(Tabla2[NIVEL ACADEMICO],'FORMATO N° 5_XX'!B85,Tabla2[MODALIDAD LABORAL],'FORMATO N° 5_XX'!$G$81)","v":0},null,{"$f":"COUNTIFS(Tabla2[NIVEL ACADEMICO],'FORMATO N° 5_XX'!B85,Tabla2[MODALIDAD LABORAL],'FORMATO N° 5_XX'!$I$81)","v":0},null,{"$f":"COUNTIFS(Tabla2[NIVEL ACADEMICO],'FORMATO N° 5_XX'!B85,Tabla2[MODALIDAD LABORAL],'FORMATO N° 5_XX'!$K$81)","v":0},null,{"$f":"COUNTIFS(Tabla2[NIVEL ACADEMICO],'FORMATO N° 5_XX'!B85,Tabla2[MODALIDAD LABORAL],'FORMATO N° 5_XX'!$M$81)","v":0},null,{"$f":"COUNTIFS(Tabla2[NIVEL ACADEMICO],'FORMATO N° 5_XX'!B85,Tabla2[MODALIDAD LABORAL],'FORMATO N° 5_XX'!$O$81)","v":0},null,{"$f":"COUNTIFS(Tabla2[NIVEL ACADEMICO],'FORMATO N° 5_XX'!B85,Tabla2[MODALIDAD LABORAL],'FORMATO N° 5_XX'!$Q$81)","v":0},null,null,null,4,"MAYOR A 3 AÑOS",null,{"$f":"COUNTIFS(Tabla1[RANGO_EDAD],U85,Tabla1[SEXO],$X$81)","v":0},null,{"$f":"COUNTIFS(Tabla1[RANGO_EDAD],U85,Tabla1[SEXO],$Z$81)","v":0},null,0]
[null,"TOTAL",null,null,{"$f":"SUM(E82:F85)","v":0},null,{"$f":"SUM(G82:H85)","v":0},null,{"$f":"SUM(I82:J85)","v":0},null,{"$f":"SUM(K82:L85)","v":0},null,{"$f":"SUM(M82:N85)","v":0},null,{"$f":"SUM(O82:P85)","v":0},null,{"$f":"SUM(Q82:R85)","v":0},null,null,null,null,"TOTAL",null,{"$f":"SUM(X82:Y85)","v":0},null,{"$f":"SUM(Z82:AA85)","v":0},null,{"$f":"SUM(AB82:AC85)","v":0}]
[]
[]
[null,"OBSERVACIONES :"]
[]
[]
[]
[]
[]
[]
[]
[]
[]
[]
[]
[]
[]
[]
[]
[]
[]
[]
[]
[]
[]
[null,null,null,null,null,null,null,null,null,null,null,null,null,null,null,null,null,null,null,null,"RESPONSABLE"]

{"sheet":"NIÑOS","index":4,"n_rows":50,"n_cols":25,"rows_kept":50,"cut":false,"hidden":false,"merged":[[0,1,1,7],[3,5,3,6],[3,14,3,20]]}
[null,"REGISTRO DE NIÑOS"]
[]
[]
[null,null,null,null,null,"EDAD",null,null,null,null,null,null,null,null,"EGRESO"]
["N°","E.P.","APELLIDOS Y NOMBRES","SEXO","FECHA DE NACIMIENTO","AÑOS","MESES","FECHA ING. E.P.","NRO. DNI","MOTIVO POR EL QUE NO CUENTA CON DNI","SITUACIÓN ACTUAL DEL MENOR","NOMBRE DE LA MADRE","FECHA DE INGRESO DE LA MADRE AL E.P.","SITUACIÓN DEL PADRE","FECHA EGRESO","NOMBRE DEL FAMILIAR O INSTITUCIÓN TUTELAR DONDE INGRESA EL MENOR","DIRECCIÓN DEL DOMICILIO/INSTITUCIÓN AL QUE EGRESA EL MENOR","PARENTESCO","DETALLE EN CASO DE ELEGIR \"OTRO\"","DOCUMENTO CON EL QUE EGRESA EL MENOR","DETALLAR EL NÚMERO DE DOCUMENTO","CALCULO AÑOS","RANGO_EDAD","MOTIVO_DNI","OTRO_PARENTESCO"]
[{"$f":"IF(C6>0,ROW()-5,\"\")","v":""},{"$f":"IFERROR(IF(C6>0,VLOOKUP('BD-SOC'!$H$7:$H$7,DATA!$A$79:$B$157,2,FALSE),\"\"),\"\")","v":""},null,null,null,{"$f":"IFERROR(INT(Tabla1[[#This Row],[CALCULO AÑOS]]),\"\")","v":""},{"$f":"IF(Tabla1[[#This Row],[AÑOS]]>18,\"\",(MOD(Tabla1[[#This Row],[CALCULO AÑOS]],1)*12)-0.5)","v":""},null,null,null,null,null,null,null,null,null,null,null,null,null,null,{"$f":"IF(E6>0,(NOW()-E6)/365,\"\")","v":""},{"$f":"IFERROR(IF(Tabla1[[#This Row],[AÑOS]]=\"\",\"\",IF(Tabla1[[#This Row],[AÑOS]]<=1,1,IF(Tabla1[[#This Row],[AÑOS]]<=2,2,IF(Tabla1[[#This Row],[AÑOS]]<=3,3,4)))),\"\")","v":""},{"$f":"IF(Tabla1[[#This Row],[N°]]=\"\",\"\",IF(Tabla1[[#This Row],[NRO. DNI]]=\"\",1,\"\"))","v":""},{"$f":"IF(Tabla1[[#This Row],[N°]]=\"\",\"\",IF(Tabla1[[#This Row],[PARENTESCO]]=\"OTRO\",1,\"\"))","v":""}]
[{"$f":"IF(C7>0,ROW()-5,\"\")","v":""},{"$f":"IFERROR(IF(C7>0,VLOOKUP('BD-SOC'!$H$7:$H$7,DATA!$A$79:$B$157,2,FALSE),\"\"),\"\")","v":""},null,null,null,{"$f":"IFERROR(INT(Tabla1[[#This Row],[CALCULO AÑOS]]),\"\")","v":""},{"$f":"IF(Tabla1[[#This Row],[AÑOS]]>18,\"\",(MOD(Tabla1[[#This Row],[CALCULO AÑOS]],1)*12)-0.5)","v":""},null,null,null,null,null,null,null,null,null,null,null,null,null,null,"",{"$f":"IFERROR(IF(Tabla1[[#This Row],[AÑOS]]=\"\",\"\",IF(Tabla1[[#This Row],[AÑOS]]<=1,1,IF(Tabla1[[#This Row],[AÑOS]]<=2,2,IF(Tabla1[[#This Row],[AÑOS]]<=3,3,4)))),\"\")","v":""},{"$f":"IF(Tabla1[[#This Row],[N°]]=\"\",\"\",IF(Tabla1[[#This Row],[NRO. DNI]]=\"\",1,\"\"))","v":""},{"$f":"IF(Tabla1[[#This Row],[N°]]=\"\",\"\",IF(Tabla1[[#This Row],[PARENTESCO]]=\"OTRO\",1,\"\"))","v":""}]
["",{"$f":"IFERROR(IF(C8>0,VLOOKUP('BD-SOC'!$H$7:$H$7,DATA!$A$79:$B$157,2,FALSE),\"\"),\"\")","v":""},null,null,null,{"$f":"IFERROR(INT(Tabla1[[#This Row],[CALCULO AÑOS]]),\"\")","v":""},{"$f":"IF(Tabla1[[#This Row],[AÑOS]]>18,\"\",(MOD(Tabla1[[#This Row],[CALCULO AÑOS]],1)*12)-0.5)","v":""},null,null,null,null,null,null,null,null,null,null,null,null,null,null,"",{"$f":"IFERROR(IF(Tabla1[[#This Row],[AÑOS]]=\"\",\"\",IF(Tabla1[[#This Row],[AÑOS]]<=1,1,IF(Tabla1[[#This Row],[AÑOS]]<=2,2,IF(Tabla1[[#This Row],[AÑOS]]<=3,3,4)))),\"\")","v":""},{"$f":"IF(Tabla1[[#This Row],[N°]]=\"\",\"\",IF(Tabla1[[#This Row],[NRO. DNI]]=\"\",1,\"\"))","v":""},{"$f":"IF(Tabla1[[#This Row],[N°]]=\"\",\"\",IF(Tabla1[[#This Row],[PARENTESCO]]=\"OTRO\",1,\"\"))","v":""}]
["",{"$f":"IFERROR(IF(C9>0,VLOOKUP('BD-SOC'!$H$7:$H$7,DATA!$A$79:$B$157,2,FALSE),\"\"),\"\")","v":""},null,null,null,{"$f":"IFERROR(INT(Tabla1[[#This Row],[CALCULO AÑOS]]),\"\")","v":""},{"$f":"IF(Tabla1[[#This Row],[AÑOS]]>18,\"\",(MOD(Tabla1[[#This Row],[CALCULO AÑOS]],1)*12)-0.5)","v":""},null,null,null,null,null,null,null,null,null,null,null,null,null,null,"",{"$f":"IFERROR(IF(Tabla1[[#This Row],[AÑOS]]=\"\",\"\",IF(Tabla1[[#This Row],[AÑOS]]<=1,1,IF(Tabla1[[#This Row],[AÑOS]]<=2,2,IF(Tabla1[[#This Row],[AÑOS]]<=3,3,4)))),\"\")","v":""},{"$f":"IF(Tabla1[[#This Row],[N°]]=\"\",\"\",IF(Tabla1[[#This Row],[NRO. DNI]]=\"\",1,\"\"))","v":""},{"$f":"IF(Tabla1[[#This Row],[N°]]=\"\",\"\",IF(Tabla1[[#This Row],[PARENTESCO]]=\"OTRO\",1,\"\"))","v":""}]
["",{"$f":"IFERROR(IF(C10>0,VLOOKUP('BD-SOC'!$H$7:$H$7,DATA!$A$79:$B$157,2,FALSE),\"\"),\"\")","v":""},null,null,null,{"$f":"IFERROR(INT(Tabla1[[#This Row],[CALCULO AÑOS]]),\"\")","v":""},{"$f":"IF(Tabla1[[#This Row],[AÑOS]]>18,\"\",(MOD(Tabla1[[#This Row],[CALCULO AÑOS]],1)*12)-0.5)","v":""},null,null,null,null,null,null,null,null,null,null,null,null,null,null,"",{"$f":"IFERROR(IF(Tabla1[[#This Row],[AÑOS]]=\"\",\"\",IF(Tabla1[[#This Row],[AÑOS]]<=1,1,IF(Tabla1[[#This Row],[AÑOS]]<=2,2,IF(Tabla1[[#This Row],[AÑOS]]<=3,3,4)))),\"\")","v":""},{"$f":"IF(Tabla1[[#This Row],[N°]]=\"\",\"\",IF(Tabla1[[#This Row],[NRO. DNI]]=\"\",1,\"\"))","v":""},{"$f":"IF(Tabla1[[#This Row],[N°]]=\"\",\"\",IF(Tabla1[[#This Row],[PARENTESCO]]=\"OTRO\",1,\"\"))","v":""}]
["",{"$f":"IFERROR(IF(C11>0,VLOOKUP('BD-SOC'!$H$7:$H$7,DATA!$A$79:$B$157,2,FALSE),\"\"),\"\")","v":""},null,null,null,{"$f":"IFERROR(INT(Tabla1[[#This Row],[CALCULO AÑOS]]),\"\")","v":""},{"$f":"IF(Tabla1[[#This Row],[AÑOS]]>18,\"\",(MOD(Tabla1[[#This Row],[CALCULO AÑOS]],1)*12)-0.5)","v":""},null,null,null,null,null,null,null,null,null,null,null,null,null,null,"",{"$f":"IFERROR(IF(Tabla1[[#This Row],[AÑOS]]=\"\",\"\",IF(Tabla1[[#This Row],[AÑOS]]<=1,1,IF(Tabla1[[#This Row],[AÑOS]]<=2,2,IF(Tabla1[[#This Row],[AÑOS]]<=3,3,4)))),\"\")","v":""},{"$f":"IF(Tabla1[[#This Row],[N°]]=\"\",\"\",IF(Tabla1[[#This Row],[NRO. DNI]]=\"\",1,\"\"))","v":""},{"$f":"IF(Tabla1[[#This Row],[N°]]=\"\",\"\",IF(Tabla1[[#This Row],[PARENTESCO]]=\"OTRO\",1,\"\"))","v":""}]
["",{"$f":"IFERROR(IF(C12>0,VLOOKUP('BD-SOC'!$H$7:$H$7,DATA!$A$79:$B$157,2,FALSE),\"\"),\"\")","v":""},null,null,null,{"$f":"IFERROR(INT(Tabla1[[#This Row],[CALCULO AÑOS]]),\"\")","v":""},{"$f":"IF(Tabla1[[#This Row],[AÑOS]]>18,\"\",(MOD(Tabla1[[#This Row],[CALCULO AÑOS]],1)*12)-0.5)","v":""},null,null,null,null,null,null,null,null,null,null,null,null,null,null,"",{"$f":"IFERROR(IF(Tabla1[[#This Row],[AÑOS]]=\"\",\"\",IF(Tabla1[[#This Row],[AÑOS]]<=1,1,IF(Tabla1[[#This Row],[AÑOS]]<=2,2,IF(Tabla1[[#This Row],[AÑOS]]<=3,3,4)))),\"\")","v":""},{"$f":"IF(Tabla1[[#This Row],[N°]]=\"\",\"\",IF(Tabla1[[#This Row],[NRO. DNI]]=\"\",1,\"\"))","v":""},{"$f":"IF(Tabla1[[#This Row],[N°]]=\"\",\"\",IF(Tabla1[[#This Row],[PARENTESCO]]=\"OTRO\",1,\"\"))","v":""}]
["",{"$f":"IFERROR(IF(C13>0,VLOOKUP('BD-SOC'!$H$7:$H$7,DATA!$A$79:$B$157,2,FALSE),\"\"),\"\")","v":""},null,null,null,{"$f":"IFERROR(INT(Tabla1[[#This Row],[CALCULO AÑOS]]),\"\")","v":""},{"$f":"IF(Tabla1[[#This Row],[AÑOS]]>18,\"\",(MOD(Tabla1[[#This Row],[CALCULO AÑOS]],1)*12)-0.5)","v":""},null,null,null,null,null,null,null,null,null,null,null,null,null,null,"",{"$f":"IFERROR(IF(Tabla1[[#This Row],[AÑOS]]=\"\",\"\",IF(Tabla1[[#This Row],[AÑOS]]<=1,1,IF(Tabla1[[#This Row],[AÑOS]]<=2,2,IF(Tabla1[[#This Row],[AÑOS]]<=3,3,4)))),\"\")","v":""},{"$f":"IF(Tabla1[[#This Row],[N°]]=\"\",\"\",IF(Tabla1[[#This Row],[NRO. DNI]]=\"\",1,\"\"))","v":""},{"$f":"IF(Tabla1[[#This Row],[N°]]=\"\",\"\",IF(Tabla1[[#This Row],[PARENTESCO]]=\"OTRO\",1,\"\"))","v":""}]
["",{"$f":"IFERROR(IF(C14>0,VLOOKUP('BD-SOC'!$H$7:$H$7,DATA!$A$79:$B$157,2,FALSE),\"\"),\"\")","v":""},null,null,null,{"$f":"IFERROR(INT(Tabla1[[#This Row],[CALCULO AÑOS]]),\"\")","v":""},{"$f":"IF(Tabla1[[#This Row],[AÑOS]]>18,\"\",(MOD(Tabla1[[#This Row],[CALCULO AÑOS]],1)*12)-0.5)","v":""},null,null,null,null,null,null,null,null,null,null,null,null,null,null,"",{"$f":"IFERROR(IF(Tabla1[[#This Row],[AÑOS]]=\"\",\"\",IF(Tabla1[[#This Row],[AÑOS]]<=1,1,IF(Tabla1[[#This Row],[AÑOS]]<=2,2,IF(Tabla1[[#This Row],[AÑOS]]<=3,3,4)))),\"\")","v":""},{"$f":"IF(Tabla1[[#This Row],[N°]]=\"\",\"\",IF(Tabla1[[#This Row],[NRO. DNI]]=\"\",1,\"\"))","v":""},{"$f":"IF(Tabla1[[#This Row],[N°]]=\"\",\"\",IF(Tabla1[[#This Row],[PARENTESCO]]=\"OTRO\",1,\"\"))","v":""}]
["",{"$f":"IFERROR(IF(C15>0,VLOOKUP('BD-SOC'!$H$7:$H$7,DATA!$A$79:$B$157,2,FALSE),\"\"),\"\")","v":""},null,null,null,{"$f":"IFERROR(INT(Tabla1[[#This Row],[CALCULO AÑOS]]),\"\")","v":""},{"$f":"IF(Tabla1[[#This Row],[AÑOS]]>18,\"\",(MOD(Tabla1[[#This Row],[CALCULO AÑOS]],1)*12)-0.5)","v":""},null,null,null,null,null,null,null,null,null,null,null,null,null,null,"",{"$f":"IFERROR(IF(Tabla1[[#This Row],[AÑOS]]=\"\",\"\",IF(Tabla1[[#This Row],[AÑOS]]<=1,1,IF(Tabla1[[#This Row],[AÑOS]]<=2,2,IF(Tabla1[[#This Row],[AÑOS]]<=3,3,4)))),\"\")","v":""},{"$f":"IF(Tabla1[[#This Row],[N°]]=\"\",\"\",IF(Tabla1[[#This Row],[NRO. DNI]]=\"\",1,\"\"))","v":""},{"$f":"IF(Tabla1[[#This Row],[N°]]=\"\",\"\",IF(Tabla1[[#This Row],[PARENTESCO]]=\"OTRO\",1,\"\"))","v":""}]
["",{"$f":"IFERROR(IF(C16>0,VLOOKUP('BD-SOC'!$H$7:$H$7,DATA!$A$79:$B$157,2,FALSE),\"\"),\"\")","v":""},null,null,null,{"$f":"IFERROR(INT(Tabla1[[#This Row],[CALCULO AÑOS]]),\"\")","v":""},{"$f":"IF(Tabla1[[#This Row],[AÑOS]]>18,\"\",(MOD(Tabla1[[#This Row],[CALCULO AÑOS]],1)*12)-0.5)","v":""},null,null,null,null,null,null,null,null,null,null,null,null,null,null,"",{"$f":"IFERROR(IF(Tabla1[[#This Row],[AÑOS]]=\"\",\"\",IF(Tabla1[[#This Row],[AÑOS]]<=1,1,IF(Tabla1[[#This Row],[AÑOS]]<=2,2,IF(Tabla1[[#This Row],[AÑOS]]<=3,3,4)))),\"\")","v":""},{"$f":"IF(Tabla1[[#This Row],[N°]]=\"\",\"\",IF(Tabla1[[#This Row],[NRO. DNI]]=\"\",1,\"\"))","v":""},{"$f":"IF(Tabla1[[#This Row],[N°]]=\"\",\"\",IF(Tabla1[[#This Row],[PARENTESCO]]=\"OTRO\",1,\"\"))","v":""}]
["",{"$f":"IFERROR(IF(C17>0,VLOOKUP('BD-SOC'!$H$7:$H$7,DATA!$A$79:$B$157,2,FALSE),\"\"),\"\")","v":""},null,null,null,{"$f":"IFERROR(INT(Tabla1[[#This Row],[CALCULO AÑOS]]),\"\")","v":""},{"$f":"IF(Tabla1[[#This Row],[AÑOS]]>18,\"\",(MOD(Tabla1[[#This Row],[CALCULO AÑOS]],1)*12)-0.5)","v":""},null,null,null,null,null,null,null,null,null,null,null,null,null,null,"",{"$f":"IFERROR(IF(Tabla1[[#This Row],[AÑOS]]=\"\",\"\",IF(Tabla1[[#This Row],[AÑOS]]<=1,1,IF(Tabla1[[#This Row],[AÑOS]]<=2,2,IF(Tabla1[[#This Row],[AÑOS]]<=3,3,4)))),\"\")","v":""},{"$f":"IF(Tabla1[[#This Row],[N°]]=\"\",\"\",IF(Tabla1[[#This Row],[NRO. DNI]]=\"\",1,\"\"))","v":""},{"$f":"IF(Tabla1[[#This Row],[N°]]=\"\",\"\",IF(Tabla1[[#This Row],[PARENTESCO]]=\"OTRO\",1,\"\"))","v":""}]
["",{"$f":"IFERROR(IF(C18>0,VLOOKUP('BD-SOC'!$H$7:$H$7,DATA!$A$79:$B$157,2,FALSE),\"\"),\"\")","v":""},null,null,null,{"$f":"IFERROR(INT(Tabla1[[#This Row],[CALCULO AÑOS]]),\"\")","v":""},{"$f":"IF(Tabla1[[#This Row],[AÑOS]]>18,\"\",(MOD(Tabla1[[#This Row],[CALCULO AÑOS]],1)*12)-0.5)","v":""},null,null,null,null,null,null,null,null,null,null,null,null,null,null,"",{"$f":"IFERROR(IF(Tabla1[[#This Row],[AÑOS]]=\"\",\"\",IF(Tabla1[[#This Row],[AÑOS]]<=1,1,IF(Tabla1[[#This Row],[AÑOS]]<=2,2,IF(Tabla1[[#This Row],[AÑOS]]<=3,3,4)))),\"\")","v":""},{"$f":"IF(Tabla1[[#This Row],[N°]]=\"\",\"\",IF(Tabla1[[#This Row],[NRO. DNI]]=\"\",1,\"\"))","v":""},{"$f":"IF(Tabla1[[#This Row],[N°]]=\"\",\"\",IF(Tabla1[[#This Row],[PARENTESCO]]=\"OTRO\",1,\"\"))","v":""}]
["",{"$f":"IFERROR(IF(C19>0,VLOOKUP('BD-SOC'!$H$7:$H$7,DATA!$A$79:$B$157,2,FALSE),\"\"),\"\")","v":""},null,null,null,{"$f":"IFERROR(INT(Tabla1[[#This Row],[CALCULO AÑOS]]),\"\")","v":""},{"$f":"IF(Tabla1[[#This Row],[AÑOS]]>18,\"\",(MOD(Tabla1[[#This Row],[CALCULO AÑOS]],1)*12)-0.5)","v":""},null,null,null,null,null,null,null,null,null,null,null,null,null,null,"",{"$f":"IFERROR(IF(Tabla1[[#This Row],[AÑOS]]=\"\",\"\",IF(Tabla1[[#This Row],[AÑOS]]<=1,1,IF(Tabla1[[#This Row],[AÑOS]]<=2,2,IF(Tabla1[[#This Row],[AÑOS]]<=3,3,4)))),\"\")","v":""},{"$f":"IF(Tabla1[[#This Row],[N°]]=\"\",\"\",IF(Tabla1[[#This Row],[NRO. DNI]]=\"\",1,\"\"))","v":""},{"$f":"IF(Tabla1[[#This Row],[N°]]=\"\",\"\",IF(Tabla1[[#This Row],[PARENTESCO]]=\"OTRO\",1,\"\"))","v":""}]
["",{"$f":"IFERROR(IF(C20>0,VLOOKUP('BD-SOC'!$H$7:$H$7,DATA!$A$79:$B$157,2,FALSE),\"\"),\"\")","v":""},null,null,null,{"$f":"IFERROR(INT(Tabla1[[#This Row],[CALCULO AÑOS]]),\"\")","v":""},{"$f":"IF(Tabla1[[#This Row],[AÑOS]]>18,\"\",(MOD(Tabla1[[#This Row],[CALCULO AÑOS]],1)*12)-0.5)","v":""},null,null,null,null,null,null,null,null,null,null,null,null,null,null,"",{"$f":"IFERROR(IF(Tabla1[[#This Row],[AÑOS]]=\"\",\"\",IF(Tabla1[[#This Row],[AÑOS]]<=1,1,IF(Tabla1[[#This Row],[AÑOS]]<=2,2,IF(Tabla1[[#This Row],[AÑOS]]<=3,3,4)))),\"\")","v":""},{"$f":"IF(Tabla1[[#This Row],[N°]]=\"\",\"\",IF(Tabla1[[#This Row],[NRO. DNI]]=\"\",1,\"\"))","v":""},{"$f":"IF(Tabla1[[#This Row],[N°]]=\"\",\"\",IF(Tabla1[[#This Row],[PARENTESCO]]=\"OTRO\",1,\"\"))","v":""}]
["",{"$f":"IFERROR(IF(C21>0,VLOOKUP('BD-SOC'!$H$7:$H$7,DATA!$A$79:$B$157,2,FALSE),\"\"),\"\")","v":""},null,null,null,{"$f":"IFERROR(INT(Tabla1[[#This Row],[CALCULO AÑOS]]),\"\")","v":""},{"$f":"IF(Tabla1[[#This Row],[AÑOS]]>18,\"\",(MOD(Tabla1[[#This Row],[CALCULO AÑOS]],1)*12)-0.5)","v":""},null,null,null,null,null,null,null,null,null,null,null,null,null,null,"",{"$f":"IFERROR(IF(Tabla1[[#This Row],[AÑOS]]=\"\",\"\",IF(Tabla1[[#This Row],[AÑOS]]<=1,1,IF(Tabla1[[#This Row],[AÑOS]]<=2,2,IF(Tabla1[[#This Row],[AÑOS]]<=3,3,4)))),\"\")","v":""},{"$f":"IF(Tabla1[[#This Row],[N°]]=\"\",\"\",IF(Tabla1[[#This Row],[NRO. DNI]]=\"\",1,\"\"))","v":""},{"$f":"IF(Tabla1[[#This Row],[N°]]=\"\",\"\",IF(Tabla1[[#This Row],[PARENTESCO]]=\"OTRO\",1,\"\"))","v":""}]
["",{"$f":"IFERROR(IF(C22>0,VLOOKUP('BD-SOC'!$H$7:$H$7,DATA!$A$79:$B$157,2,FALSE),\"\"),\"\")","v":""},null,null,null,{"$f":"IFERROR(INT(Tabla1[[#This Row],[CALCULO AÑOS]]),\"\")","v":""},{"$f":"IF(Tabla1[[#This Row],[AÑOS]]>18,\"\",(MOD(Tabla1[[#This Row],[CALCULO AÑOS]],1)*12)-0.5)","v":""},null,null,null,null,null,null,null,null,null,null,null,null,null,null,"",{"$f":"IFERROR(IF(Tabla1[[#This Row],[AÑOS]]=\"\",\"\",IF(Tabla1[[#This Row],[AÑOS]]<=1,1,IF(Tabla1[[#This Row],[AÑOS]]<=2,2,IF(Tabla1[[#This Row],[AÑOS]]<=3,3,4)))),\"\")","v":""},{"$f":"IF(Tabla1[[#This Row],[N°]]=\"\",\"\",IF(Tabla1[[#This Row],[NRO. DNI]]=\"\",1,\"\"))","v":""},{"$f":"IF(Tabla1[[#This Row],[N°]]=\"\",\"\",IF(Tabla1[[#This Row],[PARENTESCO]]=\"OTRO\",1,\"\"))","v":""}]
["",{"$f":"IFERROR(IF(C23>0,VLOOKUP('BD-SOC'!$H$7:$H$7,DATA!$A$79:$B$157,2,FALSE),\"\"),\"\")","v":""},null,null,null,{"$f":"IFERROR(INT(Tabla1[[#This Row],[CALCULO AÑOS]]),\"\")","v":""},{"$f":"IF(Tabla1[[#This Row],[AÑOS]]>18,\"\",(MOD(Tabla1[[#This Row],[CALCULO AÑOS]],1)*12)-0.5)","v":""},null,null,null,null,null,null,null,null,null,null,null,null,null,null,"",{"$f":"IFERROR(IF(Tabla1[[#This Row],[AÑOS]]=\"\",\"\",IF(Tabla1[[#This Row],[AÑOS]]<=1,1,IF(Tabla1[[#This Row],[AÑOS]]<=2,2,IF(Tabla1[[#This Row],[AÑOS]]<=3,3,4)))),\"\")","v":""},{"$f":"IF(Tabla1[[#This Row],[N°]]=\"\",\"\",IF(Tabla1[[#This Row],[NRO. DNI]]=\"\",1,\"\"))","v":""},{"$f":"IF(Tabla1[[#This Row],[N°]]=\"\",\"\",IF(Tabla1[[#This Row],[PARENTESCO]]=\"OTRO\",1,\"\"))","v":""}]
["",{"$f":"IFERROR(IF(C24>0,VLOOKUP('BD-SOC'!$H$7:$H$7,DATA!$A$79:$B$157,2,FALSE),\"\"),\"\")","v":""},null,null,null,{"$f":"IFERROR(INT(Tabla1[[#This Row],[CALCULO AÑOS]]),\"\")","v":""},{"$f":"IF(Tabla1[[#This Row],[AÑOS]]>18,\"\",(MOD(Tabla1[[#This Row],[CALCULO AÑOS]],1)*12)-0.5)","v":""},null,null,null,null,null,null,null,null,null,null,null,null,null,null,"",{"$f":"IFERROR(IF(Tabla1[[#This Row],[AÑOS]]=\"\",\"\",IF(Tabla1[[#This Row],[AÑOS]]<=1,1,IF(Tabla1[[#This Row],[AÑOS]]<=2,2,IF(Tabla1[[#This Row],[AÑOS]]<=3,3,4)))),\"\")","v":""},{"$f":"IF(Tabla1[[#This Row],[N°]]=\"\",\"\",IF(Tabla1[[#This Row],[NRO. DNI]]=\"\",1,\"\"))","v":""},{"$f":"IF(Tabla1[[#This Row],[N°]]=\"\",\"\",IF(Tabla1[[#This Row],[PARENTESCO]]=\"OTRO\",1,\"\"))","v":""}]
["",{"$f":"IFERROR(IF(C25>0,VLOOKUP('BD-SOC'!$H$7:$H$7,DATA!$A$79:$B$157,2,FALSE),\"\"),\"\")","v":""},null,null,null,{"$f":"IFERROR(INT(Tabla1[[#This Row],[CALCULO AÑOS]]),\"\")","v":""},{"$f":"IF(Tabla1[[#This Row],[AÑOS]]>18,\"\",(MOD(Tabla1[[#This Row],[CALCULO AÑOS]],1)*12)-0.5)","v":""},null,null,null,null,null,null,null,null,null,null,null,null,null,null,"",{"$f":"IFERROR(IF(Tabla1[[#This Row],[AÑOS]]=\"\",\"\",IF(Tabla1[[#This Row],[AÑOS]]<=1,1,IF(Tabla1[[#This Row],[AÑOS]]<=2,2,IF(Tabla1[[#This Row],[AÑOS]]<=3,3,4)))),\"\")","v":""},{"$f":"IF(Tabla1[[#This Row],[N°]]=\"\",\"\",IF(Tabla1[[#This Row],[NRO. DNI]]=\"\",1,\"\"))","v":""},{"$f":"IF(Tabla1[[#This Row],[N°]]=\"\",\"\",IF(Tabla1[[#This Row],[PARENTESCO]]=\"OTRO\",1,\"\"))","v":""}]
["",{"$f":"IFERROR(IF(C26>0,VLOOKUP('BD-SOC'!$H$7:$H$7,DATA!$A$79:$B$157,2,FALSE),\"\"),\"\")","v":""},null,null,null,{"$f":"IFERROR(INT(Tabla1[[#This Row],[CALCULO AÑOS]]),\"\")","v":""},{"$f":"IF(Tabla1[[#This Row],[AÑOS]]>18,\"\",(MOD(Tabla1[[#This Row],[CALCULO AÑOS]],1)*12)-0.5)","v":""},null,null,null,null,null,null,null,null,null,null,null,null,null,null,"",{"$f":"IFERROR(IF(Tabla1[[#This Row],[AÑOS]]=\"\",\"\",IF(Tabla1[[#This Row],[AÑOS]]<=1,1,IF(Tabla1[[#This Row],[AÑOS]]<=2,2,IF(Tabla1[[#This Row],[AÑOS]]<=3,3,4)))),\"\")","v":""},{"$f":"IF(Tabla1[[#This Row],[N°]]=\"\",\"\",IF(Tabla1[[#This Row],[NRO. DNI]]=\"\",1,\"\"))","v":""},{"$f":"IF(Tabla1[[#This Row],[N°]]=\"\",\"\",IF(Tabla1[[#This Row],[PARENTESCO]]=\"OTRO\",1,\"\"))","v":""}]
["",{"$f":"IFERROR(IF(C27>0,VLOOKUP('BD-SOC'!$H$7:$H$7,DATA!$A$79:$B$157,2,FALSE),\"\"),\"\")","v":""},null,null,null,{"$f":"IFERROR(INT(Tabla1[[#This Row],[CALCULO AÑOS]]),\"\")","v":""},{"$f":"IF(Tabla1[[#This Row],[AÑOS]]>18,\"\",(MOD(Tabla1[[#This Row],[CALCULO AÑOS]],1)*12)-0.5)","v":""},null,null,null,null,null,null,null,null,null,null,null,null,null,null,"",{"$f":"IFERROR(IF(Tabla1[[#This Row],[AÑOS]]=\"\",\"\",IF(Tabla1[[#This Row],[AÑOS]]<=1,1,IF(Tabla1[[#This Row],[AÑOS]]<=2,2,IF(Tabla1[[#This Row],[AÑOS]]<=3,3,4)))),\"\")","v":""},{"$f":"IF(Tabla1[[#This Row],[N°]]=\"\",\"\",IF(Tabla1[[#This Row],[NRO. DNI]]=\"\",1,\"\"))","v":""},{"$f":"IF(Tabla1[[#This Row],[N°]]=\"\",\"\",IF(Tabla1[[#This Row],[PARENTESCO]]=\"OTRO\",1,\"\"))","v":""}]
["",{"$f":"IFERROR(IF(C28>0,VLOOKUP('BD-SOC'!$H$7:$H$7,DATA!$A$79:$B$157,2,FALSE),\"\"),\"\")","v":""},null,null,null,{"$f":"IFERROR(INT(Tabla1[[#This Row],[CALCULO AÑOS]]),\"\")","v":""},{"$f":"IF(Tabla1[[#This Row],[AÑOS]]>18,\"\",(MOD(Tabla1[[#This Row],[CALCULO AÑOS]],1)*12)-0.5)","v":""},null,null,null,null,null,null,null,null,null,null,null,null,null,null,"",{"$f":"IFERROR(IF(Tabla1[[#This Row],[AÑOS]]=\"\",\"\",IF(Tabla1[[#This Row],[AÑOS]]<=1,1,IF(Tabla1[[#This Row],[AÑOS]]<=2,2,IF(Tabla1[[#This Row],[AÑOS]]<=3,3,4)))),\"\")","v":""},{"$f":"IF(Tabla1[[#This Row],[N°]]=\"\",\"\",IF(Tabla1[[#This Row],[NRO. DNI]]=\"\",1,\"\"))","v":""},{"$f":"IF(Tabla1[[#This Row],[N°]]=\"\",\"\",IF(Tabla1[[#This Row],[PARENTESCO]]=\"OTRO\",1,\"\"))","v":""}]
["",{"$f":"IFERROR(IF(C29>0,VLOOKUP('BD-SOC'!$H$7:$H$7,DATA!$A$79:$B$157,2,FALSE),\"\"),\"\")","v":""},null,null,null,{"$f":"IFERROR(INT(Tabla1[[#This Row],[CALCULO AÑOS]]),\"\")","v":""},{"$f":"IF(Tabla1[[#This Row],[AÑOS]]>18,\"\",(MOD(Tabla1[[#This Row],[CALCULO AÑOS]],1)*12)-0.5)","v":""},null,null,null,null,null,null,null,null,null,null,null,null,null,null,"",{"$f":"IFERROR(IF(Tabla1[[#This Row],[AÑOS]]=\"\",\"\",IF(Tabla1[[#This Row],[AÑOS]]<=1,1,IF(Tabla1[[#This Row],[AÑOS]]<=2,2,IF(Tabla1[[#This Row],[AÑOS]]<=3,3,4)))),\"\")","v":""},{"$f":"IF(Tabla1[[#This Row],[N°]]=\"\",\"\",IF(Tabla1[[#This Row],[NRO. DNI]]=\"\",1,\"\"))","v":""},{"$f":"IF(Tabla1[[#This Row],[N°]]=\"\",\"\",IF(Tabla1[[#This Row],[PARENTESCO]]=\"OTRO\",1,\"\"))","v":""}]
["",{"$f":"IFERROR(IF(C30>0,VLOOKUP('BD-SOC'!$H$7:$H$7,DATA!$A$79:$B$157,2,FALSE),\"\"),\"\")","v":""},null,null,null,{"$f":"IFERROR(INT(Tabla1[[#This Row],[CALCULO AÑOS]]),\"\")","v":""},{"$f":"IF(Tabla1[[#This Row],[AÑOS]]>18,\"\",(MOD(Tabla1[[#This Row],[CALCULO AÑOS]],1)*12)-0.5)","v":""},null,null,null,null,null,null,null,null,null,null,null,null,null,null,"",{"$f":"IFERROR(IF(Tabla1[[#This Row],[AÑOS]]=\"\",\"\",IF(Tabla1[[#This Row],[AÑOS]]<=1,1,IF(Tabla1[[#This Row],[AÑOS]]<=2,2,IF(Tabla1[[#This Row],[AÑOS]]<=3,3,4)))),\"\")","v":""},{"$f":"IF(Tabla1[[#This Row],[N°]]=\"\",\"\",IF(Tabla1[[#This Row],[NRO. DNI]]=\"\",1,\"\"))","v":""},{"$f":"IF(Tabla1[[#This Row],[N°]]=\"\",\"\",IF(Tabla1[[#This Row],[PARENTESCO]]=\"OTRO\",1,\"\"))","v":""}]
["",{"$f":"IFERROR(IF(C31>0,VLOOKUP('BD-SOC'!$H$7:$H$7,DATA!$A$79:$B$157,2,FALSE),\"\"),\"\")","v":""},null,null,null,{"$f":"IFERROR(INT(Tabla1[[#This Row],[CALCULO AÑOS]]),\"\")","v":""},{"$f":"IF(Tabla1[[#This Row],[AÑOS]]>18,\"\",(MOD(Tabla1[[#This Row],[CALCULO AÑOS]],1)*12)-0.5)","v":""},null,null,null,null,null,null,null,null,null,null,null,null,null,null,"",{"$f":"IFERROR(IF(Tabla1[[#This Row],[AÑOS]]=\"\",\"\",IF(Tabla1[[#This Row],[AÑOS]]<=1,1,IF(Tabla1[[#This Row],[AÑOS]]<=2,2,IF(Tabla1[[#This Row],[AÑOS]]<=3,3,4)))),\"\")","v":""},{"$f":"IF(Tabla1[[#This Row],[N°]]=\"\",\"\",IF(Tabla1[[#This Row],[NRO. DNI]]=\"\",1,\"\"))","v":""},{"$f":"IF(Tabla1[[#This Row],[N°]]=\"\",\"\",IF(Tabla1[[#This Row],[PARENTESCO]]=\"OTRO\",1,\"\"))","v":""}]
["",{"$f":"IFERROR(IF(C32>0,VLOOKUP('BD-SOC'!$H$7:$H$7,DATA!$A$79:$B$157,2,FALSE),\"\"),\"\")","v":""},null,null,null,{"$f":"IFERROR(INT(Tabla1[[#This Row],[CALCULO AÑOS]]),\"\")","v":""},{"$f":"IF(Tabla1[[#This Row],[AÑOS]]>18,\"\",(MOD(Tabla1[[#This Row],[CALCULO AÑOS]],1)*12)-0.5)","v":""},null,null,null,null,null,null,null,null,null,null,null,null,null,null,"",{"$f":"IFERROR(IF(Tabla1[[#This Row],[AÑOS]]=\"\",\"\",IF(Tabla1[[#This Row],[AÑOS]]<=1,1,IF(Tabla1[[#This Row],[AÑOS]]<=2,2,IF(Tabla1[[#This Row],[AÑOS]]<=3,3,4)))),\"\")","v":""},{"$f":"IF(Tabla1[[#This Row],[N°]]=\"\",\"\",IF(Tabla1[[#This Row],[NRO. DNI]]=\"\",1,\"\"))","v":""},{"$f":"IF(Tabla1[[#This Row],[N°]]=\"\",\"\",IF(Tabla1[[#This Row],[PARENTESCO]]=\"OTRO\",1,\"\"))","v":""}]
["",{"$f":"IFERROR(IF(C33>0,VLOOKUP('BD-SOC'!$H$7:$H$7,DATA!$A$79:$B$157,2,FALSE),\"\"),\"\")","v":""},null,null,null,{"$f":"IFERROR(INT(Tabla1[[#This Row],[CALCULO AÑOS]]),\"\")","v":""},{"$f":"IF(Tabla1[[#This Row],[AÑOS]]>18,\"\",(MOD(Tabla1[[#This Row],[CALCULO AÑOS]],1)*12)-0.5)","v":""},null,null,null,null,null,null,null,null,null,null,null,null,null,null,"",{"$f":"IFERROR(IF(Tabla1[[#This Row],[AÑOS]]=\"\",\"\",IF(Tabla1[[#This Row],[AÑOS]]<=1,1,IF(Tabla1[[#This Row],[AÑOS]]<=2,2,IF(Tabla1[[#This Row],[AÑOS]]<=3,3,4)))),\"\")","v":""},{"$f":"IF(Tabla1[[#This Row],[N°]]=\"\",\"\",IF(Tabla1[[#This Row],[NRO. DNI]]=\"\",1,\"\"))","v":""},{"$f":"IF(Tabla1[[#This Row],[N°]]=\"\",\"\",IF(Tabla1[[#This Row],[PARENTESCO]]=\"OTRO\",1,\"\"))","v":""}]
["",{"$f":"IFERROR(IF(C34>0,VLOOKUP('BD-SOC'!$H$7:$H$7,DATA!$A$79:$B$157,2,FALSE),\"\"),\"\")","v":""},null,null,null,{"$f":"IFERROR(INT(Tabla1[[#This Row],[CALCULO AÑOS]]),\"\")","v":""},{"$f":"IF(Tabla1[[#This Row],[AÑOS]]>18,\"\",(MOD(Tabla1[[#This Row],[CALCULO AÑOS]],1)*12)-0.5)","v":""},null,null,null,null,null,null,null,null,null,null,null,null,null,null,"",{"$f":"IFERROR(IF(Tabla1[[#This Row],[AÑOS]]=\"\",\"\",IF(Tabla1[[#This Row],[AÑOS]]<=1,1,IF(Tabla1[[#This Row],[AÑOS]]<=2,2,IF(Tabla1[[#This Row],[AÑOS]]<=3,3,4)))),\"\")","v":""},{"$f":"IF(Tabla1[[#This Row],[N°]]=\"\",\"\",IF(Tabla1[[#This Row],[NRO. DNI]]=\"\",1,\"\"))","v":""},{"$f":"IF(Tabla1[[#This Row],[N°]]=\"\",\"\",IF(Tabla1[[#This Row],[PARENTESCO]]=\"OTRO\",1,\"\"))","v":""}]
["",{"$f":"IFERROR(IF(C35>0,VLOOKUP('BD-SOC'!$H$7:$H$7,DATA!$A$79:$B$157,2,FALSE),\"\"),\"\")","v":""},null,null,null,{"$f":"IFERROR(INT(Tabla1[[#This Row],[CALCULO AÑOS]]),\"\")","v":""},{"$f":"IF(Tabla1[[#This Row],[AÑOS]]>18,\"\",(MOD(Tabla1[[#This Row],[CALCULO AÑOS]],1)*12)-0.5)","v":""},null,null,null,null,null,null,null,null,null,null,null,null,null,null,"",{"$f":"IFERROR(IF(Tabla1[[#This Row],[AÑOS]]=\"\",\"\",IF(Tabla1[[#This Row],[AÑOS]]<=1,1,IF(Tabla1[[#This Row],[AÑOS]]<=2,2,IF(Tabla1[[#This Row],[AÑOS]]<=3,3,4)))),\"\")","v":""},{"$f":"IF(Tabla1[[#This Row],[N°]]=\"\",\"\",IF(Tabla1[[#This Row],[NRO. DNI]]=\"\",1,\"\"))","v":""},{"$f":"IF(Tabla1[[#This Row],[N°]]=\"\",\"\",IF(Tabla1[[#This Row],[PARENTESCO]]=\"OTRO\",1,\"\"))","v":""}]
["",{"$f":"IFERROR(IF(C36>0,VLOOKUP('BD-SOC'!$H$7:$H$7,DATA!$A$79:$B$157,2,FALSE),\"\"),\"\")","v":""},null,null,null,{"$f":"IFERROR(INT(Tabla1[[#This Row],[CALCULO AÑOS]]),\"\")","v":""},{"$f":"IF(Tabla1[[#This Row],[AÑOS]]>18,\"\",(MOD(Tabla1[[#This Row],[CALCULO AÑOS]],1)*12)-0.5)","v":""},null,null,null,null,null,null,null,null,null,null,null,null,null,null,"",{"$f":"IFERROR(IF(Tabla1[[#This Row],[AÑOS]]=\"\",\"\",IF(Tabla1[[#This Row],[AÑOS]]<=1,1,IF(Tabla1[[#This Row],[AÑOS]]<=2,2,IF(Tabla1[[#This Row],[AÑOS]]<=3,3,4)))),\"\")","v":""},{"$f":"IF(Tabla1[[#This Row],[N°]]=\"\",\"\",IF(Tabla1[[#This Row],[NRO. DNI]]=\"\",1,\"\"))","v":""},{"$f":"IF(Tabla1[[#This Row],[N°]]=\"\",\"\",IF(Tabla1[[#This Row],[PARENTESCO]]=\"OTRO\",1,\"\"))","v":""}]
["",{"$f":"IFERROR(IF(C37>0,VLOOKUP('BD-SOC'!$H$7:$H$7,DATA!$A$79:$B$157,2,FALSE),\"\"),\"\")","v":""},null,null,null,{"$f":"IFERROR(INT(Tabla1[[#This Row],[CALCULO AÑOS]]),\"\")","v":""},{"$f":"IF(Tabla1[[#This Row],[AÑOS]]>18,\"\",(MOD(Tabla1[[#This Row],[CALCULO AÑOS]],1)*12)-0.5)","v":""},null,null,null,null,null,null,null,null,null,null,null,null,null,null,"",{"$f":"IFERROR(IF(Tabla1[[#This Row],[AÑOS]]=\"\",\"\",IF(Tabla1[[#This Row],[AÑOS]]<=1,1,IF(Tabla1[[#This Row],[AÑOS]]<=2,2,IF(Tabla1[[#This Row],[AÑOS]]<=3,3,4)))),\"\")","v":""},{"$f":"IF(Tabla1[[#This Row],[N°]]=\"\",\"\",IF(Tabla1[[#This Row],[NRO. DNI]]=\"\",1,\"\"))","v":""},{"$f":"IF(Tabla1[[#This Row],[N°]]=\"\",\"\",IF(Tabla1[[#This Row],[PARENTESCO]]=\"OTRO\",1,\"\"))","v":""}]
["",{"$f":"IFERROR(IF(C38>0,VLOOKUP('BD-SOC'!$H$7:$H$7,DATA!$A$79:$B$157,2,FALSE),\"\"),\"\")","v":""},null,null,null,{"$f":"IFERROR(INT(Tabla1[[#This Row],[CALCULO AÑOS]]),\"\")","v":""},{"$f":"IF(Tabla1[[#This Row],[AÑOS]]>18,\"\",(MOD(Tabla1[[#This Row],[CALCULO AÑOS]],1)*12)-0.5)","v":""},null,null,null,null,null,null,null,null,null,null,null,null,null,null,"",{"$f":"IFERROR(IF(Tabla1[[#This Row],[AÑOS]]=\"\",\"\",IF(Tabla1[[#This Row],[AÑOS]]<=1,1,IF(Tabla1[[#This Row],[AÑOS]]<=2,2,IF(Tabla1[[#This Row],[AÑOS]]<=3,3,4)))),\"\")","v":""},{"$f":"IF(Tabla1[[#This Row],[N°]]=\"\",\"\",IF(Tabla1[[#This Row],[NRO. DNI]]=\"\",1,\"\"))","v":""},{"$f":"IF(Tabla1[[#This Row],[N°]]=\"\",\"\",IF(Tabla1[[#This Row],[PARENTESCO]]=\"OTRO\",1,\"\"))","v":""}]
["",{"$f":"IFERROR(IF(C39>0,VLOOKUP('BD-SOC'!$H$7:$H$7,DATA!$A$79:$B$157,2,FALSE),\"\"),\"\")","v":""},null,null,null,{"$f":"IFERROR(INT(Tabla1[[#This Row],[CALCULO AÑOS]]),\"\")","v":""},{"$f":"IF(Tabla1[[#This Row],[AÑOS]]>18,\"\",(MOD(Tabla1[[#This Row],[CALCULO AÑOS]],1)*12)-0.5)","v":""},null,null,null,null,null,null,null,null,null,null,null,null,null,null,"",{"$f":"IFERROR(IF(Tabla1[[#This Row],[AÑOS]]=\"\",\"\",IF(Tabla1[[#This Row],[AÑOS]]<=1,1,IF(Tabla1[[#This Row],[AÑOS]]<=2,2,IF(Tabla1[[#This Row],[AÑOS]]<=3,3,4)))),\"\")","v":""},{"$f":"IF(Tabla1[[#This Row],[N°]]=\"\",\"\",IF(Tabla1[[#This Row],[NRO. DNI]]=\"\",1,\"\"))","v":""},{"$f":"IF(Tabla1[[#This Row],[N°]]=\"\",\"\",IF(Tabla1[[#This Row],[PARENTESCO]]=\"OTRO\",1,\"\"))","v":""}]
["",{"$f":"IFERROR(IF(C40>0,VLOOKUP('BD-SOC'!$H$7:$H$7,DATA!$A$79:$B$157,2,FALSE),\"\"),\"\")","v":""},null,null,null,{"$f":"IFERROR(INT(Tabla1[[#This Row],[CALCULO AÑOS]]),\"\")","v":""},{"$f":"IF(Tabla1[[#This Row],[AÑOS]]>18,\"\",(MOD(Tabla1[[#This Row],[CALCULO AÑOS]],1)*12)-0.5)","v":""},null,null,null,null,null,null,null,null,null,null,null,null,null,null,"",{"$f":"IFERROR(IF(Tabla1[[#This Row],[AÑOS]]=\"\",\"\",IF(Tabla1[[#This Row],[AÑOS]]<=1,1,IF(Tabla1[[#This Row],[AÑOS]]<=2,2,IF(Tabla1[[#This Row],[AÑOS]]<=3,3,4)))),\"\")","v":""},{"$f":"IF(Tabla1[[#This Row],[N°]]=\"\",\"\",IF(Tabla1[[#This Row],[NRO. DNI]]=\"\",1,\"\"))","v":""},{"$f":"IF(Tabla1[[#This Row],[N°]]=\"\",\"\",IF(Tabla1[[#This Row],[PARENTESCO]]=\"OTRO\",1,\"\"))","v":""}]
["",{"$f":"IFERROR(IF(C41>0,VLOOKUP('BD-SOC'!$H$7:$H$7,DATA!$A$79:$B$157,2,FALSE),\"\"),\"\")","v":""},null,null,null,{"$f":"IFERROR(INT(Tabla1[[#This Row],[CALCULO AÑOS]]),\"\")","v":""},{"$f":"IF(Tabla1[[#This Row],[AÑOS]]>18,\"\",(MOD(Tabla1[[#This Row],[CALCULO AÑOS]],1)*12)-0.5)","v":""},null,null,null,null,null,null,null,null,null,null,null,null,null,null,"",{"$f":"IFERROR(IF(Tabla1[[#This Row],[AÑOS]]=\"\",\"\",IF(Tabla1[[#This Row],[AÑOS]]<=1,1,IF(Tabla1[[#This Row],[AÑOS]]<=2,2,IF(Tabla1[[#This Row],[AÑOS]]<=3,3,4)))),\"\")","v":""},{"$f":"IF(Tabla1[[#This Row],[N°]]=\"\",\"\",IF(Tabla1[[#This Row],[NRO. DNI]]=\"\",1,\"\"))","v":""},{"$f":"IF(Tabla1[[#This Row],[N°]]=\"\",\"\",IF(Tabla1[[#This Row],[PARENTESCO]]=\"OTRO\",1,\"\"))","v":""}]
["",{"$f":"IFERROR(IF(C42>0,VLOOKUP('BD-SOC'!$H$7:$H$7,DATA!$A$79:$B$157,2,FALSE),\"\"),\"\")","v":""},null,null,null,{"$f":"IFERROR(INT(Tabla1[[#This Row],[CALCULO AÑOS]]),\"\")","v":""},{"$f":"IF(Tabla1[[#This Row],[AÑOS]]>18,\"\",(MOD(Tabla1[[#This Row],[CALCULO AÑOS]],1)*12)-0.5)","v":""},null,null,null,null,null,null,null,null,null,null,null,null,null,null,"",{"$f":"IFERROR(IF(Tabla1[[#This Row],[AÑOS]]=\"\",\"\",IF(Tabla1[[#This Row],[AÑOS]]<=1,1,IF(Tabla1[[#This Row],[AÑOS]]<=2,2,IF(Tabla1[[#This Row],[AÑOS]]<=3,3,4)))),\"\")","v":""},{"$f":"IF(Tabla1[[#This Row],[N°]]=\"\",\"\",IF(Tabla1[[#This Row],[NRO. DNI]]=\"\",1,\"\"))","v":""},{"$f":"IF(Tabla1[[#This Row],[N°]]=\"\",\"\",IF(Tabla1[[#This Row],[PARENTESCO]]=\"OTRO\",1,\"\"))","v":""}]
["",{"$f":"IFERROR(IF(C43>0,VLOOKUP('BD-SOC'!$H$7:$H$7,DATA!$A$79:$B$157,2,FALSE),\"\"),\"\")","v":""},null,null,null,{"$f":"IFERROR(INT(Tabla1[[#This Row],[CALCULO AÑOS]]),\"\")","v":""},{"$f":"IF(Tabla1[[#This Row],[AÑOS]]>18,\"\",(MOD(Tabla1[[#This Row],[CALCULO AÑOS]],1)*12)-0.5)","v":""},null,null,null,null,null,null,null,null,null,null,null,null,null,null,"",{"$f":"IFERROR(IF(Tabla1[[#This Row],[AÑOS]]=\"\",\"\",IF(Tabla1[[#This Row],[AÑOS]]<=1,1,IF(Tabla1[[#This Row],[AÑOS]]<=2,2,IF(Tabla1[[#This Row],[AÑOS]]<=3,3,4)))),\"\")","v":""},{"$f":"IF(Tabla1[[#This Row],[N°]]=\"\",\"\",IF(Tabla1[[#This Row],[NRO. DNI]]=\"\",1,\"\"))","v":""},{"$f":"IF(Tabla1[[#This Row],[N°]]=\"\",\"\",IF(Tabla1[[#This Row],[PARENTESCO]]=\"OTRO\",1,\"\"))","v":""}]
["",{"$f":"IFERROR(IF(C44>0,VLOOKUP('BD-SOC'!$H$7:$H$7,DATA!$A$79:$B$157,2,FALSE),\"\"),\"\")","v":""},null,null,null,{"$f":"IFERROR(INT(Tabla1[[#This Row],[CALCULO AÑOS]]),\"\")","v":""},{"$f":"IF(Tabla1[[#This Row],[AÑOS]]>18,\"\",(MOD(Tabla1[[#This Row],[CALCULO AÑOS]],1)*12)-0.5)","v":""},null,null,null,null,null,null,null,null,null,null,null,null,null,null,"",{"$f":"IFERROR(IF(Tabla1[[#This Row],[AÑOS]]=\"\",\"\",IF(Tabla1[[#This Row],[AÑOS]]<=1,1,IF(Tabla1[[#This Row],[AÑOS]]<=2,2,IF(Tabla1[[#This Row],[AÑOS]]<=3,3,4)))),\"\")","v":""},{"$f":"IF(Tabla1[[#This Row],[N°]]=\"\",\"\",IF(Tabla1[[#This Row],[NRO. DNI]]=\"\",1,\"\"))","v":""},{"$f":"IF(Tabla1[[#This Row],[N°]]=\"\",\"\",IF(Tabla1[[#This Row],[PARENTESCO]]=\"OTRO\",1,\"\"))","v":""}]
["",{"$f":"IFERROR(IF(C45>0,VLOOKUP('BD-SOC'!$H$7:$H$7,DATA!$A$79:$B$157,2,FALSE),\"\"),\"\")","v":""},null,null,null,{"$f":"IFERROR(INT(Tabla1[[#This Row],[CALCULO AÑOS]]),\"\")","v":""},{"$f":"IF(Tabla1[[#This Row],[AÑOS]]>18,\"\",(MOD(Tabla1[[#This Row],[CALCULO AÑOS]],1)*12)-0.5)","v":""},null,null,null,null,null,null,null,null,null,null,null,null,null,null,"",{"$f":"IFERROR(IF(Tabla1[[#This Row],[AÑOS]]=\"\",\"\",IF(Tabla1[[#This Row],[AÑOS]]<=1,1,IF(Tabla1[[#This Row],[AÑOS]]<=2,2,IF(Tabla1[[#This Row],[AÑOS]]<=3,3,4)))),\"\")","v":""},{"$f":"IF(Tabla1[[#This Row],[N°]]=\"\",\"\",IF(Tabla1[[#This Row],[NRO. DNI]]=\"\",1,\"\"))","v":""},{"$f":"IF(Tabla1[[#This Row],[N°]]=\"\",\"\",IF(Tabla1[[#This Row],[PARENTESCO]]=\"OTRO\",1,\"\"))","v":""}]
["",{"$f":"IFERROR(IF(C46>0,VLOOKUP('BD-SOC'!$H$7:$H$7,DATA!$A$79:$B$157,2,FALSE),\"\"),\"\")","v":""},null,null,null,{"$f":"IFERROR(INT(Tabla1[[#This Row],[CALCULO AÑOS]]),\"\")","v":""},{"$f":"IF(Tabla1[[#This Row],[AÑOS]]>18,\"\",(MOD(Tabla1[[#This Row],[CALCULO AÑOS]],1)*12)-0.5)","v":""},null,null,null,null,null,null,null,null,null,null,null,null,null,null,"",{"$f":"IFERROR(IF(Tabla1[[#This Row],[AÑOS]]=\"\",\"\",IF(Tabla1[[#This Row],[AÑOS]]<=1,1,IF(Tabla1[[#This Row],[AÑOS]]<=2,2,IF(Tabla1[[#This Row],[AÑOS]]<=3,3,4)))),\"\")","v":""},{"$f":"IF(Tabla1[[#This Row],[N°]]=\"\",\"\",IF(Tabla1[[#This Row],[NRO. DNI]]=\"\",1,\"\"))","v":""},{"$f":"IF(Tabla1[[#This Row],[N°]]=\"\",\"\",IF(Tabla1[[#This Row],[PARENTESCO]]=\"OTRO\",1,\"\"))","v":""}]
["",{"$f":"IFERROR(IF(C47>0,VLOOKUP('BD-SOC'!$H$7:$H$7,DATA!$A$79:$B$157,2,FALSE),\"\"),\"\")","v":""},null,null,null,{"$f":"IFERROR(INT(Tabla1[[#This Row],[CALCULO AÑOS]]),\"\")","v":""},{"$f":"IF(Tabla1[[#This Row],[AÑOS]]>18,\"\",(MOD(Tabla1[[#This Row],[CALCULO AÑOS]],1)*12)-0.5)","v":""},null,null,null,null,null,null,null,null,null,null,null,null,null,null,"",{"$f":"IFERROR(IF(Tabla1[[#This Row],[AÑOS]]=\"\",\"\",IF(Tabla1[[#This Row],[AÑOS]]<=1,1,IF(Tabla1[[#This Row],[AÑOS]]<=2,2,IF(Tabla1[[#This Row],[AÑOS]]<=3,3,4)))),\"\")","v":""},{"$f":"IF(Tabla1[[#This Row],[N°]]=\"\",\"\",IF(Tabla1[[#This Row],[NRO. DNI]]=\"\",1,\"\"))","v":""},{"$f":"IF(Tabla1[[#This Row],[N°]]=\"\",\"\",IF(Tabla1[[#This Row],[PARENTESCO]]=\"OTRO\",1,\"\"))","v":""}]
["",{"$f":"IFERROR(IF(C48>0,VLOOKUP('BD-SOC'!$H$7:$H$7,DATA!$A$79:$B$157,2,FALSE),\"\"),\"\")","v":""},null,null,null,{"$f":"IFERROR(INT(Tabla1[[#This Row],[CALCULO AÑOS]]),\"\")","v":""},{"$f":"IF(Tabla1[[#This Row],[AÑOS]]>18,\"\",(MOD(Tabla1[[#This Row],[CALCULO AÑOS]],1)*12)-0.5)","v":""},null,null,null,null,null,null,null,null,null,null,null,null,null,null,"",{"$f":"IFERROR(IF(Tabla1[[#This Row],[AÑOS]]=\"\",\"\",IF(Tabla1[[#This Row],[AÑOS]]<=1,1,IF(Tabla1[[#This Row],[AÑOS]]<=2,2,IF(Tabla1[[#This Row],[AÑOS]]<=3,3,4)))),\"\")","v":""},{"$f":"IF(Tabla1[[#This Row],[N°]]=\"\",\"\",IF(Tabla1[[#This Row],[NRO. DNI]]=\"\",1,\"\"))","v":""},{"$f":"IF(Tabla1[[#This Row],[N°]]=\"\",\"\",IF(Tabla1[[#This Row],[PARENTESCO]]=\"OTRO\",1,\"\"))","v":""}]
["",{"$f":"IFERROR(IF(C49>0,VLOOKUP('BD-SOC'!$H$7:$H$7,DATA!$A$79:$B$157,2,FALSE),\"\"),\"\")","v":""},null,null,null,{"$f":"IFERROR(INT(Tabla1[[#This Row],[CALCULO AÑOS]]),\"\")","v":""},{"$f":"IF(Tabla1[[#This Row],[AÑOS]]>18,\"\",(MOD(Tabla1[[#This Row],[CALCULO AÑOS]],1)*12)-0.5)","v":""},null,null,null,null,null,null,null,null,null,null,null,null,null,null,"",{"$f":"IFERROR(IF(Tabla1[[#This Row],[AÑOS]]=\"\",\"\",IF(Tabla1[[#This Row],[AÑOS]]<=1,1,IF(Tabla1[[#This Row],[AÑOS]]<=2,2,IF(Tabla1[[#This Row],[AÑOS]]<=3,3,4)))),\"\")","v":""},{"$f":"IF(Tabla1[[#This Row],[N°]]=\"\",\"\",IF(Tabla1[[#This Row],[NRO. DNI]]=\"\",1,\"\"))","v":""},{"$f":"IF(Tabla1[[#This Row],[N°]]=\"\",\"\",IF(Tabla1[[#This Row],[PARENTESCO]]=\"OTRO\",1,\"\"))","v":""}]
["",{"$f":"IFERROR(IF(C50>0,VLOOKUP('BD-SOC'!$H$7:$H$7,DATA!$A$79:$B$157,2,FALSE),\"\"),\"\")","v":""},null,null,null,{"$f":"IFERROR(INT(Tabla1[[#This Row],[CALCULO AÑOS]]),\"\")","v":""},{"$f":"IF(Tabla1[[#This Row],[AÑOS]]>18,\"\",(MOD(Tabla1[[#This Row],[CALCULO AÑOS]],1)*12)-0.5)","v":""},null,null,null,null,null,null,null,null,null,null,null,null,null,null,"",{"$f":"IFERROR(IF(Tabla1[[#This Row],[AÑOS]]=\"\",\"\",IF(Tabla1[[#This Row],[AÑOS]]<=1,1,IF(Tabla1[[#This Row],[AÑOS]]<=2,2,IF(Tabla1[[#This Row],[AÑOS]]<=3,3,4)))),\"\")","v":""},{"$f":"IF(Tabla1[[#This Row],[N°]]=\"\",\"\",IF(Tabla1[[#This Row],[NRO. DNI]]=\"\",1,\"\"))","v":""},{"$f":"IF(Tabla1[[#This Row],[N°]]=\"\",\"\",IF(Tabla1[[#This Row],[PARENTESCO]]=\"OTRO\",1,\"\"))","v":""}]

{"sheet":"FORMATO N° 5","index":5,"n_rows":134,"n_cols":15,"rows_kept":134,"cut":false,"hidden":false,"merged":[[61,6,61,8],[59,6,60,8],[62,6,62,8],[59,10,59,11],[59,9,60,9],[76,0,76,15],[77,0,77,15],[78,0,78,15],[79,0,79,15],[71,0,71,15],[72,0,72,15],[73,0,73,15],[74,0,74,15],[75,0,75,15],[0,0,0,15],[2,0,2,15],[7,14,7,15],[5,1,5,6],[7,1,7,6],[7,9,7,11],[5,9,5,15],[16,6,16,10],[18,8,18,10],[19,8,19,10],[20,8,20,10],[21,8,21,10],[17,6,27,6],[17,8,17,10],[23,8,23,10],[24,8,24,10],[25,8,25,10],[26,8,26,10],[27,8,27,10],[11,0,12,3],[11,6,12,15],[14,6,15,10],[14,11,15,11],[14,12,15,12],[14,13,15,13],[65,6,65,8],[38,8,38,10],[37,8,37,10],[32,8,32,10],[33,8,33,10],[34,8,34,10],[35,8,35,10],[36,8,36,10],[28,6,33,6],[34,6,38,6],[63,6,63,8],[64,6,64,8],[31,8,31,10],[29,8,29,10],[30,8,30,10],[45,10,45,11],[58,1,58,4],[44,1,45,1],[44,2,44,3],[41,6,42,14],[50,6,50,8],[56,6,57,12],[55,0,56,4],[21,0,22,4],[46,6,46,8],[47,6,47,8],[48,6,48,8],[49,6,49,8],[22,8,22,10],[36,0,36,2],[37,0,37,2],[28,8,28,10],[41,0,42,4],[44,0,45,0],[38,0,38,2],[30,0,31,5],[33,0,33,2],[34,0,34,2],[35,0,35,2]]}
["FORMATO N° 05"]
[]
["ESTADÍSTICA DE LAS ACTIVIDADES DE ASISTENCIA SOCIAL"]
[]
[]
["OFICINA REGIONAL: ",{"$f":"REPT('BD-SOC'!C7,1)","v":""},null,null,null,null,null,null,"E.P.: ",{"$f":"REPT('BD-SOC'!H7,1)","v":""}]
[]
["RESPONSABLE: ",{"$f":"REPT('BD-SOC'!C5,1)","v":""},null,null,null,null,null,null,"MES:  ",{"$f":"REPT('BD-SOC'!C9,1)","v":""},null,null,null,"AÑO:  ",{"$f":"REPT('BD-SOC'!C11,1)","v":""}]
[]
[]
[]
["CUADRO 1. NÚMERO DE ATENDIDOS EN LA EJECUCIÓN DEL PTI SEGÚN SEXO",null,null,null,null,null,"CUADRO 6. NÚMERO DE ATENCIONES SEGÚN TIPO  DE ACTIVIDADES INDIVIDUALES Y SITUACIÓN JURÍDICA"]
[]
[]
["EJECUCIÓN DEL PTI","TOTAL",null,null,null,null,"TIPO DE ACTIVIDAD INDIVIDUAL",null,null,null,null,"TOTAL","SENTENCIADO","PROCESADO"]
["TOTAL",{"$f":"SUM(B17,B18)","v":0}]
["Hombre",{"$f":"SUM(COUNTIF('BD-SOC'!$E$15:$E$30015, {\"MASCULINO\",\"M\",\"1\"}))","v":0},null,null,null,null,"TOTAL",null,null,null,null,{"$f":"SUM(L18:L39)","v":0},{"$f":"SUM(M18:M39)","v":0},{"$f":"SUM(N18:N39)","v":0}]
["Mujer",{"$f":"SUM(COUNTIF('BD-SOC'!$E$15:$E$30015, {\"FEMENINO\",\"F\",\"2\"}))","v":0},null,null,null,null,"ATENCIONES",100,"Otro tipo de intervención (grupal)",null,null,{"$f":"SUM(M18:N18)","v":0},{"$f":"COUNTIFS(Tabla3[DESCRIPCIÓN1], 'FORMATO N° 5'!$H18,Tabla3[SITUACIÓN JURÍDICA], 'FORMATO N° 5'!M$15) +\n   COUNTIFS(Tabla3[DESCRIPCIÓN2], 'FORMATO N° 5'!$H18,Tabla3[SITUACIÓN JURÍDICA], 'FORMATO N° 5'!M$15) +\n   COUNTIFS(Tabla3[DESCRIPCIÓN3], 'FORMATO N° 5'!$H18,Tabla3[SITUACIÓN JURÍDICA], 'FORMATO N° 5'!M$15) +\n   COUNTIFS(Tabla3[DESCRIPCIÓN4], 'FORMATO N° 5'!$H18,Tabla3[SITUACIÓN JURÍDICA], 'FORMATO N° 5'!M$15) +\n   COUNTIFS(Tabla3[DESCRIPCIÓN5], 'FORMATO N° 5'!$H18,Tabla3[SITUACIÓN JURÍDICA], 'FORMATO N° 5'!M$15) +\n   COUNTIFS(Tabla3[DESCRIPCIÓN6], 'FORMATO N° 5'!$H18,Tabla3[SITUACIÓN JURÍDICA], 'FORMATO N° 5'!M$15) +\n   COUNTIFS(Tabla3[DESCRIPCIÓN7], 'FORMATO N° 5'!$H18,Tabla3[SITUACIÓN JURÍDICA], 'FORMATO N° 5'!M$15) +\n   COUNTIFS(Tabla3[DESCRIPCIÓN8], 'FORMATO N° 5'!$H18,Tabla3[SITUACIÓN JURÍDICA], 'FORMATO N° 5'!M$15) +\n   COUNTIFS(Tabla3[DESCRIPCIÓN9], 'FORMATO N° 5'!$H18,Tabla3[SITUACIÓN JURÍDICA], 'FORMATO N° 5'!M$15) +\n   COUNTIFS(Tabla3[DESCRIPCIÓN10], 'FORMATO N° 5'!$H18,Tabla3[SITUACIÓN JURÍDICA], 'FORMATO N° 5'!M$15)","v":0},{"$f":"COUNTIFS(Tabla3[DESCRIPCIÓN1], 'FORMATO N° 5'!$H18,Tabla3[SITUACIÓN JURÍDICA], 'FORMATO N° 5'!N$15) +\n   COUNTIFS(Tabla3[DESCRIPCIÓN2], 'FORMATO N° 5'!$H18,Tabla3[SITUACIÓN JURÍDICA], 'FORMATO N° 5'!N$15) +\n   COUNTIFS(Tabla3[DESCRIPCIÓN3], 'FORMATO N° 5'!$H18,Tabla3[SITUACIÓN JURÍDICA], 'FORMATO N° 5'!N$15) +\n   COUNTIFS(Tabla3[DESCRIPCIÓN4], 'FORMATO N° 5'!$H18,Tabla3[SITUACIÓN JURÍDICA], 'FORMATO N° 5'!N$15) +\n   COUNTIFS(Tabla3[DESCRIPCIÓN5], 'FORMATO N° 5'!$H18,Tabla3[SITUACIÓN JURÍDICA], 'FORMATO N° 5'!N$15) +\n   COUNTIFS(Tabla3[DESCRIPCIÓN6], 'FORMATO N° 5'!$H18,Tabla3[SITUACIÓN JURÍDICA], 'FORMATO N° 5'!N$15) +\n   COUNTIFS(Tabla3[DESCRIPCIÓN7], 'FORMATO N° 5'!$H18,Tabla3[SITUACIÓN JURÍDICA], 'FORMATO N° 5'!N$15) +\n   COUNTIFS(Tabla3[DESCRIPCIÓN8], 'FORMATO N° 5'!$H18,Tabla3[SITUACIÓN JURÍDICA], 'FORMATO N° 5'!N$15) +\n   COUNTIFS(Tabla3[DESCRIPCIÓN9], 'FORMATO N° 5'!$H18,Tabla3[SITUACIÓN JURÍDICA], 'FORMATO N° 5'!N$15) +\n   COUNTIFS(Tabla3[DESCRIPCIÓN10], 'FORMATO N° 5'!$H18,Tabla3[SITUACIÓN JURÍDICA], 'FORMATO N° 5'!N$15)","v":0}]
[null,null,null,null,null,null,null,101,"Anexo_02_Historia_Social",null,null,{"$f":"SUM(M19:N19)","v":0},{"$f":"COUNTIFS(Tabla3[DESCRIPCIÓN1], 'FORMATO N° 5'!$H19,Tabla3[SITUACIÓN JURÍDICA], 'FORMATO N° 5'!M$15) +\n   COUNTIFS(Tabla3[DESCRIPCIÓN2], 'FORMATO N° 5'!$H19,Tabla3[SITUACIÓN JURÍDICA], 'FORMATO N° 5'!M$15) +\n   COUNTIFS(Tabla3[DESCRIPCIÓN3], 'FORMATO N° 5'!$H19,Tabla3[SITUACIÓN JURÍDICA], 'FORMATO N° 5'!M$15) +\n   COUNTIFS(Tabla3[DESCRIPCIÓN4], 'FORMATO N° 5'!$H19,Tabla3[SITUACIÓN JURÍDICA], 'FORMATO N° 5'!M$15) +\n   COUNTIFS(Tabla3[DESCRIPCIÓN5], 'FORMATO N° 5'!$H19,Tabla3[SITUACIÓN JURÍDICA], 'FORMATO N° 5'!M$15) +\n   COUNTIFS(Tabla3[DESCRIPCIÓN6], 'FORMATO N° 5'!$H19,Tabla3[SITUACIÓN JURÍDICA], 'FORMATO N° 5'!M$15) +\n   COUNTIFS(Tabla3[DESCRIPCIÓN7], 'FORMATO N° 5'!$H19,Tabla3[SITUACIÓN JURÍDICA], 'FORMATO N° 5'!M$15) +\n   COUNTIFS(Tabla3[DESCRIPCIÓN8], 'FORMATO N° 5'!$H19,Tabla3[SITUACIÓN JURÍDICA], 'FORMATO N° 5'!M$15) +\n   COUNTIFS(Tabla3[DESCRIPCIÓN9], 'FORMATO N° 5'!$H19,Tabla3[SITUACIÓN JURÍDICA], 'FORMATO N° 5'!M$15) +\n   COUNTIFS(Tabla3[DESCRIPCIÓN10], 'FORMATO N° 5'!$H19,Tabla3[SITUACIÓN JURÍDICA], 'FORMATO N° 5'!M$15)","v":0},{"$f":"COUNTIFS(Tabla3[DESCRIPCIÓN1], 'FORMATO N° 5'!$H19,Tabla3[SITUACIÓN JURÍDICA], 'FORMATO N° 5'!N$15) +\n   COUNTIFS(Tabla3[DESCRIPCIÓN2], 'FORMATO N° 5'!$H19,Tabla3[SITUACIÓN JURÍDICA], 'FORMATO N° 5'!N$15) +\n   COUNTIFS(Tabla3[DESCRIPCIÓN3], 'FORMATO N° 5'!$H19,Tabla3[SITUACIÓN JURÍDICA], 'FORMATO N° 5'!N$15) +\n   COUNTIFS(Tabla3[DESCRIPCIÓN4], 'FORMATO N° 5'!$H19,Tabla3[SITUACIÓN JURÍDICA], 'FORMATO N° 5'!N$15) +\n   COUNTIFS(Tabla3[DESCRIPCIÓN5], 'FORMATO N° 5'!$H19,Tabla3[SITUACIÓN JURÍDICA], 'FORMATO N° 5'!N$15) +\n   COUNTIFS(Tabla3[DESCRIPCIÓN6], 'FORMATO N° 5'!$H19,Tabla3[SITUACIÓN JURÍDICA], 'FORMATO N° 5'!N$15) +\n   COUNTIFS(Tabla3[DESCRIPCIÓN7], 'FORMATO N° 5'!$H19,Tabla3[SITUACIÓN JURÍDICA], 'FORMATO N° 5'!N$15) +\n   COUNTIFS(Tabla3[DESCRIPCIÓN8], 'FORMATO N° 5'!$H19,Tabla3[SITUACIÓN JURÍDICA], 'FORMATO N° 5'!N$15) +\n   COUNTIFS(Tabla3[DESCRIPCIÓN9], 'FORMATO N° 5'!$H19,Tabla3[SITUACIÓN JURÍDICA], 'FORMATO N° 5'!N$15) +\n   COUNTIFS(Tabla3[DESCRIPCIÓN10], 'FORMATO N° 5'!$H19,Tabla3[SITUACIÓN JURÍDICA], 'FORMATO N° 5'!N$15)","v":0}]
[null,null,null,null,null,null,null,102,"Anexo_03_Ficha_complementaria_C/Mujer e integrantes del grupo familiar",null,null,{"$f":"SUM(M20:N20)","v":0},{"$f":"COUNTIFS(Tabla3[DESCRIPCIÓN1], 'FORMATO N° 5'!$H20,Tabla3[SITUACIÓN JURÍDICA], 'FORMATO N° 5'!M$15) +\n   COUNTIFS(Tabla3[DESCRIPCIÓN2], 'FORMATO N° 5'!$H20,Tabla3[SITUACIÓN JURÍDICA], 'FORMATO N° 5'!M$15) +\n   COUNTIFS(Tabla3[DESCRIPCIÓN3], 'FORMATO N° 5'!$H20,Tabla3[SITUACIÓN JURÍDICA], 'FORMATO N° 5'!M$15) +\n   COUNTIFS(Tabla3[DESCRIPCIÓN4], 'FORMATO N° 5'!$H20,Tabla3[SITUACIÓN JURÍDICA], 'FORMATO N° 5'!M$15) +\n   COUNTIFS(Tabla3[DESCRIPCIÓN5], 'FORMATO N° 5'!$H20,Tabla3[SITUACIÓN JURÍDICA], 'FORMATO N° 5'!M$15) +\n   COUNTIFS(Tabla3[DESCRIPCIÓN6], 'FORMATO N° 5'!$H20,Tabla3[SITUACIÓN JURÍDICA], 'FORMATO N° 5'!M$15) +\n   COUNTIFS(Tabla3[DESCRIPCIÓN7], 'FORMATO N° 5'!$H20,Tabla3[SITUACIÓN JURÍDICA], 'FORMATO N° 5'!M$15) +\n   COUNTIFS(Tabla3[DESCRIPCIÓN8], 'FORMATO N° 5'!$H20,Tabla3[SITUACIÓN JURÍDICA], 'FORMATO N° 5'!M$15) +\n   COUNTIFS(Tabla3[DESCRIPCIÓN9], 'FORMATO N° 5'!$H20,Tabla3[SITUACIÓN JURÍDICA], 'FORMATO N° 5'!M$15) +\n   COUNTIFS(Tabla3[DESCRIPCIÓN10], 'FORMATO N° 5'!$H20,Tabla3[SITUACIÓN JURÍDICA], 'FORMATO N° 5'!M$15)","v":0},{"$f":"COUNTIFS(Tabla3[DESCRIPCIÓN1], 'FORMATO N° 5'!$H20,Tabla3[SITUACIÓN JURÍDICA], 'FORMATO N° 5'!N$15) +\n   COUNTIFS(Tabla3[DESCRIPCIÓN2], 'FORMATO N° 5'!$H20,Tabla3[SITUACIÓN JURÍDICA], 'FORMATO N° 5'!N$15) +\n   COUNTIFS(Tabla3[DESCRIPCIÓN3], 'FORMATO N° 5'!$H20,Tabla3[SITUACIÓN JURÍDICA], 'FORMATO N° 5'!N$15) +\n   COUNTIFS(Tabla3[DESCRIPCIÓN4], 'FORMATO N° 5'!$H20,Tabla3[SITUACIÓN JURÍDICA], 'FORMATO N° 5'!N$15) +\n   COUNTIFS(Tabla3[DESCRIPCIÓN5], 'FORMATO N° 5'!$H20,Tabla3[SITUACIÓN JURÍDICA], 'FORMATO N° 5'!N$15) +\n   COUNTIFS(Tabla3[DESCRIPCIÓN6], 'FORMATO N° 5'!$H20,Tabla3[SITUACIÓN JURÍDICA], 'FORMATO N° 5'!N$15) +\n   COUNTIFS(Tabla3[DESCRIPCIÓN7], 'FORMATO N° 5'!$H20,Tabla3[SITUACIÓN JURÍDICA], 'FORMATO N° 5'!N$15) +\n   COUNTIFS(Tabla3[DESCRIPCIÓN8], 'FORMATO N° 5'!$H20,Tabla3[SITUACIÓN JURÍDICA], 'FORMATO N° 5'!N$15) +\n   COUNTIFS(Tabla3[DESCRIPCIÓN9], 'FORMATO N° 5'!$H20,Tabla3[SITUACIÓN JURÍDICA], 'FORMATO N° 5'!N$15) +\n   COUNTIFS(Tabla3[DESCRIPCIÓN10], 'FORMATO N° 5'!$H20,Tabla3[SITUACIÓN JURÍDICA], 'FORMATO N° 5'!N$15)","v":0}]
[null,null,null,null,null,null,null,103,"Anexo_06_Actualizacion_Historia_Social",null,null,0,{"$f":"COUNTIFS(Tabla3[DESCRIPCIÓN1], 'FORMATO N° 5'!$H21,Tabla3[SITUACIÓN JURÍDICA], 'FORMATO N° 5'!M$15) +\n   COUNTIFS(Tabla3[DESCRIPCIÓN2], 'FORMATO N° 5'!$H21,Tabla3[SITUACIÓN JURÍDICA], 'FORMATO N° 5'!M$15) +\n   COUNTIFS(Tabla3[DESCRIPCIÓN3], 'FORMATO N° 5'!$H21,Tabla3[SITUACIÓN JURÍDICA], 'FORMATO N° 5'!M$15) +\n   COUNTIFS(Tabla3[DESCRIPCIÓN4], 'FORMATO N° 5'!$H21,Tabla3[SITUACIÓN JURÍDICA], 'FORMATO N° 5'!M$15) +\n   COUNTIFS(Tabla3[DESCRIPCIÓN5], 'FORMATO N° 5'!$H21,Tabla3[SITUACIÓN JURÍDICA], 'FORMATO N° 5'!M$15) +\n   COUNTIFS(Tabla3[DESCRIPCIÓN6], 'FORMATO N° 5'!$H21,Tabla3[SITUACIÓN JURÍDICA], 'FORMATO N° 5'!M$15) +\n   COUNTIFS(Tabla3[DESCRIPCIÓN7], 'FORMATO N° 5'!$H21,Tabla3[SITUACIÓN JURÍDICA], 'FORMATO N° 5'!M$15) +\n   COUNTIFS(Tabla3[DESCRIPCIÓN8], 'FORMATO N° 5'!$H21,Tabla3[SITUACIÓN JURÍDICA], 'FORMATO N° 5'!M$15) +\n   COUNTIFS(Tabla3[DESCRIPCIÓN9], 'FORMATO N° 5'!$H21,Tabla3[SITUACIÓN JURÍDICA], 'FORMATO N° 5'!M$15) +\n   COUNTIFS(Tabla3[DESCRIPCIÓN10], 'FORMATO N° 5'!$H21,Tabla3[SITUACIÓN JURÍDICA], 'FORMATO N° 5'!M$15)","v":0},{"$f":"COUNTIFS(Tabla3[DESCRIPCIÓN1], 'FORMATO N° 5'!$H21,Tabla3[SITUACIÓN JURÍDICA], 'FORMATO N° 5'!N$15) +\n   COUNTIFS(Tabla3[DESCRIPCIÓN2], 'FORMATO N° 5'!$H21,Tabla3[SITUACIÓN JURÍDICA], 'FORMATO N° 5'!N$15) +\n   COUNTIFS(Tabla3[DESCRIPCIÓN3], 'FORMATO N° 5'!$H21,Tabla3[SITUACIÓN JURÍDICA], 'FORMATO N° 5'!N$15) +\n   COUNTIFS(Tabla3[DESCRIPCIÓN4], 'FORMATO N° 5'!$H21,Tabla3[SITUACIÓN JURÍDICA], 'FORMATO N° 5'!N$15) +\n   COUNTIFS(Tabla3[DESCRIPCIÓN5], 'FORMATO N° 5'!$H21,Tabla3[SITUACIÓN JURÍDICA], 'FORMATO N° 5'!N$15) +\n   COUNTIFS(Tabla3[DESCRIPCIÓN6], 'FORMATO N° 5'!$H21,Tabla3[SITUACIÓN JURÍDICA], 'FORMATO N° 5'!N$15) +\n   COUNTIFS(Tabla3[DESCRIPCIÓN7], 'FORMATO N° 5'!$H21,Tabla3[SITUACIÓN JURÍDICA], 'FORMATO N° 5'!N$15) +\n   COUNTIFS(Tabla3[DESCRIPCIÓN8], 'FORMATO N° 5'!$H21,Tabla3[SITUACIÓN JURÍDICA], 'FORMATO N° 5'!N$15) +\n   COUNTIFS(Tabla3[DESCRIPCIÓN9], 'FORMATO N° 5'!$H21,Tabla3[SITUACIÓN JURÍDICA], 'FORMATO N° 5'!N$15) +\n   COUNTIFS(Tabla3[DESCRIPCIÓN10], 'FORMATO N° 5'!$H21,Tabla3[SITUACIÓN JURÍDICA], 'FORMATO N° 5'!N$15)","v":0}]
["CUADRO 2. NÚMERO DE ATENDIDOS QUE CUENTAN CON LA ELABORACIÓN DEL PTI SEGÚN SEXO",null,null,null,null,null,null,104,"Anexo_09_PTI / Anexo_11_PTI_Ajustado",null,null,0,{"$f":"COUNTIFS(Tabla3[DESCRIPCIÓN1], 'FORMATO N° 5'!$H22,Tabla3[SITUACIÓN JURÍDICA], 'FORMATO N° 5'!M$15) +\n   COUNTIFS(Tabla3[DESCRIPCIÓN2], 'FORMATO N° 5'!$H22,Tabla3[SITUACIÓN JURÍDICA], 'FORMATO N° 5'!M$15) +\n   COUNTIFS(Tabla3[DESCRIPCIÓN3], 'FORMATO N° 5'!$H22,Tabla3[SITUACIÓN JURÍDICA], 'FORMATO N° 5'!M$15) +\n   COUNTIFS(Tabla3[DESCRIPCIÓN4], 'FORMATO N° 5'!$H22,Tabla3[SITUACIÓN JURÍDICA], 'FORMATO N° 5'!M$15) +\n   COUNTIFS(Tabla3[DESCRIPCIÓN5], 'FORMATO N° 5'!$H22,Tabla3[SITUACIÓN JURÍDICA], 'FORMATO N° 5'!M$15) +\n   COUNTIFS(Tabla3[DESCRIPCIÓN6], 'FORMATO N° 5'!$H22,Tabla3[SITUACIÓN JURÍDICA], 'FORMATO N° 5'!M$15) +\n   COUNTIFS(Tabla3[DESCRIPCIÓN7], 'FORMATO N° 5'!$H22,Tabla3[SITUACIÓN JURÍDICA], 'FORMATO N° 5'!M$15) +\n   COUNTIFS(Tabla3[DESCRIPCIÓN8], 'FORMATO N° 5'!$H22,Tabla3[SITUACIÓN JURÍDICA], 'FORMATO N° 5'!M$15) +\n   COUNTIFS(Tabla3[DESCRIPCIÓN9], 'FORMATO N° 5'!$H22,Tabla3[SITUACIÓN JURÍDICA], 'FORMATO N° 5'!M$15) +\n   COUNTIFS(Tabla3[DESCRIPCIÓN10], 'FORMATO N° 5'!$H22,Tabla3[SITUACIÓN JURÍDICA], 'FORMATO N° 5'!M$15)","v":0},{"$f":"COUNTIFS(Tabla3[DESCRIPCIÓN1], 'FORMATO N° 5'!$H22,Tabla3[SITUACIÓN JURÍDICA], 'FORMATO N° 5'!N$15) +\n   COUNTIFS(Tabla3[DESCRIPCIÓN2], 'FORMATO N° 5'!$H22,Tabla3[SITUACIÓN JURÍDICA], 'FORMATO N° 5'!N$15) +\n   COUNTIFS(Tabla3[DESCRIPCIÓN3], 'FORMATO N° 5'!$H22,Tabla3[SITUACIÓN JURÍDICA], 'FORMATO N° 5'!N$15) +\n   COUNTIFS(Tabla3[DESCRIPCIÓN4], 'FORMATO N° 5'!$H22,Tabla3[SITUACIÓN JURÍDICA], 'FORMATO N° 5'!N$15) +\n   COUNTIFS(Tabla3[DESCRIPCIÓN5], 'FORMATO N° 5'!$H22,Tabla3[SITUACIÓN JURÍDICA], 'FORMATO N° 5'!N$15) +\n   COUNTIFS(Tabla3[DESCRIPCIÓN6], 'FORMATO N° 5'!$H22,Tabla3[SITUACIÓN JURÍDICA], 'FORMATO N° 5'!N$15) +\n   COUNTIFS(Tabla3[DESCRIPCIÓN7], 'FORMATO N° 5'!$H22,Tabla3[SITUACIÓN JURÍDICA], 'FORMATO N° 5'!N$15) +\n   COUNTIFS(Tabla3[DESCRIPCIÓN8], 'FORMATO N° 5'!$H22,Tabla3[SITUACIÓN JURÍDICA], 'FORMATO N° 5'!N$15) +\n   COUNTIFS(Tabla3[DESCRIPCIÓN9], 'FORMATO N° 5'!$H22,Tabla3[SITUACIÓN JURÍDICA], 'FORMATO N° 5'!N$15) +\n   COUNTIFS(Tabla3[DESCRIPCIÓN10], 'FORMATO N° 5'!$H22,Tabla3[SITUACIÓN JURÍDICA], 'FORMATO N° 5'!N$15)","v":0}]
[null,null,null,null,null,null,null,105,"Aplicación de instrumentos de evaluación",null,null,0,{"$f":"COUNTIFS(Tabla3[DESCRIPCIÓN1], 'FORMATO N° 5'!$H23,Tabla3[SITUACIÓN JURÍDICA], 'FORMATO N° 5'!M$15) +\n   COUNTIFS(Tabla3[DESCRIPCIÓN2], 'FORMATO N° 5'!$H23,Tabla3[SITUACIÓN JURÍDICA], 'FORMATO N° 5'!M$15) +\n   COUNTIFS(Tabla3[DESCRIPCIÓN3], 'FORMATO N° 5'!$H23,Tabla3[SITUACIÓN JURÍDICA], 'FORMATO N° 5'!M$15) +\n   COUNTIFS(Tabla3[DESCRIPCIÓN4], 'FORMATO N° 5'!$H23,Tabla3[SITUACIÓN JURÍDICA], 'FORMATO N° 5'!M$15) +\n   COUNTIFS(Tabla3[DESCRIPCIÓN5], 'FORMATO N° 5'!$H23,Tabla3[SITUACIÓN JURÍDICA], 'FORMATO N° 5'!M$15) +\n   COUNTIFS(Tabla3[DESCRIPCIÓN6], 'FORMATO N° 5'!$H23,Tabla3[SITUACIÓN JURÍDICA], 'FORMATO N° 5'!M$15) +\n   COUNTIFS(Tabla3[DESCRIPCIÓN7], 'FORMATO N° 5'!$H23,Tabla3[SITUACIÓN JURÍDICA], 'FORMATO N° 5'!M$15) +\n   COUNTIFS(Tabla3[DESCRIPCIÓN8], 'FORMATO N° 5'!$H23,Tabla3[SITUACIÓN JURÍDICA], 'FORMATO N° 5'!M$15) +\n   COUNTIFS(Tabla3[DESCRIPCIÓN9], 'FORMATO N° 5'!$H23,Tabla3[SITUACIÓN JURÍDICA], 'FORMATO N° 5'!M$15) +\n   COUNTIFS(Tabla3[DESCRIPCIÓN10], 'FORMATO N° 5'!$H23,Tabla3[SITUACIÓN JURÍDICA], 'FORMATO N° 5'!M$15)","v":0},{"$f":"COUNTIFS(Tabla3[DESCRIPCIÓN1], 'FORMATO N° 5'!$H23,Tabla3[SITUACIÓN JURÍDICA], 'FORMATO N° 5'!N$15) +\n   COUNTIFS(Tabla3[DESCRIPCIÓN2], 'FORMATO N° 5'!$H23,Tabla3[SITUACIÓN JURÍDICA], 'FORMATO N° 5'!N$15) +\n   COUNTIFS(Tabla3[DESCRIPCIÓN3], 'FORMATO N° 5'!$H23,Tabla3[SITUACIÓN JURÍDICA], 'FORMATO N° 5'!N$15) +\n   COUNTIFS(Tabla3[DESCRIPCIÓN4], 'FORMATO N° 5'!$H23,Tabla3[SITUACIÓN JURÍDICA], 'FORMATO N° 5'!N$15) +\n   COUNTIFS(Tabla3[DESCRIPCIÓN5], 'FORMATO N° 5'!$H23,Tabla3[SITUACIÓN JURÍDICA], 'FORMATO N° 5'!N$15) +\n   COUNTIFS(Tabla3[DESCRIPCIÓN6], 'FORMATO N° 5'!$H23,Tabla3[SITUACIÓN JURÍDICA], 'FORMATO N° 5'!N$15) +\n   COUNTIFS(Tabla3[DESCRIPCIÓN7], 'FORMATO N° 5'!$H23,Tabla3[SITUACIÓN JURÍDICA], 'FORMATO N° 5'!N$15) +\n   COUNTIFS(Tabla3[DESCRIPCIÓN8], 'FORMATO N° 5'!$H23,Tabla3[SITUACIÓN JURÍDICA], 'FORMATO N° 5'!N$15) +\n   COUNTIFS(Tabla3[DESCRIPCIÓN9], 'FORMATO N° 5'!$H23,Tabla3[SITUACIÓN JURÍDICA], 'FORMATO N° 5'!N$15) +\n   COUNTIFS(Tabla3[DESCRIPCIÓN10], 'FORMATO N° 5'!$H23,Tabla3[SITUACIÓN JURÍDICA], 'FORMATO N° 5'!N$15)","v":0}]
[null,null,null,null,null,null,null,106,"Intervención social",null,null,0,{"$f":"COUNTIFS(Tabla3[DESCRIPCIÓN1], 'FORMATO N° 5'!$H24,Tabla3[SITUACIÓN JURÍDICA], 'FORMATO N° 5'!M$15) +\n   COUNTIFS(Tabla3[DESCRIPCIÓN2], 'FORMATO N° 5'!$H24,Tabla3[SITUACIÓN JURÍDICA], 'FORMATO N° 5'!M$15) +\n   COUNTIFS(Tabla3[DESCRIPCIÓN3], 'FORMATO N° 5'!$H24,Tabla3[SITUACIÓN JURÍDICA], 'FORMATO N° 5'!M$15) +\n   COUNTIFS(Tabla3[DESCRIPCIÓN4], 'FORMATO N° 5'!$H24,Tabla3[SITUACIÓN JURÍDICA], 'FORMATO N° 5'!M$15) +\n   COUNTIFS(Tabla3[DESCRIPCIÓN5], 'FORMATO N° 5'!$H24,Tabla3[SITUACIÓN JURÍDICA], 'FORMATO N° 5'!M$15) +\n   COUNTIFS(Tabla3[DESCRIPCIÓN6], 'FORMATO N° 5'!$H24,Tabla3[SITUACIÓN JURÍDICA], 'FORMATO N° 5'!M$15) +\n   COUNTIFS(Tabla3[DESCRIPCIÓN7], 'FORMATO N° 5'!$H24,Tabla3[SITUACIÓN JURÍDICA], 'FORMATO N° 5'!M$15) +\n   COUNTIFS(Tabla3[DESCRIPCIÓN8], 'FORMATO N° 5'!$H24,Tabla3[SITUACIÓN JURÍDICA], 'FORMATO N° 5'!M$15) +\n   COUNTIFS(Tabla3[DESCRIPCIÓN9], 'FORMATO N° 5'!$H24,Tabla3[SITUACIÓN JURÍDICA], 'FORMATO N° 5'!M$15) +\n   COUNTIFS(Tabla3[DESCRIPCIÓN10], 'FORMATO N° 5'!$H24,Tabla3[SITUACIÓN JURÍDICA], 'FORMATO N° 5'!M$15)","v":0},{"$f":"COUNTIFS(Tabla3[DESCRIPCIÓN1], 'FORMATO N° 5'!$H24,Tabla3[SITUACIÓN JURÍDICA], 'FORMATO N° 5'!N$15) +\n   COUNTIFS(Tabla3[DESCRIPCIÓN2], 'FORMATO N° 5'!$H24,Tabla3[SITUACIÓN JURÍDICA], 'FORMATO N° 5'!N$15) +\n   COUNTIFS(Tabla3[DESCRIPCIÓN3], 'FORMATO N° 5'!$H24,Tabla3[SITUACIÓN JURÍDICA], 'FORMATO N° 5'!N$15) +\n   COUNTIFS(Tabla3[DESCRIPCIÓN4], 'FORMATO N° 5'!$H24,Tabla3[SITUACIÓN JURÍDICA], 'FORMATO N° 5'!N$15) +\n   COUNTIFS(Tabla3[DESCRIPCIÓN5], 'FORMATO N° 5'!$H24,Tabla3[SITUACIÓN JURÍDICA], 'FORMATO N° 5'!N$15) +\n   COUNTIFS(Tabla3[DESCRIPCIÓN6], 'FORMATO N° 5'!$H24,Tabla3[SITUACIÓN JURÍDICA], 'FORMATO N° 5'!N$15) +\n   COUNTIFS(Tabla3[DESCRIPCIÓN7], 'FORMATO N° 5'!$H24,Tabla3[SITUACIÓN JURÍDICA], 'FORMATO N° 5'!N$15) +\n   COUNTIFS(Tabla3[DESCRIPCIÓN8], 'FORMATO N° 5'!$H24,Tabla3[SITUACIÓN JURÍDICA], 'FORMATO N° 5'!N$15) +\n   COUNTIFS(Tabla3[DESCRIPCIÓN9], 'FORMATO N° 5'!$H24,Tabla3[SITUACIÓN JURÍDICA], 'FORMATO N° 5'!N$15) +\n   COUNTIFS(Tabla3[DESCRIPCIÓN10], 'FORMATO N° 5'!$H24,Tabla3[SITUACIÓN JURÍDICA], 'FORMATO N° 5'!N$15)","v":0}]
["ELABORACIÓN DEL PTI","TOTAL",null,null,null,null,null,107,"Intervención social con la familia",null,null,0,{"$f":"COUNTIFS(Tabla3[DESCRIPCIÓN1], 'FORMATO N° 5'!$H25,Tabla3[SITUACIÓN JURÍDICA], 'FORMATO N° 5'!M$15) +\n   COUNTIFS(Tabla3[DESCRIPCIÓN2], 'FORMATO N° 5'!$H25,Tabla3[SITUACIÓN JURÍDICA], 'FORMATO N° 5'!M$15) +\n   COUNTIFS(Tabla3[DESCRIPCIÓN3], 'FORMATO N° 5'!$H25,Tabla3[SITUACIÓN JURÍDICA], 'FORMATO N° 5'!M$15) +\n   COUNTIFS(Tabla3[DESCRIPCIÓN4], 'FORMATO N° 5'!$H25,Tabla3[SITUACIÓN JURÍDICA], 'FORMATO N° 5'!M$15) +\n   COUNTIFS(Tabla3[DESCRIPCIÓN5], 'FORMATO N° 5'!$H25,Tabla3[SITUACIÓN JURÍDICA], 'FORMATO N° 5'!M$15) +\n   COUNTIFS(Tabla3[DESCRIPCIÓN6], 'FORMATO N° 5'!$H25,Tabla3[SITUACIÓN JURÍDICA], 'FORMATO N° 5'!M$15) +\n   COUNTIFS(Tabla3[DESCRIPCIÓN7], 'FORMATO N° 5'!$H25,Tabla3[SITUACIÓN JURÍDICA], 'FORMATO N° 5'!M$15) +\n   COUNTIFS(Tabla3[DESCRIPCIÓN8], 'FORMATO N° 5'!$H25,Tabla3[SITUACIÓN JURÍDICA], 'FORMATO N° 5'!M$15) +\n   COUNTIFS(Tabla3[DESCRIPCIÓN9], 'FORMATO N° 5'!$H25,Tabla3[SITUACIÓN JURÍDICA], 'FORMATO N° 5'!M$15) +\n   COUNTIFS(Tabla3[DESCRIPCIÓN10], 'FORMATO N° 5'!$H25,Tabla3[SITUACIÓN JURÍDICA], 'FORMATO N° 5'!M$15)","v":0},{"$f":"COUNTIFS(Tabla3[DESCRIPCIÓN1], 'FORMATO N° 5'!$H25,Tabla3[SITUACIÓN JURÍDICA], 'FORMATO N° 5'!N$15) +\n   COUNTIFS(Tabla3[DESCRIPCIÓN2], 'FORMATO N° 5'!$H25,Tabla3[SITUACIÓN JURÍDICA], 'FORMATO N° 5'!N$15) +\n   COUNTIFS(Tabla3[DESCRIPCIÓN3], 'FORMATO N° 5'!$H25,Tabla3[SITUACIÓN JURÍDICA], 'FORMATO N° 5'!N$15) +\n   COUNTIFS(Tabla3[DESCRIPCIÓN4], 'FORMATO N° 5'!$H25,Tabla3[SITUACIÓN JURÍDICA], 'FORMATO N° 5'!N$15) +\n   COUNTIFS(Tabla3[DESCRIPCIÓN5], 'FORMATO N° 5'!$H25,Tabla3[SITUACIÓN JURÍDICA], 'FORMATO N° 5'!N$15) +\n   COUNTIFS(Tabla3[DESCRIPCIÓN6], 'FORMATO N° 5'!$H25,Tabla3[SITUACIÓN JURÍDICA], 'FORMATO N° 5'!N$15) +\n   COUNTIFS(Tabla3[DESCRIPCIÓN7], 'FORMATO N° 5'!$H25,Tabla3[SITUACIÓN JURÍDICA], 'FORMATO N° 5'!N$15) +\n   COUNTIFS(Tabla3[DESCRIPCIÓN8], 'FORMATO N° 5'!$H25,Tabla3[SITUACIÓN JURÍDICA], 'FORMATO N° 5'!N$15) +\n   COUNTIFS(Tabla3[DESCRIPCIÓN9], 'FORMATO N° 5'!$H25,Tabla3[SITUACIÓN JURÍDICA], 'FORMATO N° 5'!N$15) +\n   COUNTIFS(Tabla3[DESCRIPCIÓN10], 'FORMATO N° 5'!$H25,Tabla3[SITUACIÓN JURÍDICA], 'FORMATO N° 5'!N$15)","v":0}]
["TOTAL",{"$f":"SUM(B27,B28)","v":0},null,null,null,null,null,108,"Entrevista_Familiar",null,null,0,{"$f":"COUNTIFS(Tabla3[DESCRIPCIÓN1], 'FORMATO N° 5'!$H26,Tabla3[SITUACIÓN JURÍDICA], 'FORMATO N° 5'!M$15) +\n   COUNTIFS(Tabla3[DESCRIPCIÓN2], 'FORMATO N° 5'!$H26,Tabla3[SITUACIÓN JURÍDICA], 'FORMATO N° 5'!M$15) +\n   COUNTIFS(Tabla3[DESCRIPCIÓN3], 'FORMATO N° 5'!$H26,Tabla3[SITUACIÓN JURÍDICA], 'FORMATO N° 5'!M$15) +\n   COUNTIFS(Tabla3[DESCRIPCIÓN4], 'FORMATO N° 5'!$H26,Tabla3[SITUACIÓN JURÍDICA], 'FORMATO N° 5'!M$15) +\n   COUNTIFS(Tabla3[DESCRIPCIÓN5], 'FORMATO N° 5'!$H26,Tabla3[SITUACIÓN JURÍDICA], 'FORMATO N° 5'!M$15) +\n   COUNTIFS(Tabla3[DESCRIPCIÓN6], 'FORMATO N° 5'!$H26,Tabla3[SITUACIÓN JURÍDICA], 'FORMATO N° 5'!M$15) +\n   COUNTIFS(Tabla3[DESCRIPCIÓN7], 'FORMATO N° 5'!$H26,Tabla3[SITUACIÓN JURÍDICA], 'FORMATO N° 5'!M$15) +\n   COUNTIFS(Tabla3[DESCRIPCIÓN8], 'FORMATO N° 5'!$H26,Tabla3[SITUACIÓN JURÍDICA], 'FORMATO N° 5'!M$15) +\n   COUNTIFS(Tabla3[DESCRIPCIÓN9], 'FORMATO N° 5'!$H26,Tabla3[SITUACIÓN JURÍDICA], 'FORMATO N° 5'!M$15) +\n   COUNTIFS(Tabla3[DESCRIPCIÓN10], 'FORMATO N° 5'!$H26,Tabla3[SITUACIÓN JURÍDICA], 'FORMATO N° 5'!M$15)","v":0},{"$f":"COUNTIFS(Tabla3[DESCRIPCIÓN1], 'FORMATO N° 5'!$H26,Tabla3[SITUACIÓN JURÍDICA], 'FORMATO N° 5'!N$15) +\n   COUNTIFS(Tabla3[DESCRIPCIÓN2], 'FORMATO N° 5'!$H26,Tabla3[SITUACIÓN JURÍDICA], 'FORMATO N° 5'!N$15) +\n   COUNTIFS(Tabla3[DESCRIPCIÓN3], 'FORMATO N° 5'!$H26,Tabla3[SITUACIÓN JURÍDICA], 'FORMATO N° 5'!N$15) +\n   COUNTIFS(Tabla3[DESCRIPCIÓN4], 'FORMATO N° 5'!$H26,Tabla3[SITUACIÓN JURÍDICA], 'FORMATO N° 5'!N$15) +\n   COUNTIFS(Tabla3[DESCRIPCIÓN5], 'FORMATO N° 5'!$H26,Tabla3[SITUACIÓN JURÍDICA], 'FORMATO N° 5'!N$15) +\n   COUNTIFS(Tabla3[DESCRIPCIÓN6], 'FORMATO N° 5'!$H26,Tabla3[SITUACIÓN JURÍDICA], 'FORMATO N° 5'!N$15) +\n   COUNTIFS(Tabla3[DESCRIPCIÓN7], 'FORMATO N° 5'!$H26,Tabla3[SITUACIÓN JURÍDICA], 'FORMATO N° 5'!N$15) +\n   COUNTIFS(Tabla3[DESCRIPCIÓN8], 'FORMATO N° 5'!$H26,Tabla3[SITUACIÓN JURÍDICA], 'FORMATO N° 5'!N$15) +\n   COUNTIFS(Tabla3[DESCRIPCIÓN9], 'FORMATO N° 5'!$H26,Tabla3[SITUACIÓN JURÍDICA], 'FORMATO N° 5'!N$15) +\n   COUNTIFS(Tabla3[DESCRIPCIÓN10], 'FORMATO N° 5'!$H26,Tabla3[SITUACIÓN JURÍDICA], 'FORMATO N° 5'!N$15)","v":0}]
["Hombre",{"$f":"SUM(SUMIFS('BD-SOC'!$BA$15:$BA$30015, 'BD-SOC'!$E$15:$E$30015, {\"MASCULINO\",\"M\",\"1\"}))","v":0},null,null,null,null,null,109,"Visita_Domiciliaria",null,null,0,{"$f":"COUNTIFS(Tabla3[DESCRIPCIÓN1], 'FORMATO N° 5'!$H27,Tabla3[SITUACIÓN JURÍDICA], 'FORMATO N° 5'!M$15) +\n   COUNTIFS(Tabla3[DESCRIPCIÓN2], 'FORMATO N° 5'!$H27,Tabla3[SITUACIÓN JURÍDICA], 'FORMATO N° 5'!M$15) +\n   COUNTIFS(Tabla3[DESCRIPCIÓN3], 'FORMATO N° 5'!$H27,Tabla3[SITUACIÓN JURÍDICA], 'FORMATO N° 5'!M$15) +\n   COUNTIFS(Tabla3[DESCRIPCIÓN4], 'FORMATO N° 5'!$H27,Tabla3[SITUACIÓN JURÍDICA], 'FORMATO N° 5'!M$15) +\n   COUNTIFS(Tabla3[DESCRIPCIÓN5], 'FORMATO N° 5'!$H27,Tabla3[SITUACIÓN JURÍDICA], 'FORMATO N° 5'!M$15) +\n   COUNTIFS(Tabla3[DESCRIPCIÓN6], 'FORMATO N° 5'!$H27,Tabla3[SITUACIÓN JURÍDICA], 'FORMATO N° 5'!M$15) +\n   COUNTIFS(Tabla3[DESCRIPCIÓN7], 'FORMATO N° 5'!$H27,Tabla3[SITUACIÓN JURÍDICA], 'FORMATO N° 5'!M$15) +\n   COUNTIFS(Tabla3[DESCRIPCIÓN8], 'FORMATO N° 5'!$H27,Tabla3[SITUACIÓN JURÍDICA], 'FORMATO N° 5'!M$15) +\n   COUNTIFS(Tabla3[DESCRIPCIÓN9], 'FORMATO N° 5'!$H27,Tabla3[SITUACIÓN JURÍDICA], 'FORMATO N° 5'!M$15) +\n   COUNTIFS(Tabla3[DESCRIPCIÓN10], 'FORMATO N° 5'!$H27,Tabla3[SITUACIÓN JURÍDICA], 'FORMATO N° 5'!M$15)","v":0},{"$f":"COUNTIFS(Tabla3[DESCRIPCIÓN1], 'FORMATO N° 5'!$H27,Tabla3[SITUACIÓN JURÍDICA], 'FORMATO N° 5'!N$15) +\n   COUNTIFS(Tabla3[DESCRIPCIÓN2], 'FORMATO N° 5'!$H27,Tabla3[SITUACIÓN JURÍDICA], 'FORMATO N° 5'!N$15) +\n   COUNTIFS(Tabla3[DESCRIPCIÓN3], 'FORMATO N° 5'!$H27,Tabla3[SITUACIÓN JURÍDICA], 'FORMATO N° 5'!N$15) +\n   COUNTIFS(Tabla3[DESCRIPCIÓN4], 'FORMATO N° 5'!$H27,Tabla3[SITUACIÓN JURÍDICA], 'FORMATO N° 5'!N$15) +\n   COUNTIFS(Tabla3[DESCRIPCIÓN5], 'FORMATO N° 5'!$H27,Tabla3[SITUACIÓN JURÍDICA], 'FORMATO N° 5'!N$15) +\n   COUNTIFS(Tabla3[DESCRIPCIÓN6], 'FORMATO N° 5'!$H27,Tabla3[SITUACIÓN JURÍDICA], 'FORMATO N° 5'!N$15) +\n   COUNTIFS(Tabla3[DESCRIPCIÓN7], 'FORMATO N° 5'!$H27,Tabla3[SITUACIÓN JURÍDICA], 'FORMATO N° 5'!N$15) +\n   COUNTIFS(Tabla3[DESCRIPCIÓN8], 'FORMATO N° 5'!$H27,Tabla3[SITUACIÓN JURÍDICA], 'FORMATO N° 5'!N$15) +\n   COUNTIFS(Tabla3[DESCRIPCIÓN9], 'FORMATO N° 5'!$H27,Tabla3[SITUACIÓN JURÍDICA], 'FORMATO N° 5'!N$15) +\n   COUNTIFS(Tabla3[DESCRIPCIÓN10], 'FORMATO N° 5'!$H27,Tabla3[SITUACIÓN JURÍDICA], 'FORMATO N° 5'!N$15)","v":0}]
["Mujer",{"$f":"SUM(SUMIFS('BD-SOC'!$BA$15:$BA$30015, 'BD-SOC'!$E$15:$E$30015, {\"FEMENINO\",\"F\",\"2\"}))","v":0},null,null,null,null,null,110,"Visita_Hospitalaria",null,null,0,{"$f":"COUNTIFS(Tabla3[DESCRIPCIÓN1], 'FORMATO N° 5'!$H28,Tabla3[SITUACIÓN JURÍDICA], 'FORMATO N° 5'!M$15) +\n   COUNTIFS(Tabla3[DESCRIPCIÓN2], 'FORMATO N° 5'!$H28,Tabla3[SITUACIÓN JURÍDICA], 'FORMATO N° 5'!M$15) +\n   COUNTIFS(Tabla3[DESCRIPCIÓN3], 'FORMATO N° 5'!$H28,Tabla3[SITUACIÓN JURÍDICA], 'FORMATO N° 5'!M$15) +\n   COUNTIFS(Tabla3[DESCRIPCIÓN4], 'FORMATO N° 5'!$H28,Tabla3[SITUACIÓN JURÍDICA], 'FORMATO N° 5'!M$15) +\n   COUNTIFS(Tabla3[DESCRIPCIÓN5], 'FORMATO N° 5'!$H28,Tabla3[SITUACIÓN JURÍDICA], 'FORMATO N° 5'!M$15) +\n   COUNTIFS(Tabla3[DESCRIPCIÓN6], 'FORMATO N° 5'!$H28,Tabla3[SITUACIÓN JURÍDICA], 'FORMATO N° 5'!M$15) +\n   COUNTIFS(Tabla3[DESCRIPCIÓN7], 'FORMATO N° 5'!$H28,Tabla3[SITUACIÓN JURÍDICA], 'FORMATO N° 5'!M$15) +\n   COUNTIFS(Tabla3[DESCRIPCIÓN8], 'FORMATO N° 5'!$H28,Tabla3[SITUACIÓN JURÍDICA], 'FORMATO N° 5'!M$15) +\n   COUNTIFS(Tabla3[DESCRIPCIÓN9], 'FORMATO N° 5'!$H28,Tabla3[SITUACIÓN JURÍDICA], 'FORMATO N° 5'!M$15) +\n   COUNTIFS(Tabla3[DESCRIPCIÓN10], 'FORMATO N° 5'!$H28,Tabla3[SITUACIÓN JURÍDICA], 'FORMATO N° 5'!M$15)","v":0},{"$f":"COUNTIFS(Tabla3[DESCRIPCIÓN1], 'FORMATO N° 5'!$H28,Tabla3[SITUACIÓN JURÍDICA], 'FORMATO N° 5'!N$15) +\n   COUNTIFS(Tabla3[DESCRIPCIÓN2], 'FORMATO N° 5'!$H28,Tabla3[SITUACIÓN JURÍDICA], 'FORMATO N° 5'!N$15) +\n   COUNTIFS(Tabla3[DESCRIPCIÓN3], 'FORMATO N° 5'!$H28,Tabla3[SITUACIÓN JURÍDICA], 'FORMATO N° 5'!N$15) +\n   COUNTIFS(Tabla3[DESCRIPCIÓN4], 'FORMATO N° 5'!$H28,Tabla3[SITUACIÓN JURÍDICA], 'FORMATO N° 5'!N$15) +\n   COUNTIFS(Tabla3[DESCRIPCIÓN5], 'FORMATO N° 5'!$H28,Tabla3[SITUACIÓN JURÍDICA], 'FORMATO N° 5'!N$15) +\n   COUNTIFS(Tabla3[DESCRIPCIÓN6], 'FORMATO N° 5'!$H28,Tabla3[SITUACIÓN JURÍDICA], 'FORMATO N° 5'!N$15) +\n   COUNTIFS(Tabla3[DESCRIPCIÓN7], 'FORMATO N° 5'!$H28,Tabla3[SITUACIÓN JURÍDICA], 'FORMATO N° 5'!N$15) +\n   COUNTIFS(Tabla3[DESCRIPCIÓN8], 'FORMATO N° 5'!$H28,Tabla3[SITUACIÓN JURÍDICA], 'FORMATO N° 5'!N$15) +\n   COUNTIFS(Tabla3[DESCRIPCIÓN9], 'FORMATO N° 5'!$H28,Tabla3[SITUACIÓN JURÍDICA], 'FORMATO N° 5'!N$15) +\n   COUNTIFS(Tabla3[DESCRIPCIÓN10], 'FORMATO N° 5'!$H28,Tabla3[SITUACIÓN JURÍDICA], 'FORMATO N° 5'!N$15)","v":0}]
[null,null,null,null,null,null,"INFORMES",201,"Audiencias",null,null,0,{"$f":"COUNTIFS(Tabla3[DESCRIPCIÓN1], 'FORMATO N° 5'!$H29,Tabla3[SITUACIÓN JURÍDICA], 'FORMATO N° 5'!M$15) +\n   COUNTIFS(Tabla3[DESCRIPCIÓN2], 'FORMATO N° 5'!$H29,Tabla3[SITUACIÓN JURÍDICA], 'FORMATO N° 5'!M$15) +\n   COUNTIFS(Tabla3[DESCRIPCIÓN3], 'FORMATO N° 5'!$H29,Tabla3[SITUACIÓN JURÍDICA], 'FORMATO N° 5'!M$15) +\n   COUNTIFS(Tabla3[DESCRIPCIÓN4], 'FORMATO N° 5'!$H29,Tabla3[SITUACIÓN JURÍDICA], 'FORMATO N° 5'!M$15) +\n   COUNTIFS(Tabla3[DESCRIPCIÓN5], 'FORMATO N° 5'!$H29,Tabla3[SITUACIÓN JURÍDICA], 'FORMATO N° 5'!M$15) +\n   COUNTIFS(Tabla3[DESCRIPCIÓN6], 'FORMATO N° 5'!$H29,Tabla3[SITUACIÓN JURÍDICA], 'FORMATO N° 5'!M$15) +\n   COUNTIFS(Tabla3[DESCRIPCIÓN7], 'FORMATO N° 5'!$H29,Tabla3[SITUACIÓN JURÍDICA], 'FORMATO N° 5'!M$15) +\n   COUNTIFS(Tabla3[DESCRIPCIÓN8], 'FORMATO N° 5'!$H29,Tabla3[SITUACIÓN JURÍDICA], 'FORMATO N° 5'!M$15) +\n   COUNTIFS(Tabla3[DESCRIPCIÓN9], 'FORMATO N° 5'!$H29,Tabla3[SITUACIÓN JURÍDICA], 'FORMATO N° 5'!M$15) +\n   COUNTIFS(Tabla3[DESCRIPCIÓN10], 'FORMATO N° 5'!$H29,Tabla3[SITUACIÓN JURÍDICA], 'FORMATO N° 5'!M$15)","v":0},{"$f":"COUNTIFS(Tabla3[DESCRIPCIÓN1], 'FORMATO N° 5'!$H29,Tabla3[SITUACIÓN JURÍDICA], 'FORMATO N° 5'!N$15) +\n   COUNTIFS(Tabla3[DESCRIPCIÓN2], 'FORMATO N° 5'!$H29,Tabla3[SITUACIÓN JURÍDICA], 'FORMATO N° 5'!N$15) +\n   COUNTIFS(Tabla3[DESCRIPCIÓN3], 'FORMATO N° 5'!$H29,Tabla3[SITUACIÓN JURÍDICA], 'FORMATO N° 5'!N$15) +\n   COUNTIFS(Tabla3[DESCRIPCIÓN4], 'FORMATO N° 5'!$H29,Tabla3[SITUACIÓN JURÍDICA], 'FORMATO N° 5'!N$15) +\n   COUNTIFS(Tabla3[DESCRIPCIÓN5], 'FORMATO N° 5'!$H29,Tabla3[SITUACIÓN JURÍDICA], 'FORMATO N° 5'!N$15) +\n   COUNTIFS(Tabla3[DESCRIPCIÓN6], 'FORMATO N° 5'!$H29,Tabla3[SITUACIÓN JURÍDICA], 'FORMATO N° 5'!N$15) +\n   COUNTIFS(Tabla3[DESCRIPCIÓN7], 'FORMATO N° 5'!$H29,Tabla3[SITUACIÓN JURÍDICA], 'FORMATO N° 5'!N$15) +\n   COUNTIFS(Tabla3[DESCRIPCIÓN8], 'FORMATO N° 5'!$H29,Tabla3[SITUACIÓN JURÍDICA], 'FORMATO N° 5'!N$15) +\n   COUNTIFS(Tabla3[DESCRIPCIÓN9], 'FORMATO N° 5'!$H29,Tabla3[SITUACIÓN JURÍDICA], 'FORMATO N° 5'!N$15) +\n   COUNTIFS(Tabla3[DESCRIPCIÓN10], 'FORMATO N° 5'!$H29,Tabla3[SITUACIÓN JURÍDICA], 'FORMATO N° 5'!N$15)","v":0}]
[null,null,null,null,null,null,null,202,"Informe de liberación condicional",null,null,0,{"$f":"COUNTIFS(Tabla3[DESCRIPCIÓN1], 'FORMATO N° 5'!$H30,Tabla3[SITUACIÓN JURÍDICA], 'FORMATO N° 5'!M$15) +\n   COUNTIFS(Tabla3[DESCRIPCIÓN2], 'FORMATO N° 5'!$H30,Tabla3[SITUACIÓN JURÍDICA], 'FORMATO N° 5'!M$15) +\n   COUNTIFS(Tabla3[DESCRIPCIÓN3], 'FORMATO N° 5'!$H30,Tabla3[SITUACIÓN JURÍDICA], 'FORMATO N° 5'!M$15) +\n   COUNTIFS(Tabla3[DESCRIPCIÓN4], 'FORMATO N° 5'!$H30,Tabla3[SITUACIÓN JURÍDICA], 'FORMATO N° 5'!M$15) +\n   COUNTIFS(Tabla3[DESCRIPCIÓN5], 'FORMATO N° 5'!$H30,Tabla3[SITUACIÓN JURÍDICA], 'FORMATO N° 5'!M$15) +\n   COUNTIFS(Tabla3[DESCRIPCIÓN6], 'FORMATO N° 5'!$H30,Tabla3[SITUACIÓN JURÍDICA], 'FORMATO N° 5'!M$15) +\n   COUNTIFS(Tabla3[DESCRIPCIÓN7], 'FORMATO N° 5'!$H30,Tabla3[SITUACIÓN JURÍDICA], 'FORMATO N° 5'!M$15) +\n   COUNTIFS(Tabla3[DESCRIPCIÓN8], 'FORMATO N° 5'!$H30,Tabla3[SITUACIÓN JURÍDICA], 'FORMATO N° 5'!M$15) +\n   COUNTIFS(Tabla3[DESCRIPCIÓN9], 'FORMATO N° 5'!$H30,Tabla3[SITUACIÓN JURÍDICA], 'FORMATO N° 5'!M$15) +\n   COUNTIFS(Tabla3[DESCRIPCIÓN10], 'FORMATO N° 5'!$H30,Tabla3[SITUACIÓN JURÍDICA], 'FORMATO N° 5'!M$15)","v":0},{"$f":"COUNTIFS(Tabla3[DESCRIPCIÓN1], 'FORMATO N° 5'!$H30,Tabla3[SITUACIÓN JURÍDICA], 'FORMATO N° 5'!N$15) +\n   COUNTIFS(Tabla3[DESCRIPCIÓN2], 'FORMATO N° 5'!$H30,Tabla3[SITUACIÓN JURÍDICA], 'FORMATO N° 5'!N$15) +\n   COUNTIFS(Tabla3[DESCRIPCIÓN3], 'FORMATO N° 5'!$H30,Tabla3[SITUACIÓN JURÍDICA], 'FORMATO N° 5'!N$15) +\n   COUNTIFS(Tabla3[DESCRIPCIÓN4], 'FORMATO N° 5'!$H30,Tabla3[SITUACIÓN JURÍDICA], 'FORMATO N° 5'!N$15) +\n   COUNTIFS(Tabla3[DESCRIPCIÓN5], 'FORMATO N° 5'!$H30,Tabla3[SITUACIÓN JURÍDICA], 'FORMATO N° 5'!N$15) +\n   COUNTIFS(Tabla3[DESCRIPCIÓN6], 'FORMATO N° 5'!$H30,Tabla3[SITUACIÓN JURÍDICA], 'FORMATO N° 5'!N$15) +\n   COUNTIFS(Tabla3[DESCRIPCIÓN7], 'FORMATO N° 5'!$H30,Tabla3[SITUACIÓN JURÍDICA], 'FORMATO N° 5'!N$15) +\n   COUNTIFS(Tabla3[DESCRIPCIÓN8], 'FORMATO N° 5'!$H30,Tabla3[SITUACIÓN JURÍDICA], 'FORMATO N° 5'!N$15) +\n   COUNTIFS(Tabla3[DESCRIPCIÓN9], 'FORMATO N° 5'!$H30,Tabla3[SITUACIÓN JURÍDICA], 'FORMATO N° 5'!N$15) +\n   COUNTIFS(Tabla3[DESCRIPCIÓN10], 'FORMATO N° 5'!$H30,Tabla3[SITUACIÓN JURÍDICA], 'FORMATO N° 5'!N$15)","v":0}]
["CUADRO 3. NÚMERO DE ATENDIDOS SEGÚN ETAPA DE EJECUCIÓN EN LA INTERVENCIÓN PRIORITARIA",null,null,null,null,null,null,203,"Informe de semilibertad",null,null,0,{"$f":"COUNTIFS(Tabla3[DESCRIPCIÓN1], 'FORMATO N° 5'!$H31,Tabla3[SITUACIÓN JURÍDICA], 'FORMATO N° 5'!M$15) +\n   COUNTIFS(Tabla3[DESCRIPCIÓN2], 'FORMATO N° 5'!$H31,Tabla3[SITUACIÓN JURÍDICA], 'FORMATO N° 5'!M$15) +\n   COUNTIFS(Tabla3[DESCRIPCIÓN3], 'FORMATO N° 5'!$H31,Tabla3[SITUACIÓN JURÍDICA], 'FORMATO N° 5'!M$15) +\n   COUNTIFS(Tabla3[DESCRIPCIÓN4], 'FORMATO N° 5'!$H31,Tabla3[SITUACIÓN JURÍDICA], 'FORMATO N° 5'!M$15) +\n   COUNTIFS(Tabla3[DESCRIPCIÓN5], 'FORMATO N° 5'!$H31,Tabla3[SITUACIÓN JURÍDICA], 'FORMATO N° 5'!M$15) +\n   COUNTIFS(Tabla3[DESCRIPCIÓN6], 'FORMATO N° 5'!$H31,Tabla3[SITUACIÓN JURÍDICA], 'FORMATO N° 5'!M$15) +\n   COUNTIFS(Tabla3[DESCRIPCIÓN7], 'FORMATO N° 5'!$H31,Tabla3[SITUACIÓN JURÍDICA], 'FORMATO N° 5'!M$15) +\n   COUNTIFS(Tabla3[DESCRIPCIÓN8], 'FORMATO N° 5'!$H31,Tabla3[SITUACIÓN JURÍDICA], 'FORMATO N° 5'!M$15) +\n   COUNTIFS(Tabla3[DESCRIPCIÓN9], 'FORMATO N° 5'!$H31,Tabla3[SITUACIÓN JURÍDICA], 'FORMATO N° 5'!M$15) +\n   COUNTIFS(Tabla3[DESCRIPCIÓN10], 'FORMATO N° 5'!$H31,Tabla3[SITUACIÓN JURÍDICA], 'FORMATO N° 5'!M$15)","v":0},{"$f":"COUNTIFS(Tabla3[DESCRIPCIÓN1], 'FORMATO N° 5'!$H31,Tabla3[SITUACIÓN JURÍDICA], 'FORMATO N° 5'!N$15) +\n   COUNTIFS(Tabla3[DESCRIPCIÓN2], 'FORMATO N° 5'!$H31,Tabla3[SITUACIÓN JURÍDICA], 'FORMATO N° 5'!N$15) +\n   COUNTIFS(Tabla3[DESCRIPCIÓN3], 'FORMATO N° 5'!$H31,Tabla3[SITUACIÓN JURÍDICA], 'FORMATO N° 5'!N$15) +\n   COUNTIFS(Tabla3[DESCRIPCIÓN4], 'FORMATO N° 5'!$H31,Tabla3[SITUACIÓN JURÍDICA], 'FORMATO N° 5'!N$15) +\n   COUNTIFS(Tabla3[DESCRIPCIÓN5], 'FORMATO N° 5'!$H31,Tabla3[SITUACIÓN JURÍDICA], 'FORMATO N° 5'!N$15) +\n   COUNTIFS(Tabla3[DESCRIPCIÓN6], 'FORMATO N° 5'!$H31,Tabla3[SITUACIÓN JURÍDICA], 'FORMATO N° 5'!N$15) +\n   COUNTIFS(Tabla3[DESCRIPCIÓN7], 'FORMATO N° 5'!$H31,Tabla3[SITUACIÓN JURÍDICA], 'FORMATO N° 5'!N$15) +\n   COUNTIFS(Tabla3[DESCRIPCIÓN8], 'FORMATO N° 5'!$H31,Tabla3[SITUACIÓN JURÍDICA], 'FORMATO N° 5'!N$15) +\n   COUNTIFS(Tabla3[DESCRIPCIÓN9], 'FORMATO N° 5'!$H31,Tabla3[SITUACIÓN JURÍDICA], 'FORMATO N° 5'!N$15) +\n   COUNTIFS(Tabla3[DESCRIPCIÓN10], 'FORMATO N° 5'!$H31,Tabla3[SITUACIÓN JURÍDICA], 'FORMATO N° 5'!N$15)","v":0}]
[null,null,null,null,null,null,null,204,"Informe de visita íntima",null,null,0,{"$f":"COUNTIFS(Tabla3[DESCRIPCIÓN1], 'FORMATO N° 5'!$H32,Tabla3[SITUACIÓN JURÍDICA], 'FORMATO N° 5'!M$15) +\n   COUNTIFS(Tabla3[DESCRIPCIÓN2], 'FORMATO N° 5'!$H32,Tabla3[SITUACIÓN JURÍDICA], 'FORMATO N° 5'!M$15) +\n   COUNTIFS(Tabla3[DESCRIPCIÓN3], 'FORMATO N° 5'!$H32,Tabla3[SITUACIÓN JURÍDICA], 'FORMATO N° 5'!M$15) +\n   COUNTIFS(Tabla3[DESCRIPCIÓN4], 'FORMATO N° 5'!$H32,Tabla3[SITUACIÓN JURÍDICA], 'FORMATO N° 5'!M$15) +\n   COUNTIFS(Tabla3[DESCRIPCIÓN5], 'FORMATO N° 5'!$H32,Tabla3[SITUACIÓN JURÍDICA], 'FORMATO N° 5'!M$15) +\n   COUNTIFS(Tabla3[DESCRIPCIÓN6], 'FORMATO N° 5'!$H32,Tabla3[SITUACIÓN JURÍDICA], 'FORMATO N° 5'!M$15) +\n   COUNTIFS(Tabla3[DESCRIPCIÓN7], 'FORMATO N° 5'!$H32,Tabla3[SITUACIÓN JURÍDICA], 'FORMATO N° 5'!M$15) +\n   COUNTIFS(Tabla3[DESCRIPCIÓN8], 'FORMATO N° 5'!$H32,Tabla3[SITUACIÓN JURÍDICA], 'FORMATO N° 5'!M$15) +\n   COUNTIFS(Tabla3[DESCRIPCIÓN9], 'FORMATO N° 5'!$H32,Tabla3[SITUACIÓN JURÍDICA], 'FORMATO N° 5'!M$15) +\n   COUNTIFS(Tabla3[DESCRIPCIÓN10], 'FORMATO N° 5'!$H32,Tabla3[SITUACIÓN JURÍDICA], 'FORMATO N° 5'!M$15)","v":0},{"$f":"COUNTIFS(Tabla3[DESCRIPCIÓN1], 'FORMATO N° 5'!$H32,Tabla3[SITUACIÓN JURÍDICA], 'FORMATO N° 5'!N$15) +\n   COUNTIFS(Tabla3[DESCRIPCIÓN2], 'FORMATO N° 5'!$H32,Tabla3[SITUACIÓN JURÍDICA], 'FORMATO N° 5'!N$15) +\n   COUNTIFS(Tabla3[DESCRIPCIÓN3], 'FORMATO N° 5'!$H32,Tabla3[SITUACIÓN JURÍDICA], 'FORMATO N° 5'!N$15) +\n   COUNTIFS(Tabla3[DESCRIPCIÓN4], 'FORMATO N° 5'!$H32,Tabla3[SITUACIÓN JURÍDICA], 'FORMATO N° 5'!N$15) +\n   COUNTIFS(Tabla3[DESCRIPCIÓN5], 'FORMATO N° 5'!$H32,Tabla3[SITUACIÓN JURÍDICA], 'FORMATO N° 5'!N$15) +\n   COUNTIFS(Tabla3[DESCRIPCIÓN6], 'FORMATO N° 5'!$H32,Tabla3[SITUACIÓN JURÍDICA], 'FORMATO N° 5'!N$15) +\n   COUNTIFS(Tabla3[DESCRIPCIÓN7], 'FORMATO N° 5'!$H32,Tabla3[SITUACIÓN JURÍDICA], 'FORMATO N° 5'!N$15) +\n   COUNTIFS(Tabla3[DESCRIPCIÓN8], 'FORMATO N° 5'!$H32,Tabla3[SITUACIÓN JURÍDICA], 'FORMATO N° 5'!N$15) +\n   COUNTIFS(Tabla3[DESCRIPCIÓN9], 'FORMATO N° 5'!$H32,Tabla3[SITUACIÓN JURÍDICA], 'FORMATO N° 5'!N$15) +\n   COUNTIFS(Tabla3[DESCRIPCIÓN10], 'FORMATO N° 5'!$H32,Tabla3[SITUACIÓN JURÍDICA], 'FORMATO N° 5'!N$15)","v":0}]
[null,null,null,null,null,null,null,205,"Informe de visita familiar",null,null,0,{"$f":"COUNTIFS(Tabla3[DESCRIPCIÓN1], 'FORMATO N° 5'!$H33,Tabla3[SITUACIÓN JURÍDICA], 'FORMATO N° 5'!M$15) +\n   COUNTIFS(Tabla3[DESCRIPCIÓN2], 'FORMATO N° 5'!$H33,Tabla3[SITUACIÓN JURÍDICA], 'FORMATO N° 5'!M$15) +\n   COUNTIFS(Tabla3[DESCRIPCIÓN3], 'FORMATO N° 5'!$H33,Tabla3[SITUACIÓN JURÍDICA], 'FORMATO N° 5'!M$15) +\n   COUNTIFS(Tabla3[DESCRIPCIÓN4], 'FORMATO N° 5'!$H33,Tabla3[SITUACIÓN JURÍDICA], 'FORMATO N° 5'!M$15) +\n   COUNTIFS(Tabla3[DESCRIPCIÓN5], 'FORMATO N° 5'!$H33,Tabla3[SITUACIÓN JURÍDICA], 'FORMATO N° 5'!M$15) +\n   COUNTIFS(Tabla3[DESCRIPCIÓN6], 'FORMATO N° 5'!$H33,Tabla3[SITUACIÓN JURÍDICA], 'FORMATO N° 5'!M$15) +\n   COUNTIFS(Tabla3[DESCRIPCIÓN7], 'FORMATO N° 5'!$H33,Tabla3[SITUACIÓN JURÍDICA], 'FORMATO N° 5'!M$15) +\n   COUNTIFS(Tabla3[DESCRIPCIÓN8], 'FORMATO N° 5'!$H33,Tabla3[SITUACIÓN JURÍDICA], 'FORMATO N° 5'!M$15) +\n   COUNTIFS(Tabla3[DESCRIPCIÓN9], 'FORMATO N° 5'!$H33,Tabla3[SITUACIÓN JURÍDICA], 'FORMATO N° 5'!M$15) +\n   COUNTIFS(Tabla3[DESCRIPCIÓN10], 'FORMATO N° 5'!$H33,Tabla3[SITUACIÓN JURÍDICA], 'FORMATO N° 5'!M$15)","v":0},{"$f":"COUNTIFS(Tabla3[DESCRIPCIÓN1], 'FORMATO N° 5'!$H33,Tabla3[SITUACIÓN JURÍDICA], 'FORMATO N° 5'!N$15) +\n   COUNTIFS(Tabla3[DESCRIPCIÓN2], 'FORMATO N° 5'!$H33,Tabla3[SITUACIÓN JURÍDICA], 'FORMATO N° 5'!N$15) +\n   COUNTIFS(Tabla3[DESCRIPCIÓN3], 'FORMATO N° 5'!$H33,Tabla3[SITUACIÓN JURÍDICA], 'FORMATO N° 5'!N$15) +\n   COUNTIFS(Tabla3[DESCRIPCIÓN4], 'FORMATO N° 5'!$H33,Tabla3[SITUACIÓN JURÍDICA], 'FORMATO N° 5'!N$15) +\n   COUNTIFS(Tabla3[DESCRIPCIÓN5], 'FORMATO N° 5'!$H33,Tabla3[SITUACIÓN JURÍDICA], 'FORMATO N° 5'!N$15) +\n   COUNTIFS(Tabla3[DESCRIPCIÓN6], 'FORMATO N° 5'!$H33,Tabla3[SITUACIÓN JURÍDICA], 'FORMATO N° 5'!N$15) +\n   COUNTIFS(Tabla3[DESCRIPCIÓN7], 'FORMATO N° 5'!$H33,Tabla3[SITUACIÓN JURÍDICA], 'FORMATO N° 5'!N$15) +\n   COUNTIFS(Tabla3[DESCRIPCIÓN8], 'FORMATO N° 5'!$H33,Tabla3[SITUACIÓN JURÍDICA], 'FORMATO N° 5'!N$15) +\n   COUNTIFS(Tabla3[DESCRIPCIÓN9], 'FORMATO N° 5'!$H33,Tabla3[SITUACIÓN JURÍDICA], 'FORMATO N° 5'!N$15) +\n   COUNTIFS(Tabla3[DESCRIPCIÓN10], 'FORMATO N° 5'!$H33,Tabla3[SITUACIÓN JURÍDICA], 'FORMATO N° 5'!N$15)","v":0}]
["ETAPAS DE EJECUCIÓN EN LA INTERVENCIÓN PRIORITARIA",null,null,"TOTAL",null,null,null,206,"Otros informes",null,null,0,{"$f":"COUNTIFS(Tabla3[DESCRIPCIÓN1], 'FORMATO N° 5'!$H34,Tabla3[SITUACIÓN JURÍDICA], 'FORMATO N° 5'!M$15) +\n   COUNTIFS(Tabla3[DESCRIPCIÓN2], 'FORMATO N° 5'!$H34,Tabla3[SITUACIÓN JURÍDICA], 'FORMATO N° 5'!M$15) +\n   COUNTIFS(Tabla3[DESCRIPCIÓN3], 'FORMATO N° 5'!$H34,Tabla3[SITUACIÓN JURÍDICA], 'FORMATO N° 5'!M$15) +\n   COUNTIFS(Tabla3[DESCRIPCIÓN4], 'FORMATO N° 5'!$H34,Tabla3[SITUACIÓN JURÍDICA], 'FORMATO N° 5'!M$15) +\n   COUNTIFS(Tabla3[DESCRIPCIÓN5], 'FORMATO N° 5'!$H34,Tabla3[SITUACIÓN JURÍDICA], 'FORMATO N° 5'!M$15) +\n   COUNTIFS(Tabla3[DESCRIPCIÓN6], 'FORMATO N° 5'!$H34,Tabla3[SITUACIÓN JURÍDICA], 'FORMATO N° 5'!M$15) +\n   COUNTIFS(Tabla3[DESCRIPCIÓN7], 'FORMATO N° 5'!$H34,Tabla3[SITUACIÓN JURÍDICA], 'FORMATO N° 5'!M$15) +\n   COUNTIFS(Tabla3[DESCRIPCIÓN8], 'FORMATO N° 5'!$H34,Tabla3[SITUACIÓN JURÍDICA], 'FORMATO N° 5'!M$15) +\n   COUNTIFS(Tabla3[DESCRIPCIÓN9], 'FORMATO N° 5'!$H34,Tabla3[SITUACIÓN JURÍDICA], 'FORMATO N° 5'!M$15) +\n   COUNTIFS(Tabla3[DESCRIPCIÓN10], 'FORMATO N° 5'!$H34,Tabla3[SITUACIÓN JURÍDICA], 'FORMATO N° 5'!M$15)","v":0},{"$f":"COUNTIFS(Tabla3[DESCRIPCIÓN1], 'FORMATO N° 5'!$H34,Tabla3[SITUACIÓN JURÍDICA], 'FORMATO N° 5'!N$15) +\n   COUNTIFS(Tabla3[DESCRIPCIÓN2], 'FORMATO N° 5'!$H34,Tabla3[SITUACIÓN JURÍDICA], 'FORMATO N° 5'!N$15) +\n   COUNTIFS(Tabla3[DESCRIPCIÓN3], 'FORMATO N° 5'!$H34,Tabla3[SITUACIÓN JURÍDICA], 'FORMATO N° 5'!N$15) +\n   COUNTIFS(Tabla3[DESCRIPCIÓN4], 'FORMATO N° 5'!$H34,Tabla3[SITUACIÓN JURÍDICA], 'FORMATO N° 5'!N$15) +\n   COUNTIFS(Tabla3[DESCRIPCIÓN5], 'FORMATO N° 5'!$H34,Tabla3[SITUACIÓN JURÍDICA], 'FORMATO N° 5'!N$15) +\n   COUNTIFS(Tabla3[DESCRIPCIÓN6], 'FORMATO N° 5'!$H34,Tabla3[SITUACIÓN JURÍDICA], 'FORMATO N° 5'!N$15) +\n   COUNTIFS(Tabla3[DESCRIPCIÓN7], 'FORMATO N° 5'!$H34,Tabla3[SITUACIÓN JURÍDICA], 'FORMATO N° 5'!N$15) +\n   COUNTIFS(Tabla3[DESCRIPCIÓN8], 'FORMATO N° 5'!$H34,Tabla3[SITUACIÓN JURÍDICA], 'FORMATO N° 5'!N$15) +\n   COUNTIFS(Tabla3[DESCRIPCIÓN9], 'FORMATO N° 5'!$H34,Tabla3[SITUACIÓN JURÍDICA], 'FORMATO N° 5'!N$15) +\n   COUNTIFS(Tabla3[DESCRIPCIÓN10], 'FORMATO N° 5'!$H34,Tabla3[SITUACIÓN JURÍDICA], 'FORMATO N° 5'!N$15)","v":0}]
["TOTAL",null,null,{"$f":"SUM(D36:D39)","v":0},null,null,"GESTIONES",301,"Gestión hospitalaria",null,null,0,{"$f":"COUNTIFS(Tabla3[DESCRIPCIÓN1], 'FORMATO N° 5'!$H35,Tabla3[SITUACIÓN JURÍDICA], 'FORMATO N° 5'!M$15) +\n   COUNTIFS(Tabla3[DESCRIPCIÓN2], 'FORMATO N° 5'!$H35,Tabla3[SITUACIÓN JURÍDICA], 'FORMATO N° 5'!M$15) +\n   COUNTIFS(Tabla3[DESCRIPCIÓN3], 'FORMATO N° 5'!$H35,Tabla3[SITUACIÓN JURÍDICA], 'FORMATO N° 5'!M$15) +\n   COUNTIFS(Tabla3[DESCRIPCIÓN4], 'FORMATO N° 5'!$H35,Tabla3[SITUACIÓN JURÍDICA], 'FORMATO N° 5'!M$15) +\n   COUNTIFS(Tabla3[DESCRIPCIÓN5], 'FORMATO N° 5'!$H35,Tabla3[SITUACIÓN JURÍDICA], 'FORMATO N° 5'!M$15) +\n   COUNTIFS(Tabla3[DESCRIPCIÓN6], 'FORMATO N° 5'!$H35,Tabla3[SITUACIÓN JURÍDICA], 'FORMATO N° 5'!M$15) +\n   COUNTIFS(Tabla3[DESCRIPCIÓN7], 'FORMATO N° 5'!$H35,Tabla3[SITUACIÓN JURÍDICA], 'FORMATO N° 5'!M$15) +\n   COUNTIFS(Tabla3[DESCRIPCIÓN8], 'FORMATO N° 5'!$H35,Tabla3[SITUACIÓN JURÍDICA], 'FORMATO N° 5'!M$15) +\n   COUNTIFS(Tabla3[DESCRIPCIÓN9], 'FORMATO N° 5'!$H35,Tabla3[SITUACIÓN JURÍDICA], 'FORMATO N° 5'!M$15) +\n   COUNTIFS(Tabla3[DESCRIPCIÓN10], 'FORMATO N° 5'!$H35,Tabla3[SITUACIÓN JURÍDICA], 'FORMATO N° 5'!M$15)","v":0},{"$f":"COUNTIFS(Tabla3[DESCRIPCIÓN1], 'FORMATO N° 5'!$H35,Tabla3[SITUACIÓN JURÍDICA], 'FORMATO N° 5'!N$15) +\n   COUNTIFS(Tabla3[DESCRIPCIÓN2], 'FORMATO N° 5'!$H35,Tabla3[SITUACIÓN JURÍDICA], 'FORMATO N° 5'!N$15) +\n   COUNTIFS(Tabla3[DESCRIPCIÓN3], 'FORMATO N° 5'!$H35,Tabla3[SITUACIÓN JURÍDICA], 'FORMATO N° 5'!N$15) +\n   COUNTIFS(Tabla3[DESCRIPCIÓN4], 'FORMATO N° 5'!$H35,Tabla3[SITUACIÓN JURÍDICA], 'FORMATO N° 5'!N$15) +\n   COUNTIFS(Tabla3[DESCRIPCIÓN5], 'FORMATO N° 5'!$H35,Tabla3[SITUACIÓN JURÍDICA], 'FORMATO N° 5'!N$15) +\n   COUNTIFS(Tabla3[DESCRIPCIÓN6], 'FORMATO N° 5'!$H35,Tabla3[SITUACIÓN JURÍDICA], 'FORMATO N° 5'!N$15) +\n   COUNTIFS(Tabla3[DESCRIPCIÓN7], 'FORMATO N° 5'!$H35,Tabla3[SITUACIÓN JURÍDICA], 'FORMATO N° 5'!N$15) +\n   COUNTIFS(Tabla3[DESCRIPCIÓN8], 'FORMATO N° 5'!$H35,Tabla3[SITUACIÓN JURÍDICA], 'FORMATO N° 5'!N$15) +\n   COUNTIFS(Tabla3[DESCRIPCIÓN9], 'FORMATO N° 5'!$H35,Tabla3[SITUACIÓN JURÍDICA], 'FORMATO N° 5'!N$15) +\n   COUNTIFS(Tabla3[DESCRIPCIÓN10], 'FORMATO N° 5'!$H35,Tabla3[SITUACIÓN JURÍDICA], 'FORMATO N° 5'!N$15)","v":0}]
["Obtención de dinero fácil y/o involucramiento a situaciones de riesgo",null,null,{"$f":"COUNTIF(Tabla3[EJECUCIÓN \nDEL PROGRAMA DE TRATAMIENTO INDIVIDUALIZADO],'FORMATO N° 5'!E36)","v":0},"Etapa 02: Obtención de dinero fácil y/o involucramiento a situaciones de riesgo",null,null,302,"Gestión relacionada a niños/as",null,null,0,{"$f":"COUNTIFS(Tabla3[DESCRIPCIÓN1], 'FORMATO N° 5'!$H36,Tabla3[SITUACIÓN JURÍDICA], 'FORMATO N° 5'!M$15) +\n   COUNTIFS(Tabla3[DESCRIPCIÓN2], 'FORMATO N° 5'!$H36,Tabla3[SITUACIÓN JURÍDICA], 'FORMATO N° 5'!M$15) +\n   COUNTIFS(Tabla3[DESCRIPCIÓN3], 'FORMATO N° 5'!$H36,Tabla3[SITUACIÓN JURÍDICA], 'FORMATO N° 5'!M$15) +\n   COUNTIFS(Tabla3[DESCRIPCIÓN4], 'FORMATO N° 5'!$H36,Tabla3[SITUACIÓN JURÍDICA], 'FORMATO N° 5'!M$15) +\n   COUNTIFS(Tabla3[DESCRIPCIÓN5], 'FORMATO N° 5'!$H36,Tabla3[SITUACIÓN JURÍDICA], 'FORMATO N° 5'!M$15) +\n   COUNTIFS(Tabla3[DESCRIPCIÓN6], 'FORMATO N° 5'!$H36,Tabla3[SITUACIÓN JURÍDICA], 'FORMATO N° 5'!M$15) +\n   COUNTIFS(Tabla3[DESCRIPCIÓN7], 'FORMATO N° 5'!$H36,Tabla3[SITUACIÓN JURÍDICA], 'FORMATO N° 5'!M$15) +\n   COUNTIFS(Tabla3[DESCRIPCIÓN8], 'FORMATO N° 5'!$H36,Tabla3[SITUACIÓN JURÍDICA], 'FORMATO N° 5'!M$15) +\n   COUNTIFS(Tabla3[DESCRIPCIÓN9], 'FORMATO N° 5'!$H36,Tabla3[SITUACIÓN JURÍDICA], 'FORMATO N° 5'!M$15) +\n   COUNTIFS(Tabla3[DESCRIPCIÓN10], 'FORMATO N° 5'!$H36,Tabla3[SITUACIÓN JURÍDICA], 'FORMATO N° 5'!M$15)","v":0},{"$f":"COUNTIFS(Tabla3[DESCRIPCIÓN1], 'FORMATO N° 5'!$H36,Tabla3[SITUACIÓN JURÍDICA], 'FORMATO N° 5'!N$15) +\n   COUNTIFS(Tabla3[DESCRIPCIÓN2], 'FORMATO N° 5'!$H36,Tabla3[SITUACIÓN JURÍDICA], 'FORMATO N° 5'!N$15) +\n   COUNTIFS(Tabla3[DESCRIPCIÓN3], 'FORMATO N° 5'!$H36,Tabla3[SITUACIÓN JURÍDICA], 'FORMATO N° 5'!N$15) +\n   COUNTIFS(Tabla3[DESCRIPCIÓN4], 'FORMATO N° 5'!$H36,Tabla3[SITUACIÓN JURÍDICA], 'FORMATO N° 5'!N$15) +\n   COUNTIFS(Tabla3[DESCRIPCIÓN5], 'FORMATO N° 5'!$H36,Tabla3[SITUACIÓN JURÍDICA], 'FORMATO N° 5'!N$15) +\n   COUNTIFS(Tabla3[DESCRIPCIÓN6], 'FORMATO N° 5'!$H36,Tabla3[SITUACIÓN JURÍDICA], 'FORMATO N° 5'!N$15) +\n   COUNTIFS(Tabla3[DESCRIPCIÓN7], 'FORMATO N° 5'!$H36,Tabla3[SITUACIÓN JURÍDICA], 'FORMATO N° 5'!N$15) +\n   COUNTIFS(Tabla3[DESCRIPCIÓN8], 'FORMATO N° 5'!$H36,Tabla3[SITUACIÓN JURÍDICA], 'FORMATO N° 5'!N$15) +\n   COUNTIFS(Tabla3[DESCRIPCIÓN9], 'FORMATO N° 5'!$H36,Tabla3[SITUACIÓN JURÍDICA], 'FORMATO N° 5'!N$15) +\n   COUNTIFS(Tabla3[DESCRIPCIÓN10], 'FORMATO N° 5'!$H36,Tabla3[SITUACIÓN JURÍDICA], 'FORMATO N° 5'!N$15)","v":0}]
["Comportamiento sexual",null,null,{"$f":"COUNTIF(Tabla3[EJECUCIÓN \nDEL PROGRAMA DE TRATAMIENTO INDIVIDUALIZADO],'FORMATO N° 5'!E37)","v":0},"Etapa 02: Comportamiento sexual",null,null,303,"Gestión reniec",null,null,0,{"$f":"COUNTIFS(Tabla3[DESCRIPCIÓN1], 'FORMATO N° 5'!$H37,Tabla3[SITUACIÓN JURÍDICA], 'FORMATO N° 5'!M$15) +\n   COUNTIFS(Tabla3[DESCRIPCIÓN2], 'FORMATO N° 5'!$H37,Tabla3[SITUACIÓN JURÍDICA], 'FORMATO N° 5'!M$15) +\n   COUNTIFS(Tabla3[DESCRIPCIÓN3], 'FORMATO N° 5'!$H37,Tabla3[SITUACIÓN JURÍDICA], 'FORMATO N° 5'!M$15) +\n   COUNTIFS(Tabla3[DESCRIPCIÓN4], 'FORMATO N° 5'!$H37,Tabla3[SITUACIÓN JURÍDICA], 'FORMATO N° 5'!M$15) +\n   COUNTIFS(Tabla3[DESCRIPCIÓN5], 'FORMATO N° 5'!$H37,Tabla3[SITUACIÓN JURÍDICA], 'FORMATO N° 5'!M$15) +\n   COUNTIFS(Tabla3[DESCRIPCIÓN6], 'FORMATO N° 5'!$H37,Tabla3[SITUACIÓN JURÍDICA], 'FORMATO N° 5'!M$15) +\n   COUNTIFS(Tabla3[DESCRIPCIÓN7], 'FORMATO N° 5'!$H37,Tabla3[SITUACIÓN JURÍDICA], 'FORMATO N° 5'!M$15) +\n   COUNTIFS(Tabla3[DESCRIPCIÓN8], 'FORMATO N° 5'!$H37,Tabla3[SITUACIÓN JURÍDICA], 'FORMATO N° 5'!M$15) +\n   COUNTIFS(Tabla3[DESCRIPCIÓN9], 'FORMATO N° 5'!$H37,Tabla3[SITUACIÓN JURÍDICA], 'FORMATO N° 5'!M$15) +\n   COUNTIFS(Tabla3[DESCRIPCIÓN10], 'FORMATO N° 5'!$H37,Tabla3[SITUACIÓN JURÍDICA], 'FORMATO N° 5'!M$15)","v":0},{"$f":"COUNTIFS(Tabla3[DESCRIPCIÓN1], 'FORMATO N° 5'!$H37,Tabla3[SITUACIÓN JURÍDICA], 'FORMATO N° 5'!N$15) +\n   COUNTIFS(Tabla3[DESCRIPCIÓN2], 'FORMATO N° 5'!$H37,Tabla3[SITUACIÓN JURÍDICA], 'FORMATO N° 5'!N$15) +\n   COUNTIFS(Tabla3[DESCRIPCIÓN3], 'FORMATO N° 5'!$H37,Tabla3[SITUACIÓN JURÍDICA], 'FORMATO N° 5'!N$15) +\n   COUNTIFS(Tabla3[DESCRIPCIÓN4], 'FORMATO N° 5'!$H37,Tabla3[SITUACIÓN JURÍDICA], 'FORMATO N° 5'!N$15) +\n   COUNTIFS(Tabla3[DESCRIPCIÓN5], 'FORMATO N° 5'!$H37,Tabla3[SITUACIÓN JURÍDICA], 'FORMATO N° 5'!N$15) +\n   COUNTIFS(Tabla3[DESCRIPCIÓN6], 'FORMATO N° 5'!$H37,Tabla3[SITUACIÓN JURÍDICA], 'FORMATO N° 5'!N$15) +\n   COUNTIFS(Tabla3[DESCRIPCIÓN7], 'FORMATO N° 5'!$H37,Tabla3[SITUACIÓN JURÍDICA], 'FORMATO N° 5'!N$15) +\n   COUNTIFS(Tabla3[DESCRIPCIÓN8], 'FORMATO N° 5'!$H37,Tabla3[SITUACIÓN JURÍDICA], 'FORMATO N° 5'!N$15) +\n   COUNTIFS(Tabla3[DESCRIPCIÓN9], 'FORMATO N° 5'!$H37,Tabla3[SITUACIÓN JURÍDICA], 'FORMATO N° 5'!N$15) +\n   COUNTIFS(Tabla3[DESCRIPCIÓN10], 'FORMATO N° 5'!$H37,Tabla3[SITUACIÓN JURÍDICA], 'FORMATO N° 5'!N$15)","v":0}]
["Comportamiento violento",null,null,{"$f":"COUNTIF(Tabla3[EJECUCIÓN \nDEL PROGRAMA DE TRATAMIENTO INDIVIDUALIZADO],'FORMATO N° 5'!E38)","v":0},"Etapa 02: Comportamiento violento",null,null,304,"Inscripción al SIS",null,null,0,{"$f":"COUNTIFS(Tabla3[DESCRIPCIÓN1], 'FORMATO N° 5'!$H38,Tabla3[SITUACIÓN JURÍDICA], 'FORMATO N° 5'!M$15) +\n   COUNTIFS(Tabla3[DESCRIPCIÓN2], 'FORMATO N° 5'!$H38,Tabla3[SITUACIÓN JURÍDICA], 'FORMATO N° 5'!M$15) +\n   COUNTIFS(Tabla3[DESCRIPCIÓN3], 'FORMATO N° 5'!$H38,Tabla3[SITUACIÓN JURÍDICA], 'FORMATO N° 5'!M$15) +\n   COUNTIFS(Tabla3[DESCRIPCIÓN4], 'FORMATO N° 5'!$H38,Tabla3[SITUACIÓN JURÍDICA], 'FORMATO N° 5'!M$15) +\n   COUNTIFS(Tabla3[DESCRIPCIÓN5], 'FORMATO N° 5'!$H38,Tabla3[SITUACIÓN JURÍDICA], 'FORMATO N° 5'!M$15) +\n   COUNTIFS(Tabla3[DESCRIPCIÓN6], 'FORMATO N° 5'!$H38,Tabla3[SITUACIÓN JURÍDICA], 'FORMATO N° 5'!M$15) +\n   COUNTIFS(Tabla3[DESCRIPCIÓN7], 'FORMATO N° 5'!$H38,Tabla3[SITUACIÓN JURÍDICA], 'FORMATO N° 5'!M$15) +\n   COUNTIFS(Tabla3[DESCRIPCIÓN8], 'FORMATO N° 5'!$H38,Tabla3[SITUACIÓN JURÍDICA], 'FORMATO N° 5'!M$15) +\n   COUNTIFS(Tabla3[DESCRIPCIÓN9], 'FORMATO N° 5'!$H38,Tabla3[SITUACIÓN JURÍDICA], 'FORMATO N° 5'!M$15) +\n   COUNTIFS(Tabla3[DESCRIPCIÓN10], 'FORMATO N° 5'!$H38,Tabla3[SITUACIÓN JURÍDICA], 'FORMATO N° 5'!M$15)","v":0},{"$f":"COUNTIFS(Tabla3[DESCRIPCIÓN1], 'FORMATO N° 5'!$H38,Tabla3[SITUACIÓN JURÍDICA], 'FORMATO N° 5'!N$15) +\n   COUNTIFS(Tabla3[DESCRIPCIÓN2], 'FORMATO N° 5'!$H38,Tabla3[SITUACIÓN JURÍDICA], 'FORMATO N° 5'!N$15) +\n   COUNTIFS(Tabla3[DESCRIPCIÓN3], 'FORMATO N° 5'!$H38,Tabla3[SITUACIÓN JURÍDICA], 'FORMATO N° 5'!N$15) +\n   COUNTIFS(Tabla3[DESCRIPCIÓN4], 'FORMATO N° 5'!$H38,Tabla3[SITUACIÓN JURÍDICA], 'FORMATO N° 5'!N$15) +\n   COUNTIFS(Tabla3[DESCRIPCIÓN5], 'FORMATO N° 5'!$H38,Tabla3[SITUACIÓN JURÍDICA], 'FORMATO N° 5'!N$15) +\n   COUNTIFS(Tabla3[DESCRIPCIÓN6], 'FORMATO N° 5'!$H38,Tabla3[SITUACIÓN JURÍDICA], 'FORMATO N° 5'!N$15) +\n   COUNTIFS(Tabla3[DESCRIPCIÓN7], 'FORMATO N° 5'!$H38,Tabla3[SITUACIÓN JURÍDICA], 'FORMATO N° 5'!N$15) +\n   COUNTIFS(Tabla3[DESCRIPCIÓN8], 'FORMATO N° 5'!$H38,Tabla3[SITUACIÓN JURÍDICA], 'FORMATO N° 5'!N$15) +\n   COUNTIFS(Tabla3[DESCRIPCIÓN9], 'FORMATO N° 5'!$H38,Tabla3[SITUACIÓN JURÍDICA], 'FORMATO N° 5'!N$15) +\n   COUNTIFS(Tabla3[DESCRIPCIÓN10], 'FORMATO N° 5'!$H38,Tabla3[SITUACIÓN JURÍDICA], 'FORMATO N° 5'!N$15)","v":0}]
["Mayor compromiso criminológico",null,null,{"$f":"COUNTIF(Tabla3[EJECUCIÓN \nDEL PROGRAMA DE TRATAMIENTO INDIVIDUALIZADO],'FORMATO N° 5'!E39)","v":0},"Etapa 02: Mayor compromiso criminológico",null,null,305,"Otras gestiones",null,null,0,{"$f":"COUNTIFS(Tabla3[DESCRIPCIÓN1], 'FORMATO N° 5'!$H39,Tabla3[SITUACIÓN JURÍDICA], 'FORMATO N° 5'!M$15) +\n   COUNTIFS(Tabla3[DESCRIPCIÓN2], 'FORMATO N° 5'!$H39,Tabla3[SITUACIÓN JURÍDICA], 'FORMATO N° 5'!M$15) +\n   COUNTIFS(Tabla3[DESCRIPCIÓN3], 'FORMATO N° 5'!$H39,Tabla3[SITUACIÓN JURÍDICA], 'FORMATO N° 5'!M$15) +\n   COUNTIFS(Tabla3[DESCRIPCIÓN4], 'FORMATO N° 5'!$H39,Tabla3[SITUACIÓN JURÍDICA], 'FORMATO N° 5'!M$15) +\n   COUNTIFS(Tabla3[DESCRIPCIÓN5], 'FORMATO N° 5'!$H39,Tabla3[SITUACIÓN JURÍDICA], 'FORMATO N° 5'!M$15) +\n   COUNTIFS(Tabla3[DESCRIPCIÓN6], 'FORMATO N° 5'!$H39,Tabla3[SITUACIÓN JURÍDICA], 'FORMATO N° 5'!M$15) +\n   COUNTIFS(Tabla3[DESCRIPCIÓN7], 'FORMATO N° 5'!$H39,Tabla3[SITUACIÓN JURÍDICA], 'FORMATO N° 5'!M$15) +\n   COUNTIFS(Tabla3[DESCRIPCIÓN8], 'FORMATO N° 5'!$H39,Tabla3[SITUACIÓN JURÍDICA], 'FORMATO N° 5'!M$15) +\n   COUNTIFS(Tabla3[DESCRIPCIÓN9], 'FORMATO N° 5'!$H39,Tabla3[SITUACIÓN JURÍDICA], 'FORMATO N° 5'!M$15) +\n   COUNTIFS(Tabla3[DESCRIPCIÓN10], 'FORMATO N° 5'!$H39,Tabla3[SITUACIÓN JURÍDICA], 'FORMATO N° 5'!M$15)","v":0},{"$f":"COUNTIFS(Tabla3[DESCRIPCIÓN1], 'FORMATO N° 5'!$H39,Tabla3[SITUACIÓN JURÍDICA], 'FORMATO N° 5'!N$15) +\n   COUNTIFS(Tabla3[DESCRIPCIÓN2], 'FORMATO N° 5'!$H39,Tabla3[SITUACIÓN JURÍDICA], 'FORMATO N° 5'!N$15) +\n   COUNTIFS(Tabla3[DESCRIPCIÓN3], 'FORMATO N° 5'!$H39,Tabla3[SITUACIÓN JURÍDICA], 'FORMATO N° 5'!N$15) +\n   COUNTIFS(Tabla3[DESCRIPCIÓN4], 'FORMATO N° 5'!$H39,Tabla3[SITUACIÓN JURÍDICA], 'FORMATO N° 5'!N$15) +\n   COUNTIFS(Tabla3[DESCRIPCIÓN5], 'FORMATO N° 5'!$H39,Tabla3[SITUACIÓN JURÍDICA], 'FORMATO N° 5'!N$15) +\n   COUNTIFS(Tabla3[DESCRIPCIÓN6], 'FORMATO N° 5'!$H39,Tabla3[SITUACIÓN JURÍDICA], 'FORMATO N° 5'!N$15) +\n   COUNTIFS(Tabla3[DESCRIPCIÓN7], 'FORMATO N° 5'!$H39,Tabla3[SITUACIÓN JURÍDICA], 'FORMATO N° 5'!N$15) +\n   COUNTIFS(Tabla3[DESCRIPCIÓN8], 'FORMATO N° 5'!$H39,Tabla3[SITUACIÓN JURÍDICA], 'FORMATO N° 5'!N$15) +\n   COUNTIFS(Tabla3[DESCRIPCIÓN9], 'FORMATO N° 5'!$H39,Tabla3[SITUACIÓN JURÍDICA], 'FORMATO N° 5'!N$15) +\n   COUNTIFS(Tabla3[DESCRIPCIÓN10], 'FORMATO N° 5'!$H39,Tabla3[SITUACIÓN JURÍDICA], 'FORMATO N° 5'!N$15)","v":0}]
[]
[]
["CUADRO 4. NÚMERO DE ATENDIDOS POR CONDICIÓN DE VULNERABILIDAD Y SEXO",null,null,null,null,null,"CUADRO 7. NÚMERO DE ATENDIDOS POR NIVEL DE RIESGO DE VIOLENCIA SEGÚN SEXO"]
[]
[]
["CONDICIÓN DE ESPECIAL PROTECCIÓN","TOTAL (ATENDIDOS)","SEXO"]
[null,null,"HOMBRE","MUJER",null,null,null,null,null,null,"SEXO"]
["TOTAL",{"$f":"SUM(C47:D47)","v":0},{"$f":"SUM(C48:C53)","v":0},{"$f":"SUM(D48:D53)","v":0},null,null,"NIVEL DE RIESGO DE VIOLENCIA",null,null,"TOTAL","HOMBRE","MUJER"]
["Discapacidad",{"$f":"SUM(C48:D48)","v":0},{"$f":"COUNTIFS(Tabla3[CONDICIÓN DE ESPECIAL PROTECCIÓN],$A48,Tabla3[GENERO],{\"MASCULINO\",\"M\",\"1\"})","v":0},{"$f":"COUNTIFS(Tabla3[CONDICIÓN DE ESPECIAL PROTECCIÓN],$A48,Tabla3[GENERO],{\"FEMENINO\",\"F\",\"2\"})","v":0},null,null,"TOTAL",null,null,{"$f":"SUM(K48:N48)","v":0},{"$f":"SUM(K49:K51)","v":0},{"$f":"SUM(L49:L51)","v":0}]
["Comunidad nativa o campesina",0,{"$f":"COUNTIFS(Tabla3[CONDICIÓN DE ESPECIAL PROTECCIÓN],$A49,Tabla3[GENERO],{\"MASCULINO\",\"M\",\"1\"})","v":0},{"$f":"COUNTIFS(Tabla3[CONDICIÓN DE ESPECIAL PROTECCIÓN],$A49,Tabla3[GENERO],{\"FEMENINO\",\"F\",\"2\"})","v":0},null,null,"Bajo riesgo",null,null,{"$f":"SUM(K49:N49)","v":0},{"$f":"COUNTIFS(Tabla3[GENERO],{\"MASCULINO\",\"M\",\"1\"},Tabla3[NIVEL DE RIESGO DE VIOLENCIA],$G49)","v":0},{"$f":"COUNTIFS(Tabla3[GENERO],{\"FEMENINO\",\"F\",\"2\"},Tabla3[NIVEL DE RIESGO DE VIOLENCIA],$G49)","v":0}]
["Personas extranjeras",0,{"$f":"COUNTIFS(Tabla3[CONDICIÓN DE ESPECIAL PROTECCIÓN],$A50,Tabla3[GENERO],{\"MASCULINO\",\"M\",\"1\"})","v":0},{"$f":"COUNTIFS(Tabla3[CONDICIÓN DE ESPECIAL PROTECCIÓN],$A50,Tabla3[GENERO],{\"FEMENINO\",\"F\",\"2\"})","v":0},null,null,"Medio riesgo",null,null,0,{"$f":"COUNTIFS(Tabla3[GENERO],{\"MASCULINO\",\"M\",\"1\"},Tabla3[NIVEL DE RIESGO DE VIOLENCIA],$G50)","v":0},{"$f":"COUNTIFS(Tabla3[GENERO],{\"FEMENINO\",\"F\",\"2\"},Tabla3[NIVEL DE RIESGO DE VIOLENCIA],$G50)","v":0}]
["Gestante",0,{"$f":"COUNTIFS(Tabla3[CONDICIÓN DE ESPECIAL PROTECCIÓN],$A51,Tabla3[GENERO],{\"MASCULINO\",\"M\",\"1\"})","v":0},{"$f":"COUNTIFS(Tabla3[CONDICIÓN DE ESPECIAL PROTECCIÓN],$A51,Tabla3[GENERO],{\"FEMENINO\",\"F\",\"2\"})","v":0},null,null,"Alto riesgo y muy alto riesgo",null,null,0,{"$f":"COUNTIFS(Tabla3[GENERO],{\"MASCULINO\",\"M\",\"1\"},Tabla3[NIVEL DE RIESGO DE VIOLENCIA],$G51)","v":0},{"$f":"COUNTIFS(Tabla3[GENERO],{\"FEMENINO\",\"F\",\"2\"},Tabla3[NIVEL DE RIESGO DE VIOLENCIA],$G51)","v":0}]
["Madre con hijo(a)",0,{"$f":"COUNTIFS(Tabla3[CONDICIÓN DE ESPECIAL PROTECCIÓN],$A52,Tabla3[GENERO],{\"MASCULINO\",\"M\",\"1\"})","v":0},{"$f":"COUNTIFS(Tabla3[CONDICIÓN DE ESPECIAL PROTECCIÓN],$A52,Tabla3[GENERO],{\"FEMENINO\",\"F\",\"2\"})","v":0},null,null,null,null,null,null,1]
["LGTBIQ+",0,{"$f":"COUNTIFS(Tabla3[CONDICIÓN DE ESPECIAL PROTECCIÓN],$A53,Tabla3[GENERO],{\"MASCULINO\",\"M\",\"1\"})","v":0},{"$f":"COUNTIFS(Tabla3[CONDICIÓN DE ESPECIAL PROTECCIÓN],$A53,Tabla3[GENERO],{\"FEMENINO\",\"F\",\"2\"})","v":0},null,null,null,null,null,null,2]
[null,null,null,null,null,null,null,null,null,null,3]
[null,null,null,null,null,null,null,null,null,null,4]
["CUADRO 5. RECURSOS HUMANOS SEGÚN NIVEL ACADÉMICO Y MODALIDAD LABORAL"]
[null,null,null,null,null,null,"CUADRO 8. NÚMERO DE NIÑOS ALBERGADOS EN PENALES POR SEXO Y RANGO DE EDAD"]
[]
[null,"NIVEL \nACADÉMICO"]
["MODALIDAD LABORAL","TOTAL","TRABAJADOR SOCIAL","ESTUDIANTE","OTRO",null,"RANGO DE EDADES",null,null,"TOTAL","SEXO"]
["TOTAL",{"$f":"SUM(C61:E61)","v":0},{"$f":"SUM(C62:C68)","v":0},{"$f":"SUM(D62:D68)","v":0},0,null,null,null,null,null,"HOMBRE","MUJER"]
["LEY 276",{"$f":"SUM(C62:E62)","v":0},{"$f":"COUNTIFS(Tabla2[NIVEL ACADEMICO],'FORMATO N° 5'!C$60,Tabla2[MODALIDAD LABORAL],'FORMATO N° 5'!$A62)","v":0},{"$f":"COUNTIFS(Tabla2[NIVEL ACADEMICO],'FORMATO N° 5'!D$60,Tabla2[MODALIDAD LABORAL],'FORMATO N° 5'!$A62)","v":0},{"$f":"COUNTIFS(Tabla2[NIVEL ACADEMICO],'FORMATO N° 5'!E$60,Tabla2[MODALIDAD LABORAL],'FORMATO N° 5'!$A62)","v":0},null,"TOTAL",null,null,{"$f":"SUM(K62:L62)","v":0},{"$f":"SUM(K63:K66)","v":0},{"$f":"SUM(L63:L66)","v":0}]
["LEY 29709",0,{"$f":"COUNTIFS(Tabla2[NIVEL ACADEMICO],'FORMATO N° 5'!C$60,Tabla2[MODALIDAD LABORAL],'FORMATO N° 5'!$A63)","v":0},{"$f":"COUNTIFS(Tabla2[NIVEL ACADEMICO],'FORMATO N° 5'!D$60,Tabla2[MODALIDAD LABORAL],'FORMATO N° 5'!$A63)","v":0},{"$f":"COUNTIFS(Tabla2[NIVEL ACADEMICO],'FORMATO N° 5'!E$60,Tabla2[MODALIDAD LABORAL],'FORMATO N° 5'!$A63)","v":0},0,"DE 0 A 1 AÑO",null,null,{"$f":"SUM(K63:L63)","v":0},{"$f":"COUNTIFS(Tabla1[SEXO],$K$61,Tabla1[RANGO_EDAD],F63)","v":0},{"$f":"COUNTIFS(Tabla1[FECHA DE NACIMIENTO],$L$61,Tabla1[MOTIVO_DNI],F63)","v":0}]
["LEY DE LA SALUD",0,{"$f":"COUNTIFS(Tabla2[NIVEL ACADEMICO],'FORMATO N° 5'!C$60,Tabla2[MODALIDAD LABORAL],'FORMATO N° 5'!$A64)","v":0},{"$f":"COUNTIFS(Tabla2[NIVEL ACADEMICO],'FORMATO N° 5'!D$60,Tabla2[MODALIDAD LABORAL],'FORMATO N° 5'!$A64)","v":0},{"$f":"COUNTIFS(Tabla2[NIVEL ACADEMICO],'FORMATO N° 5'!E$60,Tabla2[MODALIDAD LABORAL],'FORMATO N° 5'!$A64)","v":0},1,"DE 1 A 2 AÑOS",null,null,{"$f":"SUM(K64:L64)","v":0},{"$f":"COUNTIFS(Tabla1[SEXO],$K$61,Tabla1[RANGO_EDAD],F64)","v":0},{"$f":"COUNTIFS(Tabla1[SEXO],$L$61,Tabla1[RANGO_EDAD],F64)","v":0}]
["CAS",0,{"$f":"COUNTIFS(Tabla2[NIVEL ACADEMICO],'FORMATO N° 5'!C$60,Tabla2[MODALIDAD LABORAL],'FORMATO N° 5'!$A65)","v":0},{"$f":"COUNTIFS(Tabla2[NIVEL ACADEMICO],'FORMATO N° 5'!D$60,Tabla2[MODALIDAD LABORAL],'FORMATO N° 5'!$A65)","v":0},{"$f":"COUNTIFS(Tabla2[NIVEL ACADEMICO],'FORMATO N° 5'!E$60,Tabla2[MODALIDAD LABORAL],'FORMATO N° 5'!$A65)","v":0},2,"DE 2 A 3 AÑOS",null,null,{"$f":"SUM(K65:L65)","v":0},{"$f":"COUNTIFS(Tabla1[SEXO],$K$61,Tabla1[RANGO_EDAD],F65)","v":0},{"$f":"COUNTIFS(Tabla1[SEXO],$L$61,Tabla1[RANGO_EDAD],F65)","v":0}]
["SERVICIO DE TERCEROS",0,{"$f":"COUNTIFS(Tabla2[NIVEL ACADEMICO],'FORMATO N° 5'!C$60,Tabla2[MODALIDAD LABORAL],'FORMATO N° 5'!$A66)","v":0},{"$f":"COUNTIFS(Tabla2[NIVEL ACADEMICO],'FORMATO N° 5'!D$60,Tabla2[MODALIDAD LABORAL],'FORMATO N° 5'!$A66)","v":0},{"$f":"COUNTIFS(Tabla2[NIVEL ACADEMICO],'FORMATO N° 5'!E$60,Tabla2[MODALIDAD LABORAL],'FORMATO N° 5'!$A66)","v":0},3,"MAYOR A 3 AÑOS",null,null,{"$f":"SUM(K66:L66)","v":0},{"$f":"COUNTIFS(Tabla1[SEXO],$K$61,Tabla1[RANGO_EDAD],F66)","v":0},{"$f":"COUNTIFS(Tabla1[SEXO],$L$61,Tabla1[RANGO_EDAD],F66)","v":0}]
["LEY PRAC. PRE-PROFESIONAL",0,{"$f":"COUNTIFS(Tabla2[NIVEL ACADEMICO],'FORMATO N° 5'!C$60,Tabla2[MODALIDAD LABORAL],'FORMATO N° 5'!$A67)","v":0},{"$f":"COUNTIFS(Tabla2[NIVEL ACADEMICO],'FORMATO N° 5'!D$60,Tabla2[MODALIDAD LABORAL],'FORMATO N° 5'!$A67)","v":0},{"$f":"COUNTIFS(Tabla2[NIVEL ACADEMICO],'FORMATO N° 5'!E$60,Tabla2[MODALIDAD LABORAL],'FORMATO N° 5'!$A67)","v":0}]
["VOLUNTARIADO",0,{"$f":"COUNTIFS(Tabla2[NIVEL ACADEMICO],'FORMATO N° 5'!C$60,Tabla2[MODALIDAD LABORAL],'FORMATO N° 5'!$A68)","v":0},{"$f":"COUNTIFS(Tabla2[NIVEL ACADEMICO],'FORMATO N° 5'!D$60,Tabla2[MODALIDAD LABORAL],'FORMATO N° 5'!$A68)","v":0},{"$f":"COUNTIFS(Tabla2[NIVEL ACADEMICO],'FORMATO N° 5'!E$60,Tabla2[MODALIDAD LABORAL],'FORMATO N° 5'!$A68)","v":0}]
[]
[]
["OBSERVACIONES :"]
[]
[]
[]
[]
[]
[]
[]
[]
[]
[]
[]
[]
[]
[null,null,null,null,null,null,null,null,null,null,null,null,null,"RESPONSABLE"]
[]
[]
[]
[]
[]
[]
[]
[]
[]
[]
[]
[]
[]
[]
[]
[]
[]
[]
[]
[]
[]
[]
[]
[]
[]
[]
[]
[]
[]
[]
[]
[]
[]
[]
[]
[]
[]
[]
[]
[]
[]
[null,null,null,null,null,null,null,null,"FUNCION"]
[]
[null,null,null,null,"PROCESADO",null,null,null,"COORDINADOR DE ÁREA"]
[null,null,null,null,"SENTENCIADO",null,null,null,"TRABAJADOR SOCIAL DE POPE"]
[null,null,null,null,null,null,null,null,"APOYO ADMINISTRATIVO"]
[null,null,null,null,null,null,null,null,"PRACTICANTE PRE-PROFESIONAL"]
[null,null,null,null,null,null,null,null,"PRACTICANTE PROFESIONAL"]
[null,null,null,null,null,null,null,null,"VOLUNTARIADO"]